{"text_format":"1","workbook":"xlsx","n_sheets":11,"sheets":["Datos_Empresa_Persona","Datos_de_Conductores","Datos_de_Tarjetas","Productos_Habilitados","Anexo Comercial","MacrosTarjetas","Condiciones_Generales","Carátula","Débito Directo","Parámetros","Parámetros_Provincias"],"not_rendered":{"charts":0,"images":7,"macros":1,"external_links":0,"defined_names":64,"comments":1,"pivot_tables":0},"unopened":[],"bounds":{"document_bytes":16777216,"sheet_cells":100000,"rows_first":2000,"rows_last":500,"rows_between":2000,"halvings":0,"cell_chars":16384,"cell_head_chars":4096},"cells_cut":0,"cells_raw":0,"read":"whole","date_system":"1900"}

{"sheet":"Datos_Empresa_Persona","index":0,"n_rows":61,"n_cols":37,"rows_kept":61,"cut":false,"hidden":false,"merged":[[33,17,35,38],[50,21,50,29],[52,7,56,38],[2,30,3,38],[2,21,3,29],[10,36,10,38],[21,2,21,12],[21,14,21,20],[21,22,21,34],[21,36,21,38],[30,27,30,33],[13,6,13,12],[13,20,13,26],[24,27,24,33],[7,20,7,21],[7,22,7,25],[10,2,10,12],[10,14,10,20],[7,2,7,18],[18,2,18,16],[13,2,13,4],[10,22,10,34],[24,13,24,15],[30,13,30,15],[30,23,30,25],[24,16,24,19],[30,16,30,19],[27,17,29,38],[45,20,45,22],[45,2,45,3],[45,6,45,12],[45,14,45,18],[44,2,44,10],[61,1,61,39],[60,32,60,39],[13,16,13,18],[33,2,33,15],[42,14,42,22],[50,8,50,9],[38,29,38,32],[42,2,42,12],[36,2,36,21],[45,24,45,30],[38,11,38,15],[30,2,30,11],[27,2,27,15],[24,2,24,11],[24,23,24,25],[40,2,40,21]]}
[]
[]
[null,null,null,null,null,null,null,null,null,null,null,null,null,null,null,null,null,null,null,null,null,"NRO. DE GESTIÓN"]
[]
[null,null,"Datos personales"]
[null,null,"Datos Fiscales (declarados en la AFIP)"]
[]
[null,null,null,null,null,null,null,null,null,null,null,null,null,null,null,null,null,null,null,null,"CUIT"]
[null,null,"Razón Social (o nombre y apellido)",null,null,null,null,null,null,null,null,null,null,null,null,null,null,null,null,null,"Tipo y Número de Documento"]
[]
[null,null,null,null,null,null,null,null,null,null,null,null,null,null,null,null,null,null,null,null,null,null,null,null,null,null,null,null,null,null,null,null,null,null,null,null,{"$f":"IFERROR(VLOOKUP(W11,Parámetros!B2:C2948,2,FALSE),\"\")","v":""}]
[null,null,"Dirección fiscal",null,null,null,null,null,null,null,null,null,null,null,"Provincia",null,null,null,null,null,null,null,"Localidad",null,null,null,null,null,null,null,null,null,null,null,null,null,"Código Postal"]
[]
[]
[null,null,"Tipo Linea",null,null,null,"Teléfono Principal (Cod. Área + Nro)",null,null,null,null,null,null,null,null,null,"Tipo Línea",null,null,null,"Teléfono Alternativo (Cod. Área + Nro)"]
[]
[null,null,"Datos de Entrega de Tarjetas"]
[]
[]
[null,null,"Nombre Comercial a estampar en las tarjetas"]
[]
[null,null,null,null,null,null,null,null,null,null,null,null,null,null,null,null,null,null,null,null,null,null,null,null,null,null,null,null,null,null,null,null,null,null,null,null,{"$f":"IFERROR(VLOOKUP(W22,Parámetros!B2:C2948,2,FALSE),\"\")","v":""}]
[null,null,"Dirección",null,null,null,null,null,null,null,null,null,null,null,"Provincia",null,null,null,null,null,null,null,"Localidad",null,null,null,null,null,null,null,null,null,null,null,null,null,"Código Postal"]
[]
[null,null,null,null,null,null,null,null,null,null,null,null,null,"DNI"]
[null,null,"Persona de contacto autorizado 1",null,null,null,null,null,null,null,null,null,null,"Tipo y Nro. de Documento",null,null,null,null,null,null,null,null,null,"Tipo  Línea",null,null,null,"Teléfono Principal (Cod. Área + Nro)"]
[null,null,null,null,null,null,null,null,null,null,null,null,null,null,null,null,null,null,null,null,null,null,null,null,null,{"$f":"IF(OR(ISBLANK(AH23),ISBLANK(AL23))=\"VERDADERO\",\"Ingresar Datos Obligatorios\",\"\")","v":""}]
[null,null,null,null,null,null,null,null,null,null,null,null,null,null,null,null,null,"* Ejemplo: NOMBRE@DOMINIO.COM/.AR                                                                                                                            * Tené en cuenta que la dirección de correo que usarás para administrar tu contrato YPF ENRUTA debe ser distinta a la que usás para Serviclub. Caso contrario, no podrás ser dado de alta en Extranet."]
[null,null,"E-mail persona de contacto 1*"]
[]
[null,null,null,null,null,null,null,null,null,null,null,null,null,"DNI"]
[null,null,"Persona de contacto autorizado 2",null,null,null,null,null,null,null,null,null,null,"Tipo y Nro. de Documento",null,null,null,null,null,null,null,null,null,"Tipo Linea",null,null,null,"Teléfono Principal (Cod. Área + Nro)"]
[null,null,null,null,null,null,null,null,null,null,null,null,null,null,null,null,null,null,null,null,null,null,null,null,null,{"$f":"IF(OR(ISBLANK(#REF!),ISBLANK(#REF!))=\"VERDADERO\",\"Ingresar Datos Obligatorios\",\"\")","v":""}]
[null,null,null,null,null,null,null,null,null,null,null,null,null,null,null,null,null,"* Ejemplo: NOMBRE@DOMINIO.COM/.AR                                                                                                                            * Tené en cuenta que la dirección de correo que usarás para administrar tu contrato YPF ENRUTA debe ser distinta a la que usás para Serviclub. Caso contrario, no podrás ser dado de alta en Extranet."]
[null,null,"E-mail persona de contacto 2*"]
[]
[null,null,"Datos de Consumo de Flota"]
[]
[null,null,"Monto de crédito mensual requerido",null,null,null,null,null,null,null,null,null,null,null,null,null,null,null,null,null,"Litros aprox. de consumo mensual"]
[]
[null,null,"Datos de Facturación"]
[]
[]
[null,null,"Forma de Pago",null,null,null,null,null,null,null,null,null,null,null,"Nro. CBU"]
[null,null,null,null,null,null,null,null,null,null,null,null,null,null,{"$f":"IF('Anexo Comercial'!H39=\"\",\"* Ingresar dato obligatorio\",\"\")","v":""},null,null,null,null,null,null,null,{"$f":"IF('Anexo Comercial'!L39=\"\",\"* Ingresar dato obligatorio\",\"\")","v":""}]
[]
[null,null,"Nro. Sucrusal",null,null,null,"Banco",null,null,null,null,null,null,null,"Tipo Caja",null,null,null,null,null,"Moneda",null,null,null,"Caja Nro."]
[]
[null,null,"Otros datos"]
[]
[null,null,"¿Es proveedor de YPF?",null,null,null,null,null,null,null,null,"¿Cómo conoció el programa YPF ENRUTA? "]
[]
[null,null,"Observaciones:"]
[]
[]
[]
[]
[]
[]
[]
[null,null,null,null,null,null,null,null,null,null,null,null,null,null,null,null,null,null,null,null,null,null,null,null,null,null,null,null,null,null,null,null,"Versión 2.0.2020"]

{"sheet":"Datos_de_Conductores","index":1,"n_rows":3010,"n_cols":17,"rows_kept":3010,"cut":false,"hidden":true,"merged":[[3007,3,3007,8],[3007,9,3007,14],[3007,16,3007,18],[3008,3,3008,8],[3008,9,3008,14],[3008,16,3008,18],[3003,3,3003,8],[3003,9,3003,14],[3003,16,3003,18],[3005,3,3005,8],[3005,9,3005,14],[3005,16,3005,18],[2999,3,2999,8],[2999,9,2999,14],[2999,16,2999,18],[3001,3,3001,8],[3001,9,3001,14],[3001,16,3001,18],[2995,3,2995,8],[2995,9,2995,14],[2995,16,2995,18],[2997,3,2997,8],[2997,9,2997,14],[2997,16,2997,18],[2991,3,2991,8],[2991,9,2991,14],[2991,16,2991,18],[2993,3,2993,8],[2993,9,2993,14],[2993,16,2993,18],[2987,3,2987,8],[2987,9,2987,14],[2987,16,2987,18],[2989,3,2989,8],[2989,9,2989,14],[2989,16,2989,18],[2992,16,2992,18],[2994,3,2994,8],[2994,9,2994,14],[2994,16,2994,18],[2988,3,2988,8],[2988,9,2988,14],[2988,16,2988,18],[2990,3,2990,8],[2990,9,2990,14],[2990,16,2990,18],[2970,9,2970,14],[2970,16,2970,18],[2964,3,2964,8],[2964,9,2964,14],[2964,16,2964,18],[2966,3,2966,8],[2966,9,2966,14],[2966,16,2966,18],[2983,3,2983,8],[2983,9,2983,14],[2983,16,2983,18],[2985,3,2985,8],[2985,9,2985,14],[2985,16,2985,18],[2979,3,2979,8],[2979,9,2979,14],[2979,16,2979,18],[2981,3,2981,8],[2981,9,2981,14],[2981,16,2981,18],[2975,3,2975,8],[2975,9,2975,14],[2975,16,2975,18],[2977,3,2977,8],[2977,9,2977,14],[2977,16,2977,18],[2984,3,2984,8],[2984,9,2984,14],[2984,16,2984,18],[2957,16,2957,18],[2951,3,2951,8],[2951,9,2951,14],[2951,16,2951,18],[2953,3,2953,8],[2953,9,2953,14],[2953,16,2953,18],[2960,3,2960,8],[2960,9,2960,14],[2960,16,2960,18],[2971,3,2971,8],[2971,9,2971,14],[2971,16,2971,18],[2973,3,2973,8],[2973,9,2973,14],[2973,16,2973,18],[2967,3,2967,8],[2967,9,2967,14],[2967,16,2967,18],[2969,3,2969,8],[2969,9,2969,14],[2969,16,2969,18],[2963,3,2963,8],[2963,9,2963,14],[2963,16,2963,18],[2965,3,2965,8],[2965,9,2965,14],[2965,16,2965,18],[2968,3,2968,8],[2968,9,2968,14],[2968,16,2968,18],[2970,3,2970,8],[2947,3,2947,8],[2947,9,2947,14],[2947,16,2947,18],[2949,3,2949,8],[2949,9,2949,14],[2949,16,2949,18],[2943,3,2943,8],[2943,9,2943,14],[2943,16,2943,18],[2945,3,2945,8],[2945,9,2945,14],[2945,16,2945,18],[2939,3,2939,8],[2939,9,2939,14],[2939,16,2939,18],[2941,3,2941,8],[2941,9,2941,14],[2941,16,2941,18],[2944,3,2944,8],[2944,9,2944,14],[2944,16,2944,18],[2946,3,2946,8],[2946,9,2946,14],[2946,16,2946,18],[2940,3,2940,8],[2940,9,2940,14],[2940,16,2940,18],[2942,3,2942,8],[2942,9,2942,14],[2942,16,2942,18],[2922,9,2922,14],[2922,16,2922,18],[2916,3,2916,8],[2916,9,2916,14],[2916,16,2916,18],[2918,3,2918,8],[2918,9,2918,14],[2918,16,2918,18],[2935,3,2935,8],[2935,9,2935,14],[2935,16,2935,18],[2937,3,2937,8],[2937,9,2937,14],[2937,16,2937,18],[2931,3,2931,8],[2931,9,2931,14],[2931,16,2931,18],[2933,3,2933,8],[2933,9,2933,14],[2933,16,2933,18],[2927,3,2927,8],[2927,9,2927,14],[2927,16,2927,18],[2929,3,2929,8],[2929,9,2929,14],[2929,16,2929,18],[2936,3,2936,8],[2936,9,2936,14],[2936,16,2936,18],[2909,16,2909,18],[2903,3,2903,8],[2903,9,2903,14],[2903,16,2903,18],[2905,3,2905,8],[2905,9,2905,14],[2905,16,2905,18],[2912,3,2912,8],[2912,9,2912,14],[2912,16,2912,18],[2923,3,2923,8],[2923,9,2923,14],[2923,16,2923,18],[2925,3,2925,8],[2925,9,2925,14],[2925,16,2925,18],[2919,3,2919,8],[2919,9,2919,14],[2919,16,2919,18],[2921,3,2921,8],[2921,9,2921,14],[2921,16,2921,18],[2915,3,2915,8],[2915,9,2915,14],[2915,16,2915,18],[2917,3,2917,8],[2917,9,2917,14],[2917,16,2917,18],[2920,3,2920,8],[2920,9,2920,14],[2920,16,2920,18],[2922,3,2922,8],[2899,3,2899,8],[2899,9,2899,14],[2899,16,2899,18],[2901,3,2901,8],[2901,9,2901,14],[2901,16,2901,18],[2895,3,2895,8],[2895,9,2895,14],[2895,16,2895,18],[2897,3,2897,8],[2897,9,2897,14],[2897,16,2897,18],[2891,3,2891,8],[2891,9,2891,14],[2891,16,2891,18],[2893,3,2893,8],[2893,9,2893,14],[2893,16,2893,18],[2896,3,2896,8],[2896,9,2896,14],[2896,16,2896,18],[2898,3,2898,8],[2898,9,2898,14],[2898,16,2898,18],[2892,3,2892,8],[2892,9,2892,14],[2892,16,2892,18],[2894,3,2894,8],[2894,9,2894,14],[2894,16,2894,18],[2874,9,2874,14],[2874,16,2874,18],[2868,3,2868,8],[2868,9,2868,14],[2868,16,2868,18],[2870,3,2870,8],[2870,9,2870,14],[2870,16,2870,18],[2887,3,2887,8],[2887,9,2887,14],[2887,16,2887,18],[2889,3,2889,8],[2889,9,2889,14],[2889,16,2889,18],[2883,3,2883,8],[2883,9,2883,14],[2883,16,2883,18],[2885,3,2885,8],[2885,9,2885,14],[2885,16,2885,18],[2879,3,2879,8],[2879,9,2879,14],[2879,16,2879,18],[2881,3,2881,8],[2881,9,2881,14],[2881,16,2881,18],[2888,3,2888,8],[2888,9,2888,14],[2888,16,2888,18],[2861,16,2861,18],[2855,3,2855,8],[2855,9,2855,14],[2855,16,2855,18],[2857,3,2857,8],[2857,9,2857,14],[2857,16,2857,18],[2864,3,2864,8],[2864,9,2864,14],[2864,16,2864,18],[2875,3,2875,8],[2875,9,2875,14],[2875,16,2875,18],[2877,3,2877,8],[2877,9,2877,14],[2877,16,2877,18],[2871,3,2871,8],[2871,9,2871,14],[2871,16,2871,18],[2873,3,2873,8],[2873,9,2873,14],[2873,16,2873,18],[2867,3,2867,8],[2867,9,2867,14],[2867,16,2867,18],[2869,3,2869,8],[2869,9,2869,14],[2869,16,2869,18],[2872,3,2872,8],[2872,9,2872,14],[2872,16,2872,18],[2874,3,2874,8],[2851,3,2851,8],[2851,9,2851,14],[2851,16,2851,18],[2853,3,2853,8],[2853,9,2853,14],[2853,16,2853,18],[2847,3,2847,8],[2847,9,2847,14],[2847,16,2847,18],[2849,3,2849,8],[2849,9,2849,14],[2849,16,2849,18],[2843,3,2843,8],[2843,9,2843,14],[2843,16,2843,18],[2845,3,2845,8],[2845,9,2845,14],[2845,16,2845,18],[2848,3,2848,8],[2848,9,2848,14],[2848,16,2848,18],[2850,3,2850,8],[2850,9,2850,14],[2850,16,2850,18],[2844,3,2844,8],[2844,9,2844,14],[2844,16,2844,18],[2846,3,2846,8],[2846,9,2846,14],[2846,16,2846,18],[2826,9,2826,14],[2826,16,2826,18],[2820,3,2820,8],[2820,9,2820,14],[2820,16,2820,18],[2822,3,2822,8],[2822,9,2822,14],[2822,16,2822,18],[2839,3,2839,8],[2839,9,2839,14],[2839,16,2839,18],[2841,3,2841,8],[2841,9,2841,14],[2841,16,2841,18],[2835,3,2835,8],[2835,9,2835,14],[2835,16,2835,18],[2837,3,2837,8],[2837,9,2837,14],[2837,16,2837,18],[2831,3,2831,8],[2831,9,2831,14],[2831,16,2831,18],[2833,3,2833,8],[2833,9,2833,14],[2833,16,2833,18],[2840,3,2840,8],[2840,9,2840,14],[2840,16,2840,18],[2813,16,2813,18],[2807,3,2807,8],[2807,9,2807,14],[2807,16,2807,18],[2809,3,2809,8],[2809,9,2809,14],[2809,16,2809,18],[2816,3,2816,8],[2816,9,2816,14],[2816,16,2816,18],[2827,3,2827,8],[2827,9,2827,14],[2827,16,2827,18],[2829,3,2829,8],[2829,9,2829,14],[2829,16,2829,18],[2823,3,2823,8],[2823,9,2823,14],[2823,16,2823,18],[2825,3,2825,8],[2825,9,2825,14],[2825,16,2825,18],[2819,3,2819,8],[2819,9,2819,14],[2819,16,2819,18],[2821,3,2821,8],[2821,9,2821,14],[2821,16,2821,18],[2824,3,2824,8],[2824,9,2824,14],[2824,16,2824,18],[2826,3,2826,8],[2803,3,2803,8],[2803,9,2803,14],[2803,16,2803,18],[2805,3,2805,8],[2805,9,2805,14],[2805,16,2805,18],[2799,3,2799,8],[2799,9,2799,14],[2799,16,2799,18],[2801,3,2801,8],[2801,9,2801,14],[2801,16,2801,18],[2795,3,2795,8],[2795,9,2795,14],[2795,16,2795,18],[2797,3,2797,8],[2797,9,2797,14],[2797,16,2797,18],[2800,3,2800,8],[2800,9,2800,14],[2800,16,2800,18],[2802,3,2802,8],[2802,9,2802,14],[2802,16,2802,18],[2796,3,2796,8],[2796,9,2796,14],[2796,16,2796,18],[2798,3,2798,8],[2798,9,2798,14],[2798,16,2798,18],[2778,9,2778,14],[2778,16,2778,18],[2772,3,2772,8],[2772,9,2772,14],[2772,16,2772,18],[2774,3,2774,8],[2774,9,2774,14],[2774,16,2774,18],[2791,3,2791,8],[2791,9,2791,14],[2791,16,2791,18],[2793,3,2793,8],[2793,9,2793,14],[2793,16,2793,18],[2787,3,2787,8],[2787,9,2787,14],[2787,16,2787,18],[2789,3,2789,8],[2789,9,2789,14],[2789,16,2789,18],[2783,3,2783,8],[2783,9,2783,14],[2783,16,2783,18],[2785,3,2785,8],[2785,9,2785,14],[2785,16,2785,18],[2792,3,2792,8],[2792,9,2792,14],[2792,16,2792,18],[2765,16,2765,18],[2759,3,2759,8],[2759,9,2759,14],[2759,16,2759,18],[2761,3,2761,8],[2761,9,2761,14],[2761,16,2761,18],[2768,3,2768,8],[2768,9,2768,14],[2768,16,2768,18],[2779,3,2779,8],[2779,9,2779,14],[2779,16,2779,18],[2781,3,2781,8],[2781,9,2781,14],[2781,16,2781,18],[2775,3,2775,8],[2775,9,2775,14],[2775,16,2775,18],[2777,3,2777,8],[2777,9,2777,14],[2777,16,2777,18],[2771,3,2771,8],[2771,9,2771,14],[2771,16,2771,18],[2773,3,2773,8],[2773,9,2773,14],[2773,16,2773,18],[2776,3,2776,8],[2776,9,2776,14],[2776,16,2776,18],[2778,3,2778,8],[2755,3,2755,8],[2755,9,2755,14],[2755,16,2755,18],[2757,3,2757,8],[2757,9,2757,14],[2757,16,2757,18],[2751,3,2751,8],[2751,9,2751,14],[2751,16,2751,18],[2753,3,2753,8],[2753,9,2753,14],[2753,16,2753,18],[2747,3,2747,8],[2747,9,2747,14],[2747,16,2747,18],[2749,3,2749,8],[2749,9,2749,14],[2749,16,2749,18],[2752,3,2752,8],[2752,9,2752,14],[2752,16,2752,18],[2754,3,2754,8],[2754,9,2754,14],[2754,16,2754,18],[2748,3,2748,8],[2748,9,2748,14],[2748,16,2748,18],[2750,3,2750,8],[2750,9,2750,14],[2750,16,2750,18],[2730,9,2730,14],[2730,16,2730,18],[2724,3,2724,8],[2724,9,2724,14],[2724,16,2724,18],[2726,3,2726,8],[2726,9,2726,14],[2726,16,2726,18],[2743,3,2743,8],[2743,9,2743,14],[2743,16,2743,18],[2745,3,2745,8],[2745,9,2745,14],[2745,16,2745,18],[2739,3,2739,8],[2739,9,2739,14],[2739,16,2739,18],[2741,3,2741,8],[2741,9,2741,14],[2741,16,2741,18],[2735,3,2735,8],[2735,9,2735,14],[2735,16,2735,18],[2737,3,2737,8],[2737,9,2737,14],[2737,16,2737,18],[2744,3,2744,8],[2744,9,2744,14],[2744,16,2744,18],[2717,16,2717,18],[2711,3,2711,8],[2711,9,2711,14],[2711,16,2711,18],[2713,3,2713,8],[2713,9,2713,14],[2713,16,2713,18],[2720,3,2720,8],[2720,9,2720,14],[2720,16,2720,18],[2731,3,2731,8],[2731,9,2731,14],[2731,16,2731,18],[2733,3,2733,8],[2733,9,2733,14],[2733,16,2733,18],[2727,3,2727,8],[2727,9,2727,14],[2727,16,2727,18],[2729,3,2729,8],[2729,9,2729,14],[2729,16,2729,18],[2723,3,2723,8],[2723,9,2723,14],[2723,16,2723,18],[2725,3,2725,8],[2725,9,2725,14],[2725,16,2725,18],[2728,3,2728,8],[2728,9,2728,14],[2728,16,2728,18],[2730,3,2730,8],[2707,3,2707,8],[2707,9,2707,14],[2707,16,2707,18],[2709,3,2709,8],[2709,9,2709,14],[2709,16,2709,18],[2703,3,2703,8],[2703,9,2703,14],[2703,16,2703,18],[2705,3,2705,8],[2705,9,2705,14],[2705,16,2705,18],[2699,3,2699,8],[2699,9,2699,14],[2699,16,2699,18],[2701,3,2701,8],[2701,9,2701,14],[2701,16,2701,18],[2704,3,2704,8],[2704,9,2704,14],[2704,16,2704,18],[2706,3,2706,8],[2706,9,2706,14],[2706,16,2706,18],[2700,3,2700,8],[2700,9,2700,14],[2700,16,2700,18],[2702,3,2702,8],[2702,9,2702,14],[2702,16,2702,18],[2682,9,2682,14],[2682,16,2682,18],[2676,3,2676,8],[2676,9,2676,14],[2676,16,2676,18],[2678,3,2678,8],[2678,9,2678,14],[2678,16,2678,18],[2695,3,2695,8],[2695,9,2695,14],[2695,16,2695,18],[2697,3,2697,8],[2697,9,2697,14],[2697,16,2697,18],[2691,3,2691,8],[2691,9,2691,14],[2691,16,2691,18],[2693,3,2693,8],[2693,9,2693,14],[2693,16,2693,18],[2687,3,2687,8],[2687,9,2687,14],[2687,16,2687,18],[2689,3,2689,8],[2689,9,2689,14],[2689,16,2689,18],[2696,3,2696,8],[2696,9,2696,14],[2696,16,2696,18],[2669,16,2669,18],[2663,3,2663,8],[2663,9,2663,14],[2663,16,2663,18],[2665,3,2665,8],[2665,9,2665,14],[2665,16,2665,18],[2672,3,2672,8],[2672,9,2672,14],[2672,16,2672,18],[2683,3,2683,8],[2683,9,2683,14],[2683,16,2683,18],[2685,3,2685,8],[2685,9,2685,14],[2685,16,2685,18],[2679,3,2679,8],[2679,9,2679,14],[2679,16,2679,18],[2681,3,2681,8],[2681,9,2681,14],[2681,16,2681,18],[2675,3,2675,8],[2675,9,2675,14],[2675,16,2675,18],[2677,3,2677,8],[2677,9,2677,14],[2677,16,2677,18],[2680,3,2680,8],[2680,9,2680,14],[2680,16,2680,18],[2682,3,2682,8],[2659,3,2659,8],[2659,9,2659,14],[2659,16,2659,18],[2661,3,2661,8],[2661,9,2661,14],[2661,16,2661,18],[2655,3,2655,8],[2655,9,2655,14],[2655,16,2655,18],[2657,3,2657,8],[2657,9,2657,14],[2657,16,2657,18],[2651,3,2651,8],[2651,9,2651,14],[2651,16,2651,18],[2653,3,2653,8],[2653,9,2653,14],[2653,16,2653,18],[2656,3,2656,8],[2656,9,2656,14],[2656,16,2656,18],[2658,3,2658,8],[2658,9,2658,14],[2658,16,2658,18],[2652,3,2652,8],[2652,9,2652,14],[2652,16,2652,18],[2654,3,2654,8],[2654,9,2654,14],[2654,16,2654,18],[2634,9,2634,14],[2634,16,2634,18],[2628,3,2628,8],[2628,9,2628,14],[2628,16,2628,18],[2630,3,2630,8],[2630,9,2630,14],[2630,16,2630,18],[2647,3,2647,8],[2647,9,2647,14],[2647,16,2647,18],[2649,3,2649,8],[2649,9,2649,14],[2649,16,2649,18],[2643,3,2643,8],[2643,9,2643,14],[2643,16,2643,18],[2645,3,2645,8],[2645,9,2645,14],[2645,16,2645,18],[2639,3,2639,8],[2639,9,2639,14],[2639,16,2639,18],[2641,3,2641,8],[2641,9,2641,14],[2641,16,2641,18],[2648,3,2648,8],[2648,9,2648,14],[2648,16,2648,18],[2621,16,2621,18],[2615,3,2615,8],[2615,9,2615,14],[2615,16,2615,18],[2617,3,2617,8],[2617,9,2617,14],[2617,16,2617,18],[2624,3,2624,8],[2624,9,2624,14],[2624,16,2624,18],[2635,3,2635,8],[2635,9,2635,14],[2635,16,2635,18],[2637,3,2637,8],[2637,9,2637,14],[2637,16,2637,18],[2631,3,2631,8],[2631,9,2631,14],[2631,16,2631,18],[2633,3,2633,8],[2633,9,2633,14],[2633,16,2633,18],[2627,3,2627,8],[2627,9,2627,14],[2627,16,2627,18],[2629,3,2629,8],[2629,9,2629,14],[2629,16,2629,18],[2632,3,2632,8],[2632,9,2632,14],[2632,16,2632,18],[2634,3,2634,8],[2611,3,2611,8],[2611,9,2611,14],[2611,16,2611,18],[2613,3,2613,8],[2613,9,2613,14],[2613,16,2613,18],[2607,3,2607,8],[2607,9,2607,14],[2607,16,2607,18],[2609,3,2609,8],[2609,9,2609,14],[2609,16,2609,18],[2603,3,2603,8],[2603,9,2603,14],[2603,16,2603,18],[2605,3,2605,8],[2605,9,2605,14],[2605,16,2605,18],[2608,3,2608,8],[2608,9,2608,14],[2608,16,2608,18],[2610,3,2610,8],[2610,9,2610,14],[2610,16,2610,18],[2604,3,2604,8],[2604,9,2604,14],[2604,16,2604,18],[2606,3,2606,8],[2606,9,2606,14],[2606,16,2606,18],[2586,9,2586,14],[2586,16,2586,18],[2580,3,2580,8],[2580,9,2580,14],[2580,16,2580,18],[2582,3,2582,8],[2582,9,2582,14],[2582,16,2582,18],[2599,3,2599,8],[2599,9,2599,14],[2599,16,2599,18],[2601,3,2601,8],[2601,9,2601,14],[2601,16,2601,18],[2595,3,2595,8],[2595,9,2595,14],[2595,16,2595,18],[2597,3,2597,8],[2597,9,2597,14],[2597,16,2597,18],[2591,3,2591,8],[2591,9,2591,14],[2591,16,2591,18],[2593,3,2593,8],[2593,9,2593,14],[2593,16,2593,18],[2600,3,2600,8],[2600,9,2600,14],[2600,16,2600,18],[2573,16,2573,18],[2567,3,2567,8],[2567,9,2567,14],[2567,16,2567,18],[2569,3,2569,8],[2569,9,2569,14],[2569,16,2569,18],[2576,3,2576,8],[2576,9,2576,14],[2576,16,2576,18],[2587,3,2587,8],[2587,9,2587,14],[2587,16,2587,18],[2589,3,2589,8],[2589,9,2589,14],[2589,16,2589,18],[2583,3,2583,8],[2583,9,2583,14],[2583,16,2583,18],[2585,3,2585,8],[2585,9,2585,14],[2585,16,2585,18],[2579,3,2579,8],[2579,9,2579,14],[2579,16,2579,18],[2581,3,2581,8],[2581,9,2581,14],[2581,16,2581,18],[2584,3,2584,8],[2584,9,2584,14],[2584,16,2584,18],[2586,3,2586,8],[2563,3,2563,8],[2563,9,2563,14],[2563,16,2563,18],[2565,3,2565,8],[2565,9,2565,14],[2565,16,2565,18],[2559,3,2559,8],[2559,9,2559,14],[2559,16,2559,18],[2561,3,2561,8],[2561,9,2561,14],[2561,16,2561,18],[2555,3,2555,8],[2555,9,2555,14],[2555,16,2555,18],[2557,3,2557,8],[2557,9,2557,14],[2557,16,2557,18],[2560,3,2560,8],[2560,9,2560,14],[2560,16,2560,18],[2562,3,2562,8],[2562,9,2562,14],[2562,16,2562,18],[2556,3,2556,8],[2556,9,2556,14],[2556,16,2556,18],[2558,3,2558,8],[2558,9,2558,14],[2558,16,2558,18],[2538,9,2538,14],[2538,16,2538,18],[2532,3,2532,8],[2532,9,2532,14],[2532,16,2532,18],[2534,3,2534,8],[2534,9,2534,14],[2534,16,2534,18],[2551,3,2551,8],[2551,9,2551,14],[2551,16,2551,18],[2553,3,2553,8],[2553,9,2553,14],[2553,16,2553,18],[2547,3,2547,8],[2547,9,2547,14],[2547,16,2547,18],[2549,3,2549,8],[2549,9,2549,14],[2549,16,2549,18],[2543,3,2543,8],[2543,9,2543,14],[2543,16,2543,18],[2545,3,2545,8],[2545,9,2545,14],[2545,16,2545,18],[2552,3,2552,8],[2552,9,2552,14],[2552,16,2552,18],[2525,16,2525,18],[2519,3,2519,8],[2519,9,2519,14],[2519,16,2519,18],[2521,3,2521,8],[2521,9,2521,14],[2521,16,2521,18],[2528,3,2528,8],[2528,9,2528,14],[2528,16,2528,18],[2539,3,2539,8],[2539,9,2539,14],[2539,16,2539,18],[2541,3,2541,8],[2541,9,2541,14],[2541,16,2541,18],[2535,3,2535,8],[2535,9,2535,14],[2535,16,2535,18],[2537,3,2537,8],[2537,9,2537,14],[2537,16,2537,18],[2531,3,2531,8],[2531,9,2531,14],[2531,16,2531,18],[2533,3,2533,8],[2533,9,2533,14],[2533,16,2533,18],[2536,3,2536,8],[2536,9,2536,14],[2536,16,2536,18],[2538,3,2538,8],[2515,3,2515,8],[2515,9,2515,14],[2515,16,2515,18],[2517,3,2517,8],[2517,9,2517,14],[2517,16,2517,18],[2511,3,2511,8],[2511,9,2511,14],[2511,16,2511,18],[2513,3,2513,8],[2513,9,2513,14],[2513,16,2513,18],[2507,3,2507,8],[2507,9,2507,14],[2507,16,2507,18],[2509,3,2509,8],[2509,9,2509,14],[2509,16,2509,18],[2512,3,2512,8],[2512,9,2512,14],[2512,16,2512,18],[2514,3,2514,8],[2514,9,2514,14],[2514,16,2514,18],[2508,3,2508,8],[2508,9,2508,14],[2508,16,2508,18],[2510,3,2510,8],[2510,9,2510,14],[2510,16,2510,18],[2490,9,2490,14],[2490,16,2490,18],[2484,3,2484,8],[2484,9,2484,14],[2484,16,2484,18],[2486,3,2486,8],[2486,9,2486,14],[2486,16,2486,18],[2503,3,2503,8],[2503,9,2503,14],[2503,16,2503,18],[2505,3,2505,8],[2505,9,2505,14],[2505,16,2505,18],[2499,3,2499,8],[2499,9,2499,14],[2499,16,2499,18],[2501,3,2501,8],[2501,9,2501,14],[2501,16,2501,18],[2495,3,2495,8],[2495,9,2495,14],[2495,16,2495,18],[2497,3,2497,8],[2497,9,2497,14],[2497,16,2497,18],[2504,3,2504,8],[2504,9,2504,14],[2504,16,2504,18],[2477,16,2477,18],[2471,3,2471,8],[2471,9,2471,14],[2471,16,2471,18],[2473,3,2473,8],[2473,9,2473,14],[2473,16,2473,18],[2480,3,2480,8],[2480,9,2480,14],[2480,16,2480,18],[2491,3,2491,8],[2491,9,2491,14],[2491,16,2491,18],[2493,3,2493,8],[2493,9,2493,14]],"merged_total":9006,"flags":["merged_cut"]}
[]
[]
[null,null,null,null,null,null,null,"Anexo de Conductores"]
[]
[null,null,"Razón Social",null,{"$f":"Datos_Empresa_Persona!C8","v":0}]
[]
[null,null,"Complete la siguiente tabla con el dato de identificación de sus conductores"]
[]
[null,null,"IDENTIFICACIÓN DEL CONDUCTOR"]
[null,null,"N°","Apellido",null,null,null,null,null,"Nombre",null,null,null,null,null,"Tipo de Documento","N° De Documento"]
[null,null,1]
[null,null,2]
[null,null,3]
[null,null,4]
[null,null,5]
[null,null,6]
[null,null,7]
[null,null,8]
[null,null,9]
[null,null,10]
[null,null,11]
[null,null,12]
[null,null,13]
[null,null,14]
[null,null,15]
[null,null,16]
[null,null,17]
[null,null,18]
[null,null,19]
[null,null,20]
[null,null,21]
[null,null,22]
[null,null,23]
[null,null,24]
[null,null,25]
[null,null,26]
[null,null,27]
[null,null,28]
[null,null,29]
[null,null,30]
[null,null,31]
[null,null,32]
[null,null,33]
[null,null,34]
[null,null,35]
[null,null,36]
[null,null,37]
[null,null,38]
[null,null,39]
[null,null,40]
[null,null,41]
[null,null,42]
[null,null,43]
[null,null,44]
[null,null,45]
[null,null,46]
[null,null,47]
[null,null,48]
[null,null,49]
[null,null,50]
[null,null,51]
[null,null,52]
[null,null,53]
[null,null,54]
[null,null,55]
[null,null,56]
[null,null,57]
[null,null,58]
[null,null,59]
[null,null,60]
[null,null,61]
[null,null,62]
[null,null,63]
[null,null,64]
[null,null,65]
[null,null,66]
[null,null,67]
[null,null,68]
[null,null,69]
[null,null,70]
[null,null,71]
[null,null,72]
[null,null,73]
[null,null,74]
[null,null,75]
[null,null,76]
[null,null,77]
[null,null,78]
[null,null,79]
[null,null,80]
[null,null,81]
[null,null,82]
[null,null,83]
[null,null,84]
[null,null,85]
[null,null,86]
[null,null,87]
[null,null,88]
[null,null,89]
[null,null,90]
[null,null,91]
[null,null,92]
[null,null,93]
[null,null,94]
[null,null,95]
[null,null,96]
[null,null,97]
[null,null,98]
[null,null,99]
[null,null,100]
[null,null,101]
[null,null,102]
[null,null,103]
[null,null,104]
[null,null,105]
[null,null,106]
[null,null,107]
[null,null,108]
[null,null,109]
[null,null,110]
[null,null,111]
[null,null,112]
[null,null,113]
[null,null,114]
[null,null,115]
[null,null,116]
[null,null,117]
[null,null,118]
[null,null,119]
[null,null,120]
[null,null,121]
[null,null,122]
[null,null,123]
[null,null,124]
[null,null,125]
[null,null,126]
[null,null,127]
[null,null,128]
[null,null,129]
[null,null,130]
[null,null,131]
[null,null,132]
[null,null,133]
[null,null,134]
[null,null,135]
[null,null,136]
[null,null,137]
[null,null,138]
[null,null,139]
[null,null,140]
[null,null,141]
[null,null,142]
[null,null,143]
[null,null,144]
[null,null,145]
[null,null,146]
[null,null,147]
[null,null,148]
[null,null,149]
[null,null,150]
[null,null,151]
[null,null,152]
[null,null,153]
[null,null,154]
[null,null,155]
[null,null,156]
[null,null,157]
[null,null,158]
[null,null,159]
[null,null,160]
[null,null,161]
[null,null,162]
[null,null,163]
[null,null,164]
[null,null,165]
[null,null,166]
[null,null,167]
[null,null,168]
[null,null,169]
[null,null,170]
[null,null,171]
[null,null,172]
[null,null,173]
[null,null,174]
[null,null,175]
[null,null,176]
[null,null,177]
[null,null,178]
[null,null,179]
[null,null,180]
[null,null,181]
[null,null,182]
[null,null,183]
[null,null,184]
[null,null,185]
[null,null,186]
[null,null,187]
[null,null,188]
[null,null,189]
[null,null,190]
[null,null,191]
[null,null,192]
[null,null,193]
[null,null,194]
[null,null,195]
[null,null,196]
[null,null,197]
[null,null,198]
[null,null,199]
[null,null,200]
[null,null,201]
[null,null,202]
[null,null,203]
[null,null,204]
[null,null,205]
[null,null,206]
[null,null,207]
[null,null,208]
[null,null,209]
[null,null,210]
[null,null,211]
[null,null,212]
[null,null,213]
[null,null,214]
[null,null,215]
[null,null,216]
[null,null,217]
[null,null,218]
[null,null,219]
[null,null,220]
[null,null,221]
[null,null,222]
[null,null,223]
[null,null,224]
[null,null,225]
[null,null,226]
[null,null,227]
[null,null,228]
[null,null,229]
[null,null,230]
[null,null,231]
[null,null,232]
[null,null,233]
[null,null,234]
[null,null,235]
[null,null,236]
[null,null,237]
[null,null,238]
[null,null,239]
[null,null,240]
[null,null,241]
[null,null,242]
[null,null,243]
[null,null,244]
[null,null,245]
[null,null,246]
[null,null,247]
[null,null,248]
[null,null,249]
[null,null,250]
[null,null,251]
[null,null,252]
[null,null,253]
[null,null,254]
[null,null,255]
[null,null,256]
[null,null,257]
[null,null,258]
[null,null,259]
[null,null,260]
[null,null,261]
[null,null,262]
[null,null,263]
[null,null,264]
[null,null,265]
[null,null,266]
[null,null,267]
[null,null,268]
[null,null,269]
[null,null,270]
[null,null,271]
[null,null,272]
[null,null,273]
[null,null,274]
[null,null,275]
[null,null,276]
[null,null,277]
[null,null,278]
[null,null,279]
[null,null,280]
[null,null,281]
[null,null,282]
[null,null,283]
[null,null,284]
[null,null,285]
[null,null,286]
[null,null,287]
[null,null,288]
[null,null,289]
[null,null,290]
[null,null,291]
[null,null,292]
[null,null,293]
[null,null,294]
[null,null,295]
[null,null,296]
[null,null,297]
[null,null,298]
[null,null,299]
[null,null,300]
[null,null,301]
[null,null,302]
[null,null,303]
[null,null,304]
[null,null,305]
[null,null,306]
[null,null,307]
[null,null,308]
[null,null,309]
[null,null,310]
[null,null,311]
[null,null,312]
[null,null,313]
[null,null,314]
[null,null,315]
[null,null,316]
[null,null,317]
[null,null,318]
[null,null,319]
[null,null,320]
[null,null,321]
[null,null,322]
[null,null,323]
[null,null,324]
[null,null,325]
[null,null,326]
[null,null,327]
[null,null,328]
[null,null,329]
[null,null,330]
[null,null,331]
[null,null,332]
[null,null,333]
[null,null,334]
[null,null,335]
[null,null,336]
[null,null,337]
[null,null,338]
[null,null,339]
[null,null,340]
[null,null,341]
[null,null,342]
[null,null,343]
[null,null,344]
[null,null,345]
[null,null,346]
[null,null,347]
[null,null,348]
[null,null,349]
[null,null,350]
[null,null,351]
[null,null,352]
[null,null,353]
[null,null,354]
[null,null,355]
[null,null,356]
[null,null,357]
[null,null,358]
[null,null,359]
[null,null,360]
[null,null,361]
[null,null,362]
[null,null,363]
[null,null,364]
[null,null,365]
[null,null,366]
[null,null,367]
[null,null,368]
[null,null,369]
[null,null,370]
[null,null,371]
[null,null,372]
[null,null,373]
[null,null,374]
[null,null,375]
[null,null,376]
[null,null,377]
[null,null,378]
[null,null,379]
[null,null,380]
[null,null,381]
[null,null,382]
[null,null,383]
[null,null,384]
[null,null,385]
[null,null,386]
[null,null,387]
[null,null,388]
[null,null,389]
[null,null,390]
[null,null,391]
[null,null,392]
[null,null,393]
[null,null,394]
[null,null,395]
[null,null,396]
[null,null,397]
[null,null,398]
[null,null,399]
[null,null,400]
[null,null,401]
[null,null,402]
[null,null,403]
[null,null,404]
[null,null,405]
[null,null,406]
[null,null,407]
[null,null,408]
[null,null,409]
[null,null,410]
[null,null,411]
[null,null,412]
[null,null,413]
[null,null,414]
[null,null,415]
[null,null,416]
[null,null,417]
[null,null,418]
[null,null,419]
[null,null,420]
[null,null,421]
[null,null,422]
[null,null,423]
[null,null,424]
[null,null,425]
[null,null,426]
[null,null,427]
[null,null,428]
[null,null,429]
[null,null,430]
[null,null,431]
[null,null,432]
[null,null,433]
[null,null,434]
[null,null,435]
[null,null,436]
[null,null,437]
[null,null,438]
[null,null,439]
[null,null,440]
[null,null,441]
[null,null,442]
[null,null,443]
[null,null,444]
[null,null,445]
[null,null,446]
[null,null,447]
[null,null,448]
[null,null,449]
[null,null,450]
[null,null,451]
[null,null,452]
[null,null,453]
[null,null,454]
[null,null,455]
[null,null,456]
[null,null,457]
[null,null,458]
[null,null,459]
[null,null,460]
[null,null,461]
[null,null,462]
[null,null,463]
[null,null,464]
[null,null,465]
[null,null,466]
[null,null,467]
[null,null,468]
[null,null,469]
[null,null,470]
[null,null,471]
[null,null,472]
[null,null,473]
[null,null,474]
[null,null,475]
[null,null,476]
[null,null,477]
[null,null,478]
[null,null,479]
[null,null,480]
[null,null,481]
[null,null,482]
[null,null,483]
[null,null,484]
[null,null,485]
[null,null,486]
[null,null,487]
[null,null,488]
[null,null,489]
[null,null,490]
[null,null,491]
[null,null,492]
[null,null,493]
[null,null,494]
[null,null,495]
[null,null,496]
[null,null,497]
[null,null,498]
[null,null,499]
[null,null,500]
[null,null,501]
[null,null,502]
[null,null,503]
[null,null,504]
[null,null,505]
[null,null,506]
[null,null,507]
[null,null,508]
[null,null,509]
[null,null,510]
[null,null,511]
[null,null,512]
[null,null,513]
[null,null,514]
[null,null,515]
[null,null,516]
[null,null,517]
[null,null,518]
[null,null,519]
[null,null,520]
[null,null,521]
[null,null,522]
[null,null,523]
[null,null,524]
[null,null,525]
[null,null,526]
[null,null,527]
[null,null,528]
[null,null,529]
[null,null,530]
[null,null,531]
[null,null,532]
[null,null,533]
[null,null,534]
[null,null,535]
[null,null,536]
[null,null,537]
[null,null,538]
[null,null,539]
[null,null,540]
[null,null,541]
[null,null,542]
[null,null,543]
[null,null,544]
[null,null,545]
[null,null,546]
[null,null,547]
[null,null,548]
[null,null,549]
[null,null,550]
[null,null,551]
[null,null,552]
[null,null,553]
[null,null,554]
[null,null,555]
[null,null,556]
[null,null,557]
[null,null,558]
[null,null,559]
[null,null,560]
[null,null,561]
[null,null,562]
[null,null,563]
[null,null,564]
[null,null,565]
[null,null,566]
[null,null,567]
[null,null,568]
[null,null,569]
[null,null,570]
[null,null,571]
[null,null,572]
[null,null,573]
[null,null,574]
[null,null,575]
[null,null,576]
[null,null,577]
[null,null,578]
[null,null,579]
[null,null,580]
[null,null,581]
[null,null,582]
[null,null,583]
[null,null,584]
[null,null,585]
[null,null,586]
[null,null,587]
[null,null,588]
[null,null,589]
[null,null,590]
[null,null,591]
[null,null,592]
[null,null,593]
[null,null,594]
[null,null,595]
[null,null,596]
[null,null,597]
[null,null,598]
[null,null,599]
[null,null,600]
[null,null,601]
[null,null,602]
[null,null,603]
[null,null,604]
[null,null,605]
[null,null,606]
[null,null,607]
[null,null,608]
[null,null,609]
[null,null,610]
[null,null,611]
[null,null,612]
[null,null,613]
[null,null,614]
[null,null,615]
[null,null,616]
[null,null,617]
[null,null,618]
[null,null,619]
[null,null,620]
[null,null,621]
[null,null,622]
[null,null,623]
[null,null,624]
[null,null,625]
[null,null,626]
[null,null,627]
[null,null,628]
[null,null,629]
[null,null,630]
[null,null,631]
[null,null,632]
[null,null,633]
[null,null,634]
[null,null,635]
[null,null,636]
[null,null,637]
[null,null,638]
[null,null,639]
[null,null,640]
[null,null,641]
[null,null,642]
[null,null,643]
[null,null,644]
[null,null,645]
[null,null,646]
[null,null,647]
[null,null,648]
[null,null,649]
[null,null,650]
[null,null,651]
[null,null,652]
[null,null,653]
[null,null,654]
[null,null,655]
[null,null,656]
[null,null,657]
[null,null,658]
[null,null,659]
[null,null,660]
[null,null,661]
[null,null,662]
[null,null,663]
[null,null,664]
[null,null,665]
[null,null,666]
[null,null,667]
[null,null,668]
[null,null,669]
[null,null,670]
[null,null,671]
[null,null,672]
[null,null,673]
[null,null,674]
[null,null,675]
[null,null,676]
[null,null,677]
[null,null,678]
[null,null,679]
[null,null,680]
[null,null,681]
[null,null,682]
[null,null,683]
[null,null,684]
[null,null,685]
[null,null,686]
[null,null,687]
[null,null,688]
[null,null,689]
[null,null,690]
[null,null,691]
[null,null,692]
[null,null,693]
[null,null,694]
[null,null,695]
[null,null,696]
[null,null,697]
[null,null,698]
[null,null,699]
[null,null,700]
[null,null,701]
[null,null,702]
[null,null,703]
[null,null,704]
[null,null,705]
[null,null,706]
[null,null,707]
[null,null,708]
[null,null,709]
[null,null,710]
[null,null,711]
[null,null,712]
[null,null,713]
[null,null,714]
[null,null,715]
[null,null,716]
[null,null,717]
[null,null,718]
[null,null,719]
[null,null,720]
[null,null,721]
[null,null,722]
[null,null,723]
[null,null,724]
[null,null,725]
[null,null,726]
[null,null,727]
[null,null,728]
[null,null,729]
[null,null,730]
[null,null,731]
[null,null,732]
[null,null,733]
[null,null,734]
[null,null,735]
[null,null,736]
[null,null,737]
[null,null,738]
[null,null,739]
[null,null,740]
[null,null,741]
[null,null,742]
[null,null,743]
[null,null,744]
[null,null,745]
[null,null,746]
[null,null,747]
[null,null,748]
[null,null,749]
[null,null,750]
[null,null,751]
[null,null,752]
[null,null,753]
[null,null,754]
[null,null,755]
[null,null,756]
[null,null,757]
[null,null,758]
[null,null,759]
[null,null,760]
[null,null,761]
[null,null,762]
[null,null,763]
[null,null,764]
[null,null,765]
[null,null,766]
[null,null,767]
[null,null,768]
[null,null,769]
[null,null,770]
[null,null,771]
[null,null,772]
[null,null,773]
[null,null,774]
[null,null,775]
[null,null,776]
[null,null,777]
[null,null,778]
[null,null,779]
[null,null,780]
[null,null,781]
[null,null,782]
[null,null,783]
[null,null,784]
[null,null,785]
[null,null,786]
[null,null,787]
[null,null,788]
[null,null,789]
[null,null,790]
[null,null,791]
[null,null,792]
[null,null,793]
[null,null,794]
[null,null,795]
[null,null,796]
[null,null,797]
[null,null,798]
[null,null,799]
[null,null,800]
[null,null,801]
[null,null,802]
[null,null,803]
[null,null,804]
[null,null,805]
[null,null,806]
[null,null,807]
[null,null,808]
[null,null,809]
[null,null,810]
[null,null,811]
[null,null,812]
[null,null,813]
[null,null,814]
[null,null,815]
[null,null,816]
[null,null,817]
[null,null,818]
[null,null,819]
[null,null,820]
[null,null,821]
[null,null,822]
[null,null,823]
[null,null,824]
[null,null,825]
[null,null,826]
[null,null,827]
[null,null,828]
[null,null,829]
[null,null,830]
[null,null,831]
[null,null,832]
[null,null,833]
[null,null,834]
[null,null,835]
[null,null,836]
[null,null,837]
[null,null,838]
[null,null,839]
[null,null,840]
[null,null,841]
[null,null,842]
[null,null,843]
[null,null,844]
[null,null,845]
[null,null,846]
[null,null,847]
[null,null,848]
[null,null,849]
[null,null,850]
[null,null,851]
[null,null,852]
[null,null,853]
[null,null,854]
[null,null,855]
[null,null,856]
[null,null,857]
[null,null,858]
[null,null,859]
[null,null,860]
[null,null,861]
[null,null,862]
[null,null,863]
[null,null,864]
[null,null,865]
[null,null,866]
[null,null,867]
[null,null,868]
[null,null,869]
[null,null,870]
[null,null,871]
[null,null,872]
[null,null,873]
[null,null,874]
[null,null,875]
[null,null,876]
[null,null,877]
[null,null,878]
[null,null,879]
[null,null,880]
[null,null,881]
[null,null,882]
[null,null,883]
[null,null,884]
[null,null,885]
[null,null,886]
[null,null,887]
[null,null,888]
[null,null,889]
[null,null,890]
[null,null,891]
[null,null,892]
[null,null,893]
[null,null,894]
[null,null,895]
[null,null,896]
[null,null,897]
[null,null,898]
[null,null,899]
[null,null,900]
[null,null,901]
[null,null,902]
[null,null,903]
[null,null,904]
[null,null,905]
[null,null,906]
[null,null,907]
[null,null,908]
[null,null,909]
[null,null,910]
[null,null,911]
[null,null,912]
[null,null,913]
[null,null,914]
[null,null,915]
[null,null,916]
[null,null,917]
[null,null,918]
[null,null,919]
[null,null,920]
[null,null,921]
[null,null,922]
[null,null,923]
[null,null,924]
[null,null,925]
[null,null,926]
[null,null,927]
[null,null,928]
[null,null,929]
[null,null,930]
[null,null,931]
[null,null,932]
[null,null,933]
[null,null,934]
[null,null,935]
[null,null,936]
[null,null,937]
[null,null,938]
[null,null,939]
[null,null,940]
[null,null,941]
[null,null,942]
[null,null,943]
[null,null,944]
[null,null,945]
[null,null,946]
[null,null,947]
[null,null,948]
[null,null,949]
[null,null,950]
[null,null,951]
[null,null,952]
[null,null,953]
[null,null,954]
[null,null,955]
[null,null,956]
[null,null,957]
[null,null,958]
[null,null,959]
[null,null,960]
[null,null,961]
[null,null,962]
[null,null,963]
[null,null,964]
[null,null,965]
[null,null,966]
[null,null,967]
[null,null,968]
[null,null,969]
[null,null,970]
[null,null,971]
[null,null,972]
[null,null,973]
[null,null,974]
[null,null,975]
[null,null,976]
[null,null,977]
[null,null,978]
[null,null,979]
[null,null,980]
[null,null,981]
[null,null,982]
[null,null,983]
[null,null,984]
[null,null,985]
[null,null,986]
[null,null,987]
[null,null,988]
[null,null,989]
[null,null,990]
[null,null,991]
[null,null,992]
[null,null,993]
[null,null,994]
[null,null,995]
[null,null,996]
[null,null,997]
[null,null,998]
[null,null,999]
[null,null,1000]
[null,null,1001]
[null,null,1002]
[null,null,1003]
[null,null,1004]
[null,null,1005]
[null,null,1006]
[null,null,1007]
[null,null,1008]
[null,null,1009]
[null,null,1010]
[null,null,1011]
[null,null,1012]
[null,null,1013]
[null,null,1014]
[null,null,1015]
[null,null,1016]
[null,null,1017]
[null,null,1018]
[null,null,1019]
[null,null,1020]
[null,null,1021]
[null,null,1022]
[null,null,1023]
[null,null,1024]
[null,null,1025]
[null,null,1026]
[null,null,1027]
[null,null,1028]
[null,null,1029]
[null,null,1030]
[null,null,1031]
[null,null,1032]
[null,null,1033]
[null,null,1034]
[null,null,1035]
[null,null,1036]
[null,null,1037]
[null,null,1038]
[null,null,1039]
[null,null,1040]
[null,null,1041]
[null,null,1042]
[null,null,1043]
[null,null,1044]
[null,null,1045]
[null,null,1046]
[null,null,1047]
[null,null,1048]
[null,null,1049]
[null,null,1050]
[null,null,1051]
[null,null,1052]
[null,null,1053]
[null,null,1054]
[null,null,1055]
[null,null,1056]
[null,null,1057]
[null,null,1058]
[null,null,1059]
[null,null,1060]
[null,null,1061]
[null,null,1062]
[null,null,1063]
[null,null,1064]
[null,null,1065]
[null,null,1066]
[null,null,1067]
[null,null,1068]
[null,null,1069]
[null,null,1070]
[null,null,1071]
[null,null,1072]
[null,null,1073]
[null,null,1074]
[null,null,1075]
[null,null,1076]
[null,null,1077]
[null,null,1078]
[null,null,1079]
[null,null,1080]
[null,null,1081]
[null,null,1082]
[null,null,1083]
[null,null,1084]
[null,null,1085]
[null,null,1086]
[null,null,1087]
[null,null,1088]
[null,null,1089]
[null,null,1090]
[null,null,1091]
[null,null,1092]
[null,null,1093]
[null,null,1094]
[null,null,1095]
[null,null,1096]
[null,null,1097]
[null,null,1098]
[null,null,1099]
[null,null,1100]
[null,null,1101]
[null,null,1102]
[null,null,1103]
[null,null,1104]
[null,null,1105]
[null,null,1106]
[null,null,1107]
[null,null,1108]
[null,null,1109]
[null,null,1110]
[null,null,1111]
[null,null,1112]
[null,null,1113]
[null,null,1114]
[null,null,1115]
[null,null,1116]
[null,null,1117]
[null,null,1118]
[null,null,1119]
[null,null,1120]
[null,null,1121]
[null,null,1122]
[null,null,1123]
[null,null,1124]
[null,null,1125]
[null,null,1126]
[null,null,1127]
[null,null,1128]
[null,null,1129]
[null,null,1130]
[null,null,1131]
[null,null,1132]
[null,null,1133]
[null,null,1134]
[null,null,1135]
[null,null,1136]
[null,null,1137]
[null,null,1138]
[null,null,1139]
[null,null,1140]
[null,null,1141]
[null,null,1142]
[null,null,1143]
[null,null,1144]
[null,null,1145]
[null,null,1146]
[null,null,1147]
[null,null,1148]
[null,null,1149]
[null,null,1150]
[null,null,1151]
[null,null,1152]
[null,null,1153]
[null,null,1154]
[null,null,1155]
[null,null,1156]
[null,null,1157]
[null,null,1158]
[null,null,1159]
[null,null,1160]
[null,null,1161]
[null,null,1162]
[null,null,1163]
[null,null,1164]
[null,null,1165]
[null,null,1166]
[null,null,1167]
[null,null,1168]
[null,null,1169]
[null,null,1170]
[null,null,1171]
[null,null,1172]
[null,null,1173]
[null,null,1174]
[null,null,1175]
[null,null,1176]
[null,null,1177]
[null,null,1178]
[null,null,1179]
[null,null,1180]
[null,null,1181]
[null,null,1182]
[null,null,1183]
[null,null,1184]
[null,null,1185]
[null,null,1186]
[null,null,1187]
[null,null,1188]
[null,null,1189]
[null,null,1190]
[null,null,1191]
[null,null,1192]
[null,null,1193]
[null,null,1194]
[null,null,1195]
[null,null,1196]
[null,null,1197]
[null,null,1198]
[null,null,1199]
[null,null,1200]
[null,null,1201]
[null,null,1202]
[null,null,1203]
[null,null,1204]
[null,null,1205]
[null,null,1206]
[null,null,1207]
[null,null,1208]
[null,null,1209]
[null,null,1210]
[null,null,1211]
[null,null,1212]
[null,null,1213]
[null,null,1214]
[null,null,1215]
[null,null,1216]
[null,null,1217]
[null,null,1218]
[null,null,1219]
[null,null,1220]
[null,null,1221]
[null,null,1222]
[null,null,1223]
[null,null,1224]
[null,null,1225]
[null,null,1226]
[null,null,1227]
[null,null,1228]
[null,null,1229]
[null,null,1230]
[null,null,1231]
[null,null,1232]
[null,null,1233]
[null,null,1234]
[null,null,1235]
[null,null,1236]
[null,null,1237]
[null,null,1238]
[null,null,1239]
[null,null,1240]
[null,null,1241]
[null,null,1242]
[null,null,1243]
[null,null,1244]
[null,null,1245]
[null,null,1246]
[null,null,1247]
[null,null,1248]
[null,null,1249]
[null,null,1250]
[null,null,1251]
[null,null,1252]
[null,null,1253]
[null,null,1254]
[null,null,1255]
[null,null,1256]
[null,null,1257]
[null,null,1258]
[null,null,1259]
[null,null,1260]
[null,null,1261]
[null,null,1262]
[null,null,1263]
[null,null,1264]
[null,null,1265]
[null,null,1266]
[null,null,1267]
[null,null,1268]
[null,null,1269]
[null,null,1270]
[null,null,1271]
[null,null,1272]
[null,null,1273]
[null,null,1274]
[null,null,1275]
[null,null,1276]
[null,null,1277]
[null,null,1278]
[null,null,1279]
[null,null,1280]
[null,null,1281]
[null,null,1282]
[null,null,1283]
[null,null,1284]
[null,null,1285]
[null,null,1286]
[null,null,1287]
[null,null,1288]
[null,null,1289]
[null,null,1290]
[null,null,1291]
[null,null,1292]
[null,null,1293]
[null,null,1294]
[null,null,1295]
[null,null,1296]
[null,null,1297]
[null,null,1298]
[null,null,1299]
[null,null,1300]
[null,null,1301]
[null,null,1302]
[null,null,1303]
[null,null,1304]
[null,null,1305]
[null,null,1306]
[null,null,1307]
[null,null,1308]
[null,null,1309]
[null,null,1310]
[null,null,1311]
[null,null,1312]
[null,null,1313]
[null,null,1314]
[null,null,1315]
[null,null,1316]
[null,null,1317]
[null,null,1318]
[null,null,1319]
[null,null,1320]
[null,null,1321]
[null,null,1322]
[null,null,1323]
[null,null,1324]
[null,null,1325]
[null,null,1326]
[null,null,1327]
[null,null,1328]
[null,null,1329]
[null,null,1330]
[null,null,1331]
[null,null,1332]
[null,null,1333]
[null,null,1334]
[null,null,1335]
[null,null,1336]
[null,null,1337]
[null,null,1338]
[null,null,1339]
[null,null,1340]
[null,null,1341]
[null,null,1342]
[null,null,1343]
[null,null,1344]
[null,null,1345]
[null,null,1346]
[null,null,1347]
[null,null,1348]
[null,null,1349]
[null,null,1350]
[null,null,1351]
[null,null,1352]
[null,null,1353]
[null,null,1354]
[null,null,1355]
[null,null,1356]
[null,null,1357]
[null,null,1358]
[null,null,1359]
[null,null,1360]
[null,null,1361]
[null,null,1362]
[null,null,1363]
[null,null,1364]
[null,null,1365]
[null,null,1366]
[null,null,1367]
[null,null,1368]
[null,null,1369]
[null,null,1370]
[null,null,1371]
[null,null,1372]
[null,null,1373]
[null,null,1374]
[null,null,1375]
[null,null,1376]
[null,null,1377]
[null,null,1378]
[null,null,1379]
[null,null,1380]
[null,null,1381]
[null,null,1382]
[null,null,1383]
[null,null,1384]
[null,null,1385]
[null,null,1386]
[null,null,1387]
[null,null,1388]
[null,null,1389]
[null,null,1390]
[null,null,1391]
[null,null,1392]
[null,null,1393]
[null,null,1394]
[null,null,1395]
[null,null,1396]
[null,null,1397]
[null,null,1398]
[null,null,1399]
[null,null,1400]
[null,null,1401]
[null,null,1402]
[null,null,1403]
[null,null,1404]
[null,null,1405]
[null,null,1406]
[null,null,1407]
[null,null,1408]
[null,null,1409]
[null,null,1410]
[null,null,1411]
[null,null,1412]
[null,null,1413]
[null,null,1414]
[null,null,1415]
[null,null,1416]
[null,null,1417]
[null,null,1418]
[null,null,1419]
[null,null,1420]
[null,null,1421]
[null,null,1422]
[null,null,1423]
[null,null,1424]
[null,null,1425]
[null,null,1426]
[null,null,1427]
[null,null,1428]
[null,null,1429]
[null,null,1430]
[null,null,1431]
[null,null,1432]
[null,null,1433]
[null,null,1434]
[null,null,1435]
[null,null,1436]
[null,null,1437]
[null,null,1438]
[null,null,1439]
[null,null,1440]
[null,null,1441]
[null,null,1442]
[null,null,1443]
[null,null,1444]
[null,null,1445]
[null,null,1446]
[null,null,1447]
[null,null,1448]
[null,null,1449]
[null,null,1450]
[null,null,1451]
[null,null,1452]
[null,null,1453]
[null,null,1454]
[null,null,1455]
[null,null,1456]
[null,null,1457]
[null,null,1458]
[null,null,1459]
[null,null,1460]
[null,null,1461]
[null,null,1462]
[null,null,1463]
[null,null,1464]
[null,null,1465]
[null,null,1466]
[null,null,1467]
[null,null,1468]
[null,null,1469]
[null,null,1470]
[null,null,1471]
[null,null,1472]
[null,null,1473]
[null,null,1474]
[null,null,1475]
[null,null,1476]
[null,null,1477]
[null,null,1478]
[null,null,1479]
[null,null,1480]
[null,null,1481]
[null,null,1482]
[null,null,1483]
[null,null,1484]
[null,null,1485]
[null,null,1486]
[null,null,1487]
[null,null,1488]
[null,null,1489]
[null,null,1490]
[null,null,1491]
[null,null,1492]
[null,null,1493]
[null,null,1494]
[null,null,1495]
[null,null,1496]
[null,null,1497]
[null,null,1498]
[null,null,1499]
[null,null,1500]
[null,null,1501]
[null,null,1502]
[null,null,1503]
[null,null,1504]
[null,null,1505]
[null,null,1506]
[null,null,1507]
[null,null,1508]
[null,null,1509]
[null,null,1510]
[null,null,1511]
[null,null,1512]
[null,null,1513]
[null,null,1514]
[null,null,1515]
[null,null,1516]
[null,null,1517]
[null,null,1518]
[null,null,1519]
[null,null,1520]
[null,null,1521]
[null,null,1522]
[null,null,1523]
[null,null,1524]
[null,null,1525]
[null,null,1526]
[null,null,1527]
[null,null,1528]
[null,null,1529]
[null,null,1530]
[null,null,1531]
[null,null,1532]
[null,null,1533]
[null,null,1534]
[null,null,1535]
[null,null,1536]
[null,null,1537]
[null,null,1538]
[null,null,1539]
[null,null,1540]
[null,null,1541]
[null,null,1542]
[null,null,1543]
[null,null,1544]
[null,null,1545]
[null,null,1546]
[null,null,1547]
[null,null,1548]
[null,null,1549]
[null,null,1550]
[null,null,1551]
[null,null,1552]
[null,null,1553]
[null,null,1554]
[null,null,1555]
[null,null,1556]
[null,null,1557]
[null,null,1558]
[null,null,1559]
[null,null,1560]
[null,null,1561]
[null,null,1562]
[null,null,1563]
[null,null,1564]
[null,null,1565]
[null,null,1566]
[null,null,1567]
[null,null,1568]
[null,null,1569]
[null,null,1570]
[null,null,1571]
[null,null,1572]
[null,null,1573]
[null,null,1574]
[null,null,1575]
[null,null,1576]
[null,null,1577]
[null,null,1578]
[null,null,1579]
[null,null,1580]
[null,null,1581]
[null,null,1582]
[null,null,1583]
[null,null,1584]
[null,null,1585]
[null,null,1586]
[null,null,1587]
[null,null,1588]
[null,null,1589]
[null,null,1590]
[null,null,1591]
[null,null,1592]
[null,null,1593]
[null,null,1594]
[null,null,1595]
[null,null,1596]
[null,null,1597]
[null,null,1598]
[null,null,1599]
[null,null,1600]
[null,null,1601]
[null,null,1602]
[null,null,1603]
[null,null,1604]
[null,null,1605]
[null,null,1606]
[null,null,1607]
[null,null,1608]
[null,null,1609]
[null,null,1610]
[null,null,1611]
[null,null,1612]
[null,null,1613]
[null,null,1614]
[null,null,1615]
[null,null,1616]
[null,null,1617]
[null,null,1618]
[null,null,1619]
[null,null,1620]
[null,null,1621]
[null,null,1622]
[null,null,1623]
[null,null,1624]
[null,null,1625]
[null,null,1626]
[null,null,1627]
[null,null,1628]
[null,null,1629]
[null,null,1630]
[null,null,1631]
[null,null,1632]
[null,null,1633]
[null,null,1634]
[null,null,1635]
[null,null,1636]
[null,null,1637]
[null,null,1638]
[null,null,1639]
[null,null,1640]
[null,null,1641]
[null,null,1642]
[null,null,1643]
[null,null,1644]
[null,null,1645]
[null,null,1646]
[null,null,1647]
[null,null,1648]
[null,null,1649]
[null,null,1650]
[null,null,1651]
[null,null,1652]
[null,null,1653]
[null,null,1654]
[null,null,1655]
[null,null,1656]
[null,null,1657]
[null,null,1658]
[null,null,1659]
[null,null,1660]
[null,null,1661]
[null,null,1662]
[null,null,1663]
[null,null,1664]
[null,null,1665]
[null,null,1666]
[null,null,1667]
[null,null,1668]
[null,null,1669]
[null,null,1670]
[null,null,1671]
[null,null,1672]
[null,null,1673]
[null,null,1674]
[null,null,1675]
[null,null,1676]
[null,null,1677]
[null,null,1678]
[null,null,1679]
[null,null,1680]
[null,null,1681]
[null,null,1682]
[null,null,1683]
[null,null,1684]
[null,null,1685]
[null,null,1686]
[null,null,1687]
[null,null,1688]
[null,null,1689]
[null,null,1690]
[null,null,1691]
[null,null,1692]
[null,null,1693]
[null,null,1694]
[null,null,1695]
[null,null,1696]
[null,null,1697]
[null,null,1698]
[null,null,1699]
[null,null,1700]
[null,null,1701]
[null,null,1702]
[null,null,1703]
[null,null,1704]
[null,null,1705]
[null,null,1706]
[null,null,1707]
[null,null,1708]
[null,null,1709]
[null,null,1710]
[null,null,1711]
[null,null,1712]
[null,null,1713]
[null,null,1714]
[null,null,1715]
[null,null,1716]
[null,null,1717]
[null,null,1718]
[null,null,1719]
[null,null,1720]
[null,null,1721]
[null,null,1722]
[null,null,1723]
[null,null,1724]
[null,null,1725]
[null,null,1726]
[null,null,1727]
[null,null,1728]
[null,null,1729]
[null,null,1730]
[null,null,1731]
[null,null,1732]
[null,null,1733]
[null,null,1734]
[null,null,1735]
[null,null,1736]
[null,null,1737]
[null,null,1738]
[null,null,1739]
[null,null,1740]
[null,null,1741]
[null,null,1742]
[null,null,1743]
[null,null,1744]
[null,null,1745]
[null,null,1746]
[null,null,1747]
[null,null,1748]
[null,null,1749]
[null,null,1750]
[null,null,1751]
[null,null,1752]
[null,null,1753]
[null,null,1754]
[null,null,1755]
[null,null,1756]
[null,null,1757]
[null,null,1758]
[null,null,1759]
[null,null,1760]
[null,null,1761]
[null,null,1762]
[null,null,1763]
[null,null,1764]
[null,null,1765]
[null,null,1766]
[null,null,1767]
[null,null,1768]
[null,null,1769]
[null,null,1770]
[null,null,1771]
[null,null,1772]
[null,null,1773]
[null,null,1774]
[null,null,1775]
[null,null,1776]
[null,null,1777]
[null,null,1778]
[null,null,1779]
[null,null,1780]
[null,null,1781]
[null,null,1782]
[null,null,1783]
[null,null,1784]
[null,null,1785]
[null,null,1786]
[null,null,1787]
[null,null,1788]
[null,null,1789]
[null,null,1790]
[null,null,1791]
[null,null,1792]
[null,null,1793]
[null,null,1794]
[null,null,1795]
[null,null,1796]
[null,null,1797]
[null,null,1798]
[null,null,1799]
[null,null,1800]
[null,null,1801]
[null,null,1802]
[null,null,1803]
[null,null,1804]
[null,null,1805]
[null,null,1806]
[null,null,1807]
[null,null,1808]
[null,null,1809]
[null,null,1810]
[null,null,1811]
[null,null,1812]
[null,null,1813]
[null,null,1814]
[null,null,1815]
[null,null,1816]
[null,null,1817]
[null,null,1818]
[null,null,1819]
[null,null,1820]
[null,null,1821]
[null,null,1822]
[null,null,1823]
[null,null,1824]
[null,null,1825]
[null,null,1826]
[null,null,1827]
[null,null,1828]
[null,null,1829]
[null,null,1830]
[null,null,1831]
[null,null,1832]
[null,null,1833]
[null,null,1834]
[null,null,1835]
[null,null,1836]
[null,null,1837]
[null,null,1838]
[null,null,1839]
[null,null,1840]
[null,null,1841]
[null,null,1842]
[null,null,1843]
[null,null,1844]
[null,null,1845]
[null,null,1846]
[null,null,1847]
[null,null,1848]
[null,null,1849]
[null,null,1850]
[null,null,1851]
[null,null,1852]
[null,null,1853]
[null,null,1854]
[null,null,1855]
[null,null,1856]
[null,null,1857]
[null,null,1858]
[null,null,1859]
[null,null,1860]
[null,null,1861]
[null,null,1862]
[null,null,1863]
[null,null,1864]
[null,null,1865]
[null,null,1866]
[null,null,1867]
[null,null,1868]
[null,null,1869]
[null,null,1870]
[null,null,1871]
[null,null,1872]
[null,null,1873]
[null,null,1874]
[null,null,1875]
[null,null,1876]
[null,null,1877]
[null,null,1878]
[null,null,1879]
[null,null,1880]
[null,null,1881]
[null,null,1882]
[null,null,1883]
[null,null,1884]
[null,null,1885]
[null,null,1886]
[null,null,1887]
[null,null,1888]
[null,null,1889]
[null,null,1890]
[null,null,1891]
[null,null,1892]
[null,null,1893]
[null,null,1894]
[null,null,1895]
[null,null,1896]
[null,null,1897]
[null,null,1898]
[null,null,1899]
[null,null,1900]
[null,null,1901]
[null,null,1902]
[null,null,1903]
[null,null,1904]
[null,null,1905]
[null,null,1906]
[null,null,1907]
[null,null,1908]
[null,null,1909]
[null,null,1910]
[null,null,1911]
[null,null,1912]
[null,null,1913]
[null,null,1914]
[null,null,1915]
[null,null,1916]
[null,null,1917]
[null,null,1918]
[null,null,1919]
[null,null,1920]
[null,null,1921]
[null,null,1922]
[null,null,1923]
[null,null,1924]
[null,null,1925]
[null,null,1926]
[null,null,1927]
[null,null,1928]
[null,null,1929]
[null,null,1930]
[null,null,1931]
[null,null,1932]
[null,null,1933]
[null,null,1934]
[null,null,1935]
[null,null,1936]
[null,null,1937]
[null,null,1938]
[null,null,1939]
[null,null,1940]
[null,null,1941]
[null,null,1942]
[null,null,1943]
[null,null,1944]
[null,null,1945]
[null,null,1946]
[null,null,1947]
[null,null,1948]
[null,null,1949]
[null,null,1950]
[null,null,1951]
[null,null,1952]
[null,null,1953]
[null,null,1954]
[null,null,1955]
[null,null,1956]
[null,null,1957]
[null,null,1958]
[null,null,1959]
[null,null,1960]
[null,null,1961]
[null,null,1962]
[null,null,1963]
[null,null,1964]
[null,null,1965]
[null,null,1966]
[null,null,1967]
[null,null,1968]
[null,null,1969]
[null,null,1970]
[null,null,1971]
[null,null,1972]
[null,null,1973]
[null,null,1974]
[null,null,1975]
[null,null,1976]
[null,null,1977]
[null,null,1978]
[null,null,1979]
[null,null,1980]
[null,null,1981]
[null,null,1982]
[null,null,1983]
[null,null,1984]
[null,null,1985]
[null,null,1986]
[null,null,1987]
[null,null,1988]
[null,null,1989]
[null,null,1990]
[null,null,1991]
[null,null,1992]
[null,null,1993]
[null,null,1994]
[null,null,1995]
[null,null,1996]
[null,null,1997]
[null,null,1998]
[null,null,1999]
[null,null,2000]
[null,null,2001]
[null,null,2002]
[null,null,2003]
[null,null,2004]
[null,null,2005]
[null,null,2006]
[null,null,2007]
[null,null,2008]
[null,null,2009]
[null,null,2010]
[null,null,2011]
[null,null,2012]
[null,null,2013]
[null,null,2014]
[null,null,2015]
[null,null,2016]
[null,null,2017]
[null,null,2018]
[null,null,2019]
[null,null,2020]
[null,null,2021]
[null,null,2022]
[null,null,2023]
[null,null,2024]
[null,null,2025]
[null,null,2026]
[null,null,2027]
[null,null,2028]
[null,null,2029]
[null,null,2030]
[null,null,2031]
[null,null,2032]
[null,null,2033]
[null,null,2034]
[null,null,2035]
[null,null,2036]
[null,null,2037]
[null,null,2038]
[null,null,2039]
[null,null,2040]
[null,null,2041]
[null,null,2042]
[null,null,2043]
[null,null,2044]
[null,null,2045]
[null,null,2046]
[null,null,2047]
[null,null,2048]
[null,null,2049]
[null,null,2050]
[null,null,2051]
[null,null,2052]
[null,null,2053]
[null,null,2054]
[null,null,2055]
[null,null,2056]
[null,null,2057]
[null,null,2058]
[null,null,2059]
[null,null,2060]
[null,null,2061]
[null,null,2062]
[null,null,2063]
[null,null,2064]
[null,null,2065]
[null,null,2066]
[null,null,2067]
[null,null,2068]
[null,null,2069]
[null,null,2070]
[null,null,2071]
[null,null,2072]
[null,null,2073]
[null,null,2074]
[null,null,2075]
[null,null,2076]
[null,null,2077]
[null,null,2078]
[null,null,2079]
[null,null,2080]
[null,null,2081]
[null,null,2082]
[null,null,2083]
[null,null,2084]
[null,null,2085]
[null,null,2086]
[null,null,2087]
[null,null,2088]
[null,null,2089]
[null,null,2090]
[null,null,2091]
[null,null,2092]
[null,null,2093]
[null,null,2094]
[null,null,2095]
[null,null,2096]
[null,null,2097]
[null,null,2098]
[null,null,2099]
[null,null,2100]
[null,null,2101]
[null,null,2102]
[null,null,2103]
[null,null,2104]
[null,null,2105]
[null,null,2106]
[null,null,2107]
[null,null,2108]
[null,null,2109]
[null,null,2110]
[null,null,2111]
[null,null,2112]
[null,null,2113]
[null,null,2114]
[null,null,2115]
[null,null,2116]
[null,null,2117]
[null,null,2118]
[null,null,2119]
[null,null,2120]
[null,null,2121]
[null,null,2122]
[null,null,2123]
[null,null,2124]
[null,null,2125]
[null,null,2126]
[null,null,2127]
[null,null,2128]
[null,null,2129]
[null,null,2130]
[null,null,2131]
[null,null,2132]
[null,null,2133]
[null,null,2134]
[null,null,2135]
[null,null,2136]
[null,null,2137]
[null,null,2138]
[null,null,2139]
[null,null,2140]
[null,null,2141]
[null,null,2142]
[null,null,2143]
[null,null,2144]
[null,null,2145]
[null,null,2146]
[null,null,2147]
[null,null,2148]
[null,null,2149]
[null,null,2150]
[null,null,2151]
[null,null,2152]
[null,null,2153]
[null,null,2154]
[null,null,2155]
[null,null,2156]
[null,null,2157]
[null,null,2158]
[null,null,2159]
[null,null,2160]
[null,null,2161]
[null,null,2162]
[null,null,2163]
[null,null,2164]
[null,null,2165]
[null,null,2166]
[null,null,2167]
[null,null,2168]
[null,null,2169]
[null,null,2170]
[null,null,2171]
[null,null,2172]
[null,null,2173]
[null,null,2174]
[null,null,2175]
[null,null,2176]
[null,null,2177]
[null,null,2178]
[null,null,2179]
[null,null,2180]
[null,null,2181]
[null,null,2182]
[null,null,2183]
[null,null,2184]
[null,null,2185]
[null,null,2186]
[null,null,2187]
[null,null,2188]
[null,null,2189]
[null,null,2190]
[null,null,2191]
[null,null,2192]
[null,null,2193]
[null,null,2194]
[null,null,2195]
[null,null,2196]
[null,null,2197]
[null,null,2198]
[null,null,2199]
[null,null,2200]
[null,null,2201]
[null,null,2202]
[null,null,2203]
[null,null,2204]
[null,null,2205]
[null,null,2206]
[null,null,2207]
[null,null,2208]
[null,null,2209]
[null,null,2210]
[null,null,2211]
[null,null,2212]
[null,null,2213]
[null,null,2214]
[null,null,2215]
[null,null,2216]
[null,null,2217]
[null,null,2218]
[null,null,2219]
[null,null,2220]
[null,null,2221]
[null,null,2222]
[null,null,2223]
[null,null,2224]
[null,null,2225]
[null,null,2226]
[null,null,2227]
[null,null,2228]
[null,null,2229]
[null,null,2230]
[null,null,2231]
[null,null,2232]
[null,null,2233]
[null,null,2234]
[null,null,2235]
[null,null,2236]
[null,null,2237]
[null,null,2238]
[null,null,2239]
[null,null,2240]
[null,null,2241]
[null,null,2242]
[null,null,2243]
[null,null,2244]
[null,null,2245]
[null,null,2246]
[null,null,2247]
[null,null,2248]
[null,null,2249]
[null,null,2250]
[null,null,2251]
[null,null,2252]
[null,null,2253]
[null,null,2254]
[null,null,2255]
[null,null,2256]
[null,null,2257]
[null,null,2258]
[null,null,2259]
[null,null,2260]
[null,null,2261]
[null,null,2262]
[null,null,2263]
[null,null,2264]
[null,null,2265]
[null,null,2266]
[null,null,2267]
[null,null,2268]
[null,null,2269]
[null,null,2270]
[null,null,2271]
[null,null,2272]
[null,null,2273]
[null,null,2274]
[null,null,2275]
[null,null,2276]
[null,null,2277]
[null,null,2278]
[null,null,2279]
[null,null,2280]
[null,null,2281]
[null,null,2282]
[null,null,2283]
[null,null,2284]
[null,null,2285]
[null,null,2286]
[null,null,2287]
[null,null,2288]
[null,null,2289]
[null,null,2290]
[null,null,2291]
[null,null,2292]
[null,null,2293]
[null,null,2294]
[null,null,2295]
[null,null,2296]
[null,null,2297]
[null,null,2298]
[null,null,2299]
[null,null,2300]
[null,null,2301]
[null,null,2302]
[null,null,2303]
[null,null,2304]
[null,null,2305]
[null,null,2306]
[null,null,2307]
[null,null,2308]
[null,null,2309]
[null,null,2310]
[null,null,2311]
[null,null,2312]
[null,null,2313]
[null,null,2314]
[null,null,2315]
[null,null,2316]
[null,null,2317]
[null,null,2318]
[null,null,2319]
[null,null,2320]
[null,null,2321]
[null,null,2322]
[null,null,2323]
[null,null,2324]
[null,null,2325]
[null,null,2326]
[null,null,2327]
[null,null,2328]
[null,null,2329]
[null,null,2330]
[null,null,2331]
[null,null,2332]
[null,null,2333]
[null,null,2334]
[null,null,2335]
[null,null,2336]
[null,null,2337]
[null,null,2338]
[null,null,2339]
[null,null,2340]
[null,null,2341]
[null,null,2342]
[null,null,2343]
[null,null,2344]
[null,null,2345]
[null,null,2346]
[null,null,2347]
[null,null,2348]
[null,null,2349]
[null,null,2350]
[null,null,2351]
[null,null,2352]
[null,null,2353]
[null,null,2354]
[null,null,2355]
[null,null,2356]
[null,null,2357]
[null,null,2358]
[null,null,2359]
[null,null,2360]
[null,null,2361]
[null,null,2362]
[null,null,2363]
[null,null,2364]
[null,null,2365]
[null,null,2366]
[null,null,2367]
[null,null,2368]
[null,null,2369]
[null,null,2370]
[null,null,2371]
[null,null,2372]
[null,null,2373]
[null,null,2374]
[null,null,2375]
[null,null,2376]
[null,null,2377]
[null,null,2378]
[null,null,2379]
[null,null,2380]
[null,null,2381]
[null,null,2382]
[null,null,2383]
[null,null,2384]
[null,null,2385]
[null,null,2386]
[null,null,2387]
[null,null,2388]
[null,null,2389]
[null,null,2390]
[null,null,2391]
[null,null,2392]
[null,null,2393]
[null,null,2394]
[null,null,2395]
[null,null,2396]
[null,null,2397]
[null,null,2398]
[null,null,2399]
[null,null,2400]
[null,null,2401]
[null,null,2402]
[null,null,2403]
[null,null,2404]
[null,null,2405]
[null,null,2406]
[null,null,2407]
[null,null,2408]
[null,null,2409]
[null,null,2410]
[null,null,2411]
[null,null,2412]
[null,null,2413]
[null,null,2414]
[null,null,2415]
[null,null,2416]
[null,null,2417]
[null,null,2418]
[null,null,2419]
[null,null,2420]
[null,null,2421]
[null,null,2422]
[null,null,2423]
[null,null,2424]
[null,null,2425]
[null,null,2426]
[null,null,2427]
[null,null,2428]
[null,null,2429]
[null,null,2430]
[null,null,2431]
[null,null,2432]
[null,null,2433]
[null,null,2434]
[null,null,2435]
[null,null,2436]
[null,null,2437]
[null,null,2438]
[null,null,2439]
[null,null,2440]
[null,null,2441]
[null,null,2442]
[null,null,2443]
[null,null,2444]
[null,null,2445]
[null,null,2446]
[null,null,2447]
[null,null,2448]
[null,null,2449]
[null,null,2450]
[null,null,2451]
[null,null,2452]
[null,null,2453]
[null,null,2454]
[null,null,2455]
[null,null,2456]
[null,null,2457]
[null,null,2458]
[null,null,2459]
[null,null,2460]
[null,null,2461]
[null,null,2462]
[null,null,2463]
[null,null,2464]
[null,null,2465]
[null,null,2466]
[null,null,2467]
[null,null,2468]
[null,null,2469]
[null,null,2470]
[null,null,2471]
[null,null,2472]
[null,null,2473]
[null,null,2474]
[null,null,2475]
[null,null,2476]
[null,null,2477]
[null,null,2478]
[null,null,2479]
[null,null,2480]
[null,null,2481]
[null,null,2482]
[null,null,2483]
[null,null,2484]
[null,null,2485]
[null,null,2486]
[null,null,2487]
[null,null,2488]
[null,null,2489]
[null,null,2490]
[null,null,2491]
[null,null,2492]
[null,null,2493]
[null,null,2494]
[null,null,2495]
[null,null,2496]
[null,null,2497]
[null,null,2498]
[null,null,2499]
[null,null,2500]
[null,null,2501]
[null,null,2502]
[null,null,2503]
[null,null,2504]
[null,null,2505]
[null,null,2506]
[null,null,2507]
[null,null,2508]
[null,null,2509]
[null,null,2510]
[null,null,2511]
[null,null,2512]
[null,null,2513]
[null,null,2514]
[null,null,2515]
[null,null,2516]
[null,null,2517]
[null,null,2518]
[null,null,2519]
[null,null,2520]
[null,null,2521]
[null,null,2522]
[null,null,2523]
[null,null,2524]
[null,null,2525]
[null,null,2526]
[null,null,2527]
[null,null,2528]
[null,null,2529]
[null,null,2530]
[null,null,2531]
[null,null,2532]
[null,null,2533]
[null,null,2534]
[null,null,2535]
[null,null,2536]
[null,null,2537]
[null,null,2538]
[null,null,2539]
[null,null,2540]
[null,null,2541]
[null,null,2542]
[null,null,2543]
[null,null,2544]
[null,null,2545]
[null,null,2546]
[null,null,2547]
[null,null,2548]
[null,null,2549]
[null,null,2550]
[null,null,2551]
[null,null,2552]
[null,null,2553]
[null,null,2554]
[null,null,2555]
[null,null,2556]
[null,null,2557]
[null,null,2558]
[null,null,2559]
[null,null,2560]
[null,null,2561]
[null,null,2562]
[null,null,2563]
[null,null,2564]
[null,null,2565]
[null,null,2566]
[null,null,2567]
[null,null,2568]
[null,null,2569]
[null,null,2570]
[null,null,2571]
[null,null,2572]
[null,null,2573]
[null,null,2574]
[null,null,2575]
[null,null,2576]
[null,null,2577]
[null,null,2578]
[null,null,2579]
[null,null,2580]
[null,null,2581]
[null,null,2582]
[null,null,2583]
[null,null,2584]
[null,null,2585]
[null,null,2586]
[null,null,2587]
[null,null,2588]
[null,null,2589]
[null,null,2590]
[null,null,2591]
[null,null,2592]
[null,null,2593]
[null,null,2594]
[null,null,2595]
[null,null,2596]
[null,null,2597]
[null,null,2598]
[null,null,2599]
[null,null,2600]
[null,null,2601]
[null,null,2602]
[null,null,2603]
[null,null,2604]
[null,null,2605]
[null,null,2606]
[null,null,2607]
[null,null,2608]
[null,null,2609]
[null,null,2610]
[null,null,2611]
[null,null,2612]
[null,null,2613]
[null,null,2614]
[null,null,2615]
[null,null,2616]
[null,null,2617]
[null,null,2618]
[null,null,2619]
[null,null,2620]
[null,null,2621]
[null,null,2622]
[null,null,2623]
[null,null,2624]
[null,null,2625]
[null,null,2626]
[null,null,2627]
[null,null,2628]
[null,null,2629]
[null,null,2630]
[null,null,2631]
[null,null,2632]
[null,null,2633]
[null,null,2634]
[null,null,2635]
[null,null,2636]
[null,null,2637]
[null,null,2638]
[null,null,2639]
[null,null,2640]
[null,null,2641]
[null,null,2642]
[null,null,2643]
[null,null,2644]
[null,null,2645]
[null,null,2646]
[null,null,2647]
[null,null,2648]
[null,null,2649]
[null,null,2650]
[null,null,2651]
[null,null,2652]
[null,null,2653]
[null,null,2654]
[null,null,2655]
[null,null,2656]
[null,null,2657]
[null,null,2658]
[null,null,2659]
[null,null,2660]
[null,null,2661]
[null,null,2662]
[null,null,2663]
[null,null,2664]
[null,null,2665]
[null,null,2666]
[null,null,2667]
[null,null,2668]
[null,null,2669]
[null,null,2670]
[null,null,2671]
[null,null,2672]
[null,null,2673]
[null,null,2674]
[null,null,2675]
[null,null,2676]
[null,null,2677]
[null,null,2678]
[null,null,2679]
[null,null,2680]
[null,null,2681]
[null,null,2682]
[null,null,2683]
[null,null,2684]
[null,null,2685]
[null,null,2686]
[null,null,2687]
[null,null,2688]
[null,null,2689]
[null,null,2690]
[null,null,2691]
[null,null,2692]
[null,null,2693]
[null,null,2694]
[null,null,2695]
[null,null,2696]
[null,null,2697]
[null,null,2698]
[null,null,2699]
[null,null,2700]
[null,null,2701]
[null,null,2702]
[null,null,2703]
[null,null,2704]
[null,null,2705]
[null,null,2706]
[null,null,2707]
[null,null,2708]
[null,null,2709]
[null,null,2710]
[null,null,2711]
[null,null,2712]
[null,null,2713]
[null,null,2714]
[null,null,2715]
[null,null,2716]
[null,null,2717]
[null,null,2718]
[null,null,2719]
[null,null,2720]
[null,null,2721]
[null,null,2722]
[null,null,2723]
[null,null,2724]
[null,null,2725]
[null,null,2726]
[null,null,2727]
[null,null,2728]
[null,null,2729]
[null,null,2730]
[null,null,2731]
[null,null,2732]
[null,null,2733]
[null,null,2734]
[null,null,2735]
[null,null,2736]
[null,null,2737]
[null,null,2738]
[null,null,2739]
[null,null,2740]
[null,null,2741]
[null,null,2742]
[null,null,2743]
[null,null,2744]
[null,null,2745]
[null,null,2746]
[null,null,2747]
[null,null,2748]
[null,null,2749]
[null,null,2750]
[null,null,2751]
[null,null,2752]
[null,null,2753]
[null,null,2754]
[null,null,2755]
[null,null,2756]
[null,null,2757]
[null,null,2758]
[null,null,2759]
[null,null,2760]
[null,null,2761]
[null,null,2762]
[null,null,2763]
[null,null,2764]
[null,null,2765]
[null,null,2766]
[null,null,2767]
[null,null,2768]
[null,null,2769]
[null,null,2770]
[null,null,2771]
[null,null,2772]
[null,null,2773]
[null,null,2774]
[null,null,2775]
[null,null,2776]
[null,null,2777]
[null,null,2778]
[null,null,2779]
[null,null,2780]
[null,null,2781]
[null,null,2782]
[null,null,2783]
[null,null,2784]
[null,null,2785]
[null,null,2786]
[null,null,2787]
[null,null,2788]
[null,null,2789]
[null,null,2790]
[null,null,2791]
[null,null,2792]
[null,null,2793]
[null,null,2794]
[null,null,2795]
[null,null,2796]
[null,null,2797]
[null,null,2798]
[null,null,2799]
[null,null,2800]
[null,null,2801]
[null,null,2802]
[null,null,2803]
[null,null,2804]
[null,null,2805]
[null,null,2806]
[null,null,2807]
[null,null,2808]
[null,null,2809]
[null,null,2810]
[null,null,2811]
[null,null,2812]
[null,null,2813]
[null,null,2814]
[null,null,2815]
[null,null,2816]
[null,null,2817]
[null,null,2818]
[null,null,2819]
[null,null,2820]
[null,null,2821]
[null,null,2822]
[null,null,2823]
[null,null,2824]
[null,null,2825]
[null,null,2826]
[null,null,2827]
[null,null,2828]
[null,null,2829]
[null,null,2830]
[null,null,2831]
[null,null,2832]
[null,null,2833]
[null,null,2834]
[null,null,2835]
[null,null,2836]
[null,null,2837]
[null,null,2838]
[null,null,2839]
[null,null,2840]
[null,null,2841]
[null,null,2842]
[null,null,2843]
[null,null,2844]
[null,null,2845]
[null,null,2846]
[null,null,2847]
[null,null,2848]
[null,null,2849]
[null,null,2850]
[null,null,2851]
[null,null,2852]
[null,null,2853]
[null,null,2854]
[null,null,2855]
[null,null,2856]
[null,null,2857]
[null,null,2858]
[null,null,2859]
[null,null,2860]
[null,null,2861]
[null,null,2862]
[null,null,2863]
[null,null,2864]
[null,null,2865]
[null,null,2866]
[null,null,2867]
[null,null,2868]
[null,null,2869]
[null,null,2870]
[null,null,2871]
[null,null,2872]
[null,null,2873]
[null,null,2874]
[null,null,2875]
[null,null,2876]
[null,null,2877]
[null,null,2878]
[null,null,2879]
[null,null,2880]
[null,null,2881]
[null,null,2882]
[null,null,2883]
[null,null,2884]
[null,null,2885]
[null,null,2886]
[null,null,2887]
[null,null,2888]
[null,null,2889]
[null,null,2890]
[null,null,2891]
[null,null,2892]
[null,null,2893]
[null,null,2894]
[null,null,2895]
[null,null,2896]
[null,null,2897]
[null,null,2898]
[null,null,2899]
[null,null,2900]
[null,null,2901]
[null,null,2902]
[null,null,2903]
[null,null,2904]
[null,null,2905]
[null,null,2906]
[null,null,2907]
[null,null,2908]
[null,null,2909]
[null,null,2910]
[null,null,2911]
[null,null,2912]
[null,null,2913]
[null,null,2914]
[null,null,2915]
[null,null,2916]
[null,null,2917]
[null,null,2918]
[null,null,2919]
[null,null,2920]
[null,null,2921]
[null,null,2922]
[null,null,2923]
[null,null,2924]
[null,null,2925]
[null,null,2926]
[null,null,2927]
[null,null,2928]
[null,null,2929]
[null,null,2930]
[null,null,2931]
[null,null,2932]
[null,null,2933]
[null,null,2934]
[null,null,2935]
[null,null,2936]
[null,null,2937]
[null,null,2938]
[null,null,2939]
[null,null,2940]
[null,null,2941]
[null,null,2942]
[null,null,2943]
[null,null,2944]
[null,null,2945]
[null,null,2946]
[null,null,2947]
[null,null,2948]
[null,null,2949]
[null,null,2950]
[null,null,2951]
[null,null,2952]
[null,null,2953]
[null,null,2954]
[null,null,2955]
[null,null,2956]
[null,null,2957]
[null,null,2958]
[null,null,2959]
[null,null,2960]
[null,null,2961]
[null,null,2962]
[null,null,2963]
[null,null,2964]
[null,null,2965]
[null,null,2966]
[null,null,2967]
[null,null,2968]
[null,null,2969]
[null,null,2970]
[null,null,2971]
[null,null,2972]
[null,null,2973]
[null,null,2974]
[null,null,2975]
[null,null,2976]
[null,null,2977]
[null,null,2978]
[null,null,2979]
[null,null,2980]
[null,null,2981]
[null,null,2982]
[null,null,2983]
[null,null,2984]
[null,null,2985]
[null,null,2986]
[null,null,2987]
[null,null,2988]
[null,null,2989]
[null,null,2990]
[null,null,2991]
[null,null,2992]
[null,null,2993]
[null,null,2994]
[null,null,2995]
[null,null,2996]
[null,null,2997]
[null,null,2998]
[null,null,2999]
[null,null,3000]

{"sheet":"Datos_de_Tarjetas","index":2,"n_rows":1013,"n_cols":18,"rows_kept":1013,"cut":false,"hidden":true,"merged":[[1010,3,1010,5],[1011,3,1011,5],[1012,3,1012,5],[5,5,5,9],[3,5,3,11],[1001,3,1001,5],[1002,3,1002,5],[1003,3,1003,5],[1004,3,1004,5],[1005,3,1005,5],[1006,3,1006,5],[1007,3,1007,5],[1008,3,1008,5],[1009,3,1009,5],[992,3,992,5],[993,3,993,5],[994,3,994,5],[995,3,995,5],[996,3,996,5],[997,3,997,5],[998,3,998,5],[999,3,999,5],[1000,3,1000,5],[983,3,983,5],[984,3,984,5],[985,3,985,5],[986,3,986,5],[987,3,987,5],[988,3,988,5],[989,3,989,5],[990,3,990,5],[991,3,991,5],[974,3,974,5],[975,3,975,5],[976,3,976,5],[977,3,977,5],[978,3,978,5],[979,3,979,5],[980,3,980,5],[981,3,981,5],[982,3,982,5],[965,3,965,5],[966,3,966,5],[967,3,967,5],[968,3,968,5],[969,3,969,5],[970,3,970,5],[971,3,971,5],[972,3,972,5],[973,3,973,5],[956,3,956,5],[957,3,957,5],[958,3,958,5],[959,3,959,5],[960,3,960,5],[961,3,961,5],[962,3,962,5],[963,3,963,5],[964,3,964,5],[947,3,947,5],[948,3,948,5],[949,3,949,5],[950,3,950,5],[951,3,951,5],[952,3,952,5],[953,3,953,5],[954,3,954,5],[955,3,955,5],[938,3,938,5],[939,3,939,5],[940,3,940,5],[941,3,941,5],[942,3,942,5],[943,3,943,5],[944,3,944,5],[945,3,945,5],[946,3,946,5],[929,3,929,5],[930,3,930,5],[931,3,931,5],[932,3,932,5],[933,3,933,5],[934,3,934,5],[935,3,935,5],[936,3,936,5],[937,3,937,5],[920,3,920,5],[921,3,921,5],[922,3,922,5],[923,3,923,5],[924,3,924,5],[925,3,925,5],[926,3,926,5],[927,3,927,5],[928,3,928,5],[911,3,911,5],[912,3,912,5],[913,3,913,5],[914,3,914,5],[915,3,915,5],[916,3,916,5],[917,3,917,5],[918,3,918,5],[919,3,919,5],[902,3,902,5],[903,3,903,5],[904,3,904,5],[905,3,905,5],[906,3,906,5],[907,3,907,5],[908,3,908,5],[909,3,909,5],[910,3,910,5],[893,3,893,5],[894,3,894,5],[895,3,895,5],[896,3,896,5],[897,3,897,5],[898,3,898,5],[899,3,899,5],[900,3,900,5],[901,3,901,5],[884,3,884,5],[885,3,885,5],[886,3,886,5],[887,3,887,5],[888,3,888,5],[889,3,889,5],[890,3,890,5],[891,3,891,5],[892,3,892,5],[875,3,875,5],[876,3,876,5],[877,3,877,5],[878,3,878,5],[879,3,879,5],[880,3,880,5],[881,3,881,5],[882,3,882,5],[883,3,883,5],[866,3,866,5],[867,3,867,5],[868,3,868,5],[869,3,869,5],[870,3,870,5],[871,3,871,5],[872,3,872,5],[873,3,873,5],[874,3,874,5],[857,3,857,5],[858,3,858,5],[859,3,859,5],[860,3,860,5],[861,3,861,5],[862,3,862,5],[863,3,863,5],[864,3,864,5],[865,3,865,5],[848,3,848,5],[849,3,849,5],[850,3,850,5],[851,3,851,5],[852,3,852,5],[853,3,853,5],[854,3,854,5],[855,3,855,5],[856,3,856,5],[839,3,839,5],[840,3,840,5],[841,3,841,5],[842,3,842,5],[843,3,843,5],[844,3,844,5],[845,3,845,5],[846,3,846,5],[847,3,847,5],[830,3,830,5],[831,3,831,5],[832,3,832,5],[833,3,833,5],[834,3,834,5],[835,3,835,5],[836,3,836,5],[837,3,837,5],[838,3,838,5],[821,3,821,5],[822,3,822,5],[823,3,823,5],[824,3,824,5],[825,3,825,5],[826,3,826,5],[827,3,827,5],[828,3,828,5],[829,3,829,5],[812,3,812,5],[813,3,813,5],[814,3,814,5],[815,3,815,5],[816,3,816,5],[817,3,817,5],[818,3,818,5],[819,3,819,5],[820,3,820,5],[803,3,803,5],[804,3,804,5],[805,3,805,5],[806,3,806,5],[807,3,807,5],[808,3,808,5],[809,3,809,5],[810,3,810,5],[811,3,811,5],[794,3,794,5],[795,3,795,5],[796,3,796,5],[797,3,797,5],[798,3,798,5],[799,3,799,5],[800,3,800,5],[801,3,801,5],[802,3,802,5],[785,3,785,5],[786,3,786,5],[787,3,787,5],[788,3,788,5],[789,3,789,5],[790,3,790,5],[791,3,791,5],[792,3,792,5],[793,3,793,5],[776,3,776,5],[777,3,777,5],[778,3,778,5],[779,3,779,5],[780,3,780,5],[781,3,781,5],[782,3,782,5],[783,3,783,5],[784,3,784,5],[767,3,767,5],[768,3,768,5],[769,3,769,5],[770,3,770,5],[771,3,771,5],[772,3,772,5],[773,3,773,5],[774,3,774,5],[775,3,775,5],[758,3,758,5],[759,3,759,5],[760,3,760,5],[761,3,761,5],[762,3,762,5],[763,3,763,5],[764,3,764,5],[765,3,765,5],[766,3,766,5],[749,3,749,5],[750,3,750,5],[751,3,751,5],[752,3,752,5],[753,3,753,5],[754,3,754,5],[755,3,755,5],[756,3,756,5],[757,3,757,5],[740,3,740,5],[741,3,741,5],[742,3,742,5],[743,3,743,5],[744,3,744,5],[745,3,745,5],[746,3,746,5],[747,3,747,5],[748,3,748,5],[731,3,731,5],[732,3,732,5],[733,3,733,5],[734,3,734,5],[735,3,735,5],[736,3,736,5],[737,3,737,5],[738,3,738,5],[739,3,739,5],[722,3,722,5],[723,3,723,5],[724,3,724,5],[725,3,725,5],[726,3,726,5],[727,3,727,5],[728,3,728,5],[729,3,729,5],[730,3,730,5],[713,3,713,5],[714,3,714,5],[715,3,715,5],[716,3,716,5],[717,3,717,5],[718,3,718,5],[719,3,719,5],[720,3,720,5],[721,3,721,5],[704,3,704,5],[705,3,705,5],[706,3,706,5],[707,3,707,5],[708,3,708,5],[709,3,709,5],[710,3,710,5],[711,3,711,5],[712,3,712,5],[695,3,695,5],[696,3,696,5],[697,3,697,5],[698,3,698,5],[699,3,699,5],[700,3,700,5],[701,3,701,5],[702,3,702,5],[703,3,703,5],[686,3,686,5],[687,3,687,5],[688,3,688,5],[689,3,689,5],[690,3,690,5],[691,3,691,5],[692,3,692,5],[693,3,693,5],[694,3,694,5],[677,3,677,5],[678,3,678,5],[679,3,679,5],[680,3,680,5],[681,3,681,5],[682,3,682,5],[683,3,683,5],[684,3,684,5],[685,3,685,5],[668,3,668,5],[669,3,669,5],[670,3,670,5],[671,3,671,5],[672,3,672,5],[673,3,673,5],[674,3,674,5],[675,3,675,5],[676,3,676,5],[659,3,659,5],[660,3,660,5],[661,3,661,5],[662,3,662,5],[663,3,663,5],[664,3,664,5],[665,3,665,5],[666,3,666,5],[667,3,667,5],[650,3,650,5],[651,3,651,5],[652,3,652,5],[653,3,653,5],[654,3,654,5],[655,3,655,5],[656,3,656,5],[657,3,657,5],[658,3,658,5],[641,3,641,5],[642,3,642,5],[643,3,643,5],[644,3,644,5],[645,3,645,5],[646,3,646,5],[647,3,647,5],[648,3,648,5],[649,3,649,5],[632,3,632,5],[633,3,633,5],[634,3,634,5],[635,3,635,5],[636,3,636,5],[637,3,637,5],[638,3,638,5],[639,3,639,5],[640,3,640,5],[623,3,623,5],[624,3,624,5],[625,3,625,5],[626,3,626,5],[627,3,627,5],[628,3,628,5],[629,3,629,5],[630,3,630,5],[631,3,631,5],[614,3,614,5],[615,3,615,5],[616,3,616,5],[617,3,617,5],[618,3,618,5],[619,3,619,5],[620,3,620,5],[621,3,621,5],[622,3,622,5],[605,3,605,5],[606,3,606,5],[607,3,607,5],[608,3,608,5],[609,3,609,5],[610,3,610,5],[611,3,611,5],[612,3,612,5],[613,3,613,5],[596,3,596,5],[597,3,597,5],[598,3,598,5],[599,3,599,5],[600,3,600,5],[601,3,601,5],[602,3,602,5],[603,3,603,5],[604,3,604,5],[587,3,587,5],[588,3,588,5],[589,3,589,5],[590,3,590,5],[591,3,591,5],[592,3,592,5],[593,3,593,5],[594,3,594,5],[595,3,595,5],[578,3,578,5],[579,3,579,5],[580,3,580,5],[581,3,581,5],[582,3,582,5],[583,3,583,5],[584,3,584,5],[585,3,585,5],[586,3,586,5],[569,3,569,5],[570,3,570,5],[571,3,571,5],[572,3,572,5],[573,3,573,5],[574,3,574,5],[575,3,575,5],[576,3,576,5],[577,3,577,5],[560,3,560,5],[561,3,561,5],[562,3,562,5],[563,3,563,5],[564,3,564,5],[565,3,565,5],[566,3,566,5],[567,3,567,5],[568,3,568,5],[551,3,551,5],[552,3,552,5],[553,3,553,5],[554,3,554,5],[555,3,555,5],[556,3,556,5],[557,3,557,5],[558,3,558,5],[559,3,559,5],[542,3,542,5],[543,3,543,5],[544,3,544,5],[545,3,545,5],[546,3,546,5],[547,3,547,5],[548,3,548,5],[549,3,549,5],[550,3,550,5],[533,3,533,5],[534,3,534,5],[535,3,535,5],[536,3,536,5],[537,3,537,5],[538,3,538,5],[539,3,539,5],[540,3,540,5],[541,3,541,5],[524,3,524,5],[525,3,525,5],[526,3,526,5],[527,3,527,5],[528,3,528,5],[529,3,529,5],[530,3,530,5],[531,3,531,5],[532,3,532,5],[515,3,515,5],[516,3,516,5],[517,3,517,5],[518,3,518,5],[519,3,519,5],[520,3,520,5],[521,3,521,5],[522,3,522,5],[523,3,523,5],[506,3,506,5],[507,3,507,5],[508,3,508,5],[509,3,509,5],[510,3,510,5],[511,3,511,5],[512,3,512,5],[513,3,513,5],[514,3,514,5],[497,3,497,5],[498,3,498,5],[499,3,499,5],[500,3,500,5],[501,3,501,5],[502,3,502,5],[503,3,503,5],[504,3,504,5],[505,3,505,5],[488,3,488,5],[489,3,489,5],[490,3,490,5],[491,3,491,5],[492,3,492,5],[493,3,493,5],[494,3,494,5],[495,3,495,5],[496,3,496,5],[479,3,479,5],[480,3,480,5],[481,3,481,5],[482,3,482,5],[483,3,483,5],[484,3,484,5],[485,3,485,5],[486,3,486,5],[487,3,487,5],[470,3,470,5],[471,3,471,5],[472,3,472,5],[473,3,473,5],[474,3,474,5],[475,3,475,5],[476,3,476,5],[477,3,477,5],[478,3,478,5],[461,3,461,5],[462,3,462,5],[463,3,463,5],[464,3,464,5],[465,3,465,5],[466,3,466,5],[467,3,467,5],[468,3,468,5],[469,3,469,5],[452,3,452,5],[453,3,453,5],[454,3,454,5],[455,3,455,5],[456,3,456,5],[457,3,457,5],[458,3,458,5],[459,3,459,5],[460,3,460,5],[443,3,443,5],[444,3,444,5],[445,3,445,5],[446,3,446,5],[447,3,447,5],[448,3,448,5],[449,3,449,5],[450,3,450,5],[451,3,451,5],[434,3,434,5],[435,3,435,5],[436,3,436,5],[437,3,437,5],[438,3,438,5],[439,3,439,5],[440,3,440,5],[441,3,441,5],[442,3,442,5],[425,3,425,5],[426,3,426,5],[427,3,427,5],[428,3,428,5],[429,3,429,5],[430,3,430,5],[431,3,431,5],[432,3,432,5],[433,3,433,5],[416,3,416,5],[417,3,417,5],[418,3,418,5],[419,3,419,5],[420,3,420,5],[421,3,421,5],[422,3,422,5],[423,3,423,5],[424,3,424,5],[407,3,407,5],[408,3,408,5],[409,3,409,5],[410,3,410,5],[411,3,411,5],[412,3,412,5],[413,3,413,5],[414,3,414,5],[415,3,415,5],[398,3,398,5],[399,3,399,5],[400,3,400,5],[401,3,401,5],[402,3,402,5],[403,3,403,5],[404,3,404,5],[405,3,405,5],[406,3,406,5],[389,3,389,5],[390,3,390,5],[391,3,391,5],[392,3,392,5],[393,3,393,5],[394,3,394,5],[395,3,395,5],[396,3,396,5],[397,3,397,5],[380,3,380,5],[381,3,381,5],[382,3,382,5],[383,3,383,5],[384,3,384,5],[385,3,385,5],[386,3,386,5],[387,3,387,5],[388,3,388,5],[371,3,371,5],[372,3,372,5],[373,3,373,5],[374,3,374,5],[375,3,375,5],[376,3,376,5],[377,3,377,5],[378,3,378,5],[379,3,379,5],[362,3,362,5],[363,3,363,5],[364,3,364,5],[365,3,365,5],[366,3,366,5],[367,3,367,5],[368,3,368,5],[369,3,369,5],[370,3,370,5],[353,3,353,5],[354,3,354,5],[355,3,355,5],[356,3,356,5],[357,3,357,5],[358,3,358,5],[359,3,359,5],[360,3,360,5],[361,3,361,5],[344,3,344,5],[345,3,345,5],[346,3,346,5],[347,3,347,5],[348,3,348,5],[349,3,349,5],[350,3,350,5],[351,3,351,5],[352,3,352,5],[335,3,335,5],[336,3,336,5],[337,3,337,5],[338,3,338,5],[339,3,339,5],[340,3,340,5],[341,3,341,5],[342,3,342,5],[343,3,343,5],[326,3,326,5],[327,3,327,5],[328,3,328,5],[329,3,329,5],[330,3,330,5],[331,3,331,5],[332,3,332,5],[333,3,333,5],[334,3,334,5],[317,3,317,5],[318,3,318,5],[319,3,319,5],[320,3,320,5],[321,3,321,5],[322,3,322,5],[323,3,323,5],[324,3,324,5],[325,3,325,5],[308,3,308,5],[309,3,309,5],[310,3,310,5],[311,3,311,5],[312,3,312,5],[313,3,313,5],[314,3,314,5],[315,3,315,5],[316,3,316,5],[299,3,299,5],[300,3,300,5],[301,3,301,5],[302,3,302,5],[303,3,303,5],[304,3,304,5],[305,3,305,5],[306,3,306,5],[307,3,307,5],[290,3,290,5],[291,3,291,5],[292,3,292,5],[293,3,293,5],[294,3,294,5],[295,3,295,5],[296,3,296,5],[297,3,297,5],[298,3,298,5],[281,3,281,5],[282,3,282,5],[283,3,283,5],[284,3,284,5],[285,3,285,5],[286,3,286,5],[287,3,287,5],[288,3,288,5],[289,3,289,5],[272,3,272,5],[273,3,273,5],[274,3,274,5],[275,3,275,5],[276,3,276,5],[277,3,277,5],[278,3,278,5],[279,3,279,5],[280,3,280,5],[263,3,263,5],[264,3,264,5],[265,3,265,5],[266,3,266,5],[267,3,267,5],[268,3,268,5],[269,3,269,5],[270,3,270,5],[271,3,271,5],[254,3,254,5],[255,3,255,5],[256,3,256,5],[257,3,257,5],[258,3,258,5],[259,3,259,5],[260,3,260,5],[261,3,261,5],[262,3,262,5],[245,3,245,5],[246,3,246,5],[247,3,247,5],[248,3,248,5],[249,3,249,5],[250,3,250,5],[251,3,251,5],[252,3,252,5],[253,3,253,5],[236,3,236,5],[237,3,237,5],[238,3,238,5],[239,3,239,5],[240,3,240,5],[241,3,241,5],[242,3,242,5],[243,3,243,5],[244,3,244,5],[227,3,227,5],[228,3,228,5],[229,3,229,5],[230,3,230,5],[231,3,231,5],[232,3,232,5],[233,3,233,5],[234,3,234,5],[235,3,235,5],[218,3,218,5],[219,3,219,5],[220,3,220,5],[221,3,221,5],[222,3,222,5],[223,3,223,5],[224,3,224,5],[225,3,225,5],[226,3,226,5],[209,3,209,5],[210,3,210,5],[211,3,211,5],[212,3,212,5],[213,3,213,5],[214,3,214,5],[215,3,215,5],[216,3,216,5],[217,3,217,5],[200,3,200,5],[201,3,201,5],[202,3,202,5],[203,3,203,5],[204,3,204,5],[205,3,205,5],[206,3,206,5],[207,3,207,5],[208,3,208,5],[191,3,191,5],[192,3,192,5],[193,3,193,5],[194,3,194,5],[195,3,195,5],[196,3,196,5],[197,3,197,5],[198,3,198,5],[199,3,199,5],[182,3,182,5],[183,3,183,5],[184,3,184,5],[185,3,185,5],[186,3,186,5],[187,3,187,5],[188,3,188,5],[189,3,189,5],[190,3,190,5],[173,3,173,5],[174,3,174,5],[175,3,175,5],[176,3,176,5],[177,3,177,5],[178,3,178,5],[179,3,179,5],[180,3,180,5],[181,3,181,5],[164,3,164,5],[165,3,165,5],[166,3,166,5],[167,3,167,5],[168,3,168,5],[169,3,169,5],[170,3,170,5],[171,3,171,5],[172,3,172,5],[155,3,155,5],[156,3,156,5],[157,3,157,5],[158,3,158,5],[159,3,159,5],[160,3,160,5],[161,3,161,5],[162,3,162,5],[163,3,163,5],[146,3,146,5],[147,3,147,5],[148,3,148,5],[149,3,149,5],[150,3,150,5],[151,3,151,5],[152,3,152,5],[153,3,153,5],[154,3,154,5],[137,3,137,5],[138,3,138,5],[139,3,139,5],[140,3,140,5],[141,3,141,5],[142,3,142,5],[143,3,143,5],[144,3,144,5],[145,3,145,5],[128,3,128,5],[129,3,129,5],[130,3,130,5],[131,3,131,5],[132,3,132,5],[133,3,133,5],[134,3,134,5],[135,3,135,5],[136,3,136,5],[119,3,119,5],[120,3,120,5],[121,3,121,5],[122,3,122,5],[123,3,123,5],[124,3,124,5],[125,3,125,5],[126,3,126,5],[127,3,127,5],[110,3,110,5],[111,3,111,5],[112,3,112,5],[113,3,113,5],[114,3,114,5],[115,3,115,5],[116,3,116,5],[117,3,117,5],[118,3,118,5],[101,3,101,5],[102,3,102,5],[103,3,103,5],[104,3,104,5],[105,3,105,5],[106,3,106,5],[107,3,107,5],[108,3,108,5],[109,3,109,5],[92,3,92,5],[93,3,93,5],[94,3,94,5],[95,3,95,5],[96,3,96,5],[97,3,97,5],[98,3,98,5],[99,3,99,5],[100,3,100,5],[83,3,83,5],[84,3,84,5],[85,3,85,5],[86,3,86,5],[87,3,87,5],[88,3,88,5],[89,3,89,5],[90,3,90,5],[91,3,91,5],[74,3,74,5],[75,3,75,5],[76,3,76,5],[77,3,77,5],[78,3,78,5],[79,3,79,5],[80,3,80,5],[81,3,81,5],[82,3,82,5],[65,3,65,5],[66,3,66,5],[67,3,67,5],[68,3,68,5],[69,3,69,5],[70,3,70,5],[71,3,71,5],[72,3,72,5],[73,3,73,5],[56,3,56,5],[57,3,57,5],[58,3,58,5],[59,3,59,5],[60,3,60,5],[61,3,61,5],[62,3,62,5],[63,3,63,5],[64,3,64,5],[47,3,47,5],[48,3,48,5],[49,3,49,5],[50,3,50,5],[51,3,51,5],[52,3,52,5],[53,3,53,5],[54,3,54,5],[55,3,55,5],[18,3,18,5],[19,3,19,5],[0,17,0,18],[38,3,38,5],[39,3,39,5],[40,3,40,5],[41,3,41,5],[42,3,42,5],[43,3,43,5],[44,3,44,5],[45,3,45,5],[46,3,46,5],[29,3,29,5],[30,3,30,5],[31,3,31,5],[32,3,32,5],[33,3,33,5],[34,3,34,5],[35,3,35,5],[36,3,36,5],[37,3,37,5],[37,6,37,8],[21,6,21,8],[22,6,22,8],[10,2,13,2],[10,6,13,8],[10,9,13,9],[10,10,13,10],[8,2,8,12],[32,6,32,8],[10,17,13,17],[28,6,28,8]],"merged_total":1098,"flags":["merged_cut"]}
[null,null,null,null,null,null,null,null,null,null,null,null,null,null,null,null,null,"Versión 2.0.2020"]
[]
[null,null,null,null,null,null,null,null,"Solicitud de alta de Tarjetas"]
[null,null,"Razón Social",null,null,{"$f":"IF(Datos_Empresa_Persona!C8=0,\"\",Datos_Empresa_Persona!C8)","v":""}]
[]
[null,null,"Tipo de Flota"]
[]
[null,null,"Completar la siguiente tabla con los datos de los vehículos que desea incorporar a YPF ENRUTA"]
[null,null,"*Los campos rojos deben ser completados obligatoriamente."]
[]
[null,null,"N°","TIPO DE TARJETA",null,null,"DOMINIO o Nro. DNI",null,null,"PRODUCTOS HABILITADOS","LIMITE POR CARGA","CAPACIDAD DE TANQUE","MARCA\nEjemplo: Ford","MODELO\nEjemplo: Focus","AÑO FABRICACION\nEjemplo: 2014","LIMITE MENSUAL","INTERNACIONAL (Opcional)","CENTRO DE COSTOS ASIGNADO (Opcional)"]
[]
[]
[]
[null,null,1]
[null,null,2]
[null,null,3]
[null,null,4]
[null,null,5]
[null,null,6]
[null,null,7]
[null,null,8]
[null,null,9]
[null,null,10]
[null,null,11]
[null,null,12]
[null,null,13]
[null,null,14]
[null,null,15]
[null,null,16]
[null,null,17]
[null,null,18]
[null,null,19]
[null,null,20]
[null,null,21]
[null,null,22]
[null,null,23]
[null,null,24]
[null,null,25]
[null,null,26]
[null,null,27]
[null,null,28]
[null,null,29]
[null,null,30]
[null,null,31]
[null,null,32]
[null,null,33]
[null,null,34]
[null,null,35]
[null,null,36]
[null,null,37]
[null,null,38]
[null,null,39]
[null,null,40]
[null,null,41]
[null,null,42]
[null,null,43]
[null,null,44]
[null,null,45]
[null,null,46]
[null,null,47]
[null,null,48]
[null,null,49]
[null,null,50]
[null,null,51]
[null,null,52]
[null,null,53]
[null,null,54]
[null,null,55]
[null,null,56]
[null,null,57]
[null,null,58]
[null,null,59]
[null,null,60]
[null,null,61]
[null,null,62]
[null,null,63]
[null,null,64]
[null,null,65]
[null,null,66]
[null,null,67]
[null,null,68]
[null,null,69]
[null,null,70]
[null,null,71]
[null,null,72]
[null,null,73]
[null,null,74]
[null,null,75]
[null,null,76]
[null,null,77]
[null,null,78]
[null,null,79]
[null,null,80]
[null,null,81]
[null,null,82]
[null,null,83]
[null,null,84]
[null,null,85]
[null,null,86]
[null,null,87]
[null,null,88]
[null,null,89]
[null,null,90]
[null,null,91]
[null,null,92]
[null,null,93]
[null,null,94]
[null,null,95]
[null,null,96]
[null,null,97]
[null,null,98]
[null,null,99]
[null,null,100]
[null,null,101]
[null,null,102]
[null,null,103]
[null,null,104]
[null,null,105]
[null,null,106]
[null,null,107]
[null,null,108]
[null,null,109]
[null,null,110]
[null,null,111]
[null,null,112]
[null,null,113]
[null,null,114]
[null,null,115]
[null,null,116]
[null,null,117]
[null,null,118]
[null,null,119]
[null,null,120]
[null,null,121]
[null,null,122]
[null,null,123]
[null,null,124]
[null,null,125]
[null,null,126]
[null,null,127]
[null,null,128]
[null,null,129]
[null,null,130]
[null,null,131]
[null,null,132]
[null,null,133]
[null,null,134]
[null,null,135]
[null,null,136]
[null,null,137]
[null,null,138]
[null,null,139]
[null,null,140]
[null,null,141]
[null,null,142]
[null,null,143]
[null,null,144]
[null,null,145]
[null,null,146]
[null,null,147]
[null,null,148]
[null,null,149]
[null,null,150]
[null,null,151]
[null,null,152]
[null,null,153]
[null,null,154]
[null,null,155]
[null,null,156]
[null,null,157]
[null,null,158]
[null,null,159]
[null,null,160]
[null,null,161]
[null,null,162]
[null,null,163]
[null,null,164]
[null,null,165]
[null,null,166]
[null,null,167]
[null,null,168]
[null,null,169]
[null,null,170]
[null,null,171]
[null,null,172]
[null,null,173]
[null,null,174]
[null,null,175]
[null,null,176]
[null,null,177]
[null,null,178]
[null,null,179]
[null,null,180]
[null,null,181]
[null,null,182]
[null,null,183]
[null,null,184]
[null,null,185]
[null,null,186]
[null,null,187]
[null,null,188]
[null,null,189]
[null,null,190]
[null,null,191]
[null,null,192]
[null,null,193]
[null,null,194]
[null,null,195]
[null,null,196]
[null,null,197]
[null,null,198]
[null,null,199]
[null,null,200]
[null,null,201]
[null,null,202]
[null,null,203]
[null,null,204]
[null,null,205]
[null,null,206]
[null,null,207]
[null,null,208]
[null,null,209]
[null,null,210]
[null,null,211]
[null,null,212]
[null,null,213]
[null,null,214]
[null,null,215]
[null,null,216]
[null,null,217]
[null,null,218]
[null,null,219]
[null,null,220]
[null,null,221]
[null,null,222]
[null,null,223]
[null,null,224]
[null,null,225]
[null,null,226]
[null,null,227]
[null,null,228]
[null,null,229]
[null,null,230]
[null,null,231]
[null,null,232]
[null,null,233]
[null,null,234]
[null,null,235]
[null,null,236]
[null,null,237]
[null,null,238]
[null,null,239]
[null,null,240]
[null,null,241]
[null,null,242]
[null,null,243]
[null,null,244]
[null,null,245]
[null,null,246]
[null,null,247]
[null,null,248]
[null,null,249]
[null,null,250]
[null,null,251]
[null,null,252]
[null,null,253]
[null,null,254]
[null,null,255]
[null,null,256]
[null,null,257]
[null,null,258]
[null,null,259]
[null,null,260]
[null,null,261]
[null,null,262]
[null,null,263]
[null,null,264]
[null,null,265]
[null,null,266]
[null,null,267]
[null,null,268]
[null,null,269]
[null,null,270]
[null,null,271]
[null,null,272]
[null,null,273]
[null,null,274]
[null,null,275]
[null,null,276]
[null,null,277]
[null,null,278]
[null,null,279]
[null,null,280]
[null,null,281]
[null,null,282]
[null,null,283]
[null,null,284]
[null,null,285]
[null,null,286]
[null,null,287]
[null,null,288]
[null,null,289]
[null,null,290]
[null,null,291]
[null,null,292]
[null,null,293]
[null,null,294]
[null,null,295]
[null,null,296]
[null,null,297]
[null,null,298]
[null,null,299]
[null,null,300]
[null,null,301]
[null,null,302]
[null,null,303]
[null,null,304]
[null,null,305]
[null,null,306]
[null,null,307]
[null,null,308]
[null,null,309]
[null,null,310]
[null,null,311]
[null,null,312]
[null,null,313]
[null,null,314]
[null,null,315]
[null,null,316]
[null,null,317]
[null,null,318]
[null,null,319]
[null,null,320]
[null,null,321]
[null,null,322]
[null,null,323]
[null,null,324]
[null,null,325]
[null,null,326]
[null,null,327]
[null,null,328]
[null,null,329]
[null,null,330]
[null,null,331]
[null,null,332]
[null,null,333]
[null,null,334]
[null,null,335]
[null,null,336]
[null,null,337]
[null,null,338]
[null,null,339]
[null,null,340]
[null,null,341]
[null,null,342]
[null,null,343]
[null,null,344]
[null,null,345]
[null,null,346]
[null,null,347]
[null,null,348]
[null,null,349]
[null,null,350]
[null,null,351]
[null,null,352]
[null,null,353]
[null,null,354]
[null,null,355]
[null,null,356]
[null,null,357]
[null,null,358]
[null,null,359]
[null,null,360]
[null,null,361]
[null,null,362]
[null,null,363]
[null,null,364]
[null,null,365]
[null,null,366]
[null,null,367]
[null,null,368]
[null,null,369]
[null,null,370]
[null,null,371]
[null,null,372]
[null,null,373]
[null,null,374]
[null,null,375]
[null,null,376]
[null,null,377]
[null,null,378]
[null,null,379]
[null,null,380]
[null,null,381]
[null,null,382]
[null,null,383]
[null,null,384]
[null,null,385]
[null,null,386]
[null,null,387]
[null,null,388]
[null,null,389]
[null,null,390]
[null,null,391]
[null,null,392]
[null,null,393]
[null,null,394]
[null,null,395]
[null,null,396]
[null,null,397]
[null,null,398]
[null,null,399]
[null,null,400]
[null,null,401]
[null,null,402]
[null,null,403]
[null,null,404]
[null,null,405]
[null,null,406]
[null,null,407]
[null,null,408]
[null,null,409]
[null,null,410]
[null,null,411]
[null,null,412]
[null,null,413]
[null,null,414]
[null,null,415]
[null,null,416]
[null,null,417]
[null,null,418]
[null,null,419]
[null,null,420]
[null,null,421]
[null,null,422]
[null,null,423]
[null,null,424]
[null,null,425]
[null,null,426]
[null,null,427]
[null,null,428]
[null,null,429]
[null,null,430]
[null,null,431]
[null,null,432]
[null,null,433]
[null,null,434]
[null,null,435]
[null,null,436]
[null,null,437]
[null,null,438]
[null,null,439]
[null,null,440]
[null,null,441]
[null,null,442]
[null,null,443]
[null,null,444]
[null,null,445]
[null,null,446]
[null,null,447]
[null,null,448]
[null,null,449]
[null,null,450]
[null,null,451]
[null,null,452]
[null,null,453]
[null,null,454]
[null,null,455]
[null,null,456]
[null,null,457]
[null,null,458]
[null,null,459]
[null,null,460]
[null,null,461]
[null,null,462]
[null,null,463]
[null,null,464]
[null,null,465]
[null,null,466]
[null,null,467]
[null,null,468]
[null,null,469]
[null,null,470]
[null,null,471]
[null,null,472]
[null,null,473]
[null,null,474]
[null,null,475]
[null,null,476]
[null,null,477]
[null,null,478]
[null,null,479]
[null,null,480]
[null,null,481]
[null,null,482]
[null,null,483]
[null,null,484]
[null,null,485]
[null,null,486]
[null,null,487]
[null,null,488]
[null,null,489]
[null,null,490]
[null,null,491]
[null,null,492]
[null,null,493]
[null,null,494]
[null,null,495]
[null,null,496]
[null,null,497]
[null,null,498]
[null,null,499]
[null,null,500]
[null,null,501]
[null,null,502]
[null,null,503]
[null,null,504]
[null,null,505]
[null,null,506]
[null,null,507]
[null,null,508]
[null,null,509]
[null,null,510]
[null,null,511]
[null,null,512]
[null,null,513]
[null,null,514]
[null,null,515]
[null,null,516]
[null,null,517]
[null,null,518]
[null,null,519]
[null,null,520]
[null,null,521]
[null,null,522]
[null,null,523]
[null,null,524]
[null,null,525]
[null,null,526]
[null,null,527]
[null,null,528]
[null,null,529]
[null,null,530]
[null,null,531]
[null,null,532]
[null,null,533]
[null,null,534]
[null,null,535]
[null,null,536]
[null,null,537]
[null,null,538]
[null,null,539]
[null,null,540]
[null,null,541]
[null,null,542]
[null,null,543]
[null,null,544]
[null,null,545]
[null,null,546]
[null,null,547]
[null,null,548]
[null,null,549]
[null,null,550]
[null,null,551]
[null,null,552]
[null,null,553]
[null,null,554]
[null,null,555]
[null,null,556]
[null,null,557]
[null,null,558]
[null,null,559]
[null,null,560]
[null,null,561]
[null,null,562]
[null,null,563]
[null,null,564]
[null,null,565]
[null,null,566]
[null,null,567]
[null,null,568]
[null,null,569]
[null,null,570]
[null,null,571]
[null,null,572]
[null,null,573]
[null,null,574]
[null,null,575]
[null,null,576]
[null,null,577]
[null,null,578]
[null,null,579]
[null,null,580]
[null,null,581]
[null,null,582]
[null,null,583]
[null,null,584]
[null,null,585]
[null,null,586]
[null,null,587]
[null,null,588]
[null,null,589]
[null,null,590]
[null,null,591]
[null,null,592]
[null,null,593]
[null,null,594]
[null,null,595]
[null,null,596]
[null,null,597]
[null,null,598]
[null,null,599]
[null,null,600]
[null,null,601]
[null,null,602]
[null,null,603]
[null,null,604]
[null,null,605]
[null,null,606]
[null,null,607]
[null,null,608]
[null,null,609]
[null,null,610]
[null,null,611]
[null,null,612]
[null,null,613]
[null,null,614]
[null,null,615]
[null,null,616]
[null,null,617]
[null,null,618]
[null,null,619]
[null,null,620]
[null,null,621]
[null,null,622]
[null,null,623]
[null,null,624]
[null,null,625]
[null,null,626]
[null,null,627]
[null,null,628]
[null,null,629]
[null,null,630]
[null,null,631]
[null,null,632]
[null,null,633]
[null,null,634]
[null,null,635]
[null,null,636]
[null,null,637]
[null,null,638]
[null,null,639]
[null,null,640]
[null,null,641]
[null,null,642]
[null,null,643]
[null,null,644]
[null,null,645]
[null,null,646]
[null,null,647]
[null,null,648]
[null,null,649]
[null,null,650]
[null,null,651]
[null,null,652]
[null,null,653]
[null,null,654]
[null,null,655]
[null,null,656]
[null,null,657]
[null,null,658]
[null,null,659]
[null,null,660]
[null,null,661]
[null,null,662]
[null,null,663]
[null,null,664]
[null,null,665]
[null,null,666]
[null,null,667]
[null,null,668]
[null,null,669]
[null,null,670]
[null,null,671]
[null,null,672]
[null,null,673]
[null,null,674]
[null,null,675]
[null,null,676]
[null,null,677]
[null,null,678]
[null,null,679]
[null,null,680]
[null,null,681]
[null,null,682]
[null,null,683]
[null,null,684]
[null,null,685]
[null,null,686]
[null,null,687]
[null,null,688]
[null,null,689]
[null,null,690]
[null,null,691]
[null,null,692]
[null,null,693]
[null,null,694]
[null,null,695]
[null,null,696]
[null,null,697]
[null,null,698]
[null,null,699]
[null,null,700]
[null,null,701]
[null,null,702]
[null,null,703]
[null,null,704]
[null,null,705]
[null,null,706]
[null,null,707]
[null,null,708]
[null,null,709]
[null,null,710]
[null,null,711]
[null,null,712]
[null,null,713]
[null,null,714]
[null,null,715]
[null,null,716]
[null,null,717]
[null,null,718]
[null,null,719]
[null,null,720]
[null,null,721]
[null,null,722]
[null,null,723]
[null,null,724]
[null,null,725]
[null,null,726]
[null,null,727]
[null,null,728]
[null,null,729]
[null,null,730]
[null,null,731]
[null,null,732]
[null,null,733]
[null,null,734]
[null,null,735]
[null,null,736]
[null,null,737]
[null,null,738]
[null,null,739]
[null,null,740]
[null,null,741]
[null,null,742]
[null,null,743]
[null,null,744]
[null,null,745]
[null,null,746]
[null,null,747]
[null,null,748]
[null,null,749]
[null,null,750]
[null,null,751]
[null,null,752]
[null,null,753]
[null,null,754]
[null,null,755]
[null,null,756]
[null,null,757]
[null,null,758]
[null,null,759]
[null,null,760]
[null,null,761]
[null,null,762]
[null,null,763]
[null,null,764]
[null,null,765]
[null,null,766]
[null,null,767]
[null,null,768]
[null,null,769]
[null,null,770]
[null,null,771]
[null,null,772]
[null,null,773]
[null,null,774]
[null,null,775]
[null,null,776]
[null,null,777]
[null,null,778]
[null,null,779]
[null,null,780]
[null,null,781]
[null,null,782]
[null,null,783]
[null,null,784]
[null,null,785]
[null,null,786]
[null,null,787]
[null,null,788]
[null,null,789]
[null,null,790]
[null,null,791]
[null,null,792]
[null,null,793]
[null,null,794]
[null,null,795]
[null,null,796]
[null,null,797]
[null,null,798]
[null,null,799]
[null,null,800]
[null,null,801]
[null,null,802]
[null,null,803]
[null,null,804]
[null,null,805]
[null,null,806]
[null,null,807]
[null,null,808]
[null,null,809]
[null,null,810]
[null,null,811]
[null,null,812]
[null,null,813]
[null,null,814]
[null,null,815]
[null,null,816]
[null,null,817]
[null,null,818]
[null,null,819]
[null,null,820]
[null,null,821]
[null,null,822]
[null,null,823]
[null,null,824]
[null,null,825]
[null,null,826]
[null,null,827]
[null,null,828]
[null,null,829]
[null,null,830]
[null,null,831]
[null,null,832]
[null,null,833]
[null,null,834]
[null,null,835]
[null,null,836]
[null,null,837]
[null,null,838]
[null,null,839]
[null,null,840]
[null,null,841]
[null,null,842]
[null,null,843]
[null,null,844]
[null,null,845]
[null,null,846]
[null,null,847]
[null,null,848]
[null,null,849]
[null,null,850]
[null,null,851]
[null,null,852]
[null,null,853]
[null,null,854]
[null,null,855]
[null,null,856]
[null,null,857]
[null,null,858]
[null,null,859]
[null,null,860]
[null,null,861]
[null,null,862]
[null,null,863]
[null,null,864]
[null,null,865]
[null,null,866]
[null,null,867]
[null,null,868]
[null,null,869]
[null,null,870]
[null,null,871]
[null,null,872]
[null,null,873]
[null,null,874]
[null,null,875]
[null,null,876]
[null,null,877]
[null,null,878]
[null,null,879]
[null,null,880]
[null,null,881]
[null,null,882]
[null,null,883]
[null,null,884]
[null,null,885]
[null,null,886]
[null,null,887]
[null,null,888]
[null,null,889]
[null,null,890]
[null,null,891]
[null,null,892]
[null,null,893]
[null,null,894]
[null,null,895]
[null,null,896]
[null,null,897]
[null,null,898]
[null,null,899]
[null,null,900]
[null,null,901]
[null,null,902]
[null,null,903]
[null,null,904]
[null,null,905]
[null,null,906]
[null,null,907]
[null,null,908]
[null,null,909]
[null,null,910]
[null,null,911]
[null,null,912]
[null,null,913]
[null,null,914]
[null,null,915]
[null,null,916]
[null,null,917]
[null,null,918]
[null,null,919]
[null,null,920]
[null,null,921]
[null,null,922]
[null,null,923]
[null,null,924]
[null,null,925]
[null,null,926]
[null,null,927]
[null,null,928]
[null,null,929]
[null,null,930]
[null,null,931]
[null,null,932]
[null,null,933]
[null,null,934]
[null,null,935]
[null,null,936]
[null,null,937]
[null,null,938]
[null,null,939]
[null,null,940]
[null,null,941]
[null,null,942]
[null,null,943]
[null,null,944]
[null,null,945]
[null,null,946]
[null,null,947]
[null,null,948]
[null,null,949]
[null,null,950]
[null,null,951]
[null,null,952]
[null,null,953]
[null,null,954]
[null,null,955]
[null,null,956]
[null,null,957]
[null,null,958]
[null,null,959]
[null,null,960]
[null,null,961]
[null,null,962]
[null,null,963]
[null,null,964]
[null,null,965]
[null,null,966]
[null,null,967]
[null,null,968]
[null,null,969]
[null,null,970]
[null,null,971]
[null,null,972]
[null,null,973]
[null,null,974]
[null,null,975]
[null,null,976]
[null,null,977]
[null,null,978]
[null,null,979]
[null,null,980]
[null,null,981]
[null,null,982]
[null,null,983]
[null,null,984]
[null,null,985]
[null,null,986]
[null,null,987]
[null,null,988]
[null,null,989]
[null,null,990]
[null,null,991]
[null,null,992]
[null,null,993]
[null,null,994]
[null,null,995]
[null,null,996]
[null,null,997]
[null,null,998]
[null,null,999]

{"sheet":"Productos_Habilitados","index":3,"n_rows":79,"n_cols":226,"rows_kept":79,"cut":false,"hidden":true,"merged":[[66,1,66,3],[2,2,3,3],[6,1,6,3],[5,1,5,3],[63,1,63,3],[44,1,44,3],[24,1,24,3]]}
[]
[]
[null,null,"Especificaciones de productos habilitados y límites de consumo "]
[]
[]
[null,"TIPO DE COMBUSTIBLES Y PRODUCTOS HABILITADOS"]
[null,"Diesel"]
[null,"Código de Producto","Descripción","Descripción Larga"]
[null,"01","GO- D500 / AZUL 32","Gasoil - D500 / Azul 32"]
[null,"02","GO- D500/ LUB / AZUL 32","Gasoil - D500 / Lubricantes / Azul 32"]
[null,"03","GO- D500 / PE / AZUL 32","Gasoil - D500 / Peajes / Azul 32"]
[null,"04","GO- D500 / LUB / PE / AZUL 32","Gasoil - D500 / Lubricantes / Peajes / Azul 32"]
[null,"05","GO-D500 / LUB / ACC / AZUL 32","Gasoil - D500 / Lubricantes / Accesorios / Azul 32"]
[null,"06","GO-D500 / LUB / ACC / PE / AZUL 32","Gasoil - D500 / Lubricantes / Accesorios / Peajes / Azul 32"]
[null,"07","GO-D500 / E / L Y GOM / AZUL 32","Gasoil - D500 / Engrases / Lavado y Gomería / Azul 32"]
[null,"08","GO-D500 / LUB / E / L Y GOM / AZUL 32","Gasoil - D500 / Lubricantes / Engrases / Lavado y Gomería / Azul 32"]
[null,"09","GO-D500/INFINIA DIESEL / LUB / ACC / S / E / OS / PE / L Y GOM / AZUL 32","Gasoil - D500 / Infinia Diesel / Lubricantes / Accesorios / Servicios / Engrases / Otros Servicios / Peajes / Lavado y Gomería / Azul 32"]
[null,"10","GO- D500 / LUB E / OS / PE / L Y GOM / AZUL 32","Gasoil - D500 / Lubricantes / Engrases / Otros Servicios / Peajes / Lavado y Gomería / Azul 32"]
[null,"11","GO-D500 / E / OS / PE / L Y GOM / AZUL 32","Gasoil - D500 / Engrases / Otros Servicios / Peaje / Lavado y Gomería / Azul 32"]
[null,"36","GO-D500/ LUB/ ACC/ EN / L Y GOM","Gasoil - D500 / Lubricantes / Accesorios / Engrases / Lavado y Gomería"]
[null,"47","GO/EN/L y GOM","Gasoil / Engrases / Lavado y Gomería"]
[null,"96","GO-D500/INFINIA DIESEL / AZUL 32","Gasoil - D500 / Inifinia Diesel / Azul 32"]
[null,"97","GO-D500/INFINIA DIESEL/LUB / AZUL 32","Gasoil - D500 / Infinia Diesel / Lubricantes / Azul 32"]
[null,"98","GO-D500/INFINIA DIESEL/LUB/ACC / AZUL 32","Gasoil - D500 / Infinia Diesel / Lubricantes / Accesorios / Azul 32"]
[null,"Naftero/GNC"]
[null,"Código de Producto","Descripción","Descripción Larga",null,null,null,null,null,null,null,null,null,null,null,null,null,null,null,null,null,null,null,null,null,null,null,null,null,null,null,null,null,null,null,null,null,null,null,null,null,null,null,null,null,null,null,null,null,null,null,null,null,null,null,null,null,null,null,null,null,null,null,null,null,null,null,null,null,null,null,null,null,null,null,null,null,null,null,null,null,null,null,null,null,null,null,null,null,null,null,null,null,null,null,null,null,null,null,null,null,null,null,null,null,null,null,null,null,null,null,null,null,null,null,null,null,null,null,null,null,null,null,null,null,null,null,null,null,null,null,null,null,null,null,null,null,null,null,null,null,null,null,null,null,null,null,null,null,null,null,null,null,null,null,null,null,null,null,null,null,null,null,null,null,null,null,null,null,null,null,null,null,null,null,null,null,null,null,null,null,null,null,null,null,null,null,null,null,null,null,null,null,null,null,null,null,null,null,null,null,null,null,null,null,null,null,null,null,null,null,null,null,null,null,null,null,null,null,null,null,null,null,"Altas, Bajas y/o Modificaciones","Tipo de Combustible y Productos Habilitados","Limite por Operación"]
[null,"12","N/GNC","Naftas / GNC",null,null,null,null,null,null,null,null,null,null,null,null,null,null,null,null,null,null,null,null,null,null,null,null,null,null,null,null,null,null,null,null,null,null,null,null,null,null,null,null,null,null,null,null,null,null,null,null,null,null,null,null,null,null,null,null,null,null,null,null,null,null,null,null,null,null,null,null,null,null,null,null,null,null,null,null,null,null,null,null,null,null,null,null,null,null,null,null,null,null,null,null,null,null,null,null,null,null,null,null,null,null,null,null,null,null,null,null,null,null,null,null,null,null,null,null,null,null,null,null,null,null,null,null,null,null,null,null,null,null,null,null,null,null,null,null,null,null,null,null,null,null,null,null,null,null,null,null,null,null,null,null,null,null,null,null,null,null,null,null,null,null,null,null,null,null,null,null,null,null,null,null,null,null,null,null,null,null,null,null,null,null,null,null,null,null,null,null,null,null,null,null,null,null,null,null,null,null,null,null,null,null,null,null,null,null,null,null,null,null,null,null,null,null,null,null,null,null,null,"Alta"," 01   G - -     Gasoil","02 Auto Gasolero 40 Lts"]
[null,"13","N/GNC/LUB","Naftas / GNC / Lubricantes",null,null,null,null,null,null,null,null,null,null,null,null,null,null,null,null,null,null,null,null,null,null,null,null,null,null,null,null,null,null,null,null,null,null,null,null,null,null,null,null,null,null,null,null,null,null,null,null,null,null,null,null,null,null,null,null,null,null,null,null,null,null,null,null,null,null,null,null,null,null,null,null,null,null,null,null,null,null,null,null,null,null,null,null,null,null,null,null,null,null,null,null,null,null,null,null,null,null,null,null,null,null,null,null,null,null,null,null,null,null,null,null,null,null,null,null,null,null,null,null,null,null,null,null,null,null,null,null,null,null,null,null,null,null,null,null,null,null,null,null,null,null,null,null,null,null,null,null,null,null,null,null,null,null,null,null,null,null,null,null,null,null,null,null,null,null,null,null,null,null,null,null,null,null,null,null,null,null,null,null,null,null,null,null,null,null,null,null,null,null,null,null,null,null,null,null,null,null,null,null,null,null,null,null,null,null,null,null,null,null,null,null,null,null,null,null,null,null,null,"Baja","02   GL -     Gasoil/Lubricantes","03 Auto Naftero    50 Lts"]
[null,"14","N/GNC/LUB/ACC/E/LYGOM","Naftas / GNC / Lubricantes / Accesorios / Engrases / Lavado y Gomería",null,null,null,null,null,null,null,null,null,null,null,null,null,null,null,null,null,null,null,null,null,null,null,null,null,null,null,null,null,null,null,null,null,null,null,null,null,null,null,null,null,null,null,null,null,null,null,null,null,null,null,null,null,null,null,null,null,null,null,null,null,null,null,null,null,null,null,null,null,null,null,null,null,null,null,null,null,null,null,null,null,null,null,null,null,null,null,null,null,null,null,null,null,null,null,null,null,null,null,null,null,null,null,null,null,null,null,null,null,null,null,null,null,null,null,null,null,null,null,null,null,null,null,null,null,null,null,null,null,null,null,null,null,null,null,null,null,null,null,null,null,null,null,null,null,null,null,null,null,null,null,null,null,null,null,null,null,null,null,null,null,null,null,null,null,null,null,null,null,null,null,null,null,null,null,null,null,null,null,null,null,null,null,null,null,null,null,null,null,null,null,null,null,null,null,null,null,null,null,null,null,null,null,null,null,null,null,null,null,null,null,null,null,null,null,null,null,null,null,"Modificación","03   G - P    Gasoil/Peaje","04 Camion 200 Lts."]
[null,"15","N/GNC/LUB/E/LYGOM","Naftas / GNC / Lubricantes / Engrases / Lavado y Gomería",null,null,null,null,null,null,null,null,null,null,null,null,null,null,null,null,null,null,null,null,null,null,null,null,null,null,null,null,null,null,null,null,null,null,null,null,null,null,null,null,null,null,null,null,null,null,null,null,null,null,null,null,null,null,null,null,null,null,null,null,null,null,null,null,null,null,null,null,null,null,null,null,null,null,null,null,null,null,null,null,null,null,null,null,null,null,null,null,null,null,null,null,null,null,null,null,null,null,null,null,null,null,null,null,null,null,null,null,null,null,null,null,null,null,null,null,null,null,null,null,null,null,null,null,null,null,null,null,null,null,null,null,null,null,null,null,null,null,null,null,null,null,null,null,null,null,null,null,null,null,null,null,null,null,null,null,null,null,null,null,null,null,null,null,null,null,null,null,null,null,null,null,null,null,null,null,null,null,null,null,null,null,null,null,null,null,null,null,null,null,null,null,null,null,null,null,null,null,null,null,null,null,null,null,null,null,null,null,null,null,null,null,null,null,null,null,null,null,null,"Reimpresión","04   GLP     Gasoil/Lubricantes/Peaje","05 Camion 500 Lts."]
[null,"16","N/GNC/LUB/ACC ","Naftas / GNC / Lubricantes / Accesorios",null,null,null,null,null,null,null,null,null,null,null,null,null,null,null,null,null,null,null,null,null,null,null,null,null,null,null,null,null,null,null,null,null,null,null,null,null,null,null,null,null,null,null,null,null,null,null,null,null,null,null,null,null,null,null,null,null,null,null,null,null,null,null,null,null,null,null,null,null,null,null,null,null,null,null,null,null,null,null,null,null,null,null,null,null,null,null,null,null,null,null,null,null,null,null,null,null,null,null,null,null,null,null,null,null,null,null,null,null,null,null,null,null,null,null,null,null,null,null,null,null,null,null,null,null,null,null,null,null,null,null,null,null,null,null,null,null,null,null,null,null,null,null,null,null,null,null,null,null,null,null,null,null,null,null,null,null,null,null,null,null,null,null,null,null,null,null,null,null,null,null,null,null,null,null,null,null,null,null,null,null,null,null,null,null,null,null,null,null,null,null,null,null,null,null,null,null,null,null,null,null,null,null,null,null,null,null,null,null,null,null,null,null,null,null,null,null,null,null,null,"05   GV -     Gasoil/Lubricantes/Accesorios","06 Camion 1000 Lts "]
[null,"17","N/GNC/E/LYGOM","Naftas / GNC / Engrases / Lavado y Gomería",null,null,null,null,null,null,null,null,null,null,null,null,null,null,null,null,null,null,null,null,null,null,null,null,null,null,null,null,null,null,null,null,null,null,null,null,null,null,null,null,null,null,null,null,null,null,null,null,null,null,null,null,null,null,null,null,null,null,null,null,null,null,null,null,null,null,null,null,null,null,null,null,null,null,null,null,null,null,null,null,null,null,null,null,null,null,null,null,null,null,null,null,null,null,null,null,null,null,null,null,null,null,null,null,null,null,null,null,null,null,null,null,null,null,null,null,null,null,null,null,null,null,null,null,null,null,null,null,null,null,null,null,null,null,null,null,null,null,null,null,null,null,null,null,null,null,null,null,null,null,null,null,null,null,null,null,null,null,null,null,null,null,null,null,null,null,null,null,null,null,null,null,null,null,null,null,null,null,null,null,null,null,null,null,null,null,null,null,null,null,null,null,null,null,null,null,null,null,null,null,null,null,null,null,null,null,null,null,null,null,null,null,null,null,null,null,null,null,null,null,"06   GVP    Gasoil/Lubricantes/Accesorios/Peaje","07 Camion   300 Lts. "]
[null,"18","N/GNC/LUB/S/ACC/E/LYGOM ","Naftas / GNC / Lubricantes / Tiendas YPF FULL / Accesorios / Engrases / Lavado y Gomería",null,null,null,null,null,null,null,null,null,null,null,null,null,null,null,null,null,null,null,null,null,null,null,null,null,null,null,null,null,null,null,null,null,null,null,null,null,null,null,null,null,null,null,null,null,null,null,null,null,null,null,null,null,null,null,null,null,null,null,null,null,null,null,null,null,null,null,null,null,null,null,null,null,null,null,null,null,null,null,null,null,null,null,null,null,null,null,null,null,null,null,null,null,null,null,null,null,null,null,null,null,null,null,null,null,null,null,null,null,null,null,null,null,null,null,null,null,null,null,null,null,null,null,null,null,null,null,null,null,null,null,null,null,null,null,null,null,null,null,null,null,null,null,null,null,null,null,null,null,null,null,null,null,null,null,null,null,null,null,null,null,null,null,null,null,null,null,null,null,null,null,null,null,null,null,null,null,null,null,null,null,null,null,null,null,null,null,null,null,null,null,null,null,null,null,null,null,null,null,null,null,null,null,null,null,null,null,null,null,null,null,null,null,null,null,null,null,null,null,null,"07   G - E    Gasoil/Engrase/Lavado-Gomería","08 Camion 1300 Lts."]
[null,"19","N/GNC/PE","Naftas / GNC / Peajes",null,null,null,null,null,null,null,null,null,null,null,null,null,null,null,null,null,null,null,null,null,null,null,null,null,null,null,null,null,null,null,null,null,null,null,null,null,null,null,null,null,null,null,null,null,null,null,null,null,null,null,null,null,null,null,null,null,null,null,null,null,null,null,null,null,null,null,null,null,null,null,null,null,null,null,null,null,null,null,null,null,null,null,null,null,null,null,null,null,null,null,null,null,null,null,null,null,null,null,null,null,null,null,null,null,null,null,null,null,null,null,null,null,null,null,null,null,null,null,null,null,null,null,null,null,null,null,null,null,null,null,null,null,null,null,null,null,null,null,null,null,null,null,null,null,null,null,null,null,null,null,null,null,null,null,null,null,null,null,null,null,null,null,null,null,null,null,null,null,null,null,null,null,null,null,null,null,null,null,null,null,null,null,null,null,null,null,null,null,null,null,null,null,null,null,null,null,null,null,null,null,null,null,null,null,null,null,null,null,null,null,null,null,null,null,null,null,null,null,null,"08   GLE     Gasoil/Lubricantes/Engrase/Lavado-Gomería","09 Camion 2000 Lts."]
[null,"20","N/GNC/LUB/PE","Naftas / GNC / Lubricantes / Peajes",null,null,null,null,null,null,null,null,null,null,null,null,null,null,null,null,null,null,null,null,null,null,null,null,null,null,null,null,null,null,null,null,null,null,null,null,null,null,null,null,null,null,null,null,null,null,null,null,null,null,null,null,null,null,null,null,null,null,null,null,null,null,null,null,null,null,null,null,null,null,null,null,null,null,null,null,null,null,null,null,null,null,null,null,null,null,null,null,null,null,null,null,null,null,null,null,null,null,null,null,null,null,null,null,null,null,null,null,null,null,null,null,null,null,null,null,null,null,null,null,null,null,null,null,null,null,null,null,null,null,null,null,null,null,null,null,null,null,null,null,null,null,null,null,null,null,null,null,null,null,null,null,null,null,null,null,null,null,null,null,null,null,null,null,null,null,null,null,null,null,null,null,null,null,null,null,null,null,null,null,null,null,null,null,null,null,null,null,null,null,null,null,null,null,null,null,null,null,null,null,null,null,null,null,null,null,null,null,null,null,null,null,null,null,null,null,null,null,null,null,"09   GTT     Gasoil/Lubricantes/Accesorios/Servicompras/Engrase/OtrosServ./Peaje/Lavado-Gomería"]
[null,"21","N/GNC/LUB/ACC/S/E/PE/OS/LYGOM","Naftas / GNC / Lubricantes Accesorios / Tiendas YPF FULL / Engrases / Peajes / Otros Servicios / Lavado y Gomería",null,null,null,null,null,null,null,null,null,null,null,null,null,null,null,null,null,null,null,null,null,null,null,null,null,null,null,null,null,null,null,null,null,null,null,null,null,null,null,null,null,null,null,null,null,null,null,null,null,null,null,null,null,null,null,null,null,null,null,null,null,null,null,null,null,null,null,null,null,null,null,null,null,null,null,null,null,null,null,null,null,null,null,null,null,null,null,null,null,null,null,null,null,null,null,null,null,null,null,null,null,null,null,null,null,null,null,null,null,null,null,null,null,null,null,null,null,null,null,null,null,null,null,null,null,null,null,null,null,null,null,null,null,null,null,null,null,null,null,null,null,null,null,null,null,null,null,null,null,null,null,null,null,null,null,null,null,null,null,null,null,null,null,null,null,null,null,null,null,null,null,null,null,null,null,null,null,null,null,null,null,null,null,null,null,null,null,null,null,null,null,null,null,null,null,null,null,null,null,null,null,null,null,null,null,null,null,null,null,null,null,null,null,null,null,null,null,null,null,null,"10   GLT     Gasoil/Lubricantes/Engrase/OtrosServ./Peaje/Lavado-Gomería"]
[null,"22","N/GNC/LUB/E/PE/OS/LYGOM","Naftas / GNC / Lubricantes / Engrases / Peajes / Otros Servicios / Lavado y Gomería",null,null,null,null,null,null,null,null,null,null,null,null,null,null,null,null,null,null,null,null,null,null,null,null,null,null,null,null,null,null,null,null,null,null,null,null,null,null,null,null,null,null,null,null,null,null,null,null,null,null,null,null,null,null,null,null,null,null,null,null,null,null,null,null,null,null,null,null,null,null,null,null,null,null,null,null,null,null,null,null,null,null,null,null,null,null,null,null,null,null,null,null,null,null,null,null,null,null,null,null,null,null,null,null,null,null,null,null,null,null,null,null,null,null,null,null,null,null,null,null,null,null,null,null,null,null,null,null,null,null,null,null,null,null,null,null,null,null,null,null,null,null,null,null,null,null,null,null,null,null,null,null,null,null,null,null,null,null,null,null,null,null,null,null,null,null,null,null,null,null,null,null,null,null,null,null,null,null,null,null,null,null,null,null,null,null,null,null,null,null,null,null,null,null,null,null,null,null,null,null,null,null,null,null,null,null,null,null,null,null,null,null,null,null,null,null,null,null,null,null,"11   G - T    Gasoil/Engrase/OtrosServ./Peaje/Lavado-Gomería"]
[null,"23","N/GNC/E/PE/OS/LYGOM","Naftas / GNC / Engrases / Peajes / Otros Servicios / Lavado y Gomería",null,null,null,null,null,null,null,null,null,null,null,null,null,null,null,null,null,null,null,null,null,null,null,null,null,null,null,null,null,null,null,null,null,null,null,null,null,null,null,null,null,null,null,null,null,null,null,null,null,null,null,null,null,null,null,null,null,null,null,null,null,null,null,null,null,null,null,null,null,null,null,null,null,null,null,null,null,null,null,null,null,null,null,null,null,null,null,null,null,null,null,null,null,null,null,null,null,null,null,null,null,null,null,null,null,null,null,null,null,null,null,null,null,null,null,null,null,null,null,null,null,null,null,null,null,null,null,null,null,null,null,null,null,null,null,null,null,null,null,null,null,null,null,null,null,null,null,null,null,null,null,null,null,null,null,null,null,null,null,null,null,null,null,null,null,null,null,null,null,null,null,null,null,null,null,null,null,null,null,null,null,null,null,null,null,null,null,null,null,null,null,null,null,null,null,null,null,null,null,null,null,null,null,null,null,null,null,null,null,null,null,null,null,null,null,null,null,null,null,null,"12   N - -     Nafta/GNC"]
[null,"40","NAFTAS SIN GNC","Naftas sin GNC",null,null,null,null,null,null,null,null,null,null,null,null,null,null,null,null,null,null,null,null,null,null,null,null,null,null,null,null,null,null,null,null,null,null,null,null,null,null,null,null,null,null,null,null,null,null,null,null,null,null,null,null,null,null,null,null,null,null,null,null,null,null,null,null,null,null,null,null,null,null,null,null,null,null,null,null,null,null,null,null,null,null,null,null,null,null,null,null,null,null,null,null,null,null,null,null,null,null,null,null,null,null,null,null,null,null,null,null,null,null,null,null,null,null,null,null,null,null,null,null,null,null,null,null,null,null,null,null,null,null,null,null,null,null,null,null,null,null,null,null,null,null,null,null,null,null,null,null,null,null,null,null,null,null,null,null,null,null,null,null,null,null,null,null,null,null,null,null,null,null,null,null,null,null,null,null,null,null,null,null,null,null,null,null,null,null,null,null,null,null,null,null,null,null,null,null,null,null,null,null,null,null,null,null,null,null,null,null,null,null,null,null,null,null,null,null,null,null,null,null,"13   NL -     Nafta/GNC/Lubricantes"]
[null,"41","NAFTAS Y LUBRICANTES SIN GNC","Naftas y Lubricantes sin GNC",null,null,null,null,null,null,null,null,null,null,null,null,null,null,null,null,null,null,null,null,null,null,null,null,null,null,null,null,null,null,null,null,null,null,null,null,null,null,null,null,null,null,null,null,null,null,null,null,null,null,null,null,null,null,null,null,null,null,null,null,null,null,null,null,null,null,null,null,null,null,null,null,null,null,null,null,null,null,null,null,null,null,null,null,null,null,null,null,null,null,null,null,null,null,null,null,null,null,null,null,null,null,null,null,null,null,null,null,null,null,null,null,null,null,null,null,null,null,null,null,null,null,null,null,null,null,null,null,null,null,null,null,null,null,null,null,null,null,null,null,null,null,null,null,null,null,null,null,null,null,null,null,null,null,null,null,null,null,null,null,null,null,null,null,null,null,null,null,null,null,null,null,null,null,null,null,null,null,null,null,null,null,null,null,null,null,null,null,null,null,null,null,null,null,null,null,null,null,null,null,null,null,null,null,null,null,null,null,null,null,null,null,null,null,null,null,null,null,null,null,"14   NVE     Nafta/GNC/Lubrinates/Accesorios/Engrase/Lavado-Gomería"]
[null,"43","NAFTA SUPER","Nafta Super"]
[null,"44","NAFTA INFINIA","Nafta Infinia"]
[null,"46","NAFTA SUPER/ LUB","Nafta Super / Lubricantes"]
[null,"63"," N/GNC/LUB/ACC","Naftas / GNC / Lubricantes / Accesorios"]
[null,"Todos los combustibles"]
[null,"Código de Producto","Descripción","Descripción Larga"]
[null,"24","GO- D500/INFINIA DIESEL/N/GNC/KE / AZUL 32","Gasoil - D500 / Infinia Diesel / Naftas / GNC / Kerosene / Azul 32",null,null,null,null,null,null,null,null,null,null,null,null,null,null,null,null,null,null,null,null,null,null,null,null,null,null,null,null,null,null,null,null,null,null,null,null,null,null,null,null,null,null,null,null,null,null,null,null,null,null,null,null,null,null,null,null,null,null,null,null,null,null,null,null,null,null,null,null,null,null,null,null,null,null,null,null,null,null,null,null,null,null,null,null,null,null,null,null,null,null,null,null,null,null,null,null,null,null,null,null,null,null,null,null,null,null,null,null,null,null,null,null,null,null,null,null,null,null,null,null,null,null,null,null,null,null,null,null,null,null,null,null,null,null,null,null,null,null,null,null,null,null,null,null,null,null,null,null,null,null,null,null,null,null,null,null,null,null,null,null,null,null,null,null,null,null,null,null,null,null,null,null,null,null,null,null,null,null,null,null,null,null,null,null,null,null,null,null,null,null,null,null,null,null,null,null,null,null,null,null,null,null,null,null,null,null,null,null,null,null,null,null,null,null,null,null,null,null,null,null,"17   N - E     Nafta/GNC/Engrase/Lavado-Gomería"]
[null,"25","GO- D500/INFINIA DIESEL/N/GNC/KE /LUB / AZUL 32","Gasoil - D500 / Infinia Diesel / Naftas / GNC / Kerosene / Lubricantes / Azul 32",null,null,null,null,null,null,null,null,null,null,null,null,null,null,null,null,null,null,null,null,null,null,null,null,null,null,null,null,null,null,null,null,null,null,null,null,null,null,null,null,null,null,null,null,null,null,null,null,null,null,null,null,null,null,null,null,null,null,null,null,null,null,null,null,null,null,null,null,null,null,null,null,null,null,null,null,null,null,null,null,null,null,null,null,null,null,null,null,null,null,null,null,null,null,null,null,null,null,null,null,null,null,null,null,null,null,null,null,null,null,null,null,null,null,null,null,null,null,null,null,null,null,null,null,null,null,null,null,null,null,null,null,null,null,null,null,null,null,null,null,null,null,null,null,null,null,null,null,null,null,null,null,null,null,null,null,null,null,null,null,null,null,null,null,null,null,null,null,null,null,null,null,null,null,null,null,null,null,null,null,null,null,null,null,null,null,null,null,null,null,null,null,null,null,null,null,null,null,null,null,null,null,null,null,null,null,null,null,null,null,null,null,null,null,null,null,null,null,null,null,"18   NTE      Nafta/GNC/Lubricantes/Servicompras/Accesorios/Engrase/Lavado-Gomería "]
[null,"26","GO- D500/INFINIA DIESEL/N/GNC/KE/LUB/ACC/E/LYGOM / AZUL 32","Gasoil - D500 / Infinia Diesel / Naftas / GNC / Kerosene / Lubricantes / Accesorios / Engrases / Lavado y Gomería / Azul 32",null,null,null,null,null,null,null,null,null,null,null,null,null,null,null,null,null,null,null,null,null,null,null,null,null,null,null,null,null,null,null,null,null,null,null,null,null,null,null,null,null,null,null,null,null,null,null,null,null,null,null,null,null,null,null,null,null,null,null,null,null,null,null,null,null,null,null,null,null,null,null,null,null,null,null,null,null,null,null,null,null,null,null,null,null,null,null,null,null,null,null,null,null,null,null,null,null,null,null,null,null,null,null,null,null,null,null,null,null,null,null,null,null,null,null,null,null,null,null,null,null,null,null,null,null,null,null,null,null,null,null,null,null,null,null,null,null,null,null,null,null,null,null,null,null,null,null,null,null,null,null,null,null,null,null,null,null,null,null,null,null,null,null,null,null,null,null,null,null,null,null,null,null,null,null,null,null,null,null,null,null,null,null,null,null,null,null,null,null,null,null,null,null,null,null,null,null,null,null,null,null,null,null,null,null,null,null,null,null,null,null,null,null,null,null,null,null,null,null,null,"19   N - P     Nafta/GNC/Peaje"]
[null,"27","GO- D500/INFINIA DIESEL/N/GNC/KE/LUB/E/LYGOM / AZUL 32","Gasoil - D500 / Infinia Diesel / Naftas / GNC / Kerosene / Lubricantes / Engrases / Lavado y Gomería / Azul 32",null,null,null,null,null,null,null,null,null,null,null,null,null,null,null,null,null,null,null,null,null,null,null,null,null,null,null,null,null,null,null,null,null,null,null,null,null,null,null,null,null,null,null,null,null,null,null,null,null,null,null,null,null,null,null,null,null,null,null,null,null,null,null,null,null,null,null,null,null,null,null,null,null,null,null,null,null,null,null,null,null,null,null,null,null,null,null,null,null,null,null,null,null,null,null,null,null,null,null,null,null,null,null,null,null,null,null,null,null,null,null,null,null,null,null,null,null,null,null,null,null,null,null,null,null,null,null,null,null,null,null,null,null,null,null,null,null,null,null,null,null,null,null,null,null,null,null,null,null,null,null,null,null,null,null,null,null,null,null,null,null,null,null,null,null,null,null,null,null,null,null,null,null,null,null,null,null,null,null,null,null,null,null,null,null,null,null,null,null,null,null,null,null,null,null,null,null,null,null,null,null,null,null,null,null,null,null,null,null,null,null,null,null,null,null,null,null,null,null,null,"20   NLP      Nafta/GNC/Lubricantes/Peaje"]
[null,"28","GO- D500/INFINIA DIESEL/N/GNC/KE/E/LYGOM / AZUL 32","Gasoil - D500 / Infinia Diesel / Naftas / GNC / Kerosene / Engrases / Lavado y Gomería / Azul 32",null,null,null,null,null,null,null,null,null,null,null,null,null,null,null,null,null,null,null,null,null,null,null,null,null,null,null,null,null,null,null,null,null,null,null,null,null,null,null,null,null,null,null,null,null,null,null,null,null,null,null,null,null,null,null,null,null,null,null,null,null,null,null,null,null,null,null,null,null,null,null,null,null,null,null,null,null,null,null,null,null,null,null,null,null,null,null,null,null,null,null,null,null,null,null,null,null,null,null,null,null,null,null,null,null,null,null,null,null,null,null,null,null,null,null,null,null,null,null,null,null,null,null,null,null,null,null,null,null,null,null,null,null,null,null,null,null,null,null,null,null,null,null,null,null,null,null,null,null,null,null,null,null,null,null,null,null,null,null,null,null,null,null,null,null,null,null,null,null,null,null,null,null,null,null,null,null,null,null,null,null,null,null,null,null,null,null,null,null,null,null,null,null,null,null,null,null,null,null,null,null,null,null,null,null,null,null,null,null,null,null,null,null,null,null,null,null,null,null,null,"21   NTT      Nafta/GNC/Lubricantes/Accesorios/Servicompras/Engrase/Peaje/OtrosServ./Lavado-Gomería"]
[null,"29","GO- D500/INFINIA DIESEL/N/GNC/KE/LUB/ACC / AZUL 32","Gasoil - D500 / Infinia Diesel / Naftas / GNC / Kerosene / Lubricantes / Accesorios / Azul 32",null,null,null,null,null,null,null,null,null,null,null,null,null,null,null,null,null,null,null,null,null,null,null,null,null,null,null,null,null,null,null,null,null,null,null,null,null,null,null,null,null,null,null,null,null,null,null,null,null,null,null,null,null,null,null,null,null,null,null,null,null,null,null,null,null,null,null,null,null,null,null,null,null,null,null,null,null,null,null,null,null,null,null,null,null,null,null,null,null,null,null,null,null,null,null,null,null,null,null,null,null,null,null,null,null,null,null,null,null,null,null,null,null,null,null,null,null,null,null,null,null,null,null,null,null,null,null,null,null,null,null,null,null,null,null,null,null,null,null,null,null,null,null,null,null,null,null,null,null,null,null,null,null,null,null,null,null,null,null,null,null,null,null,null,null,null,null,null,null,null,null,null,null,null,null,null,null,null,null,null,null,null,null,null,null,null,null,null,null,null,null,null,null,null,null,null,null,null,null,null,null,null,null,null,null,null,null,null,null,null,null,null,null,null,null,null,null,null,null,null,"22   NLT      Nafta/GNC/Lubricantes/Engrase/Peaje/OtrosServ./Lavado-Gomería"]
[null,"30","GO- D500/INFINIA DIESEL/N/GNC/KE/LUB/ACC/S/E/LYGOM / AZUL 32","Gasoil - D500 / Infinia Diesel / Naftas / GNC / Kerosene / Lubricantes / Accesorios / Tiendas YPF FULL / Engrases / Lavado y Gomerías / Azul 32 ",null,null,null,null,null,null,null,null,null,null,null,null,null,null,null,null,null,null,null,null,null,null,null,null,null,null,null,null,null,null,null,null,null,null,null,null,null,null,null,null,null,null,null,null,null,null,null,null,null,null,null,null,null,null,null,null,null,null,null,null,null,null,null,null,null,null,null,null,null,null,null,null,null,null,null,null,null,null,null,null,null,null,null,null,null,null,null,null,null,null,null,null,null,null,null,null,null,null,null,null,null,null,null,null,null,null,null,null,null,null,null,null,null,null,null,null,null,null,null,null,null,null,null,null,null,null,null,null,null,null,null,null,null,null,null,null,null,null,null,null,null,null,null,null,null,null,null,null,null,null,null,null,null,null,null,null,null,null,null,null,null,null,null,null,null,null,null,null,null,null,null,null,null,null,null,null,null,null,null,null,null,null,null,null,null,null,null,null,null,null,null,null,null,null,null,null,null,null,null,null,null,null,null,null,null,null,null,null,null,null,null,null,null,null,null,null,null,null,null,null,"23   N - T     Nafta/GNC/Engrase/Peaje/OtrosServ./Lavado-Gomería"]
[null,"31","GO- D500/INFINIA DIESEL/N/GNC/KE/PE / AZUL 32","Gasoil - D500 / Infinia Diesel / Naftas / GNC / Kerosene / Peajes / Azul 32",null,null,null,null,null,null,null,null,null,null,null,null,null,null,null,null,null,null,null,null,null,null,null,null,null,null,null,null,null,null,null,null,null,null,null,null,null,null,null,null,null,null,null,null,null,null,null,null,null,null,null,null,null,null,null,null,null,null,null,null,null,null,null,null,null,null,null,null,null,null,null,null,null,null,null,null,null,null,null,null,null,null,null,null,null,null,null,null,null,null,null,null,null,null,null,null,null,null,null,null,null,null,null,null,null,null,null,null,null,null,null,null,null,null,null,null,null,null,null,null,null,null,null,null,null,null,null,null,null,null,null,null,null,null,null,null,null,null,null,null,null,null,null,null,null,null,null,null,null,null,null,null,null,null,null,null,null,null,null,null,null,null,null,null,null,null,null,null,null,null,null,null,null,null,null,null,null,null,null,null,null,null,null,null,null,null,null,null,null,null,null,null,null,null,null,null,null,null,null,null,null,null,null,null,null,null,null,null,null,null,null,null,null,null,null,null,null,null,null,null,"24   T - -     Gasoil/Nafta/GNC/Kerosene"]
[null,"32","GO- D500/INFINIA DIESEL/N/GNC/KE/LUB/PE/AZUL 32","Gasoil - D500 / Infinia Diesel / Naftas / GNC / Kerosene / Lubricantes / Peajes / ",null,null,null,null,null,null,null,null,null,null,null,null,null,null,null,null,null,null,null,null,null,null,null,null,null,null,null,null,null,null,null,null,null,null,null,null,null,null,null,null,null,null,null,null,null,null,null,null,null,null,null,null,null,null,null,null,null,null,null,null,null,null,null,null,null,null,null,null,null,null,null,null,null,null,null,null,null,null,null,null,null,null,null,null,null,null,null,null,null,null,null,null,null,null,null,null,null,null,null,null,null,null,null,null,null,null,null,null,null,null,null,null,null,null,null,null,null,null,null,null,null,null,null,null,null,null,null,null,null,null,null,null,null,null,null,null,null,null,null,null,null,null,null,null,null,null,null,null,null,null,null,null,null,null,null,null,null,null,null,null,null,null,null,null,null,null,null,null,null,null,null,null,null,null,null,null,null,null,null,null,null,null,null,null,null,null,null,null,null,null,null,null,null,null,null,null,null,null,null,null,null,null,null,null,null,null,null,null,null,null,null,null,null,null,null,null,null,null,null,null,"25   TL -     Gasoil/Nafta/GNC/Kerosene /Lubricantes"]
[null,"33","GO- D500/INFINIA DIESEL/N/GNC/KE/LUB/ACC/S/E/PE/OS/LYGOM/AZUL 32","Gasoil - D500 / Infinia Diesel / Naftas / GNC / Kerosene / Lubricantes / Accesorios / Tiendas YPF FULL / Engrases / Peajes / Otros Servicios / Lavado y Gomería / Azul 32",null,null,null,null,null,null,null,null,null,null,null,null,null,null,null,null,null,null,null,null,null,null,null,null,null,null,null,null,null,null,null,null,null,null,null,null,null,null,null,null,null,null,null,null,null,null,null,null,null,null,null,null,null,null,null,null,null,null,null,null,null,null,null,null,null,null,null,null,null,null,null,null,null,null,null,null,null,null,null,null,null,null,null,null,null,null,null,null,null,null,null,null,null,null,null,null,null,null,null,null,null,null,null,null,null,null,null,null,null,null,null,null,null,null,null,null,null,null,null,null,null,null,null,null,null,null,null,null,null,null,null,null,null,null,null,null,null,null,null,null,null,null,null,null,null,null,null,null,null,null,null,null,null,null,null,null,null,null,null,null,null,null,null,null,null,null,null,null,null,null,null,null,null,null,null,null,null,null,null,null,null,null,null,null,null,null,null,null,null,null,null,null,null,null,null,null,null,null,null,null,null,null,null,null,null,null,null,null,null,null,null,null,null,null,null,null,null,null,null,null,"26   TVE     Gasoil/Nafta/GNC/Kerosene/Lubricantes/Accesorios/Engrase/Lavado-Gomería"]
[null,"34","GO- D500/INFINIA DIESEL/N/GNC/KE/LUB/E/PE/OS/LYGOM/AZUL 32","Gasoil - D500 / Infinia Diesel / Naftas / GNC / Kerosene / Lubricantes / Engrases / Peajes / Otros Servicios / Lavado y Gomería / Azul 32",null,null,null,null,null,null,null,null,null,null,null,null,null,null,null,null,null,null,null,null,null,null,null,null,null,null,null,null,null,null,null,null,null,null,null,null,null,null,null,null,null,null,null,null,null,null,null,null,null,null,null,null,null,null,null,null,null,null,null,null,null,null,null,null,null,null,null,null,null,null,null,null,null,null,null,null,null,null,null,null,null,null,null,null,null,null,null,null,null,null,null,null,null,null,null,null,null,null,null,null,null,null,null,null,null,null,null,null,null,null,null,null,null,null,null,null,null,null,null,null,null,null,null,null,null,null,null,null,null,null,null,null,null,null,null,null,null,null,null,null,null,null,null,null,null,null,null,null,null,null,null,null,null,null,null,null,null,null,null,null,null,null,null,null,null,null,null,null,null,null,null,null,null,null,null,null,null,null,null,null,null,null,null,null,null,null,null,null,null,null,null,null,null,null,null,null,null,null,null,null,null,null,null,null,null,null,null,null,null,null,null,null,null,null,null,null,null,null,null,null,"27   TLE     Gasoil/Nafta/GNC/Kerosene/Lubricantes/Engrase/Lavado-Gomería"]
[null,"35","GO- D500/INFINIA DIESEL/N/GNC/KE/E/PE/OS/LYGOM/AZUL 32","Gasoil - D500 / Infinia Diesel / Naftas / GNC / Kerosene / Peajes / Otros Servicios / Lavado y Gomería / Azul 32"]
[null,"38","GO/N (Sólo para tarjetas Ford)","Gasoil / Naftas (Sólo para tarjetas FORD)"]
[null,"85","GASOIL-KEROSENE / AZUL 32","Gasoil / Kerosene / Azul 32"]
[null,"86","GASOIL-KEROSENE / LUBRICANTES / AZUL 32","Gasoil / Kerosene / Lubricantes / Azul 32"]
[null,"87","GASOIL-SUPER- NORMAL / AZUL 32","Gasoil / Naftas / Azul 32",null,null,null,null,null,null,null,null,null,null,null,null,null,null,null,null,null,null,null,null,null,null,null,null,null,null,null,null,null,null,null,null,null,null,null,null,null,null,null,null,null,null,null,null,null,null,null,null,null,null,null,null,null,null,null,null,null,null,null,null,null,null,null,null,null,null,null,null,null,null,null,null,null,null,null,null,null,null,null,null,null,null,null,null,null,null,null,null,null,null,null,null,null,null,null,null,null,null,null,null,null,null,null,null,null,null,null,null,null,null,null,null,null,null,null,null,null,null,null,null,null,null,null,null,null,null,null,null,null,null,null,null,null,null,null,null,null,null,null,null,null,null,null,null,null,null,null,null,null,null,null,null,null,null,null,null,null,null,null,null,null,null,null,null,null,null,null,null,null,null,null,null,null,null,null,null,null,null,null,null,null,null,null,null,null,null,null,null,null,null,null,null,null,null,null,null,null,null,null,null,null,null,null,null,null,null,null,null,null,null,null,null,null,null,null,null,null,"28   T - E     Gasoil/Nafta/GNC/Kerosene/Engrase/Lavado-Gomería"]
[null,"88","GASOIL-SUPER- NORMAL-LUBRICANTES / AZUL 32","Gasoil / Naftas / Lubricantes / Azul 32",null,null,null,null,null,null,null,null,null,null,null,null,null,null,null,null,null,null,null,null,null,null,null,null,null,null,null,null,null,null,null,null,null,null,null,null,null,null,null,null,null,null,null,null,null,null,null,null,null,null,null,null,null,null,null,null,null,null,null,null,null,null,null,null,null,null,null,null,null,null,null,null,null,null,null,null,null,null,null,null,null,null,null,null,null,null,null,null,null,null,null,null,null,null,null,null,null,null,null,null,null,null,null,null,null,null,null,null,null,null,null,null,null,null,null,null,null,null,null,null,null,null,null,null,null,null,null,null,null,null,null,null,null,null,null,null,null,null,null,null,null,null,null,null,null,null,null,null,null,null,null,null,null,null,null,null,null,null,null,null,null,null,null,null,null,null,null,null,null,null,null,null,null,null,null,null,null,null,null,null,null,null,null,null,null,null,null,null,null,null,null,null,null,null,null,null,null,null,null,null,null,null,null,null,null,null,null,null,null,null,null,null,null,null,null,null,null,"29   TV -      Gasoil/Nafta/GNC/Kerosene/Lubricantes/Accesorios  "]
[null,"Tienda",null,null,null,null,null,null,null,null,null,null,null,null,null,null,null,null,null,null,null,null,null,null,null,null,null,null,null,null,null,null,null,null,null,null,null,null,null,null,null,null,null,null,null,null,null,null,null,null,null,null,null,null,null,null,null,null,null,null,null,null,null,null,null,null,null,null,null,null,null,null,null,null,null,null,null,null,null,null,null,null,null,null,null,null,null,null,null,null,null,null,null,null,null,null,null,null,null,null,null,null,null,null,null,null,null,null,null,null,null,null,null,null,null,null,null,null,null,null,null,null,null,null,null,null,null,null,null,null,null,null,null,null,null,null,null,null,null,null,null,null,null,null,null,null,null,null,null,null,null,null,null,null,null,null,null,null,null,null,null,null,null,null,null,null,null,null,null,null,null,null,null,null,null,null,null,null,null,null,null,null,null,null,null,null,null,null,null,null,null,null,null,null,null,null,null,null,null,null,null,null,null,null,null,null,null,null,null,null,null,null,null,null,null,null,null,null,null,null,null,null,null,null,"30   TTE      Gasoil/Nafta/GNC/Kerosene/Lubricantes/Accesorios/Servicompras/Engrase/Lavado-Gomería"]
[null,"Código de Producto","Descripción","Descripción Larga"]
[null,"39","Tiendas YPF Full","Tiendas YPF FULL"]
[null,"Aclaración de abreviaturas"]
[null,"GO","Gasoil",null,null,null,null,null,null,null,null,null,null,null,null,null,null,null,null,null,null,null,null,null,null,null,null,null,null,null,null,null,null,null,null,null,null,null,null,null,null,null,null,null,null,null,null,null,null,null,null,null,null,null,null,null,null,null,null,null,null,null,null,null,null,null,null,null,null,null,null,null,null,null,null,null,null,null,null,null,null,null,null,null,null,null,null,null,null,null,null,null,null,null,null,null,null,null,null,null,null,null,null,null,null,null,null,null,null,null,null,null,null,null,null,null,null,null,null,null,null,null,null,null,null,null,null,null,null,null,null,null,null,null,null,null,null,null,null,null,null,null,null,null,null,null,null,null,null,null,null,null,null,null,null,null,null,null,null,null,null,null,null,null,null,null,null,null,null,null,null,null,null,null,null,null,null,null,null,null,null,null,null,null,null,null,null,null,null,null,null,null,null,null,null,null,null,null,null,null,null,null,null,null,null,null,null,null,null,null,null,null,null,null,null,null,null,null,null,null,null,null,null,null,"33   TTT      Gasoil/Nafta/GNC/Kerosene/Lub/Accesorios/Servicompras/Engrase/Peaje/OtrosServ/Lavado-Gomería"]
[null,"B","INFINIA DIESEL",null,null,null,null,null,null,null,null,null,null,null,null,null,null,null,null,null,null,null,null,null,null,null,null,null,null,null,null,null,null,null,null,null,null,null,null,null,null,null,null,null,null,null,null,null,null,null,null,null,null,null,null,null,null,null,null,null,null,null,null,null,null,null,null,null,null,null,null,null,null,null,null,null,null,null,null,null,null,null,null,null,null,null,null,null,null,null,null,null,null,null,null,null,null,null,null,null,null,null,null,null,null,null,null,null,null,null,null,null,null,null,null,null,null,null,null,null,null,null,null,null,null,null,null,null,null,null,null,null,null,null,null,null,null,null,null,null,null,null,null,null,null,null,null,null,null,null,null,null,null,null,null,null,null,null,null,null,null,null,null,null,null,null,null,null,null,null,null,null,null,null,null,null,null,null,null,null,null,null,null,null,null,null,null,null,null,null,null,null,null,null,null,null,null,null,null,null,null,null,null,null,null,null,null,null,null,null,null,null,null,null,null,null,null,null,null,null,null,null,null,null,"35   T - T     Gasoil/Nafta/GNC/Kerosene/Engrase/Peaje/OtrosServ./Lavado-Gomería"]
[null,"N","Naftas",null,null,null,null,null,null,null,null,null,null,null,null,null,null,null,null,null,null,null,null,null,null,null,null,null,null,null,null,null,null,null,null,null,null,null,null,null,null,null,null,null,null,null,null,null,null,null,null,null,null,null,null,null,null,null,null,null,null,null,null,null,null,null,null,null,null,null,null,null,null,null,null,null,null,null,null,null,null,null,null,null,null,null,null,null,null,null,null,null,null,null,null,null,null,null,null,null,null,null,null,null,null,null,null,null,null,null,null,null,null,null,null,null,null,null,null,null,null,null,null,null,null,null,null,null,null,null,null,null,null,null,null,null,null,null,null,null,null,null,null,null,null,null,null,null,null,null,null,null,null,null,null,null,null,null,null,null,null,null,null,null,null,null,null,null,null,null,null,null,null,null,null,null,null,null,null,null,null,null,null,null,null,null,null,null,null,null,null,null,null,null,null,null,null,null,null,null,null,null,null,null,null,null,null,null,null,null,null,null,null,null,null,null,null,null,null,null,null,null,null,null,"37   GEE     Gasoil/Lubricantes/Accesorios/Engrase/Lavado-Gomería"]
[null,"GNC","GNC"]
[null,"KE","Kerosene"]
[null,"LUB","Lubricantes"]
[null,"ACC","Accesorios"]
[null,"E","Engrases"]
[null,"OS","Otros Servicios"]
[null,"S","Tiendas YPF FULL"]
[null,"PE","Peajes"]
[null,"L Y GOM","Lavado y Gomeria"]

{"sheet":"Anexo Comercial","index":4,"n_rows":52,"n_cols":25,"rows_kept":52,"cut":false,"hidden":true,"merged":[[7,2,7,14],[7,17,7,21],[13,2,13,14],[16,2,16,6],[30,2,30,9],[27,2,27,7],[16,18,16,20],[19,2,19,11],[19,13,19,22],[22,2,22,11],[22,13,22,22],[16,8,16,16],[10,4,10,12],[10,2,10,3],[30,11,30,18],[27,9,27,14],[48,7,48,8],[48,14,48,15],[52,1,52,24],[39,2,39,6],[43,2,43,3],[38,17,38,20],[38,11,38,15],[43,15,43,17],[33,5,33,12],[33,2,33,3],[38,2,38,5],[38,7,38,9],[43,5,43,9],[43,11,43,12]]}
[]
[]
[]
[null,"Anexo Comercial"]
[]
[null,null,"Datos Empresa /Persona"]
[]
[null,null,{"$f":"Datos_Empresa_Persona!C8","v":0},null,null,null,null,null,null,null,null,null,null,null,null,null,{"$f":"Datos_Empresa_Persona!U8","v":"CUIT"},{"$f":"Datos_Empresa_Persona!W8","v":0}]
[null,null,"Razón Social (o nombre y apellido)",null,null,null,null,null,null,null,null,null,null,null,null,null,"Tipo y Número de Documento"]
[]
[null,null,{"$f":"IFERROR(VLOOKUP(E11,Parámetros!AG3:AH24,2,FALSE),\"\")","v":""},null,{"$f":"Datos_de_Tarjetas!F6","v":0}]
[null,null,"Tipo de Flota"]
[]
[null,null,{"$f":"Datos_Empresa_Persona!C11","v":0}]
[null,null,"Domicilio"]
[]
[null,null,{"$f":"Datos_Empresa_Persona!O11","v":0},null,null,null,null,null,{"$f":"Datos_Empresa_Persona!W11","v":0},null,null,null,null,null,null,null,null,null,{"$f":"Datos_Empresa_Persona!AK11","v":""}]
[null,null,"Provincia",null,null,null,null,null,"Localidad",null,null,null,null,null,null,null,null,null,"Código Postal"]
[]
[null,null,{"$f":"Datos_Empresa_Persona!C25","v":0},null,null,null,null,null,null,null,null,null,null,{"$f":"Datos_Empresa_Persona!C28","v":0}]
[null,null,"Persona de contacto autorizado 1",null,null,null,null,null,null,null,null,null,null,"E-mail contacto 1"]
[]
[null,null,{"$f":"Datos_Empresa_Persona!C31","v":0},null,null,null,null,null,null,null,null,null,null,{"$f":"Datos_Empresa_Persona!C34","v":0}]
[null,null,"Persona de contacto autorizado 2",null,null,null,null,null,null,null,null,null,null,"E-mail contacto 2"]
[]
[null,null,"Datos Comerciales"]
[]
[null,null,{"$f":"IFERROR(VLOOKUP(Datos_Empresa_Persona!W11,Parámetros!B2:H2948,5,FALSE),\"\")","v":""}]
[null,null,"Región",null,null,null,null,null,null,"Negocio"]
[]
[null,null,{"$f":"IF(J28=\"TRANSPORTE\",IFERROR(VLOOKUP(Datos_Empresa_Persona!W11,Parámetros!B2:H2948,7,FALSE),\"\"),\"\")","v":""}]
[null,null,"Representante Comercial Transporte",null,null,null,null,null,null,null,null,"Otro RRCC"]
[]
[null,null,null,null,null,{"$f":"IFERROR(VLOOKUP(C34,Parámetros!AT3:BH1600,12,FALSE),\"\")","v":""}]
[null,null,"APIES",null,null,"Representante Comercial de la ES"]
[]
[null,null,"Datos de Facturación / Crédito"]
[]
[null,null,{"$f":"IFERROR(Datos_Empresa_Persona!L39,\"\")","v":0},null,null,null,null,"QUINCENAL",null,null,null,"QI-10 (10mo día calendario)",null,null,null,null,null,170000,null,null,null,"% 93,7"]
[null,null,"Crédito Solicitado",null,null,null,null,"Ciclo Facturación",null,null,null,"Plazo  de Pago",null,null,null,null,null,"Limite de consumo mensual"]
[]
[null,null,"Tarifa"]
[]
[null,null,"TARIFA",null,null,"PERFIL TARIFA 41    ",null,null,null,null,{"$f":"IF(V40<>\"\",\"\",IF(R40=\"Tarifa\",\"* Seleccione Perfil de Tarifa\",IF(R40<>\"Tarifa\",\"\")))","v":""},"SI"]
[null,null,"Precio",null,null,"Perfil de Precio",null,null,null,null,null,"Perfil Canón",null,null,null,"Fecha de Inicio Canón (a 90 días)"]
[null,null,null,{"$f":"IF(C44=\"\",\"* Ingresar dato obligatorio\",\"\")","v":""},null,null,null,null,null,null,{"$f":"IF(F44<>\"\",\"\",IF(C44=\"Tarifa\",\"* Seleccione Perfil de Tarifa\",IF(C44<>\"Tarifa\",\"\")))","v":""}]
[null,null,"Servicios"]
[]
[null,null,"Detalle de Transacciones",null,null,null,null,"DIGITAL",null,null,null,"Listado de Pines",null,null,"DIGITAL",null,null,null,null,null,"Odómetro","SI"]
[]
[]
[null,null,null,null,null,null,null,null,null,null,null,null,null,null,null,null,null,null,null,null,null,null,null,null,"Versión 1.2.2019"]

{"sheet":"MacrosTarjetas","index":5,"n_rows":1004,"n_cols":11,"rows_kept":1004,"cut":false,"hidden":true,"merged":[[1,2,1,3]]}
[]
[null,"Contrato Solsys",1069470000]
[]
[null,"Contrato Solsys","Tipo de Matricula","Matricula","Limite por OP","Prod","Uso Internac.","Capac. TK","Marca","Modelo","Limite mensual"]
[null,{"$f":"$C$2","v":1069470000},{"$f":"IFERROR(VLOOKUP(Datos_de_Tarjetas!D15,Parámetros!$AD$12:$AE$17,2,FALSE),\"\")","v":""},{"$f":"IF(Datos_de_Tarjetas!G15=0,\"\",Datos_de_Tarjetas!G15)","v":""},{"$f":"IFERROR(VLOOKUP(Datos_de_Tarjetas!K15,Parámetros!$AJ$3:$AK$13,2,FALSE),\"\")","v":""},{"$f":"IFERROR(VLOOKUP(Datos_de_Tarjetas!J15,Parámetros!$AQ$3:$AR$57,2,FALSE),\"\")","v":""},null,{"$f":"IF(Datos_de_Tarjetas!L15=0,\"\",Datos_de_Tarjetas!L15)","v":""},{"$f":"IF(Datos_de_Tarjetas!M15=0,\"\",Datos_de_Tarjetas!M15)","v":""},{"$f":"IF(Datos_de_Tarjetas!N15=0,\"\",Datos_de_Tarjetas!N15)","v":""},{"$f":"IFERROR(VLOOKUP(Datos_de_Tarjetas!P15,Parámetros!$AM$3:$AN$90,2,FALSE),\"\")","v":""}]
[null,{"$f":"$C$2","v":1069470000},{"$f":"IFERROR(VLOOKUP(Datos_de_Tarjetas!D16,Parámetros!$AD$12:$AE$17,2,FALSE),\"\")","v":""},{"$f":"IF(Datos_de_Tarjetas!G16=0,\"\",Datos_de_Tarjetas!G16)","v":""},{"$f":"IFERROR(VLOOKUP(Datos_de_Tarjetas!K16,Parámetros!$AJ$3:$AK$13,2,FALSE),\"\")","v":""},{"$f":"IFERROR(VLOOKUP(Datos_de_Tarjetas!J16,Parámetros!$AQ$3:$AR$57,2,FALSE),\"\")","v":""},null,{"$f":"IF(Datos_de_Tarjetas!L16=0,\"\",Datos_de_Tarjetas!L16)","v":""},{"$f":"IF(Datos_de_Tarjetas!M16=0,\"\",Datos_de_Tarjetas!M16)","v":""},{"$f":"IF(Datos_de_Tarjetas!N16=0,\"\",Datos_de_Tarjetas!N16)","v":""},{"$f":"IFERROR(VLOOKUP(Datos_de_Tarjetas!P16,Parámetros!$AM$3:$AN$90,2,FALSE),\"\")","v":""}]
[null,{"$f":"$C$2","v":1069470000},{"$f":"IFERROR(VLOOKUP(Datos_de_Tarjetas!D17,Parámetros!$AD$12:$AE$17,2,FALSE),\"\")","v":""},{"$f":"IF(Datos_de_Tarjetas!G17=0,\"\",Datos_de_Tarjetas!G17)","v":""},{"$f":"IFERROR(VLOOKUP(Datos_de_Tarjetas!K17,Parámetros!$AJ$3:$AK$13,2,FALSE),\"\")","v":""},{"$f":"IFERROR(VLOOKUP(Datos_de_Tarjetas!J17,Parámetros!$AQ$3:$AR$57,2,FALSE),\"\")","v":""},null,{"$f":"IF(Datos_de_Tarjetas!L17=0,\"\",Datos_de_Tarjetas!L17)","v":""},{"$f":"IF(Datos_de_Tarjetas!M17=0,\"\",Datos_de_Tarjetas!M17)","v":""},{"$f":"IF(Datos_de_Tarjetas!N17=0,\"\",Datos_de_Tarjetas!N17)","v":""},{"$f":"IFERROR(VLOOKUP(Datos_de_Tarjetas!P17,Parámetros!$AM$3:$AN$90,2,FALSE),\"\")","v":""}]
[null,1069470000,{"$f":"IFERROR(VLOOKUP(Datos_de_Tarjetas!D18,Parámetros!$AD$12:$AE$17,2,FALSE),\"\")","v":""},{"$f":"IF(Datos_de_Tarjetas!G18=0,\"\",Datos_de_Tarjetas!G18)","v":""},{"$f":"IFERROR(VLOOKUP(Datos_de_Tarjetas!K18,Parámetros!$AJ$3:$AK$13,2,FALSE),\"\")","v":""},{"$f":"IFERROR(VLOOKUP(Datos_de_Tarjetas!J18,Parámetros!$AQ$3:$AR$57,2,FALSE),\"\")","v":""},null,{"$f":"IF(Datos_de_Tarjetas!L18=0,\"\",Datos_de_Tarjetas!L18)","v":""},{"$f":"IF(Datos_de_Tarjetas!M18=0,\"\",Datos_de_Tarjetas!M18)","v":""},{"$f":"IF(Datos_de_Tarjetas!N18=0,\"\",Datos_de_Tarjetas!N18)","v":""},{"$f":"IFERROR(VLOOKUP(Datos_de_Tarjetas!P18,Parámetros!$AM$3:$AN$90,2,FALSE),\"\")","v":""}]
[null,1069470000,{"$f":"IFERROR(VLOOKUP(Datos_de_Tarjetas!D19,Parámetros!$AD$12:$AE$17,2,FALSE),\"\")","v":""},{"$f":"IF(Datos_de_Tarjetas!G19=0,\"\",Datos_de_Tarjetas!G19)","v":""},{"$f":"IFERROR(VLOOKUP(Datos_de_Tarjetas!K19,Parámetros!$AJ$3:$AK$13,2,FALSE),\"\")","v":""},{"$f":"IFERROR(VLOOKUP(Datos_de_Tarjetas!J19,Parámetros!$AQ$3:$AR$57,2,FALSE),\"\")","v":""},null,{"$f":"IF(Datos_de_Tarjetas!L19=0,\"\",Datos_de_Tarjetas!L19)","v":""},{"$f":"IF(Datos_de_Tarjetas!M19=0,\"\",Datos_de_Tarjetas!M19)","v":""},{"$f":"IF(Datos_de_Tarjetas!N19=0,\"\",Datos_de_Tarjetas!N19)","v":""},{"$f":"IFERROR(VLOOKUP(Datos_de_Tarjetas!P19,Parámetros!$AM$3:$AN$90,2,FALSE),\"\")","v":""}]
[null,1069470000,{"$f":"IFERROR(VLOOKUP(Datos_de_Tarjetas!D20,Parámetros!$AD$12:$AE$17,2,FALSE),\"\")","v":""},{"$f":"IF(Datos_de_Tarjetas!G20=0,\"\",Datos_de_Tarjetas!G20)","v":""},{"$f":"IFERROR(VLOOKUP(Datos_de_Tarjetas!K20,Parámetros!$AJ$3:$AK$13,2,FALSE),\"\")","v":""},{"$f":"IFERROR(VLOOKUP(Datos_de_Tarjetas!J20,Parámetros!$AQ$3:$AR$57,2,FALSE),\"\")","v":""},null,{"$f":"IF(Datos_de_Tarjetas!L20=0,\"\",Datos_de_Tarjetas!L20)","v":""},{"$f":"IF(Datos_de_Tarjetas!M20=0,\"\",Datos_de_Tarjetas!M20)","v":""},{"$f":"IF(Datos_de_Tarjetas!N20=0,\"\",Datos_de_Tarjetas!N20)","v":""},{"$f":"IFERROR(VLOOKUP(Datos_de_Tarjetas!P20,Parámetros!$AM$3:$AN$90,2,FALSE),\"\")","v":""}]
[null,1069470000,{"$f":"IFERROR(VLOOKUP(Datos_de_Tarjetas!D21,Parámetros!$AD$12:$AE$17,2,FALSE),\"\")","v":""},{"$f":"IF(Datos_de_Tarjetas!G21=0,\"\",Datos_de_Tarjetas!G21)","v":""},{"$f":"IFERROR(VLOOKUP(Datos_de_Tarjetas!K21,Parámetros!$AJ$3:$AK$13,2,FALSE),\"\")","v":""},{"$f":"IFERROR(VLOOKUP(Datos_de_Tarjetas!J21,Parámetros!$AQ$3:$AR$57,2,FALSE),\"\")","v":""},null,{"$f":"IF(Datos_de_Tarjetas!L21=0,\"\",Datos_de_Tarjetas!L21)","v":""},{"$f":"IF(Datos_de_Tarjetas!M21=0,\"\",Datos_de_Tarjetas!M21)","v":""},{"$f":"IF(Datos_de_Tarjetas!N21=0,\"\",Datos_de_Tarjetas!N21)","v":""},{"$f":"IFERROR(VLOOKUP(Datos_de_Tarjetas!P21,Parámetros!$AM$3:$AN$90,2,FALSE),\"\")","v":""}]
[null,1069470000,{"$f":"IFERROR(VLOOKUP(Datos_de_Tarjetas!D22,Parámetros!$AD$12:$AE$17,2,FALSE),\"\")","v":""},{"$f":"IF(Datos_de_Tarjetas!G22=0,\"\",Datos_de_Tarjetas!G22)","v":""},{"$f":"IFERROR(VLOOKUP(Datos_de_Tarjetas!K22,Parámetros!$AJ$3:$AK$13,2,FALSE),\"\")","v":""},{"$f":"IFERROR(VLOOKUP(Datos_de_Tarjetas!J22,Parámetros!$AQ$3:$AR$57,2,FALSE),\"\")","v":""},null,{"$f":"IF(Datos_de_Tarjetas!L22=0,\"\",Datos_de_Tarjetas!L22)","v":""},{"$f":"IF(Datos_de_Tarjetas!M22=0,\"\",Datos_de_Tarjetas!M22)","v":""},{"$f":"IF(Datos_de_Tarjetas!N22=0,\"\",Datos_de_Tarjetas!N22)","v":""},{"$f":"IFERROR(VLOOKUP(Datos_de_Tarjetas!P22,Parámetros!$AM$3:$AN$90,2,FALSE),\"\")","v":""}]
[null,1069470000,{"$f":"IFERROR(VLOOKUP(Datos_de_Tarjetas!D23,Parámetros!$AD$12:$AE$17,2,FALSE),\"\")","v":""},{"$f":"IF(Datos_de_Tarjetas!G23=0,\"\",Datos_de_Tarjetas!G23)","v":""},{"$f":"IFERROR(VLOOKUP(Datos_de_Tarjetas!K23,Parámetros!$AJ$3:$AK$13,2,FALSE),\"\")","v":""},{"$f":"IFERROR(VLOOKUP(Datos_de_Tarjetas!J23,Parámetros!$AQ$3:$AR$57,2,FALSE),\"\")","v":""},null,{"$f":"IF(Datos_de_Tarjetas!L23=0,\"\",Datos_de_Tarjetas!L23)","v":""},{"$f":"IF(Datos_de_Tarjetas!M23=0,\"\",Datos_de_Tarjetas!M23)","v":""},{"$f":"IF(Datos_de_Tarjetas!N23=0,\"\",Datos_de_Tarjetas!N23)","v":""},{"$f":"IFERROR(VLOOKUP(Datos_de_Tarjetas!P23,Parámetros!$AM$3:$AN$90,2,FALSE),\"\")","v":""}]
[null,1069470000,{"$f":"IFERROR(VLOOKUP(Datos_de_Tarjetas!D24,Parámetros!$AD$12:$AE$17,2,FALSE),\"\")","v":""},{"$f":"IF(Datos_de_Tarjetas!G24=0,\"\",Datos_de_Tarjetas!G24)","v":""},{"$f":"IFERROR(VLOOKUP(Datos_de_Tarjetas!K24,Parámetros!$AJ$3:$AK$13,2,FALSE),\"\")","v":""},{"$f":"IFERROR(VLOOKUP(Datos_de_Tarjetas!J24,Parámetros!$AQ$3:$AR$57,2,FALSE),\"\")","v":""},null,{"$f":"IF(Datos_de_Tarjetas!L24=0,\"\",Datos_de_Tarjetas!L24)","v":""},{"$f":"IF(Datos_de_Tarjetas!M24=0,\"\",Datos_de_Tarjetas!M24)","v":""},{"$f":"IF(Datos_de_Tarjetas!N24=0,\"\",Datos_de_Tarjetas!N24)","v":""},{"$f":"IFERROR(VLOOKUP(Datos_de_Tarjetas!P24,Parámetros!$AM$3:$AN$90,2,FALSE),\"\")","v":""}]
[null,1069470000,{"$f":"IFERROR(VLOOKUP(Datos_de_Tarjetas!D25,Parámetros!$AD$12:$AE$17,2,FALSE),\"\")","v":""},{"$f":"IF(Datos_de_Tarjetas!G25=0,\"\",Datos_de_Tarjetas!G25)","v":""},{"$f":"IFERROR(VLOOKUP(Datos_de_Tarjetas!K25,Parámetros!$AJ$3:$AK$13,2,FALSE),\"\")","v":""},{"$f":"IFERROR(VLOOKUP(Datos_de_Tarjetas!J25,Parámetros!$AQ$3:$AR$57,2,FALSE),\"\")","v":""},null,{"$f":"IF(Datos_de_Tarjetas!L25=0,\"\",Datos_de_Tarjetas!L25)","v":""},{"$f":"IF(Datos_de_Tarjetas!M25=0,\"\",Datos_de_Tarjetas!M25)","v":""},{"$f":"IF(Datos_de_Tarjetas!N25=0,\"\",Datos_de_Tarjetas!N25)","v":""},{"$f":"IFERROR(VLOOKUP(Datos_de_Tarjetas!P25,Parámetros!$AM$3:$AN$90,2,FALSE),\"\")","v":""}]
[null,1069470000,{"$f":"IFERROR(VLOOKUP(Datos_de_Tarjetas!D26,Parámetros!$AD$12:$AE$17,2,FALSE),\"\")","v":""},{"$f":"IF(Datos_de_Tarjetas!G26=0,\"\",Datos_de_Tarjetas!G26)","v":""},{"$f":"IFERROR(VLOOKUP(Datos_de_Tarjetas!K26,Parámetros!$AJ$3:$AK$13,2,FALSE),\"\")","v":""},{"$f":"IFERROR(VLOOKUP(Datos_de_Tarjetas!J26,Parámetros!$AQ$3:$AR$57,2,FALSE),\"\")","v":""},null,{"$f":"IF(Datos_de_Tarjetas!L26=0,\"\",Datos_de_Tarjetas!L26)","v":""},{"$f":"IF(Datos_de_Tarjetas!M26=0,\"\",Datos_de_Tarjetas!M26)","v":""},{"$f":"IF(Datos_de_Tarjetas!N26=0,\"\",Datos_de_Tarjetas!N26)","v":""},{"$f":"IFERROR(VLOOKUP(Datos_de_Tarjetas!P26,Parámetros!$AM$3:$AN$90,2,FALSE),\"\")","v":""}]
[null,1069470000,{"$f":"IFERROR(VLOOKUP(Datos_de_Tarjetas!D27,Parámetros!$AD$12:$AE$17,2,FALSE),\"\")","v":""},{"$f":"IF(Datos_de_Tarjetas!G27=0,\"\",Datos_de_Tarjetas!G27)","v":""},{"$f":"IFERROR(VLOOKUP(Datos_de_Tarjetas!K27,Parámetros!$AJ$3:$AK$13,2,FALSE),\"\")","v":""},{"$f":"IFERROR(VLOOKUP(Datos_de_Tarjetas!J27,Parámetros!$AQ$3:$AR$57,2,FALSE),\"\")","v":""},null,{"$f":"IF(Datos_de_Tarjetas!L27=0,\"\",Datos_de_Tarjetas!L27)","v":""},{"$f":"IF(Datos_de_Tarjetas!M27=0,\"\",Datos_de_Tarjetas!M27)","v":""},{"$f":"IF(Datos_de_Tarjetas!N27=0,\"\",Datos_de_Tarjetas!N27)","v":""},{"$f":"IFERROR(VLOOKUP(Datos_de_Tarjetas!P27,Parámetros!$AM$3:$AN$90,2,FALSE),\"\")","v":""}]
[null,1069470000,{"$f":"IFERROR(VLOOKUP(Datos_de_Tarjetas!D28,Parámetros!$AD$12:$AE$17,2,FALSE),\"\")","v":""},{"$f":"IF(Datos_de_Tarjetas!G28=0,\"\",Datos_de_Tarjetas!G28)","v":""},{"$f":"IFERROR(VLOOKUP(Datos_de_Tarjetas!K28,Parámetros!$AJ$3:$AK$13,2,FALSE),\"\")","v":""},{"$f":"IFERROR(VLOOKUP(Datos_de_Tarjetas!J28,Parámetros!$AQ$3:$AR$57,2,FALSE),\"\")","v":""},null,{"$f":"IF(Datos_de_Tarjetas!L28=0,\"\",Datos_de_Tarjetas!L28)","v":""},{"$f":"IF(Datos_de_Tarjetas!M28=0,\"\",Datos_de_Tarjetas!M28)","v":""},{"$f":"IF(Datos_de_Tarjetas!N28=0,\"\",Datos_de_Tarjetas!N28)","v":""},{"$f":"IFERROR(VLOOKUP(Datos_de_Tarjetas!P28,Parámetros!$AM$3:$AN$90,2,FALSE),\"\")","v":""}]
[null,1069470000,{"$f":"IFERROR(VLOOKUP(Datos_de_Tarjetas!D29,Parámetros!$AD$12:$AE$17,2,FALSE),\"\")","v":""},{"$f":"IF(Datos_de_Tarjetas!G29=0,\"\",Datos_de_Tarjetas!G29)","v":""},{"$f":"IFERROR(VLOOKUP(Datos_de_Tarjetas!K29,Parámetros!$AJ$3:$AK$13,2,FALSE),\"\")","v":""},{"$f":"IFERROR(VLOOKUP(Datos_de_Tarjetas!J29,Parámetros!$AQ$3:$AR$57,2,FALSE),\"\")","v":""},null,{"$f":"IF(Datos_de_Tarjetas!L29=0,\"\",Datos_de_Tarjetas!L29)","v":""},{"$f":"IF(Datos_de_Tarjetas!M29=0,\"\",Datos_de_Tarjetas!M29)","v":""},{"$f":"IF(Datos_de_Tarjetas!N29=0,\"\",Datos_de_Tarjetas!N29)","v":""},{"$f":"IFERROR(VLOOKUP(Datos_de_Tarjetas!P29,Parámetros!$AM$3:$AN$90,2,FALSE),\"\")","v":""}]
[null,1069470000,{"$f":"IFERROR(VLOOKUP(Datos_de_Tarjetas!D30,Parámetros!$AD$12:$AE$17,2,FALSE),\"\")","v":""},{"$f":"IF(Datos_de_Tarjetas!G30=0,\"\",Datos_de_Tarjetas!G30)","v":""},{"$f":"IFERROR(VLOOKUP(Datos_de_Tarjetas!K30,Parámetros!$AJ$3:$AK$13,2,FALSE),\"\")","v":""},{"$f":"IFERROR(VLOOKUP(Datos_de_Tarjetas!J30,Parámetros!$AQ$3:$AR$57,2,FALSE),\"\")","v":""},null,{"$f":"IF(Datos_de_Tarjetas!L30=0,\"\",Datos_de_Tarjetas!L30)","v":""},{"$f":"IF(Datos_de_Tarjetas!M30=0,\"\",Datos_de_Tarjetas!M30)","v":""},{"$f":"IF(Datos_de_Tarjetas!N30=0,\"\",Datos_de_Tarjetas!N30)","v":""},{"$f":"IFERROR(VLOOKUP(Datos_de_Tarjetas!P30,Parámetros!$AM$3:$AN$90,2,FALSE),\"\")","v":""}]
[null,1069470000,{"$f":"IFERROR(VLOOKUP(Datos_de_Tarjetas!D31,Parámetros!$AD$12:$AE$17,2,FALSE),\"\")","v":""},{"$f":"IF(Datos_de_Tarjetas!G31=0,\"\",Datos_de_Tarjetas!G31)","v":""},{"$f":"IFERROR(VLOOKUP(Datos_de_Tarjetas!K31,Parámetros!$AJ$3:$AK$13,2,FALSE),\"\")","v":""},{"$f":"IFERROR(VLOOKUP(Datos_de_Tarjetas!J31,Parámetros!$AQ$3:$AR$57,2,FALSE),\"\")","v":""},null,{"$f":"IF(Datos_de_Tarjetas!L31=0,\"\",Datos_de_Tarjetas!L31)","v":""},{"$f":"IF(Datos_de_Tarjetas!M31=0,\"\",Datos_de_Tarjetas!M31)","v":""},{"$f":"IF(Datos_de_Tarjetas!N31=0,\"\",Datos_de_Tarjetas!N31)","v":""},{"$f":"IFERROR(VLOOKUP(Datos_de_Tarjetas!P31,Parámetros!$AM$3:$AN$90,2,FALSE),\"\")","v":""}]
[null,1069470000,{"$f":"IFERROR(VLOOKUP(Datos_de_Tarjetas!D32,Parámetros!$AD$12:$AE$17,2,FALSE),\"\")","v":""},{"$f":"IF(Datos_de_Tarjetas!G32=0,\"\",Datos_de_Tarjetas!G32)","v":""},{"$f":"IFERROR(VLOOKUP(Datos_de_Tarjetas!K32,Parámetros!$AJ$3:$AK$13,2,FALSE),\"\")","v":""},{"$f":"IFERROR(VLOOKUP(Datos_de_Tarjetas!J32,Parámetros!$AQ$3:$AR$57,2,FALSE),\"\")","v":""},null,{"$f":"IF(Datos_de_Tarjetas!L32=0,\"\",Datos_de_Tarjetas!L32)","v":""},{"$f":"IF(Datos_de_Tarjetas!M32=0,\"\",Datos_de_Tarjetas!M32)","v":""},{"$f":"IF(Datos_de_Tarjetas!N32=0,\"\",Datos_de_Tarjetas!N32)","v":""},{"$f":"IFERROR(VLOOKUP(Datos_de_Tarjetas!P32,Parámetros!$AM$3:$AN$90,2,FALSE),\"\")","v":""}]
[null,1069470000,{"$f":"IFERROR(VLOOKUP(Datos_de_Tarjetas!D33,Parámetros!$AD$12:$AE$17,2,FALSE),\"\")","v":""},{"$f":"IF(Datos_de_Tarjetas!G33=0,\"\",Datos_de_Tarjetas!G33)","v":""},{"$f":"IFERROR(VLOOKUP(Datos_de_Tarjetas!K33,Parámetros!$AJ$3:$AK$13,2,FALSE),\"\")","v":""},{"$f":"IFERROR(VLOOKUP(Datos_de_Tarjetas!J33,Parámetros!$AQ$3:$AR$57,2,FALSE),\"\")","v":""},null,{"$f":"IF(Datos_de_Tarjetas!L33=0,\"\",Datos_de_Tarjetas!L33)","v":""},{"$f":"IF(Datos_de_Tarjetas!M33=0,\"\",Datos_de_Tarjetas!M33)","v":""},{"$f":"IF(Datos_de_Tarjetas!N33=0,\"\",Datos_de_Tarjetas!N33)","v":""},{"$f":"IFERROR(VLOOKUP(Datos_de_Tarjetas!P33,Parámetros!$AM$3:$AN$90,2,FALSE),\"\")","v":""}]
[null,1069470000,{"$f":"IFERROR(VLOOKUP(Datos_de_Tarjetas!D34,Parámetros!$AD$12:$AE$17,2,FALSE),\"\")","v":""},{"$f":"IF(Datos_de_Tarjetas!G34=0,\"\",Datos_de_Tarjetas!G34)","v":""},{"$f":"IFERROR(VLOOKUP(Datos_de_Tarjetas!K34,Parámetros!$AJ$3:$AK$13,2,FALSE),\"\")","v":""},{"$f":"IFERROR(VLOOKUP(Datos_de_Tarjetas!J34,Parámetros!$AQ$3:$AR$57,2,FALSE),\"\")","v":""},null,{"$f":"IF(Datos_de_Tarjetas!L34=0,\"\",Datos_de_Tarjetas!L34)","v":""},{"$f":"IF(Datos_de_Tarjetas!M34=0,\"\",Datos_de_Tarjetas!M34)","v":""},{"$f":"IF(Datos_de_Tarjetas!N34=0,\"\",Datos_de_Tarjetas!N34)","v":""},{"$f":"IFERROR(VLOOKUP(Datos_de_Tarjetas!P34,Parámetros!$AM$3:$AN$90,2,FALSE),\"\")","v":""}]
[null,1069470000,{"$f":"IFERROR(VLOOKUP(Datos_de_Tarjetas!D35,Parámetros!$AD$12:$AE$17,2,FALSE),\"\")","v":""},{"$f":"IF(Datos_de_Tarjetas!G35=0,\"\",Datos_de_Tarjetas!G35)","v":""},{"$f":"IFERROR(VLOOKUP(Datos_de_Tarjetas!K35,Parámetros!$AJ$3:$AK$13,2,FALSE),\"\")","v":""},{"$f":"IFERROR(VLOOKUP(Datos_de_Tarjetas!J35,Parámetros!$AQ$3:$AR$57,2,FALSE),\"\")","v":""},null,{"$f":"IF(Datos_de_Tarjetas!L35=0,\"\",Datos_de_Tarjetas!L35)","v":""},{"$f":"IF(Datos_de_Tarjetas!M35=0,\"\",Datos_de_Tarjetas!M35)","v":""},{"$f":"IF(Datos_de_Tarjetas!N35=0,\"\",Datos_de_Tarjetas!N35)","v":""},{"$f":"IFERROR(VLOOKUP(Datos_de_Tarjetas!P35,Parámetros!$AM$3:$AN$90,2,FALSE),\"\")","v":""}]
[null,1069470000,{"$f":"IFERROR(VLOOKUP(Datos_de_Tarjetas!D36,Parámetros!$AD$12:$AE$17,2,FALSE),\"\")","v":""},{"$f":"IF(Datos_de_Tarjetas!G36=0,\"\",Datos_de_Tarjetas!G36)","v":""},{"$f":"IFERROR(VLOOKUP(Datos_de_Tarjetas!K36,Parámetros!$AJ$3:$AK$13,2,FALSE),\"\")","v":""},{"$f":"IFERROR(VLOOKUP(Datos_de_Tarjetas!J36,Parámetros!$AQ$3:$AR$57,2,FALSE),\"\")","v":""},null,{"$f":"IF(Datos_de_Tarjetas!L36=0,\"\",Datos_de_Tarjetas!L36)","v":""},{"$f":"IF(Datos_de_Tarjetas!M36=0,\"\",Datos_de_Tarjetas!M36)","v":""},{"$f":"IF(Datos_de_Tarjetas!N36=0,\"\",Datos_de_Tarjetas!N36)","v":""},{"$f":"IFERROR(VLOOKUP(Datos_de_Tarjetas!P36,Parámetros!$AM$3:$AN$90,2,FALSE),\"\")","v":""}]
[null,1069470000,{"$f":"IFERROR(VLOOKUP(Datos_de_Tarjetas!D37,Parámetros!$AD$12:$AE$17,2,FALSE),\"\")","v":""},{"$f":"IF(Datos_de_Tarjetas!G37=0,\"\",Datos_de_Tarjetas!G37)","v":""},{"$f":"IFERROR(VLOOKUP(Datos_de_Tarjetas!K37,Parámetros!$AJ$3:$AK$13,2,FALSE),\"\")","v":""},{"$f":"IFERROR(VLOOKUP(Datos_de_Tarjetas!J37,Parámetros!$AQ$3:$AR$57,2,FALSE),\"\")","v":""},null,{"$f":"IF(Datos_de_Tarjetas!L37=0,\"\",Datos_de_Tarjetas!L37)","v":""},{"$f":"IF(Datos_de_Tarjetas!M37=0,\"\",Datos_de_Tarjetas!M37)","v":""},{"$f":"IF(Datos_de_Tarjetas!N37=0,\"\",Datos_de_Tarjetas!N37)","v":""},{"$f":"IFERROR(VLOOKUP(Datos_de_Tarjetas!P37,Parámetros!$AM$3:$AN$90,2,FALSE),\"\")","v":""}]
[null,1069470000,{"$f":"IFERROR(VLOOKUP(Datos_de_Tarjetas!D38,Parámetros!$AD$12:$AE$17,2,FALSE),\"\")","v":""},{"$f":"IF(Datos_de_Tarjetas!G38=0,\"\",Datos_de_Tarjetas!G38)","v":""},{"$f":"IFERROR(VLOOKUP(Datos_de_Tarjetas!K38,Parámetros!$AJ$3:$AK$13,2,FALSE),\"\")","v":""},{"$f":"IFERROR(VLOOKUP(Datos_de_Tarjetas!J38,Parámetros!$AQ$3:$AR$57,2,FALSE),\"\")","v":""},null,{"$f":"IF(Datos_de_Tarjetas!L38=0,\"\",Datos_de_Tarjetas!L38)","v":""},{"$f":"IF(Datos_de_Tarjetas!M38=0,\"\",Datos_de_Tarjetas!M38)","v":""},{"$f":"IF(Datos_de_Tarjetas!N38=0,\"\",Datos_de_Tarjetas!N38)","v":""},{"$f":"IFERROR(VLOOKUP(Datos_de_Tarjetas!P38,Parámetros!$AM$3:$AN$90,2,FALSE),\"\")","v":""}]
[null,1069470000,{"$f":"IFERROR(VLOOKUP(Datos_de_Tarjetas!D39,Parámetros!$AD$12:$AE$17,2,FALSE),\"\")","v":""},{"$f":"IF(Datos_de_Tarjetas!G39=0,\"\",Datos_de_Tarjetas!G39)","v":""},{"$f":"IFERROR(VLOOKUP(Datos_de_Tarjetas!K39,Parámetros!$AJ$3:$AK$13,2,FALSE),\"\")","v":""},{"$f":"IFERROR(VLOOKUP(Datos_de_Tarjetas!J39,Parámetros!$AQ$3:$AR$57,2,FALSE),\"\")","v":""},null,{"$f":"IF(Datos_de_Tarjetas!L39=0,\"\",Datos_de_Tarjetas!L39)","v":""},{"$f":"IF(Datos_de_Tarjetas!M39=0,\"\",Datos_de_Tarjetas!M39)","v":""},{"$f":"IF(Datos_de_Tarjetas!N39=0,\"\",Datos_de_Tarjetas!N39)","v":""},{"$f":"IFERROR(VLOOKUP(Datos_de_Tarjetas!P39,Parámetros!$AM$3:$AN$90,2,FALSE),\"\")","v":""}]
[null,1069470000,{"$f":"IFERROR(VLOOKUP(Datos_de_Tarjetas!D40,Parámetros!$AD$12:$AE$17,2,FALSE),\"\")","v":""},{"$f":"IF(Datos_de_Tarjetas!G40=0,\"\",Datos_de_Tarjetas!G40)","v":""},{"$f":"IFERROR(VLOOKUP(Datos_de_Tarjetas!K40,Parámetros!$AJ$3:$AK$13,2,FALSE),\"\")","v":""},{"$f":"IFERROR(VLOOKUP(Datos_de_Tarjetas!J40,Parámetros!$AQ$3:$AR$57,2,FALSE),\"\")","v":""},null,{"$f":"IF(Datos_de_Tarjetas!L40=0,\"\",Datos_de_Tarjetas!L40)","v":""},{"$f":"IF(Datos_de_Tarjetas!M40=0,\"\",Datos_de_Tarjetas!M40)","v":""},{"$f":"IF(Datos_de_Tarjetas!N40=0,\"\",Datos_de_Tarjetas!N40)","v":""},{"$f":"IFERROR(VLOOKUP(Datos_de_Tarjetas!P40,Parámetros!$AM$3:$AN$90,2,FALSE),\"\")","v":""}]
[null,1069470000,{"$f":"IFERROR(VLOOKUP(Datos_de_Tarjetas!D41,Parámetros!$AD$12:$AE$17,2,FALSE),\"\")","v":""},{"$f":"IF(Datos_de_Tarjetas!G41=0,\"\",Datos_de_Tarjetas!G41)","v":""},{"$f":"IFERROR(VLOOKUP(Datos_de_Tarjetas!K41,Parámetros!$AJ$3:$AK$13,2,FALSE),\"\")","v":""},{"$f":"IFERROR(VLOOKUP(Datos_de_Tarjetas!J41,Parámetros!$AQ$3:$AR$57,2,FALSE),\"\")","v":""},null,{"$f":"IF(Datos_de_Tarjetas!L41=0,\"\",Datos_de_Tarjetas!L41)","v":""},{"$f":"IF(Datos_de_Tarjetas!M41=0,\"\",Datos_de_Tarjetas!M41)","v":""},{"$f":"IF(Datos_de_Tarjetas!N41=0,\"\",Datos_de_Tarjetas!N41)","v":""},{"$f":"IFERROR(VLOOKUP(Datos_de_Tarjetas!P41,Parámetros!$AM$3:$AN$90,2,FALSE),\"\")","v":""}]
[null,1069470000,{"$f":"IFERROR(VLOOKUP(Datos_de_Tarjetas!D42,Parámetros!$AD$12:$AE$17,2,FALSE),\"\")","v":""},{"$f":"IF(Datos_de_Tarjetas!G42=0,\"\",Datos_de_Tarjetas!G42)","v":""},{"$f":"IFERROR(VLOOKUP(Datos_de_Tarjetas!K42,Parámetros!$AJ$3:$AK$13,2,FALSE),\"\")","v":""},{"$f":"IFERROR(VLOOKUP(Datos_de_Tarjetas!J42,Parámetros!$AQ$3:$AR$57,2,FALSE),\"\")","v":""},null,{"$f":"IF(Datos_de_Tarjetas!L42=0,\"\",Datos_de_Tarjetas!L42)","v":""},{"$f":"IF(Datos_de_Tarjetas!M42=0,\"\",Datos_de_Tarjetas!M42)","v":""},{"$f":"IF(Datos_de_Tarjetas!N42=0,\"\",Datos_de_Tarjetas!N42)","v":""},{"$f":"IFERROR(VLOOKUP(Datos_de_Tarjetas!P42,Parámetros!$AM$3:$AN$90,2,FALSE),\"\")","v":""}]
[null,1069470000,{"$f":"IFERROR(VLOOKUP(Datos_de_Tarjetas!D43,Parámetros!$AD$12:$AE$17,2,FALSE),\"\")","v":""},{"$f":"IF(Datos_de_Tarjetas!G43=0,\"\",Datos_de_Tarjetas!G43)","v":""},{"$f":"IFERROR(VLOOKUP(Datos_de_Tarjetas!K43,Parámetros!$AJ$3:$AK$13,2,FALSE),\"\")","v":""},{"$f":"IFERROR(VLOOKUP(Datos_de_Tarjetas!J43,Parámetros!$AQ$3:$AR$57,2,FALSE),\"\")","v":""},null,{"$f":"IF(Datos_de_Tarjetas!L43=0,\"\",Datos_de_Tarjetas!L43)","v":""},{"$f":"IF(Datos_de_Tarjetas!M43=0,\"\",Datos_de_Tarjetas!M43)","v":""},{"$f":"IF(Datos_de_Tarjetas!N43=0,\"\",Datos_de_Tarjetas!N43)","v":""},{"$f":"IFERROR(VLOOKUP(Datos_de_Tarjetas!P43,Parámetros!$AM$3:$AN$90,2,FALSE),\"\")","v":""}]
[null,1069470000,{"$f":"IFERROR(VLOOKUP(Datos_de_Tarjetas!D44,Parámetros!$AD$12:$AE$17,2,FALSE),\"\")","v":""},{"$f":"IF(Datos_de_Tarjetas!G44=0,\"\",Datos_de_Tarjetas!G44)","v":""},{"$f":"IFERROR(VLOOKUP(Datos_de_Tarjetas!K44,Parámetros!$AJ$3:$AK$13,2,FALSE),\"\")","v":""},{"$f":"IFERROR(VLOOKUP(Datos_de_Tarjetas!J44,Parámetros!$AQ$3:$AR$57,2,FALSE),\"\")","v":""},null,{"$f":"IF(Datos_de_Tarjetas!L44=0,\"\",Datos_de_Tarjetas!L44)","v":""},{"$f":"IF(Datos_de_Tarjetas!M44=0,\"\",Datos_de_Tarjetas!M44)","v":""},{"$f":"IF(Datos_de_Tarjetas!N44=0,\"\",Datos_de_Tarjetas!N44)","v":""},{"$f":"IFERROR(VLOOKUP(Datos_de_Tarjetas!P44,Parámetros!$AM$3:$AN$90,2,FALSE),\"\")","v":""}]
[null,1069470000,{"$f":"IFERROR(VLOOKUP(Datos_de_Tarjetas!D45,Parámetros!$AD$12:$AE$17,2,FALSE),\"\")","v":""},{"$f":"IF(Datos_de_Tarjetas!G45=0,\"\",Datos_de_Tarjetas!G45)","v":""},{"$f":"IFERROR(VLOOKUP(Datos_de_Tarjetas!K45,Parámetros!$AJ$3:$AK$13,2,FALSE),\"\")","v":""},{"$f":"IFERROR(VLOOKUP(Datos_de_Tarjetas!J45,Parámetros!$AQ$3:$AR$57,2,FALSE),\"\")","v":""},null,{"$f":"IF(Datos_de_Tarjetas!L45=0,\"\",Datos_de_Tarjetas!L45)","v":""},{"$f":"IF(Datos_de_Tarjetas!M45=0,\"\",Datos_de_Tarjetas!M45)","v":""},{"$f":"IF(Datos_de_Tarjetas!N45=0,\"\",Datos_de_Tarjetas!N45)","v":""},{"$f":"IFERROR(VLOOKUP(Datos_de_Tarjetas!P45,Parámetros!$AM$3:$AN$90,2,FALSE),\"\")","v":""}]
[null,1069470000,{"$f":"IFERROR(VLOOKUP(Datos_de_Tarjetas!D46,Parámetros!$AD$12:$AE$17,2,FALSE),\"\")","v":""},{"$f":"IF(Datos_de_Tarjetas!G46=0,\"\",Datos_de_Tarjetas!G46)","v":""},{"$f":"IFERROR(VLOOKUP(Datos_de_Tarjetas!K46,Parámetros!$AJ$3:$AK$13,2,FALSE),\"\")","v":""},{"$f":"IFERROR(VLOOKUP(Datos_de_Tarjetas!J46,Parámetros!$AQ$3:$AR$57,2,FALSE),\"\")","v":""},null,{"$f":"IF(Datos_de_Tarjetas!L46=0,\"\",Datos_de_Tarjetas!L46)","v":""},{"$f":"IF(Datos_de_Tarjetas!M46=0,\"\",Datos_de_Tarjetas!M46)","v":""},{"$f":"IF(Datos_de_Tarjetas!N46=0,\"\",Datos_de_Tarjetas!N46)","v":""},{"$f":"IFERROR(VLOOKUP(Datos_de_Tarjetas!P46,Parámetros!$AM$3:$AN$90,2,FALSE),\"\")","v":""}]
[null,1069470000,{"$f":"IFERROR(VLOOKUP(Datos_de_Tarjetas!D47,Parámetros!$AD$12:$AE$17,2,FALSE),\"\")","v":""},{"$f":"IF(Datos_de_Tarjetas!G47=0,\"\",Datos_de_Tarjetas!G47)","v":""},{"$f":"IFERROR(VLOOKUP(Datos_de_Tarjetas!K47,Parámetros!$AJ$3:$AK$13,2,FALSE),\"\")","v":""},{"$f":"IFERROR(VLOOKUP(Datos_de_Tarjetas!J47,Parámetros!$AQ$3:$AR$57,2,FALSE),\"\")","v":""},null,{"$f":"IF(Datos_de_Tarjetas!L47=0,\"\",Datos_de_Tarjetas!L47)","v":""},{"$f":"IF(Datos_de_Tarjetas!M47=0,\"\",Datos_de_Tarjetas!M47)","v":""},{"$f":"IF(Datos_de_Tarjetas!N47=0,\"\",Datos_de_Tarjetas!N47)","v":""},{"$f":"IFERROR(VLOOKUP(Datos_de_Tarjetas!P47,Parámetros!$AM$3:$AN$90,2,FALSE),\"\")","v":""}]
[null,1069470000,{"$f":"IFERROR(VLOOKUP(Datos_de_Tarjetas!D48,Parámetros!$AD$12:$AE$17,2,FALSE),\"\")","v":""},{"$f":"IF(Datos_de_Tarjetas!G48=0,\"\",Datos_de_Tarjetas!G48)","v":""},{"$f":"IFERROR(VLOOKUP(Datos_de_Tarjetas!K48,Parámetros!$AJ$3:$AK$13,2,FALSE),\"\")","v":""},{"$f":"IFERROR(VLOOKUP(Datos_de_Tarjetas!J48,Parámetros!$AQ$3:$AR$57,2,FALSE),\"\")","v":""},null,{"$f":"IF(Datos_de_Tarjetas!L48=0,\"\",Datos_de_Tarjetas!L48)","v":""},{"$f":"IF(Datos_de_Tarjetas!M48=0,\"\",Datos_de_Tarjetas!M48)","v":""},{"$f":"IF(Datos_de_Tarjetas!N48=0,\"\",Datos_de_Tarjetas!N48)","v":""},{"$f":"IFERROR(VLOOKUP(Datos_de_Tarjetas!P48,Parámetros!$AM$3:$AN$90,2,FALSE),\"\")","v":""}]
[null,1069470000,{"$f":"IFERROR(VLOOKUP(Datos_de_Tarjetas!D49,Parámetros!$AD$12:$AE$17,2,FALSE),\"\")","v":""},{"$f":"IF(Datos_de_Tarjetas!G49=0,\"\",Datos_de_Tarjetas!G49)","v":""},{"$f":"IFERROR(VLOOKUP(Datos_de_Tarjetas!K49,Parámetros!$AJ$3:$AK$13,2,FALSE),\"\")","v":""},{"$f":"IFERROR(VLOOKUP(Datos_de_Tarjetas!J49,Parámetros!$AQ$3:$AR$57,2,FALSE),\"\")","v":""},null,{"$f":"IF(Datos_de_Tarjetas!L49=0,\"\",Datos_de_Tarjetas!L49)","v":""},{"$f":"IF(Datos_de_Tarjetas!M49=0,\"\",Datos_de_Tarjetas!M49)","v":""},{"$f":"IF(Datos_de_Tarjetas!N49=0,\"\",Datos_de_Tarjetas!N49)","v":""},{"$f":"IFERROR(VLOOKUP(Datos_de_Tarjetas!P49,Parámetros!$AM$3:$AN$90,2,FALSE),\"\")","v":""}]
[null,1069470000,{"$f":"IFERROR(VLOOKUP(Datos_de_Tarjetas!D50,Parámetros!$AD$12:$AE$17,2,FALSE),\"\")","v":""},{"$f":"IF(Datos_de_Tarjetas!G50=0,\"\",Datos_de_Tarjetas!G50)","v":""},{"$f":"IFERROR(VLOOKUP(Datos_de_Tarjetas!K50,Parámetros!$AJ$3:$AK$13,2,FALSE),\"\")","v":""},{"$f":"IFERROR(VLOOKUP(Datos_de_Tarjetas!J50,Parámetros!$AQ$3:$AR$57,2,FALSE),\"\")","v":""},null,{"$f":"IF(Datos_de_Tarjetas!L50=0,\"\",Datos_de_Tarjetas!L50)","v":""},{"$f":"IF(Datos_de_Tarjetas!M50=0,\"\",Datos_de_Tarjetas!M50)","v":""},{"$f":"IF(Datos_de_Tarjetas!N50=0,\"\",Datos_de_Tarjetas!N50)","v":""},{"$f":"IFERROR(VLOOKUP(Datos_de_Tarjetas!P50,Parámetros!$AM$3:$AN$90,2,FALSE),\"\")","v":""}]
[null,1069470000,{"$f":"IFERROR(VLOOKUP(Datos_de_Tarjetas!D51,Parámetros!$AD$12:$AE$17,2,FALSE),\"\")","v":""},{"$f":"IF(Datos_de_Tarjetas!G51=0,\"\",Datos_de_Tarjetas!G51)","v":""},{"$f":"IFERROR(VLOOKUP(Datos_de_Tarjetas!K51,Parámetros!$AJ$3:$AK$13,2,FALSE),\"\")","v":""},{"$f":"IFERROR(VLOOKUP(Datos_de_Tarjetas!J51,Parámetros!$AQ$3:$AR$57,2,FALSE),\"\")","v":""},null,{"$f":"IF(Datos_de_Tarjetas!L51=0,\"\",Datos_de_Tarjetas!L51)","v":""},{"$f":"IF(Datos_de_Tarjetas!M51=0,\"\",Datos_de_Tarjetas!M51)","v":""},{"$f":"IF(Datos_de_Tarjetas!N51=0,\"\",Datos_de_Tarjetas!N51)","v":""},{"$f":"IFERROR(VLOOKUP(Datos_de_Tarjetas!P51,Parámetros!$AM$3:$AN$90,2,FALSE),\"\")","v":""}]
[null,1069470000,{"$f":"IFERROR(VLOOKUP(Datos_de_Tarjetas!D52,Parámetros!$AD$12:$AE$17,2,FALSE),\"\")","v":""},{"$f":"IF(Datos_de_Tarjetas!G52=0,\"\",Datos_de_Tarjetas!G52)","v":""},{"$f":"IFERROR(VLOOKUP(Datos_de_Tarjetas!K52,Parámetros!$AJ$3:$AK$13,2,FALSE),\"\")","v":""},{"$f":"IFERROR(VLOOKUP(Datos_de_Tarjetas!J52,Parámetros!$AQ$3:$AR$57,2,FALSE),\"\")","v":""},null,{"$f":"IF(Datos_de_Tarjetas!L52=0,\"\",Datos_de_Tarjetas!L52)","v":""},{"$f":"IF(Datos_de_Tarjetas!M52=0,\"\",Datos_de_Tarjetas!M52)","v":""},{"$f":"IF(Datos_de_Tarjetas!N52=0,\"\",Datos_de_Tarjetas!N52)","v":""},{"$f":"IFERROR(VLOOKUP(Datos_de_Tarjetas!P52,Parámetros!$AM$3:$AN$90,2,FALSE),\"\")","v":""}]
[null,1069470000,{"$f":"IFERROR(VLOOKUP(Datos_de_Tarjetas!D53,Parámetros!$AD$12:$AE$17,2,FALSE),\"\")","v":""},{"$f":"IF(Datos_de_Tarjetas!G53=0,\"\",Datos_de_Tarjetas!G53)","v":""},{"$f":"IFERROR(VLOOKUP(Datos_de_Tarjetas!K53,Parámetros!$AJ$3:$AK$13,2,FALSE),\"\")","v":""},{"$f":"IFERROR(VLOOKUP(Datos_de_Tarjetas!J53,Parámetros!$AQ$3:$AR$57,2,FALSE),\"\")","v":""},null,{"$f":"IF(Datos_de_Tarjetas!L53=0,\"\",Datos_de_Tarjetas!L53)","v":""},{"$f":"IF(Datos_de_Tarjetas!M53=0,\"\",Datos_de_Tarjetas!M53)","v":""},{"$f":"IF(Datos_de_Tarjetas!N53=0,\"\",Datos_de_Tarjetas!N53)","v":""},{"$f":"IFERROR(VLOOKUP(Datos_de_Tarjetas!P53,Parámetros!$AM$3:$AN$90,2,FALSE),\"\")","v":""}]
[null,1069470000,{"$f":"IFERROR(VLOOKUP(Datos_de_Tarjetas!D54,Parámetros!$AD$12:$AE$17,2,FALSE),\"\")","v":""},{"$f":"IF(Datos_de_Tarjetas!G54=0,\"\",Datos_de_Tarjetas!G54)","v":""},{"$f":"IFERROR(VLOOKUP(Datos_de_Tarjetas!K54,Parámetros!$AJ$3:$AK$13,2,FALSE),\"\")","v":""},{"$f":"IFERROR(VLOOKUP(Datos_de_Tarjetas!J54,Parámetros!$AQ$3:$AR$57,2,FALSE),\"\")","v":""},null,{"$f":"IF(Datos_de_Tarjetas!L54=0,\"\",Datos_de_Tarjetas!L54)","v":""},{"$f":"IF(Datos_de_Tarjetas!M54=0,\"\",Datos_de_Tarjetas!M54)","v":""},{"$f":"IF(Datos_de_Tarjetas!N54=0,\"\",Datos_de_Tarjetas!N54)","v":""},{"$f":"IFERROR(VLOOKUP(Datos_de_Tarjetas!P54,Parámetros!$AM$3:$AN$90,2,FALSE),\"\")","v":""}]
[null,1069470000,{"$f":"IFERROR(VLOOKUP(Datos_de_Tarjetas!D55,Parámetros!$AD$12:$AE$17,2,FALSE),\"\")","v":""},{"$f":"IF(Datos_de_Tarjetas!G55=0,\"\",Datos_de_Tarjetas!G55)","v":""},{"$f":"IFERROR(VLOOKUP(Datos_de_Tarjetas!K55,Parámetros!$AJ$3:$AK$13,2,FALSE),\"\")","v":""},{"$f":"IFERROR(VLOOKUP(Datos_de_Tarjetas!J55,Parámetros!$AQ$3:$AR$57,2,FALSE),\"\")","v":""},null,{"$f":"IF(Datos_de_Tarjetas!L55=0,\"\",Datos_de_Tarjetas!L55)","v":""},{"$f":"IF(Datos_de_Tarjetas!M55=0,\"\",Datos_de_Tarjetas!M55)","v":""},{"$f":"IF(Datos_de_Tarjetas!N55=0,\"\",Datos_de_Tarjetas!N55)","v":""},{"$f":"IFERROR(VLOOKUP(Datos_de_Tarjetas!P55,Parámetros!$AM$3:$AN$90,2,FALSE),\"\")","v":""}]
[null,1069470000,{"$f":"IFERROR(VLOOKUP(Datos_de_Tarjetas!D56,Parámetros!$AD$12:$AE$17,2,FALSE),\"\")","v":""},{"$f":"IF(Datos_de_Tarjetas!G56=0,\"\",Datos_de_Tarjetas!G56)","v":""},{"$f":"IFERROR(VLOOKUP(Datos_de_Tarjetas!K56,Parámetros!$AJ$3:$AK$13,2,FALSE),\"\")","v":""},{"$f":"IFERROR(VLOOKUP(Datos_de_Tarjetas!J56,Parámetros!$AQ$3:$AR$57,2,FALSE),\"\")","v":""},null,{"$f":"IF(Datos_de_Tarjetas!L56=0,\"\",Datos_de_Tarjetas!L56)","v":""},{"$f":"IF(Datos_de_Tarjetas!M56=0,\"\",Datos_de_Tarjetas!M56)","v":""},{"$f":"IF(Datos_de_Tarjetas!N56=0,\"\",Datos_de_Tarjetas!N56)","v":""},{"$f":"IFERROR(VLOOKUP(Datos_de_Tarjetas!P56,Parámetros!$AM$3:$AN$90,2,FALSE),\"\")","v":""}]
[null,1069470000,{"$f":"IFERROR(VLOOKUP(Datos_de_Tarjetas!D57,Parámetros!$AD$12:$AE$17,2,FALSE),\"\")","v":""},{"$f":"IF(Datos_de_Tarjetas!G57=0,\"\",Datos_de_Tarjetas!G57)","v":""},{"$f":"IFERROR(VLOOKUP(Datos_de_Tarjetas!K57,Parámetros!$AJ$3:$AK$13,2,FALSE),\"\")","v":""},{"$f":"IFERROR(VLOOKUP(Datos_de_Tarjetas!J57,Parámetros!$AQ$3:$AR$57,2,FALSE),\"\")","v":""},null,{"$f":"IF(Datos_de_Tarjetas!L57=0,\"\",Datos_de_Tarjetas!L57)","v":""},{"$f":"IF(Datos_de_Tarjetas!M57=0,\"\",Datos_de_Tarjetas!M57)","v":""},{"$f":"IF(Datos_de_Tarjetas!N57=0,\"\",Datos_de_Tarjetas!N57)","v":""},{"$f":"IFERROR(VLOOKUP(Datos_de_Tarjetas!P57,Parámetros!$AM$3:$AN$90,2,FALSE),\"\")","v":""}]
[null,1069470000,{"$f":"IFERROR(VLOOKUP(Datos_de_Tarjetas!D58,Parámetros!$AD$12:$AE$17,2,FALSE),\"\")","v":""},{"$f":"IF(Datos_de_Tarjetas!G58=0,\"\",Datos_de_Tarjetas!G58)","v":""},{"$f":"IFERROR(VLOOKUP(Datos_de_Tarjetas!K58,Parámetros!$AJ$3:$AK$13,2,FALSE),\"\")","v":""},{"$f":"IFERROR(VLOOKUP(Datos_de_Tarjetas!J58,Parámetros!$AQ$3:$AR$57,2,FALSE),\"\")","v":""},null,{"$f":"IF(Datos_de_Tarjetas!L58=0,\"\",Datos_de_Tarjetas!L58)","v":""},{"$f":"IF(Datos_de_Tarjetas!M58=0,\"\",Datos_de_Tarjetas!M58)","v":""},{"$f":"IF(Datos_de_Tarjetas!N58=0,\"\",Datos_de_Tarjetas!N58)","v":""},{"$f":"IFERROR(VLOOKUP(Datos_de_Tarjetas!P58,Parámetros!$AM$3:$AN$90,2,FALSE),\"\")","v":""}]
[null,1069470000,{"$f":"IFERROR(VLOOKUP(Datos_de_Tarjetas!D59,Parámetros!$AD$12:$AE$17,2,FALSE),\"\")","v":""},{"$f":"IF(Datos_de_Tarjetas!G59=0,\"\",Datos_de_Tarjetas!G59)","v":""},{"$f":"IFERROR(VLOOKUP(Datos_de_Tarjetas!K59,Parámetros!$AJ$3:$AK$13,2,FALSE),\"\")","v":""},{"$f":"IFERROR(VLOOKUP(Datos_de_Tarjetas!J59,Parámetros!$AQ$3:$AR$57,2,FALSE),\"\")","v":""},null,{"$f":"IF(Datos_de_Tarjetas!L59=0,\"\",Datos_de_Tarjetas!L59)","v":""},{"$f":"IF(Datos_de_Tarjetas!M59=0,\"\",Datos_de_Tarjetas!M59)","v":""},{"$f":"IF(Datos_de_Tarjetas!N59=0,\"\",Datos_de_Tarjetas!N59)","v":""},{"$f":"IFERROR(VLOOKUP(Datos_de_Tarjetas!P59,Parámetros!$AM$3:$AN$90,2,FALSE),\"\")","v":""}]
[null,1069470000,{"$f":"IFERROR(VLOOKUP(Datos_de_Tarjetas!D60,Parámetros!$AD$12:$AE$17,2,FALSE),\"\")","v":""},{"$f":"IF(Datos_de_Tarjetas!G60=0,\"\",Datos_de_Tarjetas!G60)","v":""},{"$f":"IFERROR(VLOOKUP(Datos_de_Tarjetas!K60,Parámetros!$AJ$3:$AK$13,2,FALSE),\"\")","v":""},{"$f":"IFERROR(VLOOKUP(Datos_de_Tarjetas!J60,Parámetros!$AQ$3:$AR$57,2,FALSE),\"\")","v":""},null,{"$f":"IF(Datos_de_Tarjetas!L60=0,\"\",Datos_de_Tarjetas!L60)","v":""},{"$f":"IF(Datos_de_Tarjetas!M60=0,\"\",Datos_de_Tarjetas!M60)","v":""},{"$f":"IF(Datos_de_Tarjetas!N60=0,\"\",Datos_de_Tarjetas!N60)","v":""},{"$f":"IFERROR(VLOOKUP(Datos_de_Tarjetas!P60,Parámetros!$AM$3:$AN$90,2,FALSE),\"\")","v":""}]
[null,1069470000,{"$f":"IFERROR(VLOOKUP(Datos_de_Tarjetas!D61,Parámetros!$AD$12:$AE$17,2,FALSE),\"\")","v":""},{"$f":"IF(Datos_de_Tarjetas!G61=0,\"\",Datos_de_Tarjetas!G61)","v":""},{"$f":"IFERROR(VLOOKUP(Datos_de_Tarjetas!K61,Parámetros!$AJ$3:$AK$13,2,FALSE),\"\")","v":""},{"$f":"IFERROR(VLOOKUP(Datos_de_Tarjetas!J61,Parámetros!$AQ$3:$AR$57,2,FALSE),\"\")","v":""},null,{"$f":"IF(Datos_de_Tarjetas!L61=0,\"\",Datos_de_Tarjetas!L61)","v":""},{"$f":"IF(Datos_de_Tarjetas!M61=0,\"\",Datos_de_Tarjetas!M61)","v":""},{"$f":"IF(Datos_de_Tarjetas!N61=0,\"\",Datos_de_Tarjetas!N61)","v":""},{"$f":"IFERROR(VLOOKUP(Datos_de_Tarjetas!P61,Parámetros!$AM$3:$AN$90,2,FALSE),\"\")","v":""}]
[null,1069470000,{"$f":"IFERROR(VLOOKUP(Datos_de_Tarjetas!D62,Parámetros!$AD$12:$AE$17,2,FALSE),\"\")","v":""},{"$f":"IF(Datos_de_Tarjetas!G62=0,\"\",Datos_de_Tarjetas!G62)","v":""},{"$f":"IFERROR(VLOOKUP(Datos_de_Tarjetas!K62,Parámetros!$AJ$3:$AK$13,2,FALSE),\"\")","v":""},{"$f":"IFERROR(VLOOKUP(Datos_de_Tarjetas!J62,Parámetros!$AQ$3:$AR$57,2,FALSE),\"\")","v":""},null,{"$f":"IF(Datos_de_Tarjetas!L62=0,\"\",Datos_de_Tarjetas!L62)","v":""},{"$f":"IF(Datos_de_Tarjetas!M62=0,\"\",Datos_de_Tarjetas!M62)","v":""},{"$f":"IF(Datos_de_Tarjetas!N62=0,\"\",Datos_de_Tarjetas!N62)","v":""},{"$f":"IFERROR(VLOOKUP(Datos_de_Tarjetas!P62,Parámetros!$AM$3:$AN$90,2,FALSE),\"\")","v":""}]
[null,1069470000,{"$f":"IFERROR(VLOOKUP(Datos_de_Tarjetas!D63,Parámetros!$AD$12:$AE$17,2,FALSE),\"\")","v":""},{"$f":"IF(Datos_de_Tarjetas!G63=0,\"\",Datos_de_Tarjetas!G63)","v":""},{"$f":"IFERROR(VLOOKUP(Datos_de_Tarjetas!K63,Parámetros!$AJ$3:$AK$13,2,FALSE),\"\")","v":""},{"$f":"IFERROR(VLOOKUP(Datos_de_Tarjetas!J63,Parámetros!$AQ$3:$AR$57,2,FALSE),\"\")","v":""},null,{"$f":"IF(Datos_de_Tarjetas!L63=0,\"\",Datos_de_Tarjetas!L63)","v":""},{"$f":"IF(Datos_de_Tarjetas!M63=0,\"\",Datos_de_Tarjetas!M63)","v":""},{"$f":"IF(Datos_de_Tarjetas!N63=0,\"\",Datos_de_Tarjetas!N63)","v":""},{"$f":"IFERROR(VLOOKUP(Datos_de_Tarjetas!P63,Parámetros!$AM$3:$AN$90,2,FALSE),\"\")","v":""}]
[null,1069470000,{"$f":"IFERROR(VLOOKUP(Datos_de_Tarjetas!D64,Parámetros!$AD$12:$AE$17,2,FALSE),\"\")","v":""},{"$f":"IF(Datos_de_Tarjetas!G64=0,\"\",Datos_de_Tarjetas!G64)","v":""},{"$f":"IFERROR(VLOOKUP(Datos_de_Tarjetas!K64,Parámetros!$AJ$3:$AK$13,2,FALSE),\"\")","v":""},{"$f":"IFERROR(VLOOKUP(Datos_de_Tarjetas!J64,Parámetros!$AQ$3:$AR$57,2,FALSE),\"\")","v":""},null,{"$f":"IF(Datos_de_Tarjetas!L64=0,\"\",Datos_de_Tarjetas!L64)","v":""},{"$f":"IF(Datos_de_Tarjetas!M64=0,\"\",Datos_de_Tarjetas!M64)","v":""},{"$f":"IF(Datos_de_Tarjetas!N64=0,\"\",Datos_de_Tarjetas!N64)","v":""},{"$f":"IFERROR(VLOOKUP(Datos_de_Tarjetas!P64,Parámetros!$AM$3:$AN$90,2,FALSE),\"\")","v":""}]
[null,1069470000,{"$f":"IFERROR(VLOOKUP(Datos_de_Tarjetas!D65,Parámetros!$AD$12:$AE$17,2,FALSE),\"\")","v":""},{"$f":"IF(Datos_de_Tarjetas!G65=0,\"\",Datos_de_Tarjetas!G65)","v":""},{"$f":"IFERROR(VLOOKUP(Datos_de_Tarjetas!K65,Parámetros!$AJ$3:$AK$13,2,FALSE),\"\")","v":""},{"$f":"IFERROR(VLOOKUP(Datos_de_Tarjetas!J65,Parámetros!$AQ$3:$AR$57,2,FALSE),\"\")","v":""},null,{"$f":"IF(Datos_de_Tarjetas!L65=0,\"\",Datos_de_Tarjetas!L65)","v":""},{"$f":"IF(Datos_de_Tarjetas!M65=0,\"\",Datos_de_Tarjetas!M65)","v":""},{"$f":"IF(Datos_de_Tarjetas!N65=0,\"\",Datos_de_Tarjetas!N65)","v":""},{"$f":"IFERROR(VLOOKUP(Datos_de_Tarjetas!P65,Parámetros!$AM$3:$AN$90,2,FALSE),\"\")","v":""}]
[null,1069470000,{"$f":"IFERROR(VLOOKUP(Datos_de_Tarjetas!D66,Parámetros!$AD$12:$AE$17,2,FALSE),\"\")","v":""},{"$f":"IF(Datos_de_Tarjetas!G66=0,\"\",Datos_de_Tarjetas!G66)","v":""},{"$f":"IFERROR(VLOOKUP(Datos_de_Tarjetas!K66,Parámetros!$AJ$3:$AK$13,2,FALSE),\"\")","v":""},{"$f":"IFERROR(VLOOKUP(Datos_de_Tarjetas!J66,Parámetros!$AQ$3:$AR$57,2,FALSE),\"\")","v":""},null,{"$f":"IF(Datos_de_Tarjetas!L66=0,\"\",Datos_de_Tarjetas!L66)","v":""},{"$f":"IF(Datos_de_Tarjetas!M66=0,\"\",Datos_de_Tarjetas!M66)","v":""},{"$f":"IF(Datos_de_Tarjetas!N66=0,\"\",Datos_de_Tarjetas!N66)","v":""},{"$f":"IFERROR(VLOOKUP(Datos_de_Tarjetas!P66,Parámetros!$AM$3:$AN$90,2,FALSE),\"\")","v":""}]
[null,1069470000,{"$f":"IFERROR(VLOOKUP(Datos_de_Tarjetas!D67,Parámetros!$AD$12:$AE$17,2,FALSE),\"\")","v":""},{"$f":"IF(Datos_de_Tarjetas!G67=0,\"\",Datos_de_Tarjetas!G67)","v":""},{"$f":"IFERROR(VLOOKUP(Datos_de_Tarjetas!K67,Parámetros!$AJ$3:$AK$13,2,FALSE),\"\")","v":""},{"$f":"IFERROR(VLOOKUP(Datos_de_Tarjetas!J67,Parámetros!$AQ$3:$AR$57,2,FALSE),\"\")","v":""},null,{"$f":"IF(Datos_de_Tarjetas!L67=0,\"\",Datos_de_Tarjetas!L67)","v":""},{"$f":"IF(Datos_de_Tarjetas!M67=0,\"\",Datos_de_Tarjetas!M67)","v":""},{"$f":"IF(Datos_de_Tarjetas!N67=0,\"\",Datos_de_Tarjetas!N67)","v":""},{"$f":"IFERROR(VLOOKUP(Datos_de_Tarjetas!P67,Parámetros!$AM$3:$AN$90,2,FALSE),\"\")","v":""}]
[null,1069470000,{"$f":"IFERROR(VLOOKUP(Datos_de_Tarjetas!D68,Parámetros!$AD$12:$AE$17,2,FALSE),\"\")","v":""},{"$f":"IF(Datos_de_Tarjetas!G68=0,\"\",Datos_de_Tarjetas!G68)","v":""},{"$f":"IFERROR(VLOOKUP(Datos_de_Tarjetas!K68,Parámetros!$AJ$3:$AK$13,2,FALSE),\"\")","v":""},{"$f":"IFERROR(VLOOKUP(Datos_de_Tarjetas!J68,Parámetros!$AQ$3:$AR$57,2,FALSE),\"\")","v":""},null,{"$f":"IF(Datos_de_Tarjetas!L68=0,\"\",Datos_de_Tarjetas!L68)","v":""},{"$f":"IF(Datos_de_Tarjetas!M68=0,\"\",Datos_de_Tarjetas!M68)","v":""},{"$f":"IF(Datos_de_Tarjetas!N68=0,\"\",Datos_de_Tarjetas!N68)","v":""},{"$f":"IFERROR(VLOOKUP(Datos_de_Tarjetas!P68,Parámetros!$AM$3:$AN$90,2,FALSE),\"\")","v":""}]
[null,1069470000,{"$f":"IFERROR(VLOOKUP(Datos_de_Tarjetas!D69,Parámetros!$AD$12:$AE$17,2,FALSE),\"\")","v":""},{"$f":"IF(Datos_de_Tarjetas!G69=0,\"\",Datos_de_Tarjetas!G69)","v":""},{"$f":"IFERROR(VLOOKUP(Datos_de_Tarjetas!K69,Parámetros!$AJ$3:$AK$13,2,FALSE),\"\")","v":""},{"$f":"IFERROR(VLOOKUP(Datos_de_Tarjetas!J69,Parámetros!$AQ$3:$AR$57,2,FALSE),\"\")","v":""},null,{"$f":"IF(Datos_de_Tarjetas!L69=0,\"\",Datos_de_Tarjetas!L69)","v":""},{"$f":"IF(Datos_de_Tarjetas!M69=0,\"\",Datos_de_Tarjetas!M69)","v":""},{"$f":"IF(Datos_de_Tarjetas!N69=0,\"\",Datos_de_Tarjetas!N69)","v":""},{"$f":"IFERROR(VLOOKUP(Datos_de_Tarjetas!P69,Parámetros!$AM$3:$AN$90,2,FALSE),\"\")","v":""}]
[null,1069470000,{"$f":"IFERROR(VLOOKUP(Datos_de_Tarjetas!D70,Parámetros!$AD$12:$AE$17,2,FALSE),\"\")","v":""},{"$f":"IF(Datos_de_Tarjetas!G70=0,\"\",Datos_de_Tarjetas!G70)","v":""},{"$f":"IFERROR(VLOOKUP(Datos_de_Tarjetas!K70,Parámetros!$AJ$3:$AK$13,2,FALSE),\"\")","v":""},{"$f":"IFERROR(VLOOKUP(Datos_de_Tarjetas!J70,Parámetros!$AQ$3:$AR$57,2,FALSE),\"\")","v":""},null,{"$f":"IF(Datos_de_Tarjetas!L70=0,\"\",Datos_de_Tarjetas!L70)","v":""},{"$f":"IF(Datos_de_Tarjetas!M70=0,\"\",Datos_de_Tarjetas!M70)","v":""},{"$f":"IF(Datos_de_Tarjetas!N70=0,\"\",Datos_de_Tarjetas!N70)","v":""},{"$f":"IFERROR(VLOOKUP(Datos_de_Tarjetas!P70,Parámetros!$AM$3:$AN$90,2,FALSE),\"\")","v":""}]
[null,1069470000,{"$f":"IFERROR(VLOOKUP(Datos_de_Tarjetas!D71,Parámetros!$AD$12:$AE$17,2,FALSE),\"\")","v":""},{"$f":"IF(Datos_de_Tarjetas!G71=0,\"\",Datos_de_Tarjetas!G71)","v":""},{"$f":"IFERROR(VLOOKUP(Datos_de_Tarjetas!K71,Parámetros!$AJ$3:$AK$13,2,FALSE),\"\")","v":""},{"$f":"IFERROR(VLOOKUP(Datos_de_Tarjetas!J71,Parámetros!$AQ$3:$AR$57,2,FALSE),\"\")","v":""},null,{"$f":"IF(Datos_de_Tarjetas!L71=0,\"\",Datos_de_Tarjetas!L71)","v":""},{"$f":"IF(Datos_de_Tarjetas!M71=0,\"\",Datos_de_Tarjetas!M71)","v":""},{"$f":"IF(Datos_de_Tarjetas!N71=0,\"\",Datos_de_Tarjetas!N71)","v":""},{"$f":"IFERROR(VLOOKUP(Datos_de_Tarjetas!P71,Parámetros!$AM$3:$AN$90,2,FALSE),\"\")","v":""}]
[null,1069470000,{"$f":"IFERROR(VLOOKUP(Datos_de_Tarjetas!D72,Parámetros!$AD$12:$AE$17,2,FALSE),\"\")","v":""},{"$f":"IF(Datos_de_Tarjetas!G72=0,\"\",Datos_de_Tarjetas!G72)","v":""},{"$f":"IFERROR(VLOOKUP(Datos_de_Tarjetas!K72,Parámetros!$AJ$3:$AK$13,2,FALSE),\"\")","v":""},{"$f":"IFERROR(VLOOKUP(Datos_de_Tarjetas!J72,Parámetros!$AQ$3:$AR$57,2,FALSE),\"\")","v":""},null,{"$f":"IF(Datos_de_Tarjetas!L72=0,\"\",Datos_de_Tarjetas!L72)","v":""},{"$f":"IF(Datos_de_Tarjetas!M72=0,\"\",Datos_de_Tarjetas!M72)","v":""},{"$f":"IF(Datos_de_Tarjetas!N72=0,\"\",Datos_de_Tarjetas!N72)","v":""},{"$f":"IFERROR(VLOOKUP(Datos_de_Tarjetas!P72,Parámetros!$AM$3:$AN$90,2,FALSE),\"\")","v":""}]
[null,1069470000,{"$f":"IFERROR(VLOOKUP(Datos_de_Tarjetas!D73,Parámetros!$AD$12:$AE$17,2,FALSE),\"\")","v":""},{"$f":"IF(Datos_de_Tarjetas!G73=0,\"\",Datos_de_Tarjetas!G73)","v":""},{"$f":"IFERROR(VLOOKUP(Datos_de_Tarjetas!K73,Parámetros!$AJ$3:$AK$13,2,FALSE),\"\")","v":""},{"$f":"IFERROR(VLOOKUP(Datos_de_Tarjetas!J73,Parámetros!$AQ$3:$AR$57,2,FALSE),\"\")","v":""},null,{"$f":"IF(Datos_de_Tarjetas!L73=0,\"\",Datos_de_Tarjetas!L73)","v":""},{"$f":"IF(Datos_de_Tarjetas!M73=0,\"\",Datos_de_Tarjetas!M73)","v":""},{"$f":"IF(Datos_de_Tarjetas!N73=0,\"\",Datos_de_Tarjetas!N73)","v":""},{"$f":"IFERROR(VLOOKUP(Datos_de_Tarjetas!P73,Parámetros!$AM$3:$AN$90,2,FALSE),\"\")","v":""}]
[null,1069470000,{"$f":"IFERROR(VLOOKUP(Datos_de_Tarjetas!D74,Parámetros!$AD$12:$AE$17,2,FALSE),\"\")","v":""},{"$f":"IF(Datos_de_Tarjetas!G74=0,\"\",Datos_de_Tarjetas!G74)","v":""},{"$f":"IFERROR(VLOOKUP(Datos_de_Tarjetas!K74,Parámetros!$AJ$3:$AK$13,2,FALSE),\"\")","v":""},{"$f":"IFERROR(VLOOKUP(Datos_de_Tarjetas!J74,Parámetros!$AQ$3:$AR$57,2,FALSE),\"\")","v":""},null,{"$f":"IF(Datos_de_Tarjetas!L74=0,\"\",Datos_de_Tarjetas!L74)","v":""},{"$f":"IF(Datos_de_Tarjetas!M74=0,\"\",Datos_de_Tarjetas!M74)","v":""},{"$f":"IF(Datos_de_Tarjetas!N74=0,\"\",Datos_de_Tarjetas!N74)","v":""},{"$f":"IFERROR(VLOOKUP(Datos_de_Tarjetas!P74,Parámetros!$AM$3:$AN$90,2,FALSE),\"\")","v":""}]
[null,1069470000,{"$f":"IFERROR(VLOOKUP(Datos_de_Tarjetas!D75,Parámetros!$AD$12:$AE$17,2,FALSE),\"\")","v":""},{"$f":"IF(Datos_de_Tarjetas!G75=0,\"\",Datos_de_Tarjetas!G75)","v":""},{"$f":"IFERROR(VLOOKUP(Datos_de_Tarjetas!K75,Parámetros!$AJ$3:$AK$13,2,FALSE),\"\")","v":""},{"$f":"IFERROR(VLOOKUP(Datos_de_Tarjetas!J75,Parámetros!$AQ$3:$AR$57,2,FALSE),\"\")","v":""},null,{"$f":"IF(Datos_de_Tarjetas!L75=0,\"\",Datos_de_Tarjetas!L75)","v":""},{"$f":"IF(Datos_de_Tarjetas!M75=0,\"\",Datos_de_Tarjetas!M75)","v":""},{"$f":"IF(Datos_de_Tarjetas!N75=0,\"\",Datos_de_Tarjetas!N75)","v":""},{"$f":"IFERROR(VLOOKUP(Datos_de_Tarjetas!P75,Parámetros!$AM$3:$AN$90,2,FALSE),\"\")","v":""}]
[null,1069470000,{"$f":"IFERROR(VLOOKUP(Datos_de_Tarjetas!D76,Parámetros!$AD$12:$AE$17,2,FALSE),\"\")","v":""},{"$f":"IF(Datos_de_Tarjetas!G76=0,\"\",Datos_de_Tarjetas!G76)","v":""},{"$f":"IFERROR(VLOOKUP(Datos_de_Tarjetas!K76,Parámetros!$AJ$3:$AK$13,2,FALSE),\"\")","v":""},{"$f":"IFERROR(VLOOKUP(Datos_de_Tarjetas!J76,Parámetros!$AQ$3:$AR$57,2,FALSE),\"\")","v":""},null,{"$f":"IF(Datos_de_Tarjetas!L76=0,\"\",Datos_de_Tarjetas!L76)","v":""},{"$f":"IF(Datos_de_Tarjetas!M76=0,\"\",Datos_de_Tarjetas!M76)","v":""},{"$f":"IF(Datos_de_Tarjetas!N76=0,\"\",Datos_de_Tarjetas!N76)","v":""},{"$f":"IFERROR(VLOOKUP(Datos_de_Tarjetas!P76,Parámetros!$AM$3:$AN$90,2,FALSE),\"\")","v":""}]
[null,1069470000,{"$f":"IFERROR(VLOOKUP(Datos_de_Tarjetas!D77,Parámetros!$AD$12:$AE$17,2,FALSE),\"\")","v":""},{"$f":"IF(Datos_de_Tarjetas!G77=0,\"\",Datos_de_Tarjetas!G77)","v":""},{"$f":"IFERROR(VLOOKUP(Datos_de_Tarjetas!K77,Parámetros!$AJ$3:$AK$13,2,FALSE),\"\")","v":""},{"$f":"IFERROR(VLOOKUP(Datos_de_Tarjetas!J77,Parámetros!$AQ$3:$AR$57,2,FALSE),\"\")","v":""},null,{"$f":"IF(Datos_de_Tarjetas!L77=0,\"\",Datos_de_Tarjetas!L77)","v":""},{"$f":"IF(Datos_de_Tarjetas!M77=0,\"\",Datos_de_Tarjetas!M77)","v":""},{"$f":"IF(Datos_de_Tarjetas!N77=0,\"\",Datos_de_Tarjetas!N77)","v":""},{"$f":"IFERROR(VLOOKUP(Datos_de_Tarjetas!P77,Parámetros!$AM$3:$AN$90,2,FALSE),\"\")","v":""}]
[null,1069470000,{"$f":"IFERROR(VLOOKUP(Datos_de_Tarjetas!D78,Parámetros!$AD$12:$AE$17,2,FALSE),\"\")","v":""},{"$f":"IF(Datos_de_Tarjetas!G78=0,\"\",Datos_de_Tarjetas!G78)","v":""},{"$f":"IFERROR(VLOOKUP(Datos_de_Tarjetas!K78,Parámetros!$AJ$3:$AK$13,2,FALSE),\"\")","v":""},{"$f":"IFERROR(VLOOKUP(Datos_de_Tarjetas!J78,Parámetros!$AQ$3:$AR$57,2,FALSE),\"\")","v":""},null,{"$f":"IF(Datos_de_Tarjetas!L78=0,\"\",Datos_de_Tarjetas!L78)","v":""},{"$f":"IF(Datos_de_Tarjetas!M78=0,\"\",Datos_de_Tarjetas!M78)","v":""},{"$f":"IF(Datos_de_Tarjetas!N78=0,\"\",Datos_de_Tarjetas!N78)","v":""},{"$f":"IFERROR(VLOOKUP(Datos_de_Tarjetas!P78,Parámetros!$AM$3:$AN$90,2,FALSE),\"\")","v":""}]
[null,1069470000,{"$f":"IFERROR(VLOOKUP(Datos_de_Tarjetas!D79,Parámetros!$AD$12:$AE$17,2,FALSE),\"\")","v":""},{"$f":"IF(Datos_de_Tarjetas!G79=0,\"\",Datos_de_Tarjetas!G79)","v":""},{"$f":"IFERROR(VLOOKUP(Datos_de_Tarjetas!K79,Parámetros!$AJ$3:$AK$13,2,FALSE),\"\")","v":""},{"$f":"IFERROR(VLOOKUP(Datos_de_Tarjetas!J79,Parámetros!$AQ$3:$AR$57,2,FALSE),\"\")","v":""},null,{"$f":"IF(Datos_de_Tarjetas!L79=0,\"\",Datos_de_Tarjetas!L79)","v":""},{"$f":"IF(Datos_de_Tarjetas!M79=0,\"\",Datos_de_Tarjetas!M79)","v":""},{"$f":"IF(Datos_de_Tarjetas!N79=0,\"\",Datos_de_Tarjetas!N79)","v":""},{"$f":"IFERROR(VLOOKUP(Datos_de_Tarjetas!P79,Parámetros!$AM$3:$AN$90,2,FALSE),\"\")","v":""}]
[null,1069470000,{"$f":"IFERROR(VLOOKUP(Datos_de_Tarjetas!D80,Parámetros!$AD$12:$AE$17,2,FALSE),\"\")","v":""},{"$f":"IF(Datos_de_Tarjetas!G80=0,\"\",Datos_de_Tarjetas!G80)","v":""},{"$f":"IFERROR(VLOOKUP(Datos_de_Tarjetas!K80,Parámetros!$AJ$3:$AK$13,2,FALSE),\"\")","v":""},{"$f":"IFERROR(VLOOKUP(Datos_de_Tarjetas!J80,Parámetros!$AQ$3:$AR$57,2,FALSE),\"\")","v":""},null,{"$f":"IF(Datos_de_Tarjetas!L80=0,\"\",Datos_de_Tarjetas!L80)","v":""},{"$f":"IF(Datos_de_Tarjetas!M80=0,\"\",Datos_de_Tarjetas!M80)","v":""},{"$f":"IF(Datos_de_Tarjetas!N80=0,\"\",Datos_de_Tarjetas!N80)","v":""},{"$f":"IFERROR(VLOOKUP(Datos_de_Tarjetas!P80,Parámetros!$AM$3:$AN$90,2,FALSE),\"\")","v":""}]
[null,{"$f":"$C$2","v":1069470000},{"$f":"IFERROR(VLOOKUP(Datos_de_Tarjetas!D81,Parámetros!$AD$12:$AE$17,2,FALSE),\"\")","v":""},{"$f":"IF(Datos_de_Tarjetas!G81=0,\"\",Datos_de_Tarjetas!G81)","v":""},{"$f":"IFERROR(VLOOKUP(Datos_de_Tarjetas!K81,Parámetros!$AJ$3:$AK$13,2,FALSE),\"\")","v":""},{"$f":"IFERROR(VLOOKUP(Datos_de_Tarjetas!J81,Parámetros!$AQ$3:$AR$57,2,FALSE),\"\")","v":""},null,{"$f":"IF(Datos_de_Tarjetas!L81=0,\"\",Datos_de_Tarjetas!L81)","v":""},{"$f":"IF(Datos_de_Tarjetas!M81=0,\"\",Datos_de_Tarjetas!M81)","v":""},{"$f":"IF(Datos_de_Tarjetas!N81=0,\"\",Datos_de_Tarjetas!N81)","v":""},{"$f":"IFERROR(VLOOKUP(Datos_de_Tarjetas!P81,Parámetros!$AM$3:$AN$90,2,FALSE),\"\")","v":""}]
[null,1069470000,{"$f":"IFERROR(VLOOKUP(Datos_de_Tarjetas!D82,Parámetros!$AD$12:$AE$17,2,FALSE),\"\")","v":""},{"$f":"IF(Datos_de_Tarjetas!G82=0,\"\",Datos_de_Tarjetas!G82)","v":""},{"$f":"IFERROR(VLOOKUP(Datos_de_Tarjetas!K82,Parámetros!$AJ$3:$AK$13,2,FALSE),\"\")","v":""},{"$f":"IFERROR(VLOOKUP(Datos_de_Tarjetas!J82,Parámetros!$AQ$3:$AR$57,2,FALSE),\"\")","v":""},null,{"$f":"IF(Datos_de_Tarjetas!L82=0,\"\",Datos_de_Tarjetas!L82)","v":""},{"$f":"IF(Datos_de_Tarjetas!M82=0,\"\",Datos_de_Tarjetas!M82)","v":""},{"$f":"IF(Datos_de_Tarjetas!N82=0,\"\",Datos_de_Tarjetas!N82)","v":""},{"$f":"IFERROR(VLOOKUP(Datos_de_Tarjetas!P82,Parámetros!$AM$3:$AN$90,2,FALSE),\"\")","v":""}]
[null,1069470000,{"$f":"IFERROR(VLOOKUP(Datos_de_Tarjetas!D83,Parámetros!$AD$12:$AE$17,2,FALSE),\"\")","v":""},{"$f":"IF(Datos_de_Tarjetas!G83=0,\"\",Datos_de_Tarjetas!G83)","v":""},{"$f":"IFERROR(VLOOKUP(Datos_de_Tarjetas!K83,Parámetros!$AJ$3:$AK$13,2,FALSE),\"\")","v":""},{"$f":"IFERROR(VLOOKUP(Datos_de_Tarjetas!J83,Parámetros!$AQ$3:$AR$57,2,FALSE),\"\")","v":""},null,{"$f":"IF(Datos_de_Tarjetas!L83=0,\"\",Datos_de_Tarjetas!L83)","v":""},{"$f":"IF(Datos_de_Tarjetas!M83=0,\"\",Datos_de_Tarjetas!M83)","v":""},{"$f":"IF(Datos_de_Tarjetas!N83=0,\"\",Datos_de_Tarjetas!N83)","v":""},{"$f":"IFERROR(VLOOKUP(Datos_de_Tarjetas!P83,Parámetros!$AM$3:$AN$90,2,FALSE),\"\")","v":""}]
[null,1069470000,{"$f":"IFERROR(VLOOKUP(Datos_de_Tarjetas!D84,Parámetros!$AD$12:$AE$17,2,FALSE),\"\")","v":""},{"$f":"IF(Datos_de_Tarjetas!G84=0,\"\",Datos_de_Tarjetas!G84)","v":""},{"$f":"IFERROR(VLOOKUP(Datos_de_Tarjetas!K84,Parámetros!$AJ$3:$AK$13,2,FALSE),\"\")","v":""},{"$f":"IFERROR(VLOOKUP(Datos_de_Tarjetas!J84,Parámetros!$AQ$3:$AR$57,2,FALSE),\"\")","v":""},null,{"$f":"IF(Datos_de_Tarjetas!L84=0,\"\",Datos_de_Tarjetas!L84)","v":""},{"$f":"IF(Datos_de_Tarjetas!M84=0,\"\",Datos_de_Tarjetas!M84)","v":""},{"$f":"IF(Datos_de_Tarjetas!N84=0,\"\",Datos_de_Tarjetas!N84)","v":""},{"$f":"IFERROR(VLOOKUP(Datos_de_Tarjetas!P84,Parámetros!$AM$3:$AN$90,2,FALSE),\"\")","v":""}]
[null,1069470000,{"$f":"IFERROR(VLOOKUP(Datos_de_Tarjetas!D85,Parámetros!$AD$12:$AE$17,2,FALSE),\"\")","v":""},{"$f":"IF(Datos_de_Tarjetas!G85=0,\"\",Datos_de_Tarjetas!G85)","v":""},{"$f":"IFERROR(VLOOKUP(Datos_de_Tarjetas!K85,Parámetros!$AJ$3:$AK$13,2,FALSE),\"\")","v":""},{"$f":"IFERROR(VLOOKUP(Datos_de_Tarjetas!J85,Parámetros!$AQ$3:$AR$57,2,FALSE),\"\")","v":""},null,{"$f":"IF(Datos_de_Tarjetas!L85=0,\"\",Datos_de_Tarjetas!L85)","v":""},{"$f":"IF(Datos_de_Tarjetas!M85=0,\"\",Datos_de_Tarjetas!M85)","v":""},{"$f":"IF(Datos_de_Tarjetas!N85=0,\"\",Datos_de_Tarjetas!N85)","v":""},{"$f":"IFERROR(VLOOKUP(Datos_de_Tarjetas!P85,Parámetros!$AM$3:$AN$90,2,FALSE),\"\")","v":""}]
[null,1069470000,{"$f":"IFERROR(VLOOKUP(Datos_de_Tarjetas!D86,Parámetros!$AD$12:$AE$17,2,FALSE),\"\")","v":""},{"$f":"IF(Datos_de_Tarjetas!G86=0,\"\",Datos_de_Tarjetas!G86)","v":""},{"$f":"IFERROR(VLOOKUP(Datos_de_Tarjetas!K86,Parámetros!$AJ$3:$AK$13,2,FALSE),\"\")","v":""},{"$f":"IFERROR(VLOOKUP(Datos_de_Tarjetas!J86,Parámetros!$AQ$3:$AR$57,2,FALSE),\"\")","v":""},null,{"$f":"IF(Datos_de_Tarjetas!L86=0,\"\",Datos_de_Tarjetas!L86)","v":""},{"$f":"IF(Datos_de_Tarjetas!M86=0,\"\",Datos_de_Tarjetas!M86)","v":""},{"$f":"IF(Datos_de_Tarjetas!N86=0,\"\",Datos_de_Tarjetas!N86)","v":""},{"$f":"IFERROR(VLOOKUP(Datos_de_Tarjetas!P86,Parámetros!$AM$3:$AN$90,2,FALSE),\"\")","v":""}]
[null,1069470000,{"$f":"IFERROR(VLOOKUP(Datos_de_Tarjetas!D87,Parámetros!$AD$12:$AE$17,2,FALSE),\"\")","v":""},{"$f":"IF(Datos_de_Tarjetas!G87=0,\"\",Datos_de_Tarjetas!G87)","v":""},{"$f":"IFERROR(VLOOKUP(Datos_de_Tarjetas!K87,Parámetros!$AJ$3:$AK$13,2,FALSE),\"\")","v":""},{"$f":"IFERROR(VLOOKUP(Datos_de_Tarjetas!J87,Parámetros!$AQ$3:$AR$57,2,FALSE),\"\")","v":""},null,{"$f":"IF(Datos_de_Tarjetas!L87=0,\"\",Datos_de_Tarjetas!L87)","v":""},{"$f":"IF(Datos_de_Tarjetas!M87=0,\"\",Datos_de_Tarjetas!M87)","v":""},{"$f":"IF(Datos_de_Tarjetas!N87=0,\"\",Datos_de_Tarjetas!N87)","v":""},{"$f":"IFERROR(VLOOKUP(Datos_de_Tarjetas!P87,Parámetros!$AM$3:$AN$90,2,FALSE),\"\")","v":""}]
[null,1069470000,{"$f":"IFERROR(VLOOKUP(Datos_de_Tarjetas!D88,Parámetros!$AD$12:$AE$17,2,FALSE),\"\")","v":""},{"$f":"IF(Datos_de_Tarjetas!G88=0,\"\",Datos_de_Tarjetas!G88)","v":""},{"$f":"IFERROR(VLOOKUP(Datos_de_Tarjetas!K88,Parámetros!$AJ$3:$AK$13,2,FALSE),\"\")","v":""},{"$f":"IFERROR(VLOOKUP(Datos_de_Tarjetas!J88,Parámetros!$AQ$3:$AR$57,2,FALSE),\"\")","v":""},null,{"$f":"IF(Datos_de_Tarjetas!L88=0,\"\",Datos_de_Tarjetas!L88)","v":""},{"$f":"IF(Datos_de_Tarjetas!M88=0,\"\",Datos_de_Tarjetas!M88)","v":""},{"$f":"IF(Datos_de_Tarjetas!N88=0,\"\",Datos_de_Tarjetas!N88)","v":""},{"$f":"IFERROR(VLOOKUP(Datos_de_Tarjetas!P88,Parámetros!$AM$3:$AN$90,2,FALSE),\"\")","v":""}]
[null,1069470000,{"$f":"IFERROR(VLOOKUP(Datos_de_Tarjetas!D89,Parámetros!$AD$12:$AE$17,2,FALSE),\"\")","v":""},{"$f":"IF(Datos_de_Tarjetas!G89=0,\"\",Datos_de_Tarjetas!G89)","v":""},{"$f":"IFERROR(VLOOKUP(Datos_de_Tarjetas!K89,Parámetros!$AJ$3:$AK$13,2,FALSE),\"\")","v":""},{"$f":"IFERROR(VLOOKUP(Datos_de_Tarjetas!J89,Parámetros!$AQ$3:$AR$57,2,FALSE),\"\")","v":""},null,{"$f":"IF(Datos_de_Tarjetas!L89=0,\"\",Datos_de_Tarjetas!L89)","v":""},{"$f":"IF(Datos_de_Tarjetas!M89=0,\"\",Datos_de_Tarjetas!M89)","v":""},{"$f":"IF(Datos_de_Tarjetas!N89=0,\"\",Datos_de_Tarjetas!N89)","v":""},{"$f":"IFERROR(VLOOKUP(Datos_de_Tarjetas!P89,Parámetros!$AM$3:$AN$90,2,FALSE),\"\")","v":""}]
[null,1069470000,{"$f":"IFERROR(VLOOKUP(Datos_de_Tarjetas!D90,Parámetros!$AD$12:$AE$17,2,FALSE),\"\")","v":""},{"$f":"IF(Datos_de_Tarjetas!G90=0,\"\",Datos_de_Tarjetas!G90)","v":""},{"$f":"IFERROR(VLOOKUP(Datos_de_Tarjetas!K90,Parámetros!$AJ$3:$AK$13,2,FALSE),\"\")","v":""},{"$f":"IFERROR(VLOOKUP(Datos_de_Tarjetas!J90,Parámetros!$AQ$3:$AR$57,2,FALSE),\"\")","v":""},null,{"$f":"IF(Datos_de_Tarjetas!L90=0,\"\",Datos_de_Tarjetas!L90)","v":""},{"$f":"IF(Datos_de_Tarjetas!M90=0,\"\",Datos_de_Tarjetas!M90)","v":""},{"$f":"IF(Datos_de_Tarjetas!N90=0,\"\",Datos_de_Tarjetas!N90)","v":""},{"$f":"IFERROR(VLOOKUP(Datos_de_Tarjetas!P90,Parámetros!$AM$3:$AN$90,2,FALSE),\"\")","v":""}]
[null,1069470000,{"$f":"IFERROR(VLOOKUP(Datos_de_Tarjetas!D91,Parámetros!$AD$12:$AE$17,2,FALSE),\"\")","v":""},{"$f":"IF(Datos_de_Tarjetas!G91=0,\"\",Datos_de_Tarjetas!G91)","v":""},{"$f":"IFERROR(VLOOKUP(Datos_de_Tarjetas!K91,Parámetros!$AJ$3:$AK$13,2,FALSE),\"\")","v":""},{"$f":"IFERROR(VLOOKUP(Datos_de_Tarjetas!J91,Parámetros!$AQ$3:$AR$57,2,FALSE),\"\")","v":""},null,{"$f":"IF(Datos_de_Tarjetas!L91=0,\"\",Datos_de_Tarjetas!L91)","v":""},{"$f":"IF(Datos_de_Tarjetas!M91=0,\"\",Datos_de_Tarjetas!M91)","v":""},{"$f":"IF(Datos_de_Tarjetas!N91=0,\"\",Datos_de_Tarjetas!N91)","v":""},{"$f":"IFERROR(VLOOKUP(Datos_de_Tarjetas!P91,Parámetros!$AM$3:$AN$90,2,FALSE),\"\")","v":""}]
[null,1069470000,{"$f":"IFERROR(VLOOKUP(Datos_de_Tarjetas!D92,Parámetros!$AD$12:$AE$17,2,FALSE),\"\")","v":""},{"$f":"IF(Datos_de_Tarjetas!G92=0,\"\",Datos_de_Tarjetas!G92)","v":""},{"$f":"IFERROR(VLOOKUP(Datos_de_Tarjetas!K92,Parámetros!$AJ$3:$AK$13,2,FALSE),\"\")","v":""},{"$f":"IFERROR(VLOOKUP(Datos_de_Tarjetas!J92,Parámetros!$AQ$3:$AR$57,2,FALSE),\"\")","v":""},null,{"$f":"IF(Datos_de_Tarjetas!L92=0,\"\",Datos_de_Tarjetas!L92)","v":""},{"$f":"IF(Datos_de_Tarjetas!M92=0,\"\",Datos_de_Tarjetas!M92)","v":""},{"$f":"IF(Datos_de_Tarjetas!N92=0,\"\",Datos_de_Tarjetas!N92)","v":""},{"$f":"IFERROR(VLOOKUP(Datos_de_Tarjetas!P92,Parámetros!$AM$3:$AN$90,2,FALSE),\"\")","v":""}]
[null,1069470000,{"$f":"IFERROR(VLOOKUP(Datos_de_Tarjetas!D93,Parámetros!$AD$12:$AE$17,2,FALSE),\"\")","v":""},{"$f":"IF(Datos_de_Tarjetas!G93=0,\"\",Datos_de_Tarjetas!G93)","v":""},{"$f":"IFERROR(VLOOKUP(Datos_de_Tarjetas!K93,Parámetros!$AJ$3:$AK$13,2,FALSE),\"\")","v":""},{"$f":"IFERROR(VLOOKUP(Datos_de_Tarjetas!J93,Parámetros!$AQ$3:$AR$57,2,FALSE),\"\")","v":""},null,{"$f":"IF(Datos_de_Tarjetas!L93=0,\"\",Datos_de_Tarjetas!L93)","v":""},{"$f":"IF(Datos_de_Tarjetas!M93=0,\"\",Datos_de_Tarjetas!M93)","v":""},{"$f":"IF(Datos_de_Tarjetas!N93=0,\"\",Datos_de_Tarjetas!N93)","v":""},{"$f":"IFERROR(VLOOKUP(Datos_de_Tarjetas!P93,Parámetros!$AM$3:$AN$90,2,FALSE),\"\")","v":""}]
[null,1069470000,{"$f":"IFERROR(VLOOKUP(Datos_de_Tarjetas!D94,Parámetros!$AD$12:$AE$17,2,FALSE),\"\")","v":""},{"$f":"IF(Datos_de_Tarjetas!G94=0,\"\",Datos_de_Tarjetas!G94)","v":""},{"$f":"IFERROR(VLOOKUP(Datos_de_Tarjetas!K94,Parámetros!$AJ$3:$AK$13,2,FALSE),\"\")","v":""},{"$f":"IFERROR(VLOOKUP(Datos_de_Tarjetas!J94,Parámetros!$AQ$3:$AR$57,2,FALSE),\"\")","v":""},null,{"$f":"IF(Datos_de_Tarjetas!L94=0,\"\",Datos_de_Tarjetas!L94)","v":""},{"$f":"IF(Datos_de_Tarjetas!M94=0,\"\",Datos_de_Tarjetas!M94)","v":""},{"$f":"IF(Datos_de_Tarjetas!N94=0,\"\",Datos_de_Tarjetas!N94)","v":""},{"$f":"IFERROR(VLOOKUP(Datos_de_Tarjetas!P94,Parámetros!$AM$3:$AN$90,2,FALSE),\"\")","v":""}]
[null,1069470000,{"$f":"IFERROR(VLOOKUP(Datos_de_Tarjetas!D95,Parámetros!$AD$12:$AE$17,2,FALSE),\"\")","v":""},{"$f":"IF(Datos_de_Tarjetas!G95=0,\"\",Datos_de_Tarjetas!G95)","v":""},{"$f":"IFERROR(VLOOKUP(Datos_de_Tarjetas!K95,Parámetros!$AJ$3:$AK$13,2,FALSE),\"\")","v":""},{"$f":"IFERROR(VLOOKUP(Datos_de_Tarjetas!J95,Parámetros!$AQ$3:$AR$57,2,FALSE),\"\")","v":""},null,{"$f":"IF(Datos_de_Tarjetas!L95=0,\"\",Datos_de_Tarjetas!L95)","v":""},{"$f":"IF(Datos_de_Tarjetas!M95=0,\"\",Datos_de_Tarjetas!M95)","v":""},{"$f":"IF(Datos_de_Tarjetas!N95=0,\"\",Datos_de_Tarjetas!N95)","v":""},{"$f":"IFERROR(VLOOKUP(Datos_de_Tarjetas!P95,Parámetros!$AM$3:$AN$90,2,FALSE),\"\")","v":""}]
[null,1069470000,{"$f":"IFERROR(VLOOKUP(Datos_de_Tarjetas!D96,Parámetros!$AD$12:$AE$17,2,FALSE),\"\")","v":""},{"$f":"IF(Datos_de_Tarjetas!G96=0,\"\",Datos_de_Tarjetas!G96)","v":""},{"$f":"IFERROR(VLOOKUP(Datos_de_Tarjetas!K96,Parámetros!$AJ$3:$AK$13,2,FALSE),\"\")","v":""},{"$f":"IFERROR(VLOOKUP(Datos_de_Tarjetas!J96,Parámetros!$AQ$3:$AR$57,2,FALSE),\"\")","v":""},null,{"$f":"IF(Datos_de_Tarjetas!L96=0,\"\",Datos_de_Tarjetas!L96)","v":""},{"$f":"IF(Datos_de_Tarjetas!M96=0,\"\",Datos_de_Tarjetas!M96)","v":""},{"$f":"IF(Datos_de_Tarjetas!N96=0,\"\",Datos_de_Tarjetas!N96)","v":""},{"$f":"IFERROR(VLOOKUP(Datos_de_Tarjetas!P96,Parámetros!$AM$3:$AN$90,2,FALSE),\"\")","v":""}]
[null,1069470000,{"$f":"IFERROR(VLOOKUP(Datos_de_Tarjetas!D97,Parámetros!$AD$12:$AE$17,2,FALSE),\"\")","v":""},{"$f":"IF(Datos_de_Tarjetas!G97=0,\"\",Datos_de_Tarjetas!G97)","v":""},{"$f":"IFERROR(VLOOKUP(Datos_de_Tarjetas!K97,Parámetros!$AJ$3:$AK$13,2,FALSE),\"\")","v":""},{"$f":"IFERROR(VLOOKUP(Datos_de_Tarjetas!J97,Parámetros!$AQ$3:$AR$57,2,FALSE),\"\")","v":""},null,{"$f":"IF(Datos_de_Tarjetas!L97=0,\"\",Datos_de_Tarjetas!L97)","v":""},{"$f":"IF(Datos_de_Tarjetas!M97=0,\"\",Datos_de_Tarjetas!M97)","v":""},{"$f":"IF(Datos_de_Tarjetas!N97=0,\"\",Datos_de_Tarjetas!N97)","v":""},{"$f":"IFERROR(VLOOKUP(Datos_de_Tarjetas!P97,Parámetros!$AM$3:$AN$90,2,FALSE),\"\")","v":""}]
[null,1069470000,{"$f":"IFERROR(VLOOKUP(Datos_de_Tarjetas!D98,Parámetros!$AD$12:$AE$17,2,FALSE),\"\")","v":""},{"$f":"IF(Datos_de_Tarjetas!G98=0,\"\",Datos_de_Tarjetas!G98)","v":""},{"$f":"IFERROR(VLOOKUP(Datos_de_Tarjetas!K98,Parámetros!$AJ$3:$AK$13,2,FALSE),\"\")","v":""},{"$f":"IFERROR(VLOOKUP(Datos_de_Tarjetas!J98,Parámetros!$AQ$3:$AR$57,2,FALSE),\"\")","v":""},null,{"$f":"IF(Datos_de_Tarjetas!L98=0,\"\",Datos_de_Tarjetas!L98)","v":""},{"$f":"IF(Datos_de_Tarjetas!M98=0,\"\",Datos_de_Tarjetas!M98)","v":""},{"$f":"IF(Datos_de_Tarjetas!N98=0,\"\",Datos_de_Tarjetas!N98)","v":""},{"$f":"IFERROR(VLOOKUP(Datos_de_Tarjetas!P98,Parámetros!$AM$3:$AN$90,2,FALSE),\"\")","v":""}]
[null,1069470000,{"$f":"IFERROR(VLOOKUP(Datos_de_Tarjetas!D99,Parámetros!$AD$12:$AE$17,2,FALSE),\"\")","v":""},{"$f":"IF(Datos_de_Tarjetas!G99=0,\"\",Datos_de_Tarjetas!G99)","v":""},{"$f":"IFERROR(VLOOKUP(Datos_de_Tarjetas!K99,Parámetros!$AJ$3:$AK$13,2,FALSE),\"\")","v":""},{"$f":"IFERROR(VLOOKUP(Datos_de_Tarjetas!J99,Parámetros!$AQ$3:$AR$57,2,FALSE),\"\")","v":""},null,{"$f":"IF(Datos_de_Tarjetas!L99=0,\"\",Datos_de_Tarjetas!L99)","v":""},{"$f":"IF(Datos_de_Tarjetas!M99=0,\"\",Datos_de_Tarjetas!M99)","v":""},{"$f":"IF(Datos_de_Tarjetas!N99=0,\"\",Datos_de_Tarjetas!N99)","v":""},{"$f":"IFERROR(VLOOKUP(Datos_de_Tarjetas!P99,Parámetros!$AM$3:$AN$90,2,FALSE),\"\")","v":""}]
[null,1069470000,{"$f":"IFERROR(VLOOKUP(Datos_de_Tarjetas!D100,Parámetros!$AD$12:$AE$17,2,FALSE),\"\")","v":""},{"$f":"IF(Datos_de_Tarjetas!G100=0,\"\",Datos_de_Tarjetas!G100)","v":""},{"$f":"IFERROR(VLOOKUP(Datos_de_Tarjetas!K100,Parámetros!$AJ$3:$AK$13,2,FALSE),\"\")","v":""},{"$f":"IFERROR(VLOOKUP(Datos_de_Tarjetas!J100,Parámetros!$AQ$3:$AR$57,2,FALSE),\"\")","v":""},null,{"$f":"IF(Datos_de_Tarjetas!L100=0,\"\",Datos_de_Tarjetas!L100)","v":""},{"$f":"IF(Datos_de_Tarjetas!M100=0,\"\",Datos_de_Tarjetas!M100)","v":""},{"$f":"IF(Datos_de_Tarjetas!N100=0,\"\",Datos_de_Tarjetas!N100)","v":""},{"$f":"IFERROR(VLOOKUP(Datos_de_Tarjetas!P100,Parámetros!$AM$3:$AN$90,2,FALSE),\"\")","v":""}]
[null,1069470000,{"$f":"IFERROR(VLOOKUP(Datos_de_Tarjetas!D101,Parámetros!$AD$12:$AE$17,2,FALSE),\"\")","v":""},{"$f":"IF(Datos_de_Tarjetas!G101=0,\"\",Datos_de_Tarjetas!G101)","v":""},{"$f":"IFERROR(VLOOKUP(Datos_de_Tarjetas!K101,Parámetros!$AJ$3:$AK$13,2,FALSE),\"\")","v":""},{"$f":"IFERROR(VLOOKUP(Datos_de_Tarjetas!J101,Parámetros!$AQ$3:$AR$57,2,FALSE),\"\")","v":""},null,{"$f":"IF(Datos_de_Tarjetas!L101=0,\"\",Datos_de_Tarjetas!L101)","v":""},{"$f":"IF(Datos_de_Tarjetas!M101=0,\"\",Datos_de_Tarjetas!M101)","v":""},{"$f":"IF(Datos_de_Tarjetas!N101=0,\"\",Datos_de_Tarjetas!N101)","v":""},{"$f":"IFERROR(VLOOKUP(Datos_de_Tarjetas!P101,Parámetros!$AM$3:$AN$90,2,FALSE),\"\")","v":""}]
[null,1069470000,{"$f":"IFERROR(VLOOKUP(Datos_de_Tarjetas!D102,Parámetros!$AD$12:$AE$17,2,FALSE),\"\")","v":""},{"$f":"IF(Datos_de_Tarjetas!G102=0,\"\",Datos_de_Tarjetas!G102)","v":""},{"$f":"IFERROR(VLOOKUP(Datos_de_Tarjetas!K102,Parámetros!$AJ$3:$AK$13,2,FALSE),\"\")","v":""},{"$f":"IFERROR(VLOOKUP(Datos_de_Tarjetas!J102,Parámetros!$AQ$3:$AR$57,2,FALSE),\"\")","v":""},null,{"$f":"IF(Datos_de_Tarjetas!L102=0,\"\",Datos_de_Tarjetas!L102)","v":""},{"$f":"IF(Datos_de_Tarjetas!M102=0,\"\",Datos_de_Tarjetas!M102)","v":""},{"$f":"IF(Datos_de_Tarjetas!N102=0,\"\",Datos_de_Tarjetas!N102)","v":""},{"$f":"IFERROR(VLOOKUP(Datos_de_Tarjetas!P102,Parámetros!$AM$3:$AN$90,2,FALSE),\"\")","v":""}]
[null,1069470000,{"$f":"IFERROR(VLOOKUP(Datos_de_Tarjetas!D103,Parámetros!$AD$12:$AE$17,2,FALSE),\"\")","v":""},{"$f":"IF(Datos_de_Tarjetas!G103=0,\"\",Datos_de_Tarjetas!G103)","v":""},{"$f":"IFERROR(VLOOKUP(Datos_de_Tarjetas!K103,Parámetros!$AJ$3:$AK$13,2,FALSE),\"\")","v":""},{"$f":"IFERROR(VLOOKUP(Datos_de_Tarjetas!J103,Parámetros!$AQ$3:$AR$57,2,FALSE),\"\")","v":""},null,{"$f":"IF(Datos_de_Tarjetas!L103=0,\"\",Datos_de_Tarjetas!L103)","v":""},{"$f":"IF(Datos_de_Tarjetas!M103=0,\"\",Datos_de_Tarjetas!M103)","v":""},{"$f":"IF(Datos_de_Tarjetas!N103=0,\"\",Datos_de_Tarjetas!N103)","v":""},{"$f":"IFERROR(VLOOKUP(Datos_de_Tarjetas!P103,Parámetros!$AM$3:$AN$90,2,FALSE),\"\")","v":""}]
[null,1069470000,{"$f":"IFERROR(VLOOKUP(Datos_de_Tarjetas!D104,Parámetros!$AD$12:$AE$17,2,FALSE),\"\")","v":""},{"$f":"IF(Datos_de_Tarjetas!G104=0,\"\",Datos_de_Tarjetas!G104)","v":""},{"$f":"IFERROR(VLOOKUP(Datos_de_Tarjetas!K104,Parámetros!$AJ$3:$AK$13,2,FALSE),\"\")","v":""},{"$f":"IFERROR(VLOOKUP(Datos_de_Tarjetas!J104,Parámetros!$AQ$3:$AR$57,2,FALSE),\"\")","v":""},null,{"$f":"IF(Datos_de_Tarjetas!L104=0,\"\",Datos_de_Tarjetas!L104)","v":""},{"$f":"IF(Datos_de_Tarjetas!M104=0,\"\",Datos_de_Tarjetas!M104)","v":""},{"$f":"IF(Datos_de_Tarjetas!N104=0,\"\",Datos_de_Tarjetas!N104)","v":""},{"$f":"IFERROR(VLOOKUP(Datos_de_Tarjetas!P104,Parámetros!$AM$3:$AN$90,2,FALSE),\"\")","v":""}]
[null,1069470000,{"$f":"IFERROR(VLOOKUP(Datos_de_Tarjetas!D105,Parámetros!$AD$12:$AE$17,2,FALSE),\"\")","v":""},{"$f":"IF(Datos_de_Tarjetas!G105=0,\"\",Datos_de_Tarjetas!G105)","v":""},{"$f":"IFERROR(VLOOKUP(Datos_de_Tarjetas!K105,Parámetros!$AJ$3:$AK$13,2,FALSE),\"\")","v":""},{"$f":"IFERROR(VLOOKUP(Datos_de_Tarjetas!J105,Parámetros!$AQ$3:$AR$57,2,FALSE),\"\")","v":""},null,{"$f":"IF(Datos_de_Tarjetas!L105=0,\"\",Datos_de_Tarjetas!L105)","v":""},{"$f":"IF(Datos_de_Tarjetas!M105=0,\"\",Datos_de_Tarjetas!M105)","v":""},{"$f":"IF(Datos_de_Tarjetas!N105=0,\"\",Datos_de_Tarjetas!N105)","v":""},{"$f":"IFERROR(VLOOKUP(Datos_de_Tarjetas!P105,Parámetros!$AM$3:$AN$90,2,FALSE),\"\")","v":""}]
[null,1069470000,{"$f":"IFERROR(VLOOKUP(Datos_de_Tarjetas!D106,Parámetros!$AD$12:$AE$17,2,FALSE),\"\")","v":""},{"$f":"IF(Datos_de_Tarjetas!G106=0,\"\",Datos_de_Tarjetas!G106)","v":""},{"$f":"IFERROR(VLOOKUP(Datos_de_Tarjetas!K106,Parámetros!$AJ$3:$AK$13,2,FALSE),\"\")","v":""},{"$f":"IFERROR(VLOOKUP(Datos_de_Tarjetas!J106,Parámetros!$AQ$3:$AR$57,2,FALSE),\"\")","v":""},null,{"$f":"IF(Datos_de_Tarjetas!L106=0,\"\",Datos_de_Tarjetas!L106)","v":""},{"$f":"IF(Datos_de_Tarjetas!M106=0,\"\",Datos_de_Tarjetas!M106)","v":""},{"$f":"IF(Datos_de_Tarjetas!N106=0,\"\",Datos_de_Tarjetas!N106)","v":""},{"$f":"IFERROR(VLOOKUP(Datos_de_Tarjetas!P106,Parámetros!$AM$3:$AN$90,2,FALSE),\"\")","v":""}]
[null,1069470000,{"$f":"IFERROR(VLOOKUP(Datos_de_Tarjetas!D107,Parámetros!$AD$12:$AE$17,2,FALSE),\"\")","v":""},{"$f":"IF(Datos_de_Tarjetas!G107=0,\"\",Datos_de_Tarjetas!G107)","v":""},{"$f":"IFERROR(VLOOKUP(Datos_de_Tarjetas!K107,Parámetros!$AJ$3:$AK$13,2,FALSE),\"\")","v":""},{"$f":"IFERROR(VLOOKUP(Datos_de_Tarjetas!J107,Parámetros!$AQ$3:$AR$57,2,FALSE),\"\")","v":""},null,{"$f":"IF(Datos_de_Tarjetas!L107=0,\"\",Datos_de_Tarjetas!L107)","v":""},{"$f":"IF(Datos_de_Tarjetas!M107=0,\"\",Datos_de_Tarjetas!M107)","v":""},{"$f":"IF(Datos_de_Tarjetas!N107=0,\"\",Datos_de_Tarjetas!N107)","v":""},{"$f":"IFERROR(VLOOKUP(Datos_de_Tarjetas!P107,Parámetros!$AM$3:$AN$90,2,FALSE),\"\")","v":""}]
[null,1069470000,{"$f":"IFERROR(VLOOKUP(Datos_de_Tarjetas!D108,Parámetros!$AD$12:$AE$17,2,FALSE),\"\")","v":""},{"$f":"IF(Datos_de_Tarjetas!G108=0,\"\",Datos_de_Tarjetas!G108)","v":""},{"$f":"IFERROR(VLOOKUP(Datos_de_Tarjetas!K108,Parámetros!$AJ$3:$AK$13,2,FALSE),\"\")","v":""},{"$f":"IFERROR(VLOOKUP(Datos_de_Tarjetas!J108,Parámetros!$AQ$3:$AR$57,2,FALSE),\"\")","v":""},null,{"$f":"IF(Datos_de_Tarjetas!L108=0,\"\",Datos_de_Tarjetas!L108)","v":""},{"$f":"IF(Datos_de_Tarjetas!M108=0,\"\",Datos_de_Tarjetas!M108)","v":""},{"$f":"IF(Datos_de_Tarjetas!N108=0,\"\",Datos_de_Tarjetas!N108)","v":""},{"$f":"IFERROR(VLOOKUP(Datos_de_Tarjetas!P108,Parámetros!$AM$3:$AN$90,2,FALSE),\"\")","v":""}]
[null,1069470000,{"$f":"IFERROR(VLOOKUP(Datos_de_Tarjetas!D109,Parámetros!$AD$12:$AE$17,2,FALSE),\"\")","v":""},{"$f":"IF(Datos_de_Tarjetas!G109=0,\"\",Datos_de_Tarjetas!G109)","v":""},{"$f":"IFERROR(VLOOKUP(Datos_de_Tarjetas!K109,Parámetros!$AJ$3:$AK$13,2,FALSE),\"\")","v":""},{"$f":"IFERROR(VLOOKUP(Datos_de_Tarjetas!J109,Parámetros!$AQ$3:$AR$57,2,FALSE),\"\")","v":""},null,{"$f":"IF(Datos_de_Tarjetas!L109=0,\"\",Datos_de_Tarjetas!L109)","v":""},{"$f":"IF(Datos_de_Tarjetas!M109=0,\"\",Datos_de_Tarjetas!M109)","v":""},{"$f":"IF(Datos_de_Tarjetas!N109=0,\"\",Datos_de_Tarjetas!N109)","v":""},{"$f":"IFERROR(VLOOKUP(Datos_de_Tarjetas!P109,Parámetros!$AM$3:$AN$90,2,FALSE),\"\")","v":""}]
[null,1069470000,{"$f":"IFERROR(VLOOKUP(Datos_de_Tarjetas!D110,Parámetros!$AD$12:$AE$17,2,FALSE),\"\")","v":""},{"$f":"IF(Datos_de_Tarjetas!G110=0,\"\",Datos_de_Tarjetas!G110)","v":""},{"$f":"IFERROR(VLOOKUP(Datos_de_Tarjetas!K110,Parámetros!$AJ$3:$AK$13,2,FALSE),\"\")","v":""},{"$f":"IFERROR(VLOOKUP(Datos_de_Tarjetas!J110,Parámetros!$AQ$3:$AR$57,2,FALSE),\"\")","v":""},null,{"$f":"IF(Datos_de_Tarjetas!L110=0,\"\",Datos_de_Tarjetas!L110)","v":""},{"$f":"IF(Datos_de_Tarjetas!M110=0,\"\",Datos_de_Tarjetas!M110)","v":""},{"$f":"IF(Datos_de_Tarjetas!N110=0,\"\",Datos_de_Tarjetas!N110)","v":""},{"$f":"IFERROR(VLOOKUP(Datos_de_Tarjetas!P110,Parámetros!$AM$3:$AN$90,2,FALSE),\"\")","v":""}]
[null,1069470000,{"$f":"IFERROR(VLOOKUP(Datos_de_Tarjetas!D111,Parámetros!$AD$12:$AE$17,2,FALSE),\"\")","v":""},{"$f":"IF(Datos_de_Tarjetas!G111=0,\"\",Datos_de_Tarjetas!G111)","v":""},{"$f":"IFERROR(VLOOKUP(Datos_de_Tarjetas!K111,Parámetros!$AJ$3:$AK$13,2,FALSE),\"\")","v":""},{"$f":"IFERROR(VLOOKUP(Datos_de_Tarjetas!J111,Parámetros!$AQ$3:$AR$57,2,FALSE),\"\")","v":""},null,{"$f":"IF(Datos_de_Tarjetas!L111=0,\"\",Datos_de_Tarjetas!L111)","v":""},{"$f":"IF(Datos_de_Tarjetas!M111=0,\"\",Datos_de_Tarjetas!M111)","v":""},{"$f":"IF(Datos_de_Tarjetas!N111=0,\"\",Datos_de_Tarjetas!N111)","v":""},{"$f":"IFERROR(VLOOKUP(Datos_de_Tarjetas!P111,Parámetros!$AM$3:$AN$90,2,FALSE),\"\")","v":""}]
[null,1069470000,{"$f":"IFERROR(VLOOKUP(Datos_de_Tarjetas!D112,Parámetros!$AD$12:$AE$17,2,FALSE),\"\")","v":""},{"$f":"IF(Datos_de_Tarjetas!G112=0,\"\",Datos_de_Tarjetas!G112)","v":""},{"$f":"IFERROR(VLOOKUP(Datos_de_Tarjetas!K112,Parámetros!$AJ$3:$AK$13,2,FALSE),\"\")","v":""},{"$f":"IFERROR(VLOOKUP(Datos_de_Tarjetas!J112,Parámetros!$AQ$3:$AR$57,2,FALSE),\"\")","v":""},null,{"$f":"IF(Datos_de_Tarjetas!L112=0,\"\",Datos_de_Tarjetas!L112)","v":""},{"$f":"IF(Datos_de_Tarjetas!M112=0,\"\",Datos_de_Tarjetas!M112)","v":""},{"$f":"IF(Datos_de_Tarjetas!N112=0,\"\",Datos_de_Tarjetas!N112)","v":""},{"$f":"IFERROR(VLOOKUP(Datos_de_Tarjetas!P112,Parámetros!$AM$3:$AN$90,2,FALSE),\"\")","v":""}]
[null,1069470000,{"$f":"IFERROR(VLOOKUP(Datos_de_Tarjetas!D113,Parámetros!$AD$12:$AE$17,2,FALSE),\"\")","v":""},{"$f":"IF(Datos_de_Tarjetas!G113=0,\"\",Datos_de_Tarjetas!G113)","v":""},{"$f":"IFERROR(VLOOKUP(Datos_de_Tarjetas!K113,Parámetros!$AJ$3:$AK$13,2,FALSE),\"\")","v":""},{"$f":"IFERROR(VLOOKUP(Datos_de_Tarjetas!J113,Parámetros!$AQ$3:$AR$57,2,FALSE),\"\")","v":""},null,{"$f":"IF(Datos_de_Tarjetas!L113=0,\"\",Datos_de_Tarjetas!L113)","v":""},{"$f":"IF(Datos_de_Tarjetas!M113=0,\"\",Datos_de_Tarjetas!M113)","v":""},{"$f":"IF(Datos_de_Tarjetas!N113=0,\"\",Datos_de_Tarjetas!N113)","v":""},{"$f":"IFERROR(VLOOKUP(Datos_de_Tarjetas!P113,Parámetros!$AM$3:$AN$90,2,FALSE),\"\")","v":""}]
[null,1069470000,{"$f":"IFERROR(VLOOKUP(Datos_de_Tarjetas!D114,Parámetros!$AD$12:$AE$17,2,FALSE),\"\")","v":""},{"$f":"IF(Datos_de_Tarjetas!G114=0,\"\",Datos_de_Tarjetas!G114)","v":""},{"$f":"IFERROR(VLOOKUP(Datos_de_Tarjetas!K114,Parámetros!$AJ$3:$AK$13,2,FALSE),\"\")","v":""},{"$f":"IFERROR(VLOOKUP(Datos_de_Tarjetas!J114,Parámetros!$AQ$3:$AR$57,2,FALSE),\"\")","v":""},null,{"$f":"IF(Datos_de_Tarjetas!L114=0,\"\",Datos_de_Tarjetas!L114)","v":""},{"$f":"IF(Datos_de_Tarjetas!M114=0,\"\",Datos_de_Tarjetas!M114)","v":""},{"$f":"IF(Datos_de_Tarjetas!N114=0,\"\",Datos_de_Tarjetas!N114)","v":""},{"$f":"IFERROR(VLOOKUP(Datos_de_Tarjetas!P114,Parámetros!$AM$3:$AN$90,2,FALSE),\"\")","v":""}]
[null,1069470000,{"$f":"IFERROR(VLOOKUP(Datos_de_Tarjetas!D115,Parámetros!$AD$12:$AE$17,2,FALSE),\"\")","v":""},{"$f":"IF(Datos_de_Tarjetas!G115=0,\"\",Datos_de_Tarjetas!G115)","v":""},{"$f":"IFERROR(VLOOKUP(Datos_de_Tarjetas!K115,Parámetros!$AJ$3:$AK$13,2,FALSE),\"\")","v":""},{"$f":"IFERROR(VLOOKUP(Datos_de_Tarjetas!J115,Parámetros!$AQ$3:$AR$57,2,FALSE),\"\")","v":""},null,{"$f":"IF(Datos_de_Tarjetas!L115=0,\"\",Datos_de_Tarjetas!L115)","v":""},{"$f":"IF(Datos_de_Tarjetas!M115=0,\"\",Datos_de_Tarjetas!M115)","v":""},{"$f":"IF(Datos_de_Tarjetas!N115=0,\"\",Datos_de_Tarjetas!N115)","v":""},{"$f":"IFERROR(VLOOKUP(Datos_de_Tarjetas!P115,Parámetros!$AM$3:$AN$90,2,FALSE),\"\")","v":""}]
[null,1069470000,{"$f":"IFERROR(VLOOKUP(Datos_de_Tarjetas!D116,Parámetros!$AD$12:$AE$17,2,FALSE),\"\")","v":""},{"$f":"IF(Datos_de_Tarjetas!G116=0,\"\",Datos_de_Tarjetas!G116)","v":""},{"$f":"IFERROR(VLOOKUP(Datos_de_Tarjetas!K116,Parámetros!$AJ$3:$AK$13,2,FALSE),\"\")","v":""},{"$f":"IFERROR(VLOOKUP(Datos_de_Tarjetas!J116,Parámetros!$AQ$3:$AR$57,2,FALSE),\"\")","v":""},null,{"$f":"IF(Datos_de_Tarjetas!L116=0,\"\",Datos_de_Tarjetas!L116)","v":""},{"$f":"IF(Datos_de_Tarjetas!M116=0,\"\",Datos_de_Tarjetas!M116)","v":""},{"$f":"IF(Datos_de_Tarjetas!N116=0,\"\",Datos_de_Tarjetas!N116)","v":""},{"$f":"IFERROR(VLOOKUP(Datos_de_Tarjetas!P116,Parámetros!$AM$3:$AN$90,2,FALSE),\"\")","v":""}]
[null,1069470000,{"$f":"IFERROR(VLOOKUP(Datos_de_Tarjetas!D117,Parámetros!$AD$12:$AE$17,2,FALSE),\"\")","v":""},{"$f":"IF(Datos_de_Tarjetas!G117=0,\"\",Datos_de_Tarjetas!G117)","v":""},{"$f":"IFERROR(VLOOKUP(Datos_de_Tarjetas!K117,Parámetros!$AJ$3:$AK$13,2,FALSE),\"\")","v":""},{"$f":"IFERROR(VLOOKUP(Datos_de_Tarjetas!J117,Parámetros!$AQ$3:$AR$57,2,FALSE),\"\")","v":""},null,{"$f":"IF(Datos_de_Tarjetas!L117=0,\"\",Datos_de_Tarjetas!L117)","v":""},{"$f":"IF(Datos_de_Tarjetas!M117=0,\"\",Datos_de_Tarjetas!M117)","v":""},{"$f":"IF(Datos_de_Tarjetas!N117=0,\"\",Datos_de_Tarjetas!N117)","v":""},{"$f":"IFERROR(VLOOKUP(Datos_de_Tarjetas!P117,Parámetros!$AM$3:$AN$90,2,FALSE),\"\")","v":""}]
[null,1069470000,{"$f":"IFERROR(VLOOKUP(Datos_de_Tarjetas!D118,Parámetros!$AD$12:$AE$17,2,FALSE),\"\")","v":""},{"$f":"IF(Datos_de_Tarjetas!G118=0,\"\",Datos_de_Tarjetas!G118)","v":""},{"$f":"IFERROR(VLOOKUP(Datos_de_Tarjetas!K118,Parámetros!$AJ$3:$AK$13,2,FALSE),\"\")","v":""},{"$f":"IFERROR(VLOOKUP(Datos_de_Tarjetas!J118,Parámetros!$AQ$3:$AR$57,2,FALSE),\"\")","v":""},null,{"$f":"IF(Datos_de_Tarjetas!L118=0,\"\",Datos_de_Tarjetas!L118)","v":""},{"$f":"IF(Datos_de_Tarjetas!M118=0,\"\",Datos_de_Tarjetas!M118)","v":""},{"$f":"IF(Datos_de_Tarjetas!N118=0,\"\",Datos_de_Tarjetas!N118)","v":""},{"$f":"IFERROR(VLOOKUP(Datos_de_Tarjetas!P118,Parámetros!$AM$3:$AN$90,2,FALSE),\"\")","v":""}]
[null,1069470000,{"$f":"IFERROR(VLOOKUP(Datos_de_Tarjetas!D119,Parámetros!$AD$12:$AE$17,2,FALSE),\"\")","v":""},{"$f":"IF(Datos_de_Tarjetas!G119=0,\"\",Datos_de_Tarjetas!G119)","v":""},{"$f":"IFERROR(VLOOKUP(Datos_de_Tarjetas!K119,Parámetros!$AJ$3:$AK$13,2,FALSE),\"\")","v":""},{"$f":"IFERROR(VLOOKUP(Datos_de_Tarjetas!J119,Parámetros!$AQ$3:$AR$57,2,FALSE),\"\")","v":""},null,{"$f":"IF(Datos_de_Tarjetas!L119=0,\"\",Datos_de_Tarjetas!L119)","v":""},{"$f":"IF(Datos_de_Tarjetas!M119=0,\"\",Datos_de_Tarjetas!M119)","v":""},{"$f":"IF(Datos_de_Tarjetas!N119=0,\"\",Datos_de_Tarjetas!N119)","v":""},{"$f":"IFERROR(VLOOKUP(Datos_de_Tarjetas!P119,Parámetros!$AM$3:$AN$90,2,FALSE),\"\")","v":""}]
[null,1069470000,{"$f":"IFERROR(VLOOKUP(Datos_de_Tarjetas!D120,Parámetros!$AD$12:$AE$17,2,FALSE),\"\")","v":""},{"$f":"IF(Datos_de_Tarjetas!G120=0,\"\",Datos_de_Tarjetas!G120)","v":""},{"$f":"IFERROR(VLOOKUP(Datos_de_Tarjetas!K120,Parámetros!$AJ$3:$AK$13,2,FALSE),\"\")","v":""},{"$f":"IFERROR(VLOOKUP(Datos_de_Tarjetas!J120,Parámetros!$AQ$3:$AR$57,2,FALSE),\"\")","v":""},null,{"$f":"IF(Datos_de_Tarjetas!L120=0,\"\",Datos_de_Tarjetas!L120)","v":""},{"$f":"IF(Datos_de_Tarjetas!M120=0,\"\",Datos_de_Tarjetas!M120)","v":""},{"$f":"IF(Datos_de_Tarjetas!N120=0,\"\",Datos_de_Tarjetas!N120)","v":""},{"$f":"IFERROR(VLOOKUP(Datos_de_Tarjetas!P120,Parámetros!$AM$3:$AN$90,2,FALSE),\"\")","v":""}]
[null,1069470000,{"$f":"IFERROR(VLOOKUP(Datos_de_Tarjetas!D121,Parámetros!$AD$12:$AE$17,2,FALSE),\"\")","v":""},{"$f":"IF(Datos_de_Tarjetas!G121=0,\"\",Datos_de_Tarjetas!G121)","v":""},{"$f":"IFERROR(VLOOKUP(Datos_de_Tarjetas!K121,Parámetros!$AJ$3:$AK$13,2,FALSE),\"\")","v":""},{"$f":"IFERROR(VLOOKUP(Datos_de_Tarjetas!J121,Parámetros!$AQ$3:$AR$57,2,FALSE),\"\")","v":""},null,{"$f":"IF(Datos_de_Tarjetas!L121=0,\"\",Datos_de_Tarjetas!L121)","v":""},{"$f":"IF(Datos_de_Tarjetas!M121=0,\"\",Datos_de_Tarjetas!M121)","v":""},{"$f":"IF(Datos_de_Tarjetas!N121=0,\"\",Datos_de_Tarjetas!N121)","v":""},{"$f":"IFERROR(VLOOKUP(Datos_de_Tarjetas!P121,Parámetros!$AM$3:$AN$90,2,FALSE),\"\")","v":""}]
[null,1069470000,{"$f":"IFERROR(VLOOKUP(Datos_de_Tarjetas!D122,Parámetros!$AD$12:$AE$17,2,FALSE),\"\")","v":""},{"$f":"IF(Datos_de_Tarjetas!G122=0,\"\",Datos_de_Tarjetas!G122)","v":""},{"$f":"IFERROR(VLOOKUP(Datos_de_Tarjetas!K122,Parámetros!$AJ$3:$AK$13,2,FALSE),\"\")","v":""},{"$f":"IFERROR(VLOOKUP(Datos_de_Tarjetas!J122,Parámetros!$AQ$3:$AR$57,2,FALSE),\"\")","v":""},null,{"$f":"IF(Datos_de_Tarjetas!L122=0,\"\",Datos_de_Tarjetas!L122)","v":""},{"$f":"IF(Datos_de_Tarjetas!M122=0,\"\",Datos_de_Tarjetas!M122)","v":""},{"$f":"IF(Datos_de_Tarjetas!N122=0,\"\",Datos_de_Tarjetas!N122)","v":""},{"$f":"IFERROR(VLOOKUP(Datos_de_Tarjetas!P122,Parámetros!$AM$3:$AN$90,2,FALSE),\"\")","v":""}]
[null,1069470000,{"$f":"IFERROR(VLOOKUP(Datos_de_Tarjetas!D123,Parámetros!$AD$12:$AE$17,2,FALSE),\"\")","v":""},{"$f":"IF(Datos_de_Tarjetas!G123=0,\"\",Datos_de_Tarjetas!G123)","v":""},{"$f":"IFERROR(VLOOKUP(Datos_de_Tarjetas!K123,Parámetros!$AJ$3:$AK$13,2,FALSE),\"\")","v":""},{"$f":"IFERROR(VLOOKUP(Datos_de_Tarjetas!J123,Parámetros!$AQ$3:$AR$57,2,FALSE),\"\")","v":""},null,{"$f":"IF(Datos_de_Tarjetas!L123=0,\"\",Datos_de_Tarjetas!L123)","v":""},{"$f":"IF(Datos_de_Tarjetas!M123=0,\"\",Datos_de_Tarjetas!M123)","v":""},{"$f":"IF(Datos_de_Tarjetas!N123=0,\"\",Datos_de_Tarjetas!N123)","v":""},{"$f":"IFERROR(VLOOKUP(Datos_de_Tarjetas!P123,Parámetros!$AM$3:$AN$90,2,FALSE),\"\")","v":""}]
[null,1069470000,{"$f":"IFERROR(VLOOKUP(Datos_de_Tarjetas!D124,Parámetros!$AD$12:$AE$17,2,FALSE),\"\")","v":""},{"$f":"IF(Datos_de_Tarjetas!G124=0,\"\",Datos_de_Tarjetas!G124)","v":""},{"$f":"IFERROR(VLOOKUP(Datos_de_Tarjetas!K124,Parámetros!$AJ$3:$AK$13,2,FALSE),\"\")","v":""},{"$f":"IFERROR(VLOOKUP(Datos_de_Tarjetas!J124,Parámetros!$AQ$3:$AR$57,2,FALSE),\"\")","v":""},null,{"$f":"IF(Datos_de_Tarjetas!L124=0,\"\",Datos_de_Tarjetas!L124)","v":""},{"$f":"IF(Datos_de_Tarjetas!M124=0,\"\",Datos_de_Tarjetas!M124)","v":""},{"$f":"IF(Datos_de_Tarjetas!N124=0,\"\",Datos_de_Tarjetas!N124)","v":""},{"$f":"IFERROR(VLOOKUP(Datos_de_Tarjetas!P124,Parámetros!$AM$3:$AN$90,2,FALSE),\"\")","v":""}]
[null,1069470000,{"$f":"IFERROR(VLOOKUP(Datos_de_Tarjetas!D125,Parámetros!$AD$12:$AE$17,2,FALSE),\"\")","v":""},{"$f":"IF(Datos_de_Tarjetas!G125=0,\"\",Datos_de_Tarjetas!G125)","v":""},{"$f":"IFERROR(VLOOKUP(Datos_de_Tarjetas!K125,Parámetros!$AJ$3:$AK$13,2,FALSE),\"\")","v":""},{"$f":"IFERROR(VLOOKUP(Datos_de_Tarjetas!J125,Parámetros!$AQ$3:$AR$57,2,FALSE),\"\")","v":""},null,{"$f":"IF(Datos_de_Tarjetas!L125=0,\"\",Datos_de_Tarjetas!L125)","v":""},{"$f":"IF(Datos_de_Tarjetas!M125=0,\"\",Datos_de_Tarjetas!M125)","v":""},{"$f":"IF(Datos_de_Tarjetas!N125=0,\"\",Datos_de_Tarjetas!N125)","v":""},{"$f":"IFERROR(VLOOKUP(Datos_de_Tarjetas!P125,Parámetros!$AM$3:$AN$90,2,FALSE),\"\")","v":""}]
[null,1069470000,{"$f":"IFERROR(VLOOKUP(Datos_de_Tarjetas!D126,Parámetros!$AD$12:$AE$17,2,FALSE),\"\")","v":""},{"$f":"IF(Datos_de_Tarjetas!G126=0,\"\",Datos_de_Tarjetas!G126)","v":""},{"$f":"IFERROR(VLOOKUP(Datos_de_Tarjetas!K126,Parámetros!$AJ$3:$AK$13,2,FALSE),\"\")","v":""},{"$f":"IFERROR(VLOOKUP(Datos_de_Tarjetas!J126,Parámetros!$AQ$3:$AR$57,2,FALSE),\"\")","v":""},null,{"$f":"IF(Datos_de_Tarjetas!L126=0,\"\",Datos_de_Tarjetas!L126)","v":""},{"$f":"IF(Datos_de_Tarjetas!M126=0,\"\",Datos_de_Tarjetas!M126)","v":""},{"$f":"IF(Datos_de_Tarjetas!N126=0,\"\",Datos_de_Tarjetas!N126)","v":""},{"$f":"IFERROR(VLOOKUP(Datos_de_Tarjetas!P126,Parámetros!$AM$3:$AN$90,2,FALSE),\"\")","v":""}]
[null,1069470000,{"$f":"IFERROR(VLOOKUP(Datos_de_Tarjetas!D127,Parámetros!$AD$12:$AE$17,2,FALSE),\"\")","v":""},{"$f":"IF(Datos_de_Tarjetas!G127=0,\"\",Datos_de_Tarjetas!G127)","v":""},{"$f":"IFERROR(VLOOKUP(Datos_de_Tarjetas!K127,Parámetros!$AJ$3:$AK$13,2,FALSE),\"\")","v":""},{"$f":"IFERROR(VLOOKUP(Datos_de_Tarjetas!J127,Parámetros!$AQ$3:$AR$57,2,FALSE),\"\")","v":""},null,{"$f":"IF(Datos_de_Tarjetas!L127=0,\"\",Datos_de_Tarjetas!L127)","v":""},{"$f":"IF(Datos_de_Tarjetas!M127=0,\"\",Datos_de_Tarjetas!M127)","v":""},{"$f":"IF(Datos_de_Tarjetas!N127=0,\"\",Datos_de_Tarjetas!N127)","v":""},{"$f":"IFERROR(VLOOKUP(Datos_de_Tarjetas!P127,Parámetros!$AM$3:$AN$90,2,FALSE),\"\")","v":""}]
[null,1069470000,{"$f":"IFERROR(VLOOKUP(Datos_de_Tarjetas!D128,Parámetros!$AD$12:$AE$17,2,FALSE),\"\")","v":""},{"$f":"IF(Datos_de_Tarjetas!G128=0,\"\",Datos_de_Tarjetas!G128)","v":""},{"$f":"IFERROR(VLOOKUP(Datos_de_Tarjetas!K128,Parámetros!$AJ$3:$AK$13,2,FALSE),\"\")","v":""},{"$f":"IFERROR(VLOOKUP(Datos_de_Tarjetas!J128,Parámetros!$AQ$3:$AR$57,2,FALSE),\"\")","v":""},null,{"$f":"IF(Datos_de_Tarjetas!L128=0,\"\",Datos_de_Tarjetas!L128)","v":""},{"$f":"IF(Datos_de_Tarjetas!M128=0,\"\",Datos_de_Tarjetas!M128)","v":""},{"$f":"IF(Datos_de_Tarjetas!N128=0,\"\",Datos_de_Tarjetas!N128)","v":""},{"$f":"IFERROR(VLOOKUP(Datos_de_Tarjetas!P128,Parámetros!$AM$3:$AN$90,2,FALSE),\"\")","v":""}]
[null,1069470000,{"$f":"IFERROR(VLOOKUP(Datos_de_Tarjetas!D129,Parámetros!$AD$12:$AE$17,2,FALSE),\"\")","v":""},{"$f":"IF(Datos_de_Tarjetas!G129=0,\"\",Datos_de_Tarjetas!G129)","v":""},{"$f":"IFERROR(VLOOKUP(Datos_de_Tarjetas!K129,Parámetros!$AJ$3:$AK$13,2,FALSE),\"\")","v":""},{"$f":"IFERROR(VLOOKUP(Datos_de_Tarjetas!J129,Parámetros!$AQ$3:$AR$57,2,FALSE),\"\")","v":""},null,{"$f":"IF(Datos_de_Tarjetas!L129=0,\"\",Datos_de_Tarjetas!L129)","v":""},{"$f":"IF(Datos_de_Tarjetas!M129=0,\"\",Datos_de_Tarjetas!M129)","v":""},{"$f":"IF(Datos_de_Tarjetas!N129=0,\"\",Datos_de_Tarjetas!N129)","v":""},{"$f":"IFERROR(VLOOKUP(Datos_de_Tarjetas!P129,Parámetros!$AM$3:$AN$90,2,FALSE),\"\")","v":""}]
[null,1069470000,{"$f":"IFERROR(VLOOKUP(Datos_de_Tarjetas!D130,Parámetros!$AD$12:$AE$17,2,FALSE),\"\")","v":""},{"$f":"IF(Datos_de_Tarjetas!G130=0,\"\",Datos_de_Tarjetas!G130)","v":""},{"$f":"IFERROR(VLOOKUP(Datos_de_Tarjetas!K130,Parámetros!$AJ$3:$AK$13,2,FALSE),\"\")","v":""},{"$f":"IFERROR(VLOOKUP(Datos_de_Tarjetas!J130,Parámetros!$AQ$3:$AR$57,2,FALSE),\"\")","v":""},null,{"$f":"IF(Datos_de_Tarjetas!L130=0,\"\",Datos_de_Tarjetas!L130)","v":""},{"$f":"IF(Datos_de_Tarjetas!M130=0,\"\",Datos_de_Tarjetas!M130)","v":""},{"$f":"IF(Datos_de_Tarjetas!N130=0,\"\",Datos_de_Tarjetas!N130)","v":""},{"$f":"IFERROR(VLOOKUP(Datos_de_Tarjetas!P130,Parámetros!$AM$3:$AN$90,2,FALSE),\"\")","v":""}]
[null,1069470000,{"$f":"IFERROR(VLOOKUP(Datos_de_Tarjetas!D131,Parámetros!$AD$12:$AE$17,2,FALSE),\"\")","v":""},{"$f":"IF(Datos_de_Tarjetas!G131=0,\"\",Datos_de_Tarjetas!G131)","v":""},{"$f":"IFERROR(VLOOKUP(Datos_de_Tarjetas!K131,Parámetros!$AJ$3:$AK$13,2,FALSE),\"\")","v":""},{"$f":"IFERROR(VLOOKUP(Datos_de_Tarjetas!J131,Parámetros!$AQ$3:$AR$57,2,FALSE),\"\")","v":""},null,{"$f":"IF(Datos_de_Tarjetas!L131=0,\"\",Datos_de_Tarjetas!L131)","v":""},{"$f":"IF(Datos_de_Tarjetas!M131=0,\"\",Datos_de_Tarjetas!M131)","v":""},{"$f":"IF(Datos_de_Tarjetas!N131=0,\"\",Datos_de_Tarjetas!N131)","v":""},{"$f":"IFERROR(VLOOKUP(Datos_de_Tarjetas!P131,Parámetros!$AM$3:$AN$90,2,FALSE),\"\")","v":""}]
[null,1069470000,{"$f":"IFERROR(VLOOKUP(Datos_de_Tarjetas!D132,Parámetros!$AD$12:$AE$17,2,FALSE),\"\")","v":""},{"$f":"IF(Datos_de_Tarjetas!G132=0,\"\",Datos_de_Tarjetas!G132)","v":""},{"$f":"IFERROR(VLOOKUP(Datos_de_Tarjetas!K132,Parámetros!$AJ$3:$AK$13,2,FALSE),\"\")","v":""},{"$f":"IFERROR(VLOOKUP(Datos_de_Tarjetas!J132,Parámetros!$AQ$3:$AR$57,2,FALSE),\"\")","v":""},null,{"$f":"IF(Datos_de_Tarjetas!L132=0,\"\",Datos_de_Tarjetas!L132)","v":""},{"$f":"IF(Datos_de_Tarjetas!M132=0,\"\",Datos_de_Tarjetas!M132)","v":""},{"$f":"IF(Datos_de_Tarjetas!N132=0,\"\",Datos_de_Tarjetas!N132)","v":""},{"$f":"IFERROR(VLOOKUP(Datos_de_Tarjetas!P132,Parámetros!$AM$3:$AN$90,2,FALSE),\"\")","v":""}]
[null,1069470000,{"$f":"IFERROR(VLOOKUP(Datos_de_Tarjetas!D133,Parámetros!$AD$12:$AE$17,2,FALSE),\"\")","v":""},{"$f":"IF(Datos_de_Tarjetas!G133=0,\"\",Datos_de_Tarjetas!G133)","v":""},{"$f":"IFERROR(VLOOKUP(Datos_de_Tarjetas!K133,Parámetros!$AJ$3:$AK$13,2,FALSE),\"\")","v":""},{"$f":"IFERROR(VLOOKUP(Datos_de_Tarjetas!J133,Parámetros!$AQ$3:$AR$57,2,FALSE),\"\")","v":""},null,{"$f":"IF(Datos_de_Tarjetas!L133=0,\"\",Datos_de_Tarjetas!L133)","v":""},{"$f":"IF(Datos_de_Tarjetas!M133=0,\"\",Datos_de_Tarjetas!M133)","v":""},{"$f":"IF(Datos_de_Tarjetas!N133=0,\"\",Datos_de_Tarjetas!N133)","v":""},{"$f":"IFERROR(VLOOKUP(Datos_de_Tarjetas!P133,Parámetros!$AM$3:$AN$90,2,FALSE),\"\")","v":""}]
[null,1069470000,{"$f":"IFERROR(VLOOKUP(Datos_de_Tarjetas!D134,Parámetros!$AD$12:$AE$17,2,FALSE),\"\")","v":""},{"$f":"IF(Datos_de_Tarjetas!G134=0,\"\",Datos_de_Tarjetas!G134)","v":""},{"$f":"IFERROR(VLOOKUP(Datos_de_Tarjetas!K134,Parámetros!$AJ$3:$AK$13,2,FALSE),\"\")","v":""},{"$f":"IFERROR(VLOOKUP(Datos_de_Tarjetas!J134,Parámetros!$AQ$3:$AR$57,2,FALSE),\"\")","v":""},null,{"$f":"IF(Datos_de_Tarjetas!L134=0,\"\",Datos_de_Tarjetas!L134)","v":""},{"$f":"IF(Datos_de_Tarjetas!M134=0,\"\",Datos_de_Tarjetas!M134)","v":""},{"$f":"IF(Datos_de_Tarjetas!N134=0,\"\",Datos_de_Tarjetas!N134)","v":""},{"$f":"IFERROR(VLOOKUP(Datos_de_Tarjetas!P134,Parámetros!$AM$3:$AN$90,2,FALSE),\"\")","v":""}]
[null,1069470000,{"$f":"IFERROR(VLOOKUP(Datos_de_Tarjetas!D135,Parámetros!$AD$12:$AE$17,2,FALSE),\"\")","v":""},{"$f":"IF(Datos_de_Tarjetas!G135=0,\"\",Datos_de_Tarjetas!G135)","v":""},{"$f":"IFERROR(VLOOKUP(Datos_de_Tarjetas!K135,Parámetros!$AJ$3:$AK$13,2,FALSE),\"\")","v":""},{"$f":"IFERROR(VLOOKUP(Datos_de_Tarjetas!J135,Parámetros!$AQ$3:$AR$57,2,FALSE),\"\")","v":""},null,{"$f":"IF(Datos_de_Tarjetas!L135=0,\"\",Datos_de_Tarjetas!L135)","v":""},{"$f":"IF(Datos_de_Tarjetas!M135=0,\"\",Datos_de_Tarjetas!M135)","v":""},{"$f":"IF(Datos_de_Tarjetas!N135=0,\"\",Datos_de_Tarjetas!N135)","v":""},{"$f":"IFERROR(VLOOKUP(Datos_de_Tarjetas!P135,Parámetros!$AM$3:$AN$90,2,FALSE),\"\")","v":""}]
[null,1069470000,{"$f":"IFERROR(VLOOKUP(Datos_de_Tarjetas!D136,Parámetros!$AD$12:$AE$17,2,FALSE),\"\")","v":""},{"$f":"IF(Datos_de_Tarjetas!G136=0,\"\",Datos_de_Tarjetas!G136)","v":""},{"$f":"IFERROR(VLOOKUP(Datos_de_Tarjetas!K136,Parámetros!$AJ$3:$AK$13,2,FALSE),\"\")","v":""},{"$f":"IFERROR(VLOOKUP(Datos_de_Tarjetas!J136,Parámetros!$AQ$3:$AR$57,2,FALSE),\"\")","v":""},null,{"$f":"IF(Datos_de_Tarjetas!L136=0,\"\",Datos_de_Tarjetas!L136)","v":""},{"$f":"IF(Datos_de_Tarjetas!M136=0,\"\",Datos_de_Tarjetas!M136)","v":""},{"$f":"IF(Datos_de_Tarjetas!N136=0,\"\",Datos_de_Tarjetas!N136)","v":""},{"$f":"IFERROR(VLOOKUP(Datos_de_Tarjetas!P136,Parámetros!$AM$3:$AN$90,2,FALSE),\"\")","v":""}]
[null,1069470000,{"$f":"IFERROR(VLOOKUP(Datos_de_Tarjetas!D137,Parámetros!$AD$12:$AE$17,2,FALSE),\"\")","v":""},{"$f":"IF(Datos_de_Tarjetas!G137=0,\"\",Datos_de_Tarjetas!G137)","v":""},{"$f":"IFERROR(VLOOKUP(Datos_de_Tarjetas!K137,Parámetros!$AJ$3:$AK$13,2,FALSE),\"\")","v":""},{"$f":"IFERROR(VLOOKUP(Datos_de_Tarjetas!J137,Parámetros!$AQ$3:$AR$57,2,FALSE),\"\")","v":""},null,{"$f":"IF(Datos_de_Tarjetas!L137=0,\"\",Datos_de_Tarjetas!L137)","v":""},{"$f":"IF(Datos_de_Tarjetas!M137=0,\"\",Datos_de_Tarjetas!M137)","v":""},{"$f":"IF(Datos_de_Tarjetas!N137=0,\"\",Datos_de_Tarjetas!N137)","v":""},{"$f":"IFERROR(VLOOKUP(Datos_de_Tarjetas!P137,Parámetros!$AM$3:$AN$90,2,FALSE),\"\")","v":""}]
[null,1069470000,{"$f":"IFERROR(VLOOKUP(Datos_de_Tarjetas!D138,Parámetros!$AD$12:$AE$17,2,FALSE),\"\")","v":""},{"$f":"IF(Datos_de_Tarjetas!G138=0,\"\",Datos_de_Tarjetas!G138)","v":""},{"$f":"IFERROR(VLOOKUP(Datos_de_Tarjetas!K138,Parámetros!$AJ$3:$AK$13,2,FALSE),\"\")","v":""},{"$f":"IFERROR(VLOOKUP(Datos_de_Tarjetas!J138,Parámetros!$AQ$3:$AR$57,2,FALSE),\"\")","v":""},null,{"$f":"IF(Datos_de_Tarjetas!L138=0,\"\",Datos_de_Tarjetas!L138)","v":""},{"$f":"IF(Datos_de_Tarjetas!M138=0,\"\",Datos_de_Tarjetas!M138)","v":""},{"$f":"IF(Datos_de_Tarjetas!N138=0,\"\",Datos_de_Tarjetas!N138)","v":""},{"$f":"IFERROR(VLOOKUP(Datos_de_Tarjetas!P138,Parámetros!$AM$3:$AN$90,2,FALSE),\"\")","v":""}]
[null,1069470000,{"$f":"IFERROR(VLOOKUP(Datos_de_Tarjetas!D139,Parámetros!$AD$12:$AE$17,2,FALSE),\"\")","v":""},{"$f":"IF(Datos_de_Tarjetas!G139=0,\"\",Datos_de_Tarjetas!G139)","v":""},{"$f":"IFERROR(VLOOKUP(Datos_de_Tarjetas!K139,Parámetros!$AJ$3:$AK$13,2,FALSE),\"\")","v":""},{"$f":"IFERROR(VLOOKUP(Datos_de_Tarjetas!J139,Parámetros!$AQ$3:$AR$57,2,FALSE),\"\")","v":""},null,{"$f":"IF(Datos_de_Tarjetas!L139=0,\"\",Datos_de_Tarjetas!L139)","v":""},{"$f":"IF(Datos_de_Tarjetas!M139=0,\"\",Datos_de_Tarjetas!M139)","v":""},{"$f":"IF(Datos_de_Tarjetas!N139=0,\"\",Datos_de_Tarjetas!N139)","v":""},{"$f":"IFERROR(VLOOKUP(Datos_de_Tarjetas!P139,Parámetros!$AM$3:$AN$90,2,FALSE),\"\")","v":""}]
[null,1069470000,{"$f":"IFERROR(VLOOKUP(Datos_de_Tarjetas!D140,Parámetros!$AD$12:$AE$17,2,FALSE),\"\")","v":""},{"$f":"IF(Datos_de_Tarjetas!G140=0,\"\",Datos_de_Tarjetas!G140)","v":""},{"$f":"IFERROR(VLOOKUP(Datos_de_Tarjetas!K140,Parámetros!$AJ$3:$AK$13,2,FALSE),\"\")","v":""},{"$f":"IFERROR(VLOOKUP(Datos_de_Tarjetas!J140,Parámetros!$AQ$3:$AR$57,2,FALSE),\"\")","v":""},null,{"$f":"IF(Datos_de_Tarjetas!L140=0,\"\",Datos_de_Tarjetas!L140)","v":""},{"$f":"IF(Datos_de_Tarjetas!M140=0,\"\",Datos_de_Tarjetas!M140)","v":""},{"$f":"IF(Datos_de_Tarjetas!N140=0,\"\",Datos_de_Tarjetas!N140)","v":""},{"$f":"IFERROR(VLOOKUP(Datos_de_Tarjetas!P140,Parámetros!$AM$3:$AN$90,2,FALSE),\"\")","v":""}]
[null,1069470000,{"$f":"IFERROR(VLOOKUP(Datos_de_Tarjetas!D141,Parámetros!$AD$12:$AE$17,2,FALSE),\"\")","v":""},{"$f":"IF(Datos_de_Tarjetas!G141=0,\"\",Datos_de_Tarjetas!G141)","v":""},{"$f":"IFERROR(VLOOKUP(Datos_de_Tarjetas!K141,Parámetros!$AJ$3:$AK$13,2,FALSE),\"\")","v":""},{"$f":"IFERROR(VLOOKUP(Datos_de_Tarjetas!J141,Parámetros!$AQ$3:$AR$57,2,FALSE),\"\")","v":""},null,{"$f":"IF(Datos_de_Tarjetas!L141=0,\"\",Datos_de_Tarjetas!L141)","v":""},{"$f":"IF(Datos_de_Tarjetas!M141=0,\"\",Datos_de_Tarjetas!M141)","v":""},{"$f":"IF(Datos_de_Tarjetas!N141=0,\"\",Datos_de_Tarjetas!N141)","v":""},{"$f":"IFERROR(VLOOKUP(Datos_de_Tarjetas!P141,Parámetros!$AM$3:$AN$90,2,FALSE),\"\")","v":""}]
[null,1069470000,{"$f":"IFERROR(VLOOKUP(Datos_de_Tarjetas!D142,Parámetros!$AD$12:$AE$17,2,FALSE),\"\")","v":""},{"$f":"IF(Datos_de_Tarjetas!G142=0,\"\",Datos_de_Tarjetas!G142)","v":""},{"$f":"IFERROR(VLOOKUP(Datos_de_Tarjetas!K142,Parámetros!$AJ$3:$AK$13,2,FALSE),\"\")","v":""},{"$f":"IFERROR(VLOOKUP(Datos_de_Tarjetas!J142,Parámetros!$AQ$3:$AR$57,2,FALSE),\"\")","v":""},null,{"$f":"IF(Datos_de_Tarjetas!L142=0,\"\",Datos_de_Tarjetas!L142)","v":""},{"$f":"IF(Datos_de_Tarjetas!M142=0,\"\",Datos_de_Tarjetas!M142)","v":""},{"$f":"IF(Datos_de_Tarjetas!N142=0,\"\",Datos_de_Tarjetas!N142)","v":""},{"$f":"IFERROR(VLOOKUP(Datos_de_Tarjetas!P142,Parámetros!$AM$3:$AN$90,2,FALSE),\"\")","v":""}]
[null,1069470000,{"$f":"IFERROR(VLOOKUP(Datos_de_Tarjetas!D143,Parámetros!$AD$12:$AE$17,2,FALSE),\"\")","v":""},{"$f":"IF(Datos_de_Tarjetas!G143=0,\"\",Datos_de_Tarjetas!G143)","v":""},{"$f":"IFERROR(VLOOKUP(Datos_de_Tarjetas!K143,Parámetros!$AJ$3:$AK$13,2,FALSE),\"\")","v":""},{"$f":"IFERROR(VLOOKUP(Datos_de_Tarjetas!J143,Parámetros!$AQ$3:$AR$57,2,FALSE),\"\")","v":""},null,{"$f":"IF(Datos_de_Tarjetas!L143=0,\"\",Datos_de_Tarjetas!L143)","v":""},{"$f":"IF(Datos_de_Tarjetas!M143=0,\"\",Datos_de_Tarjetas!M143)","v":""},{"$f":"IF(Datos_de_Tarjetas!N143=0,\"\",Datos_de_Tarjetas!N143)","v":""},{"$f":"IFERROR(VLOOKUP(Datos_de_Tarjetas!P143,Parámetros!$AM$3:$AN$90,2,FALSE),\"\")","v":""}]
[null,1069470000,{"$f":"IFERROR(VLOOKUP(Datos_de_Tarjetas!D144,Parámetros!$AD$12:$AE$17,2,FALSE),\"\")","v":""},{"$f":"IF(Datos_de_Tarjetas!G144=0,\"\",Datos_de_Tarjetas!G144)","v":""},{"$f":"IFERROR(VLOOKUP(Datos_de_Tarjetas!K144,Parámetros!$AJ$3:$AK$13,2,FALSE),\"\")","v":""},{"$f":"IFERROR(VLOOKUP(Datos_de_Tarjetas!J144,Parámetros!$AQ$3:$AR$57,2,FALSE),\"\")","v":""},null,{"$f":"IF(Datos_de_Tarjetas!L144=0,\"\",Datos_de_Tarjetas!L144)","v":""},{"$f":"IF(Datos_de_Tarjetas!M144=0,\"\",Datos_de_Tarjetas!M144)","v":""},{"$f":"IF(Datos_de_Tarjetas!N144=0,\"\",Datos_de_Tarjetas!N144)","v":""},{"$f":"IFERROR(VLOOKUP(Datos_de_Tarjetas!P144,Parámetros!$AM$3:$AN$90,2,FALSE),\"\")","v":""}]
[null,{"$f":"$C$2","v":1069470000},{"$f":"IFERROR(VLOOKUP(Datos_de_Tarjetas!D145,Parámetros!$AD$12:$AE$17,2,FALSE),\"\")","v":""},{"$f":"IF(Datos_de_Tarjetas!G145=0,\"\",Datos_de_Tarjetas!G145)","v":""},{"$f":"IFERROR(VLOOKUP(Datos_de_Tarjetas!K145,Parámetros!$AJ$3:$AK$13,2,FALSE),\"\")","v":""},{"$f":"IFERROR(VLOOKUP(Datos_de_Tarjetas!J145,Parámetros!$AQ$3:$AR$57,2,FALSE),\"\")","v":""},null,{"$f":"IF(Datos_de_Tarjetas!L145=0,\"\",Datos_de_Tarjetas!L145)","v":""},{"$f":"IF(Datos_de_Tarjetas!M145=0,\"\",Datos_de_Tarjetas!M145)","v":""},{"$f":"IF(Datos_de_Tarjetas!N145=0,\"\",Datos_de_Tarjetas!N145)","v":""},{"$f":"IFERROR(VLOOKUP(Datos_de_Tarjetas!P145,Parámetros!$AM$3:$AN$90,2,FALSE),\"\")","v":""}]
[null,1069470000,{"$f":"IFERROR(VLOOKUP(Datos_de_Tarjetas!D146,Parámetros!$AD$12:$AE$17,2,FALSE),\"\")","v":""},{"$f":"IF(Datos_de_Tarjetas!G146=0,\"\",Datos_de_Tarjetas!G146)","v":""},{"$f":"IFERROR(VLOOKUP(Datos_de_Tarjetas!K146,Parámetros!$AJ$3:$AK$13,2,FALSE),\"\")","v":""},{"$f":"IFERROR(VLOOKUP(Datos_de_Tarjetas!J146,Parámetros!$AQ$3:$AR$57,2,FALSE),\"\")","v":""},null,{"$f":"IF(Datos_de_Tarjetas!L146=0,\"\",Datos_de_Tarjetas!L146)","v":""},{"$f":"IF(Datos_de_Tarjetas!M146=0,\"\",Datos_de_Tarjetas!M146)","v":""},{"$f":"IF(Datos_de_Tarjetas!N146=0,\"\",Datos_de_Tarjetas!N146)","v":""},{"$f":"IFERROR(VLOOKUP(Datos_de_Tarjetas!P146,Parámetros!$AM$3:$AN$90,2,FALSE),\"\")","v":""}]
[null,1069470000,{"$f":"IFERROR(VLOOKUP(Datos_de_Tarjetas!D147,Parámetros!$AD$12:$AE$17,2,FALSE),\"\")","v":""},{"$f":"IF(Datos_de_Tarjetas!G147=0,\"\",Datos_de_Tarjetas!G147)","v":""},{"$f":"IFERROR(VLOOKUP(Datos_de_Tarjetas!K147,Parámetros!$AJ$3:$AK$13,2,FALSE),\"\")","v":""},{"$f":"IFERROR(VLOOKUP(Datos_de_Tarjetas!J147,Parámetros!$AQ$3:$AR$57,2,FALSE),\"\")","v":""},null,{"$f":"IF(Datos_de_Tarjetas!L147=0,\"\",Datos_de_Tarjetas!L147)","v":""},{"$f":"IF(Datos_de_Tarjetas!M147=0,\"\",Datos_de_Tarjetas!M147)","v":""},{"$f":"IF(Datos_de_Tarjetas!N147=0,\"\",Datos_de_Tarjetas!N147)","v":""},{"$f":"IFERROR(VLOOKUP(Datos_de_Tarjetas!P147,Parámetros!$AM$3:$AN$90,2,FALSE),\"\")","v":""}]
[null,1069470000,{"$f":"IFERROR(VLOOKUP(Datos_de_Tarjetas!D148,Parámetros!$AD$12:$AE$17,2,FALSE),\"\")","v":""},{"$f":"IF(Datos_de_Tarjetas!G148=0,\"\",Datos_de_Tarjetas!G148)","v":""},{"$f":"IFERROR(VLOOKUP(Datos_de_Tarjetas!K148,Parámetros!$AJ$3:$AK$13,2,FALSE),\"\")","v":""},{"$f":"IFERROR(VLOOKUP(Datos_de_Tarjetas!J148,Parámetros!$AQ$3:$AR$57,2,FALSE),\"\")","v":""},null,{"$f":"IF(Datos_de_Tarjetas!L148=0,\"\",Datos_de_Tarjetas!L148)","v":""},{"$f":"IF(Datos_de_Tarjetas!M148=0,\"\",Datos_de_Tarjetas!M148)","v":""},{"$f":"IF(Datos_de_Tarjetas!N148=0,\"\",Datos_de_Tarjetas!N148)","v":""},{"$f":"IFERROR(VLOOKUP(Datos_de_Tarjetas!P148,Parámetros!$AM$3:$AN$90,2,FALSE),\"\")","v":""}]
[null,1069470000,{"$f":"IFERROR(VLOOKUP(Datos_de_Tarjetas!D149,Parámetros!$AD$12:$AE$17,2,FALSE),\"\")","v":""},{"$f":"IF(Datos_de_Tarjetas!G149=0,\"\",Datos_de_Tarjetas!G149)","v":""},{"$f":"IFERROR(VLOOKUP(Datos_de_Tarjetas!K149,Parámetros!$AJ$3:$AK$13,2,FALSE),\"\")","v":""},{"$f":"IFERROR(VLOOKUP(Datos_de_Tarjetas!J149,Parámetros!$AQ$3:$AR$57,2,FALSE),\"\")","v":""},null,{"$f":"IF(Datos_de_Tarjetas!L149=0,\"\",Datos_de_Tarjetas!L149)","v":""},{"$f":"IF(Datos_de_Tarjetas!M149=0,\"\",Datos_de_Tarjetas!M149)","v":""},{"$f":"IF(Datos_de_Tarjetas!N149=0,\"\",Datos_de_Tarjetas!N149)","v":""},{"$f":"IFERROR(VLOOKUP(Datos_de_Tarjetas!P149,Parámetros!$AM$3:$AN$90,2,FALSE),\"\")","v":""}]
[null,1069470000,{"$f":"IFERROR(VLOOKUP(Datos_de_Tarjetas!D150,Parámetros!$AD$12:$AE$17,2,FALSE),\"\")","v":""},{"$f":"IF(Datos_de_Tarjetas!G150=0,\"\",Datos_de_Tarjetas!G150)","v":""},{"$f":"IFERROR(VLOOKUP(Datos_de_Tarjetas!K150,Parámetros!$AJ$3:$AK$13,2,FALSE),\"\")","v":""},{"$f":"IFERROR(VLOOKUP(Datos_de_Tarjetas!J150,Parámetros!$AQ$3:$AR$57,2,FALSE),\"\")","v":""},null,{"$f":"IF(Datos_de_Tarjetas!L150=0,\"\",Datos_de_Tarjetas!L150)","v":""},{"$f":"IF(Datos_de_Tarjetas!M150=0,\"\",Datos_de_Tarjetas!M150)","v":""},{"$f":"IF(Datos_de_Tarjetas!N150=0,\"\",Datos_de_Tarjetas!N150)","v":""},{"$f":"IFERROR(VLOOKUP(Datos_de_Tarjetas!P150,Parámetros!$AM$3:$AN$90,2,FALSE),\"\")","v":""}]
[null,1069470000,{"$f":"IFERROR(VLOOKUP(Datos_de_Tarjetas!D151,Parámetros!$AD$12:$AE$17,2,FALSE),\"\")","v":""},{"$f":"IF(Datos_de_Tarjetas!G151=0,\"\",Datos_de_Tarjetas!G151)","v":""},{"$f":"IFERROR(VLOOKUP(Datos_de_Tarjetas!K151,Parámetros!$AJ$3:$AK$13,2,FALSE),\"\")","v":""},{"$f":"IFERROR(VLOOKUP(Datos_de_Tarjetas!J151,Parámetros!$AQ$3:$AR$57,2,FALSE),\"\")","v":""},null,{"$f":"IF(Datos_de_Tarjetas!L151=0,\"\",Datos_de_Tarjetas!L151)","v":""},{"$f":"IF(Datos_de_Tarjetas!M151=0,\"\",Datos_de_Tarjetas!M151)","v":""},{"$f":"IF(Datos_de_Tarjetas!N151=0,\"\",Datos_de_Tarjetas!N151)","v":""},{"$f":"IFERROR(VLOOKUP(Datos_de_Tarjetas!P151,Parámetros!$AM$3:$AN$90,2,FALSE),\"\")","v":""}]
[null,1069470000,{"$f":"IFERROR(VLOOKUP(Datos_de_Tarjetas!D152,Parámetros!$AD$12:$AE$17,2,FALSE),\"\")","v":""},{"$f":"IF(Datos_de_Tarjetas!G152=0,\"\",Datos_de_Tarjetas!G152)","v":""},{"$f":"IFERROR(VLOOKUP(Datos_de_Tarjetas!K152,Parámetros!$AJ$3:$AK$13,2,FALSE),\"\")","v":""},{"$f":"IFERROR(VLOOKUP(Datos_de_Tarjetas!J152,Parámetros!$AQ$3:$AR$57,2,FALSE),\"\")","v":""},null,{"$f":"IF(Datos_de_Tarjetas!L152=0,\"\",Datos_de_Tarjetas!L152)","v":""},{"$f":"IF(Datos_de_Tarjetas!M152=0,\"\",Datos_de_Tarjetas!M152)","v":""},{"$f":"IF(Datos_de_Tarjetas!N152=0,\"\",Datos_de_Tarjetas!N152)","v":""},{"$f":"IFERROR(VLOOKUP(Datos_de_Tarjetas!P152,Parámetros!$AM$3:$AN$90,2,FALSE),\"\")","v":""}]
[null,1069470000,{"$f":"IFERROR(VLOOKUP(Datos_de_Tarjetas!D153,Parámetros!$AD$12:$AE$17,2,FALSE),\"\")","v":""},{"$f":"IF(Datos_de_Tarjetas!G153=0,\"\",Datos_de_Tarjetas!G153)","v":""},{"$f":"IFERROR(VLOOKUP(Datos_de_Tarjetas!K153,Parámetros!$AJ$3:$AK$13,2,FALSE),\"\")","v":""},{"$f":"IFERROR(VLOOKUP(Datos_de_Tarjetas!J153,Parámetros!$AQ$3:$AR$57,2,FALSE),\"\")","v":""},null,{"$f":"IF(Datos_de_Tarjetas!L153=0,\"\",Datos_de_Tarjetas!L153)","v":""},{"$f":"IF(Datos_de_Tarjetas!M153=0,\"\",Datos_de_Tarjetas!M153)","v":""},{"$f":"IF(Datos_de_Tarjetas!N153=0,\"\",Datos_de_Tarjetas!N153)","v":""},{"$f":"IFERROR(VLOOKUP(Datos_de_Tarjetas!P153,Parámetros!$AM$3:$AN$90,2,FALSE),\"\")","v":""}]
[null,1069470000,{"$f":"IFERROR(VLOOKUP(Datos_de_Tarjetas!D154,Parámetros!$AD$12:$AE$17,2,FALSE),\"\")","v":""},{"$f":"IF(Datos_de_Tarjetas!G154=0,\"\",Datos_de_Tarjetas!G154)","v":""},{"$f":"IFERROR(VLOOKUP(Datos_de_Tarjetas!K154,Parámetros!$AJ$3:$AK$13,2,FALSE),\"\")","v":""},{"$f":"IFERROR(VLOOKUP(Datos_de_Tarjetas!J154,Parámetros!$AQ$3:$AR$57,2,FALSE),\"\")","v":""},null,{"$f":"IF(Datos_de_Tarjetas!L154=0,\"\",Datos_de_Tarjetas!L154)","v":""},{"$f":"IF(Datos_de_Tarjetas!M154=0,\"\",Datos_de_Tarjetas!M154)","v":""},{"$f":"IF(Datos_de_Tarjetas!N154=0,\"\",Datos_de_Tarjetas!N154)","v":""},{"$f":"IFERROR(VLOOKUP(Datos_de_Tarjetas!P154,Parámetros!$AM$3:$AN$90,2,FALSE),\"\")","v":""}]
[null,1069470000,{"$f":"IFERROR(VLOOKUP(Datos_de_Tarjetas!D155,Parámetros!$AD$12:$AE$17,2,FALSE),\"\")","v":""},{"$f":"IF(Datos_de_Tarjetas!G155=0,\"\",Datos_de_Tarjetas!G155)","v":""},{"$f":"IFERROR(VLOOKUP(Datos_de_Tarjetas!K155,Parámetros!$AJ$3:$AK$13,2,FALSE),\"\")","v":""},{"$f":"IFERROR(VLOOKUP(Datos_de_Tarjetas!J155,Parámetros!$AQ$3:$AR$57,2,FALSE),\"\")","v":""},null,{"$f":"IF(Datos_de_Tarjetas!L155=0,\"\",Datos_de_Tarjetas!L155)","v":""},{"$f":"IF(Datos_de_Tarjetas!M155=0,\"\",Datos_de_Tarjetas!M155)","v":""},{"$f":"IF(Datos_de_Tarjetas!N155=0,\"\",Datos_de_Tarjetas!N155)","v":""},{"$f":"IFERROR(VLOOKUP(Datos_de_Tarjetas!P155,Parámetros!$AM$3:$AN$90,2,FALSE),\"\")","v":""}]
[null,1069470000,{"$f":"IFERROR(VLOOKUP(Datos_de_Tarjetas!D156,Parámetros!$AD$12:$AE$17,2,FALSE),\"\")","v":""},{"$f":"IF(Datos_de_Tarjetas!G156=0,\"\",Datos_de_Tarjetas!G156)","v":""},{"$f":"IFERROR(VLOOKUP(Datos_de_Tarjetas!K156,Parámetros!$AJ$3:$AK$13,2,FALSE),\"\")","v":""},{"$f":"IFERROR(VLOOKUP(Datos_de_Tarjetas!J156,Parámetros!$AQ$3:$AR$57,2,FALSE),\"\")","v":""},null,{"$f":"IF(Datos_de_Tarjetas!L156=0,\"\",Datos_de_Tarjetas!L156)","v":""},{"$f":"IF(Datos_de_Tarjetas!M156=0,\"\",Datos_de_Tarjetas!M156)","v":""},{"$f":"IF(Datos_de_Tarjetas!N156=0,\"\",Datos_de_Tarjetas!N156)","v":""},{"$f":"IFERROR(VLOOKUP(Datos_de_Tarjetas!P156,Parámetros!$AM$3:$AN$90,2,FALSE),\"\")","v":""}]
[null,1069470000,{"$f":"IFERROR(VLOOKUP(Datos_de_Tarjetas!D157,Parámetros!$AD$12:$AE$17,2,FALSE),\"\")","v":""},{"$f":"IF(Datos_de_Tarjetas!G157=0,\"\",Datos_de_Tarjetas!G157)","v":""},{"$f":"IFERROR(VLOOKUP(Datos_de_Tarjetas!K157,Parámetros!$AJ$3:$AK$13,2,FALSE),\"\")","v":""},{"$f":"IFERROR(VLOOKUP(Datos_de_Tarjetas!J157,Parámetros!$AQ$3:$AR$57,2,FALSE),\"\")","v":""},null,{"$f":"IF(Datos_de_Tarjetas!L157=0,\"\",Datos_de_Tarjetas!L157)","v":""},{"$f":"IF(Datos_de_Tarjetas!M157=0,\"\",Datos_de_Tarjetas!M157)","v":""},{"$f":"IF(Datos_de_Tarjetas!N157=0,\"\",Datos_de_Tarjetas!N157)","v":""},{"$f":"IFERROR(VLOOKUP(Datos_de_Tarjetas!P157,Parámetros!$AM$3:$AN$90,2,FALSE),\"\")","v":""}]
[null,1069470000,{"$f":"IFERROR(VLOOKUP(Datos_de_Tarjetas!D158,Parámetros!$AD$12:$AE$17,2,FALSE),\"\")","v":""},{"$f":"IF(Datos_de_Tarjetas!G158=0,\"\",Datos_de_Tarjetas!G158)","v":""},{"$f":"IFERROR(VLOOKUP(Datos_de_Tarjetas!K158,Parámetros!$AJ$3:$AK$13,2,FALSE),\"\")","v":""},{"$f":"IFERROR(VLOOKUP(Datos_de_Tarjetas!J158,Parámetros!$AQ$3:$AR$57,2,FALSE),\"\")","v":""},null,{"$f":"IF(Datos_de_Tarjetas!L158=0,\"\",Datos_de_Tarjetas!L158)","v":""},{"$f":"IF(Datos_de_Tarjetas!M158=0,\"\",Datos_de_Tarjetas!M158)","v":""},{"$f":"IF(Datos_de_Tarjetas!N158=0,\"\",Datos_de_Tarjetas!N158)","v":""},{"$f":"IFERROR(VLOOKUP(Datos_de_Tarjetas!P158,Parámetros!$AM$3:$AN$90,2,FALSE),\"\")","v":""}]
[null,1069470000,{"$f":"IFERROR(VLOOKUP(Datos_de_Tarjetas!D159,Parámetros!$AD$12:$AE$17,2,FALSE),\"\")","v":""},{"$f":"IF(Datos_de_Tarjetas!G159=0,\"\",Datos_de_Tarjetas!G159)","v":""},{"$f":"IFERROR(VLOOKUP(Datos_de_Tarjetas!K159,Parámetros!$AJ$3:$AK$13,2,FALSE),\"\")","v":""},{"$f":"IFERROR(VLOOKUP(Datos_de_Tarjetas!J159,Parámetros!$AQ$3:$AR$57,2,FALSE),\"\")","v":""},null,{"$f":"IF(Datos_de_Tarjetas!L159=0,\"\",Datos_de_Tarjetas!L159)","v":""},{"$f":"IF(Datos_de_Tarjetas!M159=0,\"\",Datos_de_Tarjetas!M159)","v":""},{"$f":"IF(Datos_de_Tarjetas!N159=0,\"\",Datos_de_Tarjetas!N159)","v":""},{"$f":"IFERROR(VLOOKUP(Datos_de_Tarjetas!P159,Parámetros!$AM$3:$AN$90,2,FALSE),\"\")","v":""}]
[null,1069470000,{"$f":"IFERROR(VLOOKUP(Datos_de_Tarjetas!D160,Parámetros!$AD$12:$AE$17,2,FALSE),\"\")","v":""},{"$f":"IF(Datos_de_Tarjetas!G160=0,\"\",Datos_de_Tarjetas!G160)","v":""},{"$f":"IFERROR(VLOOKUP(Datos_de_Tarjetas!K160,Parámetros!$AJ$3:$AK$13,2,FALSE),\"\")","v":""},{"$f":"IFERROR(VLOOKUP(Datos_de_Tarjetas!J160,Parámetros!$AQ$3:$AR$57,2,FALSE),\"\")","v":""},null,{"$f":"IF(Datos_de_Tarjetas!L160=0,\"\",Datos_de_Tarjetas!L160)","v":""},{"$f":"IF(Datos_de_Tarjetas!M160=0,\"\",Datos_de_Tarjetas!M160)","v":""},{"$f":"IF(Datos_de_Tarjetas!N160=0,\"\",Datos_de_Tarjetas!N160)","v":""},{"$f":"IFERROR(VLOOKUP(Datos_de_Tarjetas!P160,Parámetros!$AM$3:$AN$90,2,FALSE),\"\")","v":""}]
[null,1069470000,{"$f":"IFERROR(VLOOKUP(Datos_de_Tarjetas!D161,Parámetros!$AD$12:$AE$17,2,FALSE),\"\")","v":""},{"$f":"IF(Datos_de_Tarjetas!G161=0,\"\",Datos_de_Tarjetas!G161)","v":""},{"$f":"IFERROR(VLOOKUP(Datos_de_Tarjetas!K161,Parámetros!$AJ$3:$AK$13,2,FALSE),\"\")","v":""},{"$f":"IFERROR(VLOOKUP(Datos_de_Tarjetas!J161,Parámetros!$AQ$3:$AR$57,2,FALSE),\"\")","v":""},null,{"$f":"IF(Datos_de_Tarjetas!L161=0,\"\",Datos_de_Tarjetas!L161)","v":""},{"$f":"IF(Datos_de_Tarjetas!M161=0,\"\",Datos_de_Tarjetas!M161)","v":""},{"$f":"IF(Datos_de_Tarjetas!N161=0,\"\",Datos_de_Tarjetas!N161)","v":""},{"$f":"IFERROR(VLOOKUP(Datos_de_Tarjetas!P161,Parámetros!$AM$3:$AN$90,2,FALSE),\"\")","v":""}]
[null,1069470000,{"$f":"IFERROR(VLOOKUP(Datos_de_Tarjetas!D162,Parámetros!$AD$12:$AE$17,2,FALSE),\"\")","v":""},{"$f":"IF(Datos_de_Tarjetas!G162=0,\"\",Datos_de_Tarjetas!G162)","v":""},{"$f":"IFERROR(VLOOKUP(Datos_de_Tarjetas!K162,Parámetros!$AJ$3:$AK$13,2,FALSE),\"\")","v":""},{"$f":"IFERROR(VLOOKUP(Datos_de_Tarjetas!J162,Parámetros!$AQ$3:$AR$57,2,FALSE),\"\")","v":""},null,{"$f":"IF(Datos_de_Tarjetas!L162=0,\"\",Datos_de_Tarjetas!L162)","v":""},{"$f":"IF(Datos_de_Tarjetas!M162=0,\"\",Datos_de_Tarjetas!M162)","v":""},{"$f":"IF(Datos_de_Tarjetas!N162=0,\"\",Datos_de_Tarjetas!N162)","v":""},{"$f":"IFERROR(VLOOKUP(Datos_de_Tarjetas!P162,Parámetros!$AM$3:$AN$90,2,FALSE),\"\")","v":""}]
[null,1069470000,{"$f":"IFERROR(VLOOKUP(Datos_de_Tarjetas!D163,Parámetros!$AD$12:$AE$17,2,FALSE),\"\")","v":""},{"$f":"IF(Datos_de_Tarjetas!G163=0,\"\",Datos_de_Tarjetas!G163)","v":""},{"$f":"IFERROR(VLOOKUP(Datos_de_Tarjetas!K163,Parámetros!$AJ$3:$AK$13,2,FALSE),\"\")","v":""},{"$f":"IFERROR(VLOOKUP(Datos_de_Tarjetas!J163,Parámetros!$AQ$3:$AR$57,2,FALSE),\"\")","v":""},null,{"$f":"IF(Datos_de_Tarjetas!L163=0,\"\",Datos_de_Tarjetas!L163)","v":""},{"$f":"IF(Datos_de_Tarjetas!M163=0,\"\",Datos_de_Tarjetas!M163)","v":""},{"$f":"IF(Datos_de_Tarjetas!N163=0,\"\",Datos_de_Tarjetas!N163)","v":""},{"$f":"IFERROR(VLOOKUP(Datos_de_Tarjetas!P163,Parámetros!$AM$3:$AN$90,2,FALSE),\"\")","v":""}]
[null,1069470000,{"$f":"IFERROR(VLOOKUP(Datos_de_Tarjetas!D164,Parámetros!$AD$12:$AE$17,2,FALSE),\"\")","v":""},{"$f":"IF(Datos_de_Tarjetas!G164=0,\"\",Datos_de_Tarjetas!G164)","v":""},{"$f":"IFERROR(VLOOKUP(Datos_de_Tarjetas!K164,Parámetros!$AJ$3:$AK$13,2,FALSE),\"\")","v":""},{"$f":"IFERROR(VLOOKUP(Datos_de_Tarjetas!J164,Parámetros!$AQ$3:$AR$57,2,FALSE),\"\")","v":""},null,{"$f":"IF(Datos_de_Tarjetas!L164=0,\"\",Datos_de_Tarjetas!L164)","v":""},{"$f":"IF(Datos_de_Tarjetas!M164=0,\"\",Datos_de_Tarjetas!M164)","v":""},{"$f":"IF(Datos_de_Tarjetas!N164=0,\"\",Datos_de_Tarjetas!N164)","v":""},{"$f":"IFERROR(VLOOKUP(Datos_de_Tarjetas!P164,Parámetros!$AM$3:$AN$90,2,FALSE),\"\")","v":""}]
[null,1069470000,{"$f":"IFERROR(VLOOKUP(Datos_de_Tarjetas!D165,Parámetros!$AD$12:$AE$17,2,FALSE),\"\")","v":""},{"$f":"IF(Datos_de_Tarjetas!G165=0,\"\",Datos_de_Tarjetas!G165)","v":""},{"$f":"IFERROR(VLOOKUP(Datos_de_Tarjetas!K165,Parámetros!$AJ$3:$AK$13,2,FALSE),\"\")","v":""},{"$f":"IFERROR(VLOOKUP(Datos_de_Tarjetas!J165,Parámetros!$AQ$3:$AR$57,2,FALSE),\"\")","v":""},null,{"$f":"IF(Datos_de_Tarjetas!L165=0,\"\",Datos_de_Tarjetas!L165)","v":""},{"$f":"IF(Datos_de_Tarjetas!M165=0,\"\",Datos_de_Tarjetas!M165)","v":""},{"$f":"IF(Datos_de_Tarjetas!N165=0,\"\",Datos_de_Tarjetas!N165)","v":""},{"$f":"IFERROR(VLOOKUP(Datos_de_Tarjetas!P165,Parámetros!$AM$3:$AN$90,2,FALSE),\"\")","v":""}]
[null,1069470000,{"$f":"IFERROR(VLOOKUP(Datos_de_Tarjetas!D166,Parámetros!$AD$12:$AE$17,2,FALSE),\"\")","v":""},{"$f":"IF(Datos_de_Tarjetas!G166=0,\"\",Datos_de_Tarjetas!G166)","v":""},{"$f":"IFERROR(VLOOKUP(Datos_de_Tarjetas!K166,Parámetros!$AJ$3:$AK$13,2,FALSE),\"\")","v":""},{"$f":"IFERROR(VLOOKUP(Datos_de_Tarjetas!J166,Parámetros!$AQ$3:$AR$57,2,FALSE),\"\")","v":""},null,{"$f":"IF(Datos_de_Tarjetas!L166=0,\"\",Datos_de_Tarjetas!L166)","v":""},{"$f":"IF(Datos_de_Tarjetas!M166=0,\"\",Datos_de_Tarjetas!M166)","v":""},{"$f":"IF(Datos_de_Tarjetas!N166=0,\"\",Datos_de_Tarjetas!N166)","v":""},{"$f":"IFERROR(VLOOKUP(Datos_de_Tarjetas!P166,Parámetros!$AM$3:$AN$90,2,FALSE),\"\")","v":""}]
[null,1069470000,{"$f":"IFERROR(VLOOKUP(Datos_de_Tarjetas!D167,Parámetros!$AD$12:$AE$17,2,FALSE),\"\")","v":""},{"$f":"IF(Datos_de_Tarjetas!G167=0,\"\",Datos_de_Tarjetas!G167)","v":""},{"$f":"IFERROR(VLOOKUP(Datos_de_Tarjetas!K167,Parámetros!$AJ$3:$AK$13,2,FALSE),\"\")","v":""},{"$f":"IFERROR(VLOOKUP(Datos_de_Tarjetas!J167,Parámetros!$AQ$3:$AR$57,2,FALSE),\"\")","v":""},null,{"$f":"IF(Datos_de_Tarjetas!L167=0,\"\",Datos_de_Tarjetas!L167)","v":""},{"$f":"IF(Datos_de_Tarjetas!M167=0,\"\",Datos_de_Tarjetas!M167)","v":""},{"$f":"IF(Datos_de_Tarjetas!N167=0,\"\",Datos_de_Tarjetas!N167)","v":""},{"$f":"IFERROR(VLOOKUP(Datos_de_Tarjetas!P167,Parámetros!$AM$3:$AN$90,2,FALSE),\"\")","v":""}]
[null,1069470000,{"$f":"IFERROR(VLOOKUP(Datos_de_Tarjetas!D168,Parámetros!$AD$12:$AE$17,2,FALSE),\"\")","v":""},{"$f":"IF(Datos_de_Tarjetas!G168=0,\"\",Datos_de_Tarjetas!G168)","v":""},{"$f":"IFERROR(VLOOKUP(Datos_de_Tarjetas!K168,Parámetros!$AJ$3:$AK$13,2,FALSE),\"\")","v":""},{"$f":"IFERROR(VLOOKUP(Datos_de_Tarjetas!J168,Parámetros!$AQ$3:$AR$57,2,FALSE),\"\")","v":""},null,{"$f":"IF(Datos_de_Tarjetas!L168=0,\"\",Datos_de_Tarjetas!L168)","v":""},{"$f":"IF(Datos_de_Tarjetas!M168=0,\"\",Datos_de_Tarjetas!M168)","v":""},{"$f":"IF(Datos_de_Tarjetas!N168=0,\"\",Datos_de_Tarjetas!N168)","v":""},{"$f":"IFERROR(VLOOKUP(Datos_de_Tarjetas!P168,Parámetros!$AM$3:$AN$90,2,FALSE),\"\")","v":""}]
[null,1069470000,{"$f":"IFERROR(VLOOKUP(Datos_de_Tarjetas!D169,Parámetros!$AD$12:$AE$17,2,FALSE),\"\")","v":""},{"$f":"IF(Datos_de_Tarjetas!G169=0,\"\",Datos_de_Tarjetas!G169)","v":""},{"$f":"IFERROR(VLOOKUP(Datos_de_Tarjetas!K169,Parámetros!$AJ$3:$AK$13,2,FALSE),\"\")","v":""},{"$f":"IFERROR(VLOOKUP(Datos_de_Tarjetas!J169,Parámetros!$AQ$3:$AR$57,2,FALSE),\"\")","v":""},null,{"$f":"IF(Datos_de_Tarjetas!L169=0,\"\",Datos_de_Tarjetas!L169)","v":""},{"$f":"IF(Datos_de_Tarjetas!M169=0,\"\",Datos_de_Tarjetas!M169)","v":""},{"$f":"IF(Datos_de_Tarjetas!N169=0,\"\",Datos_de_Tarjetas!N169)","v":""},{"$f":"IFERROR(VLOOKUP(Datos_de_Tarjetas!P169,Parámetros!$AM$3:$AN$90,2,FALSE),\"\")","v":""}]
[null,1069470000,{"$f":"IFERROR(VLOOKUP(Datos_de_Tarjetas!D170,Parámetros!$AD$12:$AE$17,2,FALSE),\"\")","v":""},{"$f":"IF(Datos_de_Tarjetas!G170=0,\"\",Datos_de_Tarjetas!G170)","v":""},{"$f":"IFERROR(VLOOKUP(Datos_de_Tarjetas!K170,Parámetros!$AJ$3:$AK$13,2,FALSE),\"\")","v":""},{"$f":"IFERROR(VLOOKUP(Datos_de_Tarjetas!J170,Parámetros!$AQ$3:$AR$57,2,FALSE),\"\")","v":""},null,{"$f":"IF(Datos_de_Tarjetas!L170=0,\"\",Datos_de_Tarjetas!L170)","v":""},{"$f":"IF(Datos_de_Tarjetas!M170=0,\"\",Datos_de_Tarjetas!M170)","v":""},{"$f":"IF(Datos_de_Tarjetas!N170=0,\"\",Datos_de_Tarjetas!N170)","v":""},{"$f":"IFERROR(VLOOKUP(Datos_de_Tarjetas!P170,Parámetros!$AM$3:$AN$90,2,FALSE),\"\")","v":""}]
[null,1069470000,{"$f":"IFERROR(VLOOKUP(Datos_de_Tarjetas!D171,Parámetros!$AD$12:$AE$17,2,FALSE),\"\")","v":""},{"$f":"IF(Datos_de_Tarjetas!G171=0,\"\",Datos_de_Tarjetas!G171)","v":""},{"$f":"IFERROR(VLOOKUP(Datos_de_Tarjetas!K171,Parámetros!$AJ$3:$AK$13,2,FALSE),\"\")","v":""},{"$f":"IFERROR(VLOOKUP(Datos_de_Tarjetas!J171,Parámetros!$AQ$3:$AR$57,2,FALSE),\"\")","v":""},null,{"$f":"IF(Datos_de_Tarjetas!L171=0,\"\",Datos_de_Tarjetas!L171)","v":""},{"$f":"IF(Datos_de_Tarjetas!M171=0,\"\",Datos_de_Tarjetas!M171)","v":""},{"$f":"IF(Datos_de_Tarjetas!N171=0,\"\",Datos_de_Tarjetas!N171)","v":""},{"$f":"IFERROR(VLOOKUP(Datos_de_Tarjetas!P171,Parámetros!$AM$3:$AN$90,2,FALSE),\"\")","v":""}]
[null,1069470000,{"$f":"IFERROR(VLOOKUP(Datos_de_Tarjetas!D172,Parámetros!$AD$12:$AE$17,2,FALSE),\"\")","v":""},{"$f":"IF(Datos_de_Tarjetas!G172=0,\"\",Datos_de_Tarjetas!G172)","v":""},{"$f":"IFERROR(VLOOKUP(Datos_de_Tarjetas!K172,Parámetros!$AJ$3:$AK$13,2,FALSE),\"\")","v":""},{"$f":"IFERROR(VLOOKUP(Datos_de_Tarjetas!J172,Parámetros!$AQ$3:$AR$57,2,FALSE),\"\")","v":""},null,{"$f":"IF(Datos_de_Tarjetas!L172=0,\"\",Datos_de_Tarjetas!L172)","v":""},{"$f":"IF(Datos_de_Tarjetas!M172=0,\"\",Datos_de_Tarjetas!M172)","v":""},{"$f":"IF(Datos_de_Tarjetas!N172=0,\"\",Datos_de_Tarjetas!N172)","v":""},{"$f":"IFERROR(VLOOKUP(Datos_de_Tarjetas!P172,Parámetros!$AM$3:$AN$90,2,FALSE),\"\")","v":""}]
[null,1069470000,{"$f":"IFERROR(VLOOKUP(Datos_de_Tarjetas!D173,Parámetros!$AD$12:$AE$17,2,FALSE),\"\")","v":""},{"$f":"IF(Datos_de_Tarjetas!G173=0,\"\",Datos_de_Tarjetas!G173)","v":""},{"$f":"IFERROR(VLOOKUP(Datos_de_Tarjetas!K173,Parámetros!$AJ$3:$AK$13,2,FALSE),\"\")","v":""},{"$f":"IFERROR(VLOOKUP(Datos_de_Tarjetas!J173,Parámetros!$AQ$3:$AR$57,2,FALSE),\"\")","v":""},null,{"$f":"IF(Datos_de_Tarjetas!L173=0,\"\",Datos_de_Tarjetas!L173)","v":""},{"$f":"IF(Datos_de_Tarjetas!M173=0,\"\",Datos_de_Tarjetas!M173)","v":""},{"$f":"IF(Datos_de_Tarjetas!N173=0,\"\",Datos_de_Tarjetas!N173)","v":""},{"$f":"IFERROR(VLOOKUP(Datos_de_Tarjetas!P173,Parámetros!$AM$3:$AN$90,2,FALSE),\"\")","v":""}]
[null,1069470000,{"$f":"IFERROR(VLOOKUP(Datos_de_Tarjetas!D174,Parámetros!$AD$12:$AE$17,2,FALSE),\"\")","v":""},{"$f":"IF(Datos_de_Tarjetas!G174=0,\"\",Datos_de_Tarjetas!G174)","v":""},{"$f":"IFERROR(VLOOKUP(Datos_de_Tarjetas!K174,Parámetros!$AJ$3:$AK$13,2,FALSE),\"\")","v":""},{"$f":"IFERROR(VLOOKUP(Datos_de_Tarjetas!J174,Parámetros!$AQ$3:$AR$57,2,FALSE),\"\")","v":""},null,{"$f":"IF(Datos_de_Tarjetas!L174=0,\"\",Datos_de_Tarjetas!L174)","v":""},{"$f":"IF(Datos_de_Tarjetas!M174=0,\"\",Datos_de_Tarjetas!M174)","v":""},{"$f":"IF(Datos_de_Tarjetas!N174=0,\"\",Datos_de_Tarjetas!N174)","v":""},{"$f":"IFERROR(VLOOKUP(Datos_de_Tarjetas!P174,Parámetros!$AM$3:$AN$90,2,FALSE),\"\")","v":""}]
[null,1069470000,{"$f":"IFERROR(VLOOKUP(Datos_de_Tarjetas!D175,Parámetros!$AD$12:$AE$17,2,FALSE),\"\")","v":""},{"$f":"IF(Datos_de_Tarjetas!G175=0,\"\",Datos_de_Tarjetas!G175)","v":""},{"$f":"IFERROR(VLOOKUP(Datos_de_Tarjetas!K175,Parámetros!$AJ$3:$AK$13,2,FALSE),\"\")","v":""},{"$f":"IFERROR(VLOOKUP(Datos_de_Tarjetas!J175,Parámetros!$AQ$3:$AR$57,2,FALSE),\"\")","v":""},null,{"$f":"IF(Datos_de_Tarjetas!L175=0,\"\",Datos_de_Tarjetas!L175)","v":""},{"$f":"IF(Datos_de_Tarjetas!M175=0,\"\",Datos_de_Tarjetas!M175)","v":""},{"$f":"IF(Datos_de_Tarjetas!N175=0,\"\",Datos_de_Tarjetas!N175)","v":""},{"$f":"IFERROR(VLOOKUP(Datos_de_Tarjetas!P175,Parámetros!$AM$3:$AN$90,2,FALSE),\"\")","v":""}]
[null,1069470000,{"$f":"IFERROR(VLOOKUP(Datos_de_Tarjetas!D176,Parámetros!$AD$12:$AE$17,2,FALSE),\"\")","v":""},{"$f":"IF(Datos_de_Tarjetas!G176=0,\"\",Datos_de_Tarjetas!G176)","v":""},{"$f":"IFERROR(VLOOKUP(Datos_de_Tarjetas!K176,Parámetros!$AJ$3:$AK$13,2,FALSE),\"\")","v":""},{"$f":"IFERROR(VLOOKUP(Datos_de_Tarjetas!J176,Parámetros!$AQ$3:$AR$57,2,FALSE),\"\")","v":""},null,{"$f":"IF(Datos_de_Tarjetas!L176=0,\"\",Datos_de_Tarjetas!L176)","v":""},{"$f":"IF(Datos_de_Tarjetas!M176=0,\"\",Datos_de_Tarjetas!M176)","v":""},{"$f":"IF(Datos_de_Tarjetas!N176=0,\"\",Datos_de_Tarjetas!N176)","v":""},{"$f":"IFERROR(VLOOKUP(Datos_de_Tarjetas!P176,Parámetros!$AM$3:$AN$90,2,FALSE),\"\")","v":""}]
[null,1069470000,{"$f":"IFERROR(VLOOKUP(Datos_de_Tarjetas!D177,Parámetros!$AD$12:$AE$17,2,FALSE),\"\")","v":""},{"$f":"IF(Datos_de_Tarjetas!G177=0,\"\",Datos_de_Tarjetas!G177)","v":""},{"$f":"IFERROR(VLOOKUP(Datos_de_Tarjetas!K177,Parámetros!$AJ$3:$AK$13,2,FALSE),\"\")","v":""},{"$f":"IFERROR(VLOOKUP(Datos_de_Tarjetas!J177,Parámetros!$AQ$3:$AR$57,2,FALSE),\"\")","v":""},null,{"$f":"IF(Datos_de_Tarjetas!L177=0,\"\",Datos_de_Tarjetas!L177)","v":""},{"$f":"IF(Datos_de_Tarjetas!M177=0,\"\",Datos_de_Tarjetas!M177)","v":""},{"$f":"IF(Datos_de_Tarjetas!N177=0,\"\",Datos_de_Tarjetas!N177)","v":""},{"$f":"IFERROR(VLOOKUP(Datos_de_Tarjetas!P177,Parámetros!$AM$3:$AN$90,2,FALSE),\"\")","v":""}]
[null,1069470000,{"$f":"IFERROR(VLOOKUP(Datos_de_Tarjetas!D178,Parámetros!$AD$12:$AE$17,2,FALSE),\"\")","v":""},{"$f":"IF(Datos_de_Tarjetas!G178=0,\"\",Datos_de_Tarjetas!G178)","v":""},{"$f":"IFERROR(VLOOKUP(Datos_de_Tarjetas!K178,Parámetros!$AJ$3:$AK$13,2,FALSE),\"\")","v":""},{"$f":"IFERROR(VLOOKUP(Datos_de_Tarjetas!J178,Parámetros!$AQ$3:$AR$57,2,FALSE),\"\")","v":""},null,{"$f":"IF(Datos_de_Tarjetas!L178=0,\"\",Datos_de_Tarjetas!L178)","v":""},{"$f":"IF(Datos_de_Tarjetas!M178=0,\"\",Datos_de_Tarjetas!M178)","v":""},{"$f":"IF(Datos_de_Tarjetas!N178=0,\"\",Datos_de_Tarjetas!N178)","v":""},{"$f":"IFERROR(VLOOKUP(Datos_de_Tarjetas!P178,Parámetros!$AM$3:$AN$90,2,FALSE),\"\")","v":""}]
[null,1069470000,{"$f":"IFERROR(VLOOKUP(Datos_de_Tarjetas!D179,Parámetros!$AD$12:$AE$17,2,FALSE),\"\")","v":""},{"$f":"IF(Datos_de_Tarjetas!G179=0,\"\",Datos_de_Tarjetas!G179)","v":""},{"$f":"IFERROR(VLOOKUP(Datos_de_Tarjetas!K179,Parámetros!$AJ$3:$AK$13,2,FALSE),\"\")","v":""},{"$f":"IFERROR(VLOOKUP(Datos_de_Tarjetas!J179,Parámetros!$AQ$3:$AR$57,2,FALSE),\"\")","v":""},null,{"$f":"IF(Datos_de_Tarjetas!L179=0,\"\",Datos_de_Tarjetas!L179)","v":""},{"$f":"IF(Datos_de_Tarjetas!M179=0,\"\",Datos_de_Tarjetas!M179)","v":""},{"$f":"IF(Datos_de_Tarjetas!N179=0,\"\",Datos_de_Tarjetas!N179)","v":""},{"$f":"IFERROR(VLOOKUP(Datos_de_Tarjetas!P179,Parámetros!$AM$3:$AN$90,2,FALSE),\"\")","v":""}]
[null,1069470000,{"$f":"IFERROR(VLOOKUP(Datos_de_Tarjetas!D180,Parámetros!$AD$12:$AE$17,2,FALSE),\"\")","v":""},{"$f":"IF(Datos_de_Tarjetas!G180=0,\"\",Datos_de_Tarjetas!G180)","v":""},{"$f":"IFERROR(VLOOKUP(Datos_de_Tarjetas!K180,Parámetros!$AJ$3:$AK$13,2,FALSE),\"\")","v":""},{"$f":"IFERROR(VLOOKUP(Datos_de_Tarjetas!J180,Parámetros!$AQ$3:$AR$57,2,FALSE),\"\")","v":""},null,{"$f":"IF(Datos_de_Tarjetas!L180=0,\"\",Datos_de_Tarjetas!L180)","v":""},{"$f":"IF(Datos_de_Tarjetas!M180=0,\"\",Datos_de_Tarjetas!M180)","v":""},{"$f":"IF(Datos_de_Tarjetas!N180=0,\"\",Datos_de_Tarjetas!N180)","v":""},{"$f":"IFERROR(VLOOKUP(Datos_de_Tarjetas!P180,Parámetros!$AM$3:$AN$90,2,FALSE),\"\")","v":""}]
[null,1069470000,{"$f":"IFERROR(VLOOKUP(Datos_de_Tarjetas!D181,Parámetros!$AD$12:$AE$17,2,FALSE),\"\")","v":""},{"$f":"IF(Datos_de_Tarjetas!G181=0,\"\",Datos_de_Tarjetas!G181)","v":""},{"$f":"IFERROR(VLOOKUP(Datos_de_Tarjetas!K181,Parámetros!$AJ$3:$AK$13,2,FALSE),\"\")","v":""},{"$f":"IFERROR(VLOOKUP(Datos_de_Tarjetas!J181,Parámetros!$AQ$3:$AR$57,2,FALSE),\"\")","v":""},null,{"$f":"IF(Datos_de_Tarjetas!L181=0,\"\",Datos_de_Tarjetas!L181)","v":""},{"$f":"IF(Datos_de_Tarjetas!M181=0,\"\",Datos_de_Tarjetas!M181)","v":""},{"$f":"IF(Datos_de_Tarjetas!N181=0,\"\",Datos_de_Tarjetas!N181)","v":""},{"$f":"IFERROR(VLOOKUP(Datos_de_Tarjetas!P181,Parámetros!$AM$3:$AN$90,2,FALSE),\"\")","v":""}]
[null,1069470000,{"$f":"IFERROR(VLOOKUP(Datos_de_Tarjetas!D182,Parámetros!$AD$12:$AE$17,2,FALSE),\"\")","v":""},{"$f":"IF(Datos_de_Tarjetas!G182=0,\"\",Datos_de_Tarjetas!G182)","v":""},{"$f":"IFERROR(VLOOKUP(Datos_de_Tarjetas!K182,Parámetros!$AJ$3:$AK$13,2,FALSE),\"\")","v":""},{"$f":"IFERROR(VLOOKUP(Datos_de_Tarjetas!J182,Parámetros!$AQ$3:$AR$57,2,FALSE),\"\")","v":""},null,{"$f":"IF(Datos_de_Tarjetas!L182=0,\"\",Datos_de_Tarjetas!L182)","v":""},{"$f":"IF(Datos_de_Tarjetas!M182=0,\"\",Datos_de_Tarjetas!M182)","v":""},{"$f":"IF(Datos_de_Tarjetas!N182=0,\"\",Datos_de_Tarjetas!N182)","v":""},{"$f":"IFERROR(VLOOKUP(Datos_de_Tarjetas!P182,Parámetros!$AM$3:$AN$90,2,FALSE),\"\")","v":""}]
[null,1069470000,{"$f":"IFERROR(VLOOKUP(Datos_de_Tarjetas!D183,Parámetros!$AD$12:$AE$17,2,FALSE),\"\")","v":""},{"$f":"IF(Datos_de_Tarjetas!G183=0,\"\",Datos_de_Tarjetas!G183)","v":""},{"$f":"IFERROR(VLOOKUP(Datos_de_Tarjetas!K183,Parámetros!$AJ$3:$AK$13,2,FALSE),\"\")","v":""},{"$f":"IFERROR(VLOOKUP(Datos_de_Tarjetas!J183,Parámetros!$AQ$3:$AR$57,2,FALSE),\"\")","v":""},null,{"$f":"IF(Datos_de_Tarjetas!L183=0,\"\",Datos_de_Tarjetas!L183)","v":""},{"$f":"IF(Datos_de_Tarjetas!M183=0,\"\",Datos_de_Tarjetas!M183)","v":""},{"$f":"IF(Datos_de_Tarjetas!N183=0,\"\",Datos_de_Tarjetas!N183)","v":""},{"$f":"IFERROR(VLOOKUP(Datos_de_Tarjetas!P183,Parámetros!$AM$3:$AN$90,2,FALSE),\"\")","v":""}]
[null,1069470000,{"$f":"IFERROR(VLOOKUP(Datos_de_Tarjetas!D184,Parámetros!$AD$12:$AE$17,2,FALSE),\"\")","v":""},{"$f":"IF(Datos_de_Tarjetas!G184=0,\"\",Datos_de_Tarjetas!G184)","v":""},{"$f":"IFERROR(VLOOKUP(Datos_de_Tarjetas!K184,Parámetros!$AJ$3:$AK$13,2,FALSE),\"\")","v":""},{"$f":"IFERROR(VLOOKUP(Datos_de_Tarjetas!J184,Parámetros!$AQ$3:$AR$57,2,FALSE),\"\")","v":""},null,{"$f":"IF(Datos_de_Tarjetas!L184=0,\"\",Datos_de_Tarjetas!L184)","v":""},{"$f":"IF(Datos_de_Tarjetas!M184=0,\"\",Datos_de_Tarjetas!M184)","v":""},{"$f":"IF(Datos_de_Tarjetas!N184=0,\"\",Datos_de_Tarjetas!N184)","v":""},{"$f":"IFERROR(VLOOKUP(Datos_de_Tarjetas!P184,Parámetros!$AM$3:$AN$90,2,FALSE),\"\")","v":""}]
[null,1069470000,{"$f":"IFERROR(VLOOKUP(Datos_de_Tarjetas!D185,Parámetros!$AD$12:$AE$17,2,FALSE),\"\")","v":""},{"$f":"IF(Datos_de_Tarjetas!G185=0,\"\",Datos_de_Tarjetas!G185)","v":""},{"$f":"IFERROR(VLOOKUP(Datos_de_Tarjetas!K185,Parámetros!$AJ$3:$AK$13,2,FALSE),\"\")","v":""},{"$f":"IFERROR(VLOOKUP(Datos_de_Tarjetas!J185,Parámetros!$AQ$3:$AR$57,2,FALSE),\"\")","v":""},null,{"$f":"IF(Datos_de_Tarjetas!L185=0,\"\",Datos_de_Tarjetas!L185)","v":""},{"$f":"IF(Datos_de_Tarjetas!M185=0,\"\",Datos_de_Tarjetas!M185)","v":""},{"$f":"IF(Datos_de_Tarjetas!N185=0,\"\",Datos_de_Tarjetas!N185)","v":""},{"$f":"IFERROR(VLOOKUP(Datos_de_Tarjetas!P185,Parámetros!$AM$3:$AN$90,2,FALSE),\"\")","v":""}]
[null,1069470000,{"$f":"IFERROR(VLOOKUP(Datos_de_Tarjetas!D186,Parámetros!$AD$12:$AE$17,2,FALSE),\"\")","v":""},{"$f":"IF(Datos_de_Tarjetas!G186=0,\"\",Datos_de_Tarjetas!G186)","v":""},{"$f":"IFERROR(VLOOKUP(Datos_de_Tarjetas!K186,Parámetros!$AJ$3:$AK$13,2,FALSE),\"\")","v":""},{"$f":"IFERROR(VLOOKUP(Datos_de_Tarjetas!J186,Parámetros!$AQ$3:$AR$57,2,FALSE),\"\")","v":""},null,{"$f":"IF(Datos_de_Tarjetas!L186=0,\"\",Datos_de_Tarjetas!L186)","v":""},{"$f":"IF(Datos_de_Tarjetas!M186=0,\"\",Datos_de_Tarjetas!M186)","v":""},{"$f":"IF(Datos_de_Tarjetas!N186=0,\"\",Datos_de_Tarjetas!N186)","v":""},{"$f":"IFERROR(VLOOKUP(Datos_de_Tarjetas!P186,Parámetros!$AM$3:$AN$90,2,FALSE),\"\")","v":""}]
[null,1069470000,{"$f":"IFERROR(VLOOKUP(Datos_de_Tarjetas!D187,Parámetros!$AD$12:$AE$17,2,FALSE),\"\")","v":""},{"$f":"IF(Datos_de_Tarjetas!G187=0,\"\",Datos_de_Tarjetas!G187)","v":""},{"$f":"IFERROR(VLOOKUP(Datos_de_Tarjetas!K187,Parámetros!$AJ$3:$AK$13,2,FALSE),\"\")","v":""},{"$f":"IFERROR(VLOOKUP(Datos_de_Tarjetas!J187,Parámetros!$AQ$3:$AR$57,2,FALSE),\"\")","v":""},null,{"$f":"IF(Datos_de_Tarjetas!L187=0,\"\",Datos_de_Tarjetas!L187)","v":""},{"$f":"IF(Datos_de_Tarjetas!M187=0,\"\",Datos_de_Tarjetas!M187)","v":""},{"$f":"IF(Datos_de_Tarjetas!N187=0,\"\",Datos_de_Tarjetas!N187)","v":""},{"$f":"IFERROR(VLOOKUP(Datos_de_Tarjetas!P187,Parámetros!$AM$3:$AN$90,2,FALSE),\"\")","v":""}]
[null,1069470000,{"$f":"IFERROR(VLOOKUP(Datos_de_Tarjetas!D188,Parámetros!$AD$12:$AE$17,2,FALSE),\"\")","v":""},{"$f":"IF(Datos_de_Tarjetas!G188=0,\"\",Datos_de_Tarjetas!G188)","v":""},{"$f":"IFERROR(VLOOKUP(Datos_de_Tarjetas!K188,Parámetros!$AJ$3:$AK$13,2,FALSE),\"\")","v":""},{"$f":"IFERROR(VLOOKUP(Datos_de_Tarjetas!J188,Parámetros!$AQ$3:$AR$57,2,FALSE),\"\")","v":""},null,{"$f":"IF(Datos_de_Tarjetas!L188=0,\"\",Datos_de_Tarjetas!L188)","v":""},{"$f":"IF(Datos_de_Tarjetas!M188=0,\"\",Datos_de_Tarjetas!M188)","v":""},{"$f":"IF(Datos_de_Tarjetas!N188=0,\"\",Datos_de_Tarjetas!N188)","v":""},{"$f":"IFERROR(VLOOKUP(Datos_de_Tarjetas!P188,Parámetros!$AM$3:$AN$90,2,FALSE),\"\")","v":""}]
[null,1069470000,{"$f":"IFERROR(VLOOKUP(Datos_de_Tarjetas!D189,Parámetros!$AD$12:$AE$17,2,FALSE),\"\")","v":""},{"$f":"IF(Datos_de_Tarjetas!G189=0,\"\",Datos_de_Tarjetas!G189)","v":""},{"$f":"IFERROR(VLOOKUP(Datos_de_Tarjetas!K189,Parámetros!$AJ$3:$AK$13,2,FALSE),\"\")","v":""},{"$f":"IFERROR(VLOOKUP(Datos_de_Tarjetas!J189,Parámetros!$AQ$3:$AR$57,2,FALSE),\"\")","v":""},null,{"$f":"IF(Datos_de_Tarjetas!L189=0,\"\",Datos_de_Tarjetas!L189)","v":""},{"$f":"IF(Datos_de_Tarjetas!M189=0,\"\",Datos_de_Tarjetas!M189)","v":""},{"$f":"IF(Datos_de_Tarjetas!N189=0,\"\",Datos_de_Tarjetas!N189)","v":""},{"$f":"IFERROR(VLOOKUP(Datos_de_Tarjetas!P189,Parámetros!$AM$3:$AN$90,2,FALSE),\"\")","v":""}]
[null,1069470000,{"$f":"IFERROR(VLOOKUP(Datos_de_Tarjetas!D190,Parámetros!$AD$12:$AE$17,2,FALSE),\"\")","v":""},{"$f":"IF(Datos_de_Tarjetas!G190=0,\"\",Datos_de_Tarjetas!G190)","v":""},{"$f":"IFERROR(VLOOKUP(Datos_de_Tarjetas!K190,Parámetros!$AJ$3:$AK$13,2,FALSE),\"\")","v":""},{"$f":"IFERROR(VLOOKUP(Datos_de_Tarjetas!J190,Parámetros!$AQ$3:$AR$57,2,FALSE),\"\")","v":""},null,{"$f":"IF(Datos_de_Tarjetas!L190=0,\"\",Datos_de_Tarjetas!L190)","v":""},{"$f":"IF(Datos_de_Tarjetas!M190=0,\"\",Datos_de_Tarjetas!M190)","v":""},{"$f":"IF(Datos_de_Tarjetas!N190=0,\"\",Datos_de_Tarjetas!N190)","v":""},{"$f":"IFERROR(VLOOKUP(Datos_de_Tarjetas!P190,Parámetros!$AM$3:$AN$90,2,FALSE),\"\")","v":""}]
[null,1069470000,{"$f":"IFERROR(VLOOKUP(Datos_de_Tarjetas!D191,Parámetros!$AD$12:$AE$17,2,FALSE),\"\")","v":""},{"$f":"IF(Datos_de_Tarjetas!G191=0,\"\",Datos_de_Tarjetas!G191)","v":""},{"$f":"IFERROR(VLOOKUP(Datos_de_Tarjetas!K191,Parámetros!$AJ$3:$AK$13,2,FALSE),\"\")","v":""},{"$f":"IFERROR(VLOOKUP(Datos_de_Tarjetas!J191,Parámetros!$AQ$3:$AR$57,2,FALSE),\"\")","v":""},null,{"$f":"IF(Datos_de_Tarjetas!L191=0,\"\",Datos_de_Tarjetas!L191)","v":""},{"$f":"IF(Datos_de_Tarjetas!M191=0,\"\",Datos_de_Tarjetas!M191)","v":""},{"$f":"IF(Datos_de_Tarjetas!N191=0,\"\",Datos_de_Tarjetas!N191)","v":""},{"$f":"IFERROR(VLOOKUP(Datos_de_Tarjetas!P191,Parámetros!$AM$3:$AN$90,2,FALSE),\"\")","v":""}]
[null,1069470000,{"$f":"IFERROR(VLOOKUP(Datos_de_Tarjetas!D192,Parámetros!$AD$12:$AE$17,2,FALSE),\"\")","v":""},{"$f":"IF(Datos_de_Tarjetas!G192=0,\"\",Datos_de_Tarjetas!G192)","v":""},{"$f":"IFERROR(VLOOKUP(Datos_de_Tarjetas!K192,Parámetros!$AJ$3:$AK$13,2,FALSE),\"\")","v":""},{"$f":"IFERROR(VLOOKUP(Datos_de_Tarjetas!J192,Parámetros!$AQ$3:$AR$57,2,FALSE),\"\")","v":""},null,{"$f":"IF(Datos_de_Tarjetas!L192=0,\"\",Datos_de_Tarjetas!L192)","v":""},{"$f":"IF(Datos_de_Tarjetas!M192=0,\"\",Datos_de_Tarjetas!M192)","v":""},{"$f":"IF(Datos_de_Tarjetas!N192=0,\"\",Datos_de_Tarjetas!N192)","v":""},{"$f":"IFERROR(VLOOKUP(Datos_de_Tarjetas!P192,Parámetros!$AM$3:$AN$90,2,FALSE),\"\")","v":""}]
[null,1069470000,{"$f":"IFERROR(VLOOKUP(Datos_de_Tarjetas!D193,Parámetros!$AD$12:$AE$17,2,FALSE),\"\")","v":""},{"$f":"IF(Datos_de_Tarjetas!G193=0,\"\",Datos_de_Tarjetas!G193)","v":""},{"$f":"IFERROR(VLOOKUP(Datos_de_Tarjetas!K193,Parámetros!$AJ$3:$AK$13,2,FALSE),\"\")","v":""},{"$f":"IFERROR(VLOOKUP(Datos_de_Tarjetas!J193,Parámetros!$AQ$3:$AR$57,2,FALSE),\"\")","v":""},null,{"$f":"IF(Datos_de_Tarjetas!L193=0,\"\",Datos_de_Tarjetas!L193)","v":""},{"$f":"IF(Datos_de_Tarjetas!M193=0,\"\",Datos_de_Tarjetas!M193)","v":""},{"$f":"IF(Datos_de_Tarjetas!N193=0,\"\",Datos_de_Tarjetas!N193)","v":""},{"$f":"IFERROR(VLOOKUP(Datos_de_Tarjetas!P193,Parámetros!$AM$3:$AN$90,2,FALSE),\"\")","v":""}]
[null,1069470000,{"$f":"IFERROR(VLOOKUP(Datos_de_Tarjetas!D194,Parámetros!$AD$12:$AE$17,2,FALSE),\"\")","v":""},{"$f":"IF(Datos_de_Tarjetas!G194=0,\"\",Datos_de_Tarjetas!G194)","v":""},{"$f":"IFERROR(VLOOKUP(Datos_de_Tarjetas!K194,Parámetros!$AJ$3:$AK$13,2,FALSE),\"\")","v":""},{"$f":"IFERROR(VLOOKUP(Datos_de_Tarjetas!J194,Parámetros!$AQ$3:$AR$57,2,FALSE),\"\")","v":""},null,{"$f":"IF(Datos_de_Tarjetas!L194=0,\"\",Datos_de_Tarjetas!L194)","v":""},{"$f":"IF(Datos_de_Tarjetas!M194=0,\"\",Datos_de_Tarjetas!M194)","v":""},{"$f":"IF(Datos_de_Tarjetas!N194=0,\"\",Datos_de_Tarjetas!N194)","v":""},{"$f":"IFERROR(VLOOKUP(Datos_de_Tarjetas!P194,Parámetros!$AM$3:$AN$90,2,FALSE),\"\")","v":""}]
[null,1069470000,{"$f":"IFERROR(VLOOKUP(Datos_de_Tarjetas!D195,Parámetros!$AD$12:$AE$17,2,FALSE),\"\")","v":""},{"$f":"IF(Datos_de_Tarjetas!G195=0,\"\",Datos_de_Tarjetas!G195)","v":""},{"$f":"IFERROR(VLOOKUP(Datos_de_Tarjetas!K195,Parámetros!$AJ$3:$AK$13,2,FALSE),\"\")","v":""},{"$f":"IFERROR(VLOOKUP(Datos_de_Tarjetas!J195,Parámetros!$AQ$3:$AR$57,2,FALSE),\"\")","v":""},null,{"$f":"IF(Datos_de_Tarjetas!L195=0,\"\",Datos_de_Tarjetas!L195)","v":""},{"$f":"IF(Datos_de_Tarjetas!M195=0,\"\",Datos_de_Tarjetas!M195)","v":""},{"$f":"IF(Datos_de_Tarjetas!N195=0,\"\",Datos_de_Tarjetas!N195)","v":""},{"$f":"IFERROR(VLOOKUP(Datos_de_Tarjetas!P195,Parámetros!$AM$3:$AN$90,2,FALSE),\"\")","v":""}]
[null,1069470000,{"$f":"IFERROR(VLOOKUP(Datos_de_Tarjetas!D196,Parámetros!$AD$12:$AE$17,2,FALSE),\"\")","v":""},{"$f":"IF(Datos_de_Tarjetas!G196=0,\"\",Datos_de_Tarjetas!G196)","v":""},{"$f":"IFERROR(VLOOKUP(Datos_de_Tarjetas!K196,Parámetros!$AJ$3:$AK$13,2,FALSE),\"\")","v":""},{"$f":"IFERROR(VLOOKUP(Datos_de_Tarjetas!J196,Parámetros!$AQ$3:$AR$57,2,FALSE),\"\")","v":""},null,{"$f":"IF(Datos_de_Tarjetas!L196=0,\"\",Datos_de_Tarjetas!L196)","v":""},{"$f":"IF(Datos_de_Tarjetas!M196=0,\"\",Datos_de_Tarjetas!M196)","v":""},{"$f":"IF(Datos_de_Tarjetas!N196=0,\"\",Datos_de_Tarjetas!N196)","v":""},{"$f":"IFERROR(VLOOKUP(Datos_de_Tarjetas!P196,Parámetros!$AM$3:$AN$90,2,FALSE),\"\")","v":""}]
[null,1069470000,{"$f":"IFERROR(VLOOKUP(Datos_de_Tarjetas!D197,Parámetros!$AD$12:$AE$17,2,FALSE),\"\")","v":""},{"$f":"IF(Datos_de_Tarjetas!G197=0,\"\",Datos_de_Tarjetas!G197)","v":""},{"$f":"IFERROR(VLOOKUP(Datos_de_Tarjetas!K197,Parámetros!$AJ$3:$AK$13,2,FALSE),\"\")","v":""},{"$f":"IFERROR(VLOOKUP(Datos_de_Tarjetas!J197,Parámetros!$AQ$3:$AR$57,2,FALSE),\"\")","v":""},null,{"$f":"IF(Datos_de_Tarjetas!L197=0,\"\",Datos_de_Tarjetas!L197)","v":""},{"$f":"IF(Datos_de_Tarjetas!M197=0,\"\",Datos_de_Tarjetas!M197)","v":""},{"$f":"IF(Datos_de_Tarjetas!N197=0,\"\",Datos_de_Tarjetas!N197)","v":""},{"$f":"IFERROR(VLOOKUP(Datos_de_Tarjetas!P197,Parámetros!$AM$3:$AN$90,2,FALSE),\"\")","v":""}]
[null,1069470000,{"$f":"IFERROR(VLOOKUP(Datos_de_Tarjetas!D198,Parámetros!$AD$12:$AE$17,2,FALSE),\"\")","v":""},{"$f":"IF(Datos_de_Tarjetas!G198=0,\"\",Datos_de_Tarjetas!G198)","v":""},{"$f":"IFERROR(VLOOKUP(Datos_de_Tarjetas!K198,Parámetros!$AJ$3:$AK$13,2,FALSE),\"\")","v":""},{"$f":"IFERROR(VLOOKUP(Datos_de_Tarjetas!J198,Parámetros!$AQ$3:$AR$57,2,FALSE),\"\")","v":""},null,{"$f":"IF(Datos_de_Tarjetas!L198=0,\"\",Datos_de_Tarjetas!L198)","v":""},{"$f":"IF(Datos_de_Tarjetas!M198=0,\"\",Datos_de_Tarjetas!M198)","v":""},{"$f":"IF(Datos_de_Tarjetas!N198=0,\"\",Datos_de_Tarjetas!N198)","v":""},{"$f":"IFERROR(VLOOKUP(Datos_de_Tarjetas!P198,Parámetros!$AM$3:$AN$90,2,FALSE),\"\")","v":""}]
[null,1069470000,{"$f":"IFERROR(VLOOKUP(Datos_de_Tarjetas!D199,Parámetros!$AD$12:$AE$17,2,FALSE),\"\")","v":""},{"$f":"IF(Datos_de_Tarjetas!G199=0,\"\",Datos_de_Tarjetas!G199)","v":""},{"$f":"IFERROR(VLOOKUP(Datos_de_Tarjetas!K199,Parámetros!$AJ$3:$AK$13,2,FALSE),\"\")","v":""},{"$f":"IFERROR(VLOOKUP(Datos_de_Tarjetas!J199,Parámetros!$AQ$3:$AR$57,2,FALSE),\"\")","v":""},null,{"$f":"IF(Datos_de_Tarjetas!L199=0,\"\",Datos_de_Tarjetas!L199)","v":""},{"$f":"IF(Datos_de_Tarjetas!M199=0,\"\",Datos_de_Tarjetas!M199)","v":""},{"$f":"IF(Datos_de_Tarjetas!N199=0,\"\",Datos_de_Tarjetas!N199)","v":""},{"$f":"IFERROR(VLOOKUP(Datos_de_Tarjetas!P199,Parámetros!$AM$3:$AN$90,2,FALSE),\"\")","v":""}]
[null,1069470000,{"$f":"IFERROR(VLOOKUP(Datos_de_Tarjetas!D200,Parámetros!$AD$12:$AE$17,2,FALSE),\"\")","v":""},{"$f":"IF(Datos_de_Tarjetas!G200=0,\"\",Datos_de_Tarjetas!G200)","v":""},{"$f":"IFERROR(VLOOKUP(Datos_de_Tarjetas!K200,Parámetros!$AJ$3:$AK$13,2,FALSE),\"\")","v":""},{"$f":"IFERROR(VLOOKUP(Datos_de_Tarjetas!J200,Parámetros!$AQ$3:$AR$57,2,FALSE),\"\")","v":""},null,{"$f":"IF(Datos_de_Tarjetas!L200=0,\"\",Datos_de_Tarjetas!L200)","v":""},{"$f":"IF(Datos_de_Tarjetas!M200=0,\"\",Datos_de_Tarjetas!M200)","v":""},{"$f":"IF(Datos_de_Tarjetas!N200=0,\"\",Datos_de_Tarjetas!N200)","v":""},{"$f":"IFERROR(VLOOKUP(Datos_de_Tarjetas!P200,Parámetros!$AM$3:$AN$90,2,FALSE),\"\")","v":""}]
[null,1069470000,{"$f":"IFERROR(VLOOKUP(Datos_de_Tarjetas!D201,Parámetros!$AD$12:$AE$17,2,FALSE),\"\")","v":""},{"$f":"IF(Datos_de_Tarjetas!G201=0,\"\",Datos_de_Tarjetas!G201)","v":""},{"$f":"IFERROR(VLOOKUP(Datos_de_Tarjetas!K201,Parámetros!$AJ$3:$AK$13,2,FALSE),\"\")","v":""},{"$f":"IFERROR(VLOOKUP(Datos_de_Tarjetas!J201,Parámetros!$AQ$3:$AR$57,2,FALSE),\"\")","v":""},null,{"$f":"IF(Datos_de_Tarjetas!L201=0,\"\",Datos_de_Tarjetas!L201)","v":""},{"$f":"IF(Datos_de_Tarjetas!M201=0,\"\",Datos_de_Tarjetas!M201)","v":""},{"$f":"IF(Datos_de_Tarjetas!N201=0,\"\",Datos_de_Tarjetas!N201)","v":""},{"$f":"IFERROR(VLOOKUP(Datos_de_Tarjetas!P201,Parámetros!$AM$3:$AN$90,2,FALSE),\"\")","v":""}]
[null,1069470000,{"$f":"IFERROR(VLOOKUP(Datos_de_Tarjetas!D202,Parámetros!$AD$12:$AE$17,2,FALSE),\"\")","v":""},{"$f":"IF(Datos_de_Tarjetas!G202=0,\"\",Datos_de_Tarjetas!G202)","v":""},{"$f":"IFERROR(VLOOKUP(Datos_de_Tarjetas!K202,Parámetros!$AJ$3:$AK$13,2,FALSE),\"\")","v":""},{"$f":"IFERROR(VLOOKUP(Datos_de_Tarjetas!J202,Parámetros!$AQ$3:$AR$57,2,FALSE),\"\")","v":""},null,{"$f":"IF(Datos_de_Tarjetas!L202=0,\"\",Datos_de_Tarjetas!L202)","v":""},{"$f":"IF(Datos_de_Tarjetas!M202=0,\"\",Datos_de_Tarjetas!M202)","v":""},{"$f":"IF(Datos_de_Tarjetas!N202=0,\"\",Datos_de_Tarjetas!N202)","v":""},{"$f":"IFERROR(VLOOKUP(Datos_de_Tarjetas!P202,Parámetros!$AM$3:$AN$90,2,FALSE),\"\")","v":""}]
[null,1069470000,{"$f":"IFERROR(VLOOKUP(Datos_de_Tarjetas!D203,Parámetros!$AD$12:$AE$17,2,FALSE),\"\")","v":""},{"$f":"IF(Datos_de_Tarjetas!G203=0,\"\",Datos_de_Tarjetas!G203)","v":""},{"$f":"IFERROR(VLOOKUP(Datos_de_Tarjetas!K203,Parámetros!$AJ$3:$AK$13,2,FALSE),\"\")","v":""},{"$f":"IFERROR(VLOOKUP(Datos_de_Tarjetas!J203,Parámetros!$AQ$3:$AR$57,2,FALSE),\"\")","v":""},null,{"$f":"IF(Datos_de_Tarjetas!L203=0,\"\",Datos_de_Tarjetas!L203)","v":""},{"$f":"IF(Datos_de_Tarjetas!M203=0,\"\",Datos_de_Tarjetas!M203)","v":""},{"$f":"IF(Datos_de_Tarjetas!N203=0,\"\",Datos_de_Tarjetas!N203)","v":""},{"$f":"IFERROR(VLOOKUP(Datos_de_Tarjetas!P203,Parámetros!$AM$3:$AN$90,2,FALSE),\"\")","v":""}]
[null,1069470000,{"$f":"IFERROR(VLOOKUP(Datos_de_Tarjetas!D204,Parámetros!$AD$12:$AE$17,2,FALSE),\"\")","v":""},{"$f":"IF(Datos_de_Tarjetas!G204=0,\"\",Datos_de_Tarjetas!G204)","v":""},{"$f":"IFERROR(VLOOKUP(Datos_de_Tarjetas!K204,Parámetros!$AJ$3:$AK$13,2,FALSE),\"\")","v":""},{"$f":"IFERROR(VLOOKUP(Datos_de_Tarjetas!J204,Parámetros!$AQ$3:$AR$57,2,FALSE),\"\")","v":""},null,{"$f":"IF(Datos_de_Tarjetas!L204=0,\"\",Datos_de_Tarjetas!L204)","v":""},{"$f":"IF(Datos_de_Tarjetas!M204=0,\"\",Datos_de_Tarjetas!M204)","v":""},{"$f":"IF(Datos_de_Tarjetas!N204=0,\"\",Datos_de_Tarjetas!N204)","v":""},{"$f":"IFERROR(VLOOKUP(Datos_de_Tarjetas!P204,Parámetros!$AM$3:$AN$90,2,FALSE),\"\")","v":""}]
[null,1069470000,{"$f":"IFERROR(VLOOKUP(Datos_de_Tarjetas!D205,Parámetros!$AD$12:$AE$17,2,FALSE),\"\")","v":""},{"$f":"IF(Datos_de_Tarjetas!G205=0,\"\",Datos_de_Tarjetas!G205)","v":""},{"$f":"IFERROR(VLOOKUP(Datos_de_Tarjetas!K205,Parámetros!$AJ$3:$AK$13,2,FALSE),\"\")","v":""},{"$f":"IFERROR(VLOOKUP(Datos_de_Tarjetas!J205,Parámetros!$AQ$3:$AR$57,2,FALSE),\"\")","v":""},null,{"$f":"IF(Datos_de_Tarjetas!L205=0,\"\",Datos_de_Tarjetas!L205)","v":""},{"$f":"IF(Datos_de_Tarjetas!M205=0,\"\",Datos_de_Tarjetas!M205)","v":""},{"$f":"IF(Datos_de_Tarjetas!N205=0,\"\",Datos_de_Tarjetas!N205)","v":""},{"$f":"IFERROR(VLOOKUP(Datos_de_Tarjetas!P205,Parámetros!$AM$3:$AN$90,2,FALSE),\"\")","v":""}]
[null,1069470000,{"$f":"IFERROR(VLOOKUP(Datos_de_Tarjetas!D206,Parámetros!$AD$12:$AE$17,2,FALSE),\"\")","v":""},{"$f":"IF(Datos_de_Tarjetas!G206=0,\"\",Datos_de_Tarjetas!G206)","v":""},{"$f":"IFERROR(VLOOKUP(Datos_de_Tarjetas!K206,Parámetros!$AJ$3:$AK$13,2,FALSE),\"\")","v":""},{"$f":"IFERROR(VLOOKUP(Datos_de_Tarjetas!J206,Parámetros!$AQ$3:$AR$57,2,FALSE),\"\")","v":""},null,{"$f":"IF(Datos_de_Tarjetas!L206=0,\"\",Datos_de_Tarjetas!L206)","v":""},{"$f":"IF(Datos_de_Tarjetas!M206=0,\"\",Datos_de_Tarjetas!M206)","v":""},{"$f":"IF(Datos_de_Tarjetas!N206=0,\"\",Datos_de_Tarjetas!N206)","v":""},{"$f":"IFERROR(VLOOKUP(Datos_de_Tarjetas!P206,Parámetros!$AM$3:$AN$90,2,FALSE),\"\")","v":""}]
[null,1069470000,{"$f":"IFERROR(VLOOKUP(Datos_de_Tarjetas!D207,Parámetros!$AD$12:$AE$17,2,FALSE),\"\")","v":""},{"$f":"IF(Datos_de_Tarjetas!G207=0,\"\",Datos_de_Tarjetas!G207)","v":""},{"$f":"IFERROR(VLOOKUP(Datos_de_Tarjetas!K207,Parámetros!$AJ$3:$AK$13,2,FALSE),\"\")","v":""},{"$f":"IFERROR(VLOOKUP(Datos_de_Tarjetas!J207,Parámetros!$AQ$3:$AR$57,2,FALSE),\"\")","v":""},null,{"$f":"IF(Datos_de_Tarjetas!L207=0,\"\",Datos_de_Tarjetas!L207)","v":""},{"$f":"IF(Datos_de_Tarjetas!M207=0,\"\",Datos_de_Tarjetas!M207)","v":""},{"$f":"IF(Datos_de_Tarjetas!N207=0,\"\",Datos_de_Tarjetas!N207)","v":""},{"$f":"IFERROR(VLOOKUP(Datos_de_Tarjetas!P207,Parámetros!$AM$3:$AN$90,2,FALSE),\"\")","v":""}]
[null,1069470000,{"$f":"IFERROR(VLOOKUP(Datos_de_Tarjetas!D208,Parámetros!$AD$12:$AE$17,2,FALSE),\"\")","v":""},{"$f":"IF(Datos_de_Tarjetas!G208=0,\"\",Datos_de_Tarjetas!G208)","v":""},{"$f":"IFERROR(VLOOKUP(Datos_de_Tarjetas!K208,Parámetros!$AJ$3:$AK$13,2,FALSE),\"\")","v":""},{"$f":"IFERROR(VLOOKUP(Datos_de_Tarjetas!J208,Parámetros!$AQ$3:$AR$57,2,FALSE),\"\")","v":""},null,{"$f":"IF(Datos_de_Tarjetas!L208=0,\"\",Datos_de_Tarjetas!L208)","v":""},{"$f":"IF(Datos_de_Tarjetas!M208=0,\"\",Datos_de_Tarjetas!M208)","v":""},{"$f":"IF(Datos_de_Tarjetas!N208=0,\"\",Datos_de_Tarjetas!N208)","v":""},{"$f":"IFERROR(VLOOKUP(Datos_de_Tarjetas!P208,Parámetros!$AM$3:$AN$90,2,FALSE),\"\")","v":""}]
[null,{"$f":"$C$2","v":1069470000},{"$f":"IFERROR(VLOOKUP(Datos_de_Tarjetas!D209,Parámetros!$AD$12:$AE$17,2,FALSE),\"\")","v":""},{"$f":"IF(Datos_de_Tarjetas!G209=0,\"\",Datos_de_Tarjetas!G209)","v":""},{"$f":"IFERROR(VLOOKUP(Datos_de_Tarjetas!K209,Parámetros!$AJ$3:$AK$13,2,FALSE),\"\")","v":""},{"$f":"IFERROR(VLOOKUP(Datos_de_Tarjetas!J209,Parámetros!$AQ$3:$AR$57,2,FALSE),\"\")","v":""},null,{"$f":"IF(Datos_de_Tarjetas!L209=0,\"\",Datos_de_Tarjetas!L209)","v":""},{"$f":"IF(Datos_de_Tarjetas!M209=0,\"\",Datos_de_Tarjetas!M209)","v":""},{"$f":"IF(Datos_de_Tarjetas!N209=0,\"\",Datos_de_Tarjetas!N209)","v":""},{"$f":"IFERROR(VLOOKUP(Datos_de_Tarjetas!P209,Parámetros!$AM$3:$AN$90,2,FALSE),\"\")","v":""}]
[null,1069470000,{"$f":"IFERROR(VLOOKUP(Datos_de_Tarjetas!D210,Parámetros!$AD$12:$AE$17,2,FALSE),\"\")","v":""},{"$f":"IF(Datos_de_Tarjetas!G210=0,\"\",Datos_de_Tarjetas!G210)","v":""},{"$f":"IFERROR(VLOOKUP(Datos_de_Tarjetas!K210,Parámetros!$AJ$3:$AK$13,2,FALSE),\"\")","v":""},{"$f":"IFERROR(VLOOKUP(Datos_de_Tarjetas!J210,Parámetros!$AQ$3:$AR$57,2,FALSE),\"\")","v":""},null,{"$f":"IF(Datos_de_Tarjetas!L210=0,\"\",Datos_de_Tarjetas!L210)","v":""},{"$f":"IF(Datos_de_Tarjetas!M210=0,\"\",Datos_de_Tarjetas!M210)","v":""},{"$f":"IF(Datos_de_Tarjetas!N210=0,\"\",Datos_de_Tarjetas!N210)","v":""},{"$f":"IFERROR(VLOOKUP(Datos_de_Tarjetas!P210,Parámetros!$AM$3:$AN$90,2,FALSE),\"\")","v":""}]
[null,1069470000,{"$f":"IFERROR(VLOOKUP(Datos_de_Tarjetas!D211,Parámetros!$AD$12:$AE$17,2,FALSE),\"\")","v":""},{"$f":"IF(Datos_de_Tarjetas!G211=0,\"\",Datos_de_Tarjetas!G211)","v":""},{"$f":"IFERROR(VLOOKUP(Datos_de_Tarjetas!K211,Parámetros!$AJ$3:$AK$13,2,FALSE),\"\")","v":""},{"$f":"IFERROR(VLOOKUP(Datos_de_Tarjetas!J211,Parámetros!$AQ$3:$AR$57,2,FALSE),\"\")","v":""},null,{"$f":"IF(Datos_de_Tarjetas!L211=0,\"\",Datos_de_Tarjetas!L211)","v":""},{"$f":"IF(Datos_de_Tarjetas!M211=0,\"\",Datos_de_Tarjetas!M211)","v":""},{"$f":"IF(Datos_de_Tarjetas!N211=0,\"\",Datos_de_Tarjetas!N211)","v":""},{"$f":"IFERROR(VLOOKUP(Datos_de_Tarjetas!P211,Parámetros!$AM$3:$AN$90,2,FALSE),\"\")","v":""}]
[null,1069470000,{"$f":"IFERROR(VLOOKUP(Datos_de_Tarjetas!D212,Parámetros!$AD$12:$AE$17,2,FALSE),\"\")","v":""},{"$f":"IF(Datos_de_Tarjetas!G212=0,\"\",Datos_de_Tarjetas!G212)","v":""},{"$f":"IFERROR(VLOOKUP(Datos_de_Tarjetas!K212,Parámetros!$AJ$3:$AK$13,2,FALSE),\"\")","v":""},{"$f":"IFERROR(VLOOKUP(Datos_de_Tarjetas!J212,Parámetros!$AQ$3:$AR$57,2,FALSE),\"\")","v":""},null,{"$f":"IF(Datos_de_Tarjetas!L212=0,\"\",Datos_de_Tarjetas!L212)","v":""},{"$f":"IF(Datos_de_Tarjetas!M212=0,\"\",Datos_de_Tarjetas!M212)","v":""},{"$f":"IF(Datos_de_Tarjetas!N212=0,\"\",Datos_de_Tarjetas!N212)","v":""},{"$f":"IFERROR(VLOOKUP(Datos_de_Tarjetas!P212,Parámetros!$AM$3:$AN$90,2,FALSE),\"\")","v":""}]
[null,1069470000,{"$f":"IFERROR(VLOOKUP(Datos_de_Tarjetas!D213,Parámetros!$AD$12:$AE$17,2,FALSE),\"\")","v":""},{"$f":"IF(Datos_de_Tarjetas!G213=0,\"\",Datos_de_Tarjetas!G213)","v":""},{"$f":"IFERROR(VLOOKUP(Datos_de_Tarjetas!K213,Parámetros!$AJ$3:$AK$13,2,FALSE),\"\")","v":""},{"$f":"IFERROR(VLOOKUP(Datos_de_Tarjetas!J213,Parámetros!$AQ$3:$AR$57,2,FALSE),\"\")","v":""},null,{"$f":"IF(Datos_de_Tarjetas!L213=0,\"\",Datos_de_Tarjetas!L213)","v":""},{"$f":"IF(Datos_de_Tarjetas!M213=0,\"\",Datos_de_Tarjetas!M213)","v":""},{"$f":"IF(Datos_de_Tarjetas!N213=0,\"\",Datos_de_Tarjetas!N213)","v":""},{"$f":"IFERROR(VLOOKUP(Datos_de_Tarjetas!P213,Parámetros!$AM$3:$AN$90,2,FALSE),\"\")","v":""}]
[null,1069470000,{"$f":"IFERROR(VLOOKUP(Datos_de_Tarjetas!D214,Parámetros!$AD$12:$AE$17,2,FALSE),\"\")","v":""},{"$f":"IF(Datos_de_Tarjetas!G214=0,\"\",Datos_de_Tarjetas!G214)","v":""},{"$f":"IFERROR(VLOOKUP(Datos_de_Tarjetas!K214,Parámetros!$AJ$3:$AK$13,2,FALSE),\"\")","v":""},{"$f":"IFERROR(VLOOKUP(Datos_de_Tarjetas!J214,Parámetros!$AQ$3:$AR$57,2,FALSE),\"\")","v":""},null,{"$f":"IF(Datos_de_Tarjetas!L214=0,\"\",Datos_de_Tarjetas!L214)","v":""},{"$f":"IF(Datos_de_Tarjetas!M214=0,\"\",Datos_de_Tarjetas!M214)","v":""},{"$f":"IF(Datos_de_Tarjetas!N214=0,\"\",Datos_de_Tarjetas!N214)","v":""},{"$f":"IFERROR(VLOOKUP(Datos_de_Tarjetas!P214,Parámetros!$AM$3:$AN$90,2,FALSE),\"\")","v":""}]
[null,1069470000,{"$f":"IFERROR(VLOOKUP(Datos_de_Tarjetas!D215,Parámetros!$AD$12:$AE$17,2,FALSE),\"\")","v":""},{"$f":"IF(Datos_de_Tarjetas!G215=0,\"\",Datos_de_Tarjetas!G215)","v":""},{"$f":"IFERROR(VLOOKUP(Datos_de_Tarjetas!K215,Parámetros!$AJ$3:$AK$13,2,FALSE),\"\")","v":""},{"$f":"IFERROR(VLOOKUP(Datos_de_Tarjetas!J215,Parámetros!$AQ$3:$AR$57,2,FALSE),\"\")","v":""},null,{"$f":"IF(Datos_de_Tarjetas!L215=0,\"\",Datos_de_Tarjetas!L215)","v":""},{"$f":"IF(Datos_de_Tarjetas!M215=0,\"\",Datos_de_Tarjetas!M215)","v":""},{"$f":"IF(Datos_de_Tarjetas!N215=0,\"\",Datos_de_Tarjetas!N215)","v":""},{"$f":"IFERROR(VLOOKUP(Datos_de_Tarjetas!P215,Parámetros!$AM$3:$AN$90,2,FALSE),\"\")","v":""}]
[null,1069470000,{"$f":"IFERROR(VLOOKUP(Datos_de_Tarjetas!D216,Parámetros!$AD$12:$AE$17,2,FALSE),\"\")","v":""},{"$f":"IF(Datos_de_Tarjetas!G216=0,\"\",Datos_de_Tarjetas!G216)","v":""},{"$f":"IFERROR(VLOOKUP(Datos_de_Tarjetas!K216,Parámetros!$AJ$3:$AK$13,2,FALSE),\"\")","v":""},{"$f":"IFERROR(VLOOKUP(Datos_de_Tarjetas!J216,Parámetros!$AQ$3:$AR$57,2,FALSE),\"\")","v":""},null,{"$f":"IF(Datos_de_Tarjetas!L216=0,\"\",Datos_de_Tarjetas!L216)","v":""},{"$f":"IF(Datos_de_Tarjetas!M216=0,\"\",Datos_de_Tarjetas!M216)","v":""},{"$f":"IF(Datos_de_Tarjetas!N216=0,\"\",Datos_de_Tarjetas!N216)","v":""},{"$f":"IFERROR(VLOOKUP(Datos_de_Tarjetas!P216,Parámetros!$AM$3:$AN$90,2,FALSE),\"\")","v":""}]
[null,1069470000,{"$f":"IFERROR(VLOOKUP(Datos_de_Tarjetas!D217,Parámetros!$AD$12:$AE$17,2,FALSE),\"\")","v":""},{"$f":"IF(Datos_de_Tarjetas!G217=0,\"\",Datos_de_Tarjetas!G217)","v":""},{"$f":"IFERROR(VLOOKUP(Datos_de_Tarjetas!K217,Parámetros!$AJ$3:$AK$13,2,FALSE),\"\")","v":""},{"$f":"IFERROR(VLOOKUP(Datos_de_Tarjetas!J217,Parámetros!$AQ$3:$AR$57,2,FALSE),\"\")","v":""},null,{"$f":"IF(Datos_de_Tarjetas!L217=0,\"\",Datos_de_Tarjetas!L217)","v":""},{"$f":"IF(Datos_de_Tarjetas!M217=0,\"\",Datos_de_Tarjetas!M217)","v":""},{"$f":"IF(Datos_de_Tarjetas!N217=0,\"\",Datos_de_Tarjetas!N217)","v":""},{"$f":"IFERROR(VLOOKUP(Datos_de_Tarjetas!P217,Parámetros!$AM$3:$AN$90,2,FALSE),\"\")","v":""}]
[null,1069470000,{"$f":"IFERROR(VLOOKUP(Datos_de_Tarjetas!D218,Parámetros!$AD$12:$AE$17,2,FALSE),\"\")","v":""},{"$f":"IF(Datos_de_Tarjetas!G218=0,\"\",Datos_de_Tarjetas!G218)","v":""},{"$f":"IFERROR(VLOOKUP(Datos_de_Tarjetas!K218,Parámetros!$AJ$3:$AK$13,2,FALSE),\"\")","v":""},{"$f":"IFERROR(VLOOKUP(Datos_de_Tarjetas!J218,Parámetros!$AQ$3:$AR$57,2,FALSE),\"\")","v":""},null,{"$f":"IF(Datos_de_Tarjetas!L218=0,\"\",Datos_de_Tarjetas!L218)","v":""},{"$f":"IF(Datos_de_Tarjetas!M218=0,\"\",Datos_de_Tarjetas!M218)","v":""},{"$f":"IF(Datos_de_Tarjetas!N218=0,\"\",Datos_de_Tarjetas!N218)","v":""},{"$f":"IFERROR(VLOOKUP(Datos_de_Tarjetas!P218,Parámetros!$AM$3:$AN$90,2,FALSE),\"\")","v":""}]
[null,1069470000,{"$f":"IFERROR(VLOOKUP(Datos_de_Tarjetas!D219,Parámetros!$AD$12:$AE$17,2,FALSE),\"\")","v":""},{"$f":"IF(Datos_de_Tarjetas!G219=0,\"\",Datos_de_Tarjetas!G219)","v":""},{"$f":"IFERROR(VLOOKUP(Datos_de_Tarjetas!K219,Parámetros!$AJ$3:$AK$13,2,FALSE),\"\")","v":""},{"$f":"IFERROR(VLOOKUP(Datos_de_Tarjetas!J219,Parámetros!$AQ$3:$AR$57,2,FALSE),\"\")","v":""},null,{"$f":"IF(Datos_de_Tarjetas!L219=0,\"\",Datos_de_Tarjetas!L219)","v":""},{"$f":"IF(Datos_de_Tarjetas!M219=0,\"\",Datos_de_Tarjetas!M219)","v":""},{"$f":"IF(Datos_de_Tarjetas!N219=0,\"\",Datos_de_Tarjetas!N219)","v":""},{"$f":"IFERROR(VLOOKUP(Datos_de_Tarjetas!P219,Parámetros!$AM$3:$AN$90,2,FALSE),\"\")","v":""}]
[null,1069470000,{"$f":"IFERROR(VLOOKUP(Datos_de_Tarjetas!D220,Parámetros!$AD$12:$AE$17,2,FALSE),\"\")","v":""},{"$f":"IF(Datos_de_Tarjetas!G220=0,\"\",Datos_de_Tarjetas!G220)","v":""},{"$f":"IFERROR(VLOOKUP(Datos_de_Tarjetas!K220,Parámetros!$AJ$3:$AK$13,2,FALSE),\"\")","v":""},{"$f":"IFERROR(VLOOKUP(Datos_de_Tarjetas!J220,Parámetros!$AQ$3:$AR$57,2,FALSE),\"\")","v":""},null,{"$f":"IF(Datos_de_Tarjetas!L220=0,\"\",Datos_de_Tarjetas!L220)","v":""},{"$f":"IF(Datos_de_Tarjetas!M220=0,\"\",Datos_de_Tarjetas!M220)","v":""},{"$f":"IF(Datos_de_Tarjetas!N220=0,\"\",Datos_de_Tarjetas!N220)","v":""},{"$f":"IFERROR(VLOOKUP(Datos_de_Tarjetas!P220,Parámetros!$AM$3:$AN$90,2,FALSE),\"\")","v":""}]
[null,1069470000,{"$f":"IFERROR(VLOOKUP(Datos_de_Tarjetas!D221,Parámetros!$AD$12:$AE$17,2,FALSE),\"\")","v":""},{"$f":"IF(Datos_de_Tarjetas!G221=0,\"\",Datos_de_Tarjetas!G221)","v":""},{"$f":"IFERROR(VLOOKUP(Datos_de_Tarjetas!K221,Parámetros!$AJ$3:$AK$13,2,FALSE),\"\")","v":""},{"$f":"IFERROR(VLOOKUP(Datos_de_Tarjetas!J221,Parámetros!$AQ$3:$AR$57,2,FALSE),\"\")","v":""},null,{"$f":"IF(Datos_de_Tarjetas!L221=0,\"\",Datos_de_Tarjetas!L221)","v":""},{"$f":"IF(Datos_de_Tarjetas!M221=0,\"\",Datos_de_Tarjetas!M221)","v":""},{"$f":"IF(Datos_de_Tarjetas!N221=0,\"\",Datos_de_Tarjetas!N221)","v":""},{"$f":"IFERROR(VLOOKUP(Datos_de_Tarjetas!P221,Parámetros!$AM$3:$AN$90,2,FALSE),\"\")","v":""}]
[null,1069470000,{"$f":"IFERROR(VLOOKUP(Datos_de_Tarjetas!D222,Parámetros!$AD$12:$AE$17,2,FALSE),\"\")","v":""},{"$f":"IF(Datos_de_Tarjetas!G222=0,\"\",Datos_de_Tarjetas!G222)","v":""},{"$f":"IFERROR(VLOOKUP(Datos_de_Tarjetas!K222,Parámetros!$AJ$3:$AK$13,2,FALSE),\"\")","v":""},{"$f":"IFERROR(VLOOKUP(Datos_de_Tarjetas!J222,Parámetros!$AQ$3:$AR$57,2,FALSE),\"\")","v":""},null,{"$f":"IF(Datos_de_Tarjetas!L222=0,\"\",Datos_de_Tarjetas!L222)","v":""},{"$f":"IF(Datos_de_Tarjetas!M222=0,\"\",Datos_de_Tarjetas!M222)","v":""},{"$f":"IF(Datos_de_Tarjetas!N222=0,\"\",Datos_de_Tarjetas!N222)","v":""},{"$f":"IFERROR(VLOOKUP(Datos_de_Tarjetas!P222,Parámetros!$AM$3:$AN$90,2,FALSE),\"\")","v":""}]
[null,1069470000,{"$f":"IFERROR(VLOOKUP(Datos_de_Tarjetas!D223,Parámetros!$AD$12:$AE$17,2,FALSE),\"\")","v":""},{"$f":"IF(Datos_de_Tarjetas!G223=0,\"\",Datos_de_Tarjetas!G223)","v":""},{"$f":"IFERROR(VLOOKUP(Datos_de_Tarjetas!K223,Parámetros!$AJ$3:$AK$13,2,FALSE),\"\")","v":""},{"$f":"IFERROR(VLOOKUP(Datos_de_Tarjetas!J223,Parámetros!$AQ$3:$AR$57,2,FALSE),\"\")","v":""},null,{"$f":"IF(Datos_de_Tarjetas!L223=0,\"\",Datos_de_Tarjetas!L223)","v":""},{"$f":"IF(Datos_de_Tarjetas!M223=0,\"\",Datos_de_Tarjetas!M223)","v":""},{"$f":"IF(Datos_de_Tarjetas!N223=0,\"\",Datos_de_Tarjetas!N223)","v":""},{"$f":"IFERROR(VLOOKUP(Datos_de_Tarjetas!P223,Parámetros!$AM$3:$AN$90,2,FALSE),\"\")","v":""}]
[null,1069470000,{"$f":"IFERROR(VLOOKUP(Datos_de_Tarjetas!D224,Parámetros!$AD$12:$AE$17,2,FALSE),\"\")","v":""},{"$f":"IF(Datos_de_Tarjetas!G224=0,\"\",Datos_de_Tarjetas!G224)","v":""},{"$f":"IFERROR(VLOOKUP(Datos_de_Tarjetas!K224,Parámetros!$AJ$3:$AK$13,2,FALSE),\"\")","v":""},{"$f":"IFERROR(VLOOKUP(Datos_de_Tarjetas!J224,Parámetros!$AQ$3:$AR$57,2,FALSE),\"\")","v":""},null,{"$f":"IF(Datos_de_Tarjetas!L224=0,\"\",Datos_de_Tarjetas!L224)","v":""},{"$f":"IF(Datos_de_Tarjetas!M224=0,\"\",Datos_de_Tarjetas!M224)","v":""},{"$f":"IF(Datos_de_Tarjetas!N224=0,\"\",Datos_de_Tarjetas!N224)","v":""},{"$f":"IFERROR(VLOOKUP(Datos_de_Tarjetas!P224,Parámetros!$AM$3:$AN$90,2,FALSE),\"\")","v":""}]
[null,1069470000,{"$f":"IFERROR(VLOOKUP(Datos_de_Tarjetas!D225,Parámetros!$AD$12:$AE$17,2,FALSE),\"\")","v":""},{"$f":"IF(Datos_de_Tarjetas!G225=0,\"\",Datos_de_Tarjetas!G225)","v":""},{"$f":"IFERROR(VLOOKUP(Datos_de_Tarjetas!K225,Parámetros!$AJ$3:$AK$13,2,FALSE),\"\")","v":""},{"$f":"IFERROR(VLOOKUP(Datos_de_Tarjetas!J225,Parámetros!$AQ$3:$AR$57,2,FALSE),\"\")","v":""},null,{"$f":"IF(Datos_de_Tarjetas!L225=0,\"\",Datos_de_Tarjetas!L225)","v":""},{"$f":"IF(Datos_de_Tarjetas!M225=0,\"\",Datos_de_Tarjetas!M225)","v":""},{"$f":"IF(Datos_de_Tarjetas!N225=0,\"\",Datos_de_Tarjetas!N225)","v":""},{"$f":"IFERROR(VLOOKUP(Datos_de_Tarjetas!P225,Parámetros!$AM$3:$AN$90,2,FALSE),\"\")","v":""}]
[null,1069470000,{"$f":"IFERROR(VLOOKUP(Datos_de_Tarjetas!D226,Parámetros!$AD$12:$AE$17,2,FALSE),\"\")","v":""},{"$f":"IF(Datos_de_Tarjetas!G226=0,\"\",Datos_de_Tarjetas!G226)","v":""},{"$f":"IFERROR(VLOOKUP(Datos_de_Tarjetas!K226,Parámetros!$AJ$3:$AK$13,2,FALSE),\"\")","v":""},{"$f":"IFERROR(VLOOKUP(Datos_de_Tarjetas!J226,Parámetros!$AQ$3:$AR$57,2,FALSE),\"\")","v":""},null,{"$f":"IF(Datos_de_Tarjetas!L226=0,\"\",Datos_de_Tarjetas!L226)","v":""},{"$f":"IF(Datos_de_Tarjetas!M226=0,\"\",Datos_de_Tarjetas!M226)","v":""},{"$f":"IF(Datos_de_Tarjetas!N226=0,\"\",Datos_de_Tarjetas!N226)","v":""},{"$f":"IFERROR(VLOOKUP(Datos_de_Tarjetas!P226,Parámetros!$AM$3:$AN$90,2,FALSE),\"\")","v":""}]
[null,1069470000,{"$f":"IFERROR(VLOOKUP(Datos_de_Tarjetas!D227,Parámetros!$AD$12:$AE$17,2,FALSE),\"\")","v":""},{"$f":"IF(Datos_de_Tarjetas!G227=0,\"\",Datos_de_Tarjetas!G227)","v":""},{"$f":"IFERROR(VLOOKUP(Datos_de_Tarjetas!K227,Parámetros!$AJ$3:$AK$13,2,FALSE),\"\")","v":""},{"$f":"IFERROR(VLOOKUP(Datos_de_Tarjetas!J227,Parámetros!$AQ$3:$AR$57,2,FALSE),\"\")","v":""},null,{"$f":"IF(Datos_de_Tarjetas!L227=0,\"\",Datos_de_Tarjetas!L227)","v":""},{"$f":"IF(Datos_de_Tarjetas!M227=0,\"\",Datos_de_Tarjetas!M227)","v":""},{"$f":"IF(Datos_de_Tarjetas!N227=0,\"\",Datos_de_Tarjetas!N227)","v":""},{"$f":"IFERROR(VLOOKUP(Datos_de_Tarjetas!P227,Parámetros!$AM$3:$AN$90,2,FALSE),\"\")","v":""}]
[null,1069470000,{"$f":"IFERROR(VLOOKUP(Datos_de_Tarjetas!D228,Parámetros!$AD$12:$AE$17,2,FALSE),\"\")","v":""},{"$f":"IF(Datos_de_Tarjetas!G228=0,\"\",Datos_de_Tarjetas!G228)","v":""},{"$f":"IFERROR(VLOOKUP(Datos_de_Tarjetas!K228,Parámetros!$AJ$3:$AK$13,2,FALSE),\"\")","v":""},{"$f":"IFERROR(VLOOKUP(Datos_de_Tarjetas!J228,Parámetros!$AQ$3:$AR$57,2,FALSE),\"\")","v":""},null,{"$f":"IF(Datos_de_Tarjetas!L228=0,\"\",Datos_de_Tarjetas!L228)","v":""},{"$f":"IF(Datos_de_Tarjetas!M228=0,\"\",Datos_de_Tarjetas!M228)","v":""},{"$f":"IF(Datos_de_Tarjetas!N228=0,\"\",Datos_de_Tarjetas!N228)","v":""},{"$f":"IFERROR(VLOOKUP(Datos_de_Tarjetas!P228,Parámetros!$AM$3:$AN$90,2,FALSE),\"\")","v":""}]
[null,1069470000,{"$f":"IFERROR(VLOOKUP(Datos_de_Tarjetas!D229,Parámetros!$AD$12:$AE$17,2,FALSE),\"\")","v":""},{"$f":"IF(Datos_de_Tarjetas!G229=0,\"\",Datos_de_Tarjetas!G229)","v":""},{"$f":"IFERROR(VLOOKUP(Datos_de_Tarjetas!K229,Parámetros!$AJ$3:$AK$13,2,FALSE),\"\")","v":""},{"$f":"IFERROR(VLOOKUP(Datos_de_Tarjetas!J229,Parámetros!$AQ$3:$AR$57,2,FALSE),\"\")","v":""},null,{"$f":"IF(Datos_de_Tarjetas!L229=0,\"\",Datos_de_Tarjetas!L229)","v":""},{"$f":"IF(Datos_de_Tarjetas!M229=0,\"\",Datos_de_Tarjetas!M229)","v":""},{"$f":"IF(Datos_de_Tarjetas!N229=0,\"\",Datos_de_Tarjetas!N229)","v":""},{"$f":"IFERROR(VLOOKUP(Datos_de_Tarjetas!P229,Parámetros!$AM$3:$AN$90,2,FALSE),\"\")","v":""}]
[null,1069470000,{"$f":"IFERROR(VLOOKUP(Datos_de_Tarjetas!D230,Parámetros!$AD$12:$AE$17,2,FALSE),\"\")","v":""},{"$f":"IF(Datos_de_Tarjetas!G230=0,\"\",Datos_de_Tarjetas!G230)","v":""},{"$f":"IFERROR(VLOOKUP(Datos_de_Tarjetas!K230,Parámetros!$AJ$3:$AK$13,2,FALSE),\"\")","v":""},{"$f":"IFERROR(VLOOKUP(Datos_de_Tarjetas!J230,Parámetros!$AQ$3:$AR$57,2,FALSE),\"\")","v":""},null,{"$f":"IF(Datos_de_Tarjetas!L230=0,\"\",Datos_de_Tarjetas!L230)","v":""},{"$f":"IF(Datos_de_Tarjetas!M230=0,\"\",Datos_de_Tarjetas!M230)","v":""},{"$f":"IF(Datos_de_Tarjetas!N230=0,\"\",Datos_de_Tarjetas!N230)","v":""},{"$f":"IFERROR(VLOOKUP(Datos_de_Tarjetas!P230,Parámetros!$AM$3:$AN$90,2,FALSE),\"\")","v":""}]
[null,1069470000,{"$f":"IFERROR(VLOOKUP(Datos_de_Tarjetas!D231,Parámetros!$AD$12:$AE$17,2,FALSE),\"\")","v":""},{"$f":"IF(Datos_de_Tarjetas!G231=0,\"\",Datos_de_Tarjetas!G231)","v":""},{"$f":"IFERROR(VLOOKUP(Datos_de_Tarjetas!K231,Parámetros!$AJ$3:$AK$13,2,FALSE),\"\")","v":""},{"$f":"IFERROR(VLOOKUP(Datos_de_Tarjetas!J231,Parámetros!$AQ$3:$AR$57,2,FALSE),\"\")","v":""},null,{"$f":"IF(Datos_de_Tarjetas!L231=0,\"\",Datos_de_Tarjetas!L231)","v":""},{"$f":"IF(Datos_de_Tarjetas!M231=0,\"\",Datos_de_Tarjetas!M231)","v":""},{"$f":"IF(Datos_de_Tarjetas!N231=0,\"\",Datos_de_Tarjetas!N231)","v":""},{"$f":"IFERROR(VLOOKUP(Datos_de_Tarjetas!P231,Parámetros!$AM$3:$AN$90,2,FALSE),\"\")","v":""}]
[null,1069470000,{"$f":"IFERROR(VLOOKUP(Datos_de_Tarjetas!D232,Parámetros!$AD$12:$AE$17,2,FALSE),\"\")","v":""},{"$f":"IF(Datos_de_Tarjetas!G232=0,\"\",Datos_de_Tarjetas!G232)","v":""},{"$f":"IFERROR(VLOOKUP(Datos_de_Tarjetas!K232,Parámetros!$AJ$3:$AK$13,2,FALSE),\"\")","v":""},{"$f":"IFERROR(VLOOKUP(Datos_de_Tarjetas!J232,Parámetros!$AQ$3:$AR$57,2,FALSE),\"\")","v":""},null,{"$f":"IF(Datos_de_Tarjetas!L232=0,\"\",Datos_de_Tarjetas!L232)","v":""},{"$f":"IF(Datos_de_Tarjetas!M232=0,\"\",Datos_de_Tarjetas!M232)","v":""},{"$f":"IF(Datos_de_Tarjetas!N232=0,\"\",Datos_de_Tarjetas!N232)","v":""},{"$f":"IFERROR(VLOOKUP(Datos_de_Tarjetas!P232,Parámetros!$AM$3:$AN$90,2,FALSE),\"\")","v":""}]
[null,1069470000,{"$f":"IFERROR(VLOOKUP(Datos_de_Tarjetas!D233,Parámetros!$AD$12:$AE$17,2,FALSE),\"\")","v":""},{"$f":"IF(Datos_de_Tarjetas!G233=0,\"\",Datos_de_Tarjetas!G233)","v":""},{"$f":"IFERROR(VLOOKUP(Datos_de_Tarjetas!K233,Parámetros!$AJ$3:$AK$13,2,FALSE),\"\")","v":""},{"$f":"IFERROR(VLOOKUP(Datos_de_Tarjetas!J233,Parámetros!$AQ$3:$AR$57,2,FALSE),\"\")","v":""},null,{"$f":"IF(Datos_de_Tarjetas!L233=0,\"\",Datos_de_Tarjetas!L233)","v":""},{"$f":"IF(Datos_de_Tarjetas!M233=0,\"\",Datos_de_Tarjetas!M233)","v":""},{"$f":"IF(Datos_de_Tarjetas!N233=0,\"\",Datos_de_Tarjetas!N233)","v":""},{"$f":"IFERROR(VLOOKUP(Datos_de_Tarjetas!P233,Parámetros!$AM$3:$AN$90,2,FALSE),\"\")","v":""}]
[null,1069470000,{"$f":"IFERROR(VLOOKUP(Datos_de_Tarjetas!D234,Parámetros!$AD$12:$AE$17,2,FALSE),\"\")","v":""},{"$f":"IF(Datos_de_Tarjetas!G234=0,\"\",Datos_de_Tarjetas!G234)","v":""},{"$f":"IFERROR(VLOOKUP(Datos_de_Tarjetas!K234,Parámetros!$AJ$3:$AK$13,2,FALSE),\"\")","v":""},{"$f":"IFERROR(VLOOKUP(Datos_de_Tarjetas!J234,Parámetros!$AQ$3:$AR$57,2,FALSE),\"\")","v":""},null,{"$f":"IF(Datos_de_Tarjetas!L234=0,\"\",Datos_de_Tarjetas!L234)","v":""},{"$f":"IF(Datos_de_Tarjetas!M234=0,\"\",Datos_de_Tarjetas!M234)","v":""},{"$f":"IF(Datos_de_Tarjetas!N234=0,\"\",Datos_de_Tarjetas!N234)","v":""},{"$f":"IFERROR(VLOOKUP(Datos_de_Tarjetas!P234,Parámetros!$AM$3:$AN$90,2,FALSE),\"\")","v":""}]
[null,1069470000,{"$f":"IFERROR(VLOOKUP(Datos_de_Tarjetas!D235,Parámetros!$AD$12:$AE$17,2,FALSE),\"\")","v":""},{"$f":"IF(Datos_de_Tarjetas!G235=0,\"\",Datos_de_Tarjetas!G235)","v":""},{"$f":"IFERROR(VLOOKUP(Datos_de_Tarjetas!K235,Parámetros!$AJ$3:$AK$13,2,FALSE),\"\")","v":""},{"$f":"IFERROR(VLOOKUP(Datos_de_Tarjetas!J235,Parámetros!$AQ$3:$AR$57,2,FALSE),\"\")","v":""},null,{"$f":"IF(Datos_de_Tarjetas!L235=0,\"\",Datos_de_Tarjetas!L235)","v":""},{"$f":"IF(Datos_de_Tarjetas!M235=0,\"\",Datos_de_Tarjetas!M235)","v":""},{"$f":"IF(Datos_de_Tarjetas!N235=0,\"\",Datos_de_Tarjetas!N235)","v":""},{"$f":"IFERROR(VLOOKUP(Datos_de_Tarjetas!P235,Parámetros!$AM$3:$AN$90,2,FALSE),\"\")","v":""}]
[null,1069470000,{"$f":"IFERROR(VLOOKUP(Datos_de_Tarjetas!D236,Parámetros!$AD$12:$AE$17,2,FALSE),\"\")","v":""},{"$f":"IF(Datos_de_Tarjetas!G236=0,\"\",Datos_de_Tarjetas!G236)","v":""},{"$f":"IFERROR(VLOOKUP(Datos_de_Tarjetas!K236,Parámetros!$AJ$3:$AK$13,2,FALSE),\"\")","v":""},{"$f":"IFERROR(VLOOKUP(Datos_de_Tarjetas!J236,Parámetros!$AQ$3:$AR$57,2,FALSE),\"\")","v":""},null,{"$f":"IF(Datos_de_Tarjetas!L236=0,\"\",Datos_de_Tarjetas!L236)","v":""},{"$f":"IF(Datos_de_Tarjetas!M236=0,\"\",Datos_de_Tarjetas!M236)","v":""},{"$f":"IF(Datos_de_Tarjetas!N236=0,\"\",Datos_de_Tarjetas!N236)","v":""},{"$f":"IFERROR(VLOOKUP(Datos_de_Tarjetas!P236,Parámetros!$AM$3:$AN$90,2,FALSE),\"\")","v":""}]
[null,1069470000,{"$f":"IFERROR(VLOOKUP(Datos_de_Tarjetas!D237,Parámetros!$AD$12:$AE$17,2,FALSE),\"\")","v":""},{"$f":"IF(Datos_de_Tarjetas!G237=0,\"\",Datos_de_Tarjetas!G237)","v":""},{"$f":"IFERROR(VLOOKUP(Datos_de_Tarjetas!K237,Parámetros!$AJ$3:$AK$13,2,FALSE),\"\")","v":""},{"$f":"IFERROR(VLOOKUP(Datos_de_Tarjetas!J237,Parámetros!$AQ$3:$AR$57,2,FALSE),\"\")","v":""},null,{"$f":"IF(Datos_de_Tarjetas!L237=0,\"\",Datos_de_Tarjetas!L237)","v":""},{"$f":"IF(Datos_de_Tarjetas!M237=0,\"\",Datos_de_Tarjetas!M237)","v":""},{"$f":"IF(Datos_de_Tarjetas!N237=0,\"\",Datos_de_Tarjetas!N237)","v":""},{"$f":"IFERROR(VLOOKUP(Datos_de_Tarjetas!P237,Parámetros!$AM$3:$AN$90,2,FALSE),\"\")","v":""}]
[null,1069470000,{"$f":"IFERROR(VLOOKUP(Datos_de_Tarjetas!D238,Parámetros!$AD$12:$AE$17,2,FALSE),\"\")","v":""},{"$f":"IF(Datos_de_Tarjetas!G238=0,\"\",Datos_de_Tarjetas!G238)","v":""},{"$f":"IFERROR(VLOOKUP(Datos_de_Tarjetas!K238,Parámetros!$AJ$3:$AK$13,2,FALSE),\"\")","v":""},{"$f":"IFERROR(VLOOKUP(Datos_de_Tarjetas!J238,Parámetros!$AQ$3:$AR$57,2,FALSE),\"\")","v":""},null,{"$f":"IF(Datos_de_Tarjetas!L238=0,\"\",Datos_de_Tarjetas!L238)","v":""},{"$f":"IF(Datos_de_Tarjetas!M238=0,\"\",Datos_de_Tarjetas!M238)","v":""},{"$f":"IF(Datos_de_Tarjetas!N238=0,\"\",Datos_de_Tarjetas!N238)","v":""},{"$f":"IFERROR(VLOOKUP(Datos_de_Tarjetas!P238,Parámetros!$AM$3:$AN$90,2,FALSE),\"\")","v":""}]
[null,1069470000,{"$f":"IFERROR(VLOOKUP(Datos_de_Tarjetas!D239,Parámetros!$AD$12:$AE$17,2,FALSE),\"\")","v":""},{"$f":"IF(Datos_de_Tarjetas!G239=0,\"\",Datos_de_Tarjetas!G239)","v":""},{"$f":"IFERROR(VLOOKUP(Datos_de_Tarjetas!K239,Parámetros!$AJ$3:$AK$13,2,FALSE),\"\")","v":""},{"$f":"IFERROR(VLOOKUP(Datos_de_Tarjetas!J239,Parámetros!$AQ$3:$AR$57,2,FALSE),\"\")","v":""},null,{"$f":"IF(Datos_de_Tarjetas!L239=0,\"\",Datos_de_Tarjetas!L239)","v":""},{"$f":"IF(Datos_de_Tarjetas!M239=0,\"\",Datos_de_Tarjetas!M239)","v":""},{"$f":"IF(Datos_de_Tarjetas!N239=0,\"\",Datos_de_Tarjetas!N239)","v":""},{"$f":"IFERROR(VLOOKUP(Datos_de_Tarjetas!P239,Parámetros!$AM$3:$AN$90,2,FALSE),\"\")","v":""}]
[null,1069470000,{"$f":"IFERROR(VLOOKUP(Datos_de_Tarjetas!D240,Parámetros!$AD$12:$AE$17,2,FALSE),\"\")","v":""},{"$f":"IF(Datos_de_Tarjetas!G240=0,\"\",Datos_de_Tarjetas!G240)","v":""},{"$f":"IFERROR(VLOOKUP(Datos_de_Tarjetas!K240,Parámetros!$AJ$3:$AK$13,2,FALSE),\"\")","v":""},{"$f":"IFERROR(VLOOKUP(Datos_de_Tarjetas!J240,Parámetros!$AQ$3:$AR$57,2,FALSE),\"\")","v":""},null,{"$f":"IF(Datos_de_Tarjetas!L240=0,\"\",Datos_de_Tarjetas!L240)","v":""},{"$f":"IF(Datos_de_Tarjetas!M240=0,\"\",Datos_de_Tarjetas!M240)","v":""},{"$f":"IF(Datos_de_Tarjetas!N240=0,\"\",Datos_de_Tarjetas!N240)","v":""},{"$f":"IFERROR(VLOOKUP(Datos_de_Tarjetas!P240,Parámetros!$AM$3:$AN$90,2,FALSE),\"\")","v":""}]
[null,1069470000,{"$f":"IFERROR(VLOOKUP(Datos_de_Tarjetas!D241,Parámetros!$AD$12:$AE$17,2,FALSE),\"\")","v":""},{"$f":"IF(Datos_de_Tarjetas!G241=0,\"\",Datos_de_Tarjetas!G241)","v":""},{"$f":"IFERROR(VLOOKUP(Datos_de_Tarjetas!K241,Parámetros!$AJ$3:$AK$13,2,FALSE),\"\")","v":""},{"$f":"IFERROR(VLOOKUP(Datos_de_Tarjetas!J241,Parámetros!$AQ$3:$AR$57,2,FALSE),\"\")","v":""},null,{"$f":"IF(Datos_de_Tarjetas!L241=0,\"\",Datos_de_Tarjetas!L241)","v":""},{"$f":"IF(Datos_de_Tarjetas!M241=0,\"\",Datos_de_Tarjetas!M241)","v":""},{"$f":"IF(Datos_de_Tarjetas!N241=0,\"\",Datos_de_Tarjetas!N241)","v":""},{"$f":"IFERROR(VLOOKUP(Datos_de_Tarjetas!P241,Parámetros!$AM$3:$AN$90,2,FALSE),\"\")","v":""}]
[null,1069470000,{"$f":"IFERROR(VLOOKUP(Datos_de_Tarjetas!D242,Parámetros!$AD$12:$AE$17,2,FALSE),\"\")","v":""},{"$f":"IF(Datos_de_Tarjetas!G242=0,\"\",Datos_de_Tarjetas!G242)","v":""},{"$f":"IFERROR(VLOOKUP(Datos_de_Tarjetas!K242,Parámetros!$AJ$3:$AK$13,2,FALSE),\"\")","v":""},{"$f":"IFERROR(VLOOKUP(Datos_de_Tarjetas!J242,Parámetros!$AQ$3:$AR$57,2,FALSE),\"\")","v":""},null,{"$f":"IF(Datos_de_Tarjetas!L242=0,\"\",Datos_de_Tarjetas!L242)","v":""},{"$f":"IF(Datos_de_Tarjetas!M242=0,\"\",Datos_de_Tarjetas!M242)","v":""},{"$f":"IF(Datos_de_Tarjetas!N242=0,\"\",Datos_de_Tarjetas!N242)","v":""},{"$f":"IFERROR(VLOOKUP(Datos_de_Tarjetas!P242,Parámetros!$AM$3:$AN$90,2,FALSE),\"\")","v":""}]
[null,1069470000,{"$f":"IFERROR(VLOOKUP(Datos_de_Tarjetas!D243,Parámetros!$AD$12:$AE$17,2,FALSE),\"\")","v":""},{"$f":"IF(Datos_de_Tarjetas!G243=0,\"\",Datos_de_Tarjetas!G243)","v":""},{"$f":"IFERROR(VLOOKUP(Datos_de_Tarjetas!K243,Parámetros!$AJ$3:$AK$13,2,FALSE),\"\")","v":""},{"$f":"IFERROR(VLOOKUP(Datos_de_Tarjetas!J243,Parámetros!$AQ$3:$AR$57,2,FALSE),\"\")","v":""},null,{"$f":"IF(Datos_de_Tarjetas!L243=0,\"\",Datos_de_Tarjetas!L243)","v":""},{"$f":"IF(Datos_de_Tarjetas!M243=0,\"\",Datos_de_Tarjetas!M243)","v":""},{"$f":"IF(Datos_de_Tarjetas!N243=0,\"\",Datos_de_Tarjetas!N243)","v":""},{"$f":"IFERROR(VLOOKUP(Datos_de_Tarjetas!P243,Parámetros!$AM$3:$AN$90,2,FALSE),\"\")","v":""}]
[null,1069470000,{"$f":"IFERROR(VLOOKUP(Datos_de_Tarjetas!D244,Parámetros!$AD$12:$AE$17,2,FALSE),\"\")","v":""},{"$f":"IF(Datos_de_Tarjetas!G244=0,\"\",Datos_de_Tarjetas!G244)","v":""},{"$f":"IFERROR(VLOOKUP(Datos_de_Tarjetas!K244,Parámetros!$AJ$3:$AK$13,2,FALSE),\"\")","v":""},{"$f":"IFERROR(VLOOKUP(Datos_de_Tarjetas!J244,Parámetros!$AQ$3:$AR$57,2,FALSE),\"\")","v":""},null,{"$f":"IF(Datos_de_Tarjetas!L244=0,\"\",Datos_de_Tarjetas!L244)","v":""},{"$f":"IF(Datos_de_Tarjetas!M244=0,\"\",Datos_de_Tarjetas!M244)","v":""},{"$f":"IF(Datos_de_Tarjetas!N244=0,\"\",Datos_de_Tarjetas!N244)","v":""},{"$f":"IFERROR(VLOOKUP(Datos_de_Tarjetas!P244,Parámetros!$AM$3:$AN$90,2,FALSE),\"\")","v":""}]
[null,1069470000,{"$f":"IFERROR(VLOOKUP(Datos_de_Tarjetas!D245,Parámetros!$AD$12:$AE$17,2,FALSE),\"\")","v":""},{"$f":"IF(Datos_de_Tarjetas!G245=0,\"\",Datos_de_Tarjetas!G245)","v":""},{"$f":"IFERROR(VLOOKUP(Datos_de_Tarjetas!K245,Parámetros!$AJ$3:$AK$13,2,FALSE),\"\")","v":""},{"$f":"IFERROR(VLOOKUP(Datos_de_Tarjetas!J245,Parámetros!$AQ$3:$AR$57,2,FALSE),\"\")","v":""},null,{"$f":"IF(Datos_de_Tarjetas!L245=0,\"\",Datos_de_Tarjetas!L245)","v":""},{"$f":"IF(Datos_de_Tarjetas!M245=0,\"\",Datos_de_Tarjetas!M245)","v":""},{"$f":"IF(Datos_de_Tarjetas!N245=0,\"\",Datos_de_Tarjetas!N245)","v":""},{"$f":"IFERROR(VLOOKUP(Datos_de_Tarjetas!P245,Parámetros!$AM$3:$AN$90,2,FALSE),\"\")","v":""}]
[null,1069470000,{"$f":"IFERROR(VLOOKUP(Datos_de_Tarjetas!D246,Parámetros!$AD$12:$AE$17,2,FALSE),\"\")","v":""},{"$f":"IF(Datos_de_Tarjetas!G246=0,\"\",Datos_de_Tarjetas!G246)","v":""},{"$f":"IFERROR(VLOOKUP(Datos_de_Tarjetas!K246,Parámetros!$AJ$3:$AK$13,2,FALSE),\"\")","v":""},{"$f":"IFERROR(VLOOKUP(Datos_de_Tarjetas!J246,Parámetros!$AQ$3:$AR$57,2,FALSE),\"\")","v":""},null,{"$f":"IF(Datos_de_Tarjetas!L246=0,\"\",Datos_de_Tarjetas!L246)","v":""},{"$f":"IF(Datos_de_Tarjetas!M246=0,\"\",Datos_de_Tarjetas!M246)","v":""},{"$f":"IF(Datos_de_Tarjetas!N246=0,\"\",Datos_de_Tarjetas!N246)","v":""},{"$f":"IFERROR(VLOOKUP(Datos_de_Tarjetas!P246,Parámetros!$AM$3:$AN$90,2,FALSE),\"\")","v":""}]
[null,1069470000,{"$f":"IFERROR(VLOOKUP(Datos_de_Tarjetas!D247,Parámetros!$AD$12:$AE$17,2,FALSE),\"\")","v":""},{"$f":"IF(Datos_de_Tarjetas!G247=0,\"\",Datos_de_Tarjetas!G247)","v":""},{"$f":"IFERROR(VLOOKUP(Datos_de_Tarjetas!K247,Parámetros!$AJ$3:$AK$13,2,FALSE),\"\")","v":""},{"$f":"IFERROR(VLOOKUP(Datos_de_Tarjetas!J247,Parámetros!$AQ$3:$AR$57,2,FALSE),\"\")","v":""},null,{"$f":"IF(Datos_de_Tarjetas!L247=0,\"\",Datos_de_Tarjetas!L247)","v":""},{"$f":"IF(Datos_de_Tarjetas!M247=0,\"\",Datos_de_Tarjetas!M247)","v":""},{"$f":"IF(Datos_de_Tarjetas!N247=0,\"\",Datos_de_Tarjetas!N247)","v":""},{"$f":"IFERROR(VLOOKUP(Datos_de_Tarjetas!P247,Parámetros!$AM$3:$AN$90,2,FALSE),\"\")","v":""}]
[null,1069470000,{"$f":"IFERROR(VLOOKUP(Datos_de_Tarjetas!D248,Parámetros!$AD$12:$AE$17,2,FALSE),\"\")","v":""},{"$f":"IF(Datos_de_Tarjetas!G248=0,\"\",Datos_de_Tarjetas!G248)","v":""},{"$f":"IFERROR(VLOOKUP(Datos_de_Tarjetas!K248,Parámetros!$AJ$3:$AK$13,2,FALSE),\"\")","v":""},{"$f":"IFERROR(VLOOKUP(Datos_de_Tarjetas!J248,Parámetros!$AQ$3:$AR$57,2,FALSE),\"\")","v":""},null,{"$f":"IF(Datos_de_Tarjetas!L248=0,\"\",Datos_de_Tarjetas!L248)","v":""},{"$f":"IF(Datos_de_Tarjetas!M248=0,\"\",Datos_de_Tarjetas!M248)","v":""},{"$f":"IF(Datos_de_Tarjetas!N248=0,\"\",Datos_de_Tarjetas!N248)","v":""},{"$f":"IFERROR(VLOOKUP(Datos_de_Tarjetas!P248,Parámetros!$AM$3:$AN$90,2,FALSE),\"\")","v":""}]
[null,1069470000,{"$f":"IFERROR(VLOOKUP(Datos_de_Tarjetas!D249,Parámetros!$AD$12:$AE$17,2,FALSE),\"\")","v":""},{"$f":"IF(Datos_de_Tarjetas!G249=0,\"\",Datos_de_Tarjetas!G249)","v":""},{"$f":"IFERROR(VLOOKUP(Datos_de_Tarjetas!K249,Parámetros!$AJ$3:$AK$13,2,FALSE),\"\")","v":""},{"$f":"IFERROR(VLOOKUP(Datos_de_Tarjetas!J249,Parámetros!$AQ$3:$AR$57,2,FALSE),\"\")","v":""},null,{"$f":"IF(Datos_de_Tarjetas!L249=0,\"\",Datos_de_Tarjetas!L249)","v":""},{"$f":"IF(Datos_de_Tarjetas!M249=0,\"\",Datos_de_Tarjetas!M249)","v":""},{"$f":"IF(Datos_de_Tarjetas!N249=0,\"\",Datos_de_Tarjetas!N249)","v":""},{"$f":"IFERROR(VLOOKUP(Datos_de_Tarjetas!P249,Parámetros!$AM$3:$AN$90,2,FALSE),\"\")","v":""}]
[null,1069470000,{"$f":"IFERROR(VLOOKUP(Datos_de_Tarjetas!D250,Parámetros!$AD$12:$AE$17,2,FALSE),\"\")","v":""},{"$f":"IF(Datos_de_Tarjetas!G250=0,\"\",Datos_de_Tarjetas!G250)","v":""},{"$f":"IFERROR(VLOOKUP(Datos_de_Tarjetas!K250,Parámetros!$AJ$3:$AK$13,2,FALSE),\"\")","v":""},{"$f":"IFERROR(VLOOKUP(Datos_de_Tarjetas!J250,Parámetros!$AQ$3:$AR$57,2,FALSE),\"\")","v":""},null,{"$f":"IF(Datos_de_Tarjetas!L250=0,\"\",Datos_de_Tarjetas!L250)","v":""},{"$f":"IF(Datos_de_Tarjetas!M250=0,\"\",Datos_de_Tarjetas!M250)","v":""},{"$f":"IF(Datos_de_Tarjetas!N250=0,\"\",Datos_de_Tarjetas!N250)","v":""},{"$f":"IFERROR(VLOOKUP(Datos_de_Tarjetas!P250,Parámetros!$AM$3:$AN$90,2,FALSE),\"\")","v":""}]
[null,1069470000,{"$f":"IFERROR(VLOOKUP(Datos_de_Tarjetas!D251,Parámetros!$AD$12:$AE$17,2,FALSE),\"\")","v":""},{"$f":"IF(Datos_de_Tarjetas!G251=0,\"\",Datos_de_Tarjetas!G251)","v":""},{"$f":"IFERROR(VLOOKUP(Datos_de_Tarjetas!K251,Parámetros!$AJ$3:$AK$13,2,FALSE),\"\")","v":""},{"$f":"IFERROR(VLOOKUP(Datos_de_Tarjetas!J251,Parámetros!$AQ$3:$AR$57,2,FALSE),\"\")","v":""},null,{"$f":"IF(Datos_de_Tarjetas!L251=0,\"\",Datos_de_Tarjetas!L251)","v":""},{"$f":"IF(Datos_de_Tarjetas!M251=0,\"\",Datos_de_Tarjetas!M251)","v":""},{"$f":"IF(Datos_de_Tarjetas!N251=0,\"\",Datos_de_Tarjetas!N251)","v":""},{"$f":"IFERROR(VLOOKUP(Datos_de_Tarjetas!P251,Parámetros!$AM$3:$AN$90,2,FALSE),\"\")","v":""}]
[null,1069470000,{"$f":"IFERROR(VLOOKUP(Datos_de_Tarjetas!D252,Parámetros!$AD$12:$AE$17,2,FALSE),\"\")","v":""},{"$f":"IF(Datos_de_Tarjetas!G252=0,\"\",Datos_de_Tarjetas!G252)","v":""},{"$f":"IFERROR(VLOOKUP(Datos_de_Tarjetas!K252,Parámetros!$AJ$3:$AK$13,2,FALSE),\"\")","v":""},{"$f":"IFERROR(VLOOKUP(Datos_de_Tarjetas!J252,Parámetros!$AQ$3:$AR$57,2,FALSE),\"\")","v":""},null,{"$f":"IF(Datos_de_Tarjetas!L252=0,\"\",Datos_de_Tarjetas!L252)","v":""},{"$f":"IF(Datos_de_Tarjetas!M252=0,\"\",Datos_de_Tarjetas!M252)","v":""},{"$f":"IF(Datos_de_Tarjetas!N252=0,\"\",Datos_de_Tarjetas!N252)","v":""},{"$f":"IFERROR(VLOOKUP(Datos_de_Tarjetas!P252,Parámetros!$AM$3:$AN$90,2,FALSE),\"\")","v":""}]
[null,1069470000,{"$f":"IFERROR(VLOOKUP(Datos_de_Tarjetas!D253,Parámetros!$AD$12:$AE$17,2,FALSE),\"\")","v":""},{"$f":"IF(Datos_de_Tarjetas!G253=0,\"\",Datos_de_Tarjetas!G253)","v":""},{"$f":"IFERROR(VLOOKUP(Datos_de_Tarjetas!K253,Parámetros!$AJ$3:$AK$13,2,FALSE),\"\")","v":""},{"$f":"IFERROR(VLOOKUP(Datos_de_Tarjetas!J253,Parámetros!$AQ$3:$AR$57,2,FALSE),\"\")","v":""},null,{"$f":"IF(Datos_de_Tarjetas!L253=0,\"\",Datos_de_Tarjetas!L253)","v":""},{"$f":"IF(Datos_de_Tarjetas!M253=0,\"\",Datos_de_Tarjetas!M253)","v":""},{"$f":"IF(Datos_de_Tarjetas!N253=0,\"\",Datos_de_Tarjetas!N253)","v":""},{"$f":"IFERROR(VLOOKUP(Datos_de_Tarjetas!P253,Parámetros!$AM$3:$AN$90,2,FALSE),\"\")","v":""}]
[null,1069470000,{"$f":"IFERROR(VLOOKUP(Datos_de_Tarjetas!D254,Parámetros!$AD$12:$AE$17,2,FALSE),\"\")","v":""},{"$f":"IF(Datos_de_Tarjetas!G254=0,\"\",Datos_de_Tarjetas!G254)","v":""},{"$f":"IFERROR(VLOOKUP(Datos_de_Tarjetas!K254,Parámetros!$AJ$3:$AK$13,2,FALSE),\"\")","v":""},{"$f":"IFERROR(VLOOKUP(Datos_de_Tarjetas!J254,Parámetros!$AQ$3:$AR$57,2,FALSE),\"\")","v":""},null,{"$f":"IF(Datos_de_Tarjetas!L254=0,\"\",Datos_de_Tarjetas!L254)","v":""},{"$f":"IF(Datos_de_Tarjetas!M254=0,\"\",Datos_de_Tarjetas!M254)","v":""},{"$f":"IF(Datos_de_Tarjetas!N254=0,\"\",Datos_de_Tarjetas!N254)","v":""},{"$f":"IFERROR(VLOOKUP(Datos_de_Tarjetas!P254,Parámetros!$AM$3:$AN$90,2,FALSE),\"\")","v":""}]
[null,1069470000,{"$f":"IFERROR(VLOOKUP(Datos_de_Tarjetas!D255,Parámetros!$AD$12:$AE$17,2,FALSE),\"\")","v":""},{"$f":"IF(Datos_de_Tarjetas!G255=0,\"\",Datos_de_Tarjetas!G255)","v":""},{"$f":"IFERROR(VLOOKUP(Datos_de_Tarjetas!K255,Parámetros!$AJ$3:$AK$13,2,FALSE),\"\")","v":""},{"$f":"IFERROR(VLOOKUP(Datos_de_Tarjetas!J255,Parámetros!$AQ$3:$AR$57,2,FALSE),\"\")","v":""},null,{"$f":"IF(Datos_de_Tarjetas!L255=0,\"\",Datos_de_Tarjetas!L255)","v":""},{"$f":"IF(Datos_de_Tarjetas!M255=0,\"\",Datos_de_Tarjetas!M255)","v":""},{"$f":"IF(Datos_de_Tarjetas!N255=0,\"\",Datos_de_Tarjetas!N255)","v":""},{"$f":"IFERROR(VLOOKUP(Datos_de_Tarjetas!P255,Parámetros!$AM$3:$AN$90,2,FALSE),\"\")","v":""}]
[null,1069470000,{"$f":"IFERROR(VLOOKUP(Datos_de_Tarjetas!D256,Parámetros!$AD$12:$AE$17,2,FALSE),\"\")","v":""},{"$f":"IF(Datos_de_Tarjetas!G256=0,\"\",Datos_de_Tarjetas!G256)","v":""},{"$f":"IFERROR(VLOOKUP(Datos_de_Tarjetas!K256,Parámetros!$AJ$3:$AK$13,2,FALSE),\"\")","v":""},{"$f":"IFERROR(VLOOKUP(Datos_de_Tarjetas!J256,Parámetros!$AQ$3:$AR$57,2,FALSE),\"\")","v":""},null,{"$f":"IF(Datos_de_Tarjetas!L256=0,\"\",Datos_de_Tarjetas!L256)","v":""},{"$f":"IF(Datos_de_Tarjetas!M256=0,\"\",Datos_de_Tarjetas!M256)","v":""},{"$f":"IF(Datos_de_Tarjetas!N256=0,\"\",Datos_de_Tarjetas!N256)","v":""},{"$f":"IFERROR(VLOOKUP(Datos_de_Tarjetas!P256,Parámetros!$AM$3:$AN$90,2,FALSE),\"\")","v":""}]
[null,1069470000,{"$f":"IFERROR(VLOOKUP(Datos_de_Tarjetas!D257,Parámetros!$AD$12:$AE$17,2,FALSE),\"\")","v":""},{"$f":"IF(Datos_de_Tarjetas!G257=0,\"\",Datos_de_Tarjetas!G257)","v":""},{"$f":"IFERROR(VLOOKUP(Datos_de_Tarjetas!K257,Parámetros!$AJ$3:$AK$13,2,FALSE),\"\")","v":""},{"$f":"IFERROR(VLOOKUP(Datos_de_Tarjetas!J257,Parámetros!$AQ$3:$AR$57,2,FALSE),\"\")","v":""},null,{"$f":"IF(Datos_de_Tarjetas!L257=0,\"\",Datos_de_Tarjetas!L257)","v":""},{"$f":"IF(Datos_de_Tarjetas!M257=0,\"\",Datos_de_Tarjetas!M257)","v":""},{"$f":"IF(Datos_de_Tarjetas!N257=0,\"\",Datos_de_Tarjetas!N257)","v":""},{"$f":"IFERROR(VLOOKUP(Datos_de_Tarjetas!P257,Parámetros!$AM$3:$AN$90,2,FALSE),\"\")","v":""}]
[null,1069470000,{"$f":"IFERROR(VLOOKUP(Datos_de_Tarjetas!D258,Parámetros!$AD$12:$AE$17,2,FALSE),\"\")","v":""},{"$f":"IF(Datos_de_Tarjetas!G258=0,\"\",Datos_de_Tarjetas!G258)","v":""},{"$f":"IFERROR(VLOOKUP(Datos_de_Tarjetas!K258,Parámetros!$AJ$3:$AK$13,2,FALSE),\"\")","v":""},{"$f":"IFERROR(VLOOKUP(Datos_de_Tarjetas!J258,Parámetros!$AQ$3:$AR$57,2,FALSE),\"\")","v":""},null,{"$f":"IF(Datos_de_Tarjetas!L258=0,\"\",Datos_de_Tarjetas!L258)","v":""},{"$f":"IF(Datos_de_Tarjetas!M258=0,\"\",Datos_de_Tarjetas!M258)","v":""},{"$f":"IF(Datos_de_Tarjetas!N258=0,\"\",Datos_de_Tarjetas!N258)","v":""},{"$f":"IFERROR(VLOOKUP(Datos_de_Tarjetas!P258,Parámetros!$AM$3:$AN$90,2,FALSE),\"\")","v":""}]
[null,1069470000,{"$f":"IFERROR(VLOOKUP(Datos_de_Tarjetas!D259,Parámetros!$AD$12:$AE$17,2,FALSE),\"\")","v":""},{"$f":"IF(Datos_de_Tarjetas!G259=0,\"\",Datos_de_Tarjetas!G259)","v":""},{"$f":"IFERROR(VLOOKUP(Datos_de_Tarjetas!K259,Parámetros!$AJ$3:$AK$13,2,FALSE),\"\")","v":""},{"$f":"IFERROR(VLOOKUP(Datos_de_Tarjetas!J259,Parámetros!$AQ$3:$AR$57,2,FALSE),\"\")","v":""},null,{"$f":"IF(Datos_de_Tarjetas!L259=0,\"\",Datos_de_Tarjetas!L259)","v":""},{"$f":"IF(Datos_de_Tarjetas!M259=0,\"\",Datos_de_Tarjetas!M259)","v":""},{"$f":"IF(Datos_de_Tarjetas!N259=0,\"\",Datos_de_Tarjetas!N259)","v":""},{"$f":"IFERROR(VLOOKUP(Datos_de_Tarjetas!P259,Parámetros!$AM$3:$AN$90,2,FALSE),\"\")","v":""}]
[null,1069470000,{"$f":"IFERROR(VLOOKUP(Datos_de_Tarjetas!D260,Parámetros!$AD$12:$AE$17,2,FALSE),\"\")","v":""},{"$f":"IF(Datos_de_Tarjetas!G260=0,\"\",Datos_de_Tarjetas!G260)","v":""},{"$f":"IFERROR(VLOOKUP(Datos_de_Tarjetas!K260,Parámetros!$AJ$3:$AK$13,2,FALSE),\"\")","v":""},{"$f":"IFERROR(VLOOKUP(Datos_de_Tarjetas!J260,Parámetros!$AQ$3:$AR$57,2,FALSE),\"\")","v":""},null,{"$f":"IF(Datos_de_Tarjetas!L260=0,\"\",Datos_de_Tarjetas!L260)","v":""},{"$f":"IF(Datos_de_Tarjetas!M260=0,\"\",Datos_de_Tarjetas!M260)","v":""},{"$f":"IF(Datos_de_Tarjetas!N260=0,\"\",Datos_de_Tarjetas!N260)","v":""},{"$f":"IFERROR(VLOOKUP(Datos_de_Tarjetas!P260,Parámetros!$AM$3:$AN$90,2,FALSE),\"\")","v":""}]
[null,1069470000,{"$f":"IFERROR(VLOOKUP(Datos_de_Tarjetas!D261,Parámetros!$AD$12:$AE$17,2,FALSE),\"\")","v":""},{"$f":"IF(Datos_de_Tarjetas!G261=0,\"\",Datos_de_Tarjetas!G261)","v":""},{"$f":"IFERROR(VLOOKUP(Datos_de_Tarjetas!K261,Parámetros!$AJ$3:$AK$13,2,FALSE),\"\")","v":""},{"$f":"IFERROR(VLOOKUP(Datos_de_Tarjetas!J261,Parámetros!$AQ$3:$AR$57,2,FALSE),\"\")","v":""},null,{"$f":"IF(Datos_de_Tarjetas!L261=0,\"\",Datos_de_Tarjetas!L261)","v":""},{"$f":"IF(Datos_de_Tarjetas!M261=0,\"\",Datos_de_Tarjetas!M261)","v":""},{"$f":"IF(Datos_de_Tarjetas!N261=0,\"\",Datos_de_Tarjetas!N261)","v":""},{"$f":"IFERROR(VLOOKUP(Datos_de_Tarjetas!P261,Parámetros!$AM$3:$AN$90,2,FALSE),\"\")","v":""}]
[null,1069470000,{"$f":"IFERROR(VLOOKUP(Datos_de_Tarjetas!D262,Parámetros!$AD$12:$AE$17,2,FALSE),\"\")","v":""},{"$f":"IF(Datos_de_Tarjetas!G262=0,\"\",Datos_de_Tarjetas!G262)","v":""},{"$f":"IFERROR(VLOOKUP(Datos_de_Tarjetas!K262,Parámetros!$AJ$3:$AK$13,2,FALSE),\"\")","v":""},{"$f":"IFERROR(VLOOKUP(Datos_de_Tarjetas!J262,Parámetros!$AQ$3:$AR$57,2,FALSE),\"\")","v":""},null,{"$f":"IF(Datos_de_Tarjetas!L262=0,\"\",Datos_de_Tarjetas!L262)","v":""},{"$f":"IF(Datos_de_Tarjetas!M262=0,\"\",Datos_de_Tarjetas!M262)","v":""},{"$f":"IF(Datos_de_Tarjetas!N262=0,\"\",Datos_de_Tarjetas!N262)","v":""},{"$f":"IFERROR(VLOOKUP(Datos_de_Tarjetas!P262,Parámetros!$AM$3:$AN$90,2,FALSE),\"\")","v":""}]
[null,1069470000,{"$f":"IFERROR(VLOOKUP(Datos_de_Tarjetas!D263,Parámetros!$AD$12:$AE$17,2,FALSE),\"\")","v":""},{"$f":"IF(Datos_de_Tarjetas!G263=0,\"\",Datos_de_Tarjetas!G263)","v":""},{"$f":"IFERROR(VLOOKUP(Datos_de_Tarjetas!K263,Parámetros!$AJ$3:$AK$13,2,FALSE),\"\")","v":""},{"$f":"IFERROR(VLOOKUP(Datos_de_Tarjetas!J263,Parámetros!$AQ$3:$AR$57,2,FALSE),\"\")","v":""},null,{"$f":"IF(Datos_de_Tarjetas!L263=0,\"\",Datos_de_Tarjetas!L263)","v":""},{"$f":"IF(Datos_de_Tarjetas!M263=0,\"\",Datos_de_Tarjetas!M263)","v":""},{"$f":"IF(Datos_de_Tarjetas!N263=0,\"\",Datos_de_Tarjetas!N263)","v":""},{"$f":"IFERROR(VLOOKUP(Datos_de_Tarjetas!P263,Parámetros!$AM$3:$AN$90,2,FALSE),\"\")","v":""}]
[null,1069470000,{"$f":"IFERROR(VLOOKUP(Datos_de_Tarjetas!D264,Parámetros!$AD$12:$AE$17,2,FALSE),\"\")","v":""},{"$f":"IF(Datos_de_Tarjetas!G264=0,\"\",Datos_de_Tarjetas!G264)","v":""},{"$f":"IFERROR(VLOOKUP(Datos_de_Tarjetas!K264,Parámetros!$AJ$3:$AK$13,2,FALSE),\"\")","v":""},{"$f":"IFERROR(VLOOKUP(Datos_de_Tarjetas!J264,Parámetros!$AQ$3:$AR$57,2,FALSE),\"\")","v":""},null,{"$f":"IF(Datos_de_Tarjetas!L264=0,\"\",Datos_de_Tarjetas!L264)","v":""},{"$f":"IF(Datos_de_Tarjetas!M264=0,\"\",Datos_de_Tarjetas!M264)","v":""},{"$f":"IF(Datos_de_Tarjetas!N264=0,\"\",Datos_de_Tarjetas!N264)","v":""},{"$f":"IFERROR(VLOOKUP(Datos_de_Tarjetas!P264,Parámetros!$AM$3:$AN$90,2,FALSE),\"\")","v":""}]
[null,1069470000,{"$f":"IFERROR(VLOOKUP(Datos_de_Tarjetas!D265,Parámetros!$AD$12:$AE$17,2,FALSE),\"\")","v":""},{"$f":"IF(Datos_de_Tarjetas!G265=0,\"\",Datos_de_Tarjetas!G265)","v":""},{"$f":"IFERROR(VLOOKUP(Datos_de_Tarjetas!K265,Parámetros!$AJ$3:$AK$13,2,FALSE),\"\")","v":""},{"$f":"IFERROR(VLOOKUP(Datos_de_Tarjetas!J265,Parámetros!$AQ$3:$AR$57,2,FALSE),\"\")","v":""},null,{"$f":"IF(Datos_de_Tarjetas!L265=0,\"\",Datos_de_Tarjetas!L265)","v":""},{"$f":"IF(Datos_de_Tarjetas!M265=0,\"\",Datos_de_Tarjetas!M265)","v":""},{"$f":"IF(Datos_de_Tarjetas!N265=0,\"\",Datos_de_Tarjetas!N265)","v":""},{"$f":"IFERROR(VLOOKUP(Datos_de_Tarjetas!P265,Parámetros!$AM$3:$AN$90,2,FALSE),\"\")","v":""}]
[null,1069470000,{"$f":"IFERROR(VLOOKUP(Datos_de_Tarjetas!D266,Parámetros!$AD$12:$AE$17,2,FALSE),\"\")","v":""},{"$f":"IF(Datos_de_Tarjetas!G266=0,\"\",Datos_de_Tarjetas!G266)","v":""},{"$f":"IFERROR(VLOOKUP(Datos_de_Tarjetas!K266,Parámetros!$AJ$3:$AK$13,2,FALSE),\"\")","v":""},{"$f":"IFERROR(VLOOKUP(Datos_de_Tarjetas!J266,Parámetros!$AQ$3:$AR$57,2,FALSE),\"\")","v":""},null,{"$f":"IF(Datos_de_Tarjetas!L266=0,\"\",Datos_de_Tarjetas!L266)","v":""},{"$f":"IF(Datos_de_Tarjetas!M266=0,\"\",Datos_de_Tarjetas!M266)","v":""},{"$f":"IF(Datos_de_Tarjetas!N266=0,\"\",Datos_de_Tarjetas!N266)","v":""},{"$f":"IFERROR(VLOOKUP(Datos_de_Tarjetas!P266,Parámetros!$AM$3:$AN$90,2,FALSE),\"\")","v":""}]
[null,1069470000,{"$f":"IFERROR(VLOOKUP(Datos_de_Tarjetas!D267,Parámetros!$AD$12:$AE$17,2,FALSE),\"\")","v":""},{"$f":"IF(Datos_de_Tarjetas!G267=0,\"\",Datos_de_Tarjetas!G267)","v":""},{"$f":"IFERROR(VLOOKUP(Datos_de_Tarjetas!K267,Parámetros!$AJ$3:$AK$13,2,FALSE),\"\")","v":""},{"$f":"IFERROR(VLOOKUP(Datos_de_Tarjetas!J267,Parámetros!$AQ$3:$AR$57,2,FALSE),\"\")","v":""},null,{"$f":"IF(Datos_de_Tarjetas!L267=0,\"\",Datos_de_Tarjetas!L267)","v":""},{"$f":"IF(Datos_de_Tarjetas!M267=0,\"\",Datos_de_Tarjetas!M267)","v":""},{"$f":"IF(Datos_de_Tarjetas!N267=0,\"\",Datos_de_Tarjetas!N267)","v":""},{"$f":"IFERROR(VLOOKUP(Datos_de_Tarjetas!P267,Parámetros!$AM$3:$AN$90,2,FALSE),\"\")","v":""}]
[null,1069470000,{"$f":"IFERROR(VLOOKUP(Datos_de_Tarjetas!D268,Parámetros!$AD$12:$AE$17,2,FALSE),\"\")","v":""},{"$f":"IF(Datos_de_Tarjetas!G268=0,\"\",Datos_de_Tarjetas!G268)","v":""},{"$f":"IFERROR(VLOOKUP(Datos_de_Tarjetas!K268,Parámetros!$AJ$3:$AK$13,2,FALSE),\"\")","v":""},{"$f":"IFERROR(VLOOKUP(Datos_de_Tarjetas!J268,Parámetros!$AQ$3:$AR$57,2,FALSE),\"\")","v":""},null,{"$f":"IF(Datos_de_Tarjetas!L268=0,\"\",Datos_de_Tarjetas!L268)","v":""},{"$f":"IF(Datos_de_Tarjetas!M268=0,\"\",Datos_de_Tarjetas!M268)","v":""},{"$f":"IF(Datos_de_Tarjetas!N268=0,\"\",Datos_de_Tarjetas!N268)","v":""},{"$f":"IFERROR(VLOOKUP(Datos_de_Tarjetas!P268,Parámetros!$AM$3:$AN$90,2,FALSE),\"\")","v":""}]
[null,1069470000,{"$f":"IFERROR(VLOOKUP(Datos_de_Tarjetas!D269,Parámetros!$AD$12:$AE$17,2,FALSE),\"\")","v":""},{"$f":"IF(Datos_de_Tarjetas!G269=0,\"\",Datos_de_Tarjetas!G269)","v":""},{"$f":"IFERROR(VLOOKUP(Datos_de_Tarjetas!K269,Parámetros!$AJ$3:$AK$13,2,FALSE),\"\")","v":""},{"$f":"IFERROR(VLOOKUP(Datos_de_Tarjetas!J269,Parámetros!$AQ$3:$AR$57,2,FALSE),\"\")","v":""},null,{"$f":"IF(Datos_de_Tarjetas!L269=0,\"\",Datos_de_Tarjetas!L269)","v":""},{"$f":"IF(Datos_de_Tarjetas!M269=0,\"\",Datos_de_Tarjetas!M269)","v":""},{"$f":"IF(Datos_de_Tarjetas!N269=0,\"\",Datos_de_Tarjetas!N269)","v":""},{"$f":"IFERROR(VLOOKUP(Datos_de_Tarjetas!P269,Parámetros!$AM$3:$AN$90,2,FALSE),\"\")","v":""}]
[null,1069470000,{"$f":"IFERROR(VLOOKUP(Datos_de_Tarjetas!D270,Parámetros!$AD$12:$AE$17,2,FALSE),\"\")","v":""},{"$f":"IF(Datos_de_Tarjetas!G270=0,\"\",Datos_de_Tarjetas!G270)","v":""},{"$f":"IFERROR(VLOOKUP(Datos_de_Tarjetas!K270,Parámetros!$AJ$3:$AK$13,2,FALSE),\"\")","v":""},{"$f":"IFERROR(VLOOKUP(Datos_de_Tarjetas!J270,Parámetros!$AQ$3:$AR$57,2,FALSE),\"\")","v":""},null,{"$f":"IF(Datos_de_Tarjetas!L270=0,\"\",Datos_de_Tarjetas!L270)","v":""},{"$f":"IF(Datos_de_Tarjetas!M270=0,\"\",Datos_de_Tarjetas!M270)","v":""},{"$f":"IF(Datos_de_Tarjetas!N270=0,\"\",Datos_de_Tarjetas!N270)","v":""},{"$f":"IFERROR(VLOOKUP(Datos_de_Tarjetas!P270,Parámetros!$AM$3:$AN$90,2,FALSE),\"\")","v":""}]
[null,1069470000,{"$f":"IFERROR(VLOOKUP(Datos_de_Tarjetas!D271,Parámetros!$AD$12:$AE$17,2,FALSE),\"\")","v":""},{"$f":"IF(Datos_de_Tarjetas!G271=0,\"\",Datos_de_Tarjetas!G271)","v":""},{"$f":"IFERROR(VLOOKUP(Datos_de_Tarjetas!K271,Parámetros!$AJ$3:$AK$13,2,FALSE),\"\")","v":""},{"$f":"IFERROR(VLOOKUP(Datos_de_Tarjetas!J271,Parámetros!$AQ$3:$AR$57,2,FALSE),\"\")","v":""},null,{"$f":"IF(Datos_de_Tarjetas!L271=0,\"\",Datos_de_Tarjetas!L271)","v":""},{"$f":"IF(Datos_de_Tarjetas!M271=0,\"\",Datos_de_Tarjetas!M271)","v":""},{"$f":"IF(Datos_de_Tarjetas!N271=0,\"\",Datos_de_Tarjetas!N271)","v":""},{"$f":"IFERROR(VLOOKUP(Datos_de_Tarjetas!P271,Parámetros!$AM$3:$AN$90,2,FALSE),\"\")","v":""}]
[null,1069470000,{"$f":"IFERROR(VLOOKUP(Datos_de_Tarjetas!D272,Parámetros!$AD$12:$AE$17,2,FALSE),\"\")","v":""},{"$f":"IF(Datos_de_Tarjetas!G272=0,\"\",Datos_de_Tarjetas!G272)","v":""},{"$f":"IFERROR(VLOOKUP(Datos_de_Tarjetas!K272,Parámetros!$AJ$3:$AK$13,2,FALSE),\"\")","v":""},{"$f":"IFERROR(VLOOKUP(Datos_de_Tarjetas!J272,Parámetros!$AQ$3:$AR$57,2,FALSE),\"\")","v":""},null,{"$f":"IF(Datos_de_Tarjetas!L272=0,\"\",Datos_de_Tarjetas!L272)","v":""},{"$f":"IF(Datos_de_Tarjetas!M272=0,\"\",Datos_de_Tarjetas!M272)","v":""},{"$f":"IF(Datos_de_Tarjetas!N272=0,\"\",Datos_de_Tarjetas!N272)","v":""},{"$f":"IFERROR(VLOOKUP(Datos_de_Tarjetas!P272,Parámetros!$AM$3:$AN$90,2,FALSE),\"\")","v":""}]
[null,{"$f":"$C$2","v":1069470000},{"$f":"IFERROR(VLOOKUP(Datos_de_Tarjetas!D273,Parámetros!$AD$12:$AE$17,2,FALSE),\"\")","v":""},{"$f":"IF(Datos_de_Tarjetas!G273=0,\"\",Datos_de_Tarjetas!G273)","v":""},{"$f":"IFERROR(VLOOKUP(Datos_de_Tarjetas!K273,Parámetros!$AJ$3:$AK$13,2,FALSE),\"\")","v":""},{"$f":"IFERROR(VLOOKUP(Datos_de_Tarjetas!J273,Parámetros!$AQ$3:$AR$57,2,FALSE),\"\")","v":""},null,{"$f":"IF(Datos_de_Tarjetas!L273=0,\"\",Datos_de_Tarjetas!L273)","v":""},{"$f":"IF(Datos_de_Tarjetas!M273=0,\"\",Datos_de_Tarjetas!M273)","v":""},{"$f":"IF(Datos_de_Tarjetas!N273=0,\"\",Datos_de_Tarjetas!N273)","v":""},{"$f":"IFERROR(VLOOKUP(Datos_de_Tarjetas!P273,Parámetros!$AM$3:$AN$90,2,FALSE),\"\")","v":""}]
[null,1069470000,{"$f":"IFERROR(VLOOKUP(Datos_de_Tarjetas!D274,Parámetros!$AD$12:$AE$17,2,FALSE),\"\")","v":""},{"$f":"IF(Datos_de_Tarjetas!G274=0,\"\",Datos_de_Tarjetas!G274)","v":""},{"$f":"IFERROR(VLOOKUP(Datos_de_Tarjetas!K274,Parámetros!$AJ$3:$AK$13,2,FALSE),\"\")","v":""},{"$f":"IFERROR(VLOOKUP(Datos_de_Tarjetas!J274,Parámetros!$AQ$3:$AR$57,2,FALSE),\"\")","v":""},null,{"$f":"IF(Datos_de_Tarjetas!L274=0,\"\",Datos_de_Tarjetas!L274)","v":""},{"$f":"IF(Datos_de_Tarjetas!M274=0,\"\",Datos_de_Tarjetas!M274)","v":""},{"$f":"IF(Datos_de_Tarjetas!N274=0,\"\",Datos_de_Tarjetas!N274)","v":""},{"$f":"IFERROR(VLOOKUP(Datos_de_Tarjetas!P274,Parámetros!$AM$3:$AN$90,2,FALSE),\"\")","v":""}]
[null,1069470000,{"$f":"IFERROR(VLOOKUP(Datos_de_Tarjetas!D275,Parámetros!$AD$12:$AE$17,2,FALSE),\"\")","v":""},{"$f":"IF(Datos_de_Tarjetas!G275=0,\"\",Datos_de_Tarjetas!G275)","v":""},{"$f":"IFERROR(VLOOKUP(Datos_de_Tarjetas!K275,Parámetros!$AJ$3:$AK$13,2,FALSE),\"\")","v":""},{"$f":"IFERROR(VLOOKUP(Datos_de_Tarjetas!J275,Parámetros!$AQ$3:$AR$57,2,FALSE),\"\")","v":""},null,{"$f":"IF(Datos_de_Tarjetas!L275=0,\"\",Datos_de_Tarjetas!L275)","v":""},{"$f":"IF(Datos_de_Tarjetas!M275=0,\"\",Datos_de_Tarjetas!M275)","v":""},{"$f":"IF(Datos_de_Tarjetas!N275=0,\"\",Datos_de_Tarjetas!N275)","v":""},{"$f":"IFERROR(VLOOKUP(Datos_de_Tarjetas!P275,Parámetros!$AM$3:$AN$90,2,FALSE),\"\")","v":""}]
[null,1069470000,{"$f":"IFERROR(VLOOKUP(Datos_de_Tarjetas!D276,Parámetros!$AD$12:$AE$17,2,FALSE),\"\")","v":""},{"$f":"IF(Datos_de_Tarjetas!G276=0,\"\",Datos_de_Tarjetas!G276)","v":""},{"$f":"IFERROR(VLOOKUP(Datos_de_Tarjetas!K276,Parámetros!$AJ$3:$AK$13,2,FALSE),\"\")","v":""},{"$f":"IFERROR(VLOOKUP(Datos_de_Tarjetas!J276,Parámetros!$AQ$3:$AR$57,2,FALSE),\"\")","v":""},null,{"$f":"IF(Datos_de_Tarjetas!L276=0,\"\",Datos_de_Tarjetas!L276)","v":""},{"$f":"IF(Datos_de_Tarjetas!M276=0,\"\",Datos_de_Tarjetas!M276)","v":""},{"$f":"IF(Datos_de_Tarjetas!N276=0,\"\",Datos_de_Tarjetas!N276)","v":""},{"$f":"IFERROR(VLOOKUP(Datos_de_Tarjetas!P276,Parámetros!$AM$3:$AN$90,2,FALSE),\"\")","v":""}]
[null,1069470000,{"$f":"IFERROR(VLOOKUP(Datos_de_Tarjetas!D277,Parámetros!$AD$12:$AE$17,2,FALSE),\"\")","v":""},{"$f":"IF(Datos_de_Tarjetas!G277=0,\"\",Datos_de_Tarjetas!G277)","v":""},{"$f":"IFERROR(VLOOKUP(Datos_de_Tarjetas!K277,Parámetros!$AJ$3:$AK$13,2,FALSE),\"\")","v":""},{"$f":"IFERROR(VLOOKUP(Datos_de_Tarjetas!J277,Parámetros!$AQ$3:$AR$57,2,FALSE),\"\")","v":""},null,{"$f":"IF(Datos_de_Tarjetas!L277=0,\"\",Datos_de_Tarjetas!L277)","v":""},{"$f":"IF(Datos_de_Tarjetas!M277=0,\"\",Datos_de_Tarjetas!M277)","v":""},{"$f":"IF(Datos_de_Tarjetas!N277=0,\"\",Datos_de_Tarjetas!N277)","v":""},{"$f":"IFERROR(VLOOKUP(Datos_de_Tarjetas!P277,Parámetros!$AM$3:$AN$90,2,FALSE),\"\")","v":""}]
[null,1069470000,{"$f":"IFERROR(VLOOKUP(Datos_de_Tarjetas!D278,Parámetros!$AD$12:$AE$17,2,FALSE),\"\")","v":""},{"$f":"IF(Datos_de_Tarjetas!G278=0,\"\",Datos_de_Tarjetas!G278)","v":""},{"$f":"IFERROR(VLOOKUP(Datos_de_Tarjetas!K278,Parámetros!$AJ$3:$AK$13,2,FALSE),\"\")","v":""},{"$f":"IFERROR(VLOOKUP(Datos_de_Tarjetas!J278,Parámetros!$AQ$3:$AR$57,2,FALSE),\"\")","v":""},null,{"$f":"IF(Datos_de_Tarjetas!L278=0,\"\",Datos_de_Tarjetas!L278)","v":""},{"$f":"IF(Datos_de_Tarjetas!M278=0,\"\",Datos_de_Tarjetas!M278)","v":""},{"$f":"IF(Datos_de_Tarjetas!N278=0,\"\",Datos_de_Tarjetas!N278)","v":""},{"$f":"IFERROR(VLOOKUP(Datos_de_Tarjetas!P278,Parámetros!$AM$3:$AN$90,2,FALSE),\"\")","v":""}]
[null,1069470000,{"$f":"IFERROR(VLOOKUP(Datos_de_Tarjetas!D279,Parámetros!$AD$12:$AE$17,2,FALSE),\"\")","v":""},{"$f":"IF(Datos_de_Tarjetas!G279=0,\"\",Datos_de_Tarjetas!G279)","v":""},{"$f":"IFERROR(VLOOKUP(Datos_de_Tarjetas!K279,Parámetros!$AJ$3:$AK$13,2,FALSE),\"\")","v":""},{"$f":"IFERROR(VLOOKUP(Datos_de_Tarjetas!J279,Parámetros!$AQ$3:$AR$57,2,FALSE),\"\")","v":""},null,{"$f":"IF(Datos_de_Tarjetas!L279=0,\"\",Datos_de_Tarjetas!L279)","v":""},{"$f":"IF(Datos_de_Tarjetas!M279=0,\"\",Datos_de_Tarjetas!M279)","v":""},{"$f":"IF(Datos_de_Tarjetas!N279=0,\"\",Datos_de_Tarjetas!N279)","v":""},{"$f":"IFERROR(VLOOKUP(Datos_de_Tarjetas!P279,Parámetros!$AM$3:$AN$90,2,FALSE),\"\")","v":""}]
[null,1069470000,{"$f":"IFERROR(VLOOKUP(Datos_de_Tarjetas!D280,Parámetros!$AD$12:$AE$17,2,FALSE),\"\")","v":""},{"$f":"IF(Datos_de_Tarjetas!G280=0,\"\",Datos_de_Tarjetas!G280)","v":""},{"$f":"IFERROR(VLOOKUP(Datos_de_Tarjetas!K280,Parámetros!$AJ$3:$AK$13,2,FALSE),\"\")","v":""},{"$f":"IFERROR(VLOOKUP(Datos_de_Tarjetas!J280,Parámetros!$AQ$3:$AR$57,2,FALSE),\"\")","v":""},null,{"$f":"IF(Datos_de_Tarjetas!L280=0,\"\",Datos_de_Tarjetas!L280)","v":""},{"$f":"IF(Datos_de_Tarjetas!M280=0,\"\",Datos_de_Tarjetas!M280)","v":""},{"$f":"IF(Datos_de_Tarjetas!N280=0,\"\",Datos_de_Tarjetas!N280)","v":""},{"$f":"IFERROR(VLOOKUP(Datos_de_Tarjetas!P280,Parámetros!$AM$3:$AN$90,2,FALSE),\"\")","v":""}]
[null,1069470000,{"$f":"IFERROR(VLOOKUP(Datos_de_Tarjetas!D281,Parámetros!$AD$12:$AE$17,2,FALSE),\"\")","v":""},{"$f":"IF(Datos_de_Tarjetas!G281=0,\"\",Datos_de_Tarjetas!G281)","v":""},{"$f":"IFERROR(VLOOKUP(Datos_de_Tarjetas!K281,Parámetros!$AJ$3:$AK$13,2,FALSE),\"\")","v":""},{"$f":"IFERROR(VLOOKUP(Datos_de_Tarjetas!J281,Parámetros!$AQ$3:$AR$57,2,FALSE),\"\")","v":""},null,{"$f":"IF(Datos_de_Tarjetas!L281=0,\"\",Datos_de_Tarjetas!L281)","v":""},{"$f":"IF(Datos_de_Tarjetas!M281=0,\"\",Datos_de_Tarjetas!M281)","v":""},{"$f":"IF(Datos_de_Tarjetas!N281=0,\"\",Datos_de_Tarjetas!N281)","v":""},{"$f":"IFERROR(VLOOKUP(Datos_de_Tarjetas!P281,Parámetros!$AM$3:$AN$90,2,FALSE),\"\")","v":""}]
[null,1069470000,{"$f":"IFERROR(VLOOKUP(Datos_de_Tarjetas!D282,Parámetros!$AD$12:$AE$17,2,FALSE),\"\")","v":""},{"$f":"IF(Datos_de_Tarjetas!G282=0,\"\",Datos_de_Tarjetas!G282)","v":""},{"$f":"IFERROR(VLOOKUP(Datos_de_Tarjetas!K282,Parámetros!$AJ$3:$AK$13,2,FALSE),\"\")","v":""},{"$f":"IFERROR(VLOOKUP(Datos_de_Tarjetas!J282,Parámetros!$AQ$3:$AR$57,2,FALSE),\"\")","v":""},null,{"$f":"IF(Datos_de_Tarjetas!L282=0,\"\",Datos_de_Tarjetas!L282)","v":""},{"$f":"IF(Datos_de_Tarjetas!M282=0,\"\",Datos_de_Tarjetas!M282)","v":""},{"$f":"IF(Datos_de_Tarjetas!N282=0,\"\",Datos_de_Tarjetas!N282)","v":""},{"$f":"IFERROR(VLOOKUP(Datos_de_Tarjetas!P282,Parámetros!$AM$3:$AN$90,2,FALSE),\"\")","v":""}]
[null,1069470000,{"$f":"IFERROR(VLOOKUP(Datos_de_Tarjetas!D283,Parámetros!$AD$12:$AE$17,2,FALSE),\"\")","v":""},{"$f":"IF(Datos_de_Tarjetas!G283=0,\"\",Datos_de_Tarjetas!G283)","v":""},{"$f":"IFERROR(VLOOKUP(Datos_de_Tarjetas!K283,Parámetros!$AJ$3:$AK$13,2,FALSE),\"\")","v":""},{"$f":"IFERROR(VLOOKUP(Datos_de_Tarjetas!J283,Parámetros!$AQ$3:$AR$57,2,FALSE),\"\")","v":""},null,{"$f":"IF(Datos_de_Tarjetas!L283=0,\"\",Datos_de_Tarjetas!L283)","v":""},{"$f":"IF(Datos_de_Tarjetas!M283=0,\"\",Datos_de_Tarjetas!M283)","v":""},{"$f":"IF(Datos_de_Tarjetas!N283=0,\"\",Datos_de_Tarjetas!N283)","v":""},{"$f":"IFERROR(VLOOKUP(Datos_de_Tarjetas!P283,Parámetros!$AM$3:$AN$90,2,FALSE),\"\")","v":""}]
[null,1069470000,{"$f":"IFERROR(VLOOKUP(Datos_de_Tarjetas!D284,Parámetros!$AD$12:$AE$17,2,FALSE),\"\")","v":""},{"$f":"IF(Datos_de_Tarjetas!G284=0,\"\",Datos_de_Tarjetas!G284)","v":""},{"$f":"IFERROR(VLOOKUP(Datos_de_Tarjetas!K284,Parámetros!$AJ$3:$AK$13,2,FALSE),\"\")","v":""},{"$f":"IFERROR(VLOOKUP(Datos_de_Tarjetas!J284,Parámetros!$AQ$3:$AR$57,2,FALSE),\"\")","v":""},null,{"$f":"IF(Datos_de_Tarjetas!L284=0,\"\",Datos_de_Tarjetas!L284)","v":""},{"$f":"IF(Datos_de_Tarjetas!M284=0,\"\",Datos_de_Tarjetas!M284)","v":""},{"$f":"IF(Datos_de_Tarjetas!N284=0,\"\",Datos_de_Tarjetas!N284)","v":""},{"$f":"IFERROR(VLOOKUP(Datos_de_Tarjetas!P284,Parámetros!$AM$3:$AN$90,2,FALSE),\"\")","v":""}]
[null,1069470000,{"$f":"IFERROR(VLOOKUP(Datos_de_Tarjetas!D285,Parámetros!$AD$12:$AE$17,2,FALSE),\"\")","v":""},{"$f":"IF(Datos_de_Tarjetas!G285=0,\"\",Datos_de_Tarjetas!G285)","v":""},{"$f":"IFERROR(VLOOKUP(Datos_de_Tarjetas!K285,Parámetros!$AJ$3:$AK$13,2,FALSE),\"\")","v":""},{"$f":"IFERROR(VLOOKUP(Datos_de_Tarjetas!J285,Parámetros!$AQ$3:$AR$57,2,FALSE),\"\")","v":""},null,{"$f":"IF(Datos_de_Tarjetas!L285=0,\"\",Datos_de_Tarjetas!L285)","v":""},{"$f":"IF(Datos_de_Tarjetas!M285=0,\"\",Datos_de_Tarjetas!M285)","v":""},{"$f":"IF(Datos_de_Tarjetas!N285=0,\"\",Datos_de_Tarjetas!N285)","v":""},{"$f":"IFERROR(VLOOKUP(Datos_de_Tarjetas!P285,Parámetros!$AM$3:$AN$90,2,FALSE),\"\")","v":""}]
[null,1069470000,{"$f":"IFERROR(VLOOKUP(Datos_de_Tarjetas!D286,Parámetros!$AD$12:$AE$17,2,FALSE),\"\")","v":""},{"$f":"IF(Datos_de_Tarjetas!G286=0,\"\",Datos_de_Tarjetas!G286)","v":""},{"$f":"IFERROR(VLOOKUP(Datos_de_Tarjetas!K286,Parámetros!$AJ$3:$AK$13,2,FALSE),\"\")","v":""},{"$f":"IFERROR(VLOOKUP(Datos_de_Tarjetas!J286,Parámetros!$AQ$3:$AR$57,2,FALSE),\"\")","v":""},null,{"$f":"IF(Datos_de_Tarjetas!L286=0,\"\",Datos_de_Tarjetas!L286)","v":""},{"$f":"IF(Datos_de_Tarjetas!M286=0,\"\",Datos_de_Tarjetas!M286)","v":""},{"$f":"IF(Datos_de_Tarjetas!N286=0,\"\",Datos_de_Tarjetas!N286)","v":""},{"$f":"IFERROR(VLOOKUP(Datos_de_Tarjetas!P286,Parámetros!$AM$3:$AN$90,2,FALSE),\"\")","v":""}]
[null,1069470000,{"$f":"IFERROR(VLOOKUP(Datos_de_Tarjetas!D287,Parámetros!$AD$12:$AE$17,2,FALSE),\"\")","v":""},{"$f":"IF(Datos_de_Tarjetas!G287=0,\"\",Datos_de_Tarjetas!G287)","v":""},{"$f":"IFERROR(VLOOKUP(Datos_de_Tarjetas!K287,Parámetros!$AJ$3:$AK$13,2,FALSE),\"\")","v":""},{"$f":"IFERROR(VLOOKUP(Datos_de_Tarjetas!J287,Parámetros!$AQ$3:$AR$57,2,FALSE),\"\")","v":""},null,{"$f":"IF(Datos_de_Tarjetas!L287=0,\"\",Datos_de_Tarjetas!L287)","v":""},{"$f":"IF(Datos_de_Tarjetas!M287=0,\"\",Datos_de_Tarjetas!M287)","v":""},{"$f":"IF(Datos_de_Tarjetas!N287=0,\"\",Datos_de_Tarjetas!N287)","v":""},{"$f":"IFERROR(VLOOKUP(Datos_de_Tarjetas!P287,Parámetros!$AM$3:$AN$90,2,FALSE),\"\")","v":""}]
[null,1069470000,{"$f":"IFERROR(VLOOKUP(Datos_de_Tarjetas!D288,Parámetros!$AD$12:$AE$17,2,FALSE),\"\")","v":""},{"$f":"IF(Datos_de_Tarjetas!G288=0,\"\",Datos_de_Tarjetas!G288)","v":""},{"$f":"IFERROR(VLOOKUP(Datos_de_Tarjetas!K288,Parámetros!$AJ$3:$AK$13,2,FALSE),\"\")","v":""},{"$f":"IFERROR(VLOOKUP(Datos_de_Tarjetas!J288,Parámetros!$AQ$3:$AR$57,2,FALSE),\"\")","v":""},null,{"$f":"IF(Datos_de_Tarjetas!L288=0,\"\",Datos_de_Tarjetas!L288)","v":""},{"$f":"IF(Datos_de_Tarjetas!M288=0,\"\",Datos_de_Tarjetas!M288)","v":""},{"$f":"IF(Datos_de_Tarjetas!N288=0,\"\",Datos_de_Tarjetas!N288)","v":""},{"$f":"IFERROR(VLOOKUP(Datos_de_Tarjetas!P288,Parámetros!$AM$3:$AN$90,2,FALSE),\"\")","v":""}]
[null,1069470000,{"$f":"IFERROR(VLOOKUP(Datos_de_Tarjetas!D289,Parámetros!$AD$12:$AE$17,2,FALSE),\"\")","v":""},{"$f":"IF(Datos_de_Tarjetas!G289=0,\"\",Datos_de_Tarjetas!G289)","v":""},{"$f":"IFERROR(VLOOKUP(Datos_de_Tarjetas!K289,Parámetros!$AJ$3:$AK$13,2,FALSE),\"\")","v":""},{"$f":"IFERROR(VLOOKUP(Datos_de_Tarjetas!J289,Parámetros!$AQ$3:$AR$57,2,FALSE),\"\")","v":""},null,{"$f":"IF(Datos_de_Tarjetas!L289=0,\"\",Datos_de_Tarjetas!L289)","v":""},{"$f":"IF(Datos_de_Tarjetas!M289=0,\"\",Datos_de_Tarjetas!M289)","v":""},{"$f":"IF(Datos_de_Tarjetas!N289=0,\"\",Datos_de_Tarjetas!N289)","v":""},{"$f":"IFERROR(VLOOKUP(Datos_de_Tarjetas!P289,Parámetros!$AM$3:$AN$90,2,FALSE),\"\")","v":""}]
[null,1069470000,{"$f":"IFERROR(VLOOKUP(Datos_de_Tarjetas!D290,Parámetros!$AD$12:$AE$17,2,FALSE),\"\")","v":""},{"$f":"IF(Datos_de_Tarjetas!G290=0,\"\",Datos_de_Tarjetas!G290)","v":""},{"$f":"IFERROR(VLOOKUP(Datos_de_Tarjetas!K290,Parámetros!$AJ$3:$AK$13,2,FALSE),\"\")","v":""},{"$f":"IFERROR(VLOOKUP(Datos_de_Tarjetas!J290,Parámetros!$AQ$3:$AR$57,2,FALSE),\"\")","v":""},null,{"$f":"IF(Datos_de_Tarjetas!L290=0,\"\",Datos_de_Tarjetas!L290)","v":""},{"$f":"IF(Datos_de_Tarjetas!M290=0,\"\",Datos_de_Tarjetas!M290)","v":""},{"$f":"IF(Datos_de_Tarjetas!N290=0,\"\",Datos_de_Tarjetas!N290)","v":""},{"$f":"IFERROR(VLOOKUP(Datos_de_Tarjetas!P290,Parámetros!$AM$3:$AN$90,2,FALSE),\"\")","v":""}]
[null,1069470000,{"$f":"IFERROR(VLOOKUP(Datos_de_Tarjetas!D291,Parámetros!$AD$12:$AE$17,2,FALSE),\"\")","v":""},{"$f":"IF(Datos_de_Tarjetas!G291=0,\"\",Datos_de_Tarjetas!G291)","v":""},{"$f":"IFERROR(VLOOKUP(Datos_de_Tarjetas!K291,Parámetros!$AJ$3:$AK$13,2,FALSE),\"\")","v":""},{"$f":"IFERROR(VLOOKUP(Datos_de_Tarjetas!J291,Parámetros!$AQ$3:$AR$57,2,FALSE),\"\")","v":""},null,{"$f":"IF(Datos_de_Tarjetas!L291=0,\"\",Datos_de_Tarjetas!L291)","v":""},{"$f":"IF(Datos_de_Tarjetas!M291=0,\"\",Datos_de_Tarjetas!M291)","v":""},{"$f":"IF(Datos_de_Tarjetas!N291=0,\"\",Datos_de_Tarjetas!N291)","v":""},{"$f":"IFERROR(VLOOKUP(Datos_de_Tarjetas!P291,Parámetros!$AM$3:$AN$90,2,FALSE),\"\")","v":""}]
[null,1069470000,{"$f":"IFERROR(VLOOKUP(Datos_de_Tarjetas!D292,Parámetros!$AD$12:$AE$17,2,FALSE),\"\")","v":""},{"$f":"IF(Datos_de_Tarjetas!G292=0,\"\",Datos_de_Tarjetas!G292)","v":""},{"$f":"IFERROR(VLOOKUP(Datos_de_Tarjetas!K292,Parámetros!$AJ$3:$AK$13,2,FALSE),\"\")","v":""},{"$f":"IFERROR(VLOOKUP(Datos_de_Tarjetas!J292,Parámetros!$AQ$3:$AR$57,2,FALSE),\"\")","v":""},null,{"$f":"IF(Datos_de_Tarjetas!L292=0,\"\",Datos_de_Tarjetas!L292)","v":""},{"$f":"IF(Datos_de_Tarjetas!M292=0,\"\",Datos_de_Tarjetas!M292)","v":""},{"$f":"IF(Datos_de_Tarjetas!N292=0,\"\",Datos_de_Tarjetas!N292)","v":""},{"$f":"IFERROR(VLOOKUP(Datos_de_Tarjetas!P292,Parámetros!$AM$3:$AN$90,2,FALSE),\"\")","v":""}]
[null,1069470000,{"$f":"IFERROR(VLOOKUP(Datos_de_Tarjetas!D293,Parámetros!$AD$12:$AE$17,2,FALSE),\"\")","v":""},{"$f":"IF(Datos_de_Tarjetas!G293=0,\"\",Datos_de_Tarjetas!G293)","v":""},{"$f":"IFERROR(VLOOKUP(Datos_de_Tarjetas!K293,Parámetros!$AJ$3:$AK$13,2,FALSE),\"\")","v":""},{"$f":"IFERROR(VLOOKUP(Datos_de_Tarjetas!J293,Parámetros!$AQ$3:$AR$57,2,FALSE),\"\")","v":""},null,{"$f":"IF(Datos_de_Tarjetas!L293=0,\"\",Datos_de_Tarjetas!L293)","v":""},{"$f":"IF(Datos_de_Tarjetas!M293=0,\"\",Datos_de_Tarjetas!M293)","v":""},{"$f":"IF(Datos_de_Tarjetas!N293=0,\"\",Datos_de_Tarjetas!N293)","v":""},{"$f":"IFERROR(VLOOKUP(Datos_de_Tarjetas!P293,Parámetros!$AM$3:$AN$90,2,FALSE),\"\")","v":""}]
[null,1069470000,{"$f":"IFERROR(VLOOKUP(Datos_de_Tarjetas!D294,Parámetros!$AD$12:$AE$17,2,FALSE),\"\")","v":""},{"$f":"IF(Datos_de_Tarjetas!G294=0,\"\",Datos_de_Tarjetas!G294)","v":""},{"$f":"IFERROR(VLOOKUP(Datos_de_Tarjetas!K294,Parámetros!$AJ$3:$AK$13,2,FALSE),\"\")","v":""},{"$f":"IFERROR(VLOOKUP(Datos_de_Tarjetas!J294,Parámetros!$AQ$3:$AR$57,2,FALSE),\"\")","v":""},null,{"$f":"IF(Datos_de_Tarjetas!L294=0,\"\",Datos_de_Tarjetas!L294)","v":""},{"$f":"IF(Datos_de_Tarjetas!M294=0,\"\",Datos_de_Tarjetas!M294)","v":""},{"$f":"IF(Datos_de_Tarjetas!N294=0,\"\",Datos_de_Tarjetas!N294)","v":""},{"$f":"IFERROR(VLOOKUP(Datos_de_Tarjetas!P294,Parámetros!$AM$3:$AN$90,2,FALSE),\"\")","v":""}]
[null,1069470000,{"$f":"IFERROR(VLOOKUP(Datos_de_Tarjetas!D295,Parámetros!$AD$12:$AE$17,2,FALSE),\"\")","v":""},{"$f":"IF(Datos_de_Tarjetas!G295=0,\"\",Datos_de_Tarjetas!G295)","v":""},{"$f":"IFERROR(VLOOKUP(Datos_de_Tarjetas!K295,Parámetros!$AJ$3:$AK$13,2,FALSE),\"\")","v":""},{"$f":"IFERROR(VLOOKUP(Datos_de_Tarjetas!J295,Parámetros!$AQ$3:$AR$57,2,FALSE),\"\")","v":""},null,{"$f":"IF(Datos_de_Tarjetas!L295=0,\"\",Datos_de_Tarjetas!L295)","v":""},{"$f":"IF(Datos_de_Tarjetas!M295=0,\"\",Datos_de_Tarjetas!M295)","v":""},{"$f":"IF(Datos_de_Tarjetas!N295=0,\"\",Datos_de_Tarjetas!N295)","v":""},{"$f":"IFERROR(VLOOKUP(Datos_de_Tarjetas!P295,Parámetros!$AM$3:$AN$90,2,FALSE),\"\")","v":""}]
[null,1069470000,{"$f":"IFERROR(VLOOKUP(Datos_de_Tarjetas!D296,Parámetros!$AD$12:$AE$17,2,FALSE),\"\")","v":""},{"$f":"IF(Datos_de_Tarjetas!G296=0,\"\",Datos_de_Tarjetas!G296)","v":""},{"$f":"IFERROR(VLOOKUP(Datos_de_Tarjetas!K296,Parámetros!$AJ$3:$AK$13,2,FALSE),\"\")","v":""},{"$f":"IFERROR(VLOOKUP(Datos_de_Tarjetas!J296,Parámetros!$AQ$3:$AR$57,2,FALSE),\"\")","v":""},null,{"$f":"IF(Datos_de_Tarjetas!L296=0,\"\",Datos_de_Tarjetas!L296)","v":""},{"$f":"IF(Datos_de_Tarjetas!M296=0,\"\",Datos_de_Tarjetas!M296)","v":""},{"$f":"IF(Datos_de_Tarjetas!N296=0,\"\",Datos_de_Tarjetas!N296)","v":""},{"$f":"IFERROR(VLOOKUP(Datos_de_Tarjetas!P296,Parámetros!$AM$3:$AN$90,2,FALSE),\"\")","v":""}]
[null,1069470000,{"$f":"IFERROR(VLOOKUP(Datos_de_Tarjetas!D297,Parámetros!$AD$12:$AE$17,2,FALSE),\"\")","v":""},{"$f":"IF(Datos_de_Tarjetas!G297=0,\"\",Datos_de_Tarjetas!G297)","v":""},{"$f":"IFERROR(VLOOKUP(Datos_de_Tarjetas!K297,Parámetros!$AJ$3:$AK$13,2,FALSE),\"\")","v":""},{"$f":"IFERROR(VLOOKUP(Datos_de_Tarjetas!J297,Parámetros!$AQ$3:$AR$57,2,FALSE),\"\")","v":""},null,{"$f":"IF(Datos_de_Tarjetas!L297=0,\"\",Datos_de_Tarjetas!L297)","v":""},{"$f":"IF(Datos_de_Tarjetas!M297=0,\"\",Datos_de_Tarjetas!M297)","v":""},{"$f":"IF(Datos_de_Tarjetas!N297=0,\"\",Datos_de_Tarjetas!N297)","v":""},{"$f":"IFERROR(VLOOKUP(Datos_de_Tarjetas!P297,Parámetros!$AM$3:$AN$90,2,FALSE),\"\")","v":""}]
[null,1069470000,{"$f":"IFERROR(VLOOKUP(Datos_de_Tarjetas!D298,Parámetros!$AD$12:$AE$17,2,FALSE),\"\")","v":""},{"$f":"IF(Datos_de_Tarjetas!G298=0,\"\",Datos_de_Tarjetas!G298)","v":""},{"$f":"IFERROR(VLOOKUP(Datos_de_Tarjetas!K298,Parámetros!$AJ$3:$AK$13,2,FALSE),\"\")","v":""},{"$f":"IFERROR(VLOOKUP(Datos_de_Tarjetas!J298,Parámetros!$AQ$3:$AR$57,2,FALSE),\"\")","v":""},null,{"$f":"IF(Datos_de_Tarjetas!L298=0,\"\",Datos_de_Tarjetas!L298)","v":""},{"$f":"IF(Datos_de_Tarjetas!M298=0,\"\",Datos_de_Tarjetas!M298)","v":""},{"$f":"IF(Datos_de_Tarjetas!N298=0,\"\",Datos_de_Tarjetas!N298)","v":""},{"$f":"IFERROR(VLOOKUP(Datos_de_Tarjetas!P298,Parámetros!$AM$3:$AN$90,2,FALSE),\"\")","v":""}]
[null,1069470000,{"$f":"IFERROR(VLOOKUP(Datos_de_Tarjetas!D299,Parámetros!$AD$12:$AE$17,2,FALSE),\"\")","v":""},{"$f":"IF(Datos_de_Tarjetas!G299=0,\"\",Datos_de_Tarjetas!G299)","v":""},{"$f":"IFERROR(VLOOKUP(Datos_de_Tarjetas!K299,Parámetros!$AJ$3:$AK$13,2,FALSE),\"\")","v":""},{"$f":"IFERROR(VLOOKUP(Datos_de_Tarjetas!J299,Parámetros!$AQ$3:$AR$57,2,FALSE),\"\")","v":""},null,{"$f":"IF(Datos_de_Tarjetas!L299=0,\"\",Datos_de_Tarjetas!L299)","v":""},{"$f":"IF(Datos_de_Tarjetas!M299=0,\"\",Datos_de_Tarjetas!M299)","v":""},{"$f":"IF(Datos_de_Tarjetas!N299=0,\"\",Datos_de_Tarjetas!N299)","v":""},{"$f":"IFERROR(VLOOKUP(Datos_de_Tarjetas!P299,Parámetros!$AM$3:$AN$90,2,FALSE),\"\")","v":""}]
[null,1069470000,{"$f":"IFERROR(VLOOKUP(Datos_de_Tarjetas!D300,Parámetros!$AD$12:$AE$17,2,FALSE),\"\")","v":""},{"$f":"IF(Datos_de_Tarjetas!G300=0,\"\",Datos_de_Tarjetas!G300)","v":""},{"$f":"IFERROR(VLOOKUP(Datos_de_Tarjetas!K300,Parámetros!$AJ$3:$AK$13,2,FALSE),\"\")","v":""},{"$f":"IFERROR(VLOOKUP(Datos_de_Tarjetas!J300,Parámetros!$AQ$3:$AR$57,2,FALSE),\"\")","v":""},null,{"$f":"IF(Datos_de_Tarjetas!L300=0,\"\",Datos_de_Tarjetas!L300)","v":""},{"$f":"IF(Datos_de_Tarjetas!M300=0,\"\",Datos_de_Tarjetas!M300)","v":""},{"$f":"IF(Datos_de_Tarjetas!N300=0,\"\",Datos_de_Tarjetas!N300)","v":""},{"$f":"IFERROR(VLOOKUP(Datos_de_Tarjetas!P300,Parámetros!$AM$3:$AN$90,2,FALSE),\"\")","v":""}]
[null,1069470000,{"$f":"IFERROR(VLOOKUP(Datos_de_Tarjetas!D301,Parámetros!$AD$12:$AE$17,2,FALSE),\"\")","v":""},{"$f":"IF(Datos_de_Tarjetas!G301=0,\"\",Datos_de_Tarjetas!G301)","v":""},{"$f":"IFERROR(VLOOKUP(Datos_de_Tarjetas!K301,Parámetros!$AJ$3:$AK$13,2,FALSE),\"\")","v":""},{"$f":"IFERROR(VLOOKUP(Datos_de_Tarjetas!J301,Parámetros!$AQ$3:$AR$57,2,FALSE),\"\")","v":""},null,{"$f":"IF(Datos_de_Tarjetas!L301=0,\"\",Datos_de_Tarjetas!L301)","v":""},{"$f":"IF(Datos_de_Tarjetas!M301=0,\"\",Datos_de_Tarjetas!M301)","v":""},{"$f":"IF(Datos_de_Tarjetas!N301=0,\"\",Datos_de_Tarjetas!N301)","v":""},{"$f":"IFERROR(VLOOKUP(Datos_de_Tarjetas!P301,Parámetros!$AM$3:$AN$90,2,FALSE),\"\")","v":""}]
[null,1069470000,{"$f":"IFERROR(VLOOKUP(Datos_de_Tarjetas!D302,Parámetros!$AD$12:$AE$17,2,FALSE),\"\")","v":""},{"$f":"IF(Datos_de_Tarjetas!G302=0,\"\",Datos_de_Tarjetas!G302)","v":""},{"$f":"IFERROR(VLOOKUP(Datos_de_Tarjetas!K302,Parámetros!$AJ$3:$AK$13,2,FALSE),\"\")","v":""},{"$f":"IFERROR(VLOOKUP(Datos_de_Tarjetas!J302,Parámetros!$AQ$3:$AR$57,2,FALSE),\"\")","v":""},null,{"$f":"IF(Datos_de_Tarjetas!L302=0,\"\",Datos_de_Tarjetas!L302)","v":""},{"$f":"IF(Datos_de_Tarjetas!M302=0,\"\",Datos_de_Tarjetas!M302)","v":""},{"$f":"IF(Datos_de_Tarjetas!N302=0,\"\",Datos_de_Tarjetas!N302)","v":""},{"$f":"IFERROR(VLOOKUP(Datos_de_Tarjetas!P302,Parámetros!$AM$3:$AN$90,2,FALSE),\"\")","v":""}]
[null,1069470000,{"$f":"IFERROR(VLOOKUP(Datos_de_Tarjetas!D303,Parámetros!$AD$12:$AE$17,2,FALSE),\"\")","v":""},{"$f":"IF(Datos_de_Tarjetas!G303=0,\"\",Datos_de_Tarjetas!G303)","v":""},{"$f":"IFERROR(VLOOKUP(Datos_de_Tarjetas!K303,Parámetros!$AJ$3:$AK$13,2,FALSE),\"\")","v":""},{"$f":"IFERROR(VLOOKUP(Datos_de_Tarjetas!J303,Parámetros!$AQ$3:$AR$57,2,FALSE),\"\")","v":""},null,{"$f":"IF(Datos_de_Tarjetas!L303=0,\"\",Datos_de_Tarjetas!L303)","v":""},{"$f":"IF(Datos_de_Tarjetas!M303=0,\"\",Datos_de_Tarjetas!M303)","v":""},{"$f":"IF(Datos_de_Tarjetas!N303=0,\"\",Datos_de_Tarjetas!N303)","v":""},{"$f":"IFERROR(VLOOKUP(Datos_de_Tarjetas!P303,Parámetros!$AM$3:$AN$90,2,FALSE),\"\")","v":""}]
[null,1069470000,{"$f":"IFERROR(VLOOKUP(Datos_de_Tarjetas!D304,Parámetros!$AD$12:$AE$17,2,FALSE),\"\")","v":""},{"$f":"IF(Datos_de_Tarjetas!G304=0,\"\",Datos_de_Tarjetas!G304)","v":""},{"$f":"IFERROR(VLOOKUP(Datos_de_Tarjetas!K304,Parámetros!$AJ$3:$AK$13,2,FALSE),\"\")","v":""},{"$f":"IFERROR(VLOOKUP(Datos_de_Tarjetas!J304,Parámetros!$AQ$3:$AR$57,2,FALSE),\"\")","v":""},null,{"$f":"IF(Datos_de_Tarjetas!L304=0,\"\",Datos_de_Tarjetas!L304)","v":""},{"$f":"IF(Datos_de_Tarjetas!M304=0,\"\",Datos_de_Tarjetas!M304)","v":""},{"$f":"IF(Datos_de_Tarjetas!N304=0,\"\",Datos_de_Tarjetas!N304)","v":""},{"$f":"IFERROR(VLOOKUP(Datos_de_Tarjetas!P304,Parámetros!$AM$3:$AN$90,2,FALSE),\"\")","v":""}]
[null,1069470000,{"$f":"IFERROR(VLOOKUP(Datos_de_Tarjetas!D305,Parámetros!$AD$12:$AE$17,2,FALSE),\"\")","v":""},{"$f":"IF(Datos_de_Tarjetas!G305=0,\"\",Datos_de_Tarjetas!G305)","v":""},{"$f":"IFERROR(VLOOKUP(Datos_de_Tarjetas!K305,Parámetros!$AJ$3:$AK$13,2,FALSE),\"\")","v":""},{"$f":"IFERROR(VLOOKUP(Datos_de_Tarjetas!J305,Parámetros!$AQ$3:$AR$57,2,FALSE),\"\")","v":""},null,{"$f":"IF(Datos_de_Tarjetas!L305=0,\"\",Datos_de_Tarjetas!L305)","v":""},{"$f":"IF(Datos_de_Tarjetas!M305=0,\"\",Datos_de_Tarjetas!M305)","v":""},{"$f":"IF(Datos_de_Tarjetas!N305=0,\"\",Datos_de_Tarjetas!N305)","v":""},{"$f":"IFERROR(VLOOKUP(Datos_de_Tarjetas!P305,Parámetros!$AM$3:$AN$90,2,FALSE),\"\")","v":""}]
[null,1069470000,{"$f":"IFERROR(VLOOKUP(Datos_de_Tarjetas!D306,Parámetros!$AD$12:$AE$17,2,FALSE),\"\")","v":""},{"$f":"IF(Datos_de_Tarjetas!G306=0,\"\",Datos_de_Tarjetas!G306)","v":""},{"$f":"IFERROR(VLOOKUP(Datos_de_Tarjetas!K306,Parámetros!$AJ$3:$AK$13,2,FALSE),\"\")","v":""},{"$f":"IFERROR(VLOOKUP(Datos_de_Tarjetas!J306,Parámetros!$AQ$3:$AR$57,2,FALSE),\"\")","v":""},null,{"$f":"IF(Datos_de_Tarjetas!L306=0,\"\",Datos_de_Tarjetas!L306)","v":""},{"$f":"IF(Datos_de_Tarjetas!M306=0,\"\",Datos_de_Tarjetas!M306)","v":""},{"$f":"IF(Datos_de_Tarjetas!N306=0,\"\",Datos_de_Tarjetas!N306)","v":""},{"$f":"IFERROR(VLOOKUP(Datos_de_Tarjetas!P306,Parámetros!$AM$3:$AN$90,2,FALSE),\"\")","v":""}]
[null,1069470000,{"$f":"IFERROR(VLOOKUP(Datos_de_Tarjetas!D307,Parámetros!$AD$12:$AE$17,2,FALSE),\"\")","v":""},{"$f":"IF(Datos_de_Tarjetas!G307=0,\"\",Datos_de_Tarjetas!G307)","v":""},{"$f":"IFERROR(VLOOKUP(Datos_de_Tarjetas!K307,Parámetros!$AJ$3:$AK$13,2,FALSE),\"\")","v":""},{"$f":"IFERROR(VLOOKUP(Datos_de_Tarjetas!J307,Parámetros!$AQ$3:$AR$57,2,FALSE),\"\")","v":""},null,{"$f":"IF(Datos_de_Tarjetas!L307=0,\"\",Datos_de_Tarjetas!L307)","v":""},{"$f":"IF(Datos_de_Tarjetas!M307=0,\"\",Datos_de_Tarjetas!M307)","v":""},{"$f":"IF(Datos_de_Tarjetas!N307=0,\"\",Datos_de_Tarjetas!N307)","v":""},{"$f":"IFERROR(VLOOKUP(Datos_de_Tarjetas!P307,Parámetros!$AM$3:$AN$90,2,FALSE),\"\")","v":""}]
[null,1069470000,{"$f":"IFERROR(VLOOKUP(Datos_de_Tarjetas!D308,Parámetros!$AD$12:$AE$17,2,FALSE),\"\")","v":""},{"$f":"IF(Datos_de_Tarjetas!G308=0,\"\",Datos_de_Tarjetas!G308)","v":""},{"$f":"IFERROR(VLOOKUP(Datos_de_Tarjetas!K308,Parámetros!$AJ$3:$AK$13,2,FALSE),\"\")","v":""},{"$f":"IFERROR(VLOOKUP(Datos_de_Tarjetas!J308,Parámetros!$AQ$3:$AR$57,2,FALSE),\"\")","v":""},null,{"$f":"IF(Datos_de_Tarjetas!L308=0,\"\",Datos_de_Tarjetas!L308)","v":""},{"$f":"IF(Datos_de_Tarjetas!M308=0,\"\",Datos_de_Tarjetas!M308)","v":""},{"$f":"IF(Datos_de_Tarjetas!N308=0,\"\",Datos_de_Tarjetas!N308)","v":""},{"$f":"IFERROR(VLOOKUP(Datos_de_Tarjetas!P308,Parámetros!$AM$3:$AN$90,2,FALSE),\"\")","v":""}]
[null,1069470000,{"$f":"IFERROR(VLOOKUP(Datos_de_Tarjetas!D309,Parámetros!$AD$12:$AE$17,2,FALSE),\"\")","v":""},{"$f":"IF(Datos_de_Tarjetas!G309=0,\"\",Datos_de_Tarjetas!G309)","v":""},{"$f":"IFERROR(VLOOKUP(Datos_de_Tarjetas!K309,Parámetros!$AJ$3:$AK$13,2,FALSE),\"\")","v":""},{"$f":"IFERROR(VLOOKUP(Datos_de_Tarjetas!J309,Parámetros!$AQ$3:$AR$57,2,FALSE),\"\")","v":""},null,{"$f":"IF(Datos_de_Tarjetas!L309=0,\"\",Datos_de_Tarjetas!L309)","v":""},{"$f":"IF(Datos_de_Tarjetas!M309=0,\"\",Datos_de_Tarjetas!M309)","v":""},{"$f":"IF(Datos_de_Tarjetas!N309=0,\"\",Datos_de_Tarjetas!N309)","v":""},{"$f":"IFERROR(VLOOKUP(Datos_de_Tarjetas!P309,Parámetros!$AM$3:$AN$90,2,FALSE),\"\")","v":""}]
[null,1069470000,{"$f":"IFERROR(VLOOKUP(Datos_de_Tarjetas!D310,Parámetros!$AD$12:$AE$17,2,FALSE),\"\")","v":""},{"$f":"IF(Datos_de_Tarjetas!G310=0,\"\",Datos_de_Tarjetas!G310)","v":""},{"$f":"IFERROR(VLOOKUP(Datos_de_Tarjetas!K310,Parámetros!$AJ$3:$AK$13,2,FALSE),\"\")","v":""},{"$f":"IFERROR(VLOOKUP(Datos_de_Tarjetas!J310,Parámetros!$AQ$3:$AR$57,2,FALSE),\"\")","v":""},null,{"$f":"IF(Datos_de_Tarjetas!L310=0,\"\",Datos_de_Tarjetas!L310)","v":""},{"$f":"IF(Datos_de_Tarjetas!M310=0,\"\",Datos_de_Tarjetas!M310)","v":""},{"$f":"IF(Datos_de_Tarjetas!N310=0,\"\",Datos_de_Tarjetas!N310)","v":""},{"$f":"IFERROR(VLOOKUP(Datos_de_Tarjetas!P310,Parámetros!$AM$3:$AN$90,2,FALSE),\"\")","v":""}]
[null,1069470000,{"$f":"IFERROR(VLOOKUP(Datos_de_Tarjetas!D311,Parámetros!$AD$12:$AE$17,2,FALSE),\"\")","v":""},{"$f":"IF(Datos_de_Tarjetas!G311=0,\"\",Datos_de_Tarjetas!G311)","v":""},{"$f":"IFERROR(VLOOKUP(Datos_de_Tarjetas!K311,Parámetros!$AJ$3:$AK$13,2,FALSE),\"\")","v":""},{"$f":"IFERROR(VLOOKUP(Datos_de_Tarjetas!J311,Parámetros!$AQ$3:$AR$57,2,FALSE),\"\")","v":""},null,{"$f":"IF(Datos_de_Tarjetas!L311=0,\"\",Datos_de_Tarjetas!L311)","v":""},{"$f":"IF(Datos_de_Tarjetas!M311=0,\"\",Datos_de_Tarjetas!M311)","v":""},{"$f":"IF(Datos_de_Tarjetas!N311=0,\"\",Datos_de_Tarjetas!N311)","v":""},{"$f":"IFERROR(VLOOKUP(Datos_de_Tarjetas!P311,Parámetros!$AM$3:$AN$90,2,FALSE),\"\")","v":""}]
[null,1069470000,{"$f":"IFERROR(VLOOKUP(Datos_de_Tarjetas!D312,Parámetros!$AD$12:$AE$17,2,FALSE),\"\")","v":""},{"$f":"IF(Datos_de_Tarjetas!G312=0,\"\",Datos_de_Tarjetas!G312)","v":""},{"$f":"IFERROR(VLOOKUP(Datos_de_Tarjetas!K312,Parámetros!$AJ$3:$AK$13,2,FALSE),\"\")","v":""},{"$f":"IFERROR(VLOOKUP(Datos_de_Tarjetas!J312,Parámetros!$AQ$3:$AR$57,2,FALSE),\"\")","v":""},null,{"$f":"IF(Datos_de_Tarjetas!L312=0,\"\",Datos_de_Tarjetas!L312)","v":""},{"$f":"IF(Datos_de_Tarjetas!M312=0,\"\",Datos_de_Tarjetas!M312)","v":""},{"$f":"IF(Datos_de_Tarjetas!N312=0,\"\",Datos_de_Tarjetas!N312)","v":""},{"$f":"IFERROR(VLOOKUP(Datos_de_Tarjetas!P312,Parámetros!$AM$3:$AN$90,2,FALSE),\"\")","v":""}]
[null,1069470000,{"$f":"IFERROR(VLOOKUP(Datos_de_Tarjetas!D313,Parámetros!$AD$12:$AE$17,2,FALSE),\"\")","v":""},{"$f":"IF(Datos_de_Tarjetas!G313=0,\"\",Datos_de_Tarjetas!G313)","v":""},{"$f":"IFERROR(VLOOKUP(Datos_de_Tarjetas!K313,Parámetros!$AJ$3:$AK$13,2,FALSE),\"\")","v":""},{"$f":"IFERROR(VLOOKUP(Datos_de_Tarjetas!J313,Parámetros!$AQ$3:$AR$57,2,FALSE),\"\")","v":""},null,{"$f":"IF(Datos_de_Tarjetas!L313=0,\"\",Datos_de_Tarjetas!L313)","v":""},{"$f":"IF(Datos_de_Tarjetas!M313=0,\"\",Datos_de_Tarjetas!M313)","v":""},{"$f":"IF(Datos_de_Tarjetas!N313=0,\"\",Datos_de_Tarjetas!N313)","v":""},{"$f":"IFERROR(VLOOKUP(Datos_de_Tarjetas!P313,Parámetros!$AM$3:$AN$90,2,FALSE),\"\")","v":""}]
[null,1069470000,{"$f":"IFERROR(VLOOKUP(Datos_de_Tarjetas!D314,Parámetros!$AD$12:$AE$17,2,FALSE),\"\")","v":""},{"$f":"IF(Datos_de_Tarjetas!G314=0,\"\",Datos_de_Tarjetas!G314)","v":""},{"$f":"IFERROR(VLOOKUP(Datos_de_Tarjetas!K314,Parámetros!$AJ$3:$AK$13,2,FALSE),\"\")","v":""},{"$f":"IFERROR(VLOOKUP(Datos_de_Tarjetas!J314,Parámetros!$AQ$3:$AR$57,2,FALSE),\"\")","v":""},null,{"$f":"IF(Datos_de_Tarjetas!L314=0,\"\",Datos_de_Tarjetas!L314)","v":""},{"$f":"IF(Datos_de_Tarjetas!M314=0,\"\",Datos_de_Tarjetas!M314)","v":""},{"$f":"IF(Datos_de_Tarjetas!N314=0,\"\",Datos_de_Tarjetas!N314)","v":""},{"$f":"IFERROR(VLOOKUP(Datos_de_Tarjetas!P314,Parámetros!$AM$3:$AN$90,2,FALSE),\"\")","v":""}]
[null,1069470000,{"$f":"IFERROR(VLOOKUP(Datos_de_Tarjetas!D315,Parámetros!$AD$12:$AE$17,2,FALSE),\"\")","v":""},{"$f":"IF(Datos_de_Tarjetas!G315=0,\"\",Datos_de_Tarjetas!G315)","v":""},{"$f":"IFERROR(VLOOKUP(Datos_de_Tarjetas!K315,Parámetros!$AJ$3:$AK$13,2,FALSE),\"\")","v":""},{"$f":"IFERROR(VLOOKUP(Datos_de_Tarjetas!J315,Parámetros!$AQ$3:$AR$57,2,FALSE),\"\")","v":""},null,{"$f":"IF(Datos_de_Tarjetas!L315=0,\"\",Datos_de_Tarjetas!L315)","v":""},{"$f":"IF(Datos_de_Tarjetas!M315=0,\"\",Datos_de_Tarjetas!M315)","v":""},{"$f":"IF(Datos_de_Tarjetas!N315=0,\"\",Datos_de_Tarjetas!N315)","v":""},{"$f":"IFERROR(VLOOKUP(Datos_de_Tarjetas!P315,Parámetros!$AM$3:$AN$90,2,FALSE),\"\")","v":""}]
[null,1069470000,{"$f":"IFERROR(VLOOKUP(Datos_de_Tarjetas!D316,Parámetros!$AD$12:$AE$17,2,FALSE),\"\")","v":""},{"$f":"IF(Datos_de_Tarjetas!G316=0,\"\",Datos_de_Tarjetas!G316)","v":""},{"$f":"IFERROR(VLOOKUP(Datos_de_Tarjetas!K316,Parámetros!$AJ$3:$AK$13,2,FALSE),\"\")","v":""},{"$f":"IFERROR(VLOOKUP(Datos_de_Tarjetas!J316,Parámetros!$AQ$3:$AR$57,2,FALSE),\"\")","v":""},null,{"$f":"IF(Datos_de_Tarjetas!L316=0,\"\",Datos_de_Tarjetas!L316)","v":""},{"$f":"IF(Datos_de_Tarjetas!M316=0,\"\",Datos_de_Tarjetas!M316)","v":""},{"$f":"IF(Datos_de_Tarjetas!N316=0,\"\",Datos_de_Tarjetas!N316)","v":""},{"$f":"IFERROR(VLOOKUP(Datos_de_Tarjetas!P316,Parámetros!$AM$3:$AN$90,2,FALSE),\"\")","v":""}]
[null,1069470000,{"$f":"IFERROR(VLOOKUP(Datos_de_Tarjetas!D317,Parámetros!$AD$12:$AE$17,2,FALSE),\"\")","v":""},{"$f":"IF(Datos_de_Tarjetas!G317=0,\"\",Datos_de_Tarjetas!G317)","v":""},{"$f":"IFERROR(VLOOKUP(Datos_de_Tarjetas!K317,Parámetros!$AJ$3:$AK$13,2,FALSE),\"\")","v":""},{"$f":"IFERROR(VLOOKUP(Datos_de_Tarjetas!J317,Parámetros!$AQ$3:$AR$57,2,FALSE),\"\")","v":""},null,{"$f":"IF(Datos_de_Tarjetas!L317=0,\"\",Datos_de_Tarjetas!L317)","v":""},{"$f":"IF(Datos_de_Tarjetas!M317=0,\"\",Datos_de_Tarjetas!M317)","v":""},{"$f":"IF(Datos_de_Tarjetas!N317=0,\"\",Datos_de_Tarjetas!N317)","v":""},{"$f":"IFERROR(VLOOKUP(Datos_de_Tarjetas!P317,Parámetros!$AM$3:$AN$90,2,FALSE),\"\")","v":""}]
[null,1069470000,{"$f":"IFERROR(VLOOKUP(Datos_de_Tarjetas!D318,Parámetros!$AD$12:$AE$17,2,FALSE),\"\")","v":""},{"$f":"IF(Datos_de_Tarjetas!G318=0,\"\",Datos_de_Tarjetas!G318)","v":""},{"$f":"IFERROR(VLOOKUP(Datos_de_Tarjetas!K318,Parámetros!$AJ$3:$AK$13,2,FALSE),\"\")","v":""},{"$f":"IFERROR(VLOOKUP(Datos_de_Tarjetas!J318,Parámetros!$AQ$3:$AR$57,2,FALSE),\"\")","v":""},null,{"$f":"IF(Datos_de_Tarjetas!L318=0,\"\",Datos_de_Tarjetas!L318)","v":""},{"$f":"IF(Datos_de_Tarjetas!M318=0,\"\",Datos_de_Tarjetas!M318)","v":""},{"$f":"IF(Datos_de_Tarjetas!N318=0,\"\",Datos_de_Tarjetas!N318)","v":""},{"$f":"IFERROR(VLOOKUP(Datos_de_Tarjetas!P318,Parámetros!$AM$3:$AN$90,2,FALSE),\"\")","v":""}]
[null,1069470000,{"$f":"IFERROR(VLOOKUP(Datos_de_Tarjetas!D319,Parámetros!$AD$12:$AE$17,2,FALSE),\"\")","v":""},{"$f":"IF(Datos_de_Tarjetas!G319=0,\"\",Datos_de_Tarjetas!G319)","v":""},{"$f":"IFERROR(VLOOKUP(Datos_de_Tarjetas!K319,Parámetros!$AJ$3:$AK$13,2,FALSE),\"\")","v":""},{"$f":"IFERROR(VLOOKUP(Datos_de_Tarjetas!J319,Parámetros!$AQ$3:$AR$57,2,FALSE),\"\")","v":""},null,{"$f":"IF(Datos_de_Tarjetas!L319=0,\"\",Datos_de_Tarjetas!L319)","v":""},{"$f":"IF(Datos_de_Tarjetas!M319=0,\"\",Datos_de_Tarjetas!M319)","v":""},{"$f":"IF(Datos_de_Tarjetas!N319=0,\"\",Datos_de_Tarjetas!N319)","v":""},{"$f":"IFERROR(VLOOKUP(Datos_de_Tarjetas!P319,Parámetros!$AM$3:$AN$90,2,FALSE),\"\")","v":""}]
[null,1069470000,{"$f":"IFERROR(VLOOKUP(Datos_de_Tarjetas!D320,Parámetros!$AD$12:$AE$17,2,FALSE),\"\")","v":""},{"$f":"IF(Datos_de_Tarjetas!G320=0,\"\",Datos_de_Tarjetas!G320)","v":""},{"$f":"IFERROR(VLOOKUP(Datos_de_Tarjetas!K320,Parámetros!$AJ$3:$AK$13,2,FALSE),\"\")","v":""},{"$f":"IFERROR(VLOOKUP(Datos_de_Tarjetas!J320,Parámetros!$AQ$3:$AR$57,2,FALSE),\"\")","v":""},null,{"$f":"IF(Datos_de_Tarjetas!L320=0,\"\",Datos_de_Tarjetas!L320)","v":""},{"$f":"IF(Datos_de_Tarjetas!M320=0,\"\",Datos_de_Tarjetas!M320)","v":""},{"$f":"IF(Datos_de_Tarjetas!N320=0,\"\",Datos_de_Tarjetas!N320)","v":""},{"$f":"IFERROR(VLOOKUP(Datos_de_Tarjetas!P320,Parámetros!$AM$3:$AN$90,2,FALSE),\"\")","v":""}]
[null,1069470000,{"$f":"IFERROR(VLOOKUP(Datos_de_Tarjetas!D321,Parámetros!$AD$12:$AE$17,2,FALSE),\"\")","v":""},{"$f":"IF(Datos_de_Tarjetas!G321=0,\"\",Datos_de_Tarjetas!G321)","v":""},{"$f":"IFERROR(VLOOKUP(Datos_de_Tarjetas!K321,Parámetros!$AJ$3:$AK$13,2,FALSE),\"\")","v":""},{"$f":"IFERROR(VLOOKUP(Datos_de_Tarjetas!J321,Parámetros!$AQ$3:$AR$57,2,FALSE),\"\")","v":""},null,{"$f":"IF(Datos_de_Tarjetas!L321=0,\"\",Datos_de_Tarjetas!L321)","v":""},{"$f":"IF(Datos_de_Tarjetas!M321=0,\"\",Datos_de_Tarjetas!M321)","v":""},{"$f":"IF(Datos_de_Tarjetas!N321=0,\"\",Datos_de_Tarjetas!N321)","v":""},{"$f":"IFERROR(VLOOKUP(Datos_de_Tarjetas!P321,Parámetros!$AM$3:$AN$90,2,FALSE),\"\")","v":""}]
[null,1069470000,{"$f":"IFERROR(VLOOKUP(Datos_de_Tarjetas!D322,Parámetros!$AD$12:$AE$17,2,FALSE),\"\")","v":""},{"$f":"IF(Datos_de_Tarjetas!G322=0,\"\",Datos_de_Tarjetas!G322)","v":""},{"$f":"IFERROR(VLOOKUP(Datos_de_Tarjetas!K322,Parámetros!$AJ$3:$AK$13,2,FALSE),\"\")","v":""},{"$f":"IFERROR(VLOOKUP(Datos_de_Tarjetas!J322,Parámetros!$AQ$3:$AR$57,2,FALSE),\"\")","v":""},null,{"$f":"IF(Datos_de_Tarjetas!L322=0,\"\",Datos_de_Tarjetas!L322)","v":""},{"$f":"IF(Datos_de_Tarjetas!M322=0,\"\",Datos_de_Tarjetas!M322)","v":""},{"$f":"IF(Datos_de_Tarjetas!N322=0,\"\",Datos_de_Tarjetas!N322)","v":""},{"$f":"IFERROR(VLOOKUP(Datos_de_Tarjetas!P322,Parámetros!$AM$3:$AN$90,2,FALSE),\"\")","v":""}]
[null,1069470000,{"$f":"IFERROR(VLOOKUP(Datos_de_Tarjetas!D323,Parámetros!$AD$12:$AE$17,2,FALSE),\"\")","v":""},{"$f":"IF(Datos_de_Tarjetas!G323=0,\"\",Datos_de_Tarjetas!G323)","v":""},{"$f":"IFERROR(VLOOKUP(Datos_de_Tarjetas!K323,Parámetros!$AJ$3:$AK$13,2,FALSE),\"\")","v":""},{"$f":"IFERROR(VLOOKUP(Datos_de_Tarjetas!J323,Parámetros!$AQ$3:$AR$57,2,FALSE),\"\")","v":""},null,{"$f":"IF(Datos_de_Tarjetas!L323=0,\"\",Datos_de_Tarjetas!L323)","v":""},{"$f":"IF(Datos_de_Tarjetas!M323=0,\"\",Datos_de_Tarjetas!M323)","v":""},{"$f":"IF(Datos_de_Tarjetas!N323=0,\"\",Datos_de_Tarjetas!N323)","v":""},{"$f":"IFERROR(VLOOKUP(Datos_de_Tarjetas!P323,Parámetros!$AM$3:$AN$90,2,FALSE),\"\")","v":""}]
[null,1069470000,{"$f":"IFERROR(VLOOKUP(Datos_de_Tarjetas!D324,Parámetros!$AD$12:$AE$17,2,FALSE),\"\")","v":""},{"$f":"IF(Datos_de_Tarjetas!G324=0,\"\",Datos_de_Tarjetas!G324)","v":""},{"$f":"IFERROR(VLOOKUP(Datos_de_Tarjetas!K324,Parámetros!$AJ$3:$AK$13,2,FALSE),\"\")","v":""},{"$f":"IFERROR(VLOOKUP(Datos_de_Tarjetas!J324,Parámetros!$AQ$3:$AR$57,2,FALSE),\"\")","v":""},null,{"$f":"IF(Datos_de_Tarjetas!L324=0,\"\",Datos_de_Tarjetas!L324)","v":""},{"$f":"IF(Datos_de_Tarjetas!M324=0,\"\",Datos_de_Tarjetas!M324)","v":""},{"$f":"IF(Datos_de_Tarjetas!N324=0,\"\",Datos_de_Tarjetas!N324)","v":""},{"$f":"IFERROR(VLOOKUP(Datos_de_Tarjetas!P324,Parámetros!$AM$3:$AN$90,2,FALSE),\"\")","v":""}]
[null,1069470000,{"$f":"IFERROR(VLOOKUP(Datos_de_Tarjetas!D325,Parámetros!$AD$12:$AE$17,2,FALSE),\"\")","v":""},{"$f":"IF(Datos_de_Tarjetas!G325=0,\"\",Datos_de_Tarjetas!G325)","v":""},{"$f":"IFERROR(VLOOKUP(Datos_de_Tarjetas!K325,Parámetros!$AJ$3:$AK$13,2,FALSE),\"\")","v":""},{"$f":"IFERROR(VLOOKUP(Datos_de_Tarjetas!J325,Parámetros!$AQ$3:$AR$57,2,FALSE),\"\")","v":""},null,{"$f":"IF(Datos_de_Tarjetas!L325=0,\"\",Datos_de_Tarjetas!L325)","v":""},{"$f":"IF(Datos_de_Tarjetas!M325=0,\"\",Datos_de_Tarjetas!M325)","v":""},{"$f":"IF(Datos_de_Tarjetas!N325=0,\"\",Datos_de_Tarjetas!N325)","v":""},{"$f":"IFERROR(VLOOKUP(Datos_de_Tarjetas!P325,Parámetros!$AM$3:$AN$90,2,FALSE),\"\")","v":""}]
[null,1069470000,{"$f":"IFERROR(VLOOKUP(Datos_de_Tarjetas!D326,Parámetros!$AD$12:$AE$17,2,FALSE),\"\")","v":""},{"$f":"IF(Datos_de_Tarjetas!G326=0,\"\",Datos_de_Tarjetas!G326)","v":""},{"$f":"IFERROR(VLOOKUP(Datos_de_Tarjetas!K326,Parámetros!$AJ$3:$AK$13,2,FALSE),\"\")","v":""},{"$f":"IFERROR(VLOOKUP(Datos_de_Tarjetas!J326,Parámetros!$AQ$3:$AR$57,2,FALSE),\"\")","v":""},null,{"$f":"IF(Datos_de_Tarjetas!L326=0,\"\",Datos_de_Tarjetas!L326)","v":""},{"$f":"IF(Datos_de_Tarjetas!M326=0,\"\",Datos_de_Tarjetas!M326)","v":""},{"$f":"IF(Datos_de_Tarjetas!N326=0,\"\",Datos_de_Tarjetas!N326)","v":""},{"$f":"IFERROR(VLOOKUP(Datos_de_Tarjetas!P326,Parámetros!$AM$3:$AN$90,2,FALSE),\"\")","v":""}]
[null,1069470000,{"$f":"IFERROR(VLOOKUP(Datos_de_Tarjetas!D327,Parámetros!$AD$12:$AE$17,2,FALSE),\"\")","v":""},{"$f":"IF(Datos_de_Tarjetas!G327=0,\"\",Datos_de_Tarjetas!G327)","v":""},{"$f":"IFERROR(VLOOKUP(Datos_de_Tarjetas!K327,Parámetros!$AJ$3:$AK$13,2,FALSE),\"\")","v":""},{"$f":"IFERROR(VLOOKUP(Datos_de_Tarjetas!J327,Parámetros!$AQ$3:$AR$57,2,FALSE),\"\")","v":""},null,{"$f":"IF(Datos_de_Tarjetas!L327=0,\"\",Datos_de_Tarjetas!L327)","v":""},{"$f":"IF(Datos_de_Tarjetas!M327=0,\"\",Datos_de_Tarjetas!M327)","v":""},{"$f":"IF(Datos_de_Tarjetas!N327=0,\"\",Datos_de_Tarjetas!N327)","v":""},{"$f":"IFERROR(VLOOKUP(Datos_de_Tarjetas!P327,Parámetros!$AM$3:$AN$90,2,FALSE),\"\")","v":""}]
[null,1069470000,{"$f":"IFERROR(VLOOKUP(Datos_de_Tarjetas!D328,Parámetros!$AD$12:$AE$17,2,FALSE),\"\")","v":""},{"$f":"IF(Datos_de_Tarjetas!G328=0,\"\",Datos_de_Tarjetas!G328)","v":""},{"$f":"IFERROR(VLOOKUP(Datos_de_Tarjetas!K328,Parámetros!$AJ$3:$AK$13,2,FALSE),\"\")","v":""},{"$f":"IFERROR(VLOOKUP(Datos_de_Tarjetas!J328,Parámetros!$AQ$3:$AR$57,2,FALSE),\"\")","v":""},null,{"$f":"IF(Datos_de_Tarjetas!L328=0,\"\",Datos_de_Tarjetas!L328)","v":""},{"$f":"IF(Datos_de_Tarjetas!M328=0,\"\",Datos_de_Tarjetas!M328)","v":""},{"$f":"IF(Datos_de_Tarjetas!N328=0,\"\",Datos_de_Tarjetas!N328)","v":""},{"$f":"IFERROR(VLOOKUP(Datos_de_Tarjetas!P328,Parámetros!$AM$3:$AN$90,2,FALSE),\"\")","v":""}]
[null,1069470000,{"$f":"IFERROR(VLOOKUP(Datos_de_Tarjetas!D329,Parámetros!$AD$12:$AE$17,2,FALSE),\"\")","v":""},{"$f":"IF(Datos_de_Tarjetas!G329=0,\"\",Datos_de_Tarjetas!G329)","v":""},{"$f":"IFERROR(VLOOKUP(Datos_de_Tarjetas!K329,Parámetros!$AJ$3:$AK$13,2,FALSE),\"\")","v":""},{"$f":"IFERROR(VLOOKUP(Datos_de_Tarjetas!J329,Parámetros!$AQ$3:$AR$57,2,FALSE),\"\")","v":""},null,{"$f":"IF(Datos_de_Tarjetas!L329=0,\"\",Datos_de_Tarjetas!L329)","v":""},{"$f":"IF(Datos_de_Tarjetas!M329=0,\"\",Datos_de_Tarjetas!M329)","v":""},{"$f":"IF(Datos_de_Tarjetas!N329=0,\"\",Datos_de_Tarjetas!N329)","v":""},{"$f":"IFERROR(VLOOKUP(Datos_de_Tarjetas!P329,Parámetros!$AM$3:$AN$90,2,FALSE),\"\")","v":""}]
[null,1069470000,{"$f":"IFERROR(VLOOKUP(Datos_de_Tarjetas!D330,Parámetros!$AD$12:$AE$17,2,FALSE),\"\")","v":""},{"$f":"IF(Datos_de_Tarjetas!G330=0,\"\",Datos_de_Tarjetas!G330)","v":""},{"$f":"IFERROR(VLOOKUP(Datos_de_Tarjetas!K330,Parámetros!$AJ$3:$AK$13,2,FALSE),\"\")","v":""},{"$f":"IFERROR(VLOOKUP(Datos_de_Tarjetas!J330,Parámetros!$AQ$3:$AR$57,2,FALSE),\"\")","v":""},null,{"$f":"IF(Datos_de_Tarjetas!L330=0,\"\",Datos_de_Tarjetas!L330)","v":""},{"$f":"IF(Datos_de_Tarjetas!M330=0,\"\",Datos_de_Tarjetas!M330)","v":""},{"$f":"IF(Datos_de_Tarjetas!N330=0,\"\",Datos_de_Tarjetas!N330)","v":""},{"$f":"IFERROR(VLOOKUP(Datos_de_Tarjetas!P330,Parámetros!$AM$3:$AN$90,2,FALSE),\"\")","v":""}]
[null,1069470000,{"$f":"IFERROR(VLOOKUP(Datos_de_Tarjetas!D331,Parámetros!$AD$12:$AE$17,2,FALSE),\"\")","v":""},{"$f":"IF(Datos_de_Tarjetas!G331=0,\"\",Datos_de_Tarjetas!G331)","v":""},{"$f":"IFERROR(VLOOKUP(Datos_de_Tarjetas!K331,Parámetros!$AJ$3:$AK$13,2,FALSE),\"\")","v":""},{"$f":"IFERROR(VLOOKUP(Datos_de_Tarjetas!J331,Parámetros!$AQ$3:$AR$57,2,FALSE),\"\")","v":""},null,{"$f":"IF(Datos_de_Tarjetas!L331=0,\"\",Datos_de_Tarjetas!L331)","v":""},{"$f":"IF(Datos_de_Tarjetas!M331=0,\"\",Datos_de_Tarjetas!M331)","v":""},{"$f":"IF(Datos_de_Tarjetas!N331=0,\"\",Datos_de_Tarjetas!N331)","v":""},{"$f":"IFERROR(VLOOKUP(Datos_de_Tarjetas!P331,Parámetros!$AM$3:$AN$90,2,FALSE),\"\")","v":""}]
[null,1069470000,{"$f":"IFERROR(VLOOKUP(Datos_de_Tarjetas!D332,Parámetros!$AD$12:$AE$17,2,FALSE),\"\")","v":""},{"$f":"IF(Datos_de_Tarjetas!G332=0,\"\",Datos_de_Tarjetas!G332)","v":""},{"$f":"IFERROR(VLOOKUP(Datos_de_Tarjetas!K332,Parámetros!$AJ$3:$AK$13,2,FALSE),\"\")","v":""},{"$f":"IFERROR(VLOOKUP(Datos_de_Tarjetas!J332,Parámetros!$AQ$3:$AR$57,2,FALSE),\"\")","v":""},null,{"$f":"IF(Datos_de_Tarjetas!L332=0,\"\",Datos_de_Tarjetas!L332)","v":""},{"$f":"IF(Datos_de_Tarjetas!M332=0,\"\",Datos_de_Tarjetas!M332)","v":""},{"$f":"IF(Datos_de_Tarjetas!N332=0,\"\",Datos_de_Tarjetas!N332)","v":""},{"$f":"IFERROR(VLOOKUP(Datos_de_Tarjetas!P332,Parámetros!$AM$3:$AN$90,2,FALSE),\"\")","v":""}]
[null,1069470000,{"$f":"IFERROR(VLOOKUP(Datos_de_Tarjetas!D333,Parámetros!$AD$12:$AE$17,2,FALSE),\"\")","v":""},{"$f":"IF(Datos_de_Tarjetas!G333=0,\"\",Datos_de_Tarjetas!G333)","v":""},{"$f":"IFERROR(VLOOKUP(Datos_de_Tarjetas!K333,Parámetros!$AJ$3:$AK$13,2,FALSE),\"\")","v":""},{"$f":"IFERROR(VLOOKUP(Datos_de_Tarjetas!J333,Parámetros!$AQ$3:$AR$57,2,FALSE),\"\")","v":""},null,{"$f":"IF(Datos_de_Tarjetas!L333=0,\"\",Datos_de_Tarjetas!L333)","v":""},{"$f":"IF(Datos_de_Tarjetas!M333=0,\"\",Datos_de_Tarjetas!M333)","v":""},{"$f":"IF(Datos_de_Tarjetas!N333=0,\"\",Datos_de_Tarjetas!N333)","v":""},{"$f":"IFERROR(VLOOKUP(Datos_de_Tarjetas!P333,Parámetros!$AM$3:$AN$90,2,FALSE),\"\")","v":""}]
[null,1069470000,{"$f":"IFERROR(VLOOKUP(Datos_de_Tarjetas!D334,Parámetros!$AD$12:$AE$17,2,FALSE),\"\")","v":""},{"$f":"IF(Datos_de_Tarjetas!G334=0,\"\",Datos_de_Tarjetas!G334)","v":""},{"$f":"IFERROR(VLOOKUP(Datos_de_Tarjetas!K334,Parámetros!$AJ$3:$AK$13,2,FALSE),\"\")","v":""},{"$f":"IFERROR(VLOOKUP(Datos_de_Tarjetas!J334,Parámetros!$AQ$3:$AR$57,2,FALSE),\"\")","v":""},null,{"$f":"IF(Datos_de_Tarjetas!L334=0,\"\",Datos_de_Tarjetas!L334)","v":""},{"$f":"IF(Datos_de_Tarjetas!M334=0,\"\",Datos_de_Tarjetas!M334)","v":""},{"$f":"IF(Datos_de_Tarjetas!N334=0,\"\",Datos_de_Tarjetas!N334)","v":""},{"$f":"IFERROR(VLOOKUP(Datos_de_Tarjetas!P334,Parámetros!$AM$3:$AN$90,2,FALSE),\"\")","v":""}]
[null,1069470000,{"$f":"IFERROR(VLOOKUP(Datos_de_Tarjetas!D335,Parámetros!$AD$12:$AE$17,2,FALSE),\"\")","v":""},{"$f":"IF(Datos_de_Tarjetas!G335=0,\"\",Datos_de_Tarjetas!G335)","v":""},{"$f":"IFERROR(VLOOKUP(Datos_de_Tarjetas!K335,Parámetros!$AJ$3:$AK$13,2,FALSE),\"\")","v":""},{"$f":"IFERROR(VLOOKUP(Datos_de_Tarjetas!J335,Parámetros!$AQ$3:$AR$57,2,FALSE),\"\")","v":""},null,{"$f":"IF(Datos_de_Tarjetas!L335=0,\"\",Datos_de_Tarjetas!L335)","v":""},{"$f":"IF(Datos_de_Tarjetas!M335=0,\"\",Datos_de_Tarjetas!M335)","v":""},{"$f":"IF(Datos_de_Tarjetas!N335=0,\"\",Datos_de_Tarjetas!N335)","v":""},{"$f":"IFERROR(VLOOKUP(Datos_de_Tarjetas!P335,Parámetros!$AM$3:$AN$90,2,FALSE),\"\")","v":""}]
[null,1069470000,{"$f":"IFERROR(VLOOKUP(Datos_de_Tarjetas!D336,Parámetros!$AD$12:$AE$17,2,FALSE),\"\")","v":""},{"$f":"IF(Datos_de_Tarjetas!G336=0,\"\",Datos_de_Tarjetas!G336)","v":""},{"$f":"IFERROR(VLOOKUP(Datos_de_Tarjetas!K336,Parámetros!$AJ$3:$AK$13,2,FALSE),\"\")","v":""},{"$f":"IFERROR(VLOOKUP(Datos_de_Tarjetas!J336,Parámetros!$AQ$3:$AR$57,2,FALSE),\"\")","v":""},null,{"$f":"IF(Datos_de_Tarjetas!L336=0,\"\",Datos_de_Tarjetas!L336)","v":""},{"$f":"IF(Datos_de_Tarjetas!M336=0,\"\",Datos_de_Tarjetas!M336)","v":""},{"$f":"IF(Datos_de_Tarjetas!N336=0,\"\",Datos_de_Tarjetas!N336)","v":""},{"$f":"IFERROR(VLOOKUP(Datos_de_Tarjetas!P336,Parámetros!$AM$3:$AN$90,2,FALSE),\"\")","v":""}]
[null,{"$f":"$C$2","v":1069470000},{"$f":"IFERROR(VLOOKUP(Datos_de_Tarjetas!D337,Parámetros!$AD$12:$AE$17,2,FALSE),\"\")","v":""},{"$f":"IF(Datos_de_Tarjetas!G337=0,\"\",Datos_de_Tarjetas!G337)","v":""},{"$f":"IFERROR(VLOOKUP(Datos_de_Tarjetas!K337,Parámetros!$AJ$3:$AK$13,2,FALSE),\"\")","v":""},{"$f":"IFERROR(VLOOKUP(Datos_de_Tarjetas!J337,Parámetros!$AQ$3:$AR$57,2,FALSE),\"\")","v":""},null,{"$f":"IF(Datos_de_Tarjetas!L337=0,\"\",Datos_de_Tarjetas!L337)","v":""},{"$f":"IF(Datos_de_Tarjetas!M337=0,\"\",Datos_de_Tarjetas!M337)","v":""},{"$f":"IF(Datos_de_Tarjetas!N337=0,\"\",Datos_de_Tarjetas!N337)","v":""},{"$f":"IFERROR(VLOOKUP(Datos_de_Tarjetas!P337,Parámetros!$AM$3:$AN$90,2,FALSE),\"\")","v":""}]
[null,1069470000,{"$f":"IFERROR(VLOOKUP(Datos_de_Tarjetas!D338,Parámetros!$AD$12:$AE$17,2,FALSE),\"\")","v":""},{"$f":"IF(Datos_de_Tarjetas!G338=0,\"\",Datos_de_Tarjetas!G338)","v":""},{"$f":"IFERROR(VLOOKUP(Datos_de_Tarjetas!K338,Parámetros!$AJ$3:$AK$13,2,FALSE),\"\")","v":""},{"$f":"IFERROR(VLOOKUP(Datos_de_Tarjetas!J338,Parámetros!$AQ$3:$AR$57,2,FALSE),\"\")","v":""},null,{"$f":"IF(Datos_de_Tarjetas!L338=0,\"\",Datos_de_Tarjetas!L338)","v":""},{"$f":"IF(Datos_de_Tarjetas!M338=0,\"\",Datos_de_Tarjetas!M338)","v":""},{"$f":"IF(Datos_de_Tarjetas!N338=0,\"\",Datos_de_Tarjetas!N338)","v":""},{"$f":"IFERROR(VLOOKUP(Datos_de_Tarjetas!P338,Parámetros!$AM$3:$AN$90,2,FALSE),\"\")","v":""}]
[null,1069470000,{"$f":"IFERROR(VLOOKUP(Datos_de_Tarjetas!D339,Parámetros!$AD$12:$AE$17,2,FALSE),\"\")","v":""},{"$f":"IF(Datos_de_Tarjetas!G339=0,\"\",Datos_de_Tarjetas!G339)","v":""},{"$f":"IFERROR(VLOOKUP(Datos_de_Tarjetas!K339,Parámetros!$AJ$3:$AK$13,2,FALSE),\"\")","v":""},{"$f":"IFERROR(VLOOKUP(Datos_de_Tarjetas!J339,Parámetros!$AQ$3:$AR$57,2,FALSE),\"\")","v":""},null,{"$f":"IF(Datos_de_Tarjetas!L339=0,\"\",Datos_de_Tarjetas!L339)","v":""},{"$f":"IF(Datos_de_Tarjetas!M339=0,\"\",Datos_de_Tarjetas!M339)","v":""},{"$f":"IF(Datos_de_Tarjetas!N339=0,\"\",Datos_de_Tarjetas!N339)","v":""},{"$f":"IFERROR(VLOOKUP(Datos_de_Tarjetas!P339,Parámetros!$AM$3:$AN$90,2,FALSE),\"\")","v":""}]
[null,1069470000,{"$f":"IFERROR(VLOOKUP(Datos_de_Tarjetas!D340,Parámetros!$AD$12:$AE$17,2,FALSE),\"\")","v":""},{"$f":"IF(Datos_de_Tarjetas!G340=0,\"\",Datos_de_Tarjetas!G340)","v":""},{"$f":"IFERROR(VLOOKUP(Datos_de_Tarjetas!K340,Parámetros!$AJ$3:$AK$13,2,FALSE),\"\")","v":""},{"$f":"IFERROR(VLOOKUP(Datos_de_Tarjetas!J340,Parámetros!$AQ$3:$AR$57,2,FALSE),\"\")","v":""},null,{"$f":"IF(Datos_de_Tarjetas!L340=0,\"\",Datos_de_Tarjetas!L340)","v":""},{"$f":"IF(Datos_de_Tarjetas!M340=0,\"\",Datos_de_Tarjetas!M340)","v":""},{"$f":"IF(Datos_de_Tarjetas!N340=0,\"\",Datos_de_Tarjetas!N340)","v":""},{"$f":"IFERROR(VLOOKUP(Datos_de_Tarjetas!P340,Parámetros!$AM$3:$AN$90,2,FALSE),\"\")","v":""}]
[null,1069470000,{"$f":"IFERROR(VLOOKUP(Datos_de_Tarjetas!D341,Parámetros!$AD$12:$AE$17,2,FALSE),\"\")","v":""},{"$f":"IF(Datos_de_Tarjetas!G341=0,\"\",Datos_de_Tarjetas!G341)","v":""},{"$f":"IFERROR(VLOOKUP(Datos_de_Tarjetas!K341,Parámetros!$AJ$3:$AK$13,2,FALSE),\"\")","v":""},{"$f":"IFERROR(VLOOKUP(Datos_de_Tarjetas!J341,Parámetros!$AQ$3:$AR$57,2,FALSE),\"\")","v":""},null,{"$f":"IF(Datos_de_Tarjetas!L341=0,\"\",Datos_de_Tarjetas!L341)","v":""},{"$f":"IF(Datos_de_Tarjetas!M341=0,\"\",Datos_de_Tarjetas!M341)","v":""},{"$f":"IF(Datos_de_Tarjetas!N341=0,\"\",Datos_de_Tarjetas!N341)","v":""},{"$f":"IFERROR(VLOOKUP(Datos_de_Tarjetas!P341,Parámetros!$AM$3:$AN$90,2,FALSE),\"\")","v":""}]
[null,1069470000,{"$f":"IFERROR(VLOOKUP(Datos_de_Tarjetas!D342,Parámetros!$AD$12:$AE$17,2,FALSE),\"\")","v":""},{"$f":"IF(Datos_de_Tarjetas!G342=0,\"\",Datos_de_Tarjetas!G342)","v":""},{"$f":"IFERROR(VLOOKUP(Datos_de_Tarjetas!K342,Parámetros!$AJ$3:$AK$13,2,FALSE),\"\")","v":""},{"$f":"IFERROR(VLOOKUP(Datos_de_Tarjetas!J342,Parámetros!$AQ$3:$AR$57,2,FALSE),\"\")","v":""},null,{"$f":"IF(Datos_de_Tarjetas!L342=0,\"\",Datos_de_Tarjetas!L342)","v":""},{"$f":"IF(Datos_de_Tarjetas!M342=0,\"\",Datos_de_Tarjetas!M342)","v":""},{"$f":"IF(Datos_de_Tarjetas!N342=0,\"\",Datos_de_Tarjetas!N342)","v":""},{"$f":"IFERROR(VLOOKUP(Datos_de_Tarjetas!P342,Parámetros!$AM$3:$AN$90,2,FALSE),\"\")","v":""}]
[null,1069470000,{"$f":"IFERROR(VLOOKUP(Datos_de_Tarjetas!D343,Parámetros!$AD$12:$AE$17,2,FALSE),\"\")","v":""},{"$f":"IF(Datos_de_Tarjetas!G343=0,\"\",Datos_de_Tarjetas!G343)","v":""},{"$f":"IFERROR(VLOOKUP(Datos_de_Tarjetas!K343,Parámetros!$AJ$3:$AK$13,2,FALSE),\"\")","v":""},{"$f":"IFERROR(VLOOKUP(Datos_de_Tarjetas!J343,Parámetros!$AQ$3:$AR$57,2,FALSE),\"\")","v":""},null,{"$f":"IF(Datos_de_Tarjetas!L343=0,\"\",Datos_de_Tarjetas!L343)","v":""},{"$f":"IF(Datos_de_Tarjetas!M343=0,\"\",Datos_de_Tarjetas!M343)","v":""},{"$f":"IF(Datos_de_Tarjetas!N343=0,\"\",Datos_de_Tarjetas!N343)","v":""},{"$f":"IFERROR(VLOOKUP(Datos_de_Tarjetas!P343,Parámetros!$AM$3:$AN$90,2,FALSE),\"\")","v":""}]
[null,1069470000,{"$f":"IFERROR(VLOOKUP(Datos_de_Tarjetas!D344,Parámetros!$AD$12:$AE$17,2,FALSE),\"\")","v":""},{"$f":"IF(Datos_de_Tarjetas!G344=0,\"\",Datos_de_Tarjetas!G344)","v":""},{"$f":"IFERROR(VLOOKUP(Datos_de_Tarjetas!K344,Parámetros!$AJ$3:$AK$13,2,FALSE),\"\")","v":""},{"$f":"IFERROR(VLOOKUP(Datos_de_Tarjetas!J344,Parámetros!$AQ$3:$AR$57,2,FALSE),\"\")","v":""},null,{"$f":"IF(Datos_de_Tarjetas!L344=0,\"\",Datos_de_Tarjetas!L344)","v":""},{"$f":"IF(Datos_de_Tarjetas!M344=0,\"\",Datos_de_Tarjetas!M344)","v":""},{"$f":"IF(Datos_de_Tarjetas!N344=0,\"\",Datos_de_Tarjetas!N344)","v":""},{"$f":"IFERROR(VLOOKUP(Datos_de_Tarjetas!P344,Parámetros!$AM$3:$AN$90,2,FALSE),\"\")","v":""}]
[null,1069470000,{"$f":"IFERROR(VLOOKUP(Datos_de_Tarjetas!D345,Parámetros!$AD$12:$AE$17,2,FALSE),\"\")","v":""},{"$f":"IF(Datos_de_Tarjetas!G345=0,\"\",Datos_de_Tarjetas!G345)","v":""},{"$f":"IFERROR(VLOOKUP(Datos_de_Tarjetas!K345,Parámetros!$AJ$3:$AK$13,2,FALSE),\"\")","v":""},{"$f":"IFERROR(VLOOKUP(Datos_de_Tarjetas!J345,Parámetros!$AQ$3:$AR$57,2,FALSE),\"\")","v":""},null,{"$f":"IF(Datos_de_Tarjetas!L345=0,\"\",Datos_de_Tarjetas!L345)","v":""},{"$f":"IF(Datos_de_Tarjetas!M345=0,\"\",Datos_de_Tarjetas!M345)","v":""},{"$f":"IF(Datos_de_Tarjetas!N345=0,\"\",Datos_de_Tarjetas!N345)","v":""},{"$f":"IFERROR(VLOOKUP(Datos_de_Tarjetas!P345,Parámetros!$AM$3:$AN$90,2,FALSE),\"\")","v":""}]
[null,1069470000,{"$f":"IFERROR(VLOOKUP(Datos_de_Tarjetas!D346,Parámetros!$AD$12:$AE$17,2,FALSE),\"\")","v":""},{"$f":"IF(Datos_de_Tarjetas!G346=0,\"\",Datos_de_Tarjetas!G346)","v":""},{"$f":"IFERROR(VLOOKUP(Datos_de_Tarjetas!K346,Parámetros!$AJ$3:$AK$13,2,FALSE),\"\")","v":""},{"$f":"IFERROR(VLOOKUP(Datos_de_Tarjetas!J346,Parámetros!$AQ$3:$AR$57,2,FALSE),\"\")","v":""},null,{"$f":"IF(Datos_de_Tarjetas!L346=0,\"\",Datos_de_Tarjetas!L346)","v":""},{"$f":"IF(Datos_de_Tarjetas!M346=0,\"\",Datos_de_Tarjetas!M346)","v":""},{"$f":"IF(Datos_de_Tarjetas!N346=0,\"\",Datos_de_Tarjetas!N346)","v":""},{"$f":"IFERROR(VLOOKUP(Datos_de_Tarjetas!P346,Parámetros!$AM$3:$AN$90,2,FALSE),\"\")","v":""}]
[null,1069470000,{"$f":"IFERROR(VLOOKUP(Datos_de_Tarjetas!D347,Parámetros!$AD$12:$AE$17,2,FALSE),\"\")","v":""},{"$f":"IF(Datos_de_Tarjetas!G347=0,\"\",Datos_de_Tarjetas!G347)","v":""},{"$f":"IFERROR(VLOOKUP(Datos_de_Tarjetas!K347,Parámetros!$AJ$3:$AK$13,2,FALSE),\"\")","v":""},{"$f":"IFERROR(VLOOKUP(Datos_de_Tarjetas!J347,Parámetros!$AQ$3:$AR$57,2,FALSE),\"\")","v":""},null,{"$f":"IF(Datos_de_Tarjetas!L347=0,\"\",Datos_de_Tarjetas!L347)","v":""},{"$f":"IF(Datos_de_Tarjetas!M347=0,\"\",Datos_de_Tarjetas!M347)","v":""},{"$f":"IF(Datos_de_Tarjetas!N347=0,\"\",Datos_de_Tarjetas!N347)","v":""},{"$f":"IFERROR(VLOOKUP(Datos_de_Tarjetas!P347,Parámetros!$AM$3:$AN$90,2,FALSE),\"\")","v":""}]
[null,1069470000,{"$f":"IFERROR(VLOOKUP(Datos_de_Tarjetas!D348,Parámetros!$AD$12:$AE$17,2,FALSE),\"\")","v":""},{"$f":"IF(Datos_de_Tarjetas!G348=0,\"\",Datos_de_Tarjetas!G348)","v":""},{"$f":"IFERROR(VLOOKUP(Datos_de_Tarjetas!K348,Parámetros!$AJ$3:$AK$13,2,FALSE),\"\")","v":""},{"$f":"IFERROR(VLOOKUP(Datos_de_Tarjetas!J348,Parámetros!$AQ$3:$AR$57,2,FALSE),\"\")","v":""},null,{"$f":"IF(Datos_de_Tarjetas!L348=0,\"\",Datos_de_Tarjetas!L348)","v":""},{"$f":"IF(Datos_de_Tarjetas!M348=0,\"\",Datos_de_Tarjetas!M348)","v":""},{"$f":"IF(Datos_de_Tarjetas!N348=0,\"\",Datos_de_Tarjetas!N348)","v":""},{"$f":"IFERROR(VLOOKUP(Datos_de_Tarjetas!P348,Parámetros!$AM$3:$AN$90,2,FALSE),\"\")","v":""}]
[null,1069470000,{"$f":"IFERROR(VLOOKUP(Datos_de_Tarjetas!D349,Parámetros!$AD$12:$AE$17,2,FALSE),\"\")","v":""},{"$f":"IF(Datos_de_Tarjetas!G349=0,\"\",Datos_de_Tarjetas!G349)","v":""},{"$f":"IFERROR(VLOOKUP(Datos_de_Tarjetas!K349,Parámetros!$AJ$3:$AK$13,2,FALSE),\"\")","v":""},{"$f":"IFERROR(VLOOKUP(Datos_de_Tarjetas!J349,Parámetros!$AQ$3:$AR$57,2,FALSE),\"\")","v":""},null,{"$f":"IF(Datos_de_Tarjetas!L349=0,\"\",Datos_de_Tarjetas!L349)","v":""},{"$f":"IF(Datos_de_Tarjetas!M349=0,\"\",Datos_de_Tarjetas!M349)","v":""},{"$f":"IF(Datos_de_Tarjetas!N349=0,\"\",Datos_de_Tarjetas!N349)","v":""},{"$f":"IFERROR(VLOOKUP(Datos_de_Tarjetas!P349,Parámetros!$AM$3:$AN$90,2,FALSE),\"\")","v":""}]
[null,1069470000,{"$f":"IFERROR(VLOOKUP(Datos_de_Tarjetas!D350,Parámetros!$AD$12:$AE$17,2,FALSE),\"\")","v":""},{"$f":"IF(Datos_de_Tarjetas!G350=0,\"\",Datos_de_Tarjetas!G350)","v":""},{"$f":"IFERROR(VLOOKUP(Datos_de_Tarjetas!K350,Parámetros!$AJ$3:$AK$13,2,FALSE),\"\")","v":""},{"$f":"IFERROR(VLOOKUP(Datos_de_Tarjetas!J350,Parámetros!$AQ$3:$AR$57,2,FALSE),\"\")","v":""},null,{"$f":"IF(Datos_de_Tarjetas!L350=0,\"\",Datos_de_Tarjetas!L350)","v":""},{"$f":"IF(Datos_de_Tarjetas!M350=0,\"\",Datos_de_Tarjetas!M350)","v":""},{"$f":"IF(Datos_de_Tarjetas!N350=0,\"\",Datos_de_Tarjetas!N350)","v":""},{"$f":"IFERROR(VLOOKUP(Datos_de_Tarjetas!P350,Parámetros!$AM$3:$AN$90,2,FALSE),\"\")","v":""}]
[null,1069470000,{"$f":"IFERROR(VLOOKUP(Datos_de_Tarjetas!D351,Parámetros!$AD$12:$AE$17,2,FALSE),\"\")","v":""},{"$f":"IF(Datos_de_Tarjetas!G351=0,\"\",Datos_de_Tarjetas!G351)","v":""},{"$f":"IFERROR(VLOOKUP(Datos_de_Tarjetas!K351,Parámetros!$AJ$3:$AK$13,2,FALSE),\"\")","v":""},{"$f":"IFERROR(VLOOKUP(Datos_de_Tarjetas!J351,Parámetros!$AQ$3:$AR$57,2,FALSE),\"\")","v":""},null,{"$f":"IF(Datos_de_Tarjetas!L351=0,\"\",Datos_de_Tarjetas!L351)","v":""},{"$f":"IF(Datos_de_Tarjetas!M351=0,\"\",Datos_de_Tarjetas!M351)","v":""},{"$f":"IF(Datos_de_Tarjetas!N351=0,\"\",Datos_de_Tarjetas!N351)","v":""},{"$f":"IFERROR(VLOOKUP(Datos_de_Tarjetas!P351,Parámetros!$AM$3:$AN$90,2,FALSE),\"\")","v":""}]
[null,1069470000,{"$f":"IFERROR(VLOOKUP(Datos_de_Tarjetas!D352,Parámetros!$AD$12:$AE$17,2,FALSE),\"\")","v":""},{"$f":"IF(Datos_de_Tarjetas!G352=0,\"\",Datos_de_Tarjetas!G352)","v":""},{"$f":"IFERROR(VLOOKUP(Datos_de_Tarjetas!K352,Parámetros!$AJ$3:$AK$13,2,FALSE),\"\")","v":""},{"$f":"IFERROR(VLOOKUP(Datos_de_Tarjetas!J352,Parámetros!$AQ$3:$AR$57,2,FALSE),\"\")","v":""},null,{"$f":"IF(Datos_de_Tarjetas!L352=0,\"\",Datos_de_Tarjetas!L352)","v":""},{"$f":"IF(Datos_de_Tarjetas!M352=0,\"\",Datos_de_Tarjetas!M352)","v":""},{"$f":"IF(Datos_de_Tarjetas!N352=0,\"\",Datos_de_Tarjetas!N352)","v":""},{"$f":"IFERROR(VLOOKUP(Datos_de_Tarjetas!P352,Parámetros!$AM$3:$AN$90,2,FALSE),\"\")","v":""}]
[null,1069470000,{"$f":"IFERROR(VLOOKUP(Datos_de_Tarjetas!D353,Parámetros!$AD$12:$AE$17,2,FALSE),\"\")","v":""},{"$f":"IF(Datos_de_Tarjetas!G353=0,\"\",Datos_de_Tarjetas!G353)","v":""},{"$f":"IFERROR(VLOOKUP(Datos_de_Tarjetas!K353,Parámetros!$AJ$3:$AK$13,2,FALSE),\"\")","v":""},{"$f":"IFERROR(VLOOKUP(Datos_de_Tarjetas!J353,Parámetros!$AQ$3:$AR$57,2,FALSE),\"\")","v":""},null,{"$f":"IF(Datos_de_Tarjetas!L353=0,\"\",Datos_de_Tarjetas!L353)","v":""},{"$f":"IF(Datos_de_Tarjetas!M353=0,\"\",Datos_de_Tarjetas!M353)","v":""},{"$f":"IF(Datos_de_Tarjetas!N353=0,\"\",Datos_de_Tarjetas!N353)","v":""},{"$f":"IFERROR(VLOOKUP(Datos_de_Tarjetas!P353,Parámetros!$AM$3:$AN$90,2,FALSE),\"\")","v":""}]
[null,1069470000,{"$f":"IFERROR(VLOOKUP(Datos_de_Tarjetas!D354,Parámetros!$AD$12:$AE$17,2,FALSE),\"\")","v":""},{"$f":"IF(Datos_de_Tarjetas!G354=0,\"\",Datos_de_Tarjetas!G354)","v":""},{"$f":"IFERROR(VLOOKUP(Datos_de_Tarjetas!K354,Parámetros!$AJ$3:$AK$13,2,FALSE),\"\")","v":""},{"$f":"IFERROR(VLOOKUP(Datos_de_Tarjetas!J354,Parámetros!$AQ$3:$AR$57,2,FALSE),\"\")","v":""},null,{"$f":"IF(Datos_de_Tarjetas!L354=0,\"\",Datos_de_Tarjetas!L354)","v":""},{"$f":"IF(Datos_de_Tarjetas!M354=0,\"\",Datos_de_Tarjetas!M354)","v":""},{"$f":"IF(Datos_de_Tarjetas!N354=0,\"\",Datos_de_Tarjetas!N354)","v":""},{"$f":"IFERROR(VLOOKUP(Datos_de_Tarjetas!P354,Parámetros!$AM$3:$AN$90,2,FALSE),\"\")","v":""}]
[null,1069470000,{"$f":"IFERROR(VLOOKUP(Datos_de_Tarjetas!D355,Parámetros!$AD$12:$AE$17,2,FALSE),\"\")","v":""},{"$f":"IF(Datos_de_Tarjetas!G355=0,\"\",Datos_de_Tarjetas!G355)","v":""},{"$f":"IFERROR(VLOOKUP(Datos_de_Tarjetas!K355,Parámetros!$AJ$3:$AK$13,2,FALSE),\"\")","v":""},{"$f":"IFERROR(VLOOKUP(Datos_de_Tarjetas!J355,Parámetros!$AQ$3:$AR$57,2,FALSE),\"\")","v":""},null,{"$f":"IF(Datos_de_Tarjetas!L355=0,\"\",Datos_de_Tarjetas!L355)","v":""},{"$f":"IF(Datos_de_Tarjetas!M355=0,\"\",Datos_de_Tarjetas!M355)","v":""},{"$f":"IF(Datos_de_Tarjetas!N355=0,\"\",Datos_de_Tarjetas!N355)","v":""},{"$f":"IFERROR(VLOOKUP(Datos_de_Tarjetas!P355,Parámetros!$AM$3:$AN$90,2,FALSE),\"\")","v":""}]
[null,1069470000,{"$f":"IFERROR(VLOOKUP(Datos_de_Tarjetas!D356,Parámetros!$AD$12:$AE$17,2,FALSE),\"\")","v":""},{"$f":"IF(Datos_de_Tarjetas!G356=0,\"\",Datos_de_Tarjetas!G356)","v":""},{"$f":"IFERROR(VLOOKUP(Datos_de_Tarjetas!K356,Parámetros!$AJ$3:$AK$13,2,FALSE),\"\")","v":""},{"$f":"IFERROR(VLOOKUP(Datos_de_Tarjetas!J356,Parámetros!$AQ$3:$AR$57,2,FALSE),\"\")","v":""},null,{"$f":"IF(Datos_de_Tarjetas!L356=0,\"\",Datos_de_Tarjetas!L356)","v":""},{"$f":"IF(Datos_de_Tarjetas!M356=0,\"\",Datos_de_Tarjetas!M356)","v":""},{"$f":"IF(Datos_de_Tarjetas!N356=0,\"\",Datos_de_Tarjetas!N356)","v":""},{"$f":"IFERROR(VLOOKUP(Datos_de_Tarjetas!P356,Parámetros!$AM$3:$AN$90,2,FALSE),\"\")","v":""}]
[null,1069470000,{"$f":"IFERROR(VLOOKUP(Datos_de_Tarjetas!D357,Parámetros!$AD$12:$AE$17,2,FALSE),\"\")","v":""},{"$f":"IF(Datos_de_Tarjetas!G357=0,\"\",Datos_de_Tarjetas!G357)","v":""},{"$f":"IFERROR(VLOOKUP(Datos_de_Tarjetas!K357,Parámetros!$AJ$3:$AK$13,2,FALSE),\"\")","v":""},{"$f":"IFERROR(VLOOKUP(Datos_de_Tarjetas!J357,Parámetros!$AQ$3:$AR$57,2,FALSE),\"\")","v":""},null,{"$f":"IF(Datos_de_Tarjetas!L357=0,\"\",Datos_de_Tarjetas!L357)","v":""},{"$f":"IF(Datos_de_Tarjetas!M357=0,\"\",Datos_de_Tarjetas!M357)","v":""},{"$f":"IF(Datos_de_Tarjetas!N357=0,\"\",Datos_de_Tarjetas!N357)","v":""},{"$f":"IFERROR(VLOOKUP(Datos_de_Tarjetas!P357,Parámetros!$AM$3:$AN$90,2,FALSE),\"\")","v":""}]
[null,1069470000,{"$f":"IFERROR(VLOOKUP(Datos_de_Tarjetas!D358,Parámetros!$AD$12:$AE$17,2,FALSE),\"\")","v":""},{"$f":"IF(Datos_de_Tarjetas!G358=0,\"\",Datos_de_Tarjetas!G358)","v":""},{"$f":"IFERROR(VLOOKUP(Datos_de_Tarjetas!K358,Parámetros!$AJ$3:$AK$13,2,FALSE),\"\")","v":""},{"$f":"IFERROR(VLOOKUP(Datos_de_Tarjetas!J358,Parámetros!$AQ$3:$AR$57,2,FALSE),\"\")","v":""},null,{"$f":"IF(Datos_de_Tarjetas!L358=0,\"\",Datos_de_Tarjetas!L358)","v":""},{"$f":"IF(Datos_de_Tarjetas!M358=0,\"\",Datos_de_Tarjetas!M358)","v":""},{"$f":"IF(Datos_de_Tarjetas!N358=0,\"\",Datos_de_Tarjetas!N358)","v":""},{"$f":"IFERROR(VLOOKUP(Datos_de_Tarjetas!P358,Parámetros!$AM$3:$AN$90,2,FALSE),\"\")","v":""}]
[null,1069470000,{"$f":"IFERROR(VLOOKUP(Datos_de_Tarjetas!D359,Parámetros!$AD$12:$AE$17,2,FALSE),\"\")","v":""},{"$f":"IF(Datos_de_Tarjetas!G359=0,\"\",Datos_de_Tarjetas!G359)","v":""},{"$f":"IFERROR(VLOOKUP(Datos_de_Tarjetas!K359,Parámetros!$AJ$3:$AK$13,2,FALSE),\"\")","v":""},{"$f":"IFERROR(VLOOKUP(Datos_de_Tarjetas!J359,Parámetros!$AQ$3:$AR$57,2,FALSE),\"\")","v":""},null,{"$f":"IF(Datos_de_Tarjetas!L359=0,\"\",Datos_de_Tarjetas!L359)","v":""},{"$f":"IF(Datos_de_Tarjetas!M359=0,\"\",Datos_de_Tarjetas!M359)","v":""},{"$f":"IF(Datos_de_Tarjetas!N359=0,\"\",Datos_de_Tarjetas!N359)","v":""},{"$f":"IFERROR(VLOOKUP(Datos_de_Tarjetas!P359,Parámetros!$AM$3:$AN$90,2,FALSE),\"\")","v":""}]
[null,1069470000,{"$f":"IFERROR(VLOOKUP(Datos_de_Tarjetas!D360,Parámetros!$AD$12:$AE$17,2,FALSE),\"\")","v":""},{"$f":"IF(Datos_de_Tarjetas!G360=0,\"\",Datos_de_Tarjetas!G360)","v":""},{"$f":"IFERROR(VLOOKUP(Datos_de_Tarjetas!K360,Parámetros!$AJ$3:$AK$13,2,FALSE),\"\")","v":""},{"$f":"IFERROR(VLOOKUP(Datos_de_Tarjetas!J360,Parámetros!$AQ$3:$AR$57,2,FALSE),\"\")","v":""},null,{"$f":"IF(Datos_de_Tarjetas!L360=0,\"\",Datos_de_Tarjetas!L360)","v":""},{"$f":"IF(Datos_de_Tarjetas!M360=0,\"\",Datos_de_Tarjetas!M360)","v":""},{"$f":"IF(Datos_de_Tarjetas!N360=0,\"\",Datos_de_Tarjetas!N360)","v":""},{"$f":"IFERROR(VLOOKUP(Datos_de_Tarjetas!P360,Parámetros!$AM$3:$AN$90,2,FALSE),\"\")","v":""}]
[null,1069470000,{"$f":"IFERROR(VLOOKUP(Datos_de_Tarjetas!D361,Parámetros!$AD$12:$AE$17,2,FALSE),\"\")","v":""},{"$f":"IF(Datos_de_Tarjetas!G361=0,\"\",Datos_de_Tarjetas!G361)","v":""},{"$f":"IFERROR(VLOOKUP(Datos_de_Tarjetas!K361,Parámetros!$AJ$3:$AK$13,2,FALSE),\"\")","v":""},{"$f":"IFERROR(VLOOKUP(Datos_de_Tarjetas!J361,Parámetros!$AQ$3:$AR$57,2,FALSE),\"\")","v":""},null,{"$f":"IF(Datos_de_Tarjetas!L361=0,\"\",Datos_de_Tarjetas!L361)","v":""},{"$f":"IF(Datos_de_Tarjetas!M361=0,\"\",Datos_de_Tarjetas!M361)","v":""},{"$f":"IF(Datos_de_Tarjetas!N361=0,\"\",Datos_de_Tarjetas!N361)","v":""},{"$f":"IFERROR(VLOOKUP(Datos_de_Tarjetas!P361,Parámetros!$AM$3:$AN$90,2,FALSE),\"\")","v":""}]
[null,1069470000,{"$f":"IFERROR(VLOOKUP(Datos_de_Tarjetas!D362,Parámetros!$AD$12:$AE$17,2,FALSE),\"\")","v":""},{"$f":"IF(Datos_de_Tarjetas!G362=0,\"\",Datos_de_Tarjetas!G362)","v":""},{"$f":"IFERROR(VLOOKUP(Datos_de_Tarjetas!K362,Parámetros!$AJ$3:$AK$13,2,FALSE),\"\")","v":""},{"$f":"IFERROR(VLOOKUP(Datos_de_Tarjetas!J362,Parámetros!$AQ$3:$AR$57,2,FALSE),\"\")","v":""},null,{"$f":"IF(Datos_de_Tarjetas!L362=0,\"\",Datos_de_Tarjetas!L362)","v":""},{"$f":"IF(Datos_de_Tarjetas!M362=0,\"\",Datos_de_Tarjetas!M362)","v":""},{"$f":"IF(Datos_de_Tarjetas!N362=0,\"\",Datos_de_Tarjetas!N362)","v":""},{"$f":"IFERROR(VLOOKUP(Datos_de_Tarjetas!P362,Parámetros!$AM$3:$AN$90,2,FALSE),\"\")","v":""}]
[null,1069470000,{"$f":"IFERROR(VLOOKUP(Datos_de_Tarjetas!D363,Parámetros!$AD$12:$AE$17,2,FALSE),\"\")","v":""},{"$f":"IF(Datos_de_Tarjetas!G363=0,\"\",Datos_de_Tarjetas!G363)","v":""},{"$f":"IFERROR(VLOOKUP(Datos_de_Tarjetas!K363,Parámetros!$AJ$3:$AK$13,2,FALSE),\"\")","v":""},{"$f":"IFERROR(VLOOKUP(Datos_de_Tarjetas!J363,Parámetros!$AQ$3:$AR$57,2,FALSE),\"\")","v":""},null,{"$f":"IF(Datos_de_Tarjetas!L363=0,\"\",Datos_de_Tarjetas!L363)","v":""},{"$f":"IF(Datos_de_Tarjetas!M363=0,\"\",Datos_de_Tarjetas!M363)","v":""},{"$f":"IF(Datos_de_Tarjetas!N363=0,\"\",Datos_de_Tarjetas!N363)","v":""},{"$f":"IFERROR(VLOOKUP(Datos_de_Tarjetas!P363,Parámetros!$AM$3:$AN$90,2,FALSE),\"\")","v":""}]
[null,1069470000,{"$f":"IFERROR(VLOOKUP(Datos_de_Tarjetas!D364,Parámetros!$AD$12:$AE$17,2,FALSE),\"\")","v":""},{"$f":"IF(Datos_de_Tarjetas!G364=0,\"\",Datos_de_Tarjetas!G364)","v":""},{"$f":"IFERROR(VLOOKUP(Datos_de_Tarjetas!K364,Parámetros!$AJ$3:$AK$13,2,FALSE),\"\")","v":""},{"$f":"IFERROR(VLOOKUP(Datos_de_Tarjetas!J364,Parámetros!$AQ$3:$AR$57,2,FALSE),\"\")","v":""},null,{"$f":"IF(Datos_de_Tarjetas!L364=0,\"\",Datos_de_Tarjetas!L364)","v":""},{"$f":"IF(Datos_de_Tarjetas!M364=0,\"\",Datos_de_Tarjetas!M364)","v":""},{"$f":"IF(Datos_de_Tarjetas!N364=0,\"\",Datos_de_Tarjetas!N364)","v":""},{"$f":"IFERROR(VLOOKUP(Datos_de_Tarjetas!P364,Parámetros!$AM$3:$AN$90,2,FALSE),\"\")","v":""}]
[null,1069470000,{"$f":"IFERROR(VLOOKUP(Datos_de_Tarjetas!D365,Parámetros!$AD$12:$AE$17,2,FALSE),\"\")","v":""},{"$f":"IF(Datos_de_Tarjetas!G365=0,\"\",Datos_de_Tarjetas!G365)","v":""},{"$f":"IFERROR(VLOOKUP(Datos_de_Tarjetas!K365,Parámetros!$AJ$3:$AK$13,2,FALSE),\"\")","v":""},{"$f":"IFERROR(VLOOKUP(Datos_de_Tarjetas!J365,Parámetros!$AQ$3:$AR$57,2,FALSE),\"\")","v":""},null,{"$f":"IF(Datos_de_Tarjetas!L365=0,\"\",Datos_de_Tarjetas!L365)","v":""},{"$f":"IF(Datos_de_Tarjetas!M365=0,\"\",Datos_de_Tarjetas!M365)","v":""},{"$f":"IF(Datos_de_Tarjetas!N365=0,\"\",Datos_de_Tarjetas!N365)","v":""},{"$f":"IFERROR(VLOOKUP(Datos_de_Tarjetas!P365,Parámetros!$AM$3:$AN$90,2,FALSE),\"\")","v":""}]
[null,1069470000,{"$f":"IFERROR(VLOOKUP(Datos_de_Tarjetas!D366,Parámetros!$AD$12:$AE$17,2,FALSE),\"\")","v":""},{"$f":"IF(Datos_de_Tarjetas!G366=0,\"\",Datos_de_Tarjetas!G366)","v":""},{"$f":"IFERROR(VLOOKUP(Datos_de_Tarjetas!K366,Parámetros!$AJ$3:$AK$13,2,FALSE),\"\")","v":""},{"$f":"IFERROR(VLOOKUP(Datos_de_Tarjetas!J366,Parámetros!$AQ$3:$AR$57,2,FALSE),\"\")","v":""},null,{"$f":"IF(Datos_de_Tarjetas!L366=0,\"\",Datos_de_Tarjetas!L366)","v":""},{"$f":"IF(Datos_de_Tarjetas!M366=0,\"\",Datos_de_Tarjetas!M366)","v":""},{"$f":"IF(Datos_de_Tarjetas!N366=0,\"\",Datos_de_Tarjetas!N366)","v":""},{"$f":"IFERROR(VLOOKUP(Datos_de_Tarjetas!P366,Parámetros!$AM$3:$AN$90,2,FALSE),\"\")","v":""}]
[null,1069470000,{"$f":"IFERROR(VLOOKUP(Datos_de_Tarjetas!D367,Parámetros!$AD$12:$AE$17,2,FALSE),\"\")","v":""},{"$f":"IF(Datos_de_Tarjetas!G367=0,\"\",Datos_de_Tarjetas!G367)","v":""},{"$f":"IFERROR(VLOOKUP(Datos_de_Tarjetas!K367,Parámetros!$AJ$3:$AK$13,2,FALSE),\"\")","v":""},{"$f":"IFERROR(VLOOKUP(Datos_de_Tarjetas!J367,Parámetros!$AQ$3:$AR$57,2,FALSE),\"\")","v":""},null,{"$f":"IF(Datos_de_Tarjetas!L367=0,\"\",Datos_de_Tarjetas!L367)","v":""},{"$f":"IF(Datos_de_Tarjetas!M367=0,\"\",Datos_de_Tarjetas!M367)","v":""},{"$f":"IF(Datos_de_Tarjetas!N367=0,\"\",Datos_de_Tarjetas!N367)","v":""},{"$f":"IFERROR(VLOOKUP(Datos_de_Tarjetas!P367,Parámetros!$AM$3:$AN$90,2,FALSE),\"\")","v":""}]
[null,1069470000,{"$f":"IFERROR(VLOOKUP(Datos_de_Tarjetas!D368,Parámetros!$AD$12:$AE$17,2,FALSE),\"\")","v":""},{"$f":"IF(Datos_de_Tarjetas!G368=0,\"\",Datos_de_Tarjetas!G368)","v":""},{"$f":"IFERROR(VLOOKUP(Datos_de_Tarjetas!K368,Parámetros!$AJ$3:$AK$13,2,FALSE),\"\")","v":""},{"$f":"IFERROR(VLOOKUP(Datos_de_Tarjetas!J368,Parámetros!$AQ$3:$AR$57,2,FALSE),\"\")","v":""},null,{"$f":"IF(Datos_de_Tarjetas!L368=0,\"\",Datos_de_Tarjetas!L368)","v":""},{"$f":"IF(Datos_de_Tarjetas!M368=0,\"\",Datos_de_Tarjetas!M368)","v":""},{"$f":"IF(Datos_de_Tarjetas!N368=0,\"\",Datos_de_Tarjetas!N368)","v":""},{"$f":"IFERROR(VLOOKUP(Datos_de_Tarjetas!P368,Parámetros!$AM$3:$AN$90,2,FALSE),\"\")","v":""}]
[null,1069470000,{"$f":"IFERROR(VLOOKUP(Datos_de_Tarjetas!D369,Parámetros!$AD$12:$AE$17,2,FALSE),\"\")","v":""},{"$f":"IF(Datos_de_Tarjetas!G369=0,\"\",Datos_de_Tarjetas!G369)","v":""},{"$f":"IFERROR(VLOOKUP(Datos_de_Tarjetas!K369,Parámetros!$AJ$3:$AK$13,2,FALSE),\"\")","v":""},{"$f":"IFERROR(VLOOKUP(Datos_de_Tarjetas!J369,Parámetros!$AQ$3:$AR$57,2,FALSE),\"\")","v":""},null,{"$f":"IF(Datos_de_Tarjetas!L369=0,\"\",Datos_de_Tarjetas!L369)","v":""},{"$f":"IF(Datos_de_Tarjetas!M369=0,\"\",Datos_de_Tarjetas!M369)","v":""},{"$f":"IF(Datos_de_Tarjetas!N369=0,\"\",Datos_de_Tarjetas!N369)","v":""},{"$f":"IFERROR(VLOOKUP(Datos_de_Tarjetas!P369,Parámetros!$AM$3:$AN$90,2,FALSE),\"\")","v":""}]
[null,1069470000,{"$f":"IFERROR(VLOOKUP(Datos_de_Tarjetas!D370,Parámetros!$AD$12:$AE$17,2,FALSE),\"\")","v":""},{"$f":"IF(Datos_de_Tarjetas!G370=0,\"\",Datos_de_Tarjetas!G370)","v":""},{"$f":"IFERROR(VLOOKUP(Datos_de_Tarjetas!K370,Parámetros!$AJ$3:$AK$13,2,FALSE),\"\")","v":""},{"$f":"IFERROR(VLOOKUP(Datos_de_Tarjetas!J370,Parámetros!$AQ$3:$AR$57,2,FALSE),\"\")","v":""},null,{"$f":"IF(Datos_de_Tarjetas!L370=0,\"\",Datos_de_Tarjetas!L370)","v":""},{"$f":"IF(Datos_de_Tarjetas!M370=0,\"\",Datos_de_Tarjetas!M370)","v":""},{"$f":"IF(Datos_de_Tarjetas!N370=0,\"\",Datos_de_Tarjetas!N370)","v":""},{"$f":"IFERROR(VLOOKUP(Datos_de_Tarjetas!P370,Parámetros!$AM$3:$AN$90,2,FALSE),\"\")","v":""}]
[null,1069470000,{"$f":"IFERROR(VLOOKUP(Datos_de_Tarjetas!D371,Parámetros!$AD$12:$AE$17,2,FALSE),\"\")","v":""},{"$f":"IF(Datos_de_Tarjetas!G371=0,\"\",Datos_de_Tarjetas!G371)","v":""},{"$f":"IFERROR(VLOOKUP(Datos_de_Tarjetas!K371,Parámetros!$AJ$3:$AK$13,2,FALSE),\"\")","v":""},{"$f":"IFERROR(VLOOKUP(Datos_de_Tarjetas!J371,Parámetros!$AQ$3:$AR$57,2,FALSE),\"\")","v":""},null,{"$f":"IF(Datos_de_Tarjetas!L371=0,\"\",Datos_de_Tarjetas!L371)","v":""},{"$f":"IF(Datos_de_Tarjetas!M371=0,\"\",Datos_de_Tarjetas!M371)","v":""},{"$f":"IF(Datos_de_Tarjetas!N371=0,\"\",Datos_de_Tarjetas!N371)","v":""},{"$f":"IFERROR(VLOOKUP(Datos_de_Tarjetas!P371,Parámetros!$AM$3:$AN$90,2,FALSE),\"\")","v":""}]
[null,1069470000,{"$f":"IFERROR(VLOOKUP(Datos_de_Tarjetas!D372,Parámetros!$AD$12:$AE$17,2,FALSE),\"\")","v":""},{"$f":"IF(Datos_de_Tarjetas!G372=0,\"\",Datos_de_Tarjetas!G372)","v":""},{"$f":"IFERROR(VLOOKUP(Datos_de_Tarjetas!K372,Parámetros!$AJ$3:$AK$13,2,FALSE),\"\")","v":""},{"$f":"IFERROR(VLOOKUP(Datos_de_Tarjetas!J372,Parámetros!$AQ$3:$AR$57,2,FALSE),\"\")","v":""},null,{"$f":"IF(Datos_de_Tarjetas!L372=0,\"\",Datos_de_Tarjetas!L372)","v":""},{"$f":"IF(Datos_de_Tarjetas!M372=0,\"\",Datos_de_Tarjetas!M372)","v":""},{"$f":"IF(Datos_de_Tarjetas!N372=0,\"\",Datos_de_Tarjetas!N372)","v":""},{"$f":"IFERROR(VLOOKUP(Datos_de_Tarjetas!P372,Parámetros!$AM$3:$AN$90,2,FALSE),\"\")","v":""}]
[null,1069470000,{"$f":"IFERROR(VLOOKUP(Datos_de_Tarjetas!D373,Parámetros!$AD$12:$AE$17,2,FALSE),\"\")","v":""},{"$f":"IF(Datos_de_Tarjetas!G373=0,\"\",Datos_de_Tarjetas!G373)","v":""},{"$f":"IFERROR(VLOOKUP(Datos_de_Tarjetas!K373,Parámetros!$AJ$3:$AK$13,2,FALSE),\"\")","v":""},{"$f":"IFERROR(VLOOKUP(Datos_de_Tarjetas!J373,Parámetros!$AQ$3:$AR$57,2,FALSE),\"\")","v":""},null,{"$f":"IF(Datos_de_Tarjetas!L373=0,\"\",Datos_de_Tarjetas!L373)","v":""},{"$f":"IF(Datos_de_Tarjetas!M373=0,\"\",Datos_de_Tarjetas!M373)","v":""},{"$f":"IF(Datos_de_Tarjetas!N373=0,\"\",Datos_de_Tarjetas!N373)","v":""},{"$f":"IFERROR(VLOOKUP(Datos_de_Tarjetas!P373,Parámetros!$AM$3:$AN$90,2,FALSE),\"\")","v":""}]
[null,1069470000,{"$f":"IFERROR(VLOOKUP(Datos_de_Tarjetas!D374,Parámetros!$AD$12:$AE$17,2,FALSE),\"\")","v":""},{"$f":"IF(Datos_de_Tarjetas!G374=0,\"\",Datos_de_Tarjetas!G374)","v":""},{"$f":"IFERROR(VLOOKUP(Datos_de_Tarjetas!K374,Parámetros!$AJ$3:$AK$13,2,FALSE),\"\")","v":""},{"$f":"IFERROR(VLOOKUP(Datos_de_Tarjetas!J374,Parámetros!$AQ$3:$AR$57,2,FALSE),\"\")","v":""},null,{"$f":"IF(Datos_de_Tarjetas!L374=0,\"\",Datos_de_Tarjetas!L374)","v":""},{"$f":"IF(Datos_de_Tarjetas!M374=0,\"\",Datos_de_Tarjetas!M374)","v":""},{"$f":"IF(Datos_de_Tarjetas!N374=0,\"\",Datos_de_Tarjetas!N374)","v":""},{"$f":"IFERROR(VLOOKUP(Datos_de_Tarjetas!P374,Parámetros!$AM$3:$AN$90,2,FALSE),\"\")","v":""}]
[null,1069470000,{"$f":"IFERROR(VLOOKUP(Datos_de_Tarjetas!D375,Parámetros!$AD$12:$AE$17,2,FALSE),\"\")","v":""},{"$f":"IF(Datos_de_Tarjetas!G375=0,\"\",Datos_de_Tarjetas!G375)","v":""},{"$f":"IFERROR(VLOOKUP(Datos_de_Tarjetas!K375,Parámetros!$AJ$3:$AK$13,2,FALSE),\"\")","v":""},{"$f":"IFERROR(VLOOKUP(Datos_de_Tarjetas!J375,Parámetros!$AQ$3:$AR$57,2,FALSE),\"\")","v":""},null,{"$f":"IF(Datos_de_Tarjetas!L375=0,\"\",Datos_de_Tarjetas!L375)","v":""},{"$f":"IF(Datos_de_Tarjetas!M375=0,\"\",Datos_de_Tarjetas!M375)","v":""},{"$f":"IF(Datos_de_Tarjetas!N375=0,\"\",Datos_de_Tarjetas!N375)","v":""},{"$f":"IFERROR(VLOOKUP(Datos_de_Tarjetas!P375,Parámetros!$AM$3:$AN$90,2,FALSE),\"\")","v":""}]
[null,1069470000,{"$f":"IFERROR(VLOOKUP(Datos_de_Tarjetas!D376,Parámetros!$AD$12:$AE$17,2,FALSE),\"\")","v":""},{"$f":"IF(Datos_de_Tarjetas!G376=0,\"\",Datos_de_Tarjetas!G376)","v":""},{"$f":"IFERROR(VLOOKUP(Datos_de_Tarjetas!K376,Parámetros!$AJ$3:$AK$13,2,FALSE),\"\")","v":""},{"$f":"IFERROR(VLOOKUP(Datos_de_Tarjetas!J376,Parámetros!$AQ$3:$AR$57,2,FALSE),\"\")","v":""},null,{"$f":"IF(Datos_de_Tarjetas!L376=0,\"\",Datos_de_Tarjetas!L376)","v":""},{"$f":"IF(Datos_de_Tarjetas!M376=0,\"\",Datos_de_Tarjetas!M376)","v":""},{"$f":"IF(Datos_de_Tarjetas!N376=0,\"\",Datos_de_Tarjetas!N376)","v":""},{"$f":"IFERROR(VLOOKUP(Datos_de_Tarjetas!P376,Parámetros!$AM$3:$AN$90,2,FALSE),\"\")","v":""}]
[null,1069470000,{"$f":"IFERROR(VLOOKUP(Datos_de_Tarjetas!D377,Parámetros!$AD$12:$AE$17,2,FALSE),\"\")","v":""},{"$f":"IF(Datos_de_Tarjetas!G377=0,\"\",Datos_de_Tarjetas!G377)","v":""},{"$f":"IFERROR(VLOOKUP(Datos_de_Tarjetas!K377,Parámetros!$AJ$3:$AK$13,2,FALSE),\"\")","v":""},{"$f":"IFERROR(VLOOKUP(Datos_de_Tarjetas!J377,Parámetros!$AQ$3:$AR$57,2,FALSE),\"\")","v":""},null,{"$f":"IF(Datos_de_Tarjetas!L377=0,\"\",Datos_de_Tarjetas!L377)","v":""},{"$f":"IF(Datos_de_Tarjetas!M377=0,\"\",Datos_de_Tarjetas!M377)","v":""},{"$f":"IF(Datos_de_Tarjetas!N377=0,\"\",Datos_de_Tarjetas!N377)","v":""},{"$f":"IFERROR(VLOOKUP(Datos_de_Tarjetas!P377,Parámetros!$AM$3:$AN$90,2,FALSE),\"\")","v":""}]
[null,1069470000,{"$f":"IFERROR(VLOOKUP(Datos_de_Tarjetas!D378,Parámetros!$AD$12:$AE$17,2,FALSE),\"\")","v":""},{"$f":"IF(Datos_de_Tarjetas!G378=0,\"\",Datos_de_Tarjetas!G378)","v":""},{"$f":"IFERROR(VLOOKUP(Datos_de_Tarjetas!K378,Parámetros!$AJ$3:$AK$13,2,FALSE),\"\")","v":""},{"$f":"IFERROR(VLOOKUP(Datos_de_Tarjetas!J378,Parámetros!$AQ$3:$AR$57,2,FALSE),\"\")","v":""},null,{"$f":"IF(Datos_de_Tarjetas!L378=0,\"\",Datos_de_Tarjetas!L378)","v":""},{"$f":"IF(Datos_de_Tarjetas!M378=0,\"\",Datos_de_Tarjetas!M378)","v":""},{"$f":"IF(Datos_de_Tarjetas!N378=0,\"\",Datos_de_Tarjetas!N378)","v":""},{"$f":"IFERROR(VLOOKUP(Datos_de_Tarjetas!P378,Parámetros!$AM$3:$AN$90,2,FALSE),\"\")","v":""}]
[null,1069470000,{"$f":"IFERROR(VLOOKUP(Datos_de_Tarjetas!D379,Parámetros!$AD$12:$AE$17,2,FALSE),\"\")","v":""},{"$f":"IF(Datos_de_Tarjetas!G379=0,\"\",Datos_de_Tarjetas!G379)","v":""},{"$f":"IFERROR(VLOOKUP(Datos_de_Tarjetas!K379,Parámetros!$AJ$3:$AK$13,2,FALSE),\"\")","v":""},{"$f":"IFERROR(VLOOKUP(Datos_de_Tarjetas!J379,Parámetros!$AQ$3:$AR$57,2,FALSE),\"\")","v":""},null,{"$f":"IF(Datos_de_Tarjetas!L379=0,\"\",Datos_de_Tarjetas!L379)","v":""},{"$f":"IF(Datos_de_Tarjetas!M379=0,\"\",Datos_de_Tarjetas!M379)","v":""},{"$f":"IF(Datos_de_Tarjetas!N379=0,\"\",Datos_de_Tarjetas!N379)","v":""},{"$f":"IFERROR(VLOOKUP(Datos_de_Tarjetas!P379,Parámetros!$AM$3:$AN$90,2,FALSE),\"\")","v":""}]
[null,1069470000,{"$f":"IFERROR(VLOOKUP(Datos_de_Tarjetas!D380,Parámetros!$AD$12:$AE$17,2,FALSE),\"\")","v":""},{"$f":"IF(Datos_de_Tarjetas!G380=0,\"\",Datos_de_Tarjetas!G380)","v":""},{"$f":"IFERROR(VLOOKUP(Datos_de_Tarjetas!K380,Parámetros!$AJ$3:$AK$13,2,FALSE),\"\")","v":""},{"$f":"IFERROR(VLOOKUP(Datos_de_Tarjetas!J380,Parámetros!$AQ$3:$AR$57,2,FALSE),\"\")","v":""},null,{"$f":"IF(Datos_de_Tarjetas!L380=0,\"\",Datos_de_Tarjetas!L380)","v":""},{"$f":"IF(Datos_de_Tarjetas!M380=0,\"\",Datos_de_Tarjetas!M380)","v":""},{"$f":"IF(Datos_de_Tarjetas!N380=0,\"\",Datos_de_Tarjetas!N380)","v":""},{"$f":"IFERROR(VLOOKUP(Datos_de_Tarjetas!P380,Parámetros!$AM$3:$AN$90,2,FALSE),\"\")","v":""}]
[null,1069470000,{"$f":"IFERROR(VLOOKUP(Datos_de_Tarjetas!D381,Parámetros!$AD$12:$AE$17,2,FALSE),\"\")","v":""},{"$f":"IF(Datos_de_Tarjetas!G381=0,\"\",Datos_de_Tarjetas!G381)","v":""},{"$f":"IFERROR(VLOOKUP(Datos_de_Tarjetas!K381,Parámetros!$AJ$3:$AK$13,2,FALSE),\"\")","v":""},{"$f":"IFERROR(VLOOKUP(Datos_de_Tarjetas!J381,Parámetros!$AQ$3:$AR$57,2,FALSE),\"\")","v":""},null,{"$f":"IF(Datos_de_Tarjetas!L381=0,\"\",Datos_de_Tarjetas!L381)","v":""},{"$f":"IF(Datos_de_Tarjetas!M381=0,\"\",Datos_de_Tarjetas!M381)","v":""},{"$f":"IF(Datos_de_Tarjetas!N381=0,\"\",Datos_de_Tarjetas!N381)","v":""},{"$f":"IFERROR(VLOOKUP(Datos_de_Tarjetas!P381,Parámetros!$AM$3:$AN$90,2,FALSE),\"\")","v":""}]
[null,1069470000,{"$f":"IFERROR(VLOOKUP(Datos_de_Tarjetas!D382,Parámetros!$AD$12:$AE$17,2,FALSE),\"\")","v":""},{"$f":"IF(Datos_de_Tarjetas!G382=0,\"\",Datos_de_Tarjetas!G382)","v":""},{"$f":"IFERROR(VLOOKUP(Datos_de_Tarjetas!K382,Parámetros!$AJ$3:$AK$13,2,FALSE),\"\")","v":""},{"$f":"IFERROR(VLOOKUP(Datos_de_Tarjetas!J382,Parámetros!$AQ$3:$AR$57,2,FALSE),\"\")","v":""},null,{"$f":"IF(Datos_de_Tarjetas!L382=0,\"\",Datos_de_Tarjetas!L382)","v":""},{"$f":"IF(Datos_de_Tarjetas!M382=0,\"\",Datos_de_Tarjetas!M382)","v":""},{"$f":"IF(Datos_de_Tarjetas!N382=0,\"\",Datos_de_Tarjetas!N382)","v":""},{"$f":"IFERROR(VLOOKUP(Datos_de_Tarjetas!P382,Parámetros!$AM$3:$AN$90,2,FALSE),\"\")","v":""}]
[null,1069470000,{"$f":"IFERROR(VLOOKUP(Datos_de_Tarjetas!D383,Parámetros!$AD$12:$AE$17,2,FALSE),\"\")","v":""},{"$f":"IF(Datos_de_Tarjetas!G383=0,\"\",Datos_de_Tarjetas!G383)","v":""},{"$f":"IFERROR(VLOOKUP(Datos_de_Tarjetas!K383,Parámetros!$AJ$3:$AK$13,2,FALSE),\"\")","v":""},{"$f":"IFERROR(VLOOKUP(Datos_de_Tarjetas!J383,Parámetros!$AQ$3:$AR$57,2,FALSE),\"\")","v":""},null,{"$f":"IF(Datos_de_Tarjetas!L383=0,\"\",Datos_de_Tarjetas!L383)","v":""},{"$f":"IF(Datos_de_Tarjetas!M383=0,\"\",Datos_de_Tarjetas!M383)","v":""},{"$f":"IF(Datos_de_Tarjetas!N383=0,\"\",Datos_de_Tarjetas!N383)","v":""},{"$f":"IFERROR(VLOOKUP(Datos_de_Tarjetas!P383,Parámetros!$AM$3:$AN$90,2,FALSE),\"\")","v":""}]
[null,1069470000,{"$f":"IFERROR(VLOOKUP(Datos_de_Tarjetas!D384,Parámetros!$AD$12:$AE$17,2,FALSE),\"\")","v":""},{"$f":"IF(Datos_de_Tarjetas!G384=0,\"\",Datos_de_Tarjetas!G384)","v":""},{"$f":"IFERROR(VLOOKUP(Datos_de_Tarjetas!K384,Parámetros!$AJ$3:$AK$13,2,FALSE),\"\")","v":""},{"$f":"IFERROR(VLOOKUP(Datos_de_Tarjetas!J384,Parámetros!$AQ$3:$AR$57,2,FALSE),\"\")","v":""},null,{"$f":"IF(Datos_de_Tarjetas!L384=0,\"\",Datos_de_Tarjetas!L384)","v":""},{"$f":"IF(Datos_de_Tarjetas!M384=0,\"\",Datos_de_Tarjetas!M384)","v":""},{"$f":"IF(Datos_de_Tarjetas!N384=0,\"\",Datos_de_Tarjetas!N384)","v":""},{"$f":"IFERROR(VLOOKUP(Datos_de_Tarjetas!P384,Parámetros!$AM$3:$AN$90,2,FALSE),\"\")","v":""}]
[null,1069470000,{"$f":"IFERROR(VLOOKUP(Datos_de_Tarjetas!D385,Parámetros!$AD$12:$AE$17,2,FALSE),\"\")","v":""},{"$f":"IF(Datos_de_Tarjetas!G385=0,\"\",Datos_de_Tarjetas!G385)","v":""},{"$f":"IFERROR(VLOOKUP(Datos_de_Tarjetas!K385,Parámetros!$AJ$3:$AK$13,2,FALSE),\"\")","v":""},{"$f":"IFERROR(VLOOKUP(Datos_de_Tarjetas!J385,Parámetros!$AQ$3:$AR$57,2,FALSE),\"\")","v":""},null,{"$f":"IF(Datos_de_Tarjetas!L385=0,\"\",Datos_de_Tarjetas!L385)","v":""},{"$f":"IF(Datos_de_Tarjetas!M385=0,\"\",Datos_de_Tarjetas!M385)","v":""},{"$f":"IF(Datos_de_Tarjetas!N385=0,\"\",Datos_de_Tarjetas!N385)","v":""},{"$f":"IFERROR(VLOOKUP(Datos_de_Tarjetas!P385,Parámetros!$AM$3:$AN$90,2,FALSE),\"\")","v":""}]
[null,1069470000,{"$f":"IFERROR(VLOOKUP(Datos_de_Tarjetas!D386,Parámetros!$AD$12:$AE$17,2,FALSE),\"\")","v":""},{"$f":"IF(Datos_de_Tarjetas!G386=0,\"\",Datos_de_Tarjetas!G386)","v":""},{"$f":"IFERROR(VLOOKUP(Datos_de_Tarjetas!K386,Parámetros!$AJ$3:$AK$13,2,FALSE),\"\")","v":""},{"$f":"IFERROR(VLOOKUP(Datos_de_Tarjetas!J386,Parámetros!$AQ$3:$AR$57,2,FALSE),\"\")","v":""},null,{"$f":"IF(Datos_de_Tarjetas!L386=0,\"\",Datos_de_Tarjetas!L386)","v":""},{"$f":"IF(Datos_de_Tarjetas!M386=0,\"\",Datos_de_Tarjetas!M386)","v":""},{"$f":"IF(Datos_de_Tarjetas!N386=0,\"\",Datos_de_Tarjetas!N386)","v":""},{"$f":"IFERROR(VLOOKUP(Datos_de_Tarjetas!P386,Parámetros!$AM$3:$AN$90,2,FALSE),\"\")","v":""}]
[null,1069470000,{"$f":"IFERROR(VLOOKUP(Datos_de_Tarjetas!D387,Parámetros!$AD$12:$AE$17,2,FALSE),\"\")","v":""},{"$f":"IF(Datos_de_Tarjetas!G387=0,\"\",Datos_de_Tarjetas!G387)","v":""},{"$f":"IFERROR(VLOOKUP(Datos_de_Tarjetas!K387,Parámetros!$AJ$3:$AK$13,2,FALSE),\"\")","v":""},{"$f":"IFERROR(VLOOKUP(Datos_de_Tarjetas!J387,Parámetros!$AQ$3:$AR$57,2,FALSE),\"\")","v":""},null,{"$f":"IF(Datos_de_Tarjetas!L387=0,\"\",Datos_de_Tarjetas!L387)","v":""},{"$f":"IF(Datos_de_Tarjetas!M387=0,\"\",Datos_de_Tarjetas!M387)","v":""},{"$f":"IF(Datos_de_Tarjetas!N387=0,\"\",Datos_de_Tarjetas!N387)","v":""},{"$f":"IFERROR(VLOOKUP(Datos_de_Tarjetas!P387,Parámetros!$AM$3:$AN$90,2,FALSE),\"\")","v":""}]
[null,1069470000,{"$f":"IFERROR(VLOOKUP(Datos_de_Tarjetas!D388,Parámetros!$AD$12:$AE$17,2,FALSE),\"\")","v":""},{"$f":"IF(Datos_de_Tarjetas!G388=0,\"\",Datos_de_Tarjetas!G388)","v":""},{"$f":"IFERROR(VLOOKUP(Datos_de_Tarjetas!K388,Parámetros!$AJ$3:$AK$13,2,FALSE),\"\")","v":""},{"$f":"IFERROR(VLOOKUP(Datos_de_Tarjetas!J388,Parámetros!$AQ$3:$AR$57,2,FALSE),\"\")","v":""},null,{"$f":"IF(Datos_de_Tarjetas!L388=0,\"\",Datos_de_Tarjetas!L388)","v":""},{"$f":"IF(Datos_de_Tarjetas!M388=0,\"\",Datos_de_Tarjetas!M388)","v":""},{"$f":"IF(Datos_de_Tarjetas!N388=0,\"\",Datos_de_Tarjetas!N388)","v":""},{"$f":"IFERROR(VLOOKUP(Datos_de_Tarjetas!P388,Parámetros!$AM$3:$AN$90,2,FALSE),\"\")","v":""}]
[null,1069470000,{"$f":"IFERROR(VLOOKUP(Datos_de_Tarjetas!D389,Parámetros!$AD$12:$AE$17,2,FALSE),\"\")","v":""},{"$f":"IF(Datos_de_Tarjetas!G389=0,\"\",Datos_de_Tarjetas!G389)","v":""},{"$f":"IFERROR(VLOOKUP(Datos_de_Tarjetas!K389,Parámetros!$AJ$3:$AK$13,2,FALSE),\"\")","v":""},{"$f":"IFERROR(VLOOKUP(Datos_de_Tarjetas!J389,Parámetros!$AQ$3:$AR$57,2,FALSE),\"\")","v":""},null,{"$f":"IF(Datos_de_Tarjetas!L389=0,\"\",Datos_de_Tarjetas!L389)","v":""},{"$f":"IF(Datos_de_Tarjetas!M389=0,\"\",Datos_de_Tarjetas!M389)","v":""},{"$f":"IF(Datos_de_Tarjetas!N389=0,\"\",Datos_de_Tarjetas!N389)","v":""},{"$f":"IFERROR(VLOOKUP(Datos_de_Tarjetas!P389,Parámetros!$AM$3:$AN$90,2,FALSE),\"\")","v":""}]
[null,1069470000,{"$f":"IFERROR(VLOOKUP(Datos_de_Tarjetas!D390,Parámetros!$AD$12:$AE$17,2,FALSE),\"\")","v":""},{"$f":"IF(Datos_de_Tarjetas!G390=0,\"\",Datos_de_Tarjetas!G390)","v":""},{"$f":"IFERROR(VLOOKUP(Datos_de_Tarjetas!K390,Parámetros!$AJ$3:$AK$13,2,FALSE),\"\")","v":""},{"$f":"IFERROR(VLOOKUP(Datos_de_Tarjetas!J390,Parámetros!$AQ$3:$AR$57,2,FALSE),\"\")","v":""},null,{"$f":"IF(Datos_de_Tarjetas!L390=0,\"\",Datos_de_Tarjetas!L390)","v":""},{"$f":"IF(Datos_de_Tarjetas!M390=0,\"\",Datos_de_Tarjetas!M390)","v":""},{"$f":"IF(Datos_de_Tarjetas!N390=0,\"\",Datos_de_Tarjetas!N390)","v":""},{"$f":"IFERROR(VLOOKUP(Datos_de_Tarjetas!P390,Parámetros!$AM$3:$AN$90,2,FALSE),\"\")","v":""}]
[null,1069470000,{"$f":"IFERROR(VLOOKUP(Datos_de_Tarjetas!D391,Parámetros!$AD$12:$AE$17,2,FALSE),\"\")","v":""},{"$f":"IF(Datos_de_Tarjetas!G391=0,\"\",Datos_de_Tarjetas!G391)","v":""},{"$f":"IFERROR(VLOOKUP(Datos_de_Tarjetas!K391,Parámetros!$AJ$3:$AK$13,2,FALSE),\"\")","v":""},{"$f":"IFERROR(VLOOKUP(Datos_de_Tarjetas!J391,Parámetros!$AQ$3:$AR$57,2,FALSE),\"\")","v":""},null,{"$f":"IF(Datos_de_Tarjetas!L391=0,\"\",Datos_de_Tarjetas!L391)","v":""},{"$f":"IF(Datos_de_Tarjetas!M391=0,\"\",Datos_de_Tarjetas!M391)","v":""},{"$f":"IF(Datos_de_Tarjetas!N391=0,\"\",Datos_de_Tarjetas!N391)","v":""},{"$f":"IFERROR(VLOOKUP(Datos_de_Tarjetas!P391,Parámetros!$AM$3:$AN$90,2,FALSE),\"\")","v":""}]
[null,1069470000,{"$f":"IFERROR(VLOOKUP(Datos_de_Tarjetas!D392,Parámetros!$AD$12:$AE$17,2,FALSE),\"\")","v":""},{"$f":"IF(Datos_de_Tarjetas!G392=0,\"\",Datos_de_Tarjetas!G392)","v":""},{"$f":"IFERROR(VLOOKUP(Datos_de_Tarjetas!K392,Parámetros!$AJ$3:$AK$13,2,FALSE),\"\")","v":""},{"$f":"IFERROR(VLOOKUP(Datos_de_Tarjetas!J392,Parámetros!$AQ$3:$AR$57,2,FALSE),\"\")","v":""},null,{"$f":"IF(Datos_de_Tarjetas!L392=0,\"\",Datos_de_Tarjetas!L392)","v":""},{"$f":"IF(Datos_de_Tarjetas!M392=0,\"\",Datos_de_Tarjetas!M392)","v":""},{"$f":"IF(Datos_de_Tarjetas!N392=0,\"\",Datos_de_Tarjetas!N392)","v":""},{"$f":"IFERROR(VLOOKUP(Datos_de_Tarjetas!P392,Parámetros!$AM$3:$AN$90,2,FALSE),\"\")","v":""}]
[null,1069470000,{"$f":"IFERROR(VLOOKUP(Datos_de_Tarjetas!D393,Parámetros!$AD$12:$AE$17,2,FALSE),\"\")","v":""},{"$f":"IF(Datos_de_Tarjetas!G393=0,\"\",Datos_de_Tarjetas!G393)","v":""},{"$f":"IFERROR(VLOOKUP(Datos_de_Tarjetas!K393,Parámetros!$AJ$3:$AK$13,2,FALSE),\"\")","v":""},{"$f":"IFERROR(VLOOKUP(Datos_de_Tarjetas!J393,Parámetros!$AQ$3:$AR$57,2,FALSE),\"\")","v":""},null,{"$f":"IF(Datos_de_Tarjetas!L393=0,\"\",Datos_de_Tarjetas!L393)","v":""},{"$f":"IF(Datos_de_Tarjetas!M393=0,\"\",Datos_de_Tarjetas!M393)","v":""},{"$f":"IF(Datos_de_Tarjetas!N393=0,\"\",Datos_de_Tarjetas!N393)","v":""},{"$f":"IFERROR(VLOOKUP(Datos_de_Tarjetas!P393,Parámetros!$AM$3:$AN$90,2,FALSE),\"\")","v":""}]
[null,1069470000,{"$f":"IFERROR(VLOOKUP(Datos_de_Tarjetas!D394,Parámetros!$AD$12:$AE$17,2,FALSE),\"\")","v":""},{"$f":"IF(Datos_de_Tarjetas!G394=0,\"\",Datos_de_Tarjetas!G394)","v":""},{"$f":"IFERROR(VLOOKUP(Datos_de_Tarjetas!K394,Parámetros!$AJ$3:$AK$13,2,FALSE),\"\")","v":""},{"$f":"IFERROR(VLOOKUP(Datos_de_Tarjetas!J394,Parámetros!$AQ$3:$AR$57,2,FALSE),\"\")","v":""},null,{"$f":"IF(Datos_de_Tarjetas!L394=0,\"\",Datos_de_Tarjetas!L394)","v":""},{"$f":"IF(Datos_de_Tarjetas!M394=0,\"\",Datos_de_Tarjetas!M394)","v":""},{"$f":"IF(Datos_de_Tarjetas!N394=0,\"\",Datos_de_Tarjetas!N394)","v":""},{"$f":"IFERROR(VLOOKUP(Datos_de_Tarjetas!P394,Parámetros!$AM$3:$AN$90,2,FALSE),\"\")","v":""}]
[null,1069470000,{"$f":"IFERROR(VLOOKUP(Datos_de_Tarjetas!D395,Parámetros!$AD$12:$AE$17,2,FALSE),\"\")","v":""},{"$f":"IF(Datos_de_Tarjetas!G395=0,\"\",Datos_de_Tarjetas!G395)","v":""},{"$f":"IFERROR(VLOOKUP(Datos_de_Tarjetas!K395,Parámetros!$AJ$3:$AK$13,2,FALSE),\"\")","v":""},{"$f":"IFERROR(VLOOKUP(Datos_de_Tarjetas!J395,Parámetros!$AQ$3:$AR$57,2,FALSE),\"\")","v":""},null,{"$f":"IF(Datos_de_Tarjetas!L395=0,\"\",Datos_de_Tarjetas!L395)","v":""},{"$f":"IF(Datos_de_Tarjetas!M395=0,\"\",Datos_de_Tarjetas!M395)","v":""},{"$f":"IF(Datos_de_Tarjetas!N395=0,\"\",Datos_de_Tarjetas!N395)","v":""},{"$f":"IFERROR(VLOOKUP(Datos_de_Tarjetas!P395,Parámetros!$AM$3:$AN$90,2,FALSE),\"\")","v":""}]
[null,1069470000,{"$f":"IFERROR(VLOOKUP(Datos_de_Tarjetas!D396,Parámetros!$AD$12:$AE$17,2,FALSE),\"\")","v":""},{"$f":"IF(Datos_de_Tarjetas!G396=0,\"\",Datos_de_Tarjetas!G396)","v":""},{"$f":"IFERROR(VLOOKUP(Datos_de_Tarjetas!K396,Parámetros!$AJ$3:$AK$13,2,FALSE),\"\")","v":""},{"$f":"IFERROR(VLOOKUP(Datos_de_Tarjetas!J396,Parámetros!$AQ$3:$AR$57,2,FALSE),\"\")","v":""},null,{"$f":"IF(Datos_de_Tarjetas!L396=0,\"\",Datos_de_Tarjetas!L396)","v":""},{"$f":"IF(Datos_de_Tarjetas!M396=0,\"\",Datos_de_Tarjetas!M396)","v":""},{"$f":"IF(Datos_de_Tarjetas!N396=0,\"\",Datos_de_Tarjetas!N396)","v":""},{"$f":"IFERROR(VLOOKUP(Datos_de_Tarjetas!P396,Parámetros!$AM$3:$AN$90,2,FALSE),\"\")","v":""}]
[null,1069470000,{"$f":"IFERROR(VLOOKUP(Datos_de_Tarjetas!D397,Parámetros!$AD$12:$AE$17,2,FALSE),\"\")","v":""},{"$f":"IF(Datos_de_Tarjetas!G397=0,\"\",Datos_de_Tarjetas!G397)","v":""},{"$f":"IFERROR(VLOOKUP(Datos_de_Tarjetas!K397,Parámetros!$AJ$3:$AK$13,2,FALSE),\"\")","v":""},{"$f":"IFERROR(VLOOKUP(Datos_de_Tarjetas!J397,Parámetros!$AQ$3:$AR$57,2,FALSE),\"\")","v":""},null,{"$f":"IF(Datos_de_Tarjetas!L397=0,\"\",Datos_de_Tarjetas!L397)","v":""},{"$f":"IF(Datos_de_Tarjetas!M397=0,\"\",Datos_de_Tarjetas!M397)","v":""},{"$f":"IF(Datos_de_Tarjetas!N397=0,\"\",Datos_de_Tarjetas!N397)","v":""},{"$f":"IFERROR(VLOOKUP(Datos_de_Tarjetas!P397,Parámetros!$AM$3:$AN$90,2,FALSE),\"\")","v":""}]
[null,1069470000,{"$f":"IFERROR(VLOOKUP(Datos_de_Tarjetas!D398,Parámetros!$AD$12:$AE$17,2,FALSE),\"\")","v":""},{"$f":"IF(Datos_de_Tarjetas!G398=0,\"\",Datos_de_Tarjetas!G398)","v":""},{"$f":"IFERROR(VLOOKUP(Datos_de_Tarjetas!K398,Parámetros!$AJ$3:$AK$13,2,FALSE),\"\")","v":""},{"$f":"IFERROR(VLOOKUP(Datos_de_Tarjetas!J398,Parámetros!$AQ$3:$AR$57,2,FALSE),\"\")","v":""},null,{"$f":"IF(Datos_de_Tarjetas!L398=0,\"\",Datos_de_Tarjetas!L398)","v":""},{"$f":"IF(Datos_de_Tarjetas!M398=0,\"\",Datos_de_Tarjetas!M398)","v":""},{"$f":"IF(Datos_de_Tarjetas!N398=0,\"\",Datos_de_Tarjetas!N398)","v":""},{"$f":"IFERROR(VLOOKUP(Datos_de_Tarjetas!P398,Parámetros!$AM$3:$AN$90,2,FALSE),\"\")","v":""}]
[null,1069470000,{"$f":"IFERROR(VLOOKUP(Datos_de_Tarjetas!D399,Parámetros!$AD$12:$AE$17,2,FALSE),\"\")","v":""},{"$f":"IF(Datos_de_Tarjetas!G399=0,\"\",Datos_de_Tarjetas!G399)","v":""},{"$f":"IFERROR(VLOOKUP(Datos_de_Tarjetas!K399,Parámetros!$AJ$3:$AK$13,2,FALSE),\"\")","v":""},{"$f":"IFERROR(VLOOKUP(Datos_de_Tarjetas!J399,Parámetros!$AQ$3:$AR$57,2,FALSE),\"\")","v":""},null,{"$f":"IF(Datos_de_Tarjetas!L399=0,\"\",Datos_de_Tarjetas!L399)","v":""},{"$f":"IF(Datos_de_Tarjetas!M399=0,\"\",Datos_de_Tarjetas!M399)","v":""},{"$f":"IF(Datos_de_Tarjetas!N399=0,\"\",Datos_de_Tarjetas!N399)","v":""},{"$f":"IFERROR(VLOOKUP(Datos_de_Tarjetas!P399,Parámetros!$AM$3:$AN$90,2,FALSE),\"\")","v":""}]
[null,1069470000,{"$f":"IFERROR(VLOOKUP(Datos_de_Tarjetas!D400,Parámetros!$AD$12:$AE$17,2,FALSE),\"\")","v":""},{"$f":"IF(Datos_de_Tarjetas!G400=0,\"\",Datos_de_Tarjetas!G400)","v":""},{"$f":"IFERROR(VLOOKUP(Datos_de_Tarjetas!K400,Parámetros!$AJ$3:$AK$13,2,FALSE),\"\")","v":""},{"$f":"IFERROR(VLOOKUP(Datos_de_Tarjetas!J400,Parámetros!$AQ$3:$AR$57,2,FALSE),\"\")","v":""},null,{"$f":"IF(Datos_de_Tarjetas!L400=0,\"\",Datos_de_Tarjetas!L400)","v":""},{"$f":"IF(Datos_de_Tarjetas!M400=0,\"\",Datos_de_Tarjetas!M400)","v":""},{"$f":"IF(Datos_de_Tarjetas!N400=0,\"\",Datos_de_Tarjetas!N400)","v":""},{"$f":"IFERROR(VLOOKUP(Datos_de_Tarjetas!P400,Parámetros!$AM$3:$AN$90,2,FALSE),\"\")","v":""}]
[null,{"$f":"$C$2","v":1069470000},{"$f":"IFERROR(VLOOKUP(Datos_de_Tarjetas!D401,Parámetros!$AD$12:$AE$17,2,FALSE),\"\")","v":""},{"$f":"IF(Datos_de_Tarjetas!G401=0,\"\",Datos_de_Tarjetas!G401)","v":""},{"$f":"IFERROR(VLOOKUP(Datos_de_Tarjetas!K401,Parámetros!$AJ$3:$AK$13,2,FALSE),\"\")","v":""},{"$f":"IFERROR(VLOOKUP(Datos_de_Tarjetas!J401,Parámetros!$AQ$3:$AR$57,2,FALSE),\"\")","v":""},null,{"$f":"IF(Datos_de_Tarjetas!L401=0,\"\",Datos_de_Tarjetas!L401)","v":""},{"$f":"IF(Datos_de_Tarjetas!M401=0,\"\",Datos_de_Tarjetas!M401)","v":""},{"$f":"IF(Datos_de_Tarjetas!N401=0,\"\",Datos_de_Tarjetas!N401)","v":""},{"$f":"IFERROR(VLOOKUP(Datos_de_Tarjetas!P401,Parámetros!$AM$3:$AN$90,2,FALSE),\"\")","v":""}]
[null,1069470000,{"$f":"IFERROR(VLOOKUP(Datos_de_Tarjetas!D402,Parámetros!$AD$12:$AE$17,2,FALSE),\"\")","v":""},{"$f":"IF(Datos_de_Tarjetas!G402=0,\"\",Datos_de_Tarjetas!G402)","v":""},{"$f":"IFERROR(VLOOKUP(Datos_de_Tarjetas!K402,Parámetros!$AJ$3:$AK$13,2,FALSE),\"\")","v":""},{"$f":"IFERROR(VLOOKUP(Datos_de_Tarjetas!J402,Parámetros!$AQ$3:$AR$57,2,FALSE),\"\")","v":""},null,{"$f":"IF(Datos_de_Tarjetas!L402=0,\"\",Datos_de_Tarjetas!L402)","v":""},{"$f":"IF(Datos_de_Tarjetas!M402=0,\"\",Datos_de_Tarjetas!M402)","v":""},{"$f":"IF(Datos_de_Tarjetas!N402=0,\"\",Datos_de_Tarjetas!N402)","v":""},{"$f":"IFERROR(VLOOKUP(Datos_de_Tarjetas!P402,Parámetros!$AM$3:$AN$90,2,FALSE),\"\")","v":""}]
[null,1069470000,{"$f":"IFERROR(VLOOKUP(Datos_de_Tarjetas!D403,Parámetros!$AD$12:$AE$17,2,FALSE),\"\")","v":""},{"$f":"IF(Datos_de_Tarjetas!G403=0,\"\",Datos_de_Tarjetas!G403)","v":""},{"$f":"IFERROR(VLOOKUP(Datos_de_Tarjetas!K403,Parámetros!$AJ$3:$AK$13,2,FALSE),\"\")","v":""},{"$f":"IFERROR(VLOOKUP(Datos_de_Tarjetas!J403,Parámetros!$AQ$3:$AR$57,2,FALSE),\"\")","v":""},null,{"$f":"IF(Datos_de_Tarjetas!L403=0,\"\",Datos_de_Tarjetas!L403)","v":""},{"$f":"IF(Datos_de_Tarjetas!M403=0,\"\",Datos_de_Tarjetas!M403)","v":""},{"$f":"IF(Datos_de_Tarjetas!N403=0,\"\",Datos_de_Tarjetas!N403)","v":""},{"$f":"IFERROR(VLOOKUP(Datos_de_Tarjetas!P403,Parámetros!$AM$3:$AN$90,2,FALSE),\"\")","v":""}]
[null,1069470000,{"$f":"IFERROR(VLOOKUP(Datos_de_Tarjetas!D404,Parámetros!$AD$12:$AE$17,2,FALSE),\"\")","v":""},{"$f":"IF(Datos_de_Tarjetas!G404=0,\"\",Datos_de_Tarjetas!G404)","v":""},{"$f":"IFERROR(VLOOKUP(Datos_de_Tarjetas!K404,Parámetros!$AJ$3:$AK$13,2,FALSE),\"\")","v":""},{"$f":"IFERROR(VLOOKUP(Datos_de_Tarjetas!J404,Parámetros!$AQ$3:$AR$57,2,FALSE),\"\")","v":""},null,{"$f":"IF(Datos_de_Tarjetas!L404=0,\"\",Datos_de_Tarjetas!L404)","v":""},{"$f":"IF(Datos_de_Tarjetas!M404=0,\"\",Datos_de_Tarjetas!M404)","v":""},{"$f":"IF(Datos_de_Tarjetas!N404=0,\"\",Datos_de_Tarjetas!N404)","v":""},{"$f":"IFERROR(VLOOKUP(Datos_de_Tarjetas!P404,Parámetros!$AM$3:$AN$90,2,FALSE),\"\")","v":""}]
[null,1069470000,{"$f":"IFERROR(VLOOKUP(Datos_de_Tarjetas!D405,Parámetros!$AD$12:$AE$17,2,FALSE),\"\")","v":""},{"$f":"IF(Datos_de_Tarjetas!G405=0,\"\",Datos_de_Tarjetas!G405)","v":""},{"$f":"IFERROR(VLOOKUP(Datos_de_Tarjetas!K405,Parámetros!$AJ$3:$AK$13,2,FALSE),\"\")","v":""},{"$f":"IFERROR(VLOOKUP(Datos_de_Tarjetas!J405,Parámetros!$AQ$3:$AR$57,2,FALSE),\"\")","v":""},null,{"$f":"IF(Datos_de_Tarjetas!L405=0,\"\",Datos_de_Tarjetas!L405)","v":""},{"$f":"IF(Datos_de_Tarjetas!M405=0,\"\",Datos_de_Tarjetas!M405)","v":""},{"$f":"IF(Datos_de_Tarjetas!N405=0,\"\",Datos_de_Tarjetas!N405)","v":""},{"$f":"IFERROR(VLOOKUP(Datos_de_Tarjetas!P405,Parámetros!$AM$3:$AN$90,2,FALSE),\"\")","v":""}]
[null,1069470000,{"$f":"IFERROR(VLOOKUP(Datos_de_Tarjetas!D406,Parámetros!$AD$12:$AE$17,2,FALSE),\"\")","v":""},{"$f":"IF(Datos_de_Tarjetas!G406=0,\"\",Datos_de_Tarjetas!G406)","v":""},{"$f":"IFERROR(VLOOKUP(Datos_de_Tarjetas!K406,Parámetros!$AJ$3:$AK$13,2,FALSE),\"\")","v":""},{"$f":"IFERROR(VLOOKUP(Datos_de_Tarjetas!J406,Parámetros!$AQ$3:$AR$57,2,FALSE),\"\")","v":""},null,{"$f":"IF(Datos_de_Tarjetas!L406=0,\"\",Datos_de_Tarjetas!L406)","v":""},{"$f":"IF(Datos_de_Tarjetas!M406=0,\"\",Datos_de_Tarjetas!M406)","v":""},{"$f":"IF(Datos_de_Tarjetas!N406=0,\"\",Datos_de_Tarjetas!N406)","v":""},{"$f":"IFERROR(VLOOKUP(Datos_de_Tarjetas!P406,Parámetros!$AM$3:$AN$90,2,FALSE),\"\")","v":""}]
[null,1069470000,{"$f":"IFERROR(VLOOKUP(Datos_de_Tarjetas!D407,Parámetros!$AD$12:$AE$17,2,FALSE),\"\")","v":""},{"$f":"IF(Datos_de_Tarjetas!G407=0,\"\",Datos_de_Tarjetas!G407)","v":""},{"$f":"IFERROR(VLOOKUP(Datos_de_Tarjetas!K407,Parámetros!$AJ$3:$AK$13,2,FALSE),\"\")","v":""},{"$f":"IFERROR(VLOOKUP(Datos_de_Tarjetas!J407,Parámetros!$AQ$3:$AR$57,2,FALSE),\"\")","v":""},null,{"$f":"IF(Datos_de_Tarjetas!L407=0,\"\",Datos_de_Tarjetas!L407)","v":""},{"$f":"IF(Datos_de_Tarjetas!M407=0,\"\",Datos_de_Tarjetas!M407)","v":""},{"$f":"IF(Datos_de_Tarjetas!N407=0,\"\",Datos_de_Tarjetas!N407)","v":""},{"$f":"IFERROR(VLOOKUP(Datos_de_Tarjetas!P407,Parámetros!$AM$3:$AN$90,2,FALSE),\"\")","v":""}]
[null,1069470000,{"$f":"IFERROR(VLOOKUP(Datos_de_Tarjetas!D408,Parámetros!$AD$12:$AE$17,2,FALSE),\"\")","v":""},{"$f":"IF(Datos_de_Tarjetas!G408=0,\"\",Datos_de_Tarjetas!G408)","v":""},{"$f":"IFERROR(VLOOKUP(Datos_de_Tarjetas!K408,Parámetros!$AJ$3:$AK$13,2,FALSE),\"\")","v":""},{"$f":"IFERROR(VLOOKUP(Datos_de_Tarjetas!J408,Parámetros!$AQ$3:$AR$57,2,FALSE),\"\")","v":""},null,{"$f":"IF(Datos_de_Tarjetas!L408=0,\"\",Datos_de_Tarjetas!L408)","v":""},{"$f":"IF(Datos_de_Tarjetas!M408=0,\"\",Datos_de_Tarjetas!M408)","v":""},{"$f":"IF(Datos_de_Tarjetas!N408=0,\"\",Datos_de_Tarjetas!N408)","v":""},{"$f":"IFERROR(VLOOKUP(Datos_de_Tarjetas!P408,Parámetros!$AM$3:$AN$90,2,FALSE),\"\")","v":""}]
[null,1069470000,{"$f":"IFERROR(VLOOKUP(Datos_de_Tarjetas!D409,Parámetros!$AD$12:$AE$17,2,FALSE),\"\")","v":""},{"$f":"IF(Datos_de_Tarjetas!G409=0,\"\",Datos_de_Tarjetas!G409)","v":""},{"$f":"IFERROR(VLOOKUP(Datos_de_Tarjetas!K409,Parámetros!$AJ$3:$AK$13,2,FALSE),\"\")","v":""},{"$f":"IFERROR(VLOOKUP(Datos_de_Tarjetas!J409,Parámetros!$AQ$3:$AR$57,2,FALSE),\"\")","v":""},null,{"$f":"IF(Datos_de_Tarjetas!L409=0,\"\",Datos_de_Tarjetas!L409)","v":""},{"$f":"IF(Datos_de_Tarjetas!M409=0,\"\",Datos_de_Tarjetas!M409)","v":""},{"$f":"IF(Datos_de_Tarjetas!N409=0,\"\",Datos_de_Tarjetas!N409)","v":""},{"$f":"IFERROR(VLOOKUP(Datos_de_Tarjetas!P409,Parámetros!$AM$3:$AN$90,2,FALSE),\"\")","v":""}]
[null,1069470000,{"$f":"IFERROR(VLOOKUP(Datos_de_Tarjetas!D410,Parámetros!$AD$12:$AE$17,2,FALSE),\"\")","v":""},{"$f":"IF(Datos_de_Tarjetas!G410=0,\"\",Datos_de_Tarjetas!G410)","v":""},{"$f":"IFERROR(VLOOKUP(Datos_de_Tarjetas!K410,Parámetros!$AJ$3:$AK$13,2,FALSE),\"\")","v":""},{"$f":"IFERROR(VLOOKUP(Datos_de_Tarjetas!J410,Parámetros!$AQ$3:$AR$57,2,FALSE),\"\")","v":""},null,{"$f":"IF(Datos_de_Tarjetas!L410=0,\"\",Datos_de_Tarjetas!L410)","v":""},{"$f":"IF(Datos_de_Tarjetas!M410=0,\"\",Datos_de_Tarjetas!M410)","v":""},{"$f":"IF(Datos_de_Tarjetas!N410=0,\"\",Datos_de_Tarjetas!N410)","v":""},{"$f":"IFERROR(VLOOKUP(Datos_de_Tarjetas!P410,Parámetros!$AM$3:$AN$90,2,FALSE),\"\")","v":""}]
[null,1069470000,{"$f":"IFERROR(VLOOKUP(Datos_de_Tarjetas!D411,Parámetros!$AD$12:$AE$17,2,FALSE),\"\")","v":""},{"$f":"IF(Datos_de_Tarjetas!G411=0,\"\",Datos_de_Tarjetas!G411)","v":""},{"$f":"IFERROR(VLOOKUP(Datos_de_Tarjetas!K411,Parámetros!$AJ$3:$AK$13,2,FALSE),\"\")","v":""},{"$f":"IFERROR(VLOOKUP(Datos_de_Tarjetas!J411,Parámetros!$AQ$3:$AR$57,2,FALSE),\"\")","v":""},null,{"$f":"IF(Datos_de_Tarjetas!L411=0,\"\",Datos_de_Tarjetas!L411)","v":""},{"$f":"IF(Datos_de_Tarjetas!M411=0,\"\",Datos_de_Tarjetas!M411)","v":""},{"$f":"IF(Datos_de_Tarjetas!N411=0,\"\",Datos_de_Tarjetas!N411)","v":""},{"$f":"IFERROR(VLOOKUP(Datos_de_Tarjetas!P411,Parámetros!$AM$3:$AN$90,2,FALSE),\"\")","v":""}]
[null,1069470000,{"$f":"IFERROR(VLOOKUP(Datos_de_Tarjetas!D412,Parámetros!$AD$12:$AE$17,2,FALSE),\"\")","v":""},{"$f":"IF(Datos_de_Tarjetas!G412=0,\"\",Datos_de_Tarjetas!G412)","v":""},{"$f":"IFERROR(VLOOKUP(Datos_de_Tarjetas!K412,Parámetros!$AJ$3:$AK$13,2,FALSE),\"\")","v":""},{"$f":"IFERROR(VLOOKUP(Datos_de_Tarjetas!J412,Parámetros!$AQ$3:$AR$57,2,FALSE),\"\")","v":""},null,{"$f":"IF(Datos_de_Tarjetas!L412=0,\"\",Datos_de_Tarjetas!L412)","v":""},{"$f":"IF(Datos_de_Tarjetas!M412=0,\"\",Datos_de_Tarjetas!M412)","v":""},{"$f":"IF(Datos_de_Tarjetas!N412=0,\"\",Datos_de_Tarjetas!N412)","v":""},{"$f":"IFERROR(VLOOKUP(Datos_de_Tarjetas!P412,Parámetros!$AM$3:$AN$90,2,FALSE),\"\")","v":""}]
[null,1069470000,{"$f":"IFERROR(VLOOKUP(Datos_de_Tarjetas!D413,Parámetros!$AD$12:$AE$17,2,FALSE),\"\")","v":""},{"$f":"IF(Datos_de_Tarjetas!G413=0,\"\",Datos_de_Tarjetas!G413)","v":""},{"$f":"IFERROR(VLOOKUP(Datos_de_Tarjetas!K413,Parámetros!$AJ$3:$AK$13,2,FALSE),\"\")","v":""},{"$f":"IFERROR(VLOOKUP(Datos_de_Tarjetas!J413,Parámetros!$AQ$3:$AR$57,2,FALSE),\"\")","v":""},null,{"$f":"IF(Datos_de_Tarjetas!L413=0,\"\",Datos_de_Tarjetas!L413)","v":""},{"$f":"IF(Datos_de_Tarjetas!M413=0,\"\",Datos_de_Tarjetas!M413)","v":""},{"$f":"IF(Datos_de_Tarjetas!N413=0,\"\",Datos_de_Tarjetas!N413)","v":""},{"$f":"IFERROR(VLOOKUP(Datos_de_Tarjetas!P413,Parámetros!$AM$3:$AN$90,2,FALSE),\"\")","v":""}]
[null,1069470000,{"$f":"IFERROR(VLOOKUP(Datos_de_Tarjetas!D414,Parámetros!$AD$12:$AE$17,2,FALSE),\"\")","v":""},{"$f":"IF(Datos_de_Tarjetas!G414=0,\"\",Datos_de_Tarjetas!G414)","v":""},{"$f":"IFERROR(VLOOKUP(Datos_de_Tarjetas!K414,Parámetros!$AJ$3:$AK$13,2,FALSE),\"\")","v":""},{"$f":"IFERROR(VLOOKUP(Datos_de_Tarjetas!J414,Parámetros!$AQ$3:$AR$57,2,FALSE),\"\")","v":""},null,{"$f":"IF(Datos_de_Tarjetas!L414=0,\"\",Datos_de_Tarjetas!L414)","v":""},{"$f":"IF(Datos_de_Tarjetas!M414=0,\"\",Datos_de_Tarjetas!M414)","v":""},{"$f":"IF(Datos_de_Tarjetas!N414=0,\"\",Datos_de_Tarjetas!N414)","v":""},{"$f":"IFERROR(VLOOKUP(Datos_de_Tarjetas!P414,Parámetros!$AM$3:$AN$90,2,FALSE),\"\")","v":""}]
[null,1069470000,{"$f":"IFERROR(VLOOKUP(Datos_de_Tarjetas!D415,Parámetros!$AD$12:$AE$17,2,FALSE),\"\")","v":""},{"$f":"IF(Datos_de_Tarjetas!G415=0,\"\",Datos_de_Tarjetas!G415)","v":""},{"$f":"IFERROR(VLOOKUP(Datos_de_Tarjetas!K415,Parámetros!$AJ$3:$AK$13,2,FALSE),\"\")","v":""},{"$f":"IFERROR(VLOOKUP(Datos_de_Tarjetas!J415,Parámetros!$AQ$3:$AR$57,2,FALSE),\"\")","v":""},null,{"$f":"IF(Datos_de_Tarjetas!L415=0,\"\",Datos_de_Tarjetas!L415)","v":""},{"$f":"IF(Datos_de_Tarjetas!M415=0,\"\",Datos_de_Tarjetas!M415)","v":""},{"$f":"IF(Datos_de_Tarjetas!N415=0,\"\",Datos_de_Tarjetas!N415)","v":""},{"$f":"IFERROR(VLOOKUP(Datos_de_Tarjetas!P415,Parámetros!$AM$3:$AN$90,2,FALSE),\"\")","v":""}]
[null,1069470000,{"$f":"IFERROR(VLOOKUP(Datos_de_Tarjetas!D416,Parámetros!$AD$12:$AE$17,2,FALSE),\"\")","v":""},{"$f":"IF(Datos_de_Tarjetas!G416=0,\"\",Datos_de_Tarjetas!G416)","v":""},{"$f":"IFERROR(VLOOKUP(Datos_de_Tarjetas!K416,Parámetros!$AJ$3:$AK$13,2,FALSE),\"\")","v":""},{"$f":"IFERROR(VLOOKUP(Datos_de_Tarjetas!J416,Parámetros!$AQ$3:$AR$57,2,FALSE),\"\")","v":""},null,{"$f":"IF(Datos_de_Tarjetas!L416=0,\"\",Datos_de_Tarjetas!L416)","v":""},{"$f":"IF(Datos_de_Tarjetas!M416=0,\"\",Datos_de_Tarjetas!M416)","v":""},{"$f":"IF(Datos_de_Tarjetas!N416=0,\"\",Datos_de_Tarjetas!N416)","v":""},{"$f":"IFERROR(VLOOKUP(Datos_de_Tarjetas!P416,Parámetros!$AM$3:$AN$90,2,FALSE),\"\")","v":""}]
[null,1069470000,{"$f":"IFERROR(VLOOKUP(Datos_de_Tarjetas!D417,Parámetros!$AD$12:$AE$17,2,FALSE),\"\")","v":""},{"$f":"IF(Datos_de_Tarjetas!G417=0,\"\",Datos_de_Tarjetas!G417)","v":""},{"$f":"IFERROR(VLOOKUP(Datos_de_Tarjetas!K417,Parámetros!$AJ$3:$AK$13,2,FALSE),\"\")","v":""},{"$f":"IFERROR(VLOOKUP(Datos_de_Tarjetas!J417,Parámetros!$AQ$3:$AR$57,2,FALSE),\"\")","v":""},null,{"$f":"IF(Datos_de_Tarjetas!L417=0,\"\",Datos_de_Tarjetas!L417)","v":""},{"$f":"IF(Datos_de_Tarjetas!M417=0,\"\",Datos_de_Tarjetas!M417)","v":""},{"$f":"IF(Datos_de_Tarjetas!N417=0,\"\",Datos_de_Tarjetas!N417)","v":""},{"$f":"IFERROR(VLOOKUP(Datos_de_Tarjetas!P417,Parámetros!$AM$3:$AN$90,2,FALSE),\"\")","v":""}]
[null,1069470000,{"$f":"IFERROR(VLOOKUP(Datos_de_Tarjetas!D418,Parámetros!$AD$12:$AE$17,2,FALSE),\"\")","v":""},{"$f":"IF(Datos_de_Tarjetas!G418=0,\"\",Datos_de_Tarjetas!G418)","v":""},{"$f":"IFERROR(VLOOKUP(Datos_de_Tarjetas!K418,Parámetros!$AJ$3:$AK$13,2,FALSE),\"\")","v":""},{"$f":"IFERROR(VLOOKUP(Datos_de_Tarjetas!J418,Parámetros!$AQ$3:$AR$57,2,FALSE),\"\")","v":""},null,{"$f":"IF(Datos_de_Tarjetas!L418=0,\"\",Datos_de_Tarjetas!L418)","v":""},{"$f":"IF(Datos_de_Tarjetas!M418=0,\"\",Datos_de_Tarjetas!M418)","v":""},{"$f":"IF(Datos_de_Tarjetas!N418=0,\"\",Datos_de_Tarjetas!N418)","v":""},{"$f":"IFERROR(VLOOKUP(Datos_de_Tarjetas!P418,Parámetros!$AM$3:$AN$90,2,FALSE),\"\")","v":""}]
[null,1069470000,{"$f":"IFERROR(VLOOKUP(Datos_de_Tarjetas!D419,Parámetros!$AD$12:$AE$17,2,FALSE),\"\")","v":""},{"$f":"IF(Datos_de_Tarjetas!G419=0,\"\",Datos_de_Tarjetas!G419)","v":""},{"$f":"IFERROR(VLOOKUP(Datos_de_Tarjetas!K419,Parámetros!$AJ$3:$AK$13,2,FALSE),\"\")","v":""},{"$f":"IFERROR(VLOOKUP(Datos_de_Tarjetas!J419,Parámetros!$AQ$3:$AR$57,2,FALSE),\"\")","v":""},null,{"$f":"IF(Datos_de_Tarjetas!L419=0,\"\",Datos_de_Tarjetas!L419)","v":""},{"$f":"IF(Datos_de_Tarjetas!M419=0,\"\",Datos_de_Tarjetas!M419)","v":""},{"$f":"IF(Datos_de_Tarjetas!N419=0,\"\",Datos_de_Tarjetas!N419)","v":""},{"$f":"IFERROR(VLOOKUP(Datos_de_Tarjetas!P419,Parámetros!$AM$3:$AN$90,2,FALSE),\"\")","v":""}]
[null,1069470000,{"$f":"IFERROR(VLOOKUP(Datos_de_Tarjetas!D420,Parámetros!$AD$12:$AE$17,2,FALSE),\"\")","v":""},{"$f":"IF(Datos_de_Tarjetas!G420=0,\"\",Datos_de_Tarjetas!G420)","v":""},{"$f":"IFERROR(VLOOKUP(Datos_de_Tarjetas!K420,Parámetros!$AJ$3:$AK$13,2,FALSE),\"\")","v":""},{"$f":"IFERROR(VLOOKUP(Datos_de_Tarjetas!J420,Parámetros!$AQ$3:$AR$57,2,FALSE),\"\")","v":""},null,{"$f":"IF(Datos_de_Tarjetas!L420=0,\"\",Datos_de_Tarjetas!L420)","v":""},{"$f":"IF(Datos_de_Tarjetas!M420=0,\"\",Datos_de_Tarjetas!M420)","v":""},{"$f":"IF(Datos_de_Tarjetas!N420=0,\"\",Datos_de_Tarjetas!N420)","v":""},{"$f":"IFERROR(VLOOKUP(Datos_de_Tarjetas!P420,Parámetros!$AM$3:$AN$90,2,FALSE),\"\")","v":""}]
[null,1069470000,{"$f":"IFERROR(VLOOKUP(Datos_de_Tarjetas!D421,Parámetros!$AD$12:$AE$17,2,FALSE),\"\")","v":""},{"$f":"IF(Datos_de_Tarjetas!G421=0,\"\",Datos_de_Tarjetas!G421)","v":""},{"$f":"IFERROR(VLOOKUP(Datos_de_Tarjetas!K421,Parámetros!$AJ$3:$AK$13,2,FALSE),\"\")","v":""},{"$f":"IFERROR(VLOOKUP(Datos_de_Tarjetas!J421,Parámetros!$AQ$3:$AR$57,2,FALSE),\"\")","v":""},null,{"$f":"IF(Datos_de_Tarjetas!L421=0,\"\",Datos_de_Tarjetas!L421)","v":""},{"$f":"IF(Datos_de_Tarjetas!M421=0,\"\",Datos_de_Tarjetas!M421)","v":""},{"$f":"IF(Datos_de_Tarjetas!N421=0,\"\",Datos_de_Tarjetas!N421)","v":""},{"$f":"IFERROR(VLOOKUP(Datos_de_Tarjetas!P421,Parámetros!$AM$3:$AN$90,2,FALSE),\"\")","v":""}]
[null,1069470000,{"$f":"IFERROR(VLOOKUP(Datos_de_Tarjetas!D422,Parámetros!$AD$12:$AE$17,2,FALSE),\"\")","v":""},{"$f":"IF(Datos_de_Tarjetas!G422=0,\"\",Datos_de_Tarjetas!G422)","v":""},{"$f":"IFERROR(VLOOKUP(Datos_de_Tarjetas!K422,Parámetros!$AJ$3:$AK$13,2,FALSE),\"\")","v":""},{"$f":"IFERROR(VLOOKUP(Datos_de_Tarjetas!J422,Parámetros!$AQ$3:$AR$57,2,FALSE),\"\")","v":""},null,{"$f":"IF(Datos_de_Tarjetas!L422=0,\"\",Datos_de_Tarjetas!L422)","v":""},{"$f":"IF(Datos_de_Tarjetas!M422=0,\"\",Datos_de_Tarjetas!M422)","v":""},{"$f":"IF(Datos_de_Tarjetas!N422=0,\"\",Datos_de_Tarjetas!N422)","v":""},{"$f":"IFERROR(VLOOKUP(Datos_de_Tarjetas!P422,Parámetros!$AM$3:$AN$90,2,FALSE),\"\")","v":""}]
[null,1069470000,{"$f":"IFERROR(VLOOKUP(Datos_de_Tarjetas!D423,Parámetros!$AD$12:$AE$17,2,FALSE),\"\")","v":""},{"$f":"IF(Datos_de_Tarjetas!G423=0,\"\",Datos_de_Tarjetas!G423)","v":""},{"$f":"IFERROR(VLOOKUP(Datos_de_Tarjetas!K423,Parámetros!$AJ$3:$AK$13,2,FALSE),\"\")","v":""},{"$f":"IFERROR(VLOOKUP(Datos_de_Tarjetas!J423,Parámetros!$AQ$3:$AR$57,2,FALSE),\"\")","v":""},null,{"$f":"IF(Datos_de_Tarjetas!L423=0,\"\",Datos_de_Tarjetas!L423)","v":""},{"$f":"IF(Datos_de_Tarjetas!M423=0,\"\",Datos_de_Tarjetas!M423)","v":""},{"$f":"IF(Datos_de_Tarjetas!N423=0,\"\",Datos_de_Tarjetas!N423)","v":""},{"$f":"IFERROR(VLOOKUP(Datos_de_Tarjetas!P423,Parámetros!$AM$3:$AN$90,2,FALSE),\"\")","v":""}]
[null,1069470000,{"$f":"IFERROR(VLOOKUP(Datos_de_Tarjetas!D424,Parámetros!$AD$12:$AE$17,2,FALSE),\"\")","v":""},{"$f":"IF(Datos_de_Tarjetas!G424=0,\"\",Datos_de_Tarjetas!G424)","v":""},{"$f":"IFERROR(VLOOKUP(Datos_de_Tarjetas!K424,Parámetros!$AJ$3:$AK$13,2,FALSE),\"\")","v":""},{"$f":"IFERROR(VLOOKUP(Datos_de_Tarjetas!J424,Parámetros!$AQ$3:$AR$57,2,FALSE),\"\")","v":""},null,{"$f":"IF(Datos_de_Tarjetas!L424=0,\"\",Datos_de_Tarjetas!L424)","v":""},{"$f":"IF(Datos_de_Tarjetas!M424=0,\"\",Datos_de_Tarjetas!M424)","v":""},{"$f":"IF(Datos_de_Tarjetas!N424=0,\"\",Datos_de_Tarjetas!N424)","v":""},{"$f":"IFERROR(VLOOKUP(Datos_de_Tarjetas!P424,Parámetros!$AM$3:$AN$90,2,FALSE),\"\")","v":""}]
[null,1069470000,{"$f":"IFERROR(VLOOKUP(Datos_de_Tarjetas!D425,Parámetros!$AD$12:$AE$17,2,FALSE),\"\")","v":""},{"$f":"IF(Datos_de_Tarjetas!G425=0,\"\",Datos_de_Tarjetas!G425)","v":""},{"$f":"IFERROR(VLOOKUP(Datos_de_Tarjetas!K425,Parámetros!$AJ$3:$AK$13,2,FALSE),\"\")","v":""},{"$f":"IFERROR(VLOOKUP(Datos_de_Tarjetas!J425,Parámetros!$AQ$3:$AR$57,2,FALSE),\"\")","v":""},null,{"$f":"IF(Datos_de_Tarjetas!L425=0,\"\",Datos_de_Tarjetas!L425)","v":""},{"$f":"IF(Datos_de_Tarjetas!M425=0,\"\",Datos_de_Tarjetas!M425)","v":""},{"$f":"IF(Datos_de_Tarjetas!N425=0,\"\",Datos_de_Tarjetas!N425)","v":""},{"$f":"IFERROR(VLOOKUP(Datos_de_Tarjetas!P425,Parámetros!$AM$3:$AN$90,2,FALSE),\"\")","v":""}]
[null,1069470000,{"$f":"IFERROR(VLOOKUP(Datos_de_Tarjetas!D426,Parámetros!$AD$12:$AE$17,2,FALSE),\"\")","v":""},{"$f":"IF(Datos_de_Tarjetas!G426=0,\"\",Datos_de_Tarjetas!G426)","v":""},{"$f":"IFERROR(VLOOKUP(Datos_de_Tarjetas!K426,Parámetros!$AJ$3:$AK$13,2,FALSE),\"\")","v":""},{"$f":"IFERROR(VLOOKUP(Datos_de_Tarjetas!J426,Parámetros!$AQ$3:$AR$57,2,FALSE),\"\")","v":""},null,{"$f":"IF(Datos_de_Tarjetas!L426=0,\"\",Datos_de_Tarjetas!L426)","v":""},{"$f":"IF(Datos_de_Tarjetas!M426=0,\"\",Datos_de_Tarjetas!M426)","v":""},{"$f":"IF(Datos_de_Tarjetas!N426=0,\"\",Datos_de_Tarjetas!N426)","v":""},{"$f":"IFERROR(VLOOKUP(Datos_de_Tarjetas!P426,Parámetros!$AM$3:$AN$90,2,FALSE),\"\")","v":""}]
[null,1069470000,{"$f":"IFERROR(VLOOKUP(Datos_de_Tarjetas!D427,Parámetros!$AD$12:$AE$17,2,FALSE),\"\")","v":""},{"$f":"IF(Datos_de_Tarjetas!G427=0,\"\",Datos_de_Tarjetas!G427)","v":""},{"$f":"IFERROR(VLOOKUP(Datos_de_Tarjetas!K427,Parámetros!$AJ$3:$AK$13,2,FALSE),\"\")","v":""},{"$f":"IFERROR(VLOOKUP(Datos_de_Tarjetas!J427,Parámetros!$AQ$3:$AR$57,2,FALSE),\"\")","v":""},null,{"$f":"IF(Datos_de_Tarjetas!L427=0,\"\",Datos_de_Tarjetas!L427)","v":""},{"$f":"IF(Datos_de_Tarjetas!M427=0,\"\",Datos_de_Tarjetas!M427)","v":""},{"$f":"IF(Datos_de_Tarjetas!N427=0,\"\",Datos_de_Tarjetas!N427)","v":""},{"$f":"IFERROR(VLOOKUP(Datos_de_Tarjetas!P427,Parámetros!$AM$3:$AN$90,2,FALSE),\"\")","v":""}]
[null,1069470000,{"$f":"IFERROR(VLOOKUP(Datos_de_Tarjetas!D428,Parámetros!$AD$12:$AE$17,2,FALSE),\"\")","v":""},{"$f":"IF(Datos_de_Tarjetas!G428=0,\"\",Datos_de_Tarjetas!G428)","v":""},{"$f":"IFERROR(VLOOKUP(Datos_de_Tarjetas!K428,Parámetros!$AJ$3:$AK$13,2,FALSE),\"\")","v":""},{"$f":"IFERROR(VLOOKUP(Datos_de_Tarjetas!J428,Parámetros!$AQ$3:$AR$57,2,FALSE),\"\")","v":""},null,{"$f":"IF(Datos_de_Tarjetas!L428=0,\"\",Datos_de_Tarjetas!L428)","v":""},{"$f":"IF(Datos_de_Tarjetas!M428=0,\"\",Datos_de_Tarjetas!M428)","v":""},{"$f":"IF(Datos_de_Tarjetas!N428=0,\"\",Datos_de_Tarjetas!N428)","v":""},{"$f":"IFERROR(VLOOKUP(Datos_de_Tarjetas!P428,Parámetros!$AM$3:$AN$90,2,FALSE),\"\")","v":""}]
[null,1069470000,{"$f":"IFERROR(VLOOKUP(Datos_de_Tarjetas!D429,Parámetros!$AD$12:$AE$17,2,FALSE),\"\")","v":""},{"$f":"IF(Datos_de_Tarjetas!G429=0,\"\",Datos_de_Tarjetas!G429)","v":""},{"$f":"IFERROR(VLOOKUP(Datos_de_Tarjetas!K429,Parámetros!$AJ$3:$AK$13,2,FALSE),\"\")","v":""},{"$f":"IFERROR(VLOOKUP(Datos_de_Tarjetas!J429,Parámetros!$AQ$3:$AR$57,2,FALSE),\"\")","v":""},null,{"$f":"IF(Datos_de_Tarjetas!L429=0,\"\",Datos_de_Tarjetas!L429)","v":""},{"$f":"IF(Datos_de_Tarjetas!M429=0,\"\",Datos_de_Tarjetas!M429)","v":""},{"$f":"IF(Datos_de_Tarjetas!N429=0,\"\",Datos_de_Tarjetas!N429)","v":""},{"$f":"IFERROR(VLOOKUP(Datos_de_Tarjetas!P429,Parámetros!$AM$3:$AN$90,2,FALSE),\"\")","v":""}]
[null,1069470000,{"$f":"IFERROR(VLOOKUP(Datos_de_Tarjetas!D430,Parámetros!$AD$12:$AE$17,2,FALSE),\"\")","v":""},{"$f":"IF(Datos_de_Tarjetas!G430=0,\"\",Datos_de_Tarjetas!G430)","v":""},{"$f":"IFERROR(VLOOKUP(Datos_de_Tarjetas!K430,Parámetros!$AJ$3:$AK$13,2,FALSE),\"\")","v":""},{"$f":"IFERROR(VLOOKUP(Datos_de_Tarjetas!J430,Parámetros!$AQ$3:$AR$57,2,FALSE),\"\")","v":""},null,{"$f":"IF(Datos_de_Tarjetas!L430=0,\"\",Datos_de_Tarjetas!L430)","v":""},{"$f":"IF(Datos_de_Tarjetas!M430=0,\"\",Datos_de_Tarjetas!M430)","v":""},{"$f":"IF(Datos_de_Tarjetas!N430=0,\"\",Datos_de_Tarjetas!N430)","v":""},{"$f":"IFERROR(VLOOKUP(Datos_de_Tarjetas!P430,Parámetros!$AM$3:$AN$90,2,FALSE),\"\")","v":""}]
[null,1069470000,{"$f":"IFERROR(VLOOKUP(Datos_de_Tarjetas!D431,Parámetros!$AD$12:$AE$17,2,FALSE),\"\")","v":""},{"$f":"IF(Datos_de_Tarjetas!G431=0,\"\",Datos_de_Tarjetas!G431)","v":""},{"$f":"IFERROR(VLOOKUP(Datos_de_Tarjetas!K431,Parámetros!$AJ$3:$AK$13,2,FALSE),\"\")","v":""},{"$f":"IFERROR(VLOOKUP(Datos_de_Tarjetas!J431,Parámetros!$AQ$3:$AR$57,2,FALSE),\"\")","v":""},null,{"$f":"IF(Datos_de_Tarjetas!L431=0,\"\",Datos_de_Tarjetas!L431)","v":""},{"$f":"IF(Datos_de_Tarjetas!M431=0,\"\",Datos_de_Tarjetas!M431)","v":""},{"$f":"IF(Datos_de_Tarjetas!N431=0,\"\",Datos_de_Tarjetas!N431)","v":""},{"$f":"IFERROR(VLOOKUP(Datos_de_Tarjetas!P431,Parámetros!$AM$3:$AN$90,2,FALSE),\"\")","v":""}]
[null,1069470000,{"$f":"IFERROR(VLOOKUP(Datos_de_Tarjetas!D432,Parámetros!$AD$12:$AE$17,2,FALSE),\"\")","v":""},{"$f":"IF(Datos_de_Tarjetas!G432=0,\"\",Datos_de_Tarjetas!G432)","v":""},{"$f":"IFERROR(VLOOKUP(Datos_de_Tarjetas!K432,Parámetros!$AJ$3:$AK$13,2,FALSE),\"\")","v":""},{"$f":"IFERROR(VLOOKUP(Datos_de_Tarjetas!J432,Parámetros!$AQ$3:$AR$57,2,FALSE),\"\")","v":""},null,{"$f":"IF(Datos_de_Tarjetas!L432=0,\"\",Datos_de_Tarjetas!L432)","v":""},{"$f":"IF(Datos_de_Tarjetas!M432=0,\"\",Datos_de_Tarjetas!M432)","v":""},{"$f":"IF(Datos_de_Tarjetas!N432=0,\"\",Datos_de_Tarjetas!N432)","v":""},{"$f":"IFERROR(VLOOKUP(Datos_de_Tarjetas!P432,Parámetros!$AM$3:$AN$90,2,FALSE),\"\")","v":""}]
[null,1069470000,{"$f":"IFERROR(VLOOKUP(Datos_de_Tarjetas!D433,Parámetros!$AD$12:$AE$17,2,FALSE),\"\")","v":""},{"$f":"IF(Datos_de_Tarjetas!G433=0,\"\",Datos_de_Tarjetas!G433)","v":""},{"$f":"IFERROR(VLOOKUP(Datos_de_Tarjetas!K433,Parámetros!$AJ$3:$AK$13,2,FALSE),\"\")","v":""},{"$f":"IFERROR(VLOOKUP(Datos_de_Tarjetas!J433,Parámetros!$AQ$3:$AR$57,2,FALSE),\"\")","v":""},null,{"$f":"IF(Datos_de_Tarjetas!L433=0,\"\",Datos_de_Tarjetas!L433)","v":""},{"$f":"IF(Datos_de_Tarjetas!M433=0,\"\",Datos_de_Tarjetas!M433)","v":""},{"$f":"IF(Datos_de_Tarjetas!N433=0,\"\",Datos_de_Tarjetas!N433)","v":""},{"$f":"IFERROR(VLOOKUP(Datos_de_Tarjetas!P433,Parámetros!$AM$3:$AN$90,2,FALSE),\"\")","v":""}]
[null,1069470000,{"$f":"IFERROR(VLOOKUP(Datos_de_Tarjetas!D434,Parámetros!$AD$12:$AE$17,2,FALSE),\"\")","v":""},{"$f":"IF(Datos_de_Tarjetas!G434=0,\"\",Datos_de_Tarjetas!G434)","v":""},{"$f":"IFERROR(VLOOKUP(Datos_de_Tarjetas!K434,Parámetros!$AJ$3:$AK$13,2,FALSE),\"\")","v":""},{"$f":"IFERROR(VLOOKUP(Datos_de_Tarjetas!J434,Parámetros!$AQ$3:$AR$57,2,FALSE),\"\")","v":""},null,{"$f":"IF(Datos_de_Tarjetas!L434=0,\"\",Datos_de_Tarjetas!L434)","v":""},{"$f":"IF(Datos_de_Tarjetas!M434=0,\"\",Datos_de_Tarjetas!M434)","v":""},{"$f":"IF(Datos_de_Tarjetas!N434=0,\"\",Datos_de_Tarjetas!N434)","v":""},{"$f":"IFERROR(VLOOKUP(Datos_de_Tarjetas!P434,Parámetros!$AM$3:$AN$90,2,FALSE),\"\")","v":""}]
[null,1069470000,{"$f":"IFERROR(VLOOKUP(Datos_de_Tarjetas!D435,Parámetros!$AD$12:$AE$17,2,FALSE),\"\")","v":""},{"$f":"IF(Datos_de_Tarjetas!G435=0,\"\",Datos_de_Tarjetas!G435)","v":""},{"$f":"IFERROR(VLOOKUP(Datos_de_Tarjetas!K435,Parámetros!$AJ$3:$AK$13,2,FALSE),\"\")","v":""},{"$f":"IFERROR(VLOOKUP(Datos_de_Tarjetas!J435,Parámetros!$AQ$3:$AR$57,2,FALSE),\"\")","v":""},null,{"$f":"IF(Datos_de_Tarjetas!L435=0,\"\",Datos_de_Tarjetas!L435)","v":""},{"$f":"IF(Datos_de_Tarjetas!M435=0,\"\",Datos_de_Tarjetas!M435)","v":""},{"$f":"IF(Datos_de_Tarjetas!N435=0,\"\",Datos_de_Tarjetas!N435)","v":""},{"$f":"IFERROR(VLOOKUP(Datos_de_Tarjetas!P435,Parámetros!$AM$3:$AN$90,2,FALSE),\"\")","v":""}]
[null,1069470000,{"$f":"IFERROR(VLOOKUP(Datos_de_Tarjetas!D436,Parámetros!$AD$12:$AE$17,2,FALSE),\"\")","v":""},{"$f":"IF(Datos_de_Tarjetas!G436=0,\"\",Datos_de_Tarjetas!G436)","v":""},{"$f":"IFERROR(VLOOKUP(Datos_de_Tarjetas!K436,Parámetros!$AJ$3:$AK$13,2,FALSE),\"\")","v":""},{"$f":"IFERROR(VLOOKUP(Datos_de_Tarjetas!J436,Parámetros!$AQ$3:$AR$57,2,FALSE),\"\")","v":""},null,{"$f":"IF(Datos_de_Tarjetas!L436=0,\"\",Datos_de_Tarjetas!L436)","v":""},{"$f":"IF(Datos_de_Tarjetas!M436=0,\"\",Datos_de_Tarjetas!M436)","v":""},{"$f":"IF(Datos_de_Tarjetas!N436=0,\"\",Datos_de_Tarjetas!N436)","v":""},{"$f":"IFERROR(VLOOKUP(Datos_de_Tarjetas!P436,Parámetros!$AM$3:$AN$90,2,FALSE),\"\")","v":""}]
[null,1069470000,{"$f":"IFERROR(VLOOKUP(Datos_de_Tarjetas!D437,Parámetros!$AD$12:$AE$17,2,FALSE),\"\")","v":""},{"$f":"IF(Datos_de_Tarjetas!G437=0,\"\",Datos_de_Tarjetas!G437)","v":""},{"$f":"IFERROR(VLOOKUP(Datos_de_Tarjetas!K437,Parámetros!$AJ$3:$AK$13,2,FALSE),\"\")","v":""},{"$f":"IFERROR(VLOOKUP(Datos_de_Tarjetas!J437,Parámetros!$AQ$3:$AR$57,2,FALSE),\"\")","v":""},null,{"$f":"IF(Datos_de_Tarjetas!L437=0,\"\",Datos_de_Tarjetas!L437)","v":""},{"$f":"IF(Datos_de_Tarjetas!M437=0,\"\",Datos_de_Tarjetas!M437)","v":""},{"$f":"IF(Datos_de_Tarjetas!N437=0,\"\",Datos_de_Tarjetas!N437)","v":""},{"$f":"IFERROR(VLOOKUP(Datos_de_Tarjetas!P437,Parámetros!$AM$3:$AN$90,2,FALSE),\"\")","v":""}]
[null,1069470000,{"$f":"IFERROR(VLOOKUP(Datos_de_Tarjetas!D438,Parámetros!$AD$12:$AE$17,2,FALSE),\"\")","v":""},{"$f":"IF(Datos_de_Tarjetas!G438=0,\"\",Datos_de_Tarjetas!G438)","v":""},{"$f":"IFERROR(VLOOKUP(Datos_de_Tarjetas!K438,Parámetros!$AJ$3:$AK$13,2,FALSE),\"\")","v":""},{"$f":"IFERROR(VLOOKUP(Datos_de_Tarjetas!J438,Parámetros!$AQ$3:$AR$57,2,FALSE),\"\")","v":""},null,{"$f":"IF(Datos_de_Tarjetas!L438=0,\"\",Datos_de_Tarjetas!L438)","v":""},{"$f":"IF(Datos_de_Tarjetas!M438=0,\"\",Datos_de_Tarjetas!M438)","v":""},{"$f":"IF(Datos_de_Tarjetas!N438=0,\"\",Datos_de_Tarjetas!N438)","v":""},{"$f":"IFERROR(VLOOKUP(Datos_de_Tarjetas!P438,Parámetros!$AM$3:$AN$90,2,FALSE),\"\")","v":""}]
[null,1069470000,{"$f":"IFERROR(VLOOKUP(Datos_de_Tarjetas!D439,Parámetros!$AD$12:$AE$17,2,FALSE),\"\")","v":""},{"$f":"IF(Datos_de_Tarjetas!G439=0,\"\",Datos_de_Tarjetas!G439)","v":""},{"$f":"IFERROR(VLOOKUP(Datos_de_Tarjetas!K439,Parámetros!$AJ$3:$AK$13,2,FALSE),\"\")","v":""},{"$f":"IFERROR(VLOOKUP(Datos_de_Tarjetas!J439,Parámetros!$AQ$3:$AR$57,2,FALSE),\"\")","v":""},null,{"$f":"IF(Datos_de_Tarjetas!L439=0,\"\",Datos_de_Tarjetas!L439)","v":""},{"$f":"IF(Datos_de_Tarjetas!M439=0,\"\",Datos_de_Tarjetas!M439)","v":""},{"$f":"IF(Datos_de_Tarjetas!N439=0,\"\",Datos_de_Tarjetas!N439)","v":""},{"$f":"IFERROR(VLOOKUP(Datos_de_Tarjetas!P439,Parámetros!$AM$3:$AN$90,2,FALSE),\"\")","v":""}]
[null,1069470000,{"$f":"IFERROR(VLOOKUP(Datos_de_Tarjetas!D440,Parámetros!$AD$12:$AE$17,2,FALSE),\"\")","v":""},{"$f":"IF(Datos_de_Tarjetas!G440=0,\"\",Datos_de_Tarjetas!G440)","v":""},{"$f":"IFERROR(VLOOKUP(Datos_de_Tarjetas!K440,Parámetros!$AJ$3:$AK$13,2,FALSE),\"\")","v":""},{"$f":"IFERROR(VLOOKUP(Datos_de_Tarjetas!J440,Parámetros!$AQ$3:$AR$57,2,FALSE),\"\")","v":""},null,{"$f":"IF(Datos_de_Tarjetas!L440=0,\"\",Datos_de_Tarjetas!L440)","v":""},{"$f":"IF(Datos_de_Tarjetas!M440=0,\"\",Datos_de_Tarjetas!M440)","v":""},{"$f":"IF(Datos_de_Tarjetas!N440=0,\"\",Datos_de_Tarjetas!N440)","v":""},{"$f":"IFERROR(VLOOKUP(Datos_de_Tarjetas!P440,Parámetros!$AM$3:$AN$90,2,FALSE),\"\")","v":""}]
[null,1069470000,{"$f":"IFERROR(VLOOKUP(Datos_de_Tarjetas!D441,Parámetros!$AD$12:$AE$17,2,FALSE),\"\")","v":""},{"$f":"IF(Datos_de_Tarjetas!G441=0,\"\",Datos_de_Tarjetas!G441)","v":""},{"$f":"IFERROR(VLOOKUP(Datos_de_Tarjetas!K441,Parámetros!$AJ$3:$AK$13,2,FALSE),\"\")","v":""},{"$f":"IFERROR(VLOOKUP(Datos_de_Tarjetas!J441,Parámetros!$AQ$3:$AR$57,2,FALSE),\"\")","v":""},null,{"$f":"IF(Datos_de_Tarjetas!L441=0,\"\",Datos_de_Tarjetas!L441)","v":""},{"$f":"IF(Datos_de_Tarjetas!M441=0,\"\",Datos_de_Tarjetas!M441)","v":""},{"$f":"IF(Datos_de_Tarjetas!N441=0,\"\",Datos_de_Tarjetas!N441)","v":""},{"$f":"IFERROR(VLOOKUP(Datos_de_Tarjetas!P441,Parámetros!$AM$3:$AN$90,2,FALSE),\"\")","v":""}]
[null,1069470000,{"$f":"IFERROR(VLOOKUP(Datos_de_Tarjetas!D442,Parámetros!$AD$12:$AE$17,2,FALSE),\"\")","v":""},{"$f":"IF(Datos_de_Tarjetas!G442=0,\"\",Datos_de_Tarjetas!G442)","v":""},{"$f":"IFERROR(VLOOKUP(Datos_de_Tarjetas!K442,Parámetros!$AJ$3:$AK$13,2,FALSE),\"\")","v":""},{"$f":"IFERROR(VLOOKUP(Datos_de_Tarjetas!J442,Parámetros!$AQ$3:$AR$57,2,FALSE),\"\")","v":""},null,{"$f":"IF(Datos_de_Tarjetas!L442=0,\"\",Datos_de_Tarjetas!L442)","v":""},{"$f":"IF(Datos_de_Tarjetas!M442=0,\"\",Datos_de_Tarjetas!M442)","v":""},{"$f":"IF(Datos_de_Tarjetas!N442=0,\"\",Datos_de_Tarjetas!N442)","v":""},{"$f":"IFERROR(VLOOKUP(Datos_de_Tarjetas!P442,Parámetros!$AM$3:$AN$90,2,FALSE),\"\")","v":""}]
[null,1069470000,{"$f":"IFERROR(VLOOKUP(Datos_de_Tarjetas!D443,Parámetros!$AD$12:$AE$17,2,FALSE),\"\")","v":""},{"$f":"IF(Datos_de_Tarjetas!G443=0,\"\",Datos_de_Tarjetas!G443)","v":""},{"$f":"IFERROR(VLOOKUP(Datos_de_Tarjetas!K443,Parámetros!$AJ$3:$AK$13,2,FALSE),\"\")","v":""},{"$f":"IFERROR(VLOOKUP(Datos_de_Tarjetas!J443,Parámetros!$AQ$3:$AR$57,2,FALSE),\"\")","v":""},null,{"$f":"IF(Datos_de_Tarjetas!L443=0,\"\",Datos_de_Tarjetas!L443)","v":""},{"$f":"IF(Datos_de_Tarjetas!M443=0,\"\",Datos_de_Tarjetas!M443)","v":""},{"$f":"IF(Datos_de_Tarjetas!N443=0,\"\",Datos_de_Tarjetas!N443)","v":""},{"$f":"IFERROR(VLOOKUP(Datos_de_Tarjetas!P443,Parámetros!$AM$3:$AN$90,2,FALSE),\"\")","v":""}]
[null,1069470000,{"$f":"IFERROR(VLOOKUP(Datos_de_Tarjetas!D444,Parámetros!$AD$12:$AE$17,2,FALSE),\"\")","v":""},{"$f":"IF(Datos_de_Tarjetas!G444=0,\"\",Datos_de_Tarjetas!G444)","v":""},{"$f":"IFERROR(VLOOKUP(Datos_de_Tarjetas!K444,Parámetros!$AJ$3:$AK$13,2,FALSE),\"\")","v":""},{"$f":"IFERROR(VLOOKUP(Datos_de_Tarjetas!J444,Parámetros!$AQ$3:$AR$57,2,FALSE),\"\")","v":""},null,{"$f":"IF(Datos_de_Tarjetas!L444=0,\"\",Datos_de_Tarjetas!L444)","v":""},{"$f":"IF(Datos_de_Tarjetas!M444=0,\"\",Datos_de_Tarjetas!M444)","v":""},{"$f":"IF(Datos_de_Tarjetas!N444=0,\"\",Datos_de_Tarjetas!N444)","v":""},{"$f":"IFERROR(VLOOKUP(Datos_de_Tarjetas!P444,Parámetros!$AM$3:$AN$90,2,FALSE),\"\")","v":""}]
[null,1069470000,{"$f":"IFERROR(VLOOKUP(Datos_de_Tarjetas!D445,Parámetros!$AD$12:$AE$17,2,FALSE),\"\")","v":""},{"$f":"IF(Datos_de_Tarjetas!G445=0,\"\",Datos_de_Tarjetas!G445)","v":""},{"$f":"IFERROR(VLOOKUP(Datos_de_Tarjetas!K445,Parámetros!$AJ$3:$AK$13,2,FALSE),\"\")","v":""},{"$f":"IFERROR(VLOOKUP(Datos_de_Tarjetas!J445,Parámetros!$AQ$3:$AR$57,2,FALSE),\"\")","v":""},null,{"$f":"IF(Datos_de_Tarjetas!L445=0,\"\",Datos_de_Tarjetas!L445)","v":""},{"$f":"IF(Datos_de_Tarjetas!M445=0,\"\",Datos_de_Tarjetas!M445)","v":""},{"$f":"IF(Datos_de_Tarjetas!N445=0,\"\",Datos_de_Tarjetas!N445)","v":""},{"$f":"IFERROR(VLOOKUP(Datos_de_Tarjetas!P445,Parámetros!$AM$3:$AN$90,2,FALSE),\"\")","v":""}]
[null,1069470000,{"$f":"IFERROR(VLOOKUP(Datos_de_Tarjetas!D446,Parámetros!$AD$12:$AE$17,2,FALSE),\"\")","v":""},{"$f":"IF(Datos_de_Tarjetas!G446=0,\"\",Datos_de_Tarjetas!G446)","v":""},{"$f":"IFERROR(VLOOKUP(Datos_de_Tarjetas!K446,Parámetros!$AJ$3:$AK$13,2,FALSE),\"\")","v":""},{"$f":"IFERROR(VLOOKUP(Datos_de_Tarjetas!J446,Parámetros!$AQ$3:$AR$57,2,FALSE),\"\")","v":""},null,{"$f":"IF(Datos_de_Tarjetas!L446=0,\"\",Datos_de_Tarjetas!L446)","v":""},{"$f":"IF(Datos_de_Tarjetas!M446=0,\"\",Datos_de_Tarjetas!M446)","v":""},{"$f":"IF(Datos_de_Tarjetas!N446=0,\"\",Datos_de_Tarjetas!N446)","v":""},{"$f":"IFERROR(VLOOKUP(Datos_de_Tarjetas!P446,Parámetros!$AM$3:$AN$90,2,FALSE),\"\")","v":""}]
[null,1069470000,{"$f":"IFERROR(VLOOKUP(Datos_de_Tarjetas!D447,Parámetros!$AD$12:$AE$17,2,FALSE),\"\")","v":""},{"$f":"IF(Datos_de_Tarjetas!G447=0,\"\",Datos_de_Tarjetas!G447)","v":""},{"$f":"IFERROR(VLOOKUP(Datos_de_Tarjetas!K447,Parámetros!$AJ$3:$AK$13,2,FALSE),\"\")","v":""},{"$f":"IFERROR(VLOOKUP(Datos_de_Tarjetas!J447,Parámetros!$AQ$3:$AR$57,2,FALSE),\"\")","v":""},null,{"$f":"IF(Datos_de_Tarjetas!L447=0,\"\",Datos_de_Tarjetas!L447)","v":""},{"$f":"IF(Datos_de_Tarjetas!M447=0,\"\",Datos_de_Tarjetas!M447)","v":""},{"$f":"IF(Datos_de_Tarjetas!N447=0,\"\",Datos_de_Tarjetas!N447)","v":""},{"$f":"IFERROR(VLOOKUP(Datos_de_Tarjetas!P447,Parámetros!$AM$3:$AN$90,2,FALSE),\"\")","v":""}]
[null,1069470000,{"$f":"IFERROR(VLOOKUP(Datos_de_Tarjetas!D448,Parámetros!$AD$12:$AE$17,2,FALSE),\"\")","v":""},{"$f":"IF(Datos_de_Tarjetas!G448=0,\"\",Datos_de_Tarjetas!G448)","v":""},{"$f":"IFERROR(VLOOKUP(Datos_de_Tarjetas!K448,Parámetros!$AJ$3:$AK$13,2,FALSE),\"\")","v":""},{"$f":"IFERROR(VLOOKUP(Datos_de_Tarjetas!J448,Parámetros!$AQ$3:$AR$57,2,FALSE),\"\")","v":""},null,{"$f":"IF(Datos_de_Tarjetas!L448=0,\"\",Datos_de_Tarjetas!L448)","v":""},{"$f":"IF(Datos_de_Tarjetas!M448=0,\"\",Datos_de_Tarjetas!M448)","v":""},{"$f":"IF(Datos_de_Tarjetas!N448=0,\"\",Datos_de_Tarjetas!N448)","v":""},{"$f":"IFERROR(VLOOKUP(Datos_de_Tarjetas!P448,Parámetros!$AM$3:$AN$90,2,FALSE),\"\")","v":""}]
[null,1069470000,{"$f":"IFERROR(VLOOKUP(Datos_de_Tarjetas!D449,Parámetros!$AD$12:$AE$17,2,FALSE),\"\")","v":""},{"$f":"IF(Datos_de_Tarjetas!G449=0,\"\",Datos_de_Tarjetas!G449)","v":""},{"$f":"IFERROR(VLOOKUP(Datos_de_Tarjetas!K449,Parámetros!$AJ$3:$AK$13,2,FALSE),\"\")","v":""},{"$f":"IFERROR(VLOOKUP(Datos_de_Tarjetas!J449,Parámetros!$AQ$3:$AR$57,2,FALSE),\"\")","v":""},null,{"$f":"IF(Datos_de_Tarjetas!L449=0,\"\",Datos_de_Tarjetas!L449)","v":""},{"$f":"IF(Datos_de_Tarjetas!M449=0,\"\",Datos_de_Tarjetas!M449)","v":""},{"$f":"IF(Datos_de_Tarjetas!N449=0,\"\",Datos_de_Tarjetas!N449)","v":""},{"$f":"IFERROR(VLOOKUP(Datos_de_Tarjetas!P449,Parámetros!$AM$3:$AN$90,2,FALSE),\"\")","v":""}]
[null,1069470000,{"$f":"IFERROR(VLOOKUP(Datos_de_Tarjetas!D450,Parámetros!$AD$12:$AE$17,2,FALSE),\"\")","v":""},{"$f":"IF(Datos_de_Tarjetas!G450=0,\"\",Datos_de_Tarjetas!G450)","v":""},{"$f":"IFERROR(VLOOKUP(Datos_de_Tarjetas!K450,Parámetros!$AJ$3:$AK$13,2,FALSE),\"\")","v":""},{"$f":"IFERROR(VLOOKUP(Datos_de_Tarjetas!J450,Parámetros!$AQ$3:$AR$57,2,FALSE),\"\")","v":""},null,{"$f":"IF(Datos_de_Tarjetas!L450=0,\"\",Datos_de_Tarjetas!L450)","v":""},{"$f":"IF(Datos_de_Tarjetas!M450=0,\"\",Datos_de_Tarjetas!M450)","v":""},{"$f":"IF(Datos_de_Tarjetas!N450=0,\"\",Datos_de_Tarjetas!N450)","v":""},{"$f":"IFERROR(VLOOKUP(Datos_de_Tarjetas!P450,Parámetros!$AM$3:$AN$90,2,FALSE),\"\")","v":""}]
[null,1069470000,{"$f":"IFERROR(VLOOKUP(Datos_de_Tarjetas!D451,Parámetros!$AD$12:$AE$17,2,FALSE),\"\")","v":""},{"$f":"IF(Datos_de_Tarjetas!G451=0,\"\",Datos_de_Tarjetas!G451)","v":""},{"$f":"IFERROR(VLOOKUP(Datos_de_Tarjetas!K451,Parámetros!$AJ$3:$AK$13,2,FALSE),\"\")","v":""},{"$f":"IFERROR(VLOOKUP(Datos_de_Tarjetas!J451,Parámetros!$AQ$3:$AR$57,2,FALSE),\"\")","v":""},null,{"$f":"IF(Datos_de_Tarjetas!L451=0,\"\",Datos_de_Tarjetas!L451)","v":""},{"$f":"IF(Datos_de_Tarjetas!M451=0,\"\",Datos_de_Tarjetas!M451)","v":""},{"$f":"IF(Datos_de_Tarjetas!N451=0,\"\",Datos_de_Tarjetas!N451)","v":""},{"$f":"IFERROR(VLOOKUP(Datos_de_Tarjetas!P451,Parámetros!$AM$3:$AN$90,2,FALSE),\"\")","v":""}]
[null,1069470000,{"$f":"IFERROR(VLOOKUP(Datos_de_Tarjetas!D452,Parámetros!$AD$12:$AE$17,2,FALSE),\"\")","v":""},{"$f":"IF(Datos_de_Tarjetas!G452=0,\"\",Datos_de_Tarjetas!G452)","v":""},{"$f":"IFERROR(VLOOKUP(Datos_de_Tarjetas!K452,Parámetros!$AJ$3:$AK$13,2,FALSE),\"\")","v":""},{"$f":"IFERROR(VLOOKUP(Datos_de_Tarjetas!J452,Parámetros!$AQ$3:$AR$57,2,FALSE),\"\")","v":""},null,{"$f":"IF(Datos_de_Tarjetas!L452=0,\"\",Datos_de_Tarjetas!L452)","v":""},{"$f":"IF(Datos_de_Tarjetas!M452=0,\"\",Datos_de_Tarjetas!M452)","v":""},{"$f":"IF(Datos_de_Tarjetas!N452=0,\"\",Datos_de_Tarjetas!N452)","v":""},{"$f":"IFERROR(VLOOKUP(Datos_de_Tarjetas!P452,Parámetros!$AM$3:$AN$90,2,FALSE),\"\")","v":""}]
[null,1069470000,{"$f":"IFERROR(VLOOKUP(Datos_de_Tarjetas!D453,Parámetros!$AD$12:$AE$17,2,FALSE),\"\")","v":""},{"$f":"IF(Datos_de_Tarjetas!G453=0,\"\",Datos_de_Tarjetas!G453)","v":""},{"$f":"IFERROR(VLOOKUP(Datos_de_Tarjetas!K453,Parámetros!$AJ$3:$AK$13,2,FALSE),\"\")","v":""},{"$f":"IFERROR(VLOOKUP(Datos_de_Tarjetas!J453,Parámetros!$AQ$3:$AR$57,2,FALSE),\"\")","v":""},null,{"$f":"IF(Datos_de_Tarjetas!L453=0,\"\",Datos_de_Tarjetas!L453)","v":""},{"$f":"IF(Datos_de_Tarjetas!M453=0,\"\",Datos_de_Tarjetas!M453)","v":""},{"$f":"IF(Datos_de_Tarjetas!N453=0,\"\",Datos_de_Tarjetas!N453)","v":""},{"$f":"IFERROR(VLOOKUP(Datos_de_Tarjetas!P453,Parámetros!$AM$3:$AN$90,2,FALSE),\"\")","v":""}]
[null,1069470000,{"$f":"IFERROR(VLOOKUP(Datos_de_Tarjetas!D454,Parámetros!$AD$12:$AE$17,2,FALSE),\"\")","v":""},{"$f":"IF(Datos_de_Tarjetas!G454=0,\"\",Datos_de_Tarjetas!G454)","v":""},{"$f":"IFERROR(VLOOKUP(Datos_de_Tarjetas!K454,Parámetros!$AJ$3:$AK$13,2,FALSE),\"\")","v":""},{"$f":"IFERROR(VLOOKUP(Datos_de_Tarjetas!J454,Parámetros!$AQ$3:$AR$57,2,FALSE),\"\")","v":""},null,{"$f":"IF(Datos_de_Tarjetas!L454=0,\"\",Datos_de_Tarjetas!L454)","v":""},{"$f":"IF(Datos_de_Tarjetas!M454=0,\"\",Datos_de_Tarjetas!M454)","v":""},{"$f":"IF(Datos_de_Tarjetas!N454=0,\"\",Datos_de_Tarjetas!N454)","v":""},{"$f":"IFERROR(VLOOKUP(Datos_de_Tarjetas!P454,Parámetros!$AM$3:$AN$90,2,FALSE),\"\")","v":""}]
[null,1069470000,{"$f":"IFERROR(VLOOKUP(Datos_de_Tarjetas!D455,Parámetros!$AD$12:$AE$17,2,FALSE),\"\")","v":""},{"$f":"IF(Datos_de_Tarjetas!G455=0,\"\",Datos_de_Tarjetas!G455)","v":""},{"$f":"IFERROR(VLOOKUP(Datos_de_Tarjetas!K455,Parámetros!$AJ$3:$AK$13,2,FALSE),\"\")","v":""},{"$f":"IFERROR(VLOOKUP(Datos_de_Tarjetas!J455,Parámetros!$AQ$3:$AR$57,2,FALSE),\"\")","v":""},null,{"$f":"IF(Datos_de_Tarjetas!L455=0,\"\",Datos_de_Tarjetas!L455)","v":""},{"$f":"IF(Datos_de_Tarjetas!M455=0,\"\",Datos_de_Tarjetas!M455)","v":""},{"$f":"IF(Datos_de_Tarjetas!N455=0,\"\",Datos_de_Tarjetas!N455)","v":""},{"$f":"IFERROR(VLOOKUP(Datos_de_Tarjetas!P455,Parámetros!$AM$3:$AN$90,2,FALSE),\"\")","v":""}]
[null,1069470000,{"$f":"IFERROR(VLOOKUP(Datos_de_Tarjetas!D456,Parámetros!$AD$12:$AE$17,2,FALSE),\"\")","v":""},{"$f":"IF(Datos_de_Tarjetas!G456=0,\"\",Datos_de_Tarjetas!G456)","v":""},{"$f":"IFERROR(VLOOKUP(Datos_de_Tarjetas!K456,Parámetros!$AJ$3:$AK$13,2,FALSE),\"\")","v":""},{"$f":"IFERROR(VLOOKUP(Datos_de_Tarjetas!J456,Parámetros!$AQ$3:$AR$57,2,FALSE),\"\")","v":""},null,{"$f":"IF(Datos_de_Tarjetas!L456=0,\"\",Datos_de_Tarjetas!L456)","v":""},{"$f":"IF(Datos_de_Tarjetas!M456=0,\"\",Datos_de_Tarjetas!M456)","v":""},{"$f":"IF(Datos_de_Tarjetas!N456=0,\"\",Datos_de_Tarjetas!N456)","v":""},{"$f":"IFERROR(VLOOKUP(Datos_de_Tarjetas!P456,Parámetros!$AM$3:$AN$90,2,FALSE),\"\")","v":""}]
[null,1069470000,{"$f":"IFERROR(VLOOKUP(Datos_de_Tarjetas!D457,Parámetros!$AD$12:$AE$17,2,FALSE),\"\")","v":""},{"$f":"IF(Datos_de_Tarjetas!G457=0,\"\",Datos_de_Tarjetas!G457)","v":""},{"$f":"IFERROR(VLOOKUP(Datos_de_Tarjetas!K457,Parámetros!$AJ$3:$AK$13,2,FALSE),\"\")","v":""},{"$f":"IFERROR(VLOOKUP(Datos_de_Tarjetas!J457,Parámetros!$AQ$3:$AR$57,2,FALSE),\"\")","v":""},null,{"$f":"IF(Datos_de_Tarjetas!L457=0,\"\",Datos_de_Tarjetas!L457)","v":""},{"$f":"IF(Datos_de_Tarjetas!M457=0,\"\",Datos_de_Tarjetas!M457)","v":""},{"$f":"IF(Datos_de_Tarjetas!N457=0,\"\",Datos_de_Tarjetas!N457)","v":""},{"$f":"IFERROR(VLOOKUP(Datos_de_Tarjetas!P457,Parámetros!$AM$3:$AN$90,2,FALSE),\"\")","v":""}]
[null,1069470000,{"$f":"IFERROR(VLOOKUP(Datos_de_Tarjetas!D458,Parámetros!$AD$12:$AE$17,2,FALSE),\"\")","v":""},{"$f":"IF(Datos_de_Tarjetas!G458=0,\"\",Datos_de_Tarjetas!G458)","v":""},{"$f":"IFERROR(VLOOKUP(Datos_de_Tarjetas!K458,Parámetros!$AJ$3:$AK$13,2,FALSE),\"\")","v":""},{"$f":"IFERROR(VLOOKUP(Datos_de_Tarjetas!J458,Parámetros!$AQ$3:$AR$57,2,FALSE),\"\")","v":""},null,{"$f":"IF(Datos_de_Tarjetas!L458=0,\"\",Datos_de_Tarjetas!L458)","v":""},{"$f":"IF(Datos_de_Tarjetas!M458=0,\"\",Datos_de_Tarjetas!M458)","v":""},{"$f":"IF(Datos_de_Tarjetas!N458=0,\"\",Datos_de_Tarjetas!N458)","v":""},{"$f":"IFERROR(VLOOKUP(Datos_de_Tarjetas!P458,Parámetros!$AM$3:$AN$90,2,FALSE),\"\")","v":""}]
[null,1069470000,{"$f":"IFERROR(VLOOKUP(Datos_de_Tarjetas!D459,Parámetros!$AD$12:$AE$17,2,FALSE),\"\")","v":""},{"$f":"IF(Datos_de_Tarjetas!G459=0,\"\",Datos_de_Tarjetas!G459)","v":""},{"$f":"IFERROR(VLOOKUP(Datos_de_Tarjetas!K459,Parámetros!$AJ$3:$AK$13,2,FALSE),\"\")","v":""},{"$f":"IFERROR(VLOOKUP(Datos_de_Tarjetas!J459,Parámetros!$AQ$3:$AR$57,2,FALSE),\"\")","v":""},null,{"$f":"IF(Datos_de_Tarjetas!L459=0,\"\",Datos_de_Tarjetas!L459)","v":""},{"$f":"IF(Datos_de_Tarjetas!M459=0,\"\",Datos_de_Tarjetas!M459)","v":""},{"$f":"IF(Datos_de_Tarjetas!N459=0,\"\",Datos_de_Tarjetas!N459)","v":""},{"$f":"IFERROR(VLOOKUP(Datos_de_Tarjetas!P459,Parámetros!$AM$3:$AN$90,2,FALSE),\"\")","v":""}]
[null,1069470000,{"$f":"IFERROR(VLOOKUP(Datos_de_Tarjetas!D460,Parámetros!$AD$12:$AE$17,2,FALSE),\"\")","v":""},{"$f":"IF(Datos_de_Tarjetas!G460=0,\"\",Datos_de_Tarjetas!G460)","v":""},{"$f":"IFERROR(VLOOKUP(Datos_de_Tarjetas!K460,Parámetros!$AJ$3:$AK$13,2,FALSE),\"\")","v":""},{"$f":"IFERROR(VLOOKUP(Datos_de_Tarjetas!J460,Parámetros!$AQ$3:$AR$57,2,FALSE),\"\")","v":""},null,{"$f":"IF(Datos_de_Tarjetas!L460=0,\"\",Datos_de_Tarjetas!L460)","v":""},{"$f":"IF(Datos_de_Tarjetas!M460=0,\"\",Datos_de_Tarjetas!M460)","v":""},{"$f":"IF(Datos_de_Tarjetas!N460=0,\"\",Datos_de_Tarjetas!N460)","v":""},{"$f":"IFERROR(VLOOKUP(Datos_de_Tarjetas!P460,Parámetros!$AM$3:$AN$90,2,FALSE),\"\")","v":""}]
[null,1069470000,{"$f":"IFERROR(VLOOKUP(Datos_de_Tarjetas!D461,Parámetros!$AD$12:$AE$17,2,FALSE),\"\")","v":""},{"$f":"IF(Datos_de_Tarjetas!G461=0,\"\",Datos_de_Tarjetas!G461)","v":""},{"$f":"IFERROR(VLOOKUP(Datos_de_Tarjetas!K461,Parámetros!$AJ$3:$AK$13,2,FALSE),\"\")","v":""},{"$f":"IFERROR(VLOOKUP(Datos_de_Tarjetas!J461,Parámetros!$AQ$3:$AR$57,2,FALSE),\"\")","v":""},null,{"$f":"IF(Datos_de_Tarjetas!L461=0,\"\",Datos_de_Tarjetas!L461)","v":""},{"$f":"IF(Datos_de_Tarjetas!M461=0,\"\",Datos_de_Tarjetas!M461)","v":""},{"$f":"IF(Datos_de_Tarjetas!N461=0,\"\",Datos_de_Tarjetas!N461)","v":""},{"$f":"IFERROR(VLOOKUP(Datos_de_Tarjetas!P461,Parámetros!$AM$3:$AN$90,2,FALSE),\"\")","v":""}]
[null,1069470000,{"$f":"IFERROR(VLOOKUP(Datos_de_Tarjetas!D462,Parámetros!$AD$12:$AE$17,2,FALSE),\"\")","v":""},{"$f":"IF(Datos_de_Tarjetas!G462=0,\"\",Datos_de_Tarjetas!G462)","v":""},{"$f":"IFERROR(VLOOKUP(Datos_de_Tarjetas!K462,Parámetros!$AJ$3:$AK$13,2,FALSE),\"\")","v":""},{"$f":"IFERROR(VLOOKUP(Datos_de_Tarjetas!J462,Parámetros!$AQ$3:$AR$57,2,FALSE),\"\")","v":""},null,{"$f":"IF(Datos_de_Tarjetas!L462=0,\"\",Datos_de_Tarjetas!L462)","v":""},{"$f":"IF(Datos_de_Tarjetas!M462=0,\"\",Datos_de_Tarjetas!M462)","v":""},{"$f":"IF(Datos_de_Tarjetas!N462=0,\"\",Datos_de_Tarjetas!N462)","v":""},{"$f":"IFERROR(VLOOKUP(Datos_de_Tarjetas!P462,Parámetros!$AM$3:$AN$90,2,FALSE),\"\")","v":""}]
[null,1069470000,{"$f":"IFERROR(VLOOKUP(Datos_de_Tarjetas!D463,Parámetros!$AD$12:$AE$17,2,FALSE),\"\")","v":""},{"$f":"IF(Datos_de_Tarjetas!G463=0,\"\",Datos_de_Tarjetas!G463)","v":""},{"$f":"IFERROR(VLOOKUP(Datos_de_Tarjetas!K463,Parámetros!$AJ$3:$AK$13,2,FALSE),\"\")","v":""},{"$f":"IFERROR(VLOOKUP(Datos_de_Tarjetas!J463,Parámetros!$AQ$3:$AR$57,2,FALSE),\"\")","v":""},null,{"$f":"IF(Datos_de_Tarjetas!L463=0,\"\",Datos_de_Tarjetas!L463)","v":""},{"$f":"IF(Datos_de_Tarjetas!M463=0,\"\",Datos_de_Tarjetas!M463)","v":""},{"$f":"IF(Datos_de_Tarjetas!N463=0,\"\",Datos_de_Tarjetas!N463)","v":""},{"$f":"IFERROR(VLOOKUP(Datos_de_Tarjetas!P463,Parámetros!$AM$3:$AN$90,2,FALSE),\"\")","v":""}]
[null,1069470000,{"$f":"IFERROR(VLOOKUP(Datos_de_Tarjetas!D464,Parámetros!$AD$12:$AE$17,2,FALSE),\"\")","v":""},{"$f":"IF(Datos_de_Tarjetas!G464=0,\"\",Datos_de_Tarjetas!G464)","v":""},{"$f":"IFERROR(VLOOKUP(Datos_de_Tarjetas!K464,Parámetros!$AJ$3:$AK$13,2,FALSE),\"\")","v":""},{"$f":"IFERROR(VLOOKUP(Datos_de_Tarjetas!J464,Parámetros!$AQ$3:$AR$57,2,FALSE),\"\")","v":""},null,{"$f":"IF(Datos_de_Tarjetas!L464=0,\"\",Datos_de_Tarjetas!L464)","v":""},{"$f":"IF(Datos_de_Tarjetas!M464=0,\"\",Datos_de_Tarjetas!M464)","v":""},{"$f":"IF(Datos_de_Tarjetas!N464=0,\"\",Datos_de_Tarjetas!N464)","v":""},{"$f":"IFERROR(VLOOKUP(Datos_de_Tarjetas!P464,Parámetros!$AM$3:$AN$90,2,FALSE),\"\")","v":""}]
[null,{"$f":"$C$2","v":1069470000},{"$f":"IFERROR(VLOOKUP(Datos_de_Tarjetas!D465,Parámetros!$AD$12:$AE$17,2,FALSE),\"\")","v":""},{"$f":"IF(Datos_de_Tarjetas!G465=0,\"\",Datos_de_Tarjetas!G465)","v":""},{"$f":"IFERROR(VLOOKUP(Datos_de_Tarjetas!K465,Parámetros!$AJ$3:$AK$13,2,FALSE),\"\")","v":""},{"$f":"IFERROR(VLOOKUP(Datos_de_Tarjetas!J465,Parámetros!$AQ$3:$AR$57,2,FALSE),\"\")","v":""},null,{"$f":"IF(Datos_de_Tarjetas!L465=0,\"\",Datos_de_Tarjetas!L465)","v":""},{"$f":"IF(Datos_de_Tarjetas!M465=0,\"\",Datos_de_Tarjetas!M465)","v":""},{"$f":"IF(Datos_de_Tarjetas!N465=0,\"\",Datos_de_Tarjetas!N465)","v":""},{"$f":"IFERROR(VLOOKUP(Datos_de_Tarjetas!P465,Parámetros!$AM$3:$AN$90,2,FALSE),\"\")","v":""}]
[null,1069470000,{"$f":"IFERROR(VLOOKUP(Datos_de_Tarjetas!D466,Parámetros!$AD$12:$AE$17,2,FALSE),\"\")","v":""},{"$f":"IF(Datos_de_Tarjetas!G466=0,\"\",Datos_de_Tarjetas!G466)","v":""},{"$f":"IFERROR(VLOOKUP(Datos_de_Tarjetas!K466,Parámetros!$AJ$3:$AK$13,2,FALSE),\"\")","v":""},{"$f":"IFERROR(VLOOKUP(Datos_de_Tarjetas!J466,Parámetros!$AQ$3:$AR$57,2,FALSE),\"\")","v":""},null,{"$f":"IF(Datos_de_Tarjetas!L466=0,\"\",Datos_de_Tarjetas!L466)","v":""},{"$f":"IF(Datos_de_Tarjetas!M466=0,\"\",Datos_de_Tarjetas!M466)","v":""},{"$f":"IF(Datos_de_Tarjetas!N466=0,\"\",Datos_de_Tarjetas!N466)","v":""},{"$f":"IFERROR(VLOOKUP(Datos_de_Tarjetas!P466,Parámetros!$AM$3:$AN$90,2,FALSE),\"\")","v":""}]
[null,1069470000,{"$f":"IFERROR(VLOOKUP(Datos_de_Tarjetas!D467,Parámetros!$AD$12:$AE$17,2,FALSE),\"\")","v":""},{"$f":"IF(Datos_de_Tarjetas!G467=0,\"\",Datos_de_Tarjetas!G467)","v":""},{"$f":"IFERROR(VLOOKUP(Datos_de_Tarjetas!K467,Parámetros!$AJ$3:$AK$13,2,FALSE),\"\")","v":""},{"$f":"IFERROR(VLOOKUP(Datos_de_Tarjetas!J467,Parámetros!$AQ$3:$AR$57,2,FALSE),\"\")","v":""},null,{"$f":"IF(Datos_de_Tarjetas!L467=0,\"\",Datos_de_Tarjetas!L467)","v":""},{"$f":"IF(Datos_de_Tarjetas!M467=0,\"\",Datos_de_Tarjetas!M467)","v":""},{"$f":"IF(Datos_de_Tarjetas!N467=0,\"\",Datos_de_Tarjetas!N467)","v":""},{"$f":"IFERROR(VLOOKUP(Datos_de_Tarjetas!P467,Parámetros!$AM$3:$AN$90,2,FALSE),\"\")","v":""}]
[null,1069470000,{"$f":"IFERROR(VLOOKUP(Datos_de_Tarjetas!D468,Parámetros!$AD$12:$AE$17,2,FALSE),\"\")","v":""},{"$f":"IF(Datos_de_Tarjetas!G468=0,\"\",Datos_de_Tarjetas!G468)","v":""},{"$f":"IFERROR(VLOOKUP(Datos_de_Tarjetas!K468,Parámetros!$AJ$3:$AK$13,2,FALSE),\"\")","v":""},{"$f":"IFERROR(VLOOKUP(Datos_de_Tarjetas!J468,Parámetros!$AQ$3:$AR$57,2,FALSE),\"\")","v":""},null,{"$f":"IF(Datos_de_Tarjetas!L468=0,\"\",Datos_de_Tarjetas!L468)","v":""},{"$f":"IF(Datos_de_Tarjetas!M468=0,\"\",Datos_de_Tarjetas!M468)","v":""},{"$f":"IF(Datos_de_Tarjetas!N468=0,\"\",Datos_de_Tarjetas!N468)","v":""},{"$f":"IFERROR(VLOOKUP(Datos_de_Tarjetas!P468,Parámetros!$AM$3:$AN$90,2,FALSE),\"\")","v":""}]
[null,1069470000,{"$f":"IFERROR(VLOOKUP(Datos_de_Tarjetas!D469,Parámetros!$AD$12:$AE$17,2,FALSE),\"\")","v":""},{"$f":"IF(Datos_de_Tarjetas!G469=0,\"\",Datos_de_Tarjetas!G469)","v":""},{"$f":"IFERROR(VLOOKUP(Datos_de_Tarjetas!K469,Parámetros!$AJ$3:$AK$13,2,FALSE),\"\")","v":""},{"$f":"IFERROR(VLOOKUP(Datos_de_Tarjetas!J469,Parámetros!$AQ$3:$AR$57,2,FALSE),\"\")","v":""},null,{"$f":"IF(Datos_de_Tarjetas!L469=0,\"\",Datos_de_Tarjetas!L469)","v":""},{"$f":"IF(Datos_de_Tarjetas!M469=0,\"\",Datos_de_Tarjetas!M469)","v":""},{"$f":"IF(Datos_de_Tarjetas!N469=0,\"\",Datos_de_Tarjetas!N469)","v":""},{"$f":"IFERROR(VLOOKUP(Datos_de_Tarjetas!P469,Parámetros!$AM$3:$AN$90,2,FALSE),\"\")","v":""}]
[null,1069470000,{"$f":"IFERROR(VLOOKUP(Datos_de_Tarjetas!D470,Parámetros!$AD$12:$AE$17,2,FALSE),\"\")","v":""},{"$f":"IF(Datos_de_Tarjetas!G470=0,\"\",Datos_de_Tarjetas!G470)","v":""},{"$f":"IFERROR(VLOOKUP(Datos_de_Tarjetas!K470,Parámetros!$AJ$3:$AK$13,2,FALSE),\"\")","v":""},{"$f":"IFERROR(VLOOKUP(Datos_de_Tarjetas!J470,Parámetros!$AQ$3:$AR$57,2,FALSE),\"\")","v":""},null,{"$f":"IF(Datos_de_Tarjetas!L470=0,\"\",Datos_de_Tarjetas!L470)","v":""},{"$f":"IF(Datos_de_Tarjetas!M470=0,\"\",Datos_de_Tarjetas!M470)","v":""},{"$f":"IF(Datos_de_Tarjetas!N470=0,\"\",Datos_de_Tarjetas!N470)","v":""},{"$f":"IFERROR(VLOOKUP(Datos_de_Tarjetas!P470,Parámetros!$AM$3:$AN$90,2,FALSE),\"\")","v":""}]
[null,1069470000,{"$f":"IFERROR(VLOOKUP(Datos_de_Tarjetas!D471,Parámetros!$AD$12:$AE$17,2,FALSE),\"\")","v":""},{"$f":"IF(Datos_de_Tarjetas!G471=0,\"\",Datos_de_Tarjetas!G471)","v":""},{"$f":"IFERROR(VLOOKUP(Datos_de_Tarjetas!K471,Parámetros!$AJ$3:$AK$13,2,FALSE),\"\")","v":""},{"$f":"IFERROR(VLOOKUP(Datos_de_Tarjetas!J471,Parámetros!$AQ$3:$AR$57,2,FALSE),\"\")","v":""},null,{"$f":"IF(Datos_de_Tarjetas!L471=0,\"\",Datos_de_Tarjetas!L471)","v":""},{"$f":"IF(Datos_de_Tarjetas!M471=0,\"\",Datos_de_Tarjetas!M471)","v":""},{"$f":"IF(Datos_de_Tarjetas!N471=0,\"\",Datos_de_Tarjetas!N471)","v":""},{"$f":"IFERROR(VLOOKUP(Datos_de_Tarjetas!P471,Parámetros!$AM$3:$AN$90,2,FALSE),\"\")","v":""}]
[null,1069470000,{"$f":"IFERROR(VLOOKUP(Datos_de_Tarjetas!D472,Parámetros!$AD$12:$AE$17,2,FALSE),\"\")","v":""},{"$f":"IF(Datos_de_Tarjetas!G472=0,\"\",Datos_de_Tarjetas!G472)","v":""},{"$f":"IFERROR(VLOOKUP(Datos_de_Tarjetas!K472,Parámetros!$AJ$3:$AK$13,2,FALSE),\"\")","v":""},{"$f":"IFERROR(VLOOKUP(Datos_de_Tarjetas!J472,Parámetros!$AQ$3:$AR$57,2,FALSE),\"\")","v":""},null,{"$f":"IF(Datos_de_Tarjetas!L472=0,\"\",Datos_de_Tarjetas!L472)","v":""},{"$f":"IF(Datos_de_Tarjetas!M472=0,\"\",Datos_de_Tarjetas!M472)","v":""},{"$f":"IF(Datos_de_Tarjetas!N472=0,\"\",Datos_de_Tarjetas!N472)","v":""},{"$f":"IFERROR(VLOOKUP(Datos_de_Tarjetas!P472,Parámetros!$AM$3:$AN$90,2,FALSE),\"\")","v":""}]
[null,1069470000,{"$f":"IFERROR(VLOOKUP(Datos_de_Tarjetas!D473,Parámetros!$AD$12:$AE$17,2,FALSE),\"\")","v":""},{"$f":"IF(Datos_de_Tarjetas!G473=0,\"\",Datos_de_Tarjetas!G473)","v":""},{"$f":"IFERROR(VLOOKUP(Datos_de_Tarjetas!K473,Parámetros!$AJ$3:$AK$13,2,FALSE),\"\")","v":""},{"$f":"IFERROR(VLOOKUP(Datos_de_Tarjetas!J473,Parámetros!$AQ$3:$AR$57,2,FALSE),\"\")","v":""},null,{"$f":"IF(Datos_de_Tarjetas!L473=0,\"\",Datos_de_Tarjetas!L473)","v":""},{"$f":"IF(Datos_de_Tarjetas!M473=0,\"\",Datos_de_Tarjetas!M473)","v":""},{"$f":"IF(Datos_de_Tarjetas!N473=0,\"\",Datos_de_Tarjetas!N473)","v":""},{"$f":"IFERROR(VLOOKUP(Datos_de_Tarjetas!P473,Parámetros!$AM$3:$AN$90,2,FALSE),\"\")","v":""}]
[null,1069470000,{"$f":"IFERROR(VLOOKUP(Datos_de_Tarjetas!D474,Parámetros!$AD$12:$AE$17,2,FALSE),\"\")","v":""},{"$f":"IF(Datos_de_Tarjetas!G474=0,\"\",Datos_de_Tarjetas!G474)","v":""},{"$f":"IFERROR(VLOOKUP(Datos_de_Tarjetas!K474,Parámetros!$AJ$3:$AK$13,2,FALSE),\"\")","v":""},{"$f":"IFERROR(VLOOKUP(Datos_de_Tarjetas!J474,Parámetros!$AQ$3:$AR$57,2,FALSE),\"\")","v":""},null,{"$f":"IF(Datos_de_Tarjetas!L474=0,\"\",Datos_de_Tarjetas!L474)","v":""},{"$f":"IF(Datos_de_Tarjetas!M474=0,\"\",Datos_de_Tarjetas!M474)","v":""},{"$f":"IF(Datos_de_Tarjetas!N474=0,\"\",Datos_de_Tarjetas!N474)","v":""},{"$f":"IFERROR(VLOOKUP(Datos_de_Tarjetas!P474,Parámetros!$AM$3:$AN$90,2,FALSE),\"\")","v":""}]
[null,1069470000,{"$f":"IFERROR(VLOOKUP(Datos_de_Tarjetas!D475,Parámetros!$AD$12:$AE$17,2,FALSE),\"\")","v":""},{"$f":"IF(Datos_de_Tarjetas!G475=0,\"\",Datos_de_Tarjetas!G475)","v":""},{"$f":"IFERROR(VLOOKUP(Datos_de_Tarjetas!K475,Parámetros!$AJ$3:$AK$13,2,FALSE),\"\")","v":""},{"$f":"IFERROR(VLOOKUP(Datos_de_Tarjetas!J475,Parámetros!$AQ$3:$AR$57,2,FALSE),\"\")","v":""},null,{"$f":"IF(Datos_de_Tarjetas!L475=0,\"\",Datos_de_Tarjetas!L475)","v":""},{"$f":"IF(Datos_de_Tarjetas!M475=0,\"\",Datos_de_Tarjetas!M475)","v":""},{"$f":"IF(Datos_de_Tarjetas!N475=0,\"\",Datos_de_Tarjetas!N475)","v":""},{"$f":"IFERROR(VLOOKUP(Datos_de_Tarjetas!P475,Parámetros!$AM$3:$AN$90,2,FALSE),\"\")","v":""}]
[null,1069470000,{"$f":"IFERROR(VLOOKUP(Datos_de_Tarjetas!D476,Parámetros!$AD$12:$AE$17,2,FALSE),\"\")","v":""},{"$f":"IF(Datos_de_Tarjetas!G476=0,\"\",Datos_de_Tarjetas!G476)","v":""},{"$f":"IFERROR(VLOOKUP(Datos_de_Tarjetas!K476,Parámetros!$AJ$3:$AK$13,2,FALSE),\"\")","v":""},{"$f":"IFERROR(VLOOKUP(Datos_de_Tarjetas!J476,Parámetros!$AQ$3:$AR$57,2,FALSE),\"\")","v":""},null,{"$f":"IF(Datos_de_Tarjetas!L476=0,\"\",Datos_de_Tarjetas!L476)","v":""},{"$f":"IF(Datos_de_Tarjetas!M476=0,\"\",Datos_de_Tarjetas!M476)","v":""},{"$f":"IF(Datos_de_Tarjetas!N476=0,\"\",Datos_de_Tarjetas!N476)","v":""},{"$f":"IFERROR(VLOOKUP(Datos_de_Tarjetas!P476,Parámetros!$AM$3:$AN$90,2,FALSE),\"\")","v":""}]
[null,1069470000,{"$f":"IFERROR(VLOOKUP(Datos_de_Tarjetas!D477,Parámetros!$AD$12:$AE$17,2,FALSE),\"\")","v":""},{"$f":"IF(Datos_de_Tarjetas!G477=0,\"\",Datos_de_Tarjetas!G477)","v":""},{"$f":"IFERROR(VLOOKUP(Datos_de_Tarjetas!K477,Parámetros!$AJ$3:$AK$13,2,FALSE),\"\")","v":""},{"$f":"IFERROR(VLOOKUP(Datos_de_Tarjetas!J477,Parámetros!$AQ$3:$AR$57,2,FALSE),\"\")","v":""},null,{"$f":"IF(Datos_de_Tarjetas!L477=0,\"\",Datos_de_Tarjetas!L477)","v":""},{"$f":"IF(Datos_de_Tarjetas!M477=0,\"\",Datos_de_Tarjetas!M477)","v":""},{"$f":"IF(Datos_de_Tarjetas!N477=0,\"\",Datos_de_Tarjetas!N477)","v":""},{"$f":"IFERROR(VLOOKUP(Datos_de_Tarjetas!P477,Parámetros!$AM$3:$AN$90,2,FALSE),\"\")","v":""}]
[null,1069470000,{"$f":"IFERROR(VLOOKUP(Datos_de_Tarjetas!D478,Parámetros!$AD$12:$AE$17,2,FALSE),\"\")","v":""},{"$f":"IF(Datos_de_Tarjetas!G478=0,\"\",Datos_de_Tarjetas!G478)","v":""},{"$f":"IFERROR(VLOOKUP(Datos_de_Tarjetas!K478,Parámetros!$AJ$3:$AK$13,2,FALSE),\"\")","v":""},{"$f":"IFERROR(VLOOKUP(Datos_de_Tarjetas!J478,Parámetros!$AQ$3:$AR$57,2,FALSE),\"\")","v":""},null,{"$f":"IF(Datos_de_Tarjetas!L478=0,\"\",Datos_de_Tarjetas!L478)","v":""},{"$f":"IF(Datos_de_Tarjetas!M478=0,\"\",Datos_de_Tarjetas!M478)","v":""},{"$f":"IF(Datos_de_Tarjetas!N478=0,\"\",Datos_de_Tarjetas!N478)","v":""},{"$f":"IFERROR(VLOOKUP(Datos_de_Tarjetas!P478,Parámetros!$AM$3:$AN$90,2,FALSE),\"\")","v":""}]
[null,1069470000,{"$f":"IFERROR(VLOOKUP(Datos_de_Tarjetas!D479,Parámetros!$AD$12:$AE$17,2,FALSE),\"\")","v":""},{"$f":"IF(Datos_de_Tarjetas!G479=0,\"\",Datos_de_Tarjetas!G479)","v":""},{"$f":"IFERROR(VLOOKUP(Datos_de_Tarjetas!K479,Parámetros!$AJ$3:$AK$13,2,FALSE),\"\")","v":""},{"$f":"IFERROR(VLOOKUP(Datos_de_Tarjetas!J479,Parámetros!$AQ$3:$AR$57,2,FALSE),\"\")","v":""},null,{"$f":"IF(Datos_de_Tarjetas!L479=0,\"\",Datos_de_Tarjetas!L479)","v":""},{"$f":"IF(Datos_de_Tarjetas!M479=0,\"\",Datos_de_Tarjetas!M479)","v":""},{"$f":"IF(Datos_de_Tarjetas!N479=0,\"\",Datos_de_Tarjetas!N479)","v":""},{"$f":"IFERROR(VLOOKUP(Datos_de_Tarjetas!P479,Parámetros!$AM$3:$AN$90,2,FALSE),\"\")","v":""}]
[null,1069470000,{"$f":"IFERROR(VLOOKUP(Datos_de_Tarjetas!D480,Parámetros!$AD$12:$AE$17,2,FALSE),\"\")","v":""},{"$f":"IF(Datos_de_Tarjetas!G480=0,\"\",Datos_de_Tarjetas!G480)","v":""},{"$f":"IFERROR(VLOOKUP(Datos_de_Tarjetas!K480,Parámetros!$AJ$3:$AK$13,2,FALSE),\"\")","v":""},{"$f":"IFERROR(VLOOKUP(Datos_de_Tarjetas!J480,Parámetros!$AQ$3:$AR$57,2,FALSE),\"\")","v":""},null,{"$f":"IF(Datos_de_Tarjetas!L480=0,\"\",Datos_de_Tarjetas!L480)","v":""},{"$f":"IF(Datos_de_Tarjetas!M480=0,\"\",Datos_de_Tarjetas!M480)","v":""},{"$f":"IF(Datos_de_Tarjetas!N480=0,\"\",Datos_de_Tarjetas!N480)","v":""},{"$f":"IFERROR(VLOOKUP(Datos_de_Tarjetas!P480,Parámetros!$AM$3:$AN$90,2,FALSE),\"\")","v":""}]
[null,1069470000,{"$f":"IFERROR(VLOOKUP(Datos_de_Tarjetas!D481,Parámetros!$AD$12:$AE$17,2,FALSE),\"\")","v":""},{"$f":"IF(Datos_de_Tarjetas!G481=0,\"\",Datos_de_Tarjetas!G481)","v":""},{"$f":"IFERROR(VLOOKUP(Datos_de_Tarjetas!K481,Parámetros!$AJ$3:$AK$13,2,FALSE),\"\")","v":""},{"$f":"IFERROR(VLOOKUP(Datos_de_Tarjetas!J481,Parámetros!$AQ$3:$AR$57,2,FALSE),\"\")","v":""},null,{"$f":"IF(Datos_de_Tarjetas!L481=0,\"\",Datos_de_Tarjetas!L481)","v":""},{"$f":"IF(Datos_de_Tarjetas!M481=0,\"\",Datos_de_Tarjetas!M481)","v":""},{"$f":"IF(Datos_de_Tarjetas!N481=0,\"\",Datos_de_Tarjetas!N481)","v":""},{"$f":"IFERROR(VLOOKUP(Datos_de_Tarjetas!P481,Parámetros!$AM$3:$AN$90,2,FALSE),\"\")","v":""}]
[null,1069470000,{"$f":"IFERROR(VLOOKUP(Datos_de_Tarjetas!D482,Parámetros!$AD$12:$AE$17,2,FALSE),\"\")","v":""},{"$f":"IF(Datos_de_Tarjetas!G482=0,\"\",Datos_de_Tarjetas!G482)","v":""},{"$f":"IFERROR(VLOOKUP(Datos_de_Tarjetas!K482,Parámetros!$AJ$3:$AK$13,2,FALSE),\"\")","v":""},{"$f":"IFERROR(VLOOKUP(Datos_de_Tarjetas!J482,Parámetros!$AQ$3:$AR$57,2,FALSE),\"\")","v":""},null,{"$f":"IF(Datos_de_Tarjetas!L482=0,\"\",Datos_de_Tarjetas!L482)","v":""},{"$f":"IF(Datos_de_Tarjetas!M482=0,\"\",Datos_de_Tarjetas!M482)","v":""},{"$f":"IF(Datos_de_Tarjetas!N482=0,\"\",Datos_de_Tarjetas!N482)","v":""},{"$f":"IFERROR(VLOOKUP(Datos_de_Tarjetas!P482,Parámetros!$AM$3:$AN$90,2,FALSE),\"\")","v":""}]
[null,1069470000,{"$f":"IFERROR(VLOOKUP(Datos_de_Tarjetas!D483,Parámetros!$AD$12:$AE$17,2,FALSE),\"\")","v":""},{"$f":"IF(Datos_de_Tarjetas!G483=0,\"\",Datos_de_Tarjetas!G483)","v":""},{"$f":"IFERROR(VLOOKUP(Datos_de_Tarjetas!K483,Parámetros!$AJ$3:$AK$13,2,FALSE),\"\")","v":""},{"$f":"IFERROR(VLOOKUP(Datos_de_Tarjetas!J483,Parámetros!$AQ$3:$AR$57,2,FALSE),\"\")","v":""},null,{"$f":"IF(Datos_de_Tarjetas!L483=0,\"\",Datos_de_Tarjetas!L483)","v":""},{"$f":"IF(Datos_de_Tarjetas!M483=0,\"\",Datos_de_Tarjetas!M483)","v":""},{"$f":"IF(Datos_de_Tarjetas!N483=0,\"\",Datos_de_Tarjetas!N483)","v":""},{"$f":"IFERROR(VLOOKUP(Datos_de_Tarjetas!P483,Parámetros!$AM$3:$AN$90,2,FALSE),\"\")","v":""}]
[null,1069470000,{"$f":"IFERROR(VLOOKUP(Datos_de_Tarjetas!D484,Parámetros!$AD$12:$AE$17,2,FALSE),\"\")","v":""},{"$f":"IF(Datos_de_Tarjetas!G484=0,\"\",Datos_de_Tarjetas!G484)","v":""},{"$f":"IFERROR(VLOOKUP(Datos_de_Tarjetas!K484,Parámetros!$AJ$3:$AK$13,2,FALSE),\"\")","v":""},{"$f":"IFERROR(VLOOKUP(Datos_de_Tarjetas!J484,Parámetros!$AQ$3:$AR$57,2,FALSE),\"\")","v":""},null,{"$f":"IF(Datos_de_Tarjetas!L484=0,\"\",Datos_de_Tarjetas!L484)","v":""},{"$f":"IF(Datos_de_Tarjetas!M484=0,\"\",Datos_de_Tarjetas!M484)","v":""},{"$f":"IF(Datos_de_Tarjetas!N484=0,\"\",Datos_de_Tarjetas!N484)","v":""},{"$f":"IFERROR(VLOOKUP(Datos_de_Tarjetas!P484,Parámetros!$AM$3:$AN$90,2,FALSE),\"\")","v":""}]
[null,1069470000,{"$f":"IFERROR(VLOOKUP(Datos_de_Tarjetas!D485,Parámetros!$AD$12:$AE$17,2,FALSE),\"\")","v":""},{"$f":"IF(Datos_de_Tarjetas!G485=0,\"\",Datos_de_Tarjetas!G485)","v":""},{"$f":"IFERROR(VLOOKUP(Datos_de_Tarjetas!K485,Parámetros!$AJ$3:$AK$13,2,FALSE),\"\")","v":""},{"$f":"IFERROR(VLOOKUP(Datos_de_Tarjetas!J485,Parámetros!$AQ$3:$AR$57,2,FALSE),\"\")","v":""},null,{"$f":"IF(Datos_de_Tarjetas!L485=0,\"\",Datos_de_Tarjetas!L485)","v":""},{"$f":"IF(Datos_de_Tarjetas!M485=0,\"\",Datos_de_Tarjetas!M485)","v":""},{"$f":"IF(Datos_de_Tarjetas!N485=0,\"\",Datos_de_Tarjetas!N485)","v":""},{"$f":"IFERROR(VLOOKUP(Datos_de_Tarjetas!P485,Parámetros!$AM$3:$AN$90,2,FALSE),\"\")","v":""}]
[null,1069470000,{"$f":"IFERROR(VLOOKUP(Datos_de_Tarjetas!D486,Parámetros!$AD$12:$AE$17,2,FALSE),\"\")","v":""},{"$f":"IF(Datos_de_Tarjetas!G486=0,\"\",Datos_de_Tarjetas!G486)","v":""},{"$f":"IFERROR(VLOOKUP(Datos_de_Tarjetas!K486,Parámetros!$AJ$3:$AK$13,2,FALSE),\"\")","v":""},{"$f":"IFERROR(VLOOKUP(Datos_de_Tarjetas!J486,Parámetros!$AQ$3:$AR$57,2,FALSE),\"\")","v":""},null,{"$f":"IF(Datos_de_Tarjetas!L486=0,\"\",Datos_de_Tarjetas!L486)","v":""},{"$f":"IF(Datos_de_Tarjetas!M486=0,\"\",Datos_de_Tarjetas!M486)","v":""},{"$f":"IF(Datos_de_Tarjetas!N486=0,\"\",Datos_de_Tarjetas!N486)","v":""},{"$f":"IFERROR(VLOOKUP(Datos_de_Tarjetas!P486,Parámetros!$AM$3:$AN$90,2,FALSE),\"\")","v":""}]
[null,1069470000,{"$f":"IFERROR(VLOOKUP(Datos_de_Tarjetas!D487,Parámetros!$AD$12:$AE$17,2,FALSE),\"\")","v":""},{"$f":"IF(Datos_de_Tarjetas!G487=0,\"\",Datos_de_Tarjetas!G487)","v":""},{"$f":"IFERROR(VLOOKUP(Datos_de_Tarjetas!K487,Parámetros!$AJ$3:$AK$13,2,FALSE),\"\")","v":""},{"$f":"IFERROR(VLOOKUP(Datos_de_Tarjetas!J487,Parámetros!$AQ$3:$AR$57,2,FALSE),\"\")","v":""},null,{"$f":"IF(Datos_de_Tarjetas!L487=0,\"\",Datos_de_Tarjetas!L487)","v":""},{"$f":"IF(Datos_de_Tarjetas!M487=0,\"\",Datos_de_Tarjetas!M487)","v":""},{"$f":"IF(Datos_de_Tarjetas!N487=0,\"\",Datos_de_Tarjetas!N487)","v":""},{"$f":"IFERROR(VLOOKUP(Datos_de_Tarjetas!P487,Parámetros!$AM$3:$AN$90,2,FALSE),\"\")","v":""}]
[null,1069470000,{"$f":"IFERROR(VLOOKUP(Datos_de_Tarjetas!D488,Parámetros!$AD$12:$AE$17,2,FALSE),\"\")","v":""},{"$f":"IF(Datos_de_Tarjetas!G488=0,\"\",Datos_de_Tarjetas!G488)","v":""},{"$f":"IFERROR(VLOOKUP(Datos_de_Tarjetas!K488,Parámetros!$AJ$3:$AK$13,2,FALSE),\"\")","v":""},{"$f":"IFERROR(VLOOKUP(Datos_de_Tarjetas!J488,Parámetros!$AQ$3:$AR$57,2,FALSE),\"\")","v":""},null,{"$f":"IF(Datos_de_Tarjetas!L488=0,\"\",Datos_de_Tarjetas!L488)","v":""},{"$f":"IF(Datos_de_Tarjetas!M488=0,\"\",Datos_de_Tarjetas!M488)","v":""},{"$f":"IF(Datos_de_Tarjetas!N488=0,\"\",Datos_de_Tarjetas!N488)","v":""},{"$f":"IFERROR(VLOOKUP(Datos_de_Tarjetas!P488,Parámetros!$AM$3:$AN$90,2,FALSE),\"\")","v":""}]
[null,1069470000,{"$f":"IFERROR(VLOOKUP(Datos_de_Tarjetas!D489,Parámetros!$AD$12:$AE$17,2,FALSE),\"\")","v":""},{"$f":"IF(Datos_de_Tarjetas!G489=0,\"\",Datos_de_Tarjetas!G489)","v":""},{"$f":"IFERROR(VLOOKUP(Datos_de_Tarjetas!K489,Parámetros!$AJ$3:$AK$13,2,FALSE),\"\")","v":""},{"$f":"IFERROR(VLOOKUP(Datos_de_Tarjetas!J489,Parámetros!$AQ$3:$AR$57,2,FALSE),\"\")","v":""},null,{"$f":"IF(Datos_de_Tarjetas!L489=0,\"\",Datos_de_Tarjetas!L489)","v":""},{"$f":"IF(Datos_de_Tarjetas!M489=0,\"\",Datos_de_Tarjetas!M489)","v":""},{"$f":"IF(Datos_de_Tarjetas!N489=0,\"\",Datos_de_Tarjetas!N489)","v":""},{"$f":"IFERROR(VLOOKUP(Datos_de_Tarjetas!P489,Parámetros!$AM$3:$AN$90,2,FALSE),\"\")","v":""}]
[null,1069470000,{"$f":"IFERROR(VLOOKUP(Datos_de_Tarjetas!D490,Parámetros!$AD$12:$AE$17,2,FALSE),\"\")","v":""},{"$f":"IF(Datos_de_Tarjetas!G490=0,\"\",Datos_de_Tarjetas!G490)","v":""},{"$f":"IFERROR(VLOOKUP(Datos_de_Tarjetas!K490,Parámetros!$AJ$3:$AK$13,2,FALSE),\"\")","v":""},{"$f":"IFERROR(VLOOKUP(Datos_de_Tarjetas!J490,Parámetros!$AQ$3:$AR$57,2,FALSE),\"\")","v":""},null,{"$f":"IF(Datos_de_Tarjetas!L490=0,\"\",Datos_de_Tarjetas!L490)","v":""},{"$f":"IF(Datos_de_Tarjetas!M490=0,\"\",Datos_de_Tarjetas!M490)","v":""},{"$f":"IF(Datos_de_Tarjetas!N490=0,\"\",Datos_de_Tarjetas!N490)","v":""},{"$f":"IFERROR(VLOOKUP(Datos_de_Tarjetas!P490,Parámetros!$AM$3:$AN$90,2,FALSE),\"\")","v":""}]
[null,1069470000,{"$f":"IFERROR(VLOOKUP(Datos_de_Tarjetas!D491,Parámetros!$AD$12:$AE$17,2,FALSE),\"\")","v":""},{"$f":"IF(Datos_de_Tarjetas!G491=0,\"\",Datos_de_Tarjetas!G491)","v":""},{"$f":"IFERROR(VLOOKUP(Datos_de_Tarjetas!K491,Parámetros!$AJ$3:$AK$13,2,FALSE),\"\")","v":""},{"$f":"IFERROR(VLOOKUP(Datos_de_Tarjetas!J491,Parámetros!$AQ$3:$AR$57,2,FALSE),\"\")","v":""},null,{"$f":"IF(Datos_de_Tarjetas!L491=0,\"\",Datos_de_Tarjetas!L491)","v":""},{"$f":"IF(Datos_de_Tarjetas!M491=0,\"\",Datos_de_Tarjetas!M491)","v":""},{"$f":"IF(Datos_de_Tarjetas!N491=0,\"\",Datos_de_Tarjetas!N491)","v":""},{"$f":"IFERROR(VLOOKUP(Datos_de_Tarjetas!P491,Parámetros!$AM$3:$AN$90,2,FALSE),\"\")","v":""}]
[null,1069470000,{"$f":"IFERROR(VLOOKUP(Datos_de_Tarjetas!D492,Parámetros!$AD$12:$AE$17,2,FALSE),\"\")","v":""},{"$f":"IF(Datos_de_Tarjetas!G492=0,\"\",Datos_de_Tarjetas!G492)","v":""},{"$f":"IFERROR(VLOOKUP(Datos_de_Tarjetas!K492,Parámetros!$AJ$3:$AK$13,2,FALSE),\"\")","v":""},{"$f":"IFERROR(VLOOKUP(Datos_de_Tarjetas!J492,Parámetros!$AQ$3:$AR$57,2,FALSE),\"\")","v":""},null,{"$f":"IF(Datos_de_Tarjetas!L492=0,\"\",Datos_de_Tarjetas!L492)","v":""},{"$f":"IF(Datos_de_Tarjetas!M492=0,\"\",Datos_de_Tarjetas!M492)","v":""},{"$f":"IF(Datos_de_Tarjetas!N492=0,\"\",Datos_de_Tarjetas!N492)","v":""},{"$f":"IFERROR(VLOOKUP(Datos_de_Tarjetas!P492,Parámetros!$AM$3:$AN$90,2,FALSE),\"\")","v":""}]
[null,1069470000,{"$f":"IFERROR(VLOOKUP(Datos_de_Tarjetas!D493,Parámetros!$AD$12:$AE$17,2,FALSE),\"\")","v":""},{"$f":"IF(Datos_de_Tarjetas!G493=0,\"\",Datos_de_Tarjetas!G493)","v":""},{"$f":"IFERROR(VLOOKUP(Datos_de_Tarjetas!K493,Parámetros!$AJ$3:$AK$13,2,FALSE),\"\")","v":""},{"$f":"IFERROR(VLOOKUP(Datos_de_Tarjetas!J493,Parámetros!$AQ$3:$AR$57,2,FALSE),\"\")","v":""},null,{"$f":"IF(Datos_de_Tarjetas!L493=0,\"\",Datos_de_Tarjetas!L493)","v":""},{"$f":"IF(Datos_de_Tarjetas!M493=0,\"\",Datos_de_Tarjetas!M493)","v":""},{"$f":"IF(Datos_de_Tarjetas!N493=0,\"\",Datos_de_Tarjetas!N493)","v":""},{"$f":"IFERROR(VLOOKUP(Datos_de_Tarjetas!P493,Parámetros!$AM$3:$AN$90,2,FALSE),\"\")","v":""}]
[null,1069470000,{"$f":"IFERROR(VLOOKUP(Datos_de_Tarjetas!D494,Parámetros!$AD$12:$AE$17,2,FALSE),\"\")","v":""},{"$f":"IF(Datos_de_Tarjetas!G494=0,\"\",Datos_de_Tarjetas!G494)","v":""},{"$f":"IFERROR(VLOOKUP(Datos_de_Tarjetas!K494,Parámetros!$AJ$3:$AK$13,2,FALSE),\"\")","v":""},{"$f":"IFERROR(VLOOKUP(Datos_de_Tarjetas!J494,Parámetros!$AQ$3:$AR$57,2,FALSE),\"\")","v":""},null,{"$f":"IF(Datos_de_Tarjetas!L494=0,\"\",Datos_de_Tarjetas!L494)","v":""},{"$f":"IF(Datos_de_Tarjetas!M494=0,\"\",Datos_de_Tarjetas!M494)","v":""},{"$f":"IF(Datos_de_Tarjetas!N494=0,\"\",Datos_de_Tarjetas!N494)","v":""},{"$f":"IFERROR(VLOOKUP(Datos_de_Tarjetas!P494,Parámetros!$AM$3:$AN$90,2,FALSE),\"\")","v":""}]
[null,1069470000,{"$f":"IFERROR(VLOOKUP(Datos_de_Tarjetas!D495,Parámetros!$AD$12:$AE$17,2,FALSE),\"\")","v":""},{"$f":"IF(Datos_de_Tarjetas!G495=0,\"\",Datos_de_Tarjetas!G495)","v":""},{"$f":"IFERROR(VLOOKUP(Datos_de_Tarjetas!K495,Parámetros!$AJ$3:$AK$13,2,FALSE),\"\")","v":""},{"$f":"IFERROR(VLOOKUP(Datos_de_Tarjetas!J495,Parámetros!$AQ$3:$AR$57,2,FALSE),\"\")","v":""},null,{"$f":"IF(Datos_de_Tarjetas!L495=0,\"\",Datos_de_Tarjetas!L495)","v":""},{"$f":"IF(Datos_de_Tarjetas!M495=0,\"\",Datos_de_Tarjetas!M495)","v":""},{"$f":"IF(Datos_de_Tarjetas!N495=0,\"\",Datos_de_Tarjetas!N495)","v":""},{"$f":"IFERROR(VLOOKUP(Datos_de_Tarjetas!P495,Parámetros!$AM$3:$AN$90,2,FALSE),\"\")","v":""}]
[null,1069470000,{"$f":"IFERROR(VLOOKUP(Datos_de_Tarjetas!D496,Parámetros!$AD$12:$AE$17,2,FALSE),\"\")","v":""},{"$f":"IF(Datos_de_Tarjetas!G496=0,\"\",Datos_de_Tarjetas!G496)","v":""},{"$f":"IFERROR(VLOOKUP(Datos_de_Tarjetas!K496,Parámetros!$AJ$3:$AK$13,2,FALSE),\"\")","v":""},{"$f":"IFERROR(VLOOKUP(Datos_de_Tarjetas!J496,Parámetros!$AQ$3:$AR$57,2,FALSE),\"\")","v":""},null,{"$f":"IF(Datos_de_Tarjetas!L496=0,\"\",Datos_de_Tarjetas!L496)","v":""},{"$f":"IF(Datos_de_Tarjetas!M496=0,\"\",Datos_de_Tarjetas!M496)","v":""},{"$f":"IF(Datos_de_Tarjetas!N496=0,\"\",Datos_de_Tarjetas!N496)","v":""},{"$f":"IFERROR(VLOOKUP(Datos_de_Tarjetas!P496,Parámetros!$AM$3:$AN$90,2,FALSE),\"\")","v":""}]
[null,1069470000,{"$f":"IFERROR(VLOOKUP(Datos_de_Tarjetas!D497,Parámetros!$AD$12:$AE$17,2,FALSE),\"\")","v":""},{"$f":"IF(Datos_de_Tarjetas!G497=0,\"\",Datos_de_Tarjetas!G497)","v":""},{"$f":"IFERROR(VLOOKUP(Datos_de_Tarjetas!K497,Parámetros!$AJ$3:$AK$13,2,FALSE),\"\")","v":""},{"$f":"IFERROR(VLOOKUP(Datos_de_Tarjetas!J497,Parámetros!$AQ$3:$AR$57,2,FALSE),\"\")","v":""},null,{"$f":"IF(Datos_de_Tarjetas!L497=0,\"\",Datos_de_Tarjetas!L497)","v":""},{"$f":"IF(Datos_de_Tarjetas!M497=0,\"\",Datos_de_Tarjetas!M497)","v":""},{"$f":"IF(Datos_de_Tarjetas!N497=0,\"\",Datos_de_Tarjetas!N497)","v":""},{"$f":"IFERROR(VLOOKUP(Datos_de_Tarjetas!P497,Parámetros!$AM$3:$AN$90,2,FALSE),\"\")","v":""}]
[null,1069470000,{"$f":"IFERROR(VLOOKUP(Datos_de_Tarjetas!D498,Parámetros!$AD$12:$AE$17,2,FALSE),\"\")","v":""},{"$f":"IF(Datos_de_Tarjetas!G498=0,\"\",Datos_de_Tarjetas!G498)","v":""},{"$f":"IFERROR(VLOOKUP(Datos_de_Tarjetas!K498,Parámetros!$AJ$3:$AK$13,2,FALSE),\"\")","v":""},{"$f":"IFERROR(VLOOKUP(Datos_de_Tarjetas!J498,Parámetros!$AQ$3:$AR$57,2,FALSE),\"\")","v":""},null,{"$f":"IF(Datos_de_Tarjetas!L498=0,\"\",Datos_de_Tarjetas!L498)","v":""},{"$f":"IF(Datos_de_Tarjetas!M498=0,\"\",Datos_de_Tarjetas!M498)","v":""},{"$f":"IF(Datos_de_Tarjetas!N498=0,\"\",Datos_de_Tarjetas!N498)","v":""},{"$f":"IFERROR(VLOOKUP(Datos_de_Tarjetas!P498,Parámetros!$AM$3:$AN$90,2,FALSE),\"\")","v":""}]
[null,1069470000,{"$f":"IFERROR(VLOOKUP(Datos_de_Tarjetas!D499,Parámetros!$AD$12:$AE$17,2,FALSE),\"\")","v":""},{"$f":"IF(Datos_de_Tarjetas!G499=0,\"\",Datos_de_Tarjetas!G499)","v":""},{"$f":"IFERROR(VLOOKUP(Datos_de_Tarjetas!K499,Parámetros!$AJ$3:$AK$13,2,FALSE),\"\")","v":""},{"$f":"IFERROR(VLOOKUP(Datos_de_Tarjetas!J499,Parámetros!$AQ$3:$AR$57,2,FALSE),\"\")","v":""},null,{"$f":"IF(Datos_de_Tarjetas!L499=0,\"\",Datos_de_Tarjetas!L499)","v":""},{"$f":"IF(Datos_de_Tarjetas!M499=0,\"\",Datos_de_Tarjetas!M499)","v":""},{"$f":"IF(Datos_de_Tarjetas!N499=0,\"\",Datos_de_Tarjetas!N499)","v":""},{"$f":"IFERROR(VLOOKUP(Datos_de_Tarjetas!P499,Parámetros!$AM$3:$AN$90,2,FALSE),\"\")","v":""}]
[null,1069470000,{"$f":"IFERROR(VLOOKUP(Datos_de_Tarjetas!D500,Parámetros!$AD$12:$AE$17,2,FALSE),\"\")","v":""},{"$f":"IF(Datos_de_Tarjetas!G500=0,\"\",Datos_de_Tarjetas!G500)","v":""},{"$f":"IFERROR(VLOOKUP(Datos_de_Tarjetas!K500,Parámetros!$AJ$3:$AK$13,2,FALSE),\"\")","v":""},{"$f":"IFERROR(VLOOKUP(Datos_de_Tarjetas!J500,Parámetros!$AQ$3:$AR$57,2,FALSE),\"\")","v":""},null,{"$f":"IF(Datos_de_Tarjetas!L500=0,\"\",Datos_de_Tarjetas!L500)","v":""},{"$f":"IF(Datos_de_Tarjetas!M500=0,\"\",Datos_de_Tarjetas!M500)","v":""},{"$f":"IF(Datos_de_Tarjetas!N500=0,\"\",Datos_de_Tarjetas!N500)","v":""},{"$f":"IFERROR(VLOOKUP(Datos_de_Tarjetas!P500,Parámetros!$AM$3:$AN$90,2,FALSE),\"\")","v":""}]
[null,1069470000,{"$f":"IFERROR(VLOOKUP(Datos_de_Tarjetas!D501,Parámetros!$AD$12:$AE$17,2,FALSE),\"\")","v":""},{"$f":"IF(Datos_de_Tarjetas!G501=0,\"\",Datos_de_Tarjetas!G501)","v":""},{"$f":"IFERROR(VLOOKUP(Datos_de_Tarjetas!K501,Parámetros!$AJ$3:$AK$13,2,FALSE),\"\")","v":""},{"$f":"IFERROR(VLOOKUP(Datos_de_Tarjetas!J501,Parámetros!$AQ$3:$AR$57,2,FALSE),\"\")","v":""},null,{"$f":"IF(Datos_de_Tarjetas!L501=0,\"\",Datos_de_Tarjetas!L501)","v":""},{"$f":"IF(Datos_de_Tarjetas!M501=0,\"\",Datos_de_Tarjetas!M501)","v":""},{"$f":"IF(Datos_de_Tarjetas!N501=0,\"\",Datos_de_Tarjetas!N501)","v":""},{"$f":"IFERROR(VLOOKUP(Datos_de_Tarjetas!P501,Parámetros!$AM$3:$AN$90,2,FALSE),\"\")","v":""}]
[null,1069470000,{"$f":"IFERROR(VLOOKUP(Datos_de_Tarjetas!D502,Parámetros!$AD$12:$AE$17,2,FALSE),\"\")","v":""},{"$f":"IF(Datos_de_Tarjetas!G502=0,\"\",Datos_de_Tarjetas!G502)","v":""},{"$f":"IFERROR(VLOOKUP(Datos_de_Tarjetas!K502,Parámetros!$AJ$3:$AK$13,2,FALSE),\"\")","v":""},{"$f":"IFERROR(VLOOKUP(Datos_de_Tarjetas!J502,Parámetros!$AQ$3:$AR$57,2,FALSE),\"\")","v":""},null,{"$f":"IF(Datos_de_Tarjetas!L502=0,\"\",Datos_de_Tarjetas!L502)","v":""},{"$f":"IF(Datos_de_Tarjetas!M502=0,\"\",Datos_de_Tarjetas!M502)","v":""},{"$f":"IF(Datos_de_Tarjetas!N502=0,\"\",Datos_de_Tarjetas!N502)","v":""},{"$f":"IFERROR(VLOOKUP(Datos_de_Tarjetas!P502,Parámetros!$AM$3:$AN$90,2,FALSE),\"\")","v":""}]
[null,1069470000,{"$f":"IFERROR(VLOOKUP(Datos_de_Tarjetas!D503,Parámetros!$AD$12:$AE$17,2,FALSE),\"\")","v":""},{"$f":"IF(Datos_de_Tarjetas!G503=0,\"\",Datos_de_Tarjetas!G503)","v":""},{"$f":"IFERROR(VLOOKUP(Datos_de_Tarjetas!K503,Parámetros!$AJ$3:$AK$13,2,FALSE),\"\")","v":""},{"$f":"IFERROR(VLOOKUP(Datos_de_Tarjetas!J503,Parámetros!$AQ$3:$AR$57,2,FALSE),\"\")","v":""},null,{"$f":"IF(Datos_de_Tarjetas!L503=0,\"\",Datos_de_Tarjetas!L503)","v":""},{"$f":"IF(Datos_de_Tarjetas!M503=0,\"\",Datos_de_Tarjetas!M503)","v":""},{"$f":"IF(Datos_de_Tarjetas!N503=0,\"\",Datos_de_Tarjetas!N503)","v":""},{"$f":"IFERROR(VLOOKUP(Datos_de_Tarjetas!P503,Parámetros!$AM$3:$AN$90,2,FALSE),\"\")","v":""}]
[null,1069470000,{"$f":"IFERROR(VLOOKUP(Datos_de_Tarjetas!D504,Parámetros!$AD$12:$AE$17,2,FALSE),\"\")","v":""},{"$f":"IF(Datos_de_Tarjetas!G504=0,\"\",Datos_de_Tarjetas!G504)","v":""},{"$f":"IFERROR(VLOOKUP(Datos_de_Tarjetas!K504,Parámetros!$AJ$3:$AK$13,2,FALSE),\"\")","v":""},{"$f":"IFERROR(VLOOKUP(Datos_de_Tarjetas!J504,Parámetros!$AQ$3:$AR$57,2,FALSE),\"\")","v":""},null,{"$f":"IF(Datos_de_Tarjetas!L504=0,\"\",Datos_de_Tarjetas!L504)","v":""},{"$f":"IF(Datos_de_Tarjetas!M504=0,\"\",Datos_de_Tarjetas!M504)","v":""},{"$f":"IF(Datos_de_Tarjetas!N504=0,\"\",Datos_de_Tarjetas!N504)","v":""},{"$f":"IFERROR(VLOOKUP(Datos_de_Tarjetas!P504,Parámetros!$AM$3:$AN$90,2,FALSE),\"\")","v":""}]
[null,1069470000,{"$f":"IFERROR(VLOOKUP(Datos_de_Tarjetas!D505,Parámetros!$AD$12:$AE$17,2,FALSE),\"\")","v":""},{"$f":"IF(Datos_de_Tarjetas!G505=0,\"\",Datos_de_Tarjetas!G505)","v":""},{"$f":"IFERROR(VLOOKUP(Datos_de_Tarjetas!K505,Parámetros!$AJ$3:$AK$13,2,FALSE),\"\")","v":""},{"$f":"IFERROR(VLOOKUP(Datos_de_Tarjetas!J505,Parámetros!$AQ$3:$AR$57,2,FALSE),\"\")","v":""},null,{"$f":"IF(Datos_de_Tarjetas!L505=0,\"\",Datos_de_Tarjetas!L505)","v":""},{"$f":"IF(Datos_de_Tarjetas!M505=0,\"\",Datos_de_Tarjetas!M505)","v":""},{"$f":"IF(Datos_de_Tarjetas!N505=0,\"\",Datos_de_Tarjetas!N505)","v":""},{"$f":"IFERROR(VLOOKUP(Datos_de_Tarjetas!P505,Parámetros!$AM$3:$AN$90,2,FALSE),\"\")","v":""}]
[null,1069470000,{"$f":"IFERROR(VLOOKUP(Datos_de_Tarjetas!D506,Parámetros!$AD$12:$AE$17,2,FALSE),\"\")","v":""},{"$f":"IF(Datos_de_Tarjetas!G506=0,\"\",Datos_de_Tarjetas!G506)","v":""},{"$f":"IFERROR(VLOOKUP(Datos_de_Tarjetas!K506,Parámetros!$AJ$3:$AK$13,2,FALSE),\"\")","v":""},{"$f":"IFERROR(VLOOKUP(Datos_de_Tarjetas!J506,Parámetros!$AQ$3:$AR$57,2,FALSE),\"\")","v":""},null,{"$f":"IF(Datos_de_Tarjetas!L506=0,\"\",Datos_de_Tarjetas!L506)","v":""},{"$f":"IF(Datos_de_Tarjetas!M506=0,\"\",Datos_de_Tarjetas!M506)","v":""},{"$f":"IF(Datos_de_Tarjetas!N506=0,\"\",Datos_de_Tarjetas!N506)","v":""},{"$f":"IFERROR(VLOOKUP(Datos_de_Tarjetas!P506,Parámetros!$AM$3:$AN$90,2,FALSE),\"\")","v":""}]
[null,1069470000,{"$f":"IFERROR(VLOOKUP(Datos_de_Tarjetas!D507,Parámetros!$AD$12:$AE$17,2,FALSE),\"\")","v":""},{"$f":"IF(Datos_de_Tarjetas!G507=0,\"\",Datos_de_Tarjetas!G507)","v":""},{"$f":"IFERROR(VLOOKUP(Datos_de_Tarjetas!K507,Parámetros!$AJ$3:$AK$13,2,FALSE),\"\")","v":""},{"$f":"IFERROR(VLOOKUP(Datos_de_Tarjetas!J507,Parámetros!$AQ$3:$AR$57,2,FALSE),\"\")","v":""},null,{"$f":"IF(Datos_de_Tarjetas!L507=0,\"\",Datos_de_Tarjetas!L507)","v":""},{"$f":"IF(Datos_de_Tarjetas!M507=0,\"\",Datos_de_Tarjetas!M507)","v":""},{"$f":"IF(Datos_de_Tarjetas!N507=0,\"\",Datos_de_Tarjetas!N507)","v":""},{"$f":"IFERROR(VLOOKUP(Datos_de_Tarjetas!P507,Parámetros!$AM$3:$AN$90,2,FALSE),\"\")","v":""}]
[null,1069470000,{"$f":"IFERROR(VLOOKUP(Datos_de_Tarjetas!D508,Parámetros!$AD$12:$AE$17,2,FALSE),\"\")","v":""},{"$f":"IF(Datos_de_Tarjetas!G508=0,\"\",Datos_de_Tarjetas!G508)","v":""},{"$f":"IFERROR(VLOOKUP(Datos_de_Tarjetas!K508,Parámetros!$AJ$3:$AK$13,2,FALSE),\"\")","v":""},{"$f":"IFERROR(VLOOKUP(Datos_de_Tarjetas!J508,Parámetros!$AQ$3:$AR$57,2,FALSE),\"\")","v":""},null,{"$f":"IF(Datos_de_Tarjetas!L508=0,\"\",Datos_de_Tarjetas!L508)","v":""},{"$f":"IF(Datos_de_Tarjetas!M508=0,\"\",Datos_de_Tarjetas!M508)","v":""},{"$f":"IF(Datos_de_Tarjetas!N508=0,\"\",Datos_de_Tarjetas!N508)","v":""},{"$f":"IFERROR(VLOOKUP(Datos_de_Tarjetas!P508,Parámetros!$AM$3:$AN$90,2,FALSE),\"\")","v":""}]
[null,1069470000,{"$f":"IFERROR(VLOOKUP(Datos_de_Tarjetas!D509,Parámetros!$AD$12:$AE$17,2,FALSE),\"\")","v":""},{"$f":"IF(Datos_de_Tarjetas!G509=0,\"\",Datos_de_Tarjetas!G509)","v":""},{"$f":"IFERROR(VLOOKUP(Datos_de_Tarjetas!K509,Parámetros!$AJ$3:$AK$13,2,FALSE),\"\")","v":""},{"$f":"IFERROR(VLOOKUP(Datos_de_Tarjetas!J509,Parámetros!$AQ$3:$AR$57,2,FALSE),\"\")","v":""},null,{"$f":"IF(Datos_de_Tarjetas!L509=0,\"\",Datos_de_Tarjetas!L509)","v":""},{"$f":"IF(Datos_de_Tarjetas!M509=0,\"\",Datos_de_Tarjetas!M509)","v":""},{"$f":"IF(Datos_de_Tarjetas!N509=0,\"\",Datos_de_Tarjetas!N509)","v":""},{"$f":"IFERROR(VLOOKUP(Datos_de_Tarjetas!P509,Parámetros!$AM$3:$AN$90,2,FALSE),\"\")","v":""}]
[null,1069470000,{"$f":"IFERROR(VLOOKUP(Datos_de_Tarjetas!D510,Parámetros!$AD$12:$AE$17,2,FALSE),\"\")","v":""},{"$f":"IF(Datos_de_Tarjetas!G510=0,\"\",Datos_de_Tarjetas!G510)","v":""},{"$f":"IFERROR(VLOOKUP(Datos_de_Tarjetas!K510,Parámetros!$AJ$3:$AK$13,2,FALSE),\"\")","v":""},{"$f":"IFERROR(VLOOKUP(Datos_de_Tarjetas!J510,Parámetros!$AQ$3:$AR$57,2,FALSE),\"\")","v":""},null,{"$f":"IF(Datos_de_Tarjetas!L510=0,\"\",Datos_de_Tarjetas!L510)","v":""},{"$f":"IF(Datos_de_Tarjetas!M510=0,\"\",Datos_de_Tarjetas!M510)","v":""},{"$f":"IF(Datos_de_Tarjetas!N510=0,\"\",Datos_de_Tarjetas!N510)","v":""},{"$f":"IFERROR(VLOOKUP(Datos_de_Tarjetas!P510,Parámetros!$AM$3:$AN$90,2,FALSE),\"\")","v":""}]
[null,1069470000,{"$f":"IFERROR(VLOOKUP(Datos_de_Tarjetas!D511,Parámetros!$AD$12:$AE$17,2,FALSE),\"\")","v":""},{"$f":"IF(Datos_de_Tarjetas!G511=0,\"\",Datos_de_Tarjetas!G511)","v":""},{"$f":"IFERROR(VLOOKUP(Datos_de_Tarjetas!K511,Parámetros!$AJ$3:$AK$13,2,FALSE),\"\")","v":""},{"$f":"IFERROR(VLOOKUP(Datos_de_Tarjetas!J511,Parámetros!$AQ$3:$AR$57,2,FALSE),\"\")","v":""},null,{"$f":"IF(Datos_de_Tarjetas!L511=0,\"\",Datos_de_Tarjetas!L511)","v":""},{"$f":"IF(Datos_de_Tarjetas!M511=0,\"\",Datos_de_Tarjetas!M511)","v":""},{"$f":"IF(Datos_de_Tarjetas!N511=0,\"\",Datos_de_Tarjetas!N511)","v":""},{"$f":"IFERROR(VLOOKUP(Datos_de_Tarjetas!P511,Parámetros!$AM$3:$AN$90,2,FALSE),\"\")","v":""}]
[null,1069470000,{"$f":"IFERROR(VLOOKUP(Datos_de_Tarjetas!D512,Parámetros!$AD$12:$AE$17,2,FALSE),\"\")","v":""},{"$f":"IF(Datos_de_Tarjetas!G512=0,\"\",Datos_de_Tarjetas!G512)","v":""},{"$f":"IFERROR(VLOOKUP(Datos_de_Tarjetas!K512,Parámetros!$AJ$3:$AK$13,2,FALSE),\"\")","v":""},{"$f":"IFERROR(VLOOKUP(Datos_de_Tarjetas!J512,Parámetros!$AQ$3:$AR$57,2,FALSE),\"\")","v":""},null,{"$f":"IF(Datos_de_Tarjetas!L512=0,\"\",Datos_de_Tarjetas!L512)","v":""},{"$f":"IF(Datos_de_Tarjetas!M512=0,\"\",Datos_de_Tarjetas!M512)","v":""},{"$f":"IF(Datos_de_Tarjetas!N512=0,\"\",Datos_de_Tarjetas!N512)","v":""},{"$f":"IFERROR(VLOOKUP(Datos_de_Tarjetas!P512,Parámetros!$AM$3:$AN$90,2,FALSE),\"\")","v":""}]
[null,1069470000,{"$f":"IFERROR(VLOOKUP(Datos_de_Tarjetas!D513,Parámetros!$AD$12:$AE$17,2,FALSE),\"\")","v":""},{"$f":"IF(Datos_de_Tarjetas!G513=0,\"\",Datos_de_Tarjetas!G513)","v":""},{"$f":"IFERROR(VLOOKUP(Datos_de_Tarjetas!K513,Parámetros!$AJ$3:$AK$13,2,FALSE),\"\")","v":""},{"$f":"IFERROR(VLOOKUP(Datos_de_Tarjetas!J513,Parámetros!$AQ$3:$AR$57,2,FALSE),\"\")","v":""},null,{"$f":"IF(Datos_de_Tarjetas!L513=0,\"\",Datos_de_Tarjetas!L513)","v":""},{"$f":"IF(Datos_de_Tarjetas!M513=0,\"\",Datos_de_Tarjetas!M513)","v":""},{"$f":"IF(Datos_de_Tarjetas!N513=0,\"\",Datos_de_Tarjetas!N513)","v":""},{"$f":"IFERROR(VLOOKUP(Datos_de_Tarjetas!P513,Parámetros!$AM$3:$AN$90,2,FALSE),\"\")","v":""}]
[null,1069470000,{"$f":"IFERROR(VLOOKUP(Datos_de_Tarjetas!D514,Parámetros!$AD$12:$AE$17,2,FALSE),\"\")","v":""},{"$f":"IF(Datos_de_Tarjetas!G514=0,\"\",Datos_de_Tarjetas!G514)","v":""},{"$f":"IFERROR(VLOOKUP(Datos_de_Tarjetas!K514,Parámetros!$AJ$3:$AK$13,2,FALSE),\"\")","v":""},{"$f":"IFERROR(VLOOKUP(Datos_de_Tarjetas!J514,Parámetros!$AQ$3:$AR$57,2,FALSE),\"\")","v":""},null,{"$f":"IF(Datos_de_Tarjetas!L514=0,\"\",Datos_de_Tarjetas!L514)","v":""},{"$f":"IF(Datos_de_Tarjetas!M514=0,\"\",Datos_de_Tarjetas!M514)","v":""},{"$f":"IF(Datos_de_Tarjetas!N514=0,\"\",Datos_de_Tarjetas!N514)","v":""},{"$f":"IFERROR(VLOOKUP(Datos_de_Tarjetas!P514,Parámetros!$AM$3:$AN$90,2,FALSE),\"\")","v":""}]
[null,1069470000,{"$f":"IFERROR(VLOOKUP(Datos_de_Tarjetas!D515,Parámetros!$AD$12:$AE$17,2,FALSE),\"\")","v":""},{"$f":"IF(Datos_de_Tarjetas!G515=0,\"\",Datos_de_Tarjetas!G515)","v":""},{"$f":"IFERROR(VLOOKUP(Datos_de_Tarjetas!K515,Parámetros!$AJ$3:$AK$13,2,FALSE),\"\")","v":""},{"$f":"IFERROR(VLOOKUP(Datos_de_Tarjetas!J515,Parámetros!$AQ$3:$AR$57,2,FALSE),\"\")","v":""},null,{"$f":"IF(Datos_de_Tarjetas!L515=0,\"\",Datos_de_Tarjetas!L515)","v":""},{"$f":"IF(Datos_de_Tarjetas!M515=0,\"\",Datos_de_Tarjetas!M515)","v":""},{"$f":"IF(Datos_de_Tarjetas!N515=0,\"\",Datos_de_Tarjetas!N515)","v":""},{"$f":"IFERROR(VLOOKUP(Datos_de_Tarjetas!P515,Parámetros!$AM$3:$AN$90,2,FALSE),\"\")","v":""}]
[null,1069470000,{"$f":"IFERROR(VLOOKUP(Datos_de_Tarjetas!D516,Parámetros!$AD$12:$AE$17,2,FALSE),\"\")","v":""},{"$f":"IF(Datos_de_Tarjetas!G516=0,\"\",Datos_de_Tarjetas!G516)","v":""},{"$f":"IFERROR(VLOOKUP(Datos_de_Tarjetas!K516,Parámetros!$AJ$3:$AK$13,2,FALSE),\"\")","v":""},{"$f":"IFERROR(VLOOKUP(Datos_de_Tarjetas!J516,Parámetros!$AQ$3:$AR$57,2,FALSE),\"\")","v":""},null,{"$f":"IF(Datos_de_Tarjetas!L516=0,\"\",Datos_de_Tarjetas!L516)","v":""},{"$f":"IF(Datos_de_Tarjetas!M516=0,\"\",Datos_de_Tarjetas!M516)","v":""},{"$f":"IF(Datos_de_Tarjetas!N516=0,\"\",Datos_de_Tarjetas!N516)","v":""},{"$f":"IFERROR(VLOOKUP(Datos_de_Tarjetas!P516,Parámetros!$AM$3:$AN$90,2,FALSE),\"\")","v":""}]
[null,1069470000,{"$f":"IFERROR(VLOOKUP(Datos_de_Tarjetas!D517,Parámetros!$AD$12:$AE$17,2,FALSE),\"\")","v":""},{"$f":"IF(Datos_de_Tarjetas!G517=0,\"\",Datos_de_Tarjetas!G517)","v":""},{"$f":"IFERROR(VLOOKUP(Datos_de_Tarjetas!K517,Parámetros!$AJ$3:$AK$13,2,FALSE),\"\")","v":""},{"$f":"IFERROR(VLOOKUP(Datos_de_Tarjetas!J517,Parámetros!$AQ$3:$AR$57,2,FALSE),\"\")","v":""},null,{"$f":"IF(Datos_de_Tarjetas!L517=0,\"\",Datos_de_Tarjetas!L517)","v":""},{"$f":"IF(Datos_de_Tarjetas!M517=0,\"\",Datos_de_Tarjetas!M517)","v":""},{"$f":"IF(Datos_de_Tarjetas!N517=0,\"\",Datos_de_Tarjetas!N517)","v":""},{"$f":"IFERROR(VLOOKUP(Datos_de_Tarjetas!P517,Parámetros!$AM$3:$AN$90,2,FALSE),\"\")","v":""}]
[null,1069470000,{"$f":"IFERROR(VLOOKUP(Datos_de_Tarjetas!D518,Parámetros!$AD$12:$AE$17,2,FALSE),\"\")","v":""},{"$f":"IF(Datos_de_Tarjetas!G518=0,\"\",Datos_de_Tarjetas!G518)","v":""},{"$f":"IFERROR(VLOOKUP(Datos_de_Tarjetas!K518,Parámetros!$AJ$3:$AK$13,2,FALSE),\"\")","v":""},{"$f":"IFERROR(VLOOKUP(Datos_de_Tarjetas!J518,Parámetros!$AQ$3:$AR$57,2,FALSE),\"\")","v":""},null,{"$f":"IF(Datos_de_Tarjetas!L518=0,\"\",Datos_de_Tarjetas!L518)","v":""},{"$f":"IF(Datos_de_Tarjetas!M518=0,\"\",Datos_de_Tarjetas!M518)","v":""},{"$f":"IF(Datos_de_Tarjetas!N518=0,\"\",Datos_de_Tarjetas!N518)","v":""},{"$f":"IFERROR(VLOOKUP(Datos_de_Tarjetas!P518,Parámetros!$AM$3:$AN$90,2,FALSE),\"\")","v":""}]
[null,1069470000,{"$f":"IFERROR(VLOOKUP(Datos_de_Tarjetas!D519,Parámetros!$AD$12:$AE$17,2,FALSE),\"\")","v":""},{"$f":"IF(Datos_de_Tarjetas!G519=0,\"\",Datos_de_Tarjetas!G519)","v":""},{"$f":"IFERROR(VLOOKUP(Datos_de_Tarjetas!K519,Parámetros!$AJ$3:$AK$13,2,FALSE),\"\")","v":""},{"$f":"IFERROR(VLOOKUP(Datos_de_Tarjetas!J519,Parámetros!$AQ$3:$AR$57,2,FALSE),\"\")","v":""},null,{"$f":"IF(Datos_de_Tarjetas!L519=0,\"\",Datos_de_Tarjetas!L519)","v":""},{"$f":"IF(Datos_de_Tarjetas!M519=0,\"\",Datos_de_Tarjetas!M519)","v":""},{"$f":"IF(Datos_de_Tarjetas!N519=0,\"\",Datos_de_Tarjetas!N519)","v":""},{"$f":"IFERROR(VLOOKUP(Datos_de_Tarjetas!P519,Parámetros!$AM$3:$AN$90,2,FALSE),\"\")","v":""}]
[null,1069470000,{"$f":"IFERROR(VLOOKUP(Datos_de_Tarjetas!D520,Parámetros!$AD$12:$AE$17,2,FALSE),\"\")","v":""},{"$f":"IF(Datos_de_Tarjetas!G520=0,\"\",Datos_de_Tarjetas!G520)","v":""},{"$f":"IFERROR(VLOOKUP(Datos_de_Tarjetas!K520,Parámetros!$AJ$3:$AK$13,2,FALSE),\"\")","v":""},{"$f":"IFERROR(VLOOKUP(Datos_de_Tarjetas!J520,Parámetros!$AQ$3:$AR$57,2,FALSE),\"\")","v":""},null,{"$f":"IF(Datos_de_Tarjetas!L520=0,\"\",Datos_de_Tarjetas!L520)","v":""},{"$f":"IF(Datos_de_Tarjetas!M520=0,\"\",Datos_de_Tarjetas!M520)","v":""},{"$f":"IF(Datos_de_Tarjetas!N520=0,\"\",Datos_de_Tarjetas!N520)","v":""},{"$f":"IFERROR(VLOOKUP(Datos_de_Tarjetas!P520,Parámetros!$AM$3:$AN$90,2,FALSE),\"\")","v":""}]
[null,1069470000,{"$f":"IFERROR(VLOOKUP(Datos_de_Tarjetas!D521,Parámetros!$AD$12:$AE$17,2,FALSE),\"\")","v":""},{"$f":"IF(Datos_de_Tarjetas!G521=0,\"\",Datos_de_Tarjetas!G521)","v":""},{"$f":"IFERROR(VLOOKUP(Datos_de_Tarjetas!K521,Parámetros!$AJ$3:$AK$13,2,FALSE),\"\")","v":""},{"$f":"IFERROR(VLOOKUP(Datos_de_Tarjetas!J521,Parámetros!$AQ$3:$AR$57,2,FALSE),\"\")","v":""},null,{"$f":"IF(Datos_de_Tarjetas!L521=0,\"\",Datos_de_Tarjetas!L521)","v":""},{"$f":"IF(Datos_de_Tarjetas!M521=0,\"\",Datos_de_Tarjetas!M521)","v":""},{"$f":"IF(Datos_de_Tarjetas!N521=0,\"\",Datos_de_Tarjetas!N521)","v":""},{"$f":"IFERROR(VLOOKUP(Datos_de_Tarjetas!P521,Parámetros!$AM$3:$AN$90,2,FALSE),\"\")","v":""}]
[null,1069470000,{"$f":"IFERROR(VLOOKUP(Datos_de_Tarjetas!D522,Parámetros!$AD$12:$AE$17,2,FALSE),\"\")","v":""},{"$f":"IF(Datos_de_Tarjetas!G522=0,\"\",Datos_de_Tarjetas!G522)","v":""},{"$f":"IFERROR(VLOOKUP(Datos_de_Tarjetas!K522,Parámetros!$AJ$3:$AK$13,2,FALSE),\"\")","v":""},{"$f":"IFERROR(VLOOKUP(Datos_de_Tarjetas!J522,Parámetros!$AQ$3:$AR$57,2,FALSE),\"\")","v":""},null,{"$f":"IF(Datos_de_Tarjetas!L522=0,\"\",Datos_de_Tarjetas!L522)","v":""},{"$f":"IF(Datos_de_Tarjetas!M522=0,\"\",Datos_de_Tarjetas!M522)","v":""},{"$f":"IF(Datos_de_Tarjetas!N522=0,\"\",Datos_de_Tarjetas!N522)","v":""},{"$f":"IFERROR(VLOOKUP(Datos_de_Tarjetas!P522,Parámetros!$AM$3:$AN$90,2,FALSE),\"\")","v":""}]
[null,1069470000,{"$f":"IFERROR(VLOOKUP(Datos_de_Tarjetas!D523,Parámetros!$AD$12:$AE$17,2,FALSE),\"\")","v":""},{"$f":"IF(Datos_de_Tarjetas!G523=0,\"\",Datos_de_Tarjetas!G523)","v":""},{"$f":"IFERROR(VLOOKUP(Datos_de_Tarjetas!K523,Parámetros!$AJ$3:$AK$13,2,FALSE),\"\")","v":""},{"$f":"IFERROR(VLOOKUP(Datos_de_Tarjetas!J523,Parámetros!$AQ$3:$AR$57,2,FALSE),\"\")","v":""},null,{"$f":"IF(Datos_de_Tarjetas!L523=0,\"\",Datos_de_Tarjetas!L523)","v":""},{"$f":"IF(Datos_de_Tarjetas!M523=0,\"\",Datos_de_Tarjetas!M523)","v":""},{"$f":"IF(Datos_de_Tarjetas!N523=0,\"\",Datos_de_Tarjetas!N523)","v":""},{"$f":"IFERROR(VLOOKUP(Datos_de_Tarjetas!P523,Parámetros!$AM$3:$AN$90,2,FALSE),\"\")","v":""}]
[null,1069470000,{"$f":"IFERROR(VLOOKUP(Datos_de_Tarjetas!D524,Parámetros!$AD$12:$AE$17,2,FALSE),\"\")","v":""},{"$f":"IF(Datos_de_Tarjetas!G524=0,\"\",Datos_de_Tarjetas!G524)","v":""},{"$f":"IFERROR(VLOOKUP(Datos_de_Tarjetas!K524,Parámetros!$AJ$3:$AK$13,2,FALSE),\"\")","v":""},{"$f":"IFERROR(VLOOKUP(Datos_de_Tarjetas!J524,Parámetros!$AQ$3:$AR$57,2,FALSE),\"\")","v":""},null,{"$f":"IF(Datos_de_Tarjetas!L524=0,\"\",Datos_de_Tarjetas!L524)","v":""},{"$f":"IF(Datos_de_Tarjetas!M524=0,\"\",Datos_de_Tarjetas!M524)","v":""},{"$f":"IF(Datos_de_Tarjetas!N524=0,\"\",Datos_de_Tarjetas!N524)","v":""},{"$f":"IFERROR(VLOOKUP(Datos_de_Tarjetas!P524,Parámetros!$AM$3:$AN$90,2,FALSE),\"\")","v":""}]
[null,1069470000,{"$f":"IFERROR(VLOOKUP(Datos_de_Tarjetas!D525,Parámetros!$AD$12:$AE$17,2,FALSE),\"\")","v":""},{"$f":"IF(Datos_de_Tarjetas!G525=0,\"\",Datos_de_Tarjetas!G525)","v":""},{"$f":"IFERROR(VLOOKUP(Datos_de_Tarjetas!K525,Parámetros!$AJ$3:$AK$13,2,FALSE),\"\")","v":""},{"$f":"IFERROR(VLOOKUP(Datos_de_Tarjetas!J525,Parámetros!$AQ$3:$AR$57,2,FALSE),\"\")","v":""},null,{"$f":"IF(Datos_de_Tarjetas!L525=0,\"\",Datos_de_Tarjetas!L525)","v":""},{"$f":"IF(Datos_de_Tarjetas!M525=0,\"\",Datos_de_Tarjetas!M525)","v":""},{"$f":"IF(Datos_de_Tarjetas!N525=0,\"\",Datos_de_Tarjetas!N525)","v":""},{"$f":"IFERROR(VLOOKUP(Datos_de_Tarjetas!P525,Parámetros!$AM$3:$AN$90,2,FALSE),\"\")","v":""}]
[null,1069470000,{"$f":"IFERROR(VLOOKUP(Datos_de_Tarjetas!D526,Parámetros!$AD$12:$AE$17,2,FALSE),\"\")","v":""},{"$f":"IF(Datos_de_Tarjetas!G526=0,\"\",Datos_de_Tarjetas!G526)","v":""},{"$f":"IFERROR(VLOOKUP(Datos_de_Tarjetas!K526,Parámetros!$AJ$3:$AK$13,2,FALSE),\"\")","v":""},{"$f":"IFERROR(VLOOKUP(Datos_de_Tarjetas!J526,Parámetros!$AQ$3:$AR$57,2,FALSE),\"\")","v":""},null,{"$f":"IF(Datos_de_Tarjetas!L526=0,\"\",Datos_de_Tarjetas!L526)","v":""},{"$f":"IF(Datos_de_Tarjetas!M526=0,\"\",Datos_de_Tarjetas!M526)","v":""},{"$f":"IF(Datos_de_Tarjetas!N526=0,\"\",Datos_de_Tarjetas!N526)","v":""},{"$f":"IFERROR(VLOOKUP(Datos_de_Tarjetas!P526,Parámetros!$AM$3:$AN$90,2,FALSE),\"\")","v":""}]
[null,1069470000,{"$f":"IFERROR(VLOOKUP(Datos_de_Tarjetas!D527,Parámetros!$AD$12:$AE$17,2,FALSE),\"\")","v":""},{"$f":"IF(Datos_de_Tarjetas!G527=0,\"\",Datos_de_Tarjetas!G527)","v":""},{"$f":"IFERROR(VLOOKUP(Datos_de_Tarjetas!K527,Parámetros!$AJ$3:$AK$13,2,FALSE),\"\")","v":""},{"$f":"IFERROR(VLOOKUP(Datos_de_Tarjetas!J527,Parámetros!$AQ$3:$AR$57,2,FALSE),\"\")","v":""},null,{"$f":"IF(Datos_de_Tarjetas!L527=0,\"\",Datos_de_Tarjetas!L527)","v":""},{"$f":"IF(Datos_de_Tarjetas!M527=0,\"\",Datos_de_Tarjetas!M527)","v":""},{"$f":"IF(Datos_de_Tarjetas!N527=0,\"\",Datos_de_Tarjetas!N527)","v":""},{"$f":"IFERROR(VLOOKUP(Datos_de_Tarjetas!P527,Parámetros!$AM$3:$AN$90,2,FALSE),\"\")","v":""}]
[null,1069470000,{"$f":"IFERROR(VLOOKUP(Datos_de_Tarjetas!D528,Parámetros!$AD$12:$AE$17,2,FALSE),\"\")","v":""},{"$f":"IF(Datos_de_Tarjetas!G528=0,\"\",Datos_de_Tarjetas!G528)","v":""},{"$f":"IFERROR(VLOOKUP(Datos_de_Tarjetas!K528,Parámetros!$AJ$3:$AK$13,2,FALSE),\"\")","v":""},{"$f":"IFERROR(VLOOKUP(Datos_de_Tarjetas!J528,Parámetros!$AQ$3:$AR$57,2,FALSE),\"\")","v":""},null,{"$f":"IF(Datos_de_Tarjetas!L528=0,\"\",Datos_de_Tarjetas!L528)","v":""},{"$f":"IF(Datos_de_Tarjetas!M528=0,\"\",Datos_de_Tarjetas!M528)","v":""},{"$f":"IF(Datos_de_Tarjetas!N528=0,\"\",Datos_de_Tarjetas!N528)","v":""},{"$f":"IFERROR(VLOOKUP(Datos_de_Tarjetas!P528,Parámetros!$AM$3:$AN$90,2,FALSE),\"\")","v":""}]
[null,{"$f":"$C$2","v":1069470000},{"$f":"IFERROR(VLOOKUP(Datos_de_Tarjetas!D529,Parámetros!$AD$12:$AE$17,2,FALSE),\"\")","v":""},{"$f":"IF(Datos_de_Tarjetas!G529=0,\"\",Datos_de_Tarjetas!G529)","v":""},{"$f":"IFERROR(VLOOKUP(Datos_de_Tarjetas!K529,Parámetros!$AJ$3:$AK$13,2,FALSE),\"\")","v":""},{"$f":"IFERROR(VLOOKUP(Datos_de_Tarjetas!J529,Parámetros!$AQ$3:$AR$57,2,FALSE),\"\")","v":""},null,{"$f":"IF(Datos_de_Tarjetas!L529=0,\"\",Datos_de_Tarjetas!L529)","v":""},{"$f":"IF(Datos_de_Tarjetas!M529=0,\"\",Datos_de_Tarjetas!M529)","v":""},{"$f":"IF(Datos_de_Tarjetas!N529=0,\"\",Datos_de_Tarjetas!N529)","v":""},{"$f":"IFERROR(VLOOKUP(Datos_de_Tarjetas!P529,Parámetros!$AM$3:$AN$90,2,FALSE),\"\")","v":""}]
[null,1069470000,{"$f":"IFERROR(VLOOKUP(Datos_de_Tarjetas!D530,Parámetros!$AD$12:$AE$17,2,FALSE),\"\")","v":""},{"$f":"IF(Datos_de_Tarjetas!G530=0,\"\",Datos_de_Tarjetas!G530)","v":""},{"$f":"IFERROR(VLOOKUP(Datos_de_Tarjetas!K530,Parámetros!$AJ$3:$AK$13,2,FALSE),\"\")","v":""},{"$f":"IFERROR(VLOOKUP(Datos_de_Tarjetas!J530,Parámetros!$AQ$3:$AR$57,2,FALSE),\"\")","v":""},null,{"$f":"IF(Datos_de_Tarjetas!L530=0,\"\",Datos_de_Tarjetas!L530)","v":""},{"$f":"IF(Datos_de_Tarjetas!M530=0,\"\",Datos_de_Tarjetas!M530)","v":""},{"$f":"IF(Datos_de_Tarjetas!N530=0,\"\",Datos_de_Tarjetas!N530)","v":""},{"$f":"IFERROR(VLOOKUP(Datos_de_Tarjetas!P530,Parámetros!$AM$3:$AN$90,2,FALSE),\"\")","v":""}]
[null,1069470000,{"$f":"IFERROR(VLOOKUP(Datos_de_Tarjetas!D531,Parámetros!$AD$12:$AE$17,2,FALSE),\"\")","v":""},{"$f":"IF(Datos_de_Tarjetas!G531=0,\"\",Datos_de_Tarjetas!G531)","v":""},{"$f":"IFERROR(VLOOKUP(Datos_de_Tarjetas!K531,Parámetros!$AJ$3:$AK$13,2,FALSE),\"\")","v":""},{"$f":"IFERROR(VLOOKUP(Datos_de_Tarjetas!J531,Parámetros!$AQ$3:$AR$57,2,FALSE),\"\")","v":""},null,{"$f":"IF(Datos_de_Tarjetas!L531=0,\"\",Datos_de_Tarjetas!L531)","v":""},{"$f":"IF(Datos_de_Tarjetas!M531=0,\"\",Datos_de_Tarjetas!M531)","v":""},{"$f":"IF(Datos_de_Tarjetas!N531=0,\"\",Datos_de_Tarjetas!N531)","v":""},{"$f":"IFERROR(VLOOKUP(Datos_de_Tarjetas!P531,Parámetros!$AM$3:$AN$90,2,FALSE),\"\")","v":""}]
[null,1069470000,{"$f":"IFERROR(VLOOKUP(Datos_de_Tarjetas!D532,Parámetros!$AD$12:$AE$17,2,FALSE),\"\")","v":""},{"$f":"IF(Datos_de_Tarjetas!G532=0,\"\",Datos_de_Tarjetas!G532)","v":""},{"$f":"IFERROR(VLOOKUP(Datos_de_Tarjetas!K532,Parámetros!$AJ$3:$AK$13,2,FALSE),\"\")","v":""},{"$f":"IFERROR(VLOOKUP(Datos_de_Tarjetas!J532,Parámetros!$AQ$3:$AR$57,2,FALSE),\"\")","v":""},null,{"$f":"IF(Datos_de_Tarjetas!L532=0,\"\",Datos_de_Tarjetas!L532)","v":""},{"$f":"IF(Datos_de_Tarjetas!M532=0,\"\",Datos_de_Tarjetas!M532)","v":""},{"$f":"IF(Datos_de_Tarjetas!N532=0,\"\",Datos_de_Tarjetas!N532)","v":""},{"$f":"IFERROR(VLOOKUP(Datos_de_Tarjetas!P532,Parámetros!$AM$3:$AN$90,2,FALSE),\"\")","v":""}]
[null,1069470000,{"$f":"IFERROR(VLOOKUP(Datos_de_Tarjetas!D533,Parámetros!$AD$12:$AE$17,2,FALSE),\"\")","v":""},{"$f":"IF(Datos_de_Tarjetas!G533=0,\"\",Datos_de_Tarjetas!G533)","v":""},{"$f":"IFERROR(VLOOKUP(Datos_de_Tarjetas!K533,Parámetros!$AJ$3:$AK$13,2,FALSE),\"\")","v":""},{"$f":"IFERROR(VLOOKUP(Datos_de_Tarjetas!J533,Parámetros!$AQ$3:$AR$57,2,FALSE),\"\")","v":""},null,{"$f":"IF(Datos_de_Tarjetas!L533=0,\"\",Datos_de_Tarjetas!L533)","v":""},{"$f":"IF(Datos_de_Tarjetas!M533=0,\"\",Datos_de_Tarjetas!M533)","v":""},{"$f":"IF(Datos_de_Tarjetas!N533=0,\"\",Datos_de_Tarjetas!N533)","v":""},{"$f":"IFERROR(VLOOKUP(Datos_de_Tarjetas!P533,Parámetros!$AM$3:$AN$90,2,FALSE),\"\")","v":""}]
[null,1069470000,{"$f":"IFERROR(VLOOKUP(Datos_de_Tarjetas!D534,Parámetros!$AD$12:$AE$17,2,FALSE),\"\")","v":""},{"$f":"IF(Datos_de_Tarjetas!G534=0,\"\",Datos_de_Tarjetas!G534)","v":""},{"$f":"IFERROR(VLOOKUP(Datos_de_Tarjetas!K534,Parámetros!$AJ$3:$AK$13,2,FALSE),\"\")","v":""},{"$f":"IFERROR(VLOOKUP(Datos_de_Tarjetas!J534,Parámetros!$AQ$3:$AR$57,2,FALSE),\"\")","v":""},null,{"$f":"IF(Datos_de_Tarjetas!L534=0,\"\",Datos_de_Tarjetas!L534)","v":""},{"$f":"IF(Datos_de_Tarjetas!M534=0,\"\",Datos_de_Tarjetas!M534)","v":""},{"$f":"IF(Datos_de_Tarjetas!N534=0,\"\",Datos_de_Tarjetas!N534)","v":""},{"$f":"IFERROR(VLOOKUP(Datos_de_Tarjetas!P534,Parámetros!$AM$3:$AN$90,2,FALSE),\"\")","v":""}]
[null,1069470000,{"$f":"IFERROR(VLOOKUP(Datos_de_Tarjetas!D535,Parámetros!$AD$12:$AE$17,2,FALSE),\"\")","v":""},{"$f":"IF(Datos_de_Tarjetas!G535=0,\"\",Datos_de_Tarjetas!G535)","v":""},{"$f":"IFERROR(VLOOKUP(Datos_de_Tarjetas!K535,Parámetros!$AJ$3:$AK$13,2,FALSE),\"\")","v":""},{"$f":"IFERROR(VLOOKUP(Datos_de_Tarjetas!J535,Parámetros!$AQ$3:$AR$57,2,FALSE),\"\")","v":""},null,{"$f":"IF(Datos_de_Tarjetas!L535=0,\"\",Datos_de_Tarjetas!L535)","v":""},{"$f":"IF(Datos_de_Tarjetas!M535=0,\"\",Datos_de_Tarjetas!M535)","v":""},{"$f":"IF(Datos_de_Tarjetas!N535=0,\"\",Datos_de_Tarjetas!N535)","v":""},{"$f":"IFERROR(VLOOKUP(Datos_de_Tarjetas!P535,Parámetros!$AM$3:$AN$90,2,FALSE),\"\")","v":""}]
[null,1069470000,{"$f":"IFERROR(VLOOKUP(Datos_de_Tarjetas!D536,Parámetros!$AD$12:$AE$17,2,FALSE),\"\")","v":""},{"$f":"IF(Datos_de_Tarjetas!G536=0,\"\",Datos_de_Tarjetas!G536)","v":""},{"$f":"IFERROR(VLOOKUP(Datos_de_Tarjetas!K536,Parámetros!$AJ$3:$AK$13,2,FALSE),\"\")","v":""},{"$f":"IFERROR(VLOOKUP(Datos_de_Tarjetas!J536,Parámetros!$AQ$3:$AR$57,2,FALSE),\"\")","v":""},null,{"$f":"IF(Datos_de_Tarjetas!L536=0,\"\",Datos_de_Tarjetas!L536)","v":""},{"$f":"IF(Datos_de_Tarjetas!M536=0,\"\",Datos_de_Tarjetas!M536)","v":""},{"$f":"IF(Datos_de_Tarjetas!N536=0,\"\",Datos_de_Tarjetas!N536)","v":""},{"$f":"IFERROR(VLOOKUP(Datos_de_Tarjetas!P536,Parámetros!$AM$3:$AN$90,2,FALSE),\"\")","v":""}]
[null,1069470000,{"$f":"IFERROR(VLOOKUP(Datos_de_Tarjetas!D537,Parámetros!$AD$12:$AE$17,2,FALSE),\"\")","v":""},{"$f":"IF(Datos_de_Tarjetas!G537=0,\"\",Datos_de_Tarjetas!G537)","v":""},{"$f":"IFERROR(VLOOKUP(Datos_de_Tarjetas!K537,Parámetros!$AJ$3:$AK$13,2,FALSE),\"\")","v":""},{"$f":"IFERROR(VLOOKUP(Datos_de_Tarjetas!J537,Parámetros!$AQ$3:$AR$57,2,FALSE),\"\")","v":""},null,{"$f":"IF(Datos_de_Tarjetas!L537=0,\"\",Datos_de_Tarjetas!L537)","v":""},{"$f":"IF(Datos_de_Tarjetas!M537=0,\"\",Datos_de_Tarjetas!M537)","v":""},{"$f":"IF(Datos_de_Tarjetas!N537=0,\"\",Datos_de_Tarjetas!N537)","v":""},{"$f":"IFERROR(VLOOKUP(Datos_de_Tarjetas!P537,Parámetros!$AM$3:$AN$90,2,FALSE),\"\")","v":""}]
[null,1069470000,{"$f":"IFERROR(VLOOKUP(Datos_de_Tarjetas!D538,Parámetros!$AD$12:$AE$17,2,FALSE),\"\")","v":""},{"$f":"IF(Datos_de_Tarjetas!G538=0,\"\",Datos_de_Tarjetas!G538)","v":""},{"$f":"IFERROR(VLOOKUP(Datos_de_Tarjetas!K538,Parámetros!$AJ$3:$AK$13,2,FALSE),\"\")","v":""},{"$f":"IFERROR(VLOOKUP(Datos_de_Tarjetas!J538,Parámetros!$AQ$3:$AR$57,2,FALSE),\"\")","v":""},null,{"$f":"IF(Datos_de_Tarjetas!L538=0,\"\",Datos_de_Tarjetas!L538)","v":""},{"$f":"IF(Datos_de_Tarjetas!M538=0,\"\",Datos_de_Tarjetas!M538)","v":""},{"$f":"IF(Datos_de_Tarjetas!N538=0,\"\",Datos_de_Tarjetas!N538)","v":""},{"$f":"IFERROR(VLOOKUP(Datos_de_Tarjetas!P538,Parámetros!$AM$3:$AN$90,2,FALSE),\"\")","v":""}]
[null,1069470000,{"$f":"IFERROR(VLOOKUP(Datos_de_Tarjetas!D539,Parámetros!$AD$12:$AE$17,2,FALSE),\"\")","v":""},{"$f":"IF(Datos_de_Tarjetas!G539=0,\"\",Datos_de_Tarjetas!G539)","v":""},{"$f":"IFERROR(VLOOKUP(Datos_de_Tarjetas!K539,Parámetros!$AJ$3:$AK$13,2,FALSE),\"\")","v":""},{"$f":"IFERROR(VLOOKUP(Datos_de_Tarjetas!J539,Parámetros!$AQ$3:$AR$57,2,FALSE),\"\")","v":""},null,{"$f":"IF(Datos_de_Tarjetas!L539=0,\"\",Datos_de_Tarjetas!L539)","v":""},{"$f":"IF(Datos_de_Tarjetas!M539=0,\"\",Datos_de_Tarjetas!M539)","v":""},{"$f":"IF(Datos_de_Tarjetas!N539=0,\"\",Datos_de_Tarjetas!N539)","v":""},{"$f":"IFERROR(VLOOKUP(Datos_de_Tarjetas!P539,Parámetros!$AM$3:$AN$90,2,FALSE),\"\")","v":""}]
[null,1069470000,{"$f":"IFERROR(VLOOKUP(Datos_de_Tarjetas!D540,Parámetros!$AD$12:$AE$17,2,FALSE),\"\")","v":""},{"$f":"IF(Datos_de_Tarjetas!G540=0,\"\",Datos_de_Tarjetas!G540)","v":""},{"$f":"IFERROR(VLOOKUP(Datos_de_Tarjetas!K540,Parámetros!$AJ$3:$AK$13,2,FALSE),\"\")","v":""},{"$f":"IFERROR(VLOOKUP(Datos_de_Tarjetas!J540,Parámetros!$AQ$3:$AR$57,2,FALSE),\"\")","v":""},null,{"$f":"IF(Datos_de_Tarjetas!L540=0,\"\",Datos_de_Tarjetas!L540)","v":""},{"$f":"IF(Datos_de_Tarjetas!M540=0,\"\",Datos_de_Tarjetas!M540)","v":""},{"$f":"IF(Datos_de_Tarjetas!N540=0,\"\",Datos_de_Tarjetas!N540)","v":""},{"$f":"IFERROR(VLOOKUP(Datos_de_Tarjetas!P540,Parámetros!$AM$3:$AN$90,2,FALSE),\"\")","v":""}]
[null,1069470000,{"$f":"IFERROR(VLOOKUP(Datos_de_Tarjetas!D541,Parámetros!$AD$12:$AE$17,2,FALSE),\"\")","v":""},{"$f":"IF(Datos_de_Tarjetas!G541=0,\"\",Datos_de_Tarjetas!G541)","v":""},{"$f":"IFERROR(VLOOKUP(Datos_de_Tarjetas!K541,Parámetros!$AJ$3:$AK$13,2,FALSE),\"\")","v":""},{"$f":"IFERROR(VLOOKUP(Datos_de_Tarjetas!J541,Parámetros!$AQ$3:$AR$57,2,FALSE),\"\")","v":""},null,{"$f":"IF(Datos_de_Tarjetas!L541=0,\"\",Datos_de_Tarjetas!L541)","v":""},{"$f":"IF(Datos_de_Tarjetas!M541=0,\"\",Datos_de_Tarjetas!M541)","v":""},{"$f":"IF(Datos_de_Tarjetas!N541=0,\"\",Datos_de_Tarjetas!N541)","v":""},{"$f":"IFERROR(VLOOKUP(Datos_de_Tarjetas!P541,Parámetros!$AM$3:$AN$90,2,FALSE),\"\")","v":""}]
[null,1069470000,{"$f":"IFERROR(VLOOKUP(Datos_de_Tarjetas!D542,Parámetros!$AD$12:$AE$17,2,FALSE),\"\")","v":""},{"$f":"IF(Datos_de_Tarjetas!G542=0,\"\",Datos_de_Tarjetas!G542)","v":""},{"$f":"IFERROR(VLOOKUP(Datos_de_Tarjetas!K542,Parámetros!$AJ$3:$AK$13,2,FALSE),\"\")","v":""},{"$f":"IFERROR(VLOOKUP(Datos_de_Tarjetas!J542,Parámetros!$AQ$3:$AR$57,2,FALSE),\"\")","v":""},null,{"$f":"IF(Datos_de_Tarjetas!L542=0,\"\",Datos_de_Tarjetas!L542)","v":""},{"$f":"IF(Datos_de_Tarjetas!M542=0,\"\",Datos_de_Tarjetas!M542)","v":""},{"$f":"IF(Datos_de_Tarjetas!N542=0,\"\",Datos_de_Tarjetas!N542)","v":""},{"$f":"IFERROR(VLOOKUP(Datos_de_Tarjetas!P542,Parámetros!$AM$3:$AN$90,2,FALSE),\"\")","v":""}]
[null,1069470000,{"$f":"IFERROR(VLOOKUP(Datos_de_Tarjetas!D543,Parámetros!$AD$12:$AE$17,2,FALSE),\"\")","v":""},{"$f":"IF(Datos_de_Tarjetas!G543=0,\"\",Datos_de_Tarjetas!G543)","v":""},{"$f":"IFERROR(VLOOKUP(Datos_de_Tarjetas!K543,Parámetros!$AJ$3:$AK$13,2,FALSE),\"\")","v":""},{"$f":"IFERROR(VLOOKUP(Datos_de_Tarjetas!J543,Parámetros!$AQ$3:$AR$57,2,FALSE),\"\")","v":""},null,{"$f":"IF(Datos_de_Tarjetas!L543=0,\"\",Datos_de_Tarjetas!L543)","v":""},{"$f":"IF(Datos_de_Tarjetas!M543=0,\"\",Datos_de_Tarjetas!M543)","v":""},{"$f":"IF(Datos_de_Tarjetas!N543=0,\"\",Datos_de_Tarjetas!N543)","v":""},{"$f":"IFERROR(VLOOKUP(Datos_de_Tarjetas!P543,Parámetros!$AM$3:$AN$90,2,FALSE),\"\")","v":""}]
[null,1069470000,{"$f":"IFERROR(VLOOKUP(Datos_de_Tarjetas!D544,Parámetros!$AD$12:$AE$17,2,FALSE),\"\")","v":""},{"$f":"IF(Datos_de_Tarjetas!G544=0,\"\",Datos_de_Tarjetas!G544)","v":""},{"$f":"IFERROR(VLOOKUP(Datos_de_Tarjetas!K544,Parámetros!$AJ$3:$AK$13,2,FALSE),\"\")","v":""},{"$f":"IFERROR(VLOOKUP(Datos_de_Tarjetas!J544,Parámetros!$AQ$3:$AR$57,2,FALSE),\"\")","v":""},null,{"$f":"IF(Datos_de_Tarjetas!L544=0,\"\",Datos_de_Tarjetas!L544)","v":""},{"$f":"IF(Datos_de_Tarjetas!M544=0,\"\",Datos_de_Tarjetas!M544)","v":""},{"$f":"IF(Datos_de_Tarjetas!N544=0,\"\",Datos_de_Tarjetas!N544)","v":""},{"$f":"IFERROR(VLOOKUP(Datos_de_Tarjetas!P544,Parámetros!$AM$3:$AN$90,2,FALSE),\"\")","v":""}]
[null,1069470000,{"$f":"IFERROR(VLOOKUP(Datos_de_Tarjetas!D545,Parámetros!$AD$12:$AE$17,2,FALSE),\"\")","v":""},{"$f":"IF(Datos_de_Tarjetas!G545=0,\"\",Datos_de_Tarjetas!G545)","v":""},{"$f":"IFERROR(VLOOKUP(Datos_de_Tarjetas!K545,Parámetros!$AJ$3:$AK$13,2,FALSE),\"\")","v":""},{"$f":"IFERROR(VLOOKUP(Datos_de_Tarjetas!J545,Parámetros!$AQ$3:$AR$57,2,FALSE),\"\")","v":""},null,{"$f":"IF(Datos_de_Tarjetas!L545=0,\"\",Datos_de_Tarjetas!L545)","v":""},{"$f":"IF(Datos_de_Tarjetas!M545=0,\"\",Datos_de_Tarjetas!M545)","v":""},{"$f":"IF(Datos_de_Tarjetas!N545=0,\"\",Datos_de_Tarjetas!N545)","v":""},{"$f":"IFERROR(VLOOKUP(Datos_de_Tarjetas!P545,Parámetros!$AM$3:$AN$90,2,FALSE),\"\")","v":""}]
[null,1069470000,{"$f":"IFERROR(VLOOKUP(Datos_de_Tarjetas!D546,Parámetros!$AD$12:$AE$17,2,FALSE),\"\")","v":""},{"$f":"IF(Datos_de_Tarjetas!G546=0,\"\",Datos_de_Tarjetas!G546)","v":""},{"$f":"IFERROR(VLOOKUP(Datos_de_Tarjetas!K546,Parámetros!$AJ$3:$AK$13,2,FALSE),\"\")","v":""},{"$f":"IFERROR(VLOOKUP(Datos_de_Tarjetas!J546,Parámetros!$AQ$3:$AR$57,2,FALSE),\"\")","v":""},null,{"$f":"IF(Datos_de_Tarjetas!L546=0,\"\",Datos_de_Tarjetas!L546)","v":""},{"$f":"IF(Datos_de_Tarjetas!M546=0,\"\",Datos_de_Tarjetas!M546)","v":""},{"$f":"IF(Datos_de_Tarjetas!N546=0,\"\",Datos_de_Tarjetas!N546)","v":""},{"$f":"IFERROR(VLOOKUP(Datos_de_Tarjetas!P546,Parámetros!$AM$3:$AN$90,2,FALSE),\"\")","v":""}]
[null,1069470000,{"$f":"IFERROR(VLOOKUP(Datos_de_Tarjetas!D547,Parámetros!$AD$12:$AE$17,2,FALSE),\"\")","v":""},{"$f":"IF(Datos_de_Tarjetas!G547=0,\"\",Datos_de_Tarjetas!G547)","v":""},{"$f":"IFERROR(VLOOKUP(Datos_de_Tarjetas!K547,Parámetros!$AJ$3:$AK$13,2,FALSE),\"\")","v":""},{"$f":"IFERROR(VLOOKUP(Datos_de_Tarjetas!J547,Parámetros!$AQ$3:$AR$57,2,FALSE),\"\")","v":""},null,{"$f":"IF(Datos_de_Tarjetas!L547=0,\"\",Datos_de_Tarjetas!L547)","v":""},{"$f":"IF(Datos_de_Tarjetas!M547=0,\"\",Datos_de_Tarjetas!M547)","v":""},{"$f":"IF(Datos_de_Tarjetas!N547=0,\"\",Datos_de_Tarjetas!N547)","v":""},{"$f":"IFERROR(VLOOKUP(Datos_de_Tarjetas!P547,Parámetros!$AM$3:$AN$90,2,FALSE),\"\")","v":""}]
[null,1069470000,{"$f":"IFERROR(VLOOKUP(Datos_de_Tarjetas!D548,Parámetros!$AD$12:$AE$17,2,FALSE),\"\")","v":""},{"$f":"IF(Datos_de_Tarjetas!G548=0,\"\",Datos_de_Tarjetas!G548)","v":""},{"$f":"IFERROR(VLOOKUP(Datos_de_Tarjetas!K548,Parámetros!$AJ$3:$AK$13,2,FALSE),\"\")","v":""},{"$f":"IFERROR(VLOOKUP(Datos_de_Tarjetas!J548,Parámetros!$AQ$3:$AR$57,2,FALSE),\"\")","v":""},null,{"$f":"IF(Datos_de_Tarjetas!L548=0,\"\",Datos_de_Tarjetas!L548)","v":""},{"$f":"IF(Datos_de_Tarjetas!M548=0,\"\",Datos_de_Tarjetas!M548)","v":""},{"$f":"IF(Datos_de_Tarjetas!N548=0,\"\",Datos_de_Tarjetas!N548)","v":""},{"$f":"IFERROR(VLOOKUP(Datos_de_Tarjetas!P548,Parámetros!$AM$3:$AN$90,2,FALSE),\"\")","v":""}]
[null,1069470000,{"$f":"IFERROR(VLOOKUP(Datos_de_Tarjetas!D549,Parámetros!$AD$12:$AE$17,2,FALSE),\"\")","v":""},{"$f":"IF(Datos_de_Tarjetas!G549=0,\"\",Datos_de_Tarjetas!G549)","v":""},{"$f":"IFERROR(VLOOKUP(Datos_de_Tarjetas!K549,Parámetros!$AJ$3:$AK$13,2,FALSE),\"\")","v":""},{"$f":"IFERROR(VLOOKUP(Datos_de_Tarjetas!J549,Parámetros!$AQ$3:$AR$57,2,FALSE),\"\")","v":""},null,{"$f":"IF(Datos_de_Tarjetas!L549=0,\"\",Datos_de_Tarjetas!L549)","v":""},{"$f":"IF(Datos_de_Tarjetas!M549=0,\"\",Datos_de_Tarjetas!M549)","v":""},{"$f":"IF(Datos_de_Tarjetas!N549=0,\"\",Datos_de_Tarjetas!N549)","v":""},{"$f":"IFERROR(VLOOKUP(Datos_de_Tarjetas!P549,Parámetros!$AM$3:$AN$90,2,FALSE),\"\")","v":""}]
[null,1069470000,{"$f":"IFERROR(VLOOKUP(Datos_de_Tarjetas!D550,Parámetros!$AD$12:$AE$17,2,FALSE),\"\")","v":""},{"$f":"IF(Datos_de_Tarjetas!G550=0,\"\",Datos_de_Tarjetas!G550)","v":""},{"$f":"IFERROR(VLOOKUP(Datos_de_Tarjetas!K550,Parámetros!$AJ$3:$AK$13,2,FALSE),\"\")","v":""},{"$f":"IFERROR(VLOOKUP(Datos_de_Tarjetas!J550,Parámetros!$AQ$3:$AR$57,2,FALSE),\"\")","v":""},null,{"$f":"IF(Datos_de_Tarjetas!L550=0,\"\",Datos_de_Tarjetas!L550)","v":""},{"$f":"IF(Datos_de_Tarjetas!M550=0,\"\",Datos_de_Tarjetas!M550)","v":""},{"$f":"IF(Datos_de_Tarjetas!N550=0,\"\",Datos_de_Tarjetas!N550)","v":""},{"$f":"IFERROR(VLOOKUP(Datos_de_Tarjetas!P550,Parámetros!$AM$3:$AN$90,2,FALSE),\"\")","v":""}]
[null,1069470000,{"$f":"IFERROR(VLOOKUP(Datos_de_Tarjetas!D551,Parámetros!$AD$12:$AE$17,2,FALSE),\"\")","v":""},{"$f":"IF(Datos_de_Tarjetas!G551=0,\"\",Datos_de_Tarjetas!G551)","v":""},{"$f":"IFERROR(VLOOKUP(Datos_de_Tarjetas!K551,Parámetros!$AJ$3:$AK$13,2,FALSE),\"\")","v":""},{"$f":"IFERROR(VLOOKUP(Datos_de_Tarjetas!J551,Parámetros!$AQ$3:$AR$57,2,FALSE),\"\")","v":""},null,{"$f":"IF(Datos_de_Tarjetas!L551=0,\"\",Datos_de_Tarjetas!L551)","v":""},{"$f":"IF(Datos_de_Tarjetas!M551=0,\"\",Datos_de_Tarjetas!M551)","v":""},{"$f":"IF(Datos_de_Tarjetas!N551=0,\"\",Datos_de_Tarjetas!N551)","v":""},{"$f":"IFERROR(VLOOKUP(Datos_de_Tarjetas!P551,Parámetros!$AM$3:$AN$90,2,FALSE),\"\")","v":""}]
[null,1069470000,{"$f":"IFERROR(VLOOKUP(Datos_de_Tarjetas!D552,Parámetros!$AD$12:$AE$17,2,FALSE),\"\")","v":""},{"$f":"IF(Datos_de_Tarjetas!G552=0,\"\",Datos_de_Tarjetas!G552)","v":""},{"$f":"IFERROR(VLOOKUP(Datos_de_Tarjetas!K552,Parámetros!$AJ$3:$AK$13,2,FALSE),\"\")","v":""},{"$f":"IFERROR(VLOOKUP(Datos_de_Tarjetas!J552,Parámetros!$AQ$3:$AR$57,2,FALSE),\"\")","v":""},null,{"$f":"IF(Datos_de_Tarjetas!L552=0,\"\",Datos_de_Tarjetas!L552)","v":""},{"$f":"IF(Datos_de_Tarjetas!M552=0,\"\",Datos_de_Tarjetas!M552)","v":""},{"$f":"IF(Datos_de_Tarjetas!N552=0,\"\",Datos_de_Tarjetas!N552)","v":""},{"$f":"IFERROR(VLOOKUP(Datos_de_Tarjetas!P552,Parámetros!$AM$3:$AN$90,2,FALSE),\"\")","v":""}]
[null,1069470000,{"$f":"IFERROR(VLOOKUP(Datos_de_Tarjetas!D553,Parámetros!$AD$12:$AE$17,2,FALSE),\"\")","v":""},{"$f":"IF(Datos_de_Tarjetas!G553=0,\"\",Datos_de_Tarjetas!G553)","v":""},{"$f":"IFERROR(VLOOKUP(Datos_de_Tarjetas!K553,Parámetros!$AJ$3:$AK$13,2,FALSE),\"\")","v":""},{"$f":"IFERROR(VLOOKUP(Datos_de_Tarjetas!J553,Parámetros!$AQ$3:$AR$57,2,FALSE),\"\")","v":""},null,{"$f":"IF(Datos_de_Tarjetas!L553=0,\"\",Datos_de_Tarjetas!L553)","v":""},{"$f":"IF(Datos_de_Tarjetas!M553=0,\"\",Datos_de_Tarjetas!M553)","v":""},{"$f":"IF(Datos_de_Tarjetas!N553=0,\"\",Datos_de_Tarjetas!N553)","v":""},{"$f":"IFERROR(VLOOKUP(Datos_de_Tarjetas!P553,Parámetros!$AM$3:$AN$90,2,FALSE),\"\")","v":""}]
[null,1069470000,{"$f":"IFERROR(VLOOKUP(Datos_de_Tarjetas!D554,Parámetros!$AD$12:$AE$17,2,FALSE),\"\")","v":""},{"$f":"IF(Datos_de_Tarjetas!G554=0,\"\",Datos_de_Tarjetas!G554)","v":""},{"$f":"IFERROR(VLOOKUP(Datos_de_Tarjetas!K554,Parámetros!$AJ$3:$AK$13,2,FALSE),\"\")","v":""},{"$f":"IFERROR(VLOOKUP(Datos_de_Tarjetas!J554,Parámetros!$AQ$3:$AR$57,2,FALSE),\"\")","v":""},null,{"$f":"IF(Datos_de_Tarjetas!L554=0,\"\",Datos_de_Tarjetas!L554)","v":""},{"$f":"IF(Datos_de_Tarjetas!M554=0,\"\",Datos_de_Tarjetas!M554)","v":""},{"$f":"IF(Datos_de_Tarjetas!N554=0,\"\",Datos_de_Tarjetas!N554)","v":""},{"$f":"IFERROR(VLOOKUP(Datos_de_Tarjetas!P554,Parámetros!$AM$3:$AN$90,2,FALSE),\"\")","v":""}]
[null,1069470000,{"$f":"IFERROR(VLOOKUP(Datos_de_Tarjetas!D555,Parámetros!$AD$12:$AE$17,2,FALSE),\"\")","v":""},{"$f":"IF(Datos_de_Tarjetas!G555=0,\"\",Datos_de_Tarjetas!G555)","v":""},{"$f":"IFERROR(VLOOKUP(Datos_de_Tarjetas!K555,Parámetros!$AJ$3:$AK$13,2,FALSE),\"\")","v":""},{"$f":"IFERROR(VLOOKUP(Datos_de_Tarjetas!J555,Parámetros!$AQ$3:$AR$57,2,FALSE),\"\")","v":""},null,{"$f":"IF(Datos_de_Tarjetas!L555=0,\"\",Datos_de_Tarjetas!L555)","v":""},{"$f":"IF(Datos_de_Tarjetas!M555=0,\"\",Datos_de_Tarjetas!M555)","v":""},{"$f":"IF(Datos_de_Tarjetas!N555=0,\"\",Datos_de_Tarjetas!N555)","v":""},{"$f":"IFERROR(VLOOKUP(Datos_de_Tarjetas!P555,Parámetros!$AM$3:$AN$90,2,FALSE),\"\")","v":""}]
[null,1069470000,{"$f":"IFERROR(VLOOKUP(Datos_de_Tarjetas!D556,Parámetros!$AD$12:$AE$17,2,FALSE),\"\")","v":""},{"$f":"IF(Datos_de_Tarjetas!G556=0,\"\",Datos_de_Tarjetas!G556)","v":""},{"$f":"IFERROR(VLOOKUP(Datos_de_Tarjetas!K556,Parámetros!$AJ$3:$AK$13,2,FALSE),\"\")","v":""},{"$f":"IFERROR(VLOOKUP(Datos_de_Tarjetas!J556,Parámetros!$AQ$3:$AR$57,2,FALSE),\"\")","v":""},null,{"$f":"IF(Datos_de_Tarjetas!L556=0,\"\",Datos_de_Tarjetas!L556)","v":""},{"$f":"IF(Datos_de_Tarjetas!M556=0,\"\",Datos_de_Tarjetas!M556)","v":""},{"$f":"IF(Datos_de_Tarjetas!N556=0,\"\",Datos_de_Tarjetas!N556)","v":""},{"$f":"IFERROR(VLOOKUP(Datos_de_Tarjetas!P556,Parámetros!$AM$3:$AN$90,2,FALSE),\"\")","v":""}]
[null,1069470000,{"$f":"IFERROR(VLOOKUP(Datos_de_Tarjetas!D557,Parámetros!$AD$12:$AE$17,2,FALSE),\"\")","v":""},{"$f":"IF(Datos_de_Tarjetas!G557=0,\"\",Datos_de_Tarjetas!G557)","v":""},{"$f":"IFERROR(VLOOKUP(Datos_de_Tarjetas!K557,Parámetros!$AJ$3:$AK$13,2,FALSE),\"\")","v":""},{"$f":"IFERROR(VLOOKUP(Datos_de_Tarjetas!J557,Parámetros!$AQ$3:$AR$57,2,FALSE),\"\")","v":""},null,{"$f":"IF(Datos_de_Tarjetas!L557=0,\"\",Datos_de_Tarjetas!L557)","v":""},{"$f":"IF(Datos_de_Tarjetas!M557=0,\"\",Datos_de_Tarjetas!M557)","v":""},{"$f":"IF(Datos_de_Tarjetas!N557=0,\"\",Datos_de_Tarjetas!N557)","v":""},{"$f":"IFERROR(VLOOKUP(Datos_de_Tarjetas!P557,Parámetros!$AM$3:$AN$90,2,FALSE),\"\")","v":""}]
[null,1069470000,{"$f":"IFERROR(VLOOKUP(Datos_de_Tarjetas!D558,Parámetros!$AD$12:$AE$17,2,FALSE),\"\")","v":""},{"$f":"IF(Datos_de_Tarjetas!G558=0,\"\",Datos_de_Tarjetas!G558)","v":""},{"$f":"IFERROR(VLOOKUP(Datos_de_Tarjetas!K558,Parámetros!$AJ$3:$AK$13,2,FALSE),\"\")","v":""},{"$f":"IFERROR(VLOOKUP(Datos_de_Tarjetas!J558,Parámetros!$AQ$3:$AR$57,2,FALSE),\"\")","v":""},null,{"$f":"IF(Datos_de_Tarjetas!L558=0,\"\",Datos_de_Tarjetas!L558)","v":""},{"$f":"IF(Datos_de_Tarjetas!M558=0,\"\",Datos_de_Tarjetas!M558)","v":""},{"$f":"IF(Datos_de_Tarjetas!N558=0,\"\",Datos_de_Tarjetas!N558)","v":""},{"$f":"IFERROR(VLOOKUP(Datos_de_Tarjetas!P558,Parámetros!$AM$3:$AN$90,2,FALSE),\"\")","v":""}]
[null,1069470000,{"$f":"IFERROR(VLOOKUP(Datos_de_Tarjetas!D559,Parámetros!$AD$12:$AE$17,2,FALSE),\"\")","v":""},{"$f":"IF(Datos_de_Tarjetas!G559=0,\"\",Datos_de_Tarjetas!G559)","v":""},{"$f":"IFERROR(VLOOKUP(Datos_de_Tarjetas!K559,Parámetros!$AJ$3:$AK$13,2,FALSE),\"\")","v":""},{"$f":"IFERROR(VLOOKUP(Datos_de_Tarjetas!J559,Parámetros!$AQ$3:$AR$57,2,FALSE),\"\")","v":""},null,{"$f":"IF(Datos_de_Tarjetas!L559=0,\"\",Datos_de_Tarjetas!L559)","v":""},{"$f":"IF(Datos_de_Tarjetas!M559=0,\"\",Datos_de_Tarjetas!M559)","v":""},{"$f":"IF(Datos_de_Tarjetas!N559=0,\"\",Datos_de_Tarjetas!N559)","v":""},{"$f":"IFERROR(VLOOKUP(Datos_de_Tarjetas!P559,Parámetros!$AM$3:$AN$90,2,FALSE),\"\")","v":""}]
[null,1069470000,{"$f":"IFERROR(VLOOKUP(Datos_de_Tarjetas!D560,Parámetros!$AD$12:$AE$17,2,FALSE),\"\")","v":""},{"$f":"IF(Datos_de_Tarjetas!G560=0,\"\",Datos_de_Tarjetas!G560)","v":""},{"$f":"IFERROR(VLOOKUP(Datos_de_Tarjetas!K560,Parámetros!$AJ$3:$AK$13,2,FALSE),\"\")","v":""},{"$f":"IFERROR(VLOOKUP(Datos_de_Tarjetas!J560,Parámetros!$AQ$3:$AR$57,2,FALSE),\"\")","v":""},null,{"$f":"IF(Datos_de_Tarjetas!L560=0,\"\",Datos_de_Tarjetas!L560)","v":""},{"$f":"IF(Datos_de_Tarjetas!M560=0,\"\",Datos_de_Tarjetas!M560)","v":""},{"$f":"IF(Datos_de_Tarjetas!N560=0,\"\",Datos_de_Tarjetas!N560)","v":""},{"$f":"IFERROR(VLOOKUP(Datos_de_Tarjetas!P560,Parámetros!$AM$3:$AN$90,2,FALSE),\"\")","v":""}]
[null,1069470000,{"$f":"IFERROR(VLOOKUP(Datos_de_Tarjetas!D561,Parámetros!$AD$12:$AE$17,2,FALSE),\"\")","v":""},{"$f":"IF(Datos_de_Tarjetas!G561=0,\"\",Datos_de_Tarjetas!G561)","v":""},{"$f":"IFERROR(VLOOKUP(Datos_de_Tarjetas!K561,Parámetros!$AJ$3:$AK$13,2,FALSE),\"\")","v":""},{"$f":"IFERROR(VLOOKUP(Datos_de_Tarjetas!J561,Parámetros!$AQ$3:$AR$57,2,FALSE),\"\")","v":""},null,{"$f":"IF(Datos_de_Tarjetas!L561=0,\"\",Datos_de_Tarjetas!L561)","v":""},{"$f":"IF(Datos_de_Tarjetas!M561=0,\"\",Datos_de_Tarjetas!M561)","v":""},{"$f":"IF(Datos_de_Tarjetas!N561=0,\"\",Datos_de_Tarjetas!N561)","v":""},{"$f":"IFERROR(VLOOKUP(Datos_de_Tarjetas!P561,Parámetros!$AM$3:$AN$90,2,FALSE),\"\")","v":""}]
[null,1069470000,{"$f":"IFERROR(VLOOKUP(Datos_de_Tarjetas!D562,Parámetros!$AD$12:$AE$17,2,FALSE),\"\")","v":""},{"$f":"IF(Datos_de_Tarjetas!G562=0,\"\",Datos_de_Tarjetas!G562)","v":""},{"$f":"IFERROR(VLOOKUP(Datos_de_Tarjetas!K562,Parámetros!$AJ$3:$AK$13,2,FALSE),\"\")","v":""},{"$f":"IFERROR(VLOOKUP(Datos_de_Tarjetas!J562,Parámetros!$AQ$3:$AR$57,2,FALSE),\"\")","v":""},null,{"$f":"IF(Datos_de_Tarjetas!L562=0,\"\",Datos_de_Tarjetas!L562)","v":""},{"$f":"IF(Datos_de_Tarjetas!M562=0,\"\",Datos_de_Tarjetas!M562)","v":""},{"$f":"IF(Datos_de_Tarjetas!N562=0,\"\",Datos_de_Tarjetas!N562)","v":""},{"$f":"IFERROR(VLOOKUP(Datos_de_Tarjetas!P562,Parámetros!$AM$3:$AN$90,2,FALSE),\"\")","v":""}]
[null,1069470000,{"$f":"IFERROR(VLOOKUP(Datos_de_Tarjetas!D563,Parámetros!$AD$12:$AE$17,2,FALSE),\"\")","v":""},{"$f":"IF(Datos_de_Tarjetas!G563=0,\"\",Datos_de_Tarjetas!G563)","v":""},{"$f":"IFERROR(VLOOKUP(Datos_de_Tarjetas!K563,Parámetros!$AJ$3:$AK$13,2,FALSE),\"\")","v":""},{"$f":"IFERROR(VLOOKUP(Datos_de_Tarjetas!J563,Parámetros!$AQ$3:$AR$57,2,FALSE),\"\")","v":""},null,{"$f":"IF(Datos_de_Tarjetas!L563=0,\"\",Datos_de_Tarjetas!L563)","v":""},{"$f":"IF(Datos_de_Tarjetas!M563=0,\"\",Datos_de_Tarjetas!M563)","v":""},{"$f":"IF(Datos_de_Tarjetas!N563=0,\"\",Datos_de_Tarjetas!N563)","v":""},{"$f":"IFERROR(VLOOKUP(Datos_de_Tarjetas!P563,Parámetros!$AM$3:$AN$90,2,FALSE),\"\")","v":""}]
[null,1069470000,{"$f":"IFERROR(VLOOKUP(Datos_de_Tarjetas!D564,Parámetros!$AD$12:$AE$17,2,FALSE),\"\")","v":""},{"$f":"IF(Datos_de_Tarjetas!G564=0,\"\",Datos_de_Tarjetas!G564)","v":""},{"$f":"IFERROR(VLOOKUP(Datos_de_Tarjetas!K564,Parámetros!$AJ$3:$AK$13,2,FALSE),\"\")","v":""},{"$f":"IFERROR(VLOOKUP(Datos_de_Tarjetas!J564,Parámetros!$AQ$3:$AR$57,2,FALSE),\"\")","v":""},null,{"$f":"IF(Datos_de_Tarjetas!L564=0,\"\",Datos_de_Tarjetas!L564)","v":""},{"$f":"IF(Datos_de_Tarjetas!M564=0,\"\",Datos_de_Tarjetas!M564)","v":""},{"$f":"IF(Datos_de_Tarjetas!N564=0,\"\",Datos_de_Tarjetas!N564)","v":""},{"$f":"IFERROR(VLOOKUP(Datos_de_Tarjetas!P564,Parámetros!$AM$3:$AN$90,2,FALSE),\"\")","v":""}]
[null,1069470000,{"$f":"IFERROR(VLOOKUP(Datos_de_Tarjetas!D565,Parámetros!$AD$12:$AE$17,2,FALSE),\"\")","v":""},{"$f":"IF(Datos_de_Tarjetas!G565=0,\"\",Datos_de_Tarjetas!G565)","v":""},{"$f":"IFERROR(VLOOKUP(Datos_de_Tarjetas!K565,Parámetros!$AJ$3:$AK$13,2,FALSE),\"\")","v":""},{"$f":"IFERROR(VLOOKUP(Datos_de_Tarjetas!J565,Parámetros!$AQ$3:$AR$57,2,FALSE),\"\")","v":""},null,{"$f":"IF(Datos_de_Tarjetas!L565=0,\"\",Datos_de_Tarjetas!L565)","v":""},{"$f":"IF(Datos_de_Tarjetas!M565=0,\"\",Datos_de_Tarjetas!M565)","v":""},{"$f":"IF(Datos_de_Tarjetas!N565=0,\"\",Datos_de_Tarjetas!N565)","v":""},{"$f":"IFERROR(VLOOKUP(Datos_de_Tarjetas!P565,Parámetros!$AM$3:$AN$90,2,FALSE),\"\")","v":""}]
[null,1069470000,{"$f":"IFERROR(VLOOKUP(Datos_de_Tarjetas!D566,Parámetros!$AD$12:$AE$17,2,FALSE),\"\")","v":""},{"$f":"IF(Datos_de_Tarjetas!G566=0,\"\",Datos_de_Tarjetas!G566)","v":""},{"$f":"IFERROR(VLOOKUP(Datos_de_Tarjetas!K566,Parámetros!$AJ$3:$AK$13,2,FALSE),\"\")","v":""},{"$f":"IFERROR(VLOOKUP(Datos_de_Tarjetas!J566,Parámetros!$AQ$3:$AR$57,2,FALSE),\"\")","v":""},null,{"$f":"IF(Datos_de_Tarjetas!L566=0,\"\",Datos_de_Tarjetas!L566)","v":""},{"$f":"IF(Datos_de_Tarjetas!M566=0,\"\",Datos_de_Tarjetas!M566)","v":""},{"$f":"IF(Datos_de_Tarjetas!N566=0,\"\",Datos_de_Tarjetas!N566)","v":""},{"$f":"IFERROR(VLOOKUP(Datos_de_Tarjetas!P566,Parámetros!$AM$3:$AN$90,2,FALSE),\"\")","v":""}]
[null,1069470000,{"$f":"IFERROR(VLOOKUP(Datos_de_Tarjetas!D567,Parámetros!$AD$12:$AE$17,2,FALSE),\"\")","v":""},{"$f":"IF(Datos_de_Tarjetas!G567=0,\"\",Datos_de_Tarjetas!G567)","v":""},{"$f":"IFERROR(VLOOKUP(Datos_de_Tarjetas!K567,Parámetros!$AJ$3:$AK$13,2,FALSE),\"\")","v":""},{"$f":"IFERROR(VLOOKUP(Datos_de_Tarjetas!J567,Parámetros!$AQ$3:$AR$57,2,FALSE),\"\")","v":""},null,{"$f":"IF(Datos_de_Tarjetas!L567=0,\"\",Datos_de_Tarjetas!L567)","v":""},{"$f":"IF(Datos_de_Tarjetas!M567=0,\"\",Datos_de_Tarjetas!M567)","v":""},{"$f":"IF(Datos_de_Tarjetas!N567=0,\"\",Datos_de_Tarjetas!N567)","v":""},{"$f":"IFERROR(VLOOKUP(Datos_de_Tarjetas!P567,Parámetros!$AM$3:$AN$90,2,FALSE),\"\")","v":""}]
[null,1069470000,{"$f":"IFERROR(VLOOKUP(Datos_de_Tarjetas!D568,Parámetros!$AD$12:$AE$17,2,FALSE),\"\")","v":""},{"$f":"IF(Datos_de_Tarjetas!G568=0,\"\",Datos_de_Tarjetas!G568)","v":""},{"$f":"IFERROR(VLOOKUP(Datos_de_Tarjetas!K568,Parámetros!$AJ$3:$AK$13,2,FALSE),\"\")","v":""},{"$f":"IFERROR(VLOOKUP(Datos_de_Tarjetas!J568,Parámetros!$AQ$3:$AR$57,2,FALSE),\"\")","v":""},null,{"$f":"IF(Datos_de_Tarjetas!L568=0,\"\",Datos_de_Tarjetas!L568)","v":""},{"$f":"IF(Datos_de_Tarjetas!M568=0,\"\",Datos_de_Tarjetas!M568)","v":""},{"$f":"IF(Datos_de_Tarjetas!N568=0,\"\",Datos_de_Tarjetas!N568)","v":""},{"$f":"IFERROR(VLOOKUP(Datos_de_Tarjetas!P568,Parámetros!$AM$3:$AN$90,2,FALSE),\"\")","v":""}]
[null,1069470000,{"$f":"IFERROR(VLOOKUP(Datos_de_Tarjetas!D569,Parámetros!$AD$12:$AE$17,2,FALSE),\"\")","v":""},{"$f":"IF(Datos_de_Tarjetas!G569=0,\"\",Datos_de_Tarjetas!G569)","v":""},{"$f":"IFERROR(VLOOKUP(Datos_de_Tarjetas!K569,Parámetros!$AJ$3:$AK$13,2,FALSE),\"\")","v":""},{"$f":"IFERROR(VLOOKUP(Datos_de_Tarjetas!J569,Parámetros!$AQ$3:$AR$57,2,FALSE),\"\")","v":""},null,{"$f":"IF(Datos_de_Tarjetas!L569=0,\"\",Datos_de_Tarjetas!L569)","v":""},{"$f":"IF(Datos_de_Tarjetas!M569=0,\"\",Datos_de_Tarjetas!M569)","v":""},{"$f":"IF(Datos_de_Tarjetas!N569=0,\"\",Datos_de_Tarjetas!N569)","v":""},{"$f":"IFERROR(VLOOKUP(Datos_de_Tarjetas!P569,Parámetros!$AM$3:$AN$90,2,FALSE),\"\")","v":""}]
[null,1069470000,{"$f":"IFERROR(VLOOKUP(Datos_de_Tarjetas!D570,Parámetros!$AD$12:$AE$17,2,FALSE),\"\")","v":""},{"$f":"IF(Datos_de_Tarjetas!G570=0,\"\",Datos_de_Tarjetas!G570)","v":""},{"$f":"IFERROR(VLOOKUP(Datos_de_Tarjetas!K570,Parámetros!$AJ$3:$AK$13,2,FALSE),\"\")","v":""},{"$f":"IFERROR(VLOOKUP(Datos_de_Tarjetas!J570,Parámetros!$AQ$3:$AR$57,2,FALSE),\"\")","v":""},null,{"$f":"IF(Datos_de_Tarjetas!L570=0,\"\",Datos_de_Tarjetas!L570)","v":""},{"$f":"IF(Datos_de_Tarjetas!M570=0,\"\",Datos_de_Tarjetas!M570)","v":""},{"$f":"IF(Datos_de_Tarjetas!N570=0,\"\",Datos_de_Tarjetas!N570)","v":""},{"$f":"IFERROR(VLOOKUP(Datos_de_Tarjetas!P570,Parámetros!$AM$3:$AN$90,2,FALSE),\"\")","v":""}]
[null,1069470000,{"$f":"IFERROR(VLOOKUP(Datos_de_Tarjetas!D571,Parámetros!$AD$12:$AE$17,2,FALSE),\"\")","v":""},{"$f":"IF(Datos_de_Tarjetas!G571=0,\"\",Datos_de_Tarjetas!G571)","v":""},{"$f":"IFERROR(VLOOKUP(Datos_de_Tarjetas!K571,Parámetros!$AJ$3:$AK$13,2,FALSE),\"\")","v":""},{"$f":"IFERROR(VLOOKUP(Datos_de_Tarjetas!J571,Parámetros!$AQ$3:$AR$57,2,FALSE),\"\")","v":""},null,{"$f":"IF(Datos_de_Tarjetas!L571=0,\"\",Datos_de_Tarjetas!L571)","v":""},{"$f":"IF(Datos_de_Tarjetas!M571=0,\"\",Datos_de_Tarjetas!M571)","v":""},{"$f":"IF(Datos_de_Tarjetas!N571=0,\"\",Datos_de_Tarjetas!N571)","v":""},{"$f":"IFERROR(VLOOKUP(Datos_de_Tarjetas!P571,Parámetros!$AM$3:$AN$90,2,FALSE),\"\")","v":""}]
[null,1069470000,{"$f":"IFERROR(VLOOKUP(Datos_de_Tarjetas!D572,Parámetros!$AD$12:$AE$17,2,FALSE),\"\")","v":""},{"$f":"IF(Datos_de_Tarjetas!G572=0,\"\",Datos_de_Tarjetas!G572)","v":""},{"$f":"IFERROR(VLOOKUP(Datos_de_Tarjetas!K572,Parámetros!$AJ$3:$AK$13,2,FALSE),\"\")","v":""},{"$f":"IFERROR(VLOOKUP(Datos_de_Tarjetas!J572,Parámetros!$AQ$3:$AR$57,2,FALSE),\"\")","v":""},null,{"$f":"IF(Datos_de_Tarjetas!L572=0,\"\",Datos_de_Tarjetas!L572)","v":""},{"$f":"IF(Datos_de_Tarjetas!M572=0,\"\",Datos_de_Tarjetas!M572)","v":""},{"$f":"IF(Datos_de_Tarjetas!N572=0,\"\",Datos_de_Tarjetas!N572)","v":""},{"$f":"IFERROR(VLOOKUP(Datos_de_Tarjetas!P572,Parámetros!$AM$3:$AN$90,2,FALSE),\"\")","v":""}]
[null,1069470000,{"$f":"IFERROR(VLOOKUP(Datos_de_Tarjetas!D573,Parámetros!$AD$12:$AE$17,2,FALSE),\"\")","v":""},{"$f":"IF(Datos_de_Tarjetas!G573=0,\"\",Datos_de_Tarjetas!G573)","v":""},{"$f":"IFERROR(VLOOKUP(Datos_de_Tarjetas!K573,Parámetros!$AJ$3:$AK$13,2,FALSE),\"\")","v":""},{"$f":"IFERROR(VLOOKUP(Datos_de_Tarjetas!J573,Parámetros!$AQ$3:$AR$57,2,FALSE),\"\")","v":""},null,{"$f":"IF(Datos_de_Tarjetas!L573=0,\"\",Datos_de_Tarjetas!L573)","v":""},{"$f":"IF(Datos_de_Tarjetas!M573=0,\"\",Datos_de_Tarjetas!M573)","v":""},{"$f":"IF(Datos_de_Tarjetas!N573=0,\"\",Datos_de_Tarjetas!N573)","v":""},{"$f":"IFERROR(VLOOKUP(Datos_de_Tarjetas!P573,Parámetros!$AM$3:$AN$90,2,FALSE),\"\")","v":""}]
[null,1069470000,{"$f":"IFERROR(VLOOKUP(Datos_de_Tarjetas!D574,Parámetros!$AD$12:$AE$17,2,FALSE),\"\")","v":""},{"$f":"IF(Datos_de_Tarjetas!G574=0,\"\",Datos_de_Tarjetas!G574)","v":""},{"$f":"IFERROR(VLOOKUP(Datos_de_Tarjetas!K574,Parámetros!$AJ$3:$AK$13,2,FALSE),\"\")","v":""},{"$f":"IFERROR(VLOOKUP(Datos_de_Tarjetas!J574,Parámetros!$AQ$3:$AR$57,2,FALSE),\"\")","v":""},null,{"$f":"IF(Datos_de_Tarjetas!L574=0,\"\",Datos_de_Tarjetas!L574)","v":""},{"$f":"IF(Datos_de_Tarjetas!M574=0,\"\",Datos_de_Tarjetas!M574)","v":""},{"$f":"IF(Datos_de_Tarjetas!N574=0,\"\",Datos_de_Tarjetas!N574)","v":""},{"$f":"IFERROR(VLOOKUP(Datos_de_Tarjetas!P574,Parámetros!$AM$3:$AN$90,2,FALSE),\"\")","v":""}]
[null,1069470000,{"$f":"IFERROR(VLOOKUP(Datos_de_Tarjetas!D575,Parámetros!$AD$12:$AE$17,2,FALSE),\"\")","v":""},{"$f":"IF(Datos_de_Tarjetas!G575=0,\"\",Datos_de_Tarjetas!G575)","v":""},{"$f":"IFERROR(VLOOKUP(Datos_de_Tarjetas!K575,Parámetros!$AJ$3:$AK$13,2,FALSE),\"\")","v":""},{"$f":"IFERROR(VLOOKUP(Datos_de_Tarjetas!J575,Parámetros!$AQ$3:$AR$57,2,FALSE),\"\")","v":""},null,{"$f":"IF(Datos_de_Tarjetas!L575=0,\"\",Datos_de_Tarjetas!L575)","v":""},{"$f":"IF(Datos_de_Tarjetas!M575=0,\"\",Datos_de_Tarjetas!M575)","v":""},{"$f":"IF(Datos_de_Tarjetas!N575=0,\"\",Datos_de_Tarjetas!N575)","v":""},{"$f":"IFERROR(VLOOKUP(Datos_de_Tarjetas!P575,Parámetros!$AM$3:$AN$90,2,FALSE),\"\")","v":""}]
[null,1069470000,{"$f":"IFERROR(VLOOKUP(Datos_de_Tarjetas!D576,Parámetros!$AD$12:$AE$17,2,FALSE),\"\")","v":""},{"$f":"IF(Datos_de_Tarjetas!G576=0,\"\",Datos_de_Tarjetas!G576)","v":""},{"$f":"IFERROR(VLOOKUP(Datos_de_Tarjetas!K576,Parámetros!$AJ$3:$AK$13,2,FALSE),\"\")","v":""},{"$f":"IFERROR(VLOOKUP(Datos_de_Tarjetas!J576,Parámetros!$AQ$3:$AR$57,2,FALSE),\"\")","v":""},null,{"$f":"IF(Datos_de_Tarjetas!L576=0,\"\",Datos_de_Tarjetas!L576)","v":""},{"$f":"IF(Datos_de_Tarjetas!M576=0,\"\",Datos_de_Tarjetas!M576)","v":""},{"$f":"IF(Datos_de_Tarjetas!N576=0,\"\",Datos_de_Tarjetas!N576)","v":""},{"$f":"IFERROR(VLOOKUP(Datos_de_Tarjetas!P576,Parámetros!$AM$3:$AN$90,2,FALSE),\"\")","v":""}]
[null,1069470000,{"$f":"IFERROR(VLOOKUP(Datos_de_Tarjetas!D577,Parámetros!$AD$12:$AE$17,2,FALSE),\"\")","v":""},{"$f":"IF(Datos_de_Tarjetas!G577=0,\"\",Datos_de_Tarjetas!G577)","v":""},{"$f":"IFERROR(VLOOKUP(Datos_de_Tarjetas!K577,Parámetros!$AJ$3:$AK$13,2,FALSE),\"\")","v":""},{"$f":"IFERROR(VLOOKUP(Datos_de_Tarjetas!J577,Parámetros!$AQ$3:$AR$57,2,FALSE),\"\")","v":""},null,{"$f":"IF(Datos_de_Tarjetas!L577=0,\"\",Datos_de_Tarjetas!L577)","v":""},{"$f":"IF(Datos_de_Tarjetas!M577=0,\"\",Datos_de_Tarjetas!M577)","v":""},{"$f":"IF(Datos_de_Tarjetas!N577=0,\"\",Datos_de_Tarjetas!N577)","v":""},{"$f":"IFERROR(VLOOKUP(Datos_de_Tarjetas!P577,Parámetros!$AM$3:$AN$90,2,FALSE),\"\")","v":""}]
[null,1069470000,{"$f":"IFERROR(VLOOKUP(Datos_de_Tarjetas!D578,Parámetros!$AD$12:$AE$17,2,FALSE),\"\")","v":""},{"$f":"IF(Datos_de_Tarjetas!G578=0,\"\",Datos_de_Tarjetas!G578)","v":""},{"$f":"IFERROR(VLOOKUP(Datos_de_Tarjetas!K578,Parámetros!$AJ$3:$AK$13,2,FALSE),\"\")","v":""},{"$f":"IFERROR(VLOOKUP(Datos_de_Tarjetas!J578,Parámetros!$AQ$3:$AR$57,2,FALSE),\"\")","v":""},null,{"$f":"IF(Datos_de_Tarjetas!L578=0,\"\",Datos_de_Tarjetas!L578)","v":""},{"$f":"IF(Datos_de_Tarjetas!M578=0,\"\",Datos_de_Tarjetas!M578)","v":""},{"$f":"IF(Datos_de_Tarjetas!N578=0,\"\",Datos_de_Tarjetas!N578)","v":""},{"$f":"IFERROR(VLOOKUP(Datos_de_Tarjetas!P578,Parámetros!$AM$3:$AN$90,2,FALSE),\"\")","v":""}]
[null,1069470000,{"$f":"IFERROR(VLOOKUP(Datos_de_Tarjetas!D579,Parámetros!$AD$12:$AE$17,2,FALSE),\"\")","v":""},{"$f":"IF(Datos_de_Tarjetas!G579=0,\"\",Datos_de_Tarjetas!G579)","v":""},{"$f":"IFERROR(VLOOKUP(Datos_de_Tarjetas!K579,Parámetros!$AJ$3:$AK$13,2,FALSE),\"\")","v":""},{"$f":"IFERROR(VLOOKUP(Datos_de_Tarjetas!J579,Parámetros!$AQ$3:$AR$57,2,FALSE),\"\")","v":""},null,{"$f":"IF(Datos_de_Tarjetas!L579=0,\"\",Datos_de_Tarjetas!L579)","v":""},{"$f":"IF(Datos_de_Tarjetas!M579=0,\"\",Datos_de_Tarjetas!M579)","v":""},{"$f":"IF(Datos_de_Tarjetas!N579=0,\"\",Datos_de_Tarjetas!N579)","v":""},{"$f":"IFERROR(VLOOKUP(Datos_de_Tarjetas!P579,Parámetros!$AM$3:$AN$90,2,FALSE),\"\")","v":""}]
[null,1069470000,{"$f":"IFERROR(VLOOKUP(Datos_de_Tarjetas!D580,Parámetros!$AD$12:$AE$17,2,FALSE),\"\")","v":""},{"$f":"IF(Datos_de_Tarjetas!G580=0,\"\",Datos_de_Tarjetas!G580)","v":""},{"$f":"IFERROR(VLOOKUP(Datos_de_Tarjetas!K580,Parámetros!$AJ$3:$AK$13,2,FALSE),\"\")","v":""},{"$f":"IFERROR(VLOOKUP(Datos_de_Tarjetas!J580,Parámetros!$AQ$3:$AR$57,2,FALSE),\"\")","v":""},null,{"$f":"IF(Datos_de_Tarjetas!L580=0,\"\",Datos_de_Tarjetas!L580)","v":""},{"$f":"IF(Datos_de_Tarjetas!M580=0,\"\",Datos_de_Tarjetas!M580)","v":""},{"$f":"IF(Datos_de_Tarjetas!N580=0,\"\",Datos_de_Tarjetas!N580)","v":""},{"$f":"IFERROR(VLOOKUP(Datos_de_Tarjetas!P580,Parámetros!$AM$3:$AN$90,2,FALSE),\"\")","v":""}]
[null,1069470000,{"$f":"IFERROR(VLOOKUP(Datos_de_Tarjetas!D581,Parámetros!$AD$12:$AE$17,2,FALSE),\"\")","v":""},{"$f":"IF(Datos_de_Tarjetas!G581=0,\"\",Datos_de_Tarjetas!G581)","v":""},{"$f":"IFERROR(VLOOKUP(Datos_de_Tarjetas!K581,Parámetros!$AJ$3:$AK$13,2,FALSE),\"\")","v":""},{"$f":"IFERROR(VLOOKUP(Datos_de_Tarjetas!J581,Parámetros!$AQ$3:$AR$57,2,FALSE),\"\")","v":""},null,{"$f":"IF(Datos_de_Tarjetas!L581=0,\"\",Datos_de_Tarjetas!L581)","v":""},{"$f":"IF(Datos_de_Tarjetas!M581=0,\"\",Datos_de_Tarjetas!M581)","v":""},{"$f":"IF(Datos_de_Tarjetas!N581=0,\"\",Datos_de_Tarjetas!N581)","v":""},{"$f":"IFERROR(VLOOKUP(Datos_de_Tarjetas!P581,Parámetros!$AM$3:$AN$90,2,FALSE),\"\")","v":""}]
[null,1069470000,{"$f":"IFERROR(VLOOKUP(Datos_de_Tarjetas!D582,Parámetros!$AD$12:$AE$17,2,FALSE),\"\")","v":""},{"$f":"IF(Datos_de_Tarjetas!G582=0,\"\",Datos_de_Tarjetas!G582)","v":""},{"$f":"IFERROR(VLOOKUP(Datos_de_Tarjetas!K582,Parámetros!$AJ$3:$AK$13,2,FALSE),\"\")","v":""},{"$f":"IFERROR(VLOOKUP(Datos_de_Tarjetas!J582,Parámetros!$AQ$3:$AR$57,2,FALSE),\"\")","v":""},null,{"$f":"IF(Datos_de_Tarjetas!L582=0,\"\",Datos_de_Tarjetas!L582)","v":""},{"$f":"IF(Datos_de_Tarjetas!M582=0,\"\",Datos_de_Tarjetas!M582)","v":""},{"$f":"IF(Datos_de_Tarjetas!N582=0,\"\",Datos_de_Tarjetas!N582)","v":""},{"$f":"IFERROR(VLOOKUP(Datos_de_Tarjetas!P582,Parámetros!$AM$3:$AN$90,2,FALSE),\"\")","v":""}]
[null,1069470000,{"$f":"IFERROR(VLOOKUP(Datos_de_Tarjetas!D583,Parámetros!$AD$12:$AE$17,2,FALSE),\"\")","v":""},{"$f":"IF(Datos_de_Tarjetas!G583=0,\"\",Datos_de_Tarjetas!G583)","v":""},{"$f":"IFERROR(VLOOKUP(Datos_de_Tarjetas!K583,Parámetros!$AJ$3:$AK$13,2,FALSE),\"\")","v":""},{"$f":"IFERROR(VLOOKUP(Datos_de_Tarjetas!J583,Parámetros!$AQ$3:$AR$57,2,FALSE),\"\")","v":""},null,{"$f":"IF(Datos_de_Tarjetas!L583=0,\"\",Datos_de_Tarjetas!L583)","v":""},{"$f":"IF(Datos_de_Tarjetas!M583=0,\"\",Datos_de_Tarjetas!M583)","v":""},{"$f":"IF(Datos_de_Tarjetas!N583=0,\"\",Datos_de_Tarjetas!N583)","v":""},{"$f":"IFERROR(VLOOKUP(Datos_de_Tarjetas!P583,Parámetros!$AM$3:$AN$90,2,FALSE),\"\")","v":""}]
[null,1069470000,{"$f":"IFERROR(VLOOKUP(Datos_de_Tarjetas!D584,Parámetros!$AD$12:$AE$17,2,FALSE),\"\")","v":""},{"$f":"IF(Datos_de_Tarjetas!G584=0,\"\",Datos_de_Tarjetas!G584)","v":""},{"$f":"IFERROR(VLOOKUP(Datos_de_Tarjetas!K584,Parámetros!$AJ$3:$AK$13,2,FALSE),\"\")","v":""},{"$f":"IFERROR(VLOOKUP(Datos_de_Tarjetas!J584,Parámetros!$AQ$3:$AR$57,2,FALSE),\"\")","v":""},null,{"$f":"IF(Datos_de_Tarjetas!L584=0,\"\",Datos_de_Tarjetas!L584)","v":""},{"$f":"IF(Datos_de_Tarjetas!M584=0,\"\",Datos_de_Tarjetas!M584)","v":""},{"$f":"IF(Datos_de_Tarjetas!N584=0,\"\",Datos_de_Tarjetas!N584)","v":""},{"$f":"IFERROR(VLOOKUP(Datos_de_Tarjetas!P584,Parámetros!$AM$3:$AN$90,2,FALSE),\"\")","v":""}]
[null,1069470000,{"$f":"IFERROR(VLOOKUP(Datos_de_Tarjetas!D585,Parámetros!$AD$12:$AE$17,2,FALSE),\"\")","v":""},{"$f":"IF(Datos_de_Tarjetas!G585=0,\"\",Datos_de_Tarjetas!G585)","v":""},{"$f":"IFERROR(VLOOKUP(Datos_de_Tarjetas!K585,Parámetros!$AJ$3:$AK$13,2,FALSE),\"\")","v":""},{"$f":"IFERROR(VLOOKUP(Datos_de_Tarjetas!J585,Parámetros!$AQ$3:$AR$57,2,FALSE),\"\")","v":""},null,{"$f":"IF(Datos_de_Tarjetas!L585=0,\"\",Datos_de_Tarjetas!L585)","v":""},{"$f":"IF(Datos_de_Tarjetas!M585=0,\"\",Datos_de_Tarjetas!M585)","v":""},{"$f":"IF(Datos_de_Tarjetas!N585=0,\"\",Datos_de_Tarjetas!N585)","v":""},{"$f":"IFERROR(VLOOKUP(Datos_de_Tarjetas!P585,Parámetros!$AM$3:$AN$90,2,FALSE),\"\")","v":""}]
[null,1069470000,{"$f":"IFERROR(VLOOKUP(Datos_de_Tarjetas!D586,Parámetros!$AD$12:$AE$17,2,FALSE),\"\")","v":""},{"$f":"IF(Datos_de_Tarjetas!G586=0,\"\",Datos_de_Tarjetas!G586)","v":""},{"$f":"IFERROR(VLOOKUP(Datos_de_Tarjetas!K586,Parámetros!$AJ$3:$AK$13,2,FALSE),\"\")","v":""},{"$f":"IFERROR(VLOOKUP(Datos_de_Tarjetas!J586,Parámetros!$AQ$3:$AR$57,2,FALSE),\"\")","v":""},null,{"$f":"IF(Datos_de_Tarjetas!L586=0,\"\",Datos_de_Tarjetas!L586)","v":""},{"$f":"IF(Datos_de_Tarjetas!M586=0,\"\",Datos_de_Tarjetas!M586)","v":""},{"$f":"IF(Datos_de_Tarjetas!N586=0,\"\",Datos_de_Tarjetas!N586)","v":""},{"$f":"IFERROR(VLOOKUP(Datos_de_Tarjetas!P586,Parámetros!$AM$3:$AN$90,2,FALSE),\"\")","v":""}]
[null,1069470000,{"$f":"IFERROR(VLOOKUP(Datos_de_Tarjetas!D587,Parámetros!$AD$12:$AE$17,2,FALSE),\"\")","v":""},{"$f":"IF(Datos_de_Tarjetas!G587=0,\"\",Datos_de_Tarjetas!G587)","v":""},{"$f":"IFERROR(VLOOKUP(Datos_de_Tarjetas!K587,Parámetros!$AJ$3:$AK$13,2,FALSE),\"\")","v":""},{"$f":"IFERROR(VLOOKUP(Datos_de_Tarjetas!J587,Parámetros!$AQ$3:$AR$57,2,FALSE),\"\")","v":""},null,{"$f":"IF(Datos_de_Tarjetas!L587=0,\"\",Datos_de_Tarjetas!L587)","v":""},{"$f":"IF(Datos_de_Tarjetas!M587=0,\"\",Datos_de_Tarjetas!M587)","v":""},{"$f":"IF(Datos_de_Tarjetas!N587=0,\"\",Datos_de_Tarjetas!N587)","v":""},{"$f":"IFERROR(VLOOKUP(Datos_de_Tarjetas!P587,Parámetros!$AM$3:$AN$90,2,FALSE),\"\")","v":""}]
[null,1069470000,{"$f":"IFERROR(VLOOKUP(Datos_de_Tarjetas!D588,Parámetros!$AD$12:$AE$17,2,FALSE),\"\")","v":""},{"$f":"IF(Datos_de_Tarjetas!G588=0,\"\",Datos_de_Tarjetas!G588)","v":""},{"$f":"IFERROR(VLOOKUP(Datos_de_Tarjetas!K588,Parámetros!$AJ$3:$AK$13,2,FALSE),\"\")","v":""},{"$f":"IFERROR(VLOOKUP(Datos_de_Tarjetas!J588,Parámetros!$AQ$3:$AR$57,2,FALSE),\"\")","v":""},null,{"$f":"IF(Datos_de_Tarjetas!L588=0,\"\",Datos_de_Tarjetas!L588)","v":""},{"$f":"IF(Datos_de_Tarjetas!M588=0,\"\",Datos_de_Tarjetas!M588)","v":""},{"$f":"IF(Datos_de_Tarjetas!N588=0,\"\",Datos_de_Tarjetas!N588)","v":""},{"$f":"IFERROR(VLOOKUP(Datos_de_Tarjetas!P588,Parámetros!$AM$3:$AN$90,2,FALSE),\"\")","v":""}]
[null,1069470000,{"$f":"IFERROR(VLOOKUP(Datos_de_Tarjetas!D589,Parámetros!$AD$12:$AE$17,2,FALSE),\"\")","v":""},{"$f":"IF(Datos_de_Tarjetas!G589=0,\"\",Datos_de_Tarjetas!G589)","v":""},{"$f":"IFERROR(VLOOKUP(Datos_de_Tarjetas!K589,Parámetros!$AJ$3:$AK$13,2,FALSE),\"\")","v":""},{"$f":"IFERROR(VLOOKUP(Datos_de_Tarjetas!J589,Parámetros!$AQ$3:$AR$57,2,FALSE),\"\")","v":""},null,{"$f":"IF(Datos_de_Tarjetas!L589=0,\"\",Datos_de_Tarjetas!L589)","v":""},{"$f":"IF(Datos_de_Tarjetas!M589=0,\"\",Datos_de_Tarjetas!M589)","v":""},{"$f":"IF(Datos_de_Tarjetas!N589=0,\"\",Datos_de_Tarjetas!N589)","v":""},{"$f":"IFERROR(VLOOKUP(Datos_de_Tarjetas!P589,Parámetros!$AM$3:$AN$90,2,FALSE),\"\")","v":""}]
[null,1069470000,{"$f":"IFERROR(VLOOKUP(Datos_de_Tarjetas!D590,Parámetros!$AD$12:$AE$17,2,FALSE),\"\")","v":""},{"$f":"IF(Datos_de_Tarjetas!G590=0,\"\",Datos_de_Tarjetas!G590)","v":""},{"$f":"IFERROR(VLOOKUP(Datos_de_Tarjetas!K590,Parámetros!$AJ$3:$AK$13,2,FALSE),\"\")","v":""},{"$f":"IFERROR(VLOOKUP(Datos_de_Tarjetas!J590,Parámetros!$AQ$3:$AR$57,2,FALSE),\"\")","v":""},null,{"$f":"IF(Datos_de_Tarjetas!L590=0,\"\",Datos_de_Tarjetas!L590)","v":""},{"$f":"IF(Datos_de_Tarjetas!M590=0,\"\",Datos_de_Tarjetas!M590)","v":""},{"$f":"IF(Datos_de_Tarjetas!N590=0,\"\",Datos_de_Tarjetas!N590)","v":""},{"$f":"IFERROR(VLOOKUP(Datos_de_Tarjetas!P590,Parámetros!$AM$3:$AN$90,2,FALSE),\"\")","v":""}]
[null,1069470000,{"$f":"IFERROR(VLOOKUP(Datos_de_Tarjetas!D591,Parámetros!$AD$12:$AE$17,2,FALSE),\"\")","v":""},{"$f":"IF(Datos_de_Tarjetas!G591=0,\"\",Datos_de_Tarjetas!G591)","v":""},{"$f":"IFERROR(VLOOKUP(Datos_de_Tarjetas!K591,Parámetros!$AJ$3:$AK$13,2,FALSE),\"\")","v":""},{"$f":"IFERROR(VLOOKUP(Datos_de_Tarjetas!J591,Parámetros!$AQ$3:$AR$57,2,FALSE),\"\")","v":""},null,{"$f":"IF(Datos_de_Tarjetas!L591=0,\"\",Datos_de_Tarjetas!L591)","v":""},{"$f":"IF(Datos_de_Tarjetas!M591=0,\"\",Datos_de_Tarjetas!M591)","v":""},{"$f":"IF(Datos_de_Tarjetas!N591=0,\"\",Datos_de_Tarjetas!N591)","v":""},{"$f":"IFERROR(VLOOKUP(Datos_de_Tarjetas!P591,Parámetros!$AM$3:$AN$90,2,FALSE),\"\")","v":""}]
[null,1069470000,{"$f":"IFERROR(VLOOKUP(Datos_de_Tarjetas!D592,Parámetros!$AD$12:$AE$17,2,FALSE),\"\")","v":""},{"$f":"IF(Datos_de_Tarjetas!G592=0,\"\",Datos_de_Tarjetas!G592)","v":""},{"$f":"IFERROR(VLOOKUP(Datos_de_Tarjetas!K592,Parámetros!$AJ$3:$AK$13,2,FALSE),\"\")","v":""},{"$f":"IFERROR(VLOOKUP(Datos_de_Tarjetas!J592,Parámetros!$AQ$3:$AR$57,2,FALSE),\"\")","v":""},null,{"$f":"IF(Datos_de_Tarjetas!L592=0,\"\",Datos_de_Tarjetas!L592)","v":""},{"$f":"IF(Datos_de_Tarjetas!M592=0,\"\",Datos_de_Tarjetas!M592)","v":""},{"$f":"IF(Datos_de_Tarjetas!N592=0,\"\",Datos_de_Tarjetas!N592)","v":""},{"$f":"IFERROR(VLOOKUP(Datos_de_Tarjetas!P592,Parámetros!$AM$3:$AN$90,2,FALSE),\"\")","v":""}]
[null,{"$f":"$C$2","v":1069470000},{"$f":"IFERROR(VLOOKUP(Datos_de_Tarjetas!D593,Parámetros!$AD$12:$AE$17,2,FALSE),\"\")","v":""},{"$f":"IF(Datos_de_Tarjetas!G593=0,\"\",Datos_de_Tarjetas!G593)","v":""},{"$f":"IFERROR(VLOOKUP(Datos_de_Tarjetas!K593,Parámetros!$AJ$3:$AK$13,2,FALSE),\"\")","v":""},{"$f":"IFERROR(VLOOKUP(Datos_de_Tarjetas!J593,Parámetros!$AQ$3:$AR$57,2,FALSE),\"\")","v":""},null,{"$f":"IF(Datos_de_Tarjetas!L593=0,\"\",Datos_de_Tarjetas!L593)","v":""},{"$f":"IF(Datos_de_Tarjetas!M593=0,\"\",Datos_de_Tarjetas!M593)","v":""},{"$f":"IF(Datos_de_Tarjetas!N593=0,\"\",Datos_de_Tarjetas!N593)","v":""},{"$f":"IFERROR(VLOOKUP(Datos_de_Tarjetas!P593,Parámetros!$AM$3:$AN$90,2,FALSE),\"\")","v":""}]
[null,1069470000,{"$f":"IFERROR(VLOOKUP(Datos_de_Tarjetas!D594,Parámetros!$AD$12:$AE$17,2,FALSE),\"\")","v":""},{"$f":"IF(Datos_de_Tarjetas!G594=0,\"\",Datos_de_Tarjetas!G594)","v":""},{"$f":"IFERROR(VLOOKUP(Datos_de_Tarjetas!K594,Parámetros!$AJ$3:$AK$13,2,FALSE),\"\")","v":""},{"$f":"IFERROR(VLOOKUP(Datos_de_Tarjetas!J594,Parámetros!$AQ$3:$AR$57,2,FALSE),\"\")","v":""},null,{"$f":"IF(Datos_de_Tarjetas!L594=0,\"\",Datos_de_Tarjetas!L594)","v":""},{"$f":"IF(Datos_de_Tarjetas!M594=0,\"\",Datos_de_Tarjetas!M594)","v":""},{"$f":"IF(Datos_de_Tarjetas!N594=0,\"\",Datos_de_Tarjetas!N594)","v":""},{"$f":"IFERROR(VLOOKUP(Datos_de_Tarjetas!P594,Parámetros!$AM$3:$AN$90,2,FALSE),\"\")","v":""}]
[null,1069470000,{"$f":"IFERROR(VLOOKUP(Datos_de_Tarjetas!D595,Parámetros!$AD$12:$AE$17,2,FALSE),\"\")","v":""},{"$f":"IF(Datos_de_Tarjetas!G595=0,\"\",Datos_de_Tarjetas!G595)","v":""},{"$f":"IFERROR(VLOOKUP(Datos_de_Tarjetas!K595,Parámetros!$AJ$3:$AK$13,2,FALSE),\"\")","v":""},{"$f":"IFERROR(VLOOKUP(Datos_de_Tarjetas!J595,Parámetros!$AQ$3:$AR$57,2,FALSE),\"\")","v":""},null,{"$f":"IF(Datos_de_Tarjetas!L595=0,\"\",Datos_de_Tarjetas!L595)","v":""},{"$f":"IF(Datos_de_Tarjetas!M595=0,\"\",Datos_de_Tarjetas!M595)","v":""},{"$f":"IF(Datos_de_Tarjetas!N595=0,\"\",Datos_de_Tarjetas!N595)","v":""},{"$f":"IFERROR(VLOOKUP(Datos_de_Tarjetas!P595,Parámetros!$AM$3:$AN$90,2,FALSE),\"\")","v":""}]
[null,1069470000,{"$f":"IFERROR(VLOOKUP(Datos_de_Tarjetas!D596,Parámetros!$AD$12:$AE$17,2,FALSE),\"\")","v":""},{"$f":"IF(Datos_de_Tarjetas!G596=0,\"\",Datos_de_Tarjetas!G596)","v":""},{"$f":"IFERROR(VLOOKUP(Datos_de_Tarjetas!K596,Parámetros!$AJ$3:$AK$13,2,FALSE),\"\")","v":""},{"$f":"IFERROR(VLOOKUP(Datos_de_Tarjetas!J596,Parámetros!$AQ$3:$AR$57,2,FALSE),\"\")","v":""},null,{"$f":"IF(Datos_de_Tarjetas!L596=0,\"\",Datos_de_Tarjetas!L596)","v":""},{"$f":"IF(Datos_de_Tarjetas!M596=0,\"\",Datos_de_Tarjetas!M596)","v":""},{"$f":"IF(Datos_de_Tarjetas!N596=0,\"\",Datos_de_Tarjetas!N596)","v":""},{"$f":"IFERROR(VLOOKUP(Datos_de_Tarjetas!P596,Parámetros!$AM$3:$AN$90,2,FALSE),\"\")","v":""}]
[null,1069470000,{"$f":"IFERROR(VLOOKUP(Datos_de_Tarjetas!D597,Parámetros!$AD$12:$AE$17,2,FALSE),\"\")","v":""},{"$f":"IF(Datos_de_Tarjetas!G597=0,\"\",Datos_de_Tarjetas!G597)","v":""},{"$f":"IFERROR(VLOOKUP(Datos_de_Tarjetas!K597,Parámetros!$AJ$3:$AK$13,2,FALSE),\"\")","v":""},{"$f":"IFERROR(VLOOKUP(Datos_de_Tarjetas!J597,Parámetros!$AQ$3:$AR$57,2,FALSE),\"\")","v":""},null,{"$f":"IF(Datos_de_Tarjetas!L597=0,\"\",Datos_de_Tarjetas!L597)","v":""},{"$f":"IF(Datos_de_Tarjetas!M597=0,\"\",Datos_de_Tarjetas!M597)","v":""},{"$f":"IF(Datos_de_Tarjetas!N597=0,\"\",Datos_de_Tarjetas!N597)","v":""},{"$f":"IFERROR(VLOOKUP(Datos_de_Tarjetas!P597,Parámetros!$AM$3:$AN$90,2,FALSE),\"\")","v":""}]
[null,1069470000,{"$f":"IFERROR(VLOOKUP(Datos_de_Tarjetas!D598,Parámetros!$AD$12:$AE$17,2,FALSE),\"\")","v":""},{"$f":"IF(Datos_de_Tarjetas!G598=0,\"\",Datos_de_Tarjetas!G598)","v":""},{"$f":"IFERROR(VLOOKUP(Datos_de_Tarjetas!K598,Parámetros!$AJ$3:$AK$13,2,FALSE),\"\")","v":""},{"$f":"IFERROR(VLOOKUP(Datos_de_Tarjetas!J598,Parámetros!$AQ$3:$AR$57,2,FALSE),\"\")","v":""},null,{"$f":"IF(Datos_de_Tarjetas!L598=0,\"\",Datos_de_Tarjetas!L598)","v":""},{"$f":"IF(Datos_de_Tarjetas!M598=0,\"\",Datos_de_Tarjetas!M598)","v":""},{"$f":"IF(Datos_de_Tarjetas!N598=0,\"\",Datos_de_Tarjetas!N598)","v":""},{"$f":"IFERROR(VLOOKUP(Datos_de_Tarjetas!P598,Parámetros!$AM$3:$AN$90,2,FALSE),\"\")","v":""}]
[null,1069470000,{"$f":"IFERROR(VLOOKUP(Datos_de_Tarjetas!D599,Parámetros!$AD$12:$AE$17,2,FALSE),\"\")","v":""},{"$f":"IF(Datos_de_Tarjetas!G599=0,\"\",Datos_de_Tarjetas!G599)","v":""},{"$f":"IFERROR(VLOOKUP(Datos_de_Tarjetas!K599,Parámetros!$AJ$3:$AK$13,2,FALSE),\"\")","v":""},{"$f":"IFERROR(VLOOKUP(Datos_de_Tarjetas!J599,Parámetros!$AQ$3:$AR$57,2,FALSE),\"\")","v":""},null,{"$f":"IF(Datos_de_Tarjetas!L599=0,\"\",Datos_de_Tarjetas!L599)","v":""},{"$f":"IF(Datos_de_Tarjetas!M599=0,\"\",Datos_de_Tarjetas!M599)","v":""},{"$f":"IF(Datos_de_Tarjetas!N599=0,\"\",Datos_de_Tarjetas!N599)","v":""},{"$f":"IFERROR(VLOOKUP(Datos_de_Tarjetas!P599,Parámetros!$AM$3:$AN$90,2,FALSE),\"\")","v":""}]
[null,1069470000,{"$f":"IFERROR(VLOOKUP(Datos_de_Tarjetas!D600,Parámetros!$AD$12:$AE$17,2,FALSE),\"\")","v":""},{"$f":"IF(Datos_de_Tarjetas!G600=0,\"\",Datos_de_Tarjetas!G600)","v":""},{"$f":"IFERROR(VLOOKUP(Datos_de_Tarjetas!K600,Parámetros!$AJ$3:$AK$13,2,FALSE),\"\")","v":""},{"$f":"IFERROR(VLOOKUP(Datos_de_Tarjetas!J600,Parámetros!$AQ$3:$AR$57,2,FALSE),\"\")","v":""},null,{"$f":"IF(Datos_de_Tarjetas!L600=0,\"\",Datos_de_Tarjetas!L600)","v":""},{"$f":"IF(Datos_de_Tarjetas!M600=0,\"\",Datos_de_Tarjetas!M600)","v":""},{"$f":"IF(Datos_de_Tarjetas!N600=0,\"\",Datos_de_Tarjetas!N600)","v":""},{"$f":"IFERROR(VLOOKUP(Datos_de_Tarjetas!P600,Parámetros!$AM$3:$AN$90,2,FALSE),\"\")","v":""}]
[null,1069470000,{"$f":"IFERROR(VLOOKUP(Datos_de_Tarjetas!D601,Parámetros!$AD$12:$AE$17,2,FALSE),\"\")","v":""},{"$f":"IF(Datos_de_Tarjetas!G601=0,\"\",Datos_de_Tarjetas!G601)","v":""},{"$f":"IFERROR(VLOOKUP(Datos_de_Tarjetas!K601,Parámetros!$AJ$3:$AK$13,2,FALSE),\"\")","v":""},{"$f":"IFERROR(VLOOKUP(Datos_de_Tarjetas!J601,Parámetros!$AQ$3:$AR$57,2,FALSE),\"\")","v":""},null,{"$f":"IF(Datos_de_Tarjetas!L601=0,\"\",Datos_de_Tarjetas!L601)","v":""},{"$f":"IF(Datos_de_Tarjetas!M601=0,\"\",Datos_de_Tarjetas!M601)","v":""},{"$f":"IF(Datos_de_Tarjetas!N601=0,\"\",Datos_de_Tarjetas!N601)","v":""},{"$f":"IFERROR(VLOOKUP(Datos_de_Tarjetas!P601,Parámetros!$AM$3:$AN$90,2,FALSE),\"\")","v":""}]
[null,1069470000,{"$f":"IFERROR(VLOOKUP(Datos_de_Tarjetas!D602,Parámetros!$AD$12:$AE$17,2,FALSE),\"\")","v":""},{"$f":"IF(Datos_de_Tarjetas!G602=0,\"\",Datos_de_Tarjetas!G602)","v":""},{"$f":"IFERROR(VLOOKUP(Datos_de_Tarjetas!K602,Parámetros!$AJ$3:$AK$13,2,FALSE),\"\")","v":""},{"$f":"IFERROR(VLOOKUP(Datos_de_Tarjetas!J602,Parámetros!$AQ$3:$AR$57,2,FALSE),\"\")","v":""},null,{"$f":"IF(Datos_de_Tarjetas!L602=0,\"\",Datos_de_Tarjetas!L602)","v":""},{"$f":"IF(Datos_de_Tarjetas!M602=0,\"\",Datos_de_Tarjetas!M602)","v":""},{"$f":"IF(Datos_de_Tarjetas!N602=0,\"\",Datos_de_Tarjetas!N602)","v":""},{"$f":"IFERROR(VLOOKUP(Datos_de_Tarjetas!P602,Parámetros!$AM$3:$AN$90,2,FALSE),\"\")","v":""}]
[null,1069470000,{"$f":"IFERROR(VLOOKUP(Datos_de_Tarjetas!D603,Parámetros!$AD$12:$AE$17,2,FALSE),\"\")","v":""},{"$f":"IF(Datos_de_Tarjetas!G603=0,\"\",Datos_de_Tarjetas!G603)","v":""},{"$f":"IFERROR(VLOOKUP(Datos_de_Tarjetas!K603,Parámetros!$AJ$3:$AK$13,2,FALSE),\"\")","v":""},{"$f":"IFERROR(VLOOKUP(Datos_de_Tarjetas!J603,Parámetros!$AQ$3:$AR$57,2,FALSE),\"\")","v":""},null,{"$f":"IF(Datos_de_Tarjetas!L603=0,\"\",Datos_de_Tarjetas!L603)","v":""},{"$f":"IF(Datos_de_Tarjetas!M603=0,\"\",Datos_de_Tarjetas!M603)","v":""},{"$f":"IF(Datos_de_Tarjetas!N603=0,\"\",Datos_de_Tarjetas!N603)","v":""},{"$f":"IFERROR(VLOOKUP(Datos_de_Tarjetas!P603,Parámetros!$AM$3:$AN$90,2,FALSE),\"\")","v":""}]
[null,1069470000,{"$f":"IFERROR(VLOOKUP(Datos_de_Tarjetas!D604,Parámetros!$AD$12:$AE$17,2,FALSE),\"\")","v":""},{"$f":"IF(Datos_de_Tarjetas!G604=0,\"\",Datos_de_Tarjetas!G604)","v":""},{"$f":"IFERROR(VLOOKUP(Datos_de_Tarjetas!K604,Parámetros!$AJ$3:$AK$13,2,FALSE),\"\")","v":""},{"$f":"IFERROR(VLOOKUP(Datos_de_Tarjetas!J604,Parámetros!$AQ$3:$AR$57,2,FALSE),\"\")","v":""},null,{"$f":"IF(Datos_de_Tarjetas!L604=0,\"\",Datos_de_Tarjetas!L604)","v":""},{"$f":"IF(Datos_de_Tarjetas!M604=0,\"\",Datos_de_Tarjetas!M604)","v":""},{"$f":"IF(Datos_de_Tarjetas!N604=0,\"\",Datos_de_Tarjetas!N604)","v":""},{"$f":"IFERROR(VLOOKUP(Datos_de_Tarjetas!P604,Parámetros!$AM$3:$AN$90,2,FALSE),\"\")","v":""}]
[null,1069470000,{"$f":"IFERROR(VLOOKUP(Datos_de_Tarjetas!D605,Parámetros!$AD$12:$AE$17,2,FALSE),\"\")","v":""},{"$f":"IF(Datos_de_Tarjetas!G605=0,\"\",Datos_de_Tarjetas!G605)","v":""},{"$f":"IFERROR(VLOOKUP(Datos_de_Tarjetas!K605,Parámetros!$AJ$3:$AK$13,2,FALSE),\"\")","v":""},{"$f":"IFERROR(VLOOKUP(Datos_de_Tarjetas!J605,Parámetros!$AQ$3:$AR$57,2,FALSE),\"\")","v":""},null,{"$f":"IF(Datos_de_Tarjetas!L605=0,\"\",Datos_de_Tarjetas!L605)","v":""},{"$f":"IF(Datos_de_Tarjetas!M605=0,\"\",Datos_de_Tarjetas!M605)","v":""},{"$f":"IF(Datos_de_Tarjetas!N605=0,\"\",Datos_de_Tarjetas!N605)","v":""},{"$f":"IFERROR(VLOOKUP(Datos_de_Tarjetas!P605,Parámetros!$AM$3:$AN$90,2,FALSE),\"\")","v":""}]
[null,1069470000,{"$f":"IFERROR(VLOOKUP(Datos_de_Tarjetas!D606,Parámetros!$AD$12:$AE$17,2,FALSE),\"\")","v":""},{"$f":"IF(Datos_de_Tarjetas!G606=0,\"\",Datos_de_Tarjetas!G606)","v":""},{"$f":"IFERROR(VLOOKUP(Datos_de_Tarjetas!K606,Parámetros!$AJ$3:$AK$13,2,FALSE),\"\")","v":""},{"$f":"IFERROR(VLOOKUP(Datos_de_Tarjetas!J606,Parámetros!$AQ$3:$AR$57,2,FALSE),\"\")","v":""},null,{"$f":"IF(Datos_de_Tarjetas!L606=0,\"\",Datos_de_Tarjetas!L606)","v":""},{"$f":"IF(Datos_de_Tarjetas!M606=0,\"\",Datos_de_Tarjetas!M606)","v":""},{"$f":"IF(Datos_de_Tarjetas!N606=0,\"\",Datos_de_Tarjetas!N606)","v":""},{"$f":"IFERROR(VLOOKUP(Datos_de_Tarjetas!P606,Parámetros!$AM$3:$AN$90,2,FALSE),\"\")","v":""}]
[null,1069470000,{"$f":"IFERROR(VLOOKUP(Datos_de_Tarjetas!D607,Parámetros!$AD$12:$AE$17,2,FALSE),\"\")","v":""},{"$f":"IF(Datos_de_Tarjetas!G607=0,\"\",Datos_de_Tarjetas!G607)","v":""},{"$f":"IFERROR(VLOOKUP(Datos_de_Tarjetas!K607,Parámetros!$AJ$3:$AK$13,2,FALSE),\"\")","v":""},{"$f":"IFERROR(VLOOKUP(Datos_de_Tarjetas!J607,Parámetros!$AQ$3:$AR$57,2,FALSE),\"\")","v":""},null,{"$f":"IF(Datos_de_Tarjetas!L607=0,\"\",Datos_de_Tarjetas!L607)","v":""},{"$f":"IF(Datos_de_Tarjetas!M607=0,\"\",Datos_de_Tarjetas!M607)","v":""},{"$f":"IF(Datos_de_Tarjetas!N607=0,\"\",Datos_de_Tarjetas!N607)","v":""},{"$f":"IFERROR(VLOOKUP(Datos_de_Tarjetas!P607,Parámetros!$AM$3:$AN$90,2,FALSE),\"\")","v":""}]
[null,1069470000,{"$f":"IFERROR(VLOOKUP(Datos_de_Tarjetas!D608,Parámetros!$AD$12:$AE$17,2,FALSE),\"\")","v":""},{"$f":"IF(Datos_de_Tarjetas!G608=0,\"\",Datos_de_Tarjetas!G608)","v":""},{"$f":"IFERROR(VLOOKUP(Datos_de_Tarjetas!K608,Parámetros!$AJ$3:$AK$13,2,FALSE),\"\")","v":""},{"$f":"IFERROR(VLOOKUP(Datos_de_Tarjetas!J608,Parámetros!$AQ$3:$AR$57,2,FALSE),\"\")","v":""},null,{"$f":"IF(Datos_de_Tarjetas!L608=0,\"\",Datos_de_Tarjetas!L608)","v":""},{"$f":"IF(Datos_de_Tarjetas!M608=0,\"\",Datos_de_Tarjetas!M608)","v":""},{"$f":"IF(Datos_de_Tarjetas!N608=0,\"\",Datos_de_Tarjetas!N608)","v":""},{"$f":"IFERROR(VLOOKUP(Datos_de_Tarjetas!P608,Parámetros!$AM$3:$AN$90,2,FALSE),\"\")","v":""}]
[null,1069470000,{"$f":"IFERROR(VLOOKUP(Datos_de_Tarjetas!D609,Parámetros!$AD$12:$AE$17,2,FALSE),\"\")","v":""},{"$f":"IF(Datos_de_Tarjetas!G609=0,\"\",Datos_de_Tarjetas!G609)","v":""},{"$f":"IFERROR(VLOOKUP(Datos_de_Tarjetas!K609,Parámetros!$AJ$3:$AK$13,2,FALSE),\"\")","v":""},{"$f":"IFERROR(VLOOKUP(Datos_de_Tarjetas!J609,Parámetros!$AQ$3:$AR$57,2,FALSE),\"\")","v":""},null,{"$f":"IF(Datos_de_Tarjetas!L609=0,\"\",Datos_de_Tarjetas!L609)","v":""},{"$f":"IF(Datos_de_Tarjetas!M609=0,\"\",Datos_de_Tarjetas!M609)","v":""},{"$f":"IF(Datos_de_Tarjetas!N609=0,\"\",Datos_de_Tarjetas!N609)","v":""},{"$f":"IFERROR(VLOOKUP(Datos_de_Tarjetas!P609,Parámetros!$AM$3:$AN$90,2,FALSE),\"\")","v":""}]
[null,1069470000,{"$f":"IFERROR(VLOOKUP(Datos_de_Tarjetas!D610,Parámetros!$AD$12:$AE$17,2,FALSE),\"\")","v":""},{"$f":"IF(Datos_de_Tarjetas!G610=0,\"\",Datos_de_Tarjetas!G610)","v":""},{"$f":"IFERROR(VLOOKUP(Datos_de_Tarjetas!K610,Parámetros!$AJ$3:$AK$13,2,FALSE),\"\")","v":""},{"$f":"IFERROR(VLOOKUP(Datos_de_Tarjetas!J610,Parámetros!$AQ$3:$AR$57,2,FALSE),\"\")","v":""},null,{"$f":"IF(Datos_de_Tarjetas!L610=0,\"\",Datos_de_Tarjetas!L610)","v":""},{"$f":"IF(Datos_de_Tarjetas!M610=0,\"\",Datos_de_Tarjetas!M610)","v":""},{"$f":"IF(Datos_de_Tarjetas!N610=0,\"\",Datos_de_Tarjetas!N610)","v":""},{"$f":"IFERROR(VLOOKUP(Datos_de_Tarjetas!P610,Parámetros!$AM$3:$AN$90,2,FALSE),\"\")","v":""}]
[null,1069470000,{"$f":"IFERROR(VLOOKUP(Datos_de_Tarjetas!D611,Parámetros!$AD$12:$AE$17,2,FALSE),\"\")","v":""},{"$f":"IF(Datos_de_Tarjetas!G611=0,\"\",Datos_de_Tarjetas!G611)","v":""},{"$f":"IFERROR(VLOOKUP(Datos_de_Tarjetas!K611,Parámetros!$AJ$3:$AK$13,2,FALSE),\"\")","v":""},{"$f":"IFERROR(VLOOKUP(Datos_de_Tarjetas!J611,Parámetros!$AQ$3:$AR$57,2,FALSE),\"\")","v":""},null,{"$f":"IF(Datos_de_Tarjetas!L611=0,\"\",Datos_de_Tarjetas!L611)","v":""},{"$f":"IF(Datos_de_Tarjetas!M611=0,\"\",Datos_de_Tarjetas!M611)","v":""},{"$f":"IF(Datos_de_Tarjetas!N611=0,\"\",Datos_de_Tarjetas!N611)","v":""},{"$f":"IFERROR(VLOOKUP(Datos_de_Tarjetas!P611,Parámetros!$AM$3:$AN$90,2,FALSE),\"\")","v":""}]
[null,1069470000,{"$f":"IFERROR(VLOOKUP(Datos_de_Tarjetas!D612,Parámetros!$AD$12:$AE$17,2,FALSE),\"\")","v":""},{"$f":"IF(Datos_de_Tarjetas!G612=0,\"\",Datos_de_Tarjetas!G612)","v":""},{"$f":"IFERROR(VLOOKUP(Datos_de_Tarjetas!K612,Parámetros!$AJ$3:$AK$13,2,FALSE),\"\")","v":""},{"$f":"IFERROR(VLOOKUP(Datos_de_Tarjetas!J612,Parámetros!$AQ$3:$AR$57,2,FALSE),\"\")","v":""},null,{"$f":"IF(Datos_de_Tarjetas!L612=0,\"\",Datos_de_Tarjetas!L612)","v":""},{"$f":"IF(Datos_de_Tarjetas!M612=0,\"\",Datos_de_Tarjetas!M612)","v":""},{"$f":"IF(Datos_de_Tarjetas!N612=0,\"\",Datos_de_Tarjetas!N612)","v":""},{"$f":"IFERROR(VLOOKUP(Datos_de_Tarjetas!P612,Parámetros!$AM$3:$AN$90,2,FALSE),\"\")","v":""}]
[null,1069470000,{"$f":"IFERROR(VLOOKUP(Datos_de_Tarjetas!D613,Parámetros!$AD$12:$AE$17,2,FALSE),\"\")","v":""},{"$f":"IF(Datos_de_Tarjetas!G613=0,\"\",Datos_de_Tarjetas!G613)","v":""},{"$f":"IFERROR(VLOOKUP(Datos_de_Tarjetas!K613,Parámetros!$AJ$3:$AK$13,2,FALSE),\"\")","v":""},{"$f":"IFERROR(VLOOKUP(Datos_de_Tarjetas!J613,Parámetros!$AQ$3:$AR$57,2,FALSE),\"\")","v":""},null,{"$f":"IF(Datos_de_Tarjetas!L613=0,\"\",Datos_de_Tarjetas!L613)","v":""},{"$f":"IF(Datos_de_Tarjetas!M613=0,\"\",Datos_de_Tarjetas!M613)","v":""},{"$f":"IF(Datos_de_Tarjetas!N613=0,\"\",Datos_de_Tarjetas!N613)","v":""},{"$f":"IFERROR(VLOOKUP(Datos_de_Tarjetas!P613,Parámetros!$AM$3:$AN$90,2,FALSE),\"\")","v":""}]
[null,1069470000,{"$f":"IFERROR(VLOOKUP(Datos_de_Tarjetas!D614,Parámetros!$AD$12:$AE$17,2,FALSE),\"\")","v":""},{"$f":"IF(Datos_de_Tarjetas!G614=0,\"\",Datos_de_Tarjetas!G614)","v":""},{"$f":"IFERROR(VLOOKUP(Datos_de_Tarjetas!K614,Parámetros!$AJ$3:$AK$13,2,FALSE),\"\")","v":""},{"$f":"IFERROR(VLOOKUP(Datos_de_Tarjetas!J614,Parámetros!$AQ$3:$AR$57,2,FALSE),\"\")","v":""},null,{"$f":"IF(Datos_de_Tarjetas!L614=0,\"\",Datos_de_Tarjetas!L614)","v":""},{"$f":"IF(Datos_de_Tarjetas!M614=0,\"\",Datos_de_Tarjetas!M614)","v":""},{"$f":"IF(Datos_de_Tarjetas!N614=0,\"\",Datos_de_Tarjetas!N614)","v":""},{"$f":"IFERROR(VLOOKUP(Datos_de_Tarjetas!P614,Parámetros!$AM$3:$AN$90,2,FALSE),\"\")","v":""}]
[null,1069470000,{"$f":"IFERROR(VLOOKUP(Datos_de_Tarjetas!D615,Parámetros!$AD$12:$AE$17,2,FALSE),\"\")","v":""},{"$f":"IF(Datos_de_Tarjetas!G615=0,\"\",Datos_de_Tarjetas!G615)","v":""},{"$f":"IFERROR(VLOOKUP(Datos_de_Tarjetas!K615,Parámetros!$AJ$3:$AK$13,2,FALSE),\"\")","v":""},{"$f":"IFERROR(VLOOKUP(Datos_de_Tarjetas!J615,Parámetros!$AQ$3:$AR$57,2,FALSE),\"\")","v":""},null,{"$f":"IF(Datos_de_Tarjetas!L615=0,\"\",Datos_de_Tarjetas!L615)","v":""},{"$f":"IF(Datos_de_Tarjetas!M615=0,\"\",Datos_de_Tarjetas!M615)","v":""},{"$f":"IF(Datos_de_Tarjetas!N615=0,\"\",Datos_de_Tarjetas!N615)","v":""},{"$f":"IFERROR(VLOOKUP(Datos_de_Tarjetas!P615,Parámetros!$AM$3:$AN$90,2,FALSE),\"\")","v":""}]
[null,1069470000,{"$f":"IFERROR(VLOOKUP(Datos_de_Tarjetas!D616,Parámetros!$AD$12:$AE$17,2,FALSE),\"\")","v":""},{"$f":"IF(Datos_de_Tarjetas!G616=0,\"\",Datos_de_Tarjetas!G616)","v":""},{"$f":"IFERROR(VLOOKUP(Datos_de_Tarjetas!K616,Parámetros!$AJ$3:$AK$13,2,FALSE),\"\")","v":""},{"$f":"IFERROR(VLOOKUP(Datos_de_Tarjetas!J616,Parámetros!$AQ$3:$AR$57,2,FALSE),\"\")","v":""},null,{"$f":"IF(Datos_de_Tarjetas!L616=0,\"\",Datos_de_Tarjetas!L616)","v":""},{"$f":"IF(Datos_de_Tarjetas!M616=0,\"\",Datos_de_Tarjetas!M616)","v":""},{"$f":"IF(Datos_de_Tarjetas!N616=0,\"\",Datos_de_Tarjetas!N616)","v":""},{"$f":"IFERROR(VLOOKUP(Datos_de_Tarjetas!P616,Parámetros!$AM$3:$AN$90,2,FALSE),\"\")","v":""}]
[null,1069470000,{"$f":"IFERROR(VLOOKUP(Datos_de_Tarjetas!D617,Parámetros!$AD$12:$AE$17,2,FALSE),\"\")","v":""},{"$f":"IF(Datos_de_Tarjetas!G617=0,\"\",Datos_de_Tarjetas!G617)","v":""},{"$f":"IFERROR(VLOOKUP(Datos_de_Tarjetas!K617,Parámetros!$AJ$3:$AK$13,2,FALSE),\"\")","v":""},{"$f":"IFERROR(VLOOKUP(Datos_de_Tarjetas!J617,Parámetros!$AQ$3:$AR$57,2,FALSE),\"\")","v":""},null,{"$f":"IF(Datos_de_Tarjetas!L617=0,\"\",Datos_de_Tarjetas!L617)","v":""},{"$f":"IF(Datos_de_Tarjetas!M617=0,\"\",Datos_de_Tarjetas!M617)","v":""},{"$f":"IF(Datos_de_Tarjetas!N617=0,\"\",Datos_de_Tarjetas!N617)","v":""},{"$f":"IFERROR(VLOOKUP(Datos_de_Tarjetas!P617,Parámetros!$AM$3:$AN$90,2,FALSE),\"\")","v":""}]
[null,1069470000,{"$f":"IFERROR(VLOOKUP(Datos_de_Tarjetas!D618,Parámetros!$AD$12:$AE$17,2,FALSE),\"\")","v":""},{"$f":"IF(Datos_de_Tarjetas!G618=0,\"\",Datos_de_Tarjetas!G618)","v":""},{"$f":"IFERROR(VLOOKUP(Datos_de_Tarjetas!K618,Parámetros!$AJ$3:$AK$13,2,FALSE),\"\")","v":""},{"$f":"IFERROR(VLOOKUP(Datos_de_Tarjetas!J618,Parámetros!$AQ$3:$AR$57,2,FALSE),\"\")","v":""},null,{"$f":"IF(Datos_de_Tarjetas!L618=0,\"\",Datos_de_Tarjetas!L618)","v":""},{"$f":"IF(Datos_de_Tarjetas!M618=0,\"\",Datos_de_Tarjetas!M618)","v":""},{"$f":"IF(Datos_de_Tarjetas!N618=0,\"\",Datos_de_Tarjetas!N618)","v":""},{"$f":"IFERROR(VLOOKUP(Datos_de_Tarjetas!P618,Parámetros!$AM$3:$AN$90,2,FALSE),\"\")","v":""}]
[null,1069470000,{"$f":"IFERROR(VLOOKUP(Datos_de_Tarjetas!D619,Parámetros!$AD$12:$AE$17,2,FALSE),\"\")","v":""},{"$f":"IF(Datos_de_Tarjetas!G619=0,\"\",Datos_de_Tarjetas!G619)","v":""},{"$f":"IFERROR(VLOOKUP(Datos_de_Tarjetas!K619,Parámetros!$AJ$3:$AK$13,2,FALSE),\"\")","v":""},{"$f":"IFERROR(VLOOKUP(Datos_de_Tarjetas!J619,Parámetros!$AQ$3:$AR$57,2,FALSE),\"\")","v":""},null,{"$f":"IF(Datos_de_Tarjetas!L619=0,\"\",Datos_de_Tarjetas!L619)","v":""},{"$f":"IF(Datos_de_Tarjetas!M619=0,\"\",Datos_de_Tarjetas!M619)","v":""},{"$f":"IF(Datos_de_Tarjetas!N619=0,\"\",Datos_de_Tarjetas!N619)","v":""},{"$f":"IFERROR(VLOOKUP(Datos_de_Tarjetas!P619,Parámetros!$AM$3:$AN$90,2,FALSE),\"\")","v":""}]
[null,1069470000,{"$f":"IFERROR(VLOOKUP(Datos_de_Tarjetas!D620,Parámetros!$AD$12:$AE$17,2,FALSE),\"\")","v":""},{"$f":"IF(Datos_de_Tarjetas!G620=0,\"\",Datos_de_Tarjetas!G620)","v":""},{"$f":"IFERROR(VLOOKUP(Datos_de_Tarjetas!K620,Parámetros!$AJ$3:$AK$13,2,FALSE),\"\")","v":""},{"$f":"IFERROR(VLOOKUP(Datos_de_Tarjetas!J620,Parámetros!$AQ$3:$AR$57,2,FALSE),\"\")","v":""},null,{"$f":"IF(Datos_de_Tarjetas!L620=0,\"\",Datos_de_Tarjetas!L620)","v":""},{"$f":"IF(Datos_de_Tarjetas!M620=0,\"\",Datos_de_Tarjetas!M620)","v":""},{"$f":"IF(Datos_de_Tarjetas!N620=0,\"\",Datos_de_Tarjetas!N620)","v":""},{"$f":"IFERROR(VLOOKUP(Datos_de_Tarjetas!P620,Parámetros!$AM$3:$AN$90,2,FALSE),\"\")","v":""}]
[null,1069470000,{"$f":"IFERROR(VLOOKUP(Datos_de_Tarjetas!D621,Parámetros!$AD$12:$AE$17,2,FALSE),\"\")","v":""},{"$f":"IF(Datos_de_Tarjetas!G621=0,\"\",Datos_de_Tarjetas!G621)","v":""},{"$f":"IFERROR(VLOOKUP(Datos_de_Tarjetas!K621,Parámetros!$AJ$3:$AK$13,2,FALSE),\"\")","v":""},{"$f":"IFERROR(VLOOKUP(Datos_de_Tarjetas!J621,Parámetros!$AQ$3:$AR$57,2,FALSE),\"\")","v":""},null,{"$f":"IF(Datos_de_Tarjetas!L621=0,\"\",Datos_de_Tarjetas!L621)","v":""},{"$f":"IF(Datos_de_Tarjetas!M621=0,\"\",Datos_de_Tarjetas!M621)","v":""},{"$f":"IF(Datos_de_Tarjetas!N621=0,\"\",Datos_de_Tarjetas!N621)","v":""},{"$f":"IFERROR(VLOOKUP(Datos_de_Tarjetas!P621,Parámetros!$AM$3:$AN$90,2,FALSE),\"\")","v":""}]
[null,1069470000,{"$f":"IFERROR(VLOOKUP(Datos_de_Tarjetas!D622,Parámetros!$AD$12:$AE$17,2,FALSE),\"\")","v":""},{"$f":"IF(Datos_de_Tarjetas!G622=0,\"\",Datos_de_Tarjetas!G622)","v":""},{"$f":"IFERROR(VLOOKUP(Datos_de_Tarjetas!K622,Parámetros!$AJ$3:$AK$13,2,FALSE),\"\")","v":""},{"$f":"IFERROR(VLOOKUP(Datos_de_Tarjetas!J622,Parámetros!$AQ$3:$AR$57,2,FALSE),\"\")","v":""},null,{"$f":"IF(Datos_de_Tarjetas!L622=0,\"\",Datos_de_Tarjetas!L622)","v":""},{"$f":"IF(Datos_de_Tarjetas!M622=0,\"\",Datos_de_Tarjetas!M622)","v":""},{"$f":"IF(Datos_de_Tarjetas!N622=0,\"\",Datos_de_Tarjetas!N622)","v":""},{"$f":"IFERROR(VLOOKUP(Datos_de_Tarjetas!P622,Parámetros!$AM$3:$AN$90,2,FALSE),\"\")","v":""}]
[null,1069470000,{"$f":"IFERROR(VLOOKUP(Datos_de_Tarjetas!D623,Parámetros!$AD$12:$AE$17,2,FALSE),\"\")","v":""},{"$f":"IF(Datos_de_Tarjetas!G623=0,\"\",Datos_de_Tarjetas!G623)","v":""},{"$f":"IFERROR(VLOOKUP(Datos_de_Tarjetas!K623,Parámetros!$AJ$3:$AK$13,2,FALSE),\"\")","v":""},{"$f":"IFERROR(VLOOKUP(Datos_de_Tarjetas!J623,Parámetros!$AQ$3:$AR$57,2,FALSE),\"\")","v":""},null,{"$f":"IF(Datos_de_Tarjetas!L623=0,\"\",Datos_de_Tarjetas!L623)","v":""},{"$f":"IF(Datos_de_Tarjetas!M623=0,\"\",Datos_de_Tarjetas!M623)","v":""},{"$f":"IF(Datos_de_Tarjetas!N623=0,\"\",Datos_de_Tarjetas!N623)","v":""},{"$f":"IFERROR(VLOOKUP(Datos_de_Tarjetas!P623,Parámetros!$AM$3:$AN$90,2,FALSE),\"\")","v":""}]
[null,1069470000,{"$f":"IFERROR(VLOOKUP(Datos_de_Tarjetas!D624,Parámetros!$AD$12:$AE$17,2,FALSE),\"\")","v":""},{"$f":"IF(Datos_de_Tarjetas!G624=0,\"\",Datos_de_Tarjetas!G624)","v":""},{"$f":"IFERROR(VLOOKUP(Datos_de_Tarjetas!K624,Parámetros!$AJ$3:$AK$13,2,FALSE),\"\")","v":""},{"$f":"IFERROR(VLOOKUP(Datos_de_Tarjetas!J624,Parámetros!$AQ$3:$AR$57,2,FALSE),\"\")","v":""},null,{"$f":"IF(Datos_de_Tarjetas!L624=0,\"\",Datos_de_Tarjetas!L624)","v":""},{"$f":"IF(Datos_de_Tarjetas!M624=0,\"\",Datos_de_Tarjetas!M624)","v":""},{"$f":"IF(Datos_de_Tarjetas!N624=0,\"\",Datos_de_Tarjetas!N624)","v":""},{"$f":"IFERROR(VLOOKUP(Datos_de_Tarjetas!P624,Parámetros!$AM$3:$AN$90,2,FALSE),\"\")","v":""}]
[null,1069470000,{"$f":"IFERROR(VLOOKUP(Datos_de_Tarjetas!D625,Parámetros!$AD$12:$AE$17,2,FALSE),\"\")","v":""},{"$f":"IF(Datos_de_Tarjetas!G625=0,\"\",Datos_de_Tarjetas!G625)","v":""},{"$f":"IFERROR(VLOOKUP(Datos_de_Tarjetas!K625,Parámetros!$AJ$3:$AK$13,2,FALSE),\"\")","v":""},{"$f":"IFERROR(VLOOKUP(Datos_de_Tarjetas!J625,Parámetros!$AQ$3:$AR$57,2,FALSE),\"\")","v":""},null,{"$f":"IF(Datos_de_Tarjetas!L625=0,\"\",Datos_de_Tarjetas!L625)","v":""},{"$f":"IF(Datos_de_Tarjetas!M625=0,\"\",Datos_de_Tarjetas!M625)","v":""},{"$f":"IF(Datos_de_Tarjetas!N625=0,\"\",Datos_de_Tarjetas!N625)","v":""},{"$f":"IFERROR(VLOOKUP(Datos_de_Tarjetas!P625,Parámetros!$AM$3:$AN$90,2,FALSE),\"\")","v":""}]
[null,1069470000,{"$f":"IFERROR(VLOOKUP(Datos_de_Tarjetas!D626,Parámetros!$AD$12:$AE$17,2,FALSE),\"\")","v":""},{"$f":"IF(Datos_de_Tarjetas!G626=0,\"\",Datos_de_Tarjetas!G626)","v":""},{"$f":"IFERROR(VLOOKUP(Datos_de_Tarjetas!K626,Parámetros!$AJ$3:$AK$13,2,FALSE),\"\")","v":""},{"$f":"IFERROR(VLOOKUP(Datos_de_Tarjetas!J626,Parámetros!$AQ$3:$AR$57,2,FALSE),\"\")","v":""},null,{"$f":"IF(Datos_de_Tarjetas!L626=0,\"\",Datos_de_Tarjetas!L626)","v":""},{"$f":"IF(Datos_de_Tarjetas!M626=0,\"\",Datos_de_Tarjetas!M626)","v":""},{"$f":"IF(Datos_de_Tarjetas!N626=0,\"\",Datos_de_Tarjetas!N626)","v":""},{"$f":"IFERROR(VLOOKUP(Datos_de_Tarjetas!P626,Parámetros!$AM$3:$AN$90,2,FALSE),\"\")","v":""}]
[null,1069470000,{"$f":"IFERROR(VLOOKUP(Datos_de_Tarjetas!D627,Parámetros!$AD$12:$AE$17,2,FALSE),\"\")","v":""},{"$f":"IF(Datos_de_Tarjetas!G627=0,\"\",Datos_de_Tarjetas!G627)","v":""},{"$f":"IFERROR(VLOOKUP(Datos_de_Tarjetas!K627,Parámetros!$AJ$3:$AK$13,2,FALSE),\"\")","v":""},{"$f":"IFERROR(VLOOKUP(Datos_de_Tarjetas!J627,Parámetros!$AQ$3:$AR$57,2,FALSE),\"\")","v":""},null,{"$f":"IF(Datos_de_Tarjetas!L627=0,\"\",Datos_de_Tarjetas!L627)","v":""},{"$f":"IF(Datos_de_Tarjetas!M627=0,\"\",Datos_de_Tarjetas!M627)","v":""},{"$f":"IF(Datos_de_Tarjetas!N627=0,\"\",Datos_de_Tarjetas!N627)","v":""},{"$f":"IFERROR(VLOOKUP(Datos_de_Tarjetas!P627,Parámetros!$AM$3:$AN$90,2,FALSE),\"\")","v":""}]
[null,1069470000,{"$f":"IFERROR(VLOOKUP(Datos_de_Tarjetas!D628,Parámetros!$AD$12:$AE$17,2,FALSE),\"\")","v":""},{"$f":"IF(Datos_de_Tarjetas!G628=0,\"\",Datos_de_Tarjetas!G628)","v":""},{"$f":"IFERROR(VLOOKUP(Datos_de_Tarjetas!K628,Parámetros!$AJ$3:$AK$13,2,FALSE),\"\")","v":""},{"$f":"IFERROR(VLOOKUP(Datos_de_Tarjetas!J628,Parámetros!$AQ$3:$AR$57,2,FALSE),\"\")","v":""},null,{"$f":"IF(Datos_de_Tarjetas!L628=0,\"\",Datos_de_Tarjetas!L628)","v":""},{"$f":"IF(Datos_de_Tarjetas!M628=0,\"\",Datos_de_Tarjetas!M628)","v":""},{"$f":"IF(Datos_de_Tarjetas!N628=0,\"\",Datos_de_Tarjetas!N628)","v":""},{"$f":"IFERROR(VLOOKUP(Datos_de_Tarjetas!P628,Parámetros!$AM$3:$AN$90,2,FALSE),\"\")","v":""}]
[null,1069470000,{"$f":"IFERROR(VLOOKUP(Datos_de_Tarjetas!D629,Parámetros!$AD$12:$AE$17,2,FALSE),\"\")","v":""},{"$f":"IF(Datos_de_Tarjetas!G629=0,\"\",Datos_de_Tarjetas!G629)","v":""},{"$f":"IFERROR(VLOOKUP(Datos_de_Tarjetas!K629,Parámetros!$AJ$3:$AK$13,2,FALSE),\"\")","v":""},{"$f":"IFERROR(VLOOKUP(Datos_de_Tarjetas!J629,Parámetros!$AQ$3:$AR$57,2,FALSE),\"\")","v":""},null,{"$f":"IF(Datos_de_Tarjetas!L629=0,\"\",Datos_de_Tarjetas!L629)","v":""},{"$f":"IF(Datos_de_Tarjetas!M629=0,\"\",Datos_de_Tarjetas!M629)","v":""},{"$f":"IF(Datos_de_Tarjetas!N629=0,\"\",Datos_de_Tarjetas!N629)","v":""},{"$f":"IFERROR(VLOOKUP(Datos_de_Tarjetas!P629,Parámetros!$AM$3:$AN$90,2,FALSE),\"\")","v":""}]
[null,1069470000,{"$f":"IFERROR(VLOOKUP(Datos_de_Tarjetas!D630,Parámetros!$AD$12:$AE$17,2,FALSE),\"\")","v":""},{"$f":"IF(Datos_de_Tarjetas!G630=0,\"\",Datos_de_Tarjetas!G630)","v":""},{"$f":"IFERROR(VLOOKUP(Datos_de_Tarjetas!K630,Parámetros!$AJ$3:$AK$13,2,FALSE),\"\")","v":""},{"$f":"IFERROR(VLOOKUP(Datos_de_Tarjetas!J630,Parámetros!$AQ$3:$AR$57,2,FALSE),\"\")","v":""},null,{"$f":"IF(Datos_de_Tarjetas!L630=0,\"\",Datos_de_Tarjetas!L630)","v":""},{"$f":"IF(Datos_de_Tarjetas!M630=0,\"\",Datos_de_Tarjetas!M630)","v":""},{"$f":"IF(Datos_de_Tarjetas!N630=0,\"\",Datos_de_Tarjetas!N630)","v":""},{"$f":"IFERROR(VLOOKUP(Datos_de_Tarjetas!P630,Parámetros!$AM$3:$AN$90,2,FALSE),\"\")","v":""}]
[null,1069470000,{"$f":"IFERROR(VLOOKUP(Datos_de_Tarjetas!D631,Parámetros!$AD$12:$AE$17,2,FALSE),\"\")","v":""},{"$f":"IF(Datos_de_Tarjetas!G631=0,\"\",Datos_de_Tarjetas!G631)","v":""},{"$f":"IFERROR(VLOOKUP(Datos_de_Tarjetas!K631,Parámetros!$AJ$3:$AK$13,2,FALSE),\"\")","v":""},{"$f":"IFERROR(VLOOKUP(Datos_de_Tarjetas!J631,Parámetros!$AQ$3:$AR$57,2,FALSE),\"\")","v":""},null,{"$f":"IF(Datos_de_Tarjetas!L631=0,\"\",Datos_de_Tarjetas!L631)","v":""},{"$f":"IF(Datos_de_Tarjetas!M631=0,\"\",Datos_de_Tarjetas!M631)","v":""},{"$f":"IF(Datos_de_Tarjetas!N631=0,\"\",Datos_de_Tarjetas!N631)","v":""},{"$f":"IFERROR(VLOOKUP(Datos_de_Tarjetas!P631,Parámetros!$AM$3:$AN$90,2,FALSE),\"\")","v":""}]
[null,1069470000,{"$f":"IFERROR(VLOOKUP(Datos_de_Tarjetas!D632,Parámetros!$AD$12:$AE$17,2,FALSE),\"\")","v":""},{"$f":"IF(Datos_de_Tarjetas!G632=0,\"\",Datos_de_Tarjetas!G632)","v":""},{"$f":"IFERROR(VLOOKUP(Datos_de_Tarjetas!K632,Parámetros!$AJ$3:$AK$13,2,FALSE),\"\")","v":""},{"$f":"IFERROR(VLOOKUP(Datos_de_Tarjetas!J632,Parámetros!$AQ$3:$AR$57,2,FALSE),\"\")","v":""},null,{"$f":"IF(Datos_de_Tarjetas!L632=0,\"\",Datos_de_Tarjetas!L632)","v":""},{"$f":"IF(Datos_de_Tarjetas!M632=0,\"\",Datos_de_Tarjetas!M632)","v":""},{"$f":"IF(Datos_de_Tarjetas!N632=0,\"\",Datos_de_Tarjetas!N632)","v":""},{"$f":"IFERROR(VLOOKUP(Datos_de_Tarjetas!P632,Parámetros!$AM$3:$AN$90,2,FALSE),\"\")","v":""}]
[null,1069470000,{"$f":"IFERROR(VLOOKUP(Datos_de_Tarjetas!D633,Parámetros!$AD$12:$AE$17,2,FALSE),\"\")","v":""},{"$f":"IF(Datos_de_Tarjetas!G633=0,\"\",Datos_de_Tarjetas!G633)","v":""},{"$f":"IFERROR(VLOOKUP(Datos_de_Tarjetas!K633,Parámetros!$AJ$3:$AK$13,2,FALSE),\"\")","v":""},{"$f":"IFERROR(VLOOKUP(Datos_de_Tarjetas!J633,Parámetros!$AQ$3:$AR$57,2,FALSE),\"\")","v":""},null,{"$f":"IF(Datos_de_Tarjetas!L633=0,\"\",Datos_de_Tarjetas!L633)","v":""},{"$f":"IF(Datos_de_Tarjetas!M633=0,\"\",Datos_de_Tarjetas!M633)","v":""},{"$f":"IF(Datos_de_Tarjetas!N633=0,\"\",Datos_de_Tarjetas!N633)","v":""},{"$f":"IFERROR(VLOOKUP(Datos_de_Tarjetas!P633,Parámetros!$AM$3:$AN$90,2,FALSE),\"\")","v":""}]
[null,1069470000,{"$f":"IFERROR(VLOOKUP(Datos_de_Tarjetas!D634,Parámetros!$AD$12:$AE$17,2,FALSE),\"\")","v":""},{"$f":"IF(Datos_de_Tarjetas!G634=0,\"\",Datos_de_Tarjetas!G634)","v":""},{"$f":"IFERROR(VLOOKUP(Datos_de_Tarjetas!K634,Parámetros!$AJ$3:$AK$13,2,FALSE),\"\")","v":""},{"$f":"IFERROR(VLOOKUP(Datos_de_Tarjetas!J634,Parámetros!$AQ$3:$AR$57,2,FALSE),\"\")","v":""},null,{"$f":"IF(Datos_de_Tarjetas!L634=0,\"\",Datos_de_Tarjetas!L634)","v":""},{"$f":"IF(Datos_de_Tarjetas!M634=0,\"\",Datos_de_Tarjetas!M634)","v":""},{"$f":"IF(Datos_de_Tarjetas!N634=0,\"\",Datos_de_Tarjetas!N634)","v":""},{"$f":"IFERROR(VLOOKUP(Datos_de_Tarjetas!P634,Parámetros!$AM$3:$AN$90,2,FALSE),\"\")","v":""}]
[null,1069470000,{"$f":"IFERROR(VLOOKUP(Datos_de_Tarjetas!D635,Parámetros!$AD$12:$AE$17,2,FALSE),\"\")","v":""},{"$f":"IF(Datos_de_Tarjetas!G635=0,\"\",Datos_de_Tarjetas!G635)","v":""},{"$f":"IFERROR(VLOOKUP(Datos_de_Tarjetas!K635,Parámetros!$AJ$3:$AK$13,2,FALSE),\"\")","v":""},{"$f":"IFERROR(VLOOKUP(Datos_de_Tarjetas!J635,Parámetros!$AQ$3:$AR$57,2,FALSE),\"\")","v":""},null,{"$f":"IF(Datos_de_Tarjetas!L635=0,\"\",Datos_de_Tarjetas!L635)","v":""},{"$f":"IF(Datos_de_Tarjetas!M635=0,\"\",Datos_de_Tarjetas!M635)","v":""},{"$f":"IF(Datos_de_Tarjetas!N635=0,\"\",Datos_de_Tarjetas!N635)","v":""},{"$f":"IFERROR(VLOOKUP(Datos_de_Tarjetas!P635,Parámetros!$AM$3:$AN$90,2,FALSE),\"\")","v":""}]
[null,1069470000,{"$f":"IFERROR(VLOOKUP(Datos_de_Tarjetas!D636,Parámetros!$AD$12:$AE$17,2,FALSE),\"\")","v":""},{"$f":"IF(Datos_de_Tarjetas!G636=0,\"\",Datos_de_Tarjetas!G636)","v":""},{"$f":"IFERROR(VLOOKUP(Datos_de_Tarjetas!K636,Parámetros!$AJ$3:$AK$13,2,FALSE),\"\")","v":""},{"$f":"IFERROR(VLOOKUP(Datos_de_Tarjetas!J636,Parámetros!$AQ$3:$AR$57,2,FALSE),\"\")","v":""},null,{"$f":"IF(Datos_de_Tarjetas!L636=0,\"\",Datos_de_Tarjetas!L636)","v":""},{"$f":"IF(Datos_de_Tarjetas!M636=0,\"\",Datos_de_Tarjetas!M636)","v":""},{"$f":"IF(Datos_de_Tarjetas!N636=0,\"\",Datos_de_Tarjetas!N636)","v":""},{"$f":"IFERROR(VLOOKUP(Datos_de_Tarjetas!P636,Parámetros!$AM$3:$AN$90,2,FALSE),\"\")","v":""}]
[null,1069470000,{"$f":"IFERROR(VLOOKUP(Datos_de_Tarjetas!D637,Parámetros!$AD$12:$AE$17,2,FALSE),\"\")","v":""},{"$f":"IF(Datos_de_Tarjetas!G637=0,\"\",Datos_de_Tarjetas!G637)","v":""},{"$f":"IFERROR(VLOOKUP(Datos_de_Tarjetas!K637,Parámetros!$AJ$3:$AK$13,2,FALSE),\"\")","v":""},{"$f":"IFERROR(VLOOKUP(Datos_de_Tarjetas!J637,Parámetros!$AQ$3:$AR$57,2,FALSE),\"\")","v":""},null,{"$f":"IF(Datos_de_Tarjetas!L637=0,\"\",Datos_de_Tarjetas!L637)","v":""},{"$f":"IF(Datos_de_Tarjetas!M637=0,\"\",Datos_de_Tarjetas!M637)","v":""},{"$f":"IF(Datos_de_Tarjetas!N637=0,\"\",Datos_de_Tarjetas!N637)","v":""},{"$f":"IFERROR(VLOOKUP(Datos_de_Tarjetas!P637,Parámetros!$AM$3:$AN$90,2,FALSE),\"\")","v":""}]
[null,1069470000,{"$f":"IFERROR(VLOOKUP(Datos_de_Tarjetas!D638,Parámetros!$AD$12:$AE$17,2,FALSE),\"\")","v":""},{"$f":"IF(Datos_de_Tarjetas!G638=0,\"\",Datos_de_Tarjetas!G638)","v":""},{"$f":"IFERROR(VLOOKUP(Datos_de_Tarjetas!K638,Parámetros!$AJ$3:$AK$13,2,FALSE),\"\")","v":""},{"$f":"IFERROR(VLOOKUP(Datos_de_Tarjetas!J638,Parámetros!$AQ$3:$AR$57,2,FALSE),\"\")","v":""},null,{"$f":"IF(Datos_de_Tarjetas!L638=0,\"\",Datos_de_Tarjetas!L638)","v":""},{"$f":"IF(Datos_de_Tarjetas!M638=0,\"\",Datos_de_Tarjetas!M638)","v":""},{"$f":"IF(Datos_de_Tarjetas!N638=0,\"\",Datos_de_Tarjetas!N638)","v":""},{"$f":"IFERROR(VLOOKUP(Datos_de_Tarjetas!P638,Parámetros!$AM$3:$AN$90,2,FALSE),\"\")","v":""}]
[null,1069470000,{"$f":"IFERROR(VLOOKUP(Datos_de_Tarjetas!D639,Parámetros!$AD$12:$AE$17,2,FALSE),\"\")","v":""},{"$f":"IF(Datos_de_Tarjetas!G639=0,\"\",Datos_de_Tarjetas!G639)","v":""},{"$f":"IFERROR(VLOOKUP(Datos_de_Tarjetas!K639,Parámetros!$AJ$3:$AK$13,2,FALSE),\"\")","v":""},{"$f":"IFERROR(VLOOKUP(Datos_de_Tarjetas!J639,Parámetros!$AQ$3:$AR$57,2,FALSE),\"\")","v":""},null,{"$f":"IF(Datos_de_Tarjetas!L639=0,\"\",Datos_de_Tarjetas!L639)","v":""},{"$f":"IF(Datos_de_Tarjetas!M639=0,\"\",Datos_de_Tarjetas!M639)","v":""},{"$f":"IF(Datos_de_Tarjetas!N639=0,\"\",Datos_de_Tarjetas!N639)","v":""},{"$f":"IFERROR(VLOOKUP(Datos_de_Tarjetas!P639,Parámetros!$AM$3:$AN$90,2,FALSE),\"\")","v":""}]
[null,1069470000,{"$f":"IFERROR(VLOOKUP(Datos_de_Tarjetas!D640,Parámetros!$AD$12:$AE$17,2,FALSE),\"\")","v":""},{"$f":"IF(Datos_de_Tarjetas!G640=0,\"\",Datos_de_Tarjetas!G640)","v":""},{"$f":"IFERROR(VLOOKUP(Datos_de_Tarjetas!K640,Parámetros!$AJ$3:$AK$13,2,FALSE),\"\")","v":""},{"$f":"IFERROR(VLOOKUP(Datos_de_Tarjetas!J640,Parámetros!$AQ$3:$AR$57,2,FALSE),\"\")","v":""},null,{"$f":"IF(Datos_de_Tarjetas!L640=0,\"\",Datos_de_Tarjetas!L640)","v":""},{"$f":"IF(Datos_de_Tarjetas!M640=0,\"\",Datos_de_Tarjetas!M640)","v":""},{"$f":"IF(Datos_de_Tarjetas!N640=0,\"\",Datos_de_Tarjetas!N640)","v":""},{"$f":"IFERROR(VLOOKUP(Datos_de_Tarjetas!P640,Parámetros!$AM$3:$AN$90,2,FALSE),\"\")","v":""}]
[null,1069470000,{"$f":"IFERROR(VLOOKUP(Datos_de_Tarjetas!D641,Parámetros!$AD$12:$AE$17,2,FALSE),\"\")","v":""},{"$f":"IF(Datos_de_Tarjetas!G641=0,\"\",Datos_de_Tarjetas!G641)","v":""},{"$f":"IFERROR(VLOOKUP(Datos_de_Tarjetas!K641,Parámetros!$AJ$3:$AK$13,2,FALSE),\"\")","v":""},{"$f":"IFERROR(VLOOKUP(Datos_de_Tarjetas!J641,Parámetros!$AQ$3:$AR$57,2,FALSE),\"\")","v":""},null,{"$f":"IF(Datos_de_Tarjetas!L641=0,\"\",Datos_de_Tarjetas!L641)","v":""},{"$f":"IF(Datos_de_Tarjetas!M641=0,\"\",Datos_de_Tarjetas!M641)","v":""},{"$f":"IF(Datos_de_Tarjetas!N641=0,\"\",Datos_de_Tarjetas!N641)","v":""},{"$f":"IFERROR(VLOOKUP(Datos_de_Tarjetas!P641,Parámetros!$AM$3:$AN$90,2,FALSE),\"\")","v":""}]
[null,1069470000,{"$f":"IFERROR(VLOOKUP(Datos_de_Tarjetas!D642,Parámetros!$AD$12:$AE$17,2,FALSE),\"\")","v":""},{"$f":"IF(Datos_de_Tarjetas!G642=0,\"\",Datos_de_Tarjetas!G642)","v":""},{"$f":"IFERROR(VLOOKUP(Datos_de_Tarjetas!K642,Parámetros!$AJ$3:$AK$13,2,FALSE),\"\")","v":""},{"$f":"IFERROR(VLOOKUP(Datos_de_Tarjetas!J642,Parámetros!$AQ$3:$AR$57,2,FALSE),\"\")","v":""},null,{"$f":"IF(Datos_de_Tarjetas!L642=0,\"\",Datos_de_Tarjetas!L642)","v":""},{"$f":"IF(Datos_de_Tarjetas!M642=0,\"\",Datos_de_Tarjetas!M642)","v":""},{"$f":"IF(Datos_de_Tarjetas!N642=0,\"\",Datos_de_Tarjetas!N642)","v":""},{"$f":"IFERROR(VLOOKUP(Datos_de_Tarjetas!P642,Parámetros!$AM$3:$AN$90,2,FALSE),\"\")","v":""}]
[null,1069470000,{"$f":"IFERROR(VLOOKUP(Datos_de_Tarjetas!D643,Parámetros!$AD$12:$AE$17,2,FALSE),\"\")","v":""},{"$f":"IF(Datos_de_Tarjetas!G643=0,\"\",Datos_de_Tarjetas!G643)","v":""},{"$f":"IFERROR(VLOOKUP(Datos_de_Tarjetas!K643,Parámetros!$AJ$3:$AK$13,2,FALSE),\"\")","v":""},{"$f":"IFERROR(VLOOKUP(Datos_de_Tarjetas!J643,Parámetros!$AQ$3:$AR$57,2,FALSE),\"\")","v":""},null,{"$f":"IF(Datos_de_Tarjetas!L643=0,\"\",Datos_de_Tarjetas!L643)","v":""},{"$f":"IF(Datos_de_Tarjetas!M643=0,\"\",Datos_de_Tarjetas!M643)","v":""},{"$f":"IF(Datos_de_Tarjetas!N643=0,\"\",Datos_de_Tarjetas!N643)","v":""},{"$f":"IFERROR(VLOOKUP(Datos_de_Tarjetas!P643,Parámetros!$AM$3:$AN$90,2,FALSE),\"\")","v":""}]
[null,1069470000,{"$f":"IFERROR(VLOOKUP(Datos_de_Tarjetas!D644,Parámetros!$AD$12:$AE$17,2,FALSE),\"\")","v":""},{"$f":"IF(Datos_de_Tarjetas!G644=0,\"\",Datos_de_Tarjetas!G644)","v":""},{"$f":"IFERROR(VLOOKUP(Datos_de_Tarjetas!K644,Parámetros!$AJ$3:$AK$13,2,FALSE),\"\")","v":""},{"$f":"IFERROR(VLOOKUP(Datos_de_Tarjetas!J644,Parámetros!$AQ$3:$AR$57,2,FALSE),\"\")","v":""},null,{"$f":"IF(Datos_de_Tarjetas!L644=0,\"\",Datos_de_Tarjetas!L644)","v":""},{"$f":"IF(Datos_de_Tarjetas!M644=0,\"\",Datos_de_Tarjetas!M644)","v":""},{"$f":"IF(Datos_de_Tarjetas!N644=0,\"\",Datos_de_Tarjetas!N644)","v":""},{"$f":"IFERROR(VLOOKUP(Datos_de_Tarjetas!P644,Parámetros!$AM$3:$AN$90,2,FALSE),\"\")","v":""}]
[null,1069470000,{"$f":"IFERROR(VLOOKUP(Datos_de_Tarjetas!D645,Parámetros!$AD$12:$AE$17,2,FALSE),\"\")","v":""},{"$f":"IF(Datos_de_Tarjetas!G645=0,\"\",Datos_de_Tarjetas!G645)","v":""},{"$f":"IFERROR(VLOOKUP(Datos_de_Tarjetas!K645,Parámetros!$AJ$3:$AK$13,2,FALSE),\"\")","v":""},{"$f":"IFERROR(VLOOKUP(Datos_de_Tarjetas!J645,Parámetros!$AQ$3:$AR$57,2,FALSE),\"\")","v":""},null,{"$f":"IF(Datos_de_Tarjetas!L645=0,\"\",Datos_de_Tarjetas!L645)","v":""},{"$f":"IF(Datos_de_Tarjetas!M645=0,\"\",Datos_de_Tarjetas!M645)","v":""},{"$f":"IF(Datos_de_Tarjetas!N645=0,\"\",Datos_de_Tarjetas!N645)","v":""},{"$f":"IFERROR(VLOOKUP(Datos_de_Tarjetas!P645,Parámetros!$AM$3:$AN$90,2,FALSE),\"\")","v":""}]
[null,1069470000,{"$f":"IFERROR(VLOOKUP(Datos_de_Tarjetas!D646,Parámetros!$AD$12:$AE$17,2,FALSE),\"\")","v":""},{"$f":"IF(Datos_de_Tarjetas!G646=0,\"\",Datos_de_Tarjetas!G646)","v":""},{"$f":"IFERROR(VLOOKUP(Datos_de_Tarjetas!K646,Parámetros!$AJ$3:$AK$13,2,FALSE),\"\")","v":""},{"$f":"IFERROR(VLOOKUP(Datos_de_Tarjetas!J646,Parámetros!$AQ$3:$AR$57,2,FALSE),\"\")","v":""},null,{"$f":"IF(Datos_de_Tarjetas!L646=0,\"\",Datos_de_Tarjetas!L646)","v":""},{"$f":"IF(Datos_de_Tarjetas!M646=0,\"\",Datos_de_Tarjetas!M646)","v":""},{"$f":"IF(Datos_de_Tarjetas!N646=0,\"\",Datos_de_Tarjetas!N646)","v":""},{"$f":"IFERROR(VLOOKUP(Datos_de_Tarjetas!P646,Parámetros!$AM$3:$AN$90,2,FALSE),\"\")","v":""}]
[null,1069470000,{"$f":"IFERROR(VLOOKUP(Datos_de_Tarjetas!D647,Parámetros!$AD$12:$AE$17,2,FALSE),\"\")","v":""},{"$f":"IF(Datos_de_Tarjetas!G647=0,\"\",Datos_de_Tarjetas!G647)","v":""},{"$f":"IFERROR(VLOOKUP(Datos_de_Tarjetas!K647,Parámetros!$AJ$3:$AK$13,2,FALSE),\"\")","v":""},{"$f":"IFERROR(VLOOKUP(Datos_de_Tarjetas!J647,Parámetros!$AQ$3:$AR$57,2,FALSE),\"\")","v":""},null,{"$f":"IF(Datos_de_Tarjetas!L647=0,\"\",Datos_de_Tarjetas!L647)","v":""},{"$f":"IF(Datos_de_Tarjetas!M647=0,\"\",Datos_de_Tarjetas!M647)","v":""},{"$f":"IF(Datos_de_Tarjetas!N647=0,\"\",Datos_de_Tarjetas!N647)","v":""},{"$f":"IFERROR(VLOOKUP(Datos_de_Tarjetas!P647,Parámetros!$AM$3:$AN$90,2,FALSE),\"\")","v":""}]
[null,1069470000,{"$f":"IFERROR(VLOOKUP(Datos_de_Tarjetas!D648,Parámetros!$AD$12:$AE$17,2,FALSE),\"\")","v":""},{"$f":"IF(Datos_de_Tarjetas!G648=0,\"\",Datos_de_Tarjetas!G648)","v":""},{"$f":"IFERROR(VLOOKUP(Datos_de_Tarjetas!K648,Parámetros!$AJ$3:$AK$13,2,FALSE),\"\")","v":""},{"$f":"IFERROR(VLOOKUP(Datos_de_Tarjetas!J648,Parámetros!$AQ$3:$AR$57,2,FALSE),\"\")","v":""},null,{"$f":"IF(Datos_de_Tarjetas!L648=0,\"\",Datos_de_Tarjetas!L648)","v":""},{"$f":"IF(Datos_de_Tarjetas!M648=0,\"\",Datos_de_Tarjetas!M648)","v":""},{"$f":"IF(Datos_de_Tarjetas!N648=0,\"\",Datos_de_Tarjetas!N648)","v":""},{"$f":"IFERROR(VLOOKUP(Datos_de_Tarjetas!P648,Parámetros!$AM$3:$AN$90,2,FALSE),\"\")","v":""}]
[null,1069470000,{"$f":"IFERROR(VLOOKUP(Datos_de_Tarjetas!D649,Parámetros!$AD$12:$AE$17,2,FALSE),\"\")","v":""},{"$f":"IF(Datos_de_Tarjetas!G649=0,\"\",Datos_de_Tarjetas!G649)","v":""},{"$f":"IFERROR(VLOOKUP(Datos_de_Tarjetas!K649,Parámetros!$AJ$3:$AK$13,2,FALSE),\"\")","v":""},{"$f":"IFERROR(VLOOKUP(Datos_de_Tarjetas!J649,Parámetros!$AQ$3:$AR$57,2,FALSE),\"\")","v":""},null,{"$f":"IF(Datos_de_Tarjetas!L649=0,\"\",Datos_de_Tarjetas!L649)","v":""},{"$f":"IF(Datos_de_Tarjetas!M649=0,\"\",Datos_de_Tarjetas!M649)","v":""},{"$f":"IF(Datos_de_Tarjetas!N649=0,\"\",Datos_de_Tarjetas!N649)","v":""},{"$f":"IFERROR(VLOOKUP(Datos_de_Tarjetas!P649,Parámetros!$AM$3:$AN$90,2,FALSE),\"\")","v":""}]
[null,1069470000,{"$f":"IFERROR(VLOOKUP(Datos_de_Tarjetas!D650,Parámetros!$AD$12:$AE$17,2,FALSE),\"\")","v":""},{"$f":"IF(Datos_de_Tarjetas!G650=0,\"\",Datos_de_Tarjetas!G650)","v":""},{"$f":"IFERROR(VLOOKUP(Datos_de_Tarjetas!K650,Parámetros!$AJ$3:$AK$13,2,FALSE),\"\")","v":""},{"$f":"IFERROR(VLOOKUP(Datos_de_Tarjetas!J650,Parámetros!$AQ$3:$AR$57,2,FALSE),\"\")","v":""},null,{"$f":"IF(Datos_de_Tarjetas!L650=0,\"\",Datos_de_Tarjetas!L650)","v":""},{"$f":"IF(Datos_de_Tarjetas!M650=0,\"\",Datos_de_Tarjetas!M650)","v":""},{"$f":"IF(Datos_de_Tarjetas!N650=0,\"\",Datos_de_Tarjetas!N650)","v":""},{"$f":"IFERROR(VLOOKUP(Datos_de_Tarjetas!P650,Parámetros!$AM$3:$AN$90,2,FALSE),\"\")","v":""}]
[null,1069470000,{"$f":"IFERROR(VLOOKUP(Datos_de_Tarjetas!D651,Parámetros!$AD$12:$AE$17,2,FALSE),\"\")","v":""},{"$f":"IF(Datos_de_Tarjetas!G651=0,\"\",Datos_de_Tarjetas!G651)","v":""},{"$f":"IFERROR(VLOOKUP(Datos_de_Tarjetas!K651,Parámetros!$AJ$3:$AK$13,2,FALSE),\"\")","v":""},{"$f":"IFERROR(VLOOKUP(Datos_de_Tarjetas!J651,Parámetros!$AQ$3:$AR$57,2,FALSE),\"\")","v":""},null,{"$f":"IF(Datos_de_Tarjetas!L651=0,\"\",Datos_de_Tarjetas!L651)","v":""},{"$f":"IF(Datos_de_Tarjetas!M651=0,\"\",Datos_de_Tarjetas!M651)","v":""},{"$f":"IF(Datos_de_Tarjetas!N651=0,\"\",Datos_de_Tarjetas!N651)","v":""},{"$f":"IFERROR(VLOOKUP(Datos_de_Tarjetas!P651,Parámetros!$AM$3:$AN$90,2,FALSE),\"\")","v":""}]
[null,1069470000,{"$f":"IFERROR(VLOOKUP(Datos_de_Tarjetas!D652,Parámetros!$AD$12:$AE$17,2,FALSE),\"\")","v":""},{"$f":"IF(Datos_de_Tarjetas!G652=0,\"\",Datos_de_Tarjetas!G652)","v":""},{"$f":"IFERROR(VLOOKUP(Datos_de_Tarjetas!K652,Parámetros!$AJ$3:$AK$13,2,FALSE),\"\")","v":""},{"$f":"IFERROR(VLOOKUP(Datos_de_Tarjetas!J652,Parámetros!$AQ$3:$AR$57,2,FALSE),\"\")","v":""},null,{"$f":"IF(Datos_de_Tarjetas!L652=0,\"\",Datos_de_Tarjetas!L652)","v":""},{"$f":"IF(Datos_de_Tarjetas!M652=0,\"\",Datos_de_Tarjetas!M652)","v":""},{"$f":"IF(Datos_de_Tarjetas!N652=0,\"\",Datos_de_Tarjetas!N652)","v":""},{"$f":"IFERROR(VLOOKUP(Datos_de_Tarjetas!P652,Parámetros!$AM$3:$AN$90,2,FALSE),\"\")","v":""}]
[null,1069470000,{"$f":"IFERROR(VLOOKUP(Datos_de_Tarjetas!D653,Parámetros!$AD$12:$AE$17,2,FALSE),\"\")","v":""},{"$f":"IF(Datos_de_Tarjetas!G653=0,\"\",Datos_de_Tarjetas!G653)","v":""},{"$f":"IFERROR(VLOOKUP(Datos_de_Tarjetas!K653,Parámetros!$AJ$3:$AK$13,2,FALSE),\"\")","v":""},{"$f":"IFERROR(VLOOKUP(Datos_de_Tarjetas!J653,Parámetros!$AQ$3:$AR$57,2,FALSE),\"\")","v":""},null,{"$f":"IF(Datos_de_Tarjetas!L653=0,\"\",Datos_de_Tarjetas!L653)","v":""},{"$f":"IF(Datos_de_Tarjetas!M653=0,\"\",Datos_de_Tarjetas!M653)","v":""},{"$f":"IF(Datos_de_Tarjetas!N653=0,\"\",Datos_de_Tarjetas!N653)","v":""},{"$f":"IFERROR(VLOOKUP(Datos_de_Tarjetas!P653,Parámetros!$AM$3:$AN$90,2,FALSE),\"\")","v":""}]
[null,1069470000,{"$f":"IFERROR(VLOOKUP(Datos_de_Tarjetas!D654,Parámetros!$AD$12:$AE$17,2,FALSE),\"\")","v":""},{"$f":"IF(Datos_de_Tarjetas!G654=0,\"\",Datos_de_Tarjetas!G654)","v":""},{"$f":"IFERROR(VLOOKUP(Datos_de_Tarjetas!K654,Parámetros!$AJ$3:$AK$13,2,FALSE),\"\")","v":""},{"$f":"IFERROR(VLOOKUP(Datos_de_Tarjetas!J654,Parámetros!$AQ$3:$AR$57,2,FALSE),\"\")","v":""},null,{"$f":"IF(Datos_de_Tarjetas!L654=0,\"\",Datos_de_Tarjetas!L654)","v":""},{"$f":"IF(Datos_de_Tarjetas!M654=0,\"\",Datos_de_Tarjetas!M654)","v":""},{"$f":"IF(Datos_de_Tarjetas!N654=0,\"\",Datos_de_Tarjetas!N654)","v":""},{"$f":"IFERROR(VLOOKUP(Datos_de_Tarjetas!P654,Parámetros!$AM$3:$AN$90,2,FALSE),\"\")","v":""}]
[null,1069470000,{"$f":"IFERROR(VLOOKUP(Datos_de_Tarjetas!D655,Parámetros!$AD$12:$AE$17,2,FALSE),\"\")","v":""},{"$f":"IF(Datos_de_Tarjetas!G655=0,\"\",Datos_de_Tarjetas!G655)","v":""},{"$f":"IFERROR(VLOOKUP(Datos_de_Tarjetas!K655,Parámetros!$AJ$3:$AK$13,2,FALSE),\"\")","v":""},{"$f":"IFERROR(VLOOKUP(Datos_de_Tarjetas!J655,Parámetros!$AQ$3:$AR$57,2,FALSE),\"\")","v":""},null,{"$f":"IF(Datos_de_Tarjetas!L655=0,\"\",Datos_de_Tarjetas!L655)","v":""},{"$f":"IF(Datos_de_Tarjetas!M655=0,\"\",Datos_de_Tarjetas!M655)","v":""},{"$f":"IF(Datos_de_Tarjetas!N655=0,\"\",Datos_de_Tarjetas!N655)","v":""},{"$f":"IFERROR(VLOOKUP(Datos_de_Tarjetas!P655,Parámetros!$AM$3:$AN$90,2,FALSE),\"\")","v":""}]
[null,1069470000,{"$f":"IFERROR(VLOOKUP(Datos_de_Tarjetas!D656,Parámetros!$AD$12:$AE$17,2,FALSE),\"\")","v":""},{"$f":"IF(Datos_de_Tarjetas!G656=0,\"\",Datos_de_Tarjetas!G656)","v":""},{"$f":"IFERROR(VLOOKUP(Datos_de_Tarjetas!K656,Parámetros!$AJ$3:$AK$13,2,FALSE),\"\")","v":""},{"$f":"IFERROR(VLOOKUP(Datos_de_Tarjetas!J656,Parámetros!$AQ$3:$AR$57,2,FALSE),\"\")","v":""},null,{"$f":"IF(Datos_de_Tarjetas!L656=0,\"\",Datos_de_Tarjetas!L656)","v":""},{"$f":"IF(Datos_de_Tarjetas!M656=0,\"\",Datos_de_Tarjetas!M656)","v":""},{"$f":"IF(Datos_de_Tarjetas!N656=0,\"\",Datos_de_Tarjetas!N656)","v":""},{"$f":"IFERROR(VLOOKUP(Datos_de_Tarjetas!P656,Parámetros!$AM$3:$AN$90,2,FALSE),\"\")","v":""}]
[null,{"$f":"$C$2","v":1069470000},{"$f":"IFERROR(VLOOKUP(Datos_de_Tarjetas!D657,Parámetros!$AD$12:$AE$17,2,FALSE),\"\")","v":""},{"$f":"IF(Datos_de_Tarjetas!G657=0,\"\",Datos_de_Tarjetas!G657)","v":""},{"$f":"IFERROR(VLOOKUP(Datos_de_Tarjetas!K657,Parámetros!$AJ$3:$AK$13,2,FALSE),\"\")","v":""},{"$f":"IFERROR(VLOOKUP(Datos_de_Tarjetas!J657,Parámetros!$AQ$3:$AR$57,2,FALSE),\"\")","v":""},null,{"$f":"IF(Datos_de_Tarjetas!L657=0,\"\",Datos_de_Tarjetas!L657)","v":""},{"$f":"IF(Datos_de_Tarjetas!M657=0,\"\",Datos_de_Tarjetas!M657)","v":""},{"$f":"IF(Datos_de_Tarjetas!N657=0,\"\",Datos_de_Tarjetas!N657)","v":""},{"$f":"IFERROR(VLOOKUP(Datos_de_Tarjetas!P657,Parámetros!$AM$3:$AN$90,2,FALSE),\"\")","v":""}]
[null,1069470000,{"$f":"IFERROR(VLOOKUP(Datos_de_Tarjetas!D658,Parámetros!$AD$12:$AE$17,2,FALSE),\"\")","v":""},{"$f":"IF(Datos_de_Tarjetas!G658=0,\"\",Datos_de_Tarjetas!G658)","v":""},{"$f":"IFERROR(VLOOKUP(Datos_de_Tarjetas!K658,Parámetros!$AJ$3:$AK$13,2,FALSE),\"\")","v":""},{"$f":"IFERROR(VLOOKUP(Datos_de_Tarjetas!J658,Parámetros!$AQ$3:$AR$57,2,FALSE),\"\")","v":""},null,{"$f":"IF(Datos_de_Tarjetas!L658=0,\"\",Datos_de_Tarjetas!L658)","v":""},{"$f":"IF(Datos_de_Tarjetas!M658=0,\"\",Datos_de_Tarjetas!M658)","v":""},{"$f":"IF(Datos_de_Tarjetas!N658=0,\"\",Datos_de_Tarjetas!N658)","v":""},{"$f":"IFERROR(VLOOKUP(Datos_de_Tarjetas!P658,Parámetros!$AM$3:$AN$90,2,FALSE),\"\")","v":""}]
[null,1069470000,{"$f":"IFERROR(VLOOKUP(Datos_de_Tarjetas!D659,Parámetros!$AD$12:$AE$17,2,FALSE),\"\")","v":""},{"$f":"IF(Datos_de_Tarjetas!G659=0,\"\",Datos_de_Tarjetas!G659)","v":""},{"$f":"IFERROR(VLOOKUP(Datos_de_Tarjetas!K659,Parámetros!$AJ$3:$AK$13,2,FALSE),\"\")","v":""},{"$f":"IFERROR(VLOOKUP(Datos_de_Tarjetas!J659,Parámetros!$AQ$3:$AR$57,2,FALSE),\"\")","v":""},null,{"$f":"IF(Datos_de_Tarjetas!L659=0,\"\",Datos_de_Tarjetas!L659)","v":""},{"$f":"IF(Datos_de_Tarjetas!M659=0,\"\",Datos_de_Tarjetas!M659)","v":""},{"$f":"IF(Datos_de_Tarjetas!N659=0,\"\",Datos_de_Tarjetas!N659)","v":""},{"$f":"IFERROR(VLOOKUP(Datos_de_Tarjetas!P659,Parámetros!$AM$3:$AN$90,2,FALSE),\"\")","v":""}]
[null,1069470000,{"$f":"IFERROR(VLOOKUP(Datos_de_Tarjetas!D660,Parámetros!$AD$12:$AE$17,2,FALSE),\"\")","v":""},{"$f":"IF(Datos_de_Tarjetas!G660=0,\"\",Datos_de_Tarjetas!G660)","v":""},{"$f":"IFERROR(VLOOKUP(Datos_de_Tarjetas!K660,Parámetros!$AJ$3:$AK$13,2,FALSE),\"\")","v":""},{"$f":"IFERROR(VLOOKUP(Datos_de_Tarjetas!J660,Parámetros!$AQ$3:$AR$57,2,FALSE),\"\")","v":""},null,{"$f":"IF(Datos_de_Tarjetas!L660=0,\"\",Datos_de_Tarjetas!L660)","v":""},{"$f":"IF(Datos_de_Tarjetas!M660=0,\"\",Datos_de_Tarjetas!M660)","v":""},{"$f":"IF(Datos_de_Tarjetas!N660=0,\"\",Datos_de_Tarjetas!N660)","v":""},{"$f":"IFERROR(VLOOKUP(Datos_de_Tarjetas!P660,Parámetros!$AM$3:$AN$90,2,FALSE),\"\")","v":""}]
[null,1069470000,{"$f":"IFERROR(VLOOKUP(Datos_de_Tarjetas!D661,Parámetros!$AD$12:$AE$17,2,FALSE),\"\")","v":""},{"$f":"IF(Datos_de_Tarjetas!G661=0,\"\",Datos_de_Tarjetas!G661)","v":""},{"$f":"IFERROR(VLOOKUP(Datos_de_Tarjetas!K661,Parámetros!$AJ$3:$AK$13,2,FALSE),\"\")","v":""},{"$f":"IFERROR(VLOOKUP(Datos_de_Tarjetas!J661,Parámetros!$AQ$3:$AR$57,2,FALSE),\"\")","v":""},null,{"$f":"IF(Datos_de_Tarjetas!L661=0,\"\",Datos_de_Tarjetas!L661)","v":""},{"$f":"IF(Datos_de_Tarjetas!M661=0,\"\",Datos_de_Tarjetas!M661)","v":""},{"$f":"IF(Datos_de_Tarjetas!N661=0,\"\",Datos_de_Tarjetas!N661)","v":""},{"$f":"IFERROR(VLOOKUP(Datos_de_Tarjetas!P661,Parámetros!$AM$3:$AN$90,2,FALSE),\"\")","v":""}]
[null,1069470000,{"$f":"IFERROR(VLOOKUP(Datos_de_Tarjetas!D662,Parámetros!$AD$12:$AE$17,2,FALSE),\"\")","v":""},{"$f":"IF(Datos_de_Tarjetas!G662=0,\"\",Datos_de_Tarjetas!G662)","v":""},{"$f":"IFERROR(VLOOKUP(Datos_de_Tarjetas!K662,Parámetros!$AJ$3:$AK$13,2,FALSE),\"\")","v":""},{"$f":"IFERROR(VLOOKUP(Datos_de_Tarjetas!J662,Parámetros!$AQ$3:$AR$57,2,FALSE),\"\")","v":""},null,{"$f":"IF(Datos_de_Tarjetas!L662=0,\"\",Datos_de_Tarjetas!L662)","v":""},{"$f":"IF(Datos_de_Tarjetas!M662=0,\"\",Datos_de_Tarjetas!M662)","v":""},{"$f":"IF(Datos_de_Tarjetas!N662=0,\"\",Datos_de_Tarjetas!N662)","v":""},{"$f":"IFERROR(VLOOKUP(Datos_de_Tarjetas!P662,Parámetros!$AM$3:$AN$90,2,FALSE),\"\")","v":""}]
[null,1069470000,{"$f":"IFERROR(VLOOKUP(Datos_de_Tarjetas!D663,Parámetros!$AD$12:$AE$17,2,FALSE),\"\")","v":""},{"$f":"IF(Datos_de_Tarjetas!G663=0,\"\",Datos_de_Tarjetas!G663)","v":""},{"$f":"IFERROR(VLOOKUP(Datos_de_Tarjetas!K663,Parámetros!$AJ$3:$AK$13,2,FALSE),\"\")","v":""},{"$f":"IFERROR(VLOOKUP(Datos_de_Tarjetas!J663,Parámetros!$AQ$3:$AR$57,2,FALSE),\"\")","v":""},null,{"$f":"IF(Datos_de_Tarjetas!L663=0,\"\",Datos_de_Tarjetas!L663)","v":""},{"$f":"IF(Datos_de_Tarjetas!M663=0,\"\",Datos_de_Tarjetas!M663)","v":""},{"$f":"IF(Datos_de_Tarjetas!N663=0,\"\",Datos_de_Tarjetas!N663)","v":""},{"$f":"IFERROR(VLOOKUP(Datos_de_Tarjetas!P663,Parámetros!$AM$3:$AN$90,2,FALSE),\"\")","v":""}]
[null,1069470000,{"$f":"IFERROR(VLOOKUP(Datos_de_Tarjetas!D664,Parámetros!$AD$12:$AE$17,2,FALSE),\"\")","v":""},{"$f":"IF(Datos_de_Tarjetas!G664=0,\"\",Datos_de_Tarjetas!G664)","v":""},{"$f":"IFERROR(VLOOKUP(Datos_de_Tarjetas!K664,Parámetros!$AJ$3:$AK$13,2,FALSE),\"\")","v":""},{"$f":"IFERROR(VLOOKUP(Datos_de_Tarjetas!J664,Parámetros!$AQ$3:$AR$57,2,FALSE),\"\")","v":""},null,{"$f":"IF(Datos_de_Tarjetas!L664=0,\"\",Datos_de_Tarjetas!L664)","v":""},{"$f":"IF(Datos_de_Tarjetas!M664=0,\"\",Datos_de_Tarjetas!M664)","v":""},{"$f":"IF(Datos_de_Tarjetas!N664=0,\"\",Datos_de_Tarjetas!N664)","v":""},{"$f":"IFERROR(VLOOKUP(Datos_de_Tarjetas!P664,Parámetros!$AM$3:$AN$90,2,FALSE),\"\")","v":""}]
[null,1069470000,{"$f":"IFERROR(VLOOKUP(Datos_de_Tarjetas!D665,Parámetros!$AD$12:$AE$17,2,FALSE),\"\")","v":""},{"$f":"IF(Datos_de_Tarjetas!G665=0,\"\",Datos_de_Tarjetas!G665)","v":""},{"$f":"IFERROR(VLOOKUP(Datos_de_Tarjetas!K665,Parámetros!$AJ$3:$AK$13,2,FALSE),\"\")","v":""},{"$f":"IFERROR(VLOOKUP(Datos_de_Tarjetas!J665,Parámetros!$AQ$3:$AR$57,2,FALSE),\"\")","v":""},null,{"$f":"IF(Datos_de_Tarjetas!L665=0,\"\",Datos_de_Tarjetas!L665)","v":""},{"$f":"IF(Datos_de_Tarjetas!M665=0,\"\",Datos_de_Tarjetas!M665)","v":""},{"$f":"IF(Datos_de_Tarjetas!N665=0,\"\",Datos_de_Tarjetas!N665)","v":""},{"$f":"IFERROR(VLOOKUP(Datos_de_Tarjetas!P665,Parámetros!$AM$3:$AN$90,2,FALSE),\"\")","v":""}]
[null,1069470000,{"$f":"IFERROR(VLOOKUP(Datos_de_Tarjetas!D666,Parámetros!$AD$12:$AE$17,2,FALSE),\"\")","v":""},{"$f":"IF(Datos_de_Tarjetas!G666=0,\"\",Datos_de_Tarjetas!G666)","v":""},{"$f":"IFERROR(VLOOKUP(Datos_de_Tarjetas!K666,Parámetros!$AJ$3:$AK$13,2,FALSE),\"\")","v":""},{"$f":"IFERROR(VLOOKUP(Datos_de_Tarjetas!J666,Parámetros!$AQ$3:$AR$57,2,FALSE),\"\")","v":""},null,{"$f":"IF(Datos_de_Tarjetas!L666=0,\"\",Datos_de_Tarjetas!L666)","v":""},{"$f":"IF(Datos_de_Tarjetas!M666=0,\"\",Datos_de_Tarjetas!M666)","v":""},{"$f":"IF(Datos_de_Tarjetas!N666=0,\"\",Datos_de_Tarjetas!N666)","v":""},{"$f":"IFERROR(VLOOKUP(Datos_de_Tarjetas!P666,Parámetros!$AM$3:$AN$90,2,FALSE),\"\")","v":""}]
[null,1069470000,{"$f":"IFERROR(VLOOKUP(Datos_de_Tarjetas!D667,Parámetros!$AD$12:$AE$17,2,FALSE),\"\")","v":""},{"$f":"IF(Datos_de_Tarjetas!G667=0,\"\",Datos_de_Tarjetas!G667)","v":""},{"$f":"IFERROR(VLOOKUP(Datos_de_Tarjetas!K667,Parámetros!$AJ$3:$AK$13,2,FALSE),\"\")","v":""},{"$f":"IFERROR(VLOOKUP(Datos_de_Tarjetas!J667,Parámetros!$AQ$3:$AR$57,2,FALSE),\"\")","v":""},null,{"$f":"IF(Datos_de_Tarjetas!L667=0,\"\",Datos_de_Tarjetas!L667)","v":""},{"$f":"IF(Datos_de_Tarjetas!M667=0,\"\",Datos_de_Tarjetas!M667)","v":""},{"$f":"IF(Datos_de_Tarjetas!N667=0,\"\",Datos_de_Tarjetas!N667)","v":""},{"$f":"IFERROR(VLOOKUP(Datos_de_Tarjetas!P667,Parámetros!$AM$3:$AN$90,2,FALSE),\"\")","v":""}]
[null,1069470000,{"$f":"IFERROR(VLOOKUP(Datos_de_Tarjetas!D668,Parámetros!$AD$12:$AE$17,2,FALSE),\"\")","v":""},{"$f":"IF(Datos_de_Tarjetas!G668=0,\"\",Datos_de_Tarjetas!G668)","v":""},{"$f":"IFERROR(VLOOKUP(Datos_de_Tarjetas!K668,Parámetros!$AJ$3:$AK$13,2,FALSE),\"\")","v":""},{"$f":"IFERROR(VLOOKUP(Datos_de_Tarjetas!J668,Parámetros!$AQ$3:$AR$57,2,FALSE),\"\")","v":""},null,{"$f":"IF(Datos_de_Tarjetas!L668=0,\"\",Datos_de_Tarjetas!L668)","v":""},{"$f":"IF(Datos_de_Tarjetas!M668=0,\"\",Datos_de_Tarjetas!M668)","v":""},{"$f":"IF(Datos_de_Tarjetas!N668=0,\"\",Datos_de_Tarjetas!N668)","v":""},{"$f":"IFERROR(VLOOKUP(Datos_de_Tarjetas!P668,Parámetros!$AM$3:$AN$90,2,FALSE),\"\")","v":""}]
[null,1069470000,{"$f":"IFERROR(VLOOKUP(Datos_de_Tarjetas!D669,Parámetros!$AD$12:$AE$17,2,FALSE),\"\")","v":""},{"$f":"IF(Datos_de_Tarjetas!G669=0,\"\",Datos_de_Tarjetas!G669)","v":""},{"$f":"IFERROR(VLOOKUP(Datos_de_Tarjetas!K669,Parámetros!$AJ$3:$AK$13,2,FALSE),\"\")","v":""},{"$f":"IFERROR(VLOOKUP(Datos_de_Tarjetas!J669,Parámetros!$AQ$3:$AR$57,2,FALSE),\"\")","v":""},null,{"$f":"IF(Datos_de_Tarjetas!L669=0,\"\",Datos_de_Tarjetas!L669)","v":""},{"$f":"IF(Datos_de_Tarjetas!M669=0,\"\",Datos_de_Tarjetas!M669)","v":""},{"$f":"IF(Datos_de_Tarjetas!N669=0,\"\",Datos_de_Tarjetas!N669)","v":""},{"$f":"IFERROR(VLOOKUP(Datos_de_Tarjetas!P669,Parámetros!$AM$3:$AN$90,2,FALSE),\"\")","v":""}]
[null,1069470000,{"$f":"IFERROR(VLOOKUP(Datos_de_Tarjetas!D670,Parámetros!$AD$12:$AE$17,2,FALSE),\"\")","v":""},{"$f":"IF(Datos_de_Tarjetas!G670=0,\"\",Datos_de_Tarjetas!G670)","v":""},{"$f":"IFERROR(VLOOKUP(Datos_de_Tarjetas!K670,Parámetros!$AJ$3:$AK$13,2,FALSE),\"\")","v":""},{"$f":"IFERROR(VLOOKUP(Datos_de_Tarjetas!J670,Parámetros!$AQ$3:$AR$57,2,FALSE),\"\")","v":""},null,{"$f":"IF(Datos_de_Tarjetas!L670=0,\"\",Datos_de_Tarjetas!L670)","v":""},{"$f":"IF(Datos_de_Tarjetas!M670=0,\"\",Datos_de_Tarjetas!M670)","v":""},{"$f":"IF(Datos_de_Tarjetas!N670=0,\"\",Datos_de_Tarjetas!N670)","v":""},{"$f":"IFERROR(VLOOKUP(Datos_de_Tarjetas!P670,Parámetros!$AM$3:$AN$90,2,FALSE),\"\")","v":""}]
[null,1069470000,{"$f":"IFERROR(VLOOKUP(Datos_de_Tarjetas!D671,Parámetros!$AD$12:$AE$17,2,FALSE),\"\")","v":""},{"$f":"IF(Datos_de_Tarjetas!G671=0,\"\",Datos_de_Tarjetas!G671)","v":""},{"$f":"IFERROR(VLOOKUP(Datos_de_Tarjetas!K671,Parámetros!$AJ$3:$AK$13,2,FALSE),\"\")","v":""},{"$f":"IFERROR(VLOOKUP(Datos_de_Tarjetas!J671,Parámetros!$AQ$3:$AR$57,2,FALSE),\"\")","v":""},null,{"$f":"IF(Datos_de_Tarjetas!L671=0,\"\",Datos_de_Tarjetas!L671)","v":""},{"$f":"IF(Datos_de_Tarjetas!M671=0,\"\",Datos_de_Tarjetas!M671)","v":""},{"$f":"IF(Datos_de_Tarjetas!N671=0,\"\",Datos_de_Tarjetas!N671)","v":""},{"$f":"IFERROR(VLOOKUP(Datos_de_Tarjetas!P671,Parámetros!$AM$3:$AN$90,2,FALSE),\"\")","v":""}]
[null,1069470000,{"$f":"IFERROR(VLOOKUP(Datos_de_Tarjetas!D672,Parámetros!$AD$12:$AE$17,2,FALSE),\"\")","v":""},{"$f":"IF(Datos_de_Tarjetas!G672=0,\"\",Datos_de_Tarjetas!G672)","v":""},{"$f":"IFERROR(VLOOKUP(Datos_de_Tarjetas!K672,Parámetros!$AJ$3:$AK$13,2,FALSE),\"\")","v":""},{"$f":"IFERROR(VLOOKUP(Datos_de_Tarjetas!J672,Parámetros!$AQ$3:$AR$57,2,FALSE),\"\")","v":""},null,{"$f":"IF(Datos_de_Tarjetas!L672=0,\"\",Datos_de_Tarjetas!L672)","v":""},{"$f":"IF(Datos_de_Tarjetas!M672=0,\"\",Datos_de_Tarjetas!M672)","v":""},{"$f":"IF(Datos_de_Tarjetas!N672=0,\"\",Datos_de_Tarjetas!N672)","v":""},{"$f":"IFERROR(VLOOKUP(Datos_de_Tarjetas!P672,Parámetros!$AM$3:$AN$90,2,FALSE),\"\")","v":""}]
[null,1069470000,{"$f":"IFERROR(VLOOKUP(Datos_de_Tarjetas!D673,Parámetros!$AD$12:$AE$17,2,FALSE),\"\")","v":""},{"$f":"IF(Datos_de_Tarjetas!G673=0,\"\",Datos_de_Tarjetas!G673)","v":""},{"$f":"IFERROR(VLOOKUP(Datos_de_Tarjetas!K673,Parámetros!$AJ$3:$AK$13,2,FALSE),\"\")","v":""},{"$f":"IFERROR(VLOOKUP(Datos_de_Tarjetas!J673,Parámetros!$AQ$3:$AR$57,2,FALSE),\"\")","v":""},null,{"$f":"IF(Datos_de_Tarjetas!L673=0,\"\",Datos_de_Tarjetas!L673)","v":""},{"$f":"IF(Datos_de_Tarjetas!M673=0,\"\",Datos_de_Tarjetas!M673)","v":""},{"$f":"IF(Datos_de_Tarjetas!N673=0,\"\",Datos_de_Tarjetas!N673)","v":""},{"$f":"IFERROR(VLOOKUP(Datos_de_Tarjetas!P673,Parámetros!$AM$3:$AN$90,2,FALSE),\"\")","v":""}]
[null,1069470000,{"$f":"IFERROR(VLOOKUP(Datos_de_Tarjetas!D674,Parámetros!$AD$12:$AE$17,2,FALSE),\"\")","v":""},{"$f":"IF(Datos_de_Tarjetas!G674=0,\"\",Datos_de_Tarjetas!G674)","v":""},{"$f":"IFERROR(VLOOKUP(Datos_de_Tarjetas!K674,Parámetros!$AJ$3:$AK$13,2,FALSE),\"\")","v":""},{"$f":"IFERROR(VLOOKUP(Datos_de_Tarjetas!J674,Parámetros!$AQ$3:$AR$57,2,FALSE),\"\")","v":""},null,{"$f":"IF(Datos_de_Tarjetas!L674=0,\"\",Datos_de_Tarjetas!L674)","v":""},{"$f":"IF(Datos_de_Tarjetas!M674=0,\"\",Datos_de_Tarjetas!M674)","v":""},{"$f":"IF(Datos_de_Tarjetas!N674=0,\"\",Datos_de_Tarjetas!N674)","v":""},{"$f":"IFERROR(VLOOKUP(Datos_de_Tarjetas!P674,Parámetros!$AM$3:$AN$90,2,FALSE),\"\")","v":""}]
[null,1069470000,{"$f":"IFERROR(VLOOKUP(Datos_de_Tarjetas!D675,Parámetros!$AD$12:$AE$17,2,FALSE),\"\")","v":""},{"$f":"IF(Datos_de_Tarjetas!G675=0,\"\",Datos_de_Tarjetas!G675)","v":""},{"$f":"IFERROR(VLOOKUP(Datos_de_Tarjetas!K675,Parámetros!$AJ$3:$AK$13,2,FALSE),\"\")","v":""},{"$f":"IFERROR(VLOOKUP(Datos_de_Tarjetas!J675,Parámetros!$AQ$3:$AR$57,2,FALSE),\"\")","v":""},null,{"$f":"IF(Datos_de_Tarjetas!L675=0,\"\",Datos_de_Tarjetas!L675)","v":""},{"$f":"IF(Datos_de_Tarjetas!M675=0,\"\",Datos_de_Tarjetas!M675)","v":""},{"$f":"IF(Datos_de_Tarjetas!N675=0,\"\",Datos_de_Tarjetas!N675)","v":""},{"$f":"IFERROR(VLOOKUP(Datos_de_Tarjetas!P675,Parámetros!$AM$3:$AN$90,2,FALSE),\"\")","v":""}]
[null,1069470000,{"$f":"IFERROR(VLOOKUP(Datos_de_Tarjetas!D676,Parámetros!$AD$12:$AE$17,2,FALSE),\"\")","v":""},{"$f":"IF(Datos_de_Tarjetas!G676=0,\"\",Datos_de_Tarjetas!G676)","v":""},{"$f":"IFERROR(VLOOKUP(Datos_de_Tarjetas!K676,Parámetros!$AJ$3:$AK$13,2,FALSE),\"\")","v":""},{"$f":"IFERROR(VLOOKUP(Datos_de_Tarjetas!J676,Parámetros!$AQ$3:$AR$57,2,FALSE),\"\")","v":""},null,{"$f":"IF(Datos_de_Tarjetas!L676=0,\"\",Datos_de_Tarjetas!L676)","v":""},{"$f":"IF(Datos_de_Tarjetas!M676=0,\"\",Datos_de_Tarjetas!M676)","v":""},{"$f":"IF(Datos_de_Tarjetas!N676=0,\"\",Datos_de_Tarjetas!N676)","v":""},{"$f":"IFERROR(VLOOKUP(Datos_de_Tarjetas!P676,Parámetros!$AM$3:$AN$90,2,FALSE),\"\")","v":""}]
[null,1069470000,{"$f":"IFERROR(VLOOKUP(Datos_de_Tarjetas!D677,Parámetros!$AD$12:$AE$17,2,FALSE),\"\")","v":""},{"$f":"IF(Datos_de_Tarjetas!G677=0,\"\",Datos_de_Tarjetas!G677)","v":""},{"$f":"IFERROR(VLOOKUP(Datos_de_Tarjetas!K677,Parámetros!$AJ$3:$AK$13,2,FALSE),\"\")","v":""},{"$f":"IFERROR(VLOOKUP(Datos_de_Tarjetas!J677,Parámetros!$AQ$3:$AR$57,2,FALSE),\"\")","v":""},null,{"$f":"IF(Datos_de_Tarjetas!L677=0,\"\",Datos_de_Tarjetas!L677)","v":""},{"$f":"IF(Datos_de_Tarjetas!M677=0,\"\",Datos_de_Tarjetas!M677)","v":""},{"$f":"IF(Datos_de_Tarjetas!N677=0,\"\",Datos_de_Tarjetas!N677)","v":""},{"$f":"IFERROR(VLOOKUP(Datos_de_Tarjetas!P677,Parámetros!$AM$3:$AN$90,2,FALSE),\"\")","v":""}]
[null,1069470000,{"$f":"IFERROR(VLOOKUP(Datos_de_Tarjetas!D678,Parámetros!$AD$12:$AE$17,2,FALSE),\"\")","v":""},{"$f":"IF(Datos_de_Tarjetas!G678=0,\"\",Datos_de_Tarjetas!G678)","v":""},{"$f":"IFERROR(VLOOKUP(Datos_de_Tarjetas!K678,Parámetros!$AJ$3:$AK$13,2,FALSE),\"\")","v":""},{"$f":"IFERROR(VLOOKUP(Datos_de_Tarjetas!J678,Parámetros!$AQ$3:$AR$57,2,FALSE),\"\")","v":""},null,{"$f":"IF(Datos_de_Tarjetas!L678=0,\"\",Datos_de_Tarjetas!L678)","v":""},{"$f":"IF(Datos_de_Tarjetas!M678=0,\"\",Datos_de_Tarjetas!M678)","v":""},{"$f":"IF(Datos_de_Tarjetas!N678=0,\"\",Datos_de_Tarjetas!N678)","v":""},{"$f":"IFERROR(VLOOKUP(Datos_de_Tarjetas!P678,Parámetros!$AM$3:$AN$90,2,FALSE),\"\")","v":""}]
[null,1069470000,{"$f":"IFERROR(VLOOKUP(Datos_de_Tarjetas!D679,Parámetros!$AD$12:$AE$17,2,FALSE),\"\")","v":""},{"$f":"IF(Datos_de_Tarjetas!G679=0,\"\",Datos_de_Tarjetas!G679)","v":""},{"$f":"IFERROR(VLOOKUP(Datos_de_Tarjetas!K679,Parámetros!$AJ$3:$AK$13,2,FALSE),\"\")","v":""},{"$f":"IFERROR(VLOOKUP(Datos_de_Tarjetas!J679,Parámetros!$AQ$3:$AR$57,2,FALSE),\"\")","v":""},null,{"$f":"IF(Datos_de_Tarjetas!L679=0,\"\",Datos_de_Tarjetas!L679)","v":""},{"$f":"IF(Datos_de_Tarjetas!M679=0,\"\",Datos_de_Tarjetas!M679)","v":""},{"$f":"IF(Datos_de_Tarjetas!N679=0,\"\",Datos_de_Tarjetas!N679)","v":""},{"$f":"IFERROR(VLOOKUP(Datos_de_Tarjetas!P679,Parámetros!$AM$3:$AN$90,2,FALSE),\"\")","v":""}]
[null,1069470000,{"$f":"IFERROR(VLOOKUP(Datos_de_Tarjetas!D680,Parámetros!$AD$12:$AE$17,2,FALSE),\"\")","v":""},{"$f":"IF(Datos_de_Tarjetas!G680=0,\"\",Datos_de_Tarjetas!G680)","v":""},{"$f":"IFERROR(VLOOKUP(Datos_de_Tarjetas!K680,Parámetros!$AJ$3:$AK$13,2,FALSE),\"\")","v":""},{"$f":"IFERROR(VLOOKUP(Datos_de_Tarjetas!J680,Parámetros!$AQ$3:$AR$57,2,FALSE),\"\")","v":""},null,{"$f":"IF(Datos_de_Tarjetas!L680=0,\"\",Datos_de_Tarjetas!L680)","v":""},{"$f":"IF(Datos_de_Tarjetas!M680=0,\"\",Datos_de_Tarjetas!M680)","v":""},{"$f":"IF(Datos_de_Tarjetas!N680=0,\"\",Datos_de_Tarjetas!N680)","v":""},{"$f":"IFERROR(VLOOKUP(Datos_de_Tarjetas!P680,Parámetros!$AM$3:$AN$90,2,FALSE),\"\")","v":""}]
[null,1069470000,{"$f":"IFERROR(VLOOKUP(Datos_de_Tarjetas!D681,Parámetros!$AD$12:$AE$17,2,FALSE),\"\")","v":""},{"$f":"IF(Datos_de_Tarjetas!G681=0,\"\",Datos_de_Tarjetas!G681)","v":""},{"$f":"IFERROR(VLOOKUP(Datos_de_Tarjetas!K681,Parámetros!$AJ$3:$AK$13,2,FALSE),\"\")","v":""},{"$f":"IFERROR(VLOOKUP(Datos_de_Tarjetas!J681,Parámetros!$AQ$3:$AR$57,2,FALSE),\"\")","v":""},null,{"$f":"IF(Datos_de_Tarjetas!L681=0,\"\",Datos_de_Tarjetas!L681)","v":""},{"$f":"IF(Datos_de_Tarjetas!M681=0,\"\",Datos_de_Tarjetas!M681)","v":""},{"$f":"IF(Datos_de_Tarjetas!N681=0,\"\",Datos_de_Tarjetas!N681)","v":""},{"$f":"IFERROR(VLOOKUP(Datos_de_Tarjetas!P681,Parámetros!$AM$3:$AN$90,2,FALSE),\"\")","v":""}]
[null,1069470000,{"$f":"IFERROR(VLOOKUP(Datos_de_Tarjetas!D682,Parámetros!$AD$12:$AE$17,2,FALSE),\"\")","v":""},{"$f":"IF(Datos_de_Tarjetas!G682=0,\"\",Datos_de_Tarjetas!G682)","v":""},{"$f":"IFERROR(VLOOKUP(Datos_de_Tarjetas!K682,Parámetros!$AJ$3:$AK$13,2,FALSE),\"\")","v":""},{"$f":"IFERROR(VLOOKUP(Datos_de_Tarjetas!J682,Parámetros!$AQ$3:$AR$57,2,FALSE),\"\")","v":""},null,{"$f":"IF(Datos_de_Tarjetas!L682=0,\"\",Datos_de_Tarjetas!L682)","v":""},{"$f":"IF(Datos_de_Tarjetas!M682=0,\"\",Datos_de_Tarjetas!M682)","v":""},{"$f":"IF(Datos_de_Tarjetas!N682=0,\"\",Datos_de_Tarjetas!N682)","v":""},{"$f":"IFERROR(VLOOKUP(Datos_de_Tarjetas!P682,Parámetros!$AM$3:$AN$90,2,FALSE),\"\")","v":""}]
[null,1069470000,{"$f":"IFERROR(VLOOKUP(Datos_de_Tarjetas!D683,Parámetros!$AD$12:$AE$17,2,FALSE),\"\")","v":""},{"$f":"IF(Datos_de_Tarjetas!G683=0,\"\",Datos_de_Tarjetas!G683)","v":""},{"$f":"IFERROR(VLOOKUP(Datos_de_Tarjetas!K683,Parámetros!$AJ$3:$AK$13,2,FALSE),\"\")","v":""},{"$f":"IFERROR(VLOOKUP(Datos_de_Tarjetas!J683,Parámetros!$AQ$3:$AR$57,2,FALSE),\"\")","v":""},null,{"$f":"IF(Datos_de_Tarjetas!L683=0,\"\",Datos_de_Tarjetas!L683)","v":""},{"$f":"IF(Datos_de_Tarjetas!M683=0,\"\",Datos_de_Tarjetas!M683)","v":""},{"$f":"IF(Datos_de_Tarjetas!N683=0,\"\",Datos_de_Tarjetas!N683)","v":""},{"$f":"IFERROR(VLOOKUP(Datos_de_Tarjetas!P683,Parámetros!$AM$3:$AN$90,2,FALSE),\"\")","v":""}]
[null,1069470000,{"$f":"IFERROR(VLOOKUP(Datos_de_Tarjetas!D684,Parámetros!$AD$12:$AE$17,2,FALSE),\"\")","v":""},{"$f":"IF(Datos_de_Tarjetas!G684=0,\"\",Datos_de_Tarjetas!G684)","v":""},{"$f":"IFERROR(VLOOKUP(Datos_de_Tarjetas!K684,Parámetros!$AJ$3:$AK$13,2,FALSE),\"\")","v":""},{"$f":"IFERROR(VLOOKUP(Datos_de_Tarjetas!J684,Parámetros!$AQ$3:$AR$57,2,FALSE),\"\")","v":""},null,{"$f":"IF(Datos_de_Tarjetas!L684=0,\"\",Datos_de_Tarjetas!L684)","v":""},{"$f":"IF(Datos_de_Tarjetas!M684=0,\"\",Datos_de_Tarjetas!M684)","v":""},{"$f":"IF(Datos_de_Tarjetas!N684=0,\"\",Datos_de_Tarjetas!N684)","v":""},{"$f":"IFERROR(VLOOKUP(Datos_de_Tarjetas!P684,Parámetros!$AM$3:$AN$90,2,FALSE),\"\")","v":""}]
[null,1069470000,{"$f":"IFERROR(VLOOKUP(Datos_de_Tarjetas!D685,Parámetros!$AD$12:$AE$17,2,FALSE),\"\")","v":""},{"$f":"IF(Datos_de_Tarjetas!G685=0,\"\",Datos_de_Tarjetas!G685)","v":""},{"$f":"IFERROR(VLOOKUP(Datos_de_Tarjetas!K685,Parámetros!$AJ$3:$AK$13,2,FALSE),\"\")","v":""},{"$f":"IFERROR(VLOOKUP(Datos_de_Tarjetas!J685,Parámetros!$AQ$3:$AR$57,2,FALSE),\"\")","v":""},null,{"$f":"IF(Datos_de_Tarjetas!L685=0,\"\",Datos_de_Tarjetas!L685)","v":""},{"$f":"IF(Datos_de_Tarjetas!M685=0,\"\",Datos_de_Tarjetas!M685)","v":""},{"$f":"IF(Datos_de_Tarjetas!N685=0,\"\",Datos_de_Tarjetas!N685)","v":""},{"$f":"IFERROR(VLOOKUP(Datos_de_Tarjetas!P685,Parámetros!$AM$3:$AN$90,2,FALSE),\"\")","v":""}]
[null,1069470000,{"$f":"IFERROR(VLOOKUP(Datos_de_Tarjetas!D686,Parámetros!$AD$12:$AE$17,2,FALSE),\"\")","v":""},{"$f":"IF(Datos_de_Tarjetas!G686=0,\"\",Datos_de_Tarjetas!G686)","v":""},{"$f":"IFERROR(VLOOKUP(Datos_de_Tarjetas!K686,Parámetros!$AJ$3:$AK$13,2,FALSE),\"\")","v":""},{"$f":"IFERROR(VLOOKUP(Datos_de_Tarjetas!J686,Parámetros!$AQ$3:$AR$57,2,FALSE),\"\")","v":""},null,{"$f":"IF(Datos_de_Tarjetas!L686=0,\"\",Datos_de_Tarjetas!L686)","v":""},{"$f":"IF(Datos_de_Tarjetas!M686=0,\"\",Datos_de_Tarjetas!M686)","v":""},{"$f":"IF(Datos_de_Tarjetas!N686=0,\"\",Datos_de_Tarjetas!N686)","v":""},{"$f":"IFERROR(VLOOKUP(Datos_de_Tarjetas!P686,Parámetros!$AM$3:$AN$90,2,FALSE),\"\")","v":""}]
[null,1069470000,{"$f":"IFERROR(VLOOKUP(Datos_de_Tarjetas!D687,Parámetros!$AD$12:$AE$17,2,FALSE),\"\")","v":""},{"$f":"IF(Datos_de_Tarjetas!G687=0,\"\",Datos_de_Tarjetas!G687)","v":""},{"$f":"IFERROR(VLOOKUP(Datos_de_Tarjetas!K687,Parámetros!$AJ$3:$AK$13,2,FALSE),\"\")","v":""},{"$f":"IFERROR(VLOOKUP(Datos_de_Tarjetas!J687,Parámetros!$AQ$3:$AR$57,2,FALSE),\"\")","v":""},null,{"$f":"IF(Datos_de_Tarjetas!L687=0,\"\",Datos_de_Tarjetas!L687)","v":""},{"$f":"IF(Datos_de_Tarjetas!M687=0,\"\",Datos_de_Tarjetas!M687)","v":""},{"$f":"IF(Datos_de_Tarjetas!N687=0,\"\",Datos_de_Tarjetas!N687)","v":""},{"$f":"IFERROR(VLOOKUP(Datos_de_Tarjetas!P687,Parámetros!$AM$3:$AN$90,2,FALSE),\"\")","v":""}]
[null,1069470000,{"$f":"IFERROR(VLOOKUP(Datos_de_Tarjetas!D688,Parámetros!$AD$12:$AE$17,2,FALSE),\"\")","v":""},{"$f":"IF(Datos_de_Tarjetas!G688=0,\"\",Datos_de_Tarjetas!G688)","v":""},{"$f":"IFERROR(VLOOKUP(Datos_de_Tarjetas!K688,Parámetros!$AJ$3:$AK$13,2,FALSE),\"\")","v":""},{"$f":"IFERROR(VLOOKUP(Datos_de_Tarjetas!J688,Parámetros!$AQ$3:$AR$57,2,FALSE),\"\")","v":""},null,{"$f":"IF(Datos_de_Tarjetas!L688=0,\"\",Datos_de_Tarjetas!L688)","v":""},{"$f":"IF(Datos_de_Tarjetas!M688=0,\"\",Datos_de_Tarjetas!M688)","v":""},{"$f":"IF(Datos_de_Tarjetas!N688=0,\"\",Datos_de_Tarjetas!N688)","v":""},{"$f":"IFERROR(VLOOKUP(Datos_de_Tarjetas!P688,Parámetros!$AM$3:$AN$90,2,FALSE),\"\")","v":""}]
[null,1069470000,{"$f":"IFERROR(VLOOKUP(Datos_de_Tarjetas!D689,Parámetros!$AD$12:$AE$17,2,FALSE),\"\")","v":""},{"$f":"IF(Datos_de_Tarjetas!G689=0,\"\",Datos_de_Tarjetas!G689)","v":""},{"$f":"IFERROR(VLOOKUP(Datos_de_Tarjetas!K689,Parámetros!$AJ$3:$AK$13,2,FALSE),\"\")","v":""},{"$f":"IFERROR(VLOOKUP(Datos_de_Tarjetas!J689,Parámetros!$AQ$3:$AR$57,2,FALSE),\"\")","v":""},null,{"$f":"IF(Datos_de_Tarjetas!L689=0,\"\",Datos_de_Tarjetas!L689)","v":""},{"$f":"IF(Datos_de_Tarjetas!M689=0,\"\",Datos_de_Tarjetas!M689)","v":""},{"$f":"IF(Datos_de_Tarjetas!N689=0,\"\",Datos_de_Tarjetas!N689)","v":""},{"$f":"IFERROR(VLOOKUP(Datos_de_Tarjetas!P689,Parámetros!$AM$3:$AN$90,2,FALSE),\"\")","v":""}]
[null,1069470000,{"$f":"IFERROR(VLOOKUP(Datos_de_Tarjetas!D690,Parámetros!$AD$12:$AE$17,2,FALSE),\"\")","v":""},{"$f":"IF(Datos_de_Tarjetas!G690=0,\"\",Datos_de_Tarjetas!G690)","v":""},{"$f":"IFERROR(VLOOKUP(Datos_de_Tarjetas!K690,Parámetros!$AJ$3:$AK$13,2,FALSE),\"\")","v":""},{"$f":"IFERROR(VLOOKUP(Datos_de_Tarjetas!J690,Parámetros!$AQ$3:$AR$57,2,FALSE),\"\")","v":""},null,{"$f":"IF(Datos_de_Tarjetas!L690=0,\"\",Datos_de_Tarjetas!L690)","v":""},{"$f":"IF(Datos_de_Tarjetas!M690=0,\"\",Datos_de_Tarjetas!M690)","v":""},{"$f":"IF(Datos_de_Tarjetas!N690=0,\"\",Datos_de_Tarjetas!N690)","v":""},{"$f":"IFERROR(VLOOKUP(Datos_de_Tarjetas!P690,Parámetros!$AM$3:$AN$90,2,FALSE),\"\")","v":""}]
[null,1069470000,{"$f":"IFERROR(VLOOKUP(Datos_de_Tarjetas!D691,Parámetros!$AD$12:$AE$17,2,FALSE),\"\")","v":""},{"$f":"IF(Datos_de_Tarjetas!G691=0,\"\",Datos_de_Tarjetas!G691)","v":""},{"$f":"IFERROR(VLOOKUP(Datos_de_Tarjetas!K691,Parámetros!$AJ$3:$AK$13,2,FALSE),\"\")","v":""},{"$f":"IFERROR(VLOOKUP(Datos_de_Tarjetas!J691,Parámetros!$AQ$3:$AR$57,2,FALSE),\"\")","v":""},null,{"$f":"IF(Datos_de_Tarjetas!L691=0,\"\",Datos_de_Tarjetas!L691)","v":""},{"$f":"IF(Datos_de_Tarjetas!M691=0,\"\",Datos_de_Tarjetas!M691)","v":""},{"$f":"IF(Datos_de_Tarjetas!N691=0,\"\",Datos_de_Tarjetas!N691)","v":""},{"$f":"IFERROR(VLOOKUP(Datos_de_Tarjetas!P691,Parámetros!$AM$3:$AN$90,2,FALSE),\"\")","v":""}]
[null,1069470000,{"$f":"IFERROR(VLOOKUP(Datos_de_Tarjetas!D692,Parámetros!$AD$12:$AE$17,2,FALSE),\"\")","v":""},{"$f":"IF(Datos_de_Tarjetas!G692=0,\"\",Datos_de_Tarjetas!G692)","v":""},{"$f":"IFERROR(VLOOKUP(Datos_de_Tarjetas!K692,Parámetros!$AJ$3:$AK$13,2,FALSE),\"\")","v":""},{"$f":"IFERROR(VLOOKUP(Datos_de_Tarjetas!J692,Parámetros!$AQ$3:$AR$57,2,FALSE),\"\")","v":""},null,{"$f":"IF(Datos_de_Tarjetas!L692=0,\"\",Datos_de_Tarjetas!L692)","v":""},{"$f":"IF(Datos_de_Tarjetas!M692=0,\"\",Datos_de_Tarjetas!M692)","v":""},{"$f":"IF(Datos_de_Tarjetas!N692=0,\"\",Datos_de_Tarjetas!N692)","v":""},{"$f":"IFERROR(VLOOKUP(Datos_de_Tarjetas!P692,Parámetros!$AM$3:$AN$90,2,FALSE),\"\")","v":""}]
[null,1069470000,{"$f":"IFERROR(VLOOKUP(Datos_de_Tarjetas!D693,Parámetros!$AD$12:$AE$17,2,FALSE),\"\")","v":""},{"$f":"IF(Datos_de_Tarjetas!G693=0,\"\",Datos_de_Tarjetas!G693)","v":""},{"$f":"IFERROR(VLOOKUP(Datos_de_Tarjetas!K693,Parámetros!$AJ$3:$AK$13,2,FALSE),\"\")","v":""},{"$f":"IFERROR(VLOOKUP(Datos_de_Tarjetas!J693,Parámetros!$AQ$3:$AR$57,2,FALSE),\"\")","v":""},null,{"$f":"IF(Datos_de_Tarjetas!L693=0,\"\",Datos_de_Tarjetas!L693)","v":""},{"$f":"IF(Datos_de_Tarjetas!M693=0,\"\",Datos_de_Tarjetas!M693)","v":""},{"$f":"IF(Datos_de_Tarjetas!N693=0,\"\",Datos_de_Tarjetas!N693)","v":""},{"$f":"IFERROR(VLOOKUP(Datos_de_Tarjetas!P693,Parámetros!$AM$3:$AN$90,2,FALSE),\"\")","v":""}]
[null,1069470000,{"$f":"IFERROR(VLOOKUP(Datos_de_Tarjetas!D694,Parámetros!$AD$12:$AE$17,2,FALSE),\"\")","v":""},{"$f":"IF(Datos_de_Tarjetas!G694=0,\"\",Datos_de_Tarjetas!G694)","v":""},{"$f":"IFERROR(VLOOKUP(Datos_de_Tarjetas!K694,Parámetros!$AJ$3:$AK$13,2,FALSE),\"\")","v":""},{"$f":"IFERROR(VLOOKUP(Datos_de_Tarjetas!J694,Parámetros!$AQ$3:$AR$57,2,FALSE),\"\")","v":""},null,{"$f":"IF(Datos_de_Tarjetas!L694=0,\"\",Datos_de_Tarjetas!L694)","v":""},{"$f":"IF(Datos_de_Tarjetas!M694=0,\"\",Datos_de_Tarjetas!M694)","v":""},{"$f":"IF(Datos_de_Tarjetas!N694=0,\"\",Datos_de_Tarjetas!N694)","v":""},{"$f":"IFERROR(VLOOKUP(Datos_de_Tarjetas!P694,Parámetros!$AM$3:$AN$90,2,FALSE),\"\")","v":""}]
[null,1069470000,{"$f":"IFERROR(VLOOKUP(Datos_de_Tarjetas!D695,Parámetros!$AD$12:$AE$17,2,FALSE),\"\")","v":""},{"$f":"IF(Datos_de_Tarjetas!G695=0,\"\",Datos_de_Tarjetas!G695)","v":""},{"$f":"IFERROR(VLOOKUP(Datos_de_Tarjetas!K695,Parámetros!$AJ$3:$AK$13,2,FALSE),\"\")","v":""},{"$f":"IFERROR(VLOOKUP(Datos_de_Tarjetas!J695,Parámetros!$AQ$3:$AR$57,2,FALSE),\"\")","v":""},null,{"$f":"IF(Datos_de_Tarjetas!L695=0,\"\",Datos_de_Tarjetas!L695)","v":""},{"$f":"IF(Datos_de_Tarjetas!M695=0,\"\",Datos_de_Tarjetas!M695)","v":""},{"$f":"IF(Datos_de_Tarjetas!N695=0,\"\",Datos_de_Tarjetas!N695)","v":""},{"$f":"IFERROR(VLOOKUP(Datos_de_Tarjetas!P695,Parámetros!$AM$3:$AN$90,2,FALSE),\"\")","v":""}]
[null,1069470000,{"$f":"IFERROR(VLOOKUP(Datos_de_Tarjetas!D696,Parámetros!$AD$12:$AE$17,2,FALSE),\"\")","v":""},{"$f":"IF(Datos_de_Tarjetas!G696=0,\"\",Datos_de_Tarjetas!G696)","v":""},{"$f":"IFERROR(VLOOKUP(Datos_de_Tarjetas!K696,Parámetros!$AJ$3:$AK$13,2,FALSE),\"\")","v":""},{"$f":"IFERROR(VLOOKUP(Datos_de_Tarjetas!J696,Parámetros!$AQ$3:$AR$57,2,FALSE),\"\")","v":""},null,{"$f":"IF(Datos_de_Tarjetas!L696=0,\"\",Datos_de_Tarjetas!L696)","v":""},{"$f":"IF(Datos_de_Tarjetas!M696=0,\"\",Datos_de_Tarjetas!M696)","v":""},{"$f":"IF(Datos_de_Tarjetas!N696=0,\"\",Datos_de_Tarjetas!N696)","v":""},{"$f":"IFERROR(VLOOKUP(Datos_de_Tarjetas!P696,Parámetros!$AM$3:$AN$90,2,FALSE),\"\")","v":""}]
[null,1069470000,{"$f":"IFERROR(VLOOKUP(Datos_de_Tarjetas!D697,Parámetros!$AD$12:$AE$17,2,FALSE),\"\")","v":""},{"$f":"IF(Datos_de_Tarjetas!G697=0,\"\",Datos_de_Tarjetas!G697)","v":""},{"$f":"IFERROR(VLOOKUP(Datos_de_Tarjetas!K697,Parámetros!$AJ$3:$AK$13,2,FALSE),\"\")","v":""},{"$f":"IFERROR(VLOOKUP(Datos_de_Tarjetas!J697,Parámetros!$AQ$3:$AR$57,2,FALSE),\"\")","v":""},null,{"$f":"IF(Datos_de_Tarjetas!L697=0,\"\",Datos_de_Tarjetas!L697)","v":""},{"$f":"IF(Datos_de_Tarjetas!M697=0,\"\",Datos_de_Tarjetas!M697)","v":""},{"$f":"IF(Datos_de_Tarjetas!N697=0,\"\",Datos_de_Tarjetas!N697)","v":""},{"$f":"IFERROR(VLOOKUP(Datos_de_Tarjetas!P697,Parámetros!$AM$3:$AN$90,2,FALSE),\"\")","v":""}]
[null,1069470000,{"$f":"IFERROR(VLOOKUP(Datos_de_Tarjetas!D698,Parámetros!$AD$12:$AE$17,2,FALSE),\"\")","v":""},{"$f":"IF(Datos_de_Tarjetas!G698=0,\"\",Datos_de_Tarjetas!G698)","v":""},{"$f":"IFERROR(VLOOKUP(Datos_de_Tarjetas!K698,Parámetros!$AJ$3:$AK$13,2,FALSE),\"\")","v":""},{"$f":"IFERROR(VLOOKUP(Datos_de_Tarjetas!J698,Parámetros!$AQ$3:$AR$57,2,FALSE),\"\")","v":""},null,{"$f":"IF(Datos_de_Tarjetas!L698=0,\"\",Datos_de_Tarjetas!L698)","v":""},{"$f":"IF(Datos_de_Tarjetas!M698=0,\"\",Datos_de_Tarjetas!M698)","v":""},{"$f":"IF(Datos_de_Tarjetas!N698=0,\"\",Datos_de_Tarjetas!N698)","v":""},{"$f":"IFERROR(VLOOKUP(Datos_de_Tarjetas!P698,Parámetros!$AM$3:$AN$90,2,FALSE),\"\")","v":""}]
[null,1069470000,{"$f":"IFERROR(VLOOKUP(Datos_de_Tarjetas!D699,Parámetros!$AD$12:$AE$17,2,FALSE),\"\")","v":""},{"$f":"IF(Datos_de_Tarjetas!G699=0,\"\",Datos_de_Tarjetas!G699)","v":""},{"$f":"IFERROR(VLOOKUP(Datos_de_Tarjetas!K699,Parámetros!$AJ$3:$AK$13,2,FALSE),\"\")","v":""},{"$f":"IFERROR(VLOOKUP(Datos_de_Tarjetas!J699,Parámetros!$AQ$3:$AR$57,2,FALSE),\"\")","v":""},null,{"$f":"IF(Datos_de_Tarjetas!L699=0,\"\",Datos_de_Tarjetas!L699)","v":""},{"$f":"IF(Datos_de_Tarjetas!M699=0,\"\",Datos_de_Tarjetas!M699)","v":""},{"$f":"IF(Datos_de_Tarjetas!N699=0,\"\",Datos_de_Tarjetas!N699)","v":""},{"$f":"IFERROR(VLOOKUP(Datos_de_Tarjetas!P699,Parámetros!$AM$3:$AN$90,2,FALSE),\"\")","v":""}]
[null,1069470000,{"$f":"IFERROR(VLOOKUP(Datos_de_Tarjetas!D700,Parámetros!$AD$12:$AE$17,2,FALSE),\"\")","v":""},{"$f":"IF(Datos_de_Tarjetas!G700=0,\"\",Datos_de_Tarjetas!G700)","v":""},{"$f":"IFERROR(VLOOKUP(Datos_de_Tarjetas!K700,Parámetros!$AJ$3:$AK$13,2,FALSE),\"\")","v":""},{"$f":"IFERROR(VLOOKUP(Datos_de_Tarjetas!J700,Parámetros!$AQ$3:$AR$57,2,FALSE),\"\")","v":""},null,{"$f":"IF(Datos_de_Tarjetas!L700=0,\"\",Datos_de_Tarjetas!L700)","v":""},{"$f":"IF(Datos_de_Tarjetas!M700=0,\"\",Datos_de_Tarjetas!M700)","v":""},{"$f":"IF(Datos_de_Tarjetas!N700=0,\"\",Datos_de_Tarjetas!N700)","v":""},{"$f":"IFERROR(VLOOKUP(Datos_de_Tarjetas!P700,Parámetros!$AM$3:$AN$90,2,FALSE),\"\")","v":""}]
[null,1069470000,{"$f":"IFERROR(VLOOKUP(Datos_de_Tarjetas!D701,Parámetros!$AD$12:$AE$17,2,FALSE),\"\")","v":""},{"$f":"IF(Datos_de_Tarjetas!G701=0,\"\",Datos_de_Tarjetas!G701)","v":""},{"$f":"IFERROR(VLOOKUP(Datos_de_Tarjetas!K701,Parámetros!$AJ$3:$AK$13,2,FALSE),\"\")","v":""},{"$f":"IFERROR(VLOOKUP(Datos_de_Tarjetas!J701,Parámetros!$AQ$3:$AR$57,2,FALSE),\"\")","v":""},null,{"$f":"IF(Datos_de_Tarjetas!L701=0,\"\",Datos_de_Tarjetas!L701)","v":""},{"$f":"IF(Datos_de_Tarjetas!M701=0,\"\",Datos_de_Tarjetas!M701)","v":""},{"$f":"IF(Datos_de_Tarjetas!N701=0,\"\",Datos_de_Tarjetas!N701)","v":""},{"$f":"IFERROR(VLOOKUP(Datos_de_Tarjetas!P701,Parámetros!$AM$3:$AN$90,2,FALSE),\"\")","v":""}]
[null,1069470000,{"$f":"IFERROR(VLOOKUP(Datos_de_Tarjetas!D702,Parámetros!$AD$12:$AE$17,2,FALSE),\"\")","v":""},{"$f":"IF(Datos_de_Tarjetas!G702=0,\"\",Datos_de_Tarjetas!G702)","v":""},{"$f":"IFERROR(VLOOKUP(Datos_de_Tarjetas!K702,Parámetros!$AJ$3:$AK$13,2,FALSE),\"\")","v":""},{"$f":"IFERROR(VLOOKUP(Datos_de_Tarjetas!J702,Parámetros!$AQ$3:$AR$57,2,FALSE),\"\")","v":""},null,{"$f":"IF(Datos_de_Tarjetas!L702=0,\"\",Datos_de_Tarjetas!L702)","v":""},{"$f":"IF(Datos_de_Tarjetas!M702=0,\"\",Datos_de_Tarjetas!M702)","v":""},{"$f":"IF(Datos_de_Tarjetas!N702=0,\"\",Datos_de_Tarjetas!N702)","v":""},{"$f":"IFERROR(VLOOKUP(Datos_de_Tarjetas!P702,Parámetros!$AM$3:$AN$90,2,FALSE),\"\")","v":""}]
[null,1069470000,{"$f":"IFERROR(VLOOKUP(Datos_de_Tarjetas!D703,Parámetros!$AD$12:$AE$17,2,FALSE),\"\")","v":""},{"$f":"IF(Datos_de_Tarjetas!G703=0,\"\",Datos_de_Tarjetas!G703)","v":""},{"$f":"IFERROR(VLOOKUP(Datos_de_Tarjetas!K703,Parámetros!$AJ$3:$AK$13,2,FALSE),\"\")","v":""},{"$f":"IFERROR(VLOOKUP(Datos_de_Tarjetas!J703,Parámetros!$AQ$3:$AR$57,2,FALSE),\"\")","v":""},null,{"$f":"IF(Datos_de_Tarjetas!L703=0,\"\",Datos_de_Tarjetas!L703)","v":""},{"$f":"IF(Datos_de_Tarjetas!M703=0,\"\",Datos_de_Tarjetas!M703)","v":""},{"$f":"IF(Datos_de_Tarjetas!N703=0,\"\",Datos_de_Tarjetas!N703)","v":""},{"$f":"IFERROR(VLOOKUP(Datos_de_Tarjetas!P703,Parámetros!$AM$3:$AN$90,2,FALSE),\"\")","v":""}]
[null,1069470000,{"$f":"IFERROR(VLOOKUP(Datos_de_Tarjetas!D704,Parámetros!$AD$12:$AE$17,2,FALSE),\"\")","v":""},{"$f":"IF(Datos_de_Tarjetas!G704=0,\"\",Datos_de_Tarjetas!G704)","v":""},{"$f":"IFERROR(VLOOKUP(Datos_de_Tarjetas!K704,Parámetros!$AJ$3:$AK$13,2,FALSE),\"\")","v":""},{"$f":"IFERROR(VLOOKUP(Datos_de_Tarjetas!J704,Parámetros!$AQ$3:$AR$57,2,FALSE),\"\")","v":""},null,{"$f":"IF(Datos_de_Tarjetas!L704=0,\"\",Datos_de_Tarjetas!L704)","v":""},{"$f":"IF(Datos_de_Tarjetas!M704=0,\"\",Datos_de_Tarjetas!M704)","v":""},{"$f":"IF(Datos_de_Tarjetas!N704=0,\"\",Datos_de_Tarjetas!N704)","v":""},{"$f":"IFERROR(VLOOKUP(Datos_de_Tarjetas!P704,Parámetros!$AM$3:$AN$90,2,FALSE),\"\")","v":""}]
[null,1069470000,{"$f":"IFERROR(VLOOKUP(Datos_de_Tarjetas!D705,Parámetros!$AD$12:$AE$17,2,FALSE),\"\")","v":""},{"$f":"IF(Datos_de_Tarjetas!G705=0,\"\",Datos_de_Tarjetas!G705)","v":""},{"$f":"IFERROR(VLOOKUP(Datos_de_Tarjetas!K705,Parámetros!$AJ$3:$AK$13,2,FALSE),\"\")","v":""},{"$f":"IFERROR(VLOOKUP(Datos_de_Tarjetas!J705,Parámetros!$AQ$3:$AR$57,2,FALSE),\"\")","v":""},null,{"$f":"IF(Datos_de_Tarjetas!L705=0,\"\",Datos_de_Tarjetas!L705)","v":""},{"$f":"IF(Datos_de_Tarjetas!M705=0,\"\",Datos_de_Tarjetas!M705)","v":""},{"$f":"IF(Datos_de_Tarjetas!N705=0,\"\",Datos_de_Tarjetas!N705)","v":""},{"$f":"IFERROR(VLOOKUP(Datos_de_Tarjetas!P705,Parámetros!$AM$3:$AN$90,2,FALSE),\"\")","v":""}]
[null,1069470000,{"$f":"IFERROR(VLOOKUP(Datos_de_Tarjetas!D706,Parámetros!$AD$12:$AE$17,2,FALSE),\"\")","v":""},{"$f":"IF(Datos_de_Tarjetas!G706=0,\"\",Datos_de_Tarjetas!G706)","v":""},{"$f":"IFERROR(VLOOKUP(Datos_de_Tarjetas!K706,Parámetros!$AJ$3:$AK$13,2,FALSE),\"\")","v":""},{"$f":"IFERROR(VLOOKUP(Datos_de_Tarjetas!J706,Parámetros!$AQ$3:$AR$57,2,FALSE),\"\")","v":""},null,{"$f":"IF(Datos_de_Tarjetas!L706=0,\"\",Datos_de_Tarjetas!L706)","v":""},{"$f":"IF(Datos_de_Tarjetas!M706=0,\"\",Datos_de_Tarjetas!M706)","v":""},{"$f":"IF(Datos_de_Tarjetas!N706=0,\"\",Datos_de_Tarjetas!N706)","v":""},{"$f":"IFERROR(VLOOKUP(Datos_de_Tarjetas!P706,Parámetros!$AM$3:$AN$90,2,FALSE),\"\")","v":""}]
[null,1069470000,{"$f":"IFERROR(VLOOKUP(Datos_de_Tarjetas!D707,Parámetros!$AD$12:$AE$17,2,FALSE),\"\")","v":""},{"$f":"IF(Datos_de_Tarjetas!G707=0,\"\",Datos_de_Tarjetas!G707)","v":""},{"$f":"IFERROR(VLOOKUP(Datos_de_Tarjetas!K707,Parámetros!$AJ$3:$AK$13,2,FALSE),\"\")","v":""},{"$f":"IFERROR(VLOOKUP(Datos_de_Tarjetas!J707,Parámetros!$AQ$3:$AR$57,2,FALSE),\"\")","v":""},null,{"$f":"IF(Datos_de_Tarjetas!L707=0,\"\",Datos_de_Tarjetas!L707)","v":""},{"$f":"IF(Datos_de_Tarjetas!M707=0,\"\",Datos_de_Tarjetas!M707)","v":""},{"$f":"IF(Datos_de_Tarjetas!N707=0,\"\",Datos_de_Tarjetas!N707)","v":""},{"$f":"IFERROR(VLOOKUP(Datos_de_Tarjetas!P707,Parámetros!$AM$3:$AN$90,2,FALSE),\"\")","v":""}]
[null,1069470000,{"$f":"IFERROR(VLOOKUP(Datos_de_Tarjetas!D708,Parámetros!$AD$12:$AE$17,2,FALSE),\"\")","v":""},{"$f":"IF(Datos_de_Tarjetas!G708=0,\"\",Datos_de_Tarjetas!G708)","v":""},{"$f":"IFERROR(VLOOKUP(Datos_de_Tarjetas!K708,Parámetros!$AJ$3:$AK$13,2,FALSE),\"\")","v":""},{"$f":"IFERROR(VLOOKUP(Datos_de_Tarjetas!J708,Parámetros!$AQ$3:$AR$57,2,FALSE),\"\")","v":""},null,{"$f":"IF(Datos_de_Tarjetas!L708=0,\"\",Datos_de_Tarjetas!L708)","v":""},{"$f":"IF(Datos_de_Tarjetas!M708=0,\"\",Datos_de_Tarjetas!M708)","v":""},{"$f":"IF(Datos_de_Tarjetas!N708=0,\"\",Datos_de_Tarjetas!N708)","v":""},{"$f":"IFERROR(VLOOKUP(Datos_de_Tarjetas!P708,Parámetros!$AM$3:$AN$90,2,FALSE),\"\")","v":""}]
[null,1069470000,{"$f":"IFERROR(VLOOKUP(Datos_de_Tarjetas!D709,Parámetros!$AD$12:$AE$17,2,FALSE),\"\")","v":""},{"$f":"IF(Datos_de_Tarjetas!G709=0,\"\",Datos_de_Tarjetas!G709)","v":""},{"$f":"IFERROR(VLOOKUP(Datos_de_Tarjetas!K709,Parámetros!$AJ$3:$AK$13,2,FALSE),\"\")","v":""},{"$f":"IFERROR(VLOOKUP(Datos_de_Tarjetas!J709,Parámetros!$AQ$3:$AR$57,2,FALSE),\"\")","v":""},null,{"$f":"IF(Datos_de_Tarjetas!L709=0,\"\",Datos_de_Tarjetas!L709)","v":""},{"$f":"IF(Datos_de_Tarjetas!M709=0,\"\",Datos_de_Tarjetas!M709)","v":""},{"$f":"IF(Datos_de_Tarjetas!N709=0,\"\",Datos_de_Tarjetas!N709)","v":""},{"$f":"IFERROR(VLOOKUP(Datos_de_Tarjetas!P709,Parámetros!$AM$3:$AN$90,2,FALSE),\"\")","v":""}]
[null,1069470000,{"$f":"IFERROR(VLOOKUP(Datos_de_Tarjetas!D710,Parámetros!$AD$12:$AE$17,2,FALSE),\"\")","v":""},{"$f":"IF(Datos_de_Tarjetas!G710=0,\"\",Datos_de_Tarjetas!G710)","v":""},{"$f":"IFERROR(VLOOKUP(Datos_de_Tarjetas!K710,Parámetros!$AJ$3:$AK$13,2,FALSE),\"\")","v":""},{"$f":"IFERROR(VLOOKUP(Datos_de_Tarjetas!J710,Parámetros!$AQ$3:$AR$57,2,FALSE),\"\")","v":""},null,{"$f":"IF(Datos_de_Tarjetas!L710=0,\"\",Datos_de_Tarjetas!L710)","v":""},{"$f":"IF(Datos_de_Tarjetas!M710=0,\"\",Datos_de_Tarjetas!M710)","v":""},{"$f":"IF(Datos_de_Tarjetas!N710=0,\"\",Datos_de_Tarjetas!N710)","v":""},{"$f":"IFERROR(VLOOKUP(Datos_de_Tarjetas!P710,Parámetros!$AM$3:$AN$90,2,FALSE),\"\")","v":""}]
[null,1069470000,{"$f":"IFERROR(VLOOKUP(Datos_de_Tarjetas!D711,Parámetros!$AD$12:$AE$17,2,FALSE),\"\")","v":""},{"$f":"IF(Datos_de_Tarjetas!G711=0,\"\",Datos_de_Tarjetas!G711)","v":""},{"$f":"IFERROR(VLOOKUP(Datos_de_Tarjetas!K711,Parámetros!$AJ$3:$AK$13,2,FALSE),\"\")","v":""},{"$f":"IFERROR(VLOOKUP(Datos_de_Tarjetas!J711,Parámetros!$AQ$3:$AR$57,2,FALSE),\"\")","v":""},null,{"$f":"IF(Datos_de_Tarjetas!L711=0,\"\",Datos_de_Tarjetas!L711)","v":""},{"$f":"IF(Datos_de_Tarjetas!M711=0,\"\",Datos_de_Tarjetas!M711)","v":""},{"$f":"IF(Datos_de_Tarjetas!N711=0,\"\",Datos_de_Tarjetas!N711)","v":""},{"$f":"IFERROR(VLOOKUP(Datos_de_Tarjetas!P711,Parámetros!$AM$3:$AN$90,2,FALSE),\"\")","v":""}]
[null,1069470000,{"$f":"IFERROR(VLOOKUP(Datos_de_Tarjetas!D712,Parámetros!$AD$12:$AE$17,2,FALSE),\"\")","v":""},{"$f":"IF(Datos_de_Tarjetas!G712=0,\"\",Datos_de_Tarjetas!G712)","v":""},{"$f":"IFERROR(VLOOKUP(Datos_de_Tarjetas!K712,Parámetros!$AJ$3:$AK$13,2,FALSE),\"\")","v":""},{"$f":"IFERROR(VLOOKUP(Datos_de_Tarjetas!J712,Parámetros!$AQ$3:$AR$57,2,FALSE),\"\")","v":""},null,{"$f":"IF(Datos_de_Tarjetas!L712=0,\"\",Datos_de_Tarjetas!L712)","v":""},{"$f":"IF(Datos_de_Tarjetas!M712=0,\"\",Datos_de_Tarjetas!M712)","v":""},{"$f":"IF(Datos_de_Tarjetas!N712=0,\"\",Datos_de_Tarjetas!N712)","v":""},{"$f":"IFERROR(VLOOKUP(Datos_de_Tarjetas!P712,Parámetros!$AM$3:$AN$90,2,FALSE),\"\")","v":""}]
[null,1069470000,{"$f":"IFERROR(VLOOKUP(Datos_de_Tarjetas!D713,Parámetros!$AD$12:$AE$17,2,FALSE),\"\")","v":""},{"$f":"IF(Datos_de_Tarjetas!G713=0,\"\",Datos_de_Tarjetas!G713)","v":""},{"$f":"IFERROR(VLOOKUP(Datos_de_Tarjetas!K713,Parámetros!$AJ$3:$AK$13,2,FALSE),\"\")","v":""},{"$f":"IFERROR(VLOOKUP(Datos_de_Tarjetas!J713,Parámetros!$AQ$3:$AR$57,2,FALSE),\"\")","v":""},null,{"$f":"IF(Datos_de_Tarjetas!L713=0,\"\",Datos_de_Tarjetas!L713)","v":""},{"$f":"IF(Datos_de_Tarjetas!M713=0,\"\",Datos_de_Tarjetas!M713)","v":""},{"$f":"IF(Datos_de_Tarjetas!N713=0,\"\",Datos_de_Tarjetas!N713)","v":""},{"$f":"IFERROR(VLOOKUP(Datos_de_Tarjetas!P713,Parámetros!$AM$3:$AN$90,2,FALSE),\"\")","v":""}]
[null,1069470000,{"$f":"IFERROR(VLOOKUP(Datos_de_Tarjetas!D714,Parámetros!$AD$12:$AE$17,2,FALSE),\"\")","v":""},{"$f":"IF(Datos_de_Tarjetas!G714=0,\"\",Datos_de_Tarjetas!G714)","v":""},{"$f":"IFERROR(VLOOKUP(Datos_de_Tarjetas!K714,Parámetros!$AJ$3:$AK$13,2,FALSE),\"\")","v":""},{"$f":"IFERROR(VLOOKUP(Datos_de_Tarjetas!J714,Parámetros!$AQ$3:$AR$57,2,FALSE),\"\")","v":""},null,{"$f":"IF(Datos_de_Tarjetas!L714=0,\"\",Datos_de_Tarjetas!L714)","v":""},{"$f":"IF(Datos_de_Tarjetas!M714=0,\"\",Datos_de_Tarjetas!M714)","v":""},{"$f":"IF(Datos_de_Tarjetas!N714=0,\"\",Datos_de_Tarjetas!N714)","v":""},{"$f":"IFERROR(VLOOKUP(Datos_de_Tarjetas!P714,Parámetros!$AM$3:$AN$90,2,FALSE),\"\")","v":""}]
[null,1069470000,{"$f":"IFERROR(VLOOKUP(Datos_de_Tarjetas!D715,Parámetros!$AD$12:$AE$17,2,FALSE),\"\")","v":""},{"$f":"IF(Datos_de_Tarjetas!G715=0,\"\",Datos_de_Tarjetas!G715)","v":""},{"$f":"IFERROR(VLOOKUP(Datos_de_Tarjetas!K715,Parámetros!$AJ$3:$AK$13,2,FALSE),\"\")","v":""},{"$f":"IFERROR(VLOOKUP(Datos_de_Tarjetas!J715,Parámetros!$AQ$3:$AR$57,2,FALSE),\"\")","v":""},null,{"$f":"IF(Datos_de_Tarjetas!L715=0,\"\",Datos_de_Tarjetas!L715)","v":""},{"$f":"IF(Datos_de_Tarjetas!M715=0,\"\",Datos_de_Tarjetas!M715)","v":""},{"$f":"IF(Datos_de_Tarjetas!N715=0,\"\",Datos_de_Tarjetas!N715)","v":""},{"$f":"IFERROR(VLOOKUP(Datos_de_Tarjetas!P715,Parámetros!$AM$3:$AN$90,2,FALSE),\"\")","v":""}]
[null,1069470000,{"$f":"IFERROR(VLOOKUP(Datos_de_Tarjetas!D716,Parámetros!$AD$12:$AE$17,2,FALSE),\"\")","v":""},{"$f":"IF(Datos_de_Tarjetas!G716=0,\"\",Datos_de_Tarjetas!G716)","v":""},{"$f":"IFERROR(VLOOKUP(Datos_de_Tarjetas!K716,Parámetros!$AJ$3:$AK$13,2,FALSE),\"\")","v":""},{"$f":"IFERROR(VLOOKUP(Datos_de_Tarjetas!J716,Parámetros!$AQ$3:$AR$57,2,FALSE),\"\")","v":""},null,{"$f":"IF(Datos_de_Tarjetas!L716=0,\"\",Datos_de_Tarjetas!L716)","v":""},{"$f":"IF(Datos_de_Tarjetas!M716=0,\"\",Datos_de_Tarjetas!M716)","v":""},{"$f":"IF(Datos_de_Tarjetas!N716=0,\"\",Datos_de_Tarjetas!N716)","v":""},{"$f":"IFERROR(VLOOKUP(Datos_de_Tarjetas!P716,Parámetros!$AM$3:$AN$90,2,FALSE),\"\")","v":""}]
[null,1069470000,{"$f":"IFERROR(VLOOKUP(Datos_de_Tarjetas!D717,Parámetros!$AD$12:$AE$17,2,FALSE),\"\")","v":""},{"$f":"IF(Datos_de_Tarjetas!G717=0,\"\",Datos_de_Tarjetas!G717)","v":""},{"$f":"IFERROR(VLOOKUP(Datos_de_Tarjetas!K717,Parámetros!$AJ$3:$AK$13,2,FALSE),\"\")","v":""},{"$f":"IFERROR(VLOOKUP(Datos_de_Tarjetas!J717,Parámetros!$AQ$3:$AR$57,2,FALSE),\"\")","v":""},null,{"$f":"IF(Datos_de_Tarjetas!L717=0,\"\",Datos_de_Tarjetas!L717)","v":""},{"$f":"IF(Datos_de_Tarjetas!M717=0,\"\",Datos_de_Tarjetas!M717)","v":""},{"$f":"IF(Datos_de_Tarjetas!N717=0,\"\",Datos_de_Tarjetas!N717)","v":""},{"$f":"IFERROR(VLOOKUP(Datos_de_Tarjetas!P717,Parámetros!$AM$3:$AN$90,2,FALSE),\"\")","v":""}]
[null,1069470000,{"$f":"IFERROR(VLOOKUP(Datos_de_Tarjetas!D718,Parámetros!$AD$12:$AE$17,2,FALSE),\"\")","v":""},{"$f":"IF(Datos_de_Tarjetas!G718=0,\"\",Datos_de_Tarjetas!G718)","v":""},{"$f":"IFERROR(VLOOKUP(Datos_de_Tarjetas!K718,Parámetros!$AJ$3:$AK$13,2,FALSE),\"\")","v":""},{"$f":"IFERROR(VLOOKUP(Datos_de_Tarjetas!J718,Parámetros!$AQ$3:$AR$57,2,FALSE),\"\")","v":""},null,{"$f":"IF(Datos_de_Tarjetas!L718=0,\"\",Datos_de_Tarjetas!L718)","v":""},{"$f":"IF(Datos_de_Tarjetas!M718=0,\"\",Datos_de_Tarjetas!M718)","v":""},{"$f":"IF(Datos_de_Tarjetas!N718=0,\"\",Datos_de_Tarjetas!N718)","v":""},{"$f":"IFERROR(VLOOKUP(Datos_de_Tarjetas!P718,Parámetros!$AM$3:$AN$90,2,FALSE),\"\")","v":""}]
[null,1069470000,{"$f":"IFERROR(VLOOKUP(Datos_de_Tarjetas!D719,Parámetros!$AD$12:$AE$17,2,FALSE),\"\")","v":""},{"$f":"IF(Datos_de_Tarjetas!G719=0,\"\",Datos_de_Tarjetas!G719)","v":""},{"$f":"IFERROR(VLOOKUP(Datos_de_Tarjetas!K719,Parámetros!$AJ$3:$AK$13,2,FALSE),\"\")","v":""},{"$f":"IFERROR(VLOOKUP(Datos_de_Tarjetas!J719,Parámetros!$AQ$3:$AR$57,2,FALSE),\"\")","v":""},null,{"$f":"IF(Datos_de_Tarjetas!L719=0,\"\",Datos_de_Tarjetas!L719)","v":""},{"$f":"IF(Datos_de_Tarjetas!M719=0,\"\",Datos_de_Tarjetas!M719)","v":""},{"$f":"IF(Datos_de_Tarjetas!N719=0,\"\",Datos_de_Tarjetas!N719)","v":""},{"$f":"IFERROR(VLOOKUP(Datos_de_Tarjetas!P719,Parámetros!$AM$3:$AN$90,2,FALSE),\"\")","v":""}]
[null,1069470000,{"$f":"IFERROR(VLOOKUP(Datos_de_Tarjetas!D720,Parámetros!$AD$12:$AE$17,2,FALSE),\"\")","v":""},{"$f":"IF(Datos_de_Tarjetas!G720=0,\"\",Datos_de_Tarjetas!G720)","v":""},{"$f":"IFERROR(VLOOKUP(Datos_de_Tarjetas!K720,Parámetros!$AJ$3:$AK$13,2,FALSE),\"\")","v":""},{"$f":"IFERROR(VLOOKUP(Datos_de_Tarjetas!J720,Parámetros!$AQ$3:$AR$57,2,FALSE),\"\")","v":""},null,{"$f":"IF(Datos_de_Tarjetas!L720=0,\"\",Datos_de_Tarjetas!L720)","v":""},{"$f":"IF(Datos_de_Tarjetas!M720=0,\"\",Datos_de_Tarjetas!M720)","v":""},{"$f":"IF(Datos_de_Tarjetas!N720=0,\"\",Datos_de_Tarjetas!N720)","v":""},{"$f":"IFERROR(VLOOKUP(Datos_de_Tarjetas!P720,Parámetros!$AM$3:$AN$90,2,FALSE),\"\")","v":""}]
[null,{"$f":"$C$2","v":1069470000},{"$f":"IFERROR(VLOOKUP(Datos_de_Tarjetas!D721,Parámetros!$AD$12:$AE$17,2,FALSE),\"\")","v":""},{"$f":"IF(Datos_de_Tarjetas!G721=0,\"\",Datos_de_Tarjetas!G721)","v":""},{"$f":"IFERROR(VLOOKUP(Datos_de_Tarjetas!K721,Parámetros!$AJ$3:$AK$13,2,FALSE),\"\")","v":""},{"$f":"IFERROR(VLOOKUP(Datos_de_Tarjetas!J721,Parámetros!$AQ$3:$AR$57,2,FALSE),\"\")","v":""},null,{"$f":"IF(Datos_de_Tarjetas!L721=0,\"\",Datos_de_Tarjetas!L721)","v":""},{"$f":"IF(Datos_de_Tarjetas!M721=0,\"\",Datos_de_Tarjetas!M721)","v":""},{"$f":"IF(Datos_de_Tarjetas!N721=0,\"\",Datos_de_Tarjetas!N721)","v":""},{"$f":"IFERROR(VLOOKUP(Datos_de_Tarjetas!P721,Parámetros!$AM$3:$AN$90,2,FALSE),\"\")","v":""}]
[null,1069470000,{"$f":"IFERROR(VLOOKUP(Datos_de_Tarjetas!D722,Parámetros!$AD$12:$AE$17,2,FALSE),\"\")","v":""},{"$f":"IF(Datos_de_Tarjetas!G722=0,\"\",Datos_de_Tarjetas!G722)","v":""},{"$f":"IFERROR(VLOOKUP(Datos_de_Tarjetas!K722,Parámetros!$AJ$3:$AK$13,2,FALSE),\"\")","v":""},{"$f":"IFERROR(VLOOKUP(Datos_de_Tarjetas!J722,Parámetros!$AQ$3:$AR$57,2,FALSE),\"\")","v":""},null,{"$f":"IF(Datos_de_Tarjetas!L722=0,\"\",Datos_de_Tarjetas!L722)","v":""},{"$f":"IF(Datos_de_Tarjetas!M722=0,\"\",Datos_de_Tarjetas!M722)","v":""},{"$f":"IF(Datos_de_Tarjetas!N722=0,\"\",Datos_de_Tarjetas!N722)","v":""},{"$f":"IFERROR(VLOOKUP(Datos_de_Tarjetas!P722,Parámetros!$AM$3:$AN$90,2,FALSE),\"\")","v":""}]
[null,1069470000,{"$f":"IFERROR(VLOOKUP(Datos_de_Tarjetas!D723,Parámetros!$AD$12:$AE$17,2,FALSE),\"\")","v":""},{"$f":"IF(Datos_de_Tarjetas!G723=0,\"\",Datos_de_Tarjetas!G723)","v":""},{"$f":"IFERROR(VLOOKUP(Datos_de_Tarjetas!K723,Parámetros!$AJ$3:$AK$13,2,FALSE),\"\")","v":""},{"$f":"IFERROR(VLOOKUP(Datos_de_Tarjetas!J723,Parámetros!$AQ$3:$AR$57,2,FALSE),\"\")","v":""},null,{"$f":"IF(Datos_de_Tarjetas!L723=0,\"\",Datos_de_Tarjetas!L723)","v":""},{"$f":"IF(Datos_de_Tarjetas!M723=0,\"\",Datos_de_Tarjetas!M723)","v":""},{"$f":"IF(Datos_de_Tarjetas!N723=0,\"\",Datos_de_Tarjetas!N723)","v":""},{"$f":"IFERROR(VLOOKUP(Datos_de_Tarjetas!P723,Parámetros!$AM$3:$AN$90,2,FALSE),\"\")","v":""}]
[null,1069470000,{"$f":"IFERROR(VLOOKUP(Datos_de_Tarjetas!D724,Parámetros!$AD$12:$AE$17,2,FALSE),\"\")","v":""},{"$f":"IF(Datos_de_Tarjetas!G724=0,\"\",Datos_de_Tarjetas!G724)","v":""},{"$f":"IFERROR(VLOOKUP(Datos_de_Tarjetas!K724,Parámetros!$AJ$3:$AK$13,2,FALSE),\"\")","v":""},{"$f":"IFERROR(VLOOKUP(Datos_de_Tarjetas!J724,Parámetros!$AQ$3:$AR$57,2,FALSE),\"\")","v":""},null,{"$f":"IF(Datos_de_Tarjetas!L724=0,\"\",Datos_de_Tarjetas!L724)","v":""},{"$f":"IF(Datos_de_Tarjetas!M724=0,\"\",Datos_de_Tarjetas!M724)","v":""},{"$f":"IF(Datos_de_Tarjetas!N724=0,\"\",Datos_de_Tarjetas!N724)","v":""},{"$f":"IFERROR(VLOOKUP(Datos_de_Tarjetas!P724,Parámetros!$AM$3:$AN$90,2,FALSE),\"\")","v":""}]
[null,1069470000,{"$f":"IFERROR(VLOOKUP(Datos_de_Tarjetas!D725,Parámetros!$AD$12:$AE$17,2,FALSE),\"\")","v":""},{"$f":"IF(Datos_de_Tarjetas!G725=0,\"\",Datos_de_Tarjetas!G725)","v":""},{"$f":"IFERROR(VLOOKUP(Datos_de_Tarjetas!K725,Parámetros!$AJ$3:$AK$13,2,FALSE),\"\")","v":""},{"$f":"IFERROR(VLOOKUP(Datos_de_Tarjetas!J725,Parámetros!$AQ$3:$AR$57,2,FALSE),\"\")","v":""},null,{"$f":"IF(Datos_de_Tarjetas!L725=0,\"\",Datos_de_Tarjetas!L725)","v":""},{"$f":"IF(Datos_de_Tarjetas!M725=0,\"\",Datos_de_Tarjetas!M725)","v":""},{"$f":"IF(Datos_de_Tarjetas!N725=0,\"\",Datos_de_Tarjetas!N725)","v":""},{"$f":"IFERROR(VLOOKUP(Datos_de_Tarjetas!P725,Parámetros!$AM$3:$AN$90,2,FALSE),\"\")","v":""}]
[null,1069470000,{"$f":"IFERROR(VLOOKUP(Datos_de_Tarjetas!D726,Parámetros!$AD$12:$AE$17,2,FALSE),\"\")","v":""},{"$f":"IF(Datos_de_Tarjetas!G726=0,\"\",Datos_de_Tarjetas!G726)","v":""},{"$f":"IFERROR(VLOOKUP(Datos_de_Tarjetas!K726,Parámetros!$AJ$3:$AK$13,2,FALSE),\"\")","v":""},{"$f":"IFERROR(VLOOKUP(Datos_de_Tarjetas!J726,Parámetros!$AQ$3:$AR$57,2,FALSE),\"\")","v":""},null,{"$f":"IF(Datos_de_Tarjetas!L726=0,\"\",Datos_de_Tarjetas!L726)","v":""},{"$f":"IF(Datos_de_Tarjetas!M726=0,\"\",Datos_de_Tarjetas!M726)","v":""},{"$f":"IF(Datos_de_Tarjetas!N726=0,\"\",Datos_de_Tarjetas!N726)","v":""},{"$f":"IFERROR(VLOOKUP(Datos_de_Tarjetas!P726,Parámetros!$AM$3:$AN$90,2,FALSE),\"\")","v":""}]
[null,1069470000,{"$f":"IFERROR(VLOOKUP(Datos_de_Tarjetas!D727,Parámetros!$AD$12:$AE$17,2,FALSE),\"\")","v":""},{"$f":"IF(Datos_de_Tarjetas!G727=0,\"\",Datos_de_Tarjetas!G727)","v":""},{"$f":"IFERROR(VLOOKUP(Datos_de_Tarjetas!K727,Parámetros!$AJ$3:$AK$13,2,FALSE),\"\")","v":""},{"$f":"IFERROR(VLOOKUP(Datos_de_Tarjetas!J727,Parámetros!$AQ$3:$AR$57,2,FALSE),\"\")","v":""},null,{"$f":"IF(Datos_de_Tarjetas!L727=0,\"\",Datos_de_Tarjetas!L727)","v":""},{"$f":"IF(Datos_de_Tarjetas!M727=0,\"\",Datos_de_Tarjetas!M727)","v":""},{"$f":"IF(Datos_de_Tarjetas!N727=0,\"\",Datos_de_Tarjetas!N727)","v":""},{"$f":"IFERROR(VLOOKUP(Datos_de_Tarjetas!P727,Parámetros!$AM$3:$AN$90,2,FALSE),\"\")","v":""}]
[null,1069470000,{"$f":"IFERROR(VLOOKUP(Datos_de_Tarjetas!D728,Parámetros!$AD$12:$AE$17,2,FALSE),\"\")","v":""},{"$f":"IF(Datos_de_Tarjetas!G728=0,\"\",Datos_de_Tarjetas!G728)","v":""},{"$f":"IFERROR(VLOOKUP(Datos_de_Tarjetas!K728,Parámetros!$AJ$3:$AK$13,2,FALSE),\"\")","v":""},{"$f":"IFERROR(VLOOKUP(Datos_de_Tarjetas!J728,Parámetros!$AQ$3:$AR$57,2,FALSE),\"\")","v":""},null,{"$f":"IF(Datos_de_Tarjetas!L728=0,\"\",Datos_de_Tarjetas!L728)","v":""},{"$f":"IF(Datos_de_Tarjetas!M728=0,\"\",Datos_de_Tarjetas!M728)","v":""},{"$f":"IF(Datos_de_Tarjetas!N728=0,\"\",Datos_de_Tarjetas!N728)","v":""},{"$f":"IFERROR(VLOOKUP(Datos_de_Tarjetas!P728,Parámetros!$AM$3:$AN$90,2,FALSE),\"\")","v":""}]
[null,1069470000,{"$f":"IFERROR(VLOOKUP(Datos_de_Tarjetas!D729,Parámetros!$AD$12:$AE$17,2,FALSE),\"\")","v":""},{"$f":"IF(Datos_de_Tarjetas!G729=0,\"\",Datos_de_Tarjetas!G729)","v":""},{"$f":"IFERROR(VLOOKUP(Datos_de_Tarjetas!K729,Parámetros!$AJ$3:$AK$13,2,FALSE),\"\")","v":""},{"$f":"IFERROR(VLOOKUP(Datos_de_Tarjetas!J729,Parámetros!$AQ$3:$AR$57,2,FALSE),\"\")","v":""},null,{"$f":"IF(Datos_de_Tarjetas!L729=0,\"\",Datos_de_Tarjetas!L729)","v":""},{"$f":"IF(Datos_de_Tarjetas!M729=0,\"\",Datos_de_Tarjetas!M729)","v":""},{"$f":"IF(Datos_de_Tarjetas!N729=0,\"\",Datos_de_Tarjetas!N729)","v":""},{"$f":"IFERROR(VLOOKUP(Datos_de_Tarjetas!P729,Parámetros!$AM$3:$AN$90,2,FALSE),\"\")","v":""}]
[null,1069470000,{"$f":"IFERROR(VLOOKUP(Datos_de_Tarjetas!D730,Parámetros!$AD$12:$AE$17,2,FALSE),\"\")","v":""},{"$f":"IF(Datos_de_Tarjetas!G730=0,\"\",Datos_de_Tarjetas!G730)","v":""},{"$f":"IFERROR(VLOOKUP(Datos_de_Tarjetas!K730,Parámetros!$AJ$3:$AK$13,2,FALSE),\"\")","v":""},{"$f":"IFERROR(VLOOKUP(Datos_de_Tarjetas!J730,Parámetros!$AQ$3:$AR$57,2,FALSE),\"\")","v":""},null,{"$f":"IF(Datos_de_Tarjetas!L730=0,\"\",Datos_de_Tarjetas!L730)","v":""},{"$f":"IF(Datos_de_Tarjetas!M730=0,\"\",Datos_de_Tarjetas!M730)","v":""},{"$f":"IF(Datos_de_Tarjetas!N730=0,\"\",Datos_de_Tarjetas!N730)","v":""},{"$f":"IFERROR(VLOOKUP(Datos_de_Tarjetas!P730,Parámetros!$AM$3:$AN$90,2,FALSE),\"\")","v":""}]
[null,1069470000,{"$f":"IFERROR(VLOOKUP(Datos_de_Tarjetas!D731,Parámetros!$AD$12:$AE$17,2,FALSE),\"\")","v":""},{"$f":"IF(Datos_de_Tarjetas!G731=0,\"\",Datos_de_Tarjetas!G731)","v":""},{"$f":"IFERROR(VLOOKUP(Datos_de_Tarjetas!K731,Parámetros!$AJ$3:$AK$13,2,FALSE),\"\")","v":""},{"$f":"IFERROR(VLOOKUP(Datos_de_Tarjetas!J731,Parámetros!$AQ$3:$AR$57,2,FALSE),\"\")","v":""},null,{"$f":"IF(Datos_de_Tarjetas!L731=0,\"\",Datos_de_Tarjetas!L731)","v":""},{"$f":"IF(Datos_de_Tarjetas!M731=0,\"\",Datos_de_Tarjetas!M731)","v":""},{"$f":"IF(Datos_de_Tarjetas!N731=0,\"\",Datos_de_Tarjetas!N731)","v":""},{"$f":"IFERROR(VLOOKUP(Datos_de_Tarjetas!P731,Parámetros!$AM$3:$AN$90,2,FALSE),\"\")","v":""}]
[null,1069470000,{"$f":"IFERROR(VLOOKUP(Datos_de_Tarjetas!D732,Parámetros!$AD$12:$AE$17,2,FALSE),\"\")","v":""},{"$f":"IF(Datos_de_Tarjetas!G732=0,\"\",Datos_de_Tarjetas!G732)","v":""},{"$f":"IFERROR(VLOOKUP(Datos_de_Tarjetas!K732,Parámetros!$AJ$3:$AK$13,2,FALSE),\"\")","v":""},{"$f":"IFERROR(VLOOKUP(Datos_de_Tarjetas!J732,Parámetros!$AQ$3:$AR$57,2,FALSE),\"\")","v":""},null,{"$f":"IF(Datos_de_Tarjetas!L732=0,\"\",Datos_de_Tarjetas!L732)","v":""},{"$f":"IF(Datos_de_Tarjetas!M732=0,\"\",Datos_de_Tarjetas!M732)","v":""},{"$f":"IF(Datos_de_Tarjetas!N732=0,\"\",Datos_de_Tarjetas!N732)","v":""},{"$f":"IFERROR(VLOOKUP(Datos_de_Tarjetas!P732,Parámetros!$AM$3:$AN$90,2,FALSE),\"\")","v":""}]
[null,1069470000,{"$f":"IFERROR(VLOOKUP(Datos_de_Tarjetas!D733,Parámetros!$AD$12:$AE$17,2,FALSE),\"\")","v":""},{"$f":"IF(Datos_de_Tarjetas!G733=0,\"\",Datos_de_Tarjetas!G733)","v":""},{"$f":"IFERROR(VLOOKUP(Datos_de_Tarjetas!K733,Parámetros!$AJ$3:$AK$13,2,FALSE),\"\")","v":""},{"$f":"IFERROR(VLOOKUP(Datos_de_Tarjetas!J733,Parámetros!$AQ$3:$AR$57,2,FALSE),\"\")","v":""},null,{"$f":"IF(Datos_de_Tarjetas!L733=0,\"\",Datos_de_Tarjetas!L733)","v":""},{"$f":"IF(Datos_de_Tarjetas!M733=0,\"\",Datos_de_Tarjetas!M733)","v":""},{"$f":"IF(Datos_de_Tarjetas!N733=0,\"\",Datos_de_Tarjetas!N733)","v":""},{"$f":"IFERROR(VLOOKUP(Datos_de_Tarjetas!P733,Parámetros!$AM$3:$AN$90,2,FALSE),\"\")","v":""}]
[null,1069470000,{"$f":"IFERROR(VLOOKUP(Datos_de_Tarjetas!D734,Parámetros!$AD$12:$AE$17,2,FALSE),\"\")","v":""},{"$f":"IF(Datos_de_Tarjetas!G734=0,\"\",Datos_de_Tarjetas!G734)","v":""},{"$f":"IFERROR(VLOOKUP(Datos_de_Tarjetas!K734,Parámetros!$AJ$3:$AK$13,2,FALSE),\"\")","v":""},{"$f":"IFERROR(VLOOKUP(Datos_de_Tarjetas!J734,Parámetros!$AQ$3:$AR$57,2,FALSE),\"\")","v":""},null,{"$f":"IF(Datos_de_Tarjetas!L734=0,\"\",Datos_de_Tarjetas!L734)","v":""},{"$f":"IF(Datos_de_Tarjetas!M734=0,\"\",Datos_de_Tarjetas!M734)","v":""},{"$f":"IF(Datos_de_Tarjetas!N734=0,\"\",Datos_de_Tarjetas!N734)","v":""},{"$f":"IFERROR(VLOOKUP(Datos_de_Tarjetas!P734,Parámetros!$AM$3:$AN$90,2,FALSE),\"\")","v":""}]
[null,1069470000,{"$f":"IFERROR(VLOOKUP(Datos_de_Tarjetas!D735,Parámetros!$AD$12:$AE$17,2,FALSE),\"\")","v":""},{"$f":"IF(Datos_de_Tarjetas!G735=0,\"\",Datos_de_Tarjetas!G735)","v":""},{"$f":"IFERROR(VLOOKUP(Datos_de_Tarjetas!K735,Parámetros!$AJ$3:$AK$13,2,FALSE),\"\")","v":""},{"$f":"IFERROR(VLOOKUP(Datos_de_Tarjetas!J735,Parámetros!$AQ$3:$AR$57,2,FALSE),\"\")","v":""},null,{"$f":"IF(Datos_de_Tarjetas!L735=0,\"\",Datos_de_Tarjetas!L735)","v":""},{"$f":"IF(Datos_de_Tarjetas!M735=0,\"\",Datos_de_Tarjetas!M735)","v":""},{"$f":"IF(Datos_de_Tarjetas!N735=0,\"\",Datos_de_Tarjetas!N735)","v":""},{"$f":"IFERROR(VLOOKUP(Datos_de_Tarjetas!P735,Parámetros!$AM$3:$AN$90,2,FALSE),\"\")","v":""}]
[null,1069470000,{"$f":"IFERROR(VLOOKUP(Datos_de_Tarjetas!D736,Parámetros!$AD$12:$AE$17,2,FALSE),\"\")","v":""},{"$f":"IF(Datos_de_Tarjetas!G736=0,\"\",Datos_de_Tarjetas!G736)","v":""},{"$f":"IFERROR(VLOOKUP(Datos_de_Tarjetas!K736,Parámetros!$AJ$3:$AK$13,2,FALSE),\"\")","v":""},{"$f":"IFERROR(VLOOKUP(Datos_de_Tarjetas!J736,Parámetros!$AQ$3:$AR$57,2,FALSE),\"\")","v":""},null,{"$f":"IF(Datos_de_Tarjetas!L736=0,\"\",Datos_de_Tarjetas!L736)","v":""},{"$f":"IF(Datos_de_Tarjetas!M736=0,\"\",Datos_de_Tarjetas!M736)","v":""},{"$f":"IF(Datos_de_Tarjetas!N736=0,\"\",Datos_de_Tarjetas!N736)","v":""},{"$f":"IFERROR(VLOOKUP(Datos_de_Tarjetas!P736,Parámetros!$AM$3:$AN$90,2,FALSE),\"\")","v":""}]
[null,1069470000,{"$f":"IFERROR(VLOOKUP(Datos_de_Tarjetas!D737,Parámetros!$AD$12:$AE$17,2,FALSE),\"\")","v":""},{"$f":"IF(Datos_de_Tarjetas!G737=0,\"\",Datos_de_Tarjetas!G737)","v":""},{"$f":"IFERROR(VLOOKUP(Datos_de_Tarjetas!K737,Parámetros!$AJ$3:$AK$13,2,FALSE),\"\")","v":""},{"$f":"IFERROR(VLOOKUP(Datos_de_Tarjetas!J737,Parámetros!$AQ$3:$AR$57,2,FALSE),\"\")","v":""},null,{"$f":"IF(Datos_de_Tarjetas!L737=0,\"\",Datos_de_Tarjetas!L737)","v":""},{"$f":"IF(Datos_de_Tarjetas!M737=0,\"\",Datos_de_Tarjetas!M737)","v":""},{"$f":"IF(Datos_de_Tarjetas!N737=0,\"\",Datos_de_Tarjetas!N737)","v":""},{"$f":"IFERROR(VLOOKUP(Datos_de_Tarjetas!P737,Parámetros!$AM$3:$AN$90,2,FALSE),\"\")","v":""}]
[null,1069470000,{"$f":"IFERROR(VLOOKUP(Datos_de_Tarjetas!D738,Parámetros!$AD$12:$AE$17,2,FALSE),\"\")","v":""},{"$f":"IF(Datos_de_Tarjetas!G738=0,\"\",Datos_de_Tarjetas!G738)","v":""},{"$f":"IFERROR(VLOOKUP(Datos_de_Tarjetas!K738,Parámetros!$AJ$3:$AK$13,2,FALSE),\"\")","v":""},{"$f":"IFERROR(VLOOKUP(Datos_de_Tarjetas!J738,Parámetros!$AQ$3:$AR$57,2,FALSE),\"\")","v":""},null,{"$f":"IF(Datos_de_Tarjetas!L738=0,\"\",Datos_de_Tarjetas!L738)","v":""},{"$f":"IF(Datos_de_Tarjetas!M738=0,\"\",Datos_de_Tarjetas!M738)","v":""},{"$f":"IF(Datos_de_Tarjetas!N738=0,\"\",Datos_de_Tarjetas!N738)","v":""},{"$f":"IFERROR(VLOOKUP(Datos_de_Tarjetas!P738,Parámetros!$AM$3:$AN$90,2,FALSE),\"\")","v":""}]
[null,1069470000,{"$f":"IFERROR(VLOOKUP(Datos_de_Tarjetas!D739,Parámetros!$AD$12:$AE$17,2,FALSE),\"\")","v":""},{"$f":"IF(Datos_de_Tarjetas!G739=0,\"\",Datos_de_Tarjetas!G739)","v":""},{"$f":"IFERROR(VLOOKUP(Datos_de_Tarjetas!K739,Parámetros!$AJ$3:$AK$13,2,FALSE),\"\")","v":""},{"$f":"IFERROR(VLOOKUP(Datos_de_Tarjetas!J739,Parámetros!$AQ$3:$AR$57,2,FALSE),\"\")","v":""},null,{"$f":"IF(Datos_de_Tarjetas!L739=0,\"\",Datos_de_Tarjetas!L739)","v":""},{"$f":"IF(Datos_de_Tarjetas!M739=0,\"\",Datos_de_Tarjetas!M739)","v":""},{"$f":"IF(Datos_de_Tarjetas!N739=0,\"\",Datos_de_Tarjetas!N739)","v":""},{"$f":"IFERROR(VLOOKUP(Datos_de_Tarjetas!P739,Parámetros!$AM$3:$AN$90,2,FALSE),\"\")","v":""}]
[null,1069470000,{"$f":"IFERROR(VLOOKUP(Datos_de_Tarjetas!D740,Parámetros!$AD$12:$AE$17,2,FALSE),\"\")","v":""},{"$f":"IF(Datos_de_Tarjetas!G740=0,\"\",Datos_de_Tarjetas!G740)","v":""},{"$f":"IFERROR(VLOOKUP(Datos_de_Tarjetas!K740,Parámetros!$AJ$3:$AK$13,2,FALSE),\"\")","v":""},{"$f":"IFERROR(VLOOKUP(Datos_de_Tarjetas!J740,Parámetros!$AQ$3:$AR$57,2,FALSE),\"\")","v":""},null,{"$f":"IF(Datos_de_Tarjetas!L740=0,\"\",Datos_de_Tarjetas!L740)","v":""},{"$f":"IF(Datos_de_Tarjetas!M740=0,\"\",Datos_de_Tarjetas!M740)","v":""},{"$f":"IF(Datos_de_Tarjetas!N740=0,\"\",Datos_de_Tarjetas!N740)","v":""},{"$f":"IFERROR(VLOOKUP(Datos_de_Tarjetas!P740,Parámetros!$AM$3:$AN$90,2,FALSE),\"\")","v":""}]
[null,1069470000,{"$f":"IFERROR(VLOOKUP(Datos_de_Tarjetas!D741,Parámetros!$AD$12:$AE$17,2,FALSE),\"\")","v":""},{"$f":"IF(Datos_de_Tarjetas!G741=0,\"\",Datos_de_Tarjetas!G741)","v":""},{"$f":"IFERROR(VLOOKUP(Datos_de_Tarjetas!K741,Parámetros!$AJ$3:$AK$13,2,FALSE),\"\")","v":""},{"$f":"IFERROR(VLOOKUP(Datos_de_Tarjetas!J741,Parámetros!$AQ$3:$AR$57,2,FALSE),\"\")","v":""},null,{"$f":"IF(Datos_de_Tarjetas!L741=0,\"\",Datos_de_Tarjetas!L741)","v":""},{"$f":"IF(Datos_de_Tarjetas!M741=0,\"\",Datos_de_Tarjetas!M741)","v":""},{"$f":"IF(Datos_de_Tarjetas!N741=0,\"\",Datos_de_Tarjetas!N741)","v":""},{"$f":"IFERROR(VLOOKUP(Datos_de_Tarjetas!P741,Parámetros!$AM$3:$AN$90,2,FALSE),\"\")","v":""}]
[null,1069470000,{"$f":"IFERROR(VLOOKUP(Datos_de_Tarjetas!D742,Parámetros!$AD$12:$AE$17,2,FALSE),\"\")","v":""},{"$f":"IF(Datos_de_Tarjetas!G742=0,\"\",Datos_de_Tarjetas!G742)","v":""},{"$f":"IFERROR(VLOOKUP(Datos_de_Tarjetas!K742,Parámetros!$AJ$3:$AK$13,2,FALSE),\"\")","v":""},{"$f":"IFERROR(VLOOKUP(Datos_de_Tarjetas!J742,Parámetros!$AQ$3:$AR$57,2,FALSE),\"\")","v":""},null,{"$f":"IF(Datos_de_Tarjetas!L742=0,\"\",Datos_de_Tarjetas!L742)","v":""},{"$f":"IF(Datos_de_Tarjetas!M742=0,\"\",Datos_de_Tarjetas!M742)","v":""},{"$f":"IF(Datos_de_Tarjetas!N742=0,\"\",Datos_de_Tarjetas!N742)","v":""},{"$f":"IFERROR(VLOOKUP(Datos_de_Tarjetas!P742,Parámetros!$AM$3:$AN$90,2,FALSE),\"\")","v":""}]
[null,1069470000,{"$f":"IFERROR(VLOOKUP(Datos_de_Tarjetas!D743,Parámetros!$AD$12:$AE$17,2,FALSE),\"\")","v":""},{"$f":"IF(Datos_de_Tarjetas!G743=0,\"\",Datos_de_Tarjetas!G743)","v":""},{"$f":"IFERROR(VLOOKUP(Datos_de_Tarjetas!K743,Parámetros!$AJ$3:$AK$13,2,FALSE),\"\")","v":""},{"$f":"IFERROR(VLOOKUP(Datos_de_Tarjetas!J743,Parámetros!$AQ$3:$AR$57,2,FALSE),\"\")","v":""},null,{"$f":"IF(Datos_de_Tarjetas!L743=0,\"\",Datos_de_Tarjetas!L743)","v":""},{"$f":"IF(Datos_de_Tarjetas!M743=0,\"\",Datos_de_Tarjetas!M743)","v":""},{"$f":"IF(Datos_de_Tarjetas!N743=0,\"\",Datos_de_Tarjetas!N743)","v":""},{"$f":"IFERROR(VLOOKUP(Datos_de_Tarjetas!P743,Parámetros!$AM$3:$AN$90,2,FALSE),\"\")","v":""}]
[null,1069470000,{"$f":"IFERROR(VLOOKUP(Datos_de_Tarjetas!D744,Parámetros!$AD$12:$AE$17,2,FALSE),\"\")","v":""},{"$f":"IF(Datos_de_Tarjetas!G744=0,\"\",Datos_de_Tarjetas!G744)","v":""},{"$f":"IFERROR(VLOOKUP(Datos_de_Tarjetas!K744,Parámetros!$AJ$3:$AK$13,2,FALSE),\"\")","v":""},{"$f":"IFERROR(VLOOKUP(Datos_de_Tarjetas!J744,Parámetros!$AQ$3:$AR$57,2,FALSE),\"\")","v":""},null,{"$f":"IF(Datos_de_Tarjetas!L744=0,\"\",Datos_de_Tarjetas!L744)","v":""},{"$f":"IF(Datos_de_Tarjetas!M744=0,\"\",Datos_de_Tarjetas!M744)","v":""},{"$f":"IF(Datos_de_Tarjetas!N744=0,\"\",Datos_de_Tarjetas!N744)","v":""},{"$f":"IFERROR(VLOOKUP(Datos_de_Tarjetas!P744,Parámetros!$AM$3:$AN$90,2,FALSE),\"\")","v":""}]
[null,1069470000,{"$f":"IFERROR(VLOOKUP(Datos_de_Tarjetas!D745,Parámetros!$AD$12:$AE$17,2,FALSE),\"\")","v":""},{"$f":"IF(Datos_de_Tarjetas!G745=0,\"\",Datos_de_Tarjetas!G745)","v":""},{"$f":"IFERROR(VLOOKUP(Datos_de_Tarjetas!K745,Parámetros!$AJ$3:$AK$13,2,FALSE),\"\")","v":""},{"$f":"IFERROR(VLOOKUP(Datos_de_Tarjetas!J745,Parámetros!$AQ$3:$AR$57,2,FALSE),\"\")","v":""},null,{"$f":"IF(Datos_de_Tarjetas!L745=0,\"\",Datos_de_Tarjetas!L745)","v":""},{"$f":"IF(Datos_de_Tarjetas!M745=0,\"\",Datos_de_Tarjetas!M745)","v":""},{"$f":"IF(Datos_de_Tarjetas!N745=0,\"\",Datos_de_Tarjetas!N745)","v":""},{"$f":"IFERROR(VLOOKUP(Datos_de_Tarjetas!P745,Parámetros!$AM$3:$AN$90,2,FALSE),\"\")","v":""}]
[null,1069470000,{"$f":"IFERROR(VLOOKUP(Datos_de_Tarjetas!D746,Parámetros!$AD$12:$AE$17,2,FALSE),\"\")","v":""},{"$f":"IF(Datos_de_Tarjetas!G746=0,\"\",Datos_de_Tarjetas!G746)","v":""},{"$f":"IFERROR(VLOOKUP(Datos_de_Tarjetas!K746,Parámetros!$AJ$3:$AK$13,2,FALSE),\"\")","v":""},{"$f":"IFERROR(VLOOKUP(Datos_de_Tarjetas!J746,Parámetros!$AQ$3:$AR$57,2,FALSE),\"\")","v":""},null,{"$f":"IF(Datos_de_Tarjetas!L746=0,\"\",Datos_de_Tarjetas!L746)","v":""},{"$f":"IF(Datos_de_Tarjetas!M746=0,\"\",Datos_de_Tarjetas!M746)","v":""},{"$f":"IF(Datos_de_Tarjetas!N746=0,\"\",Datos_de_Tarjetas!N746)","v":""},{"$f":"IFERROR(VLOOKUP(Datos_de_Tarjetas!P746,Parámetros!$AM$3:$AN$90,2,FALSE),\"\")","v":""}]
[null,1069470000,{"$f":"IFERROR(VLOOKUP(Datos_de_Tarjetas!D747,Parámetros!$AD$12:$AE$17,2,FALSE),\"\")","v":""},{"$f":"IF(Datos_de_Tarjetas!G747=0,\"\",Datos_de_Tarjetas!G747)","v":""},{"$f":"IFERROR(VLOOKUP(Datos_de_Tarjetas!K747,Parámetros!$AJ$3:$AK$13,2,FALSE),\"\")","v":""},{"$f":"IFERROR(VLOOKUP(Datos_de_Tarjetas!J747,Parámetros!$AQ$3:$AR$57,2,FALSE),\"\")","v":""},null,{"$f":"IF(Datos_de_Tarjetas!L747=0,\"\",Datos_de_Tarjetas!L747)","v":""},{"$f":"IF(Datos_de_Tarjetas!M747=0,\"\",Datos_de_Tarjetas!M747)","v":""},{"$f":"IF(Datos_de_Tarjetas!N747=0,\"\",Datos_de_Tarjetas!N747)","v":""},{"$f":"IFERROR(VLOOKUP(Datos_de_Tarjetas!P747,Parámetros!$AM$3:$AN$90,2,FALSE),\"\")","v":""}]
[null,1069470000,{"$f":"IFERROR(VLOOKUP(Datos_de_Tarjetas!D748,Parámetros!$AD$12:$AE$17,2,FALSE),\"\")","v":""},{"$f":"IF(Datos_de_Tarjetas!G748=0,\"\",Datos_de_Tarjetas!G748)","v":""},{"$f":"IFERROR(VLOOKUP(Datos_de_Tarjetas!K748,Parámetros!$AJ$3:$AK$13,2,FALSE),\"\")","v":""},{"$f":"IFERROR(VLOOKUP(Datos_de_Tarjetas!J748,Parámetros!$AQ$3:$AR$57,2,FALSE),\"\")","v":""},null,{"$f":"IF(Datos_de_Tarjetas!L748=0,\"\",Datos_de_Tarjetas!L748)","v":""},{"$f":"IF(Datos_de_Tarjetas!M748=0,\"\",Datos_de_Tarjetas!M748)","v":""},{"$f":"IF(Datos_de_Tarjetas!N748=0,\"\",Datos_de_Tarjetas!N748)","v":""},{"$f":"IFERROR(VLOOKUP(Datos_de_Tarjetas!P748,Parámetros!$AM$3:$AN$90,2,FALSE),\"\")","v":""}]
[null,1069470000,{"$f":"IFERROR(VLOOKUP(Datos_de_Tarjetas!D749,Parámetros!$AD$12:$AE$17,2,FALSE),\"\")","v":""},{"$f":"IF(Datos_de_Tarjetas!G749=0,\"\",Datos_de_Tarjetas!G749)","v":""},{"$f":"IFERROR(VLOOKUP(Datos_de_Tarjetas!K749,Parámetros!$AJ$3:$AK$13,2,FALSE),\"\")","v":""},{"$f":"IFERROR(VLOOKUP(Datos_de_Tarjetas!J749,Parámetros!$AQ$3:$AR$57,2,FALSE),\"\")","v":""},null,{"$f":"IF(Datos_de_Tarjetas!L749=0,\"\",Datos_de_Tarjetas!L749)","v":""},{"$f":"IF(Datos_de_Tarjetas!M749=0,\"\",Datos_de_Tarjetas!M749)","v":""},{"$f":"IF(Datos_de_Tarjetas!N749=0,\"\",Datos_de_Tarjetas!N749)","v":""},{"$f":"IFERROR(VLOOKUP(Datos_de_Tarjetas!P749,Parámetros!$AM$3:$AN$90,2,FALSE),\"\")","v":""}]
[null,1069470000,{"$f":"IFERROR(VLOOKUP(Datos_de_Tarjetas!D750,Parámetros!$AD$12:$AE$17,2,FALSE),\"\")","v":""},{"$f":"IF(Datos_de_Tarjetas!G750=0,\"\",Datos_de_Tarjetas!G750)","v":""},{"$f":"IFERROR(VLOOKUP(Datos_de_Tarjetas!K750,Parámetros!$AJ$3:$AK$13,2,FALSE),\"\")","v":""},{"$f":"IFERROR(VLOOKUP(Datos_de_Tarjetas!J750,Parámetros!$AQ$3:$AR$57,2,FALSE),\"\")","v":""},null,{"$f":"IF(Datos_de_Tarjetas!L750=0,\"\",Datos_de_Tarjetas!L750)","v":""},{"$f":"IF(Datos_de_Tarjetas!M750=0,\"\",Datos_de_Tarjetas!M750)","v":""},{"$f":"IF(Datos_de_Tarjetas!N750=0,\"\",Datos_de_Tarjetas!N750)","v":""},{"$f":"IFERROR(VLOOKUP(Datos_de_Tarjetas!P750,Parámetros!$AM$3:$AN$90,2,FALSE),\"\")","v":""}]
[null,1069470000,{"$f":"IFERROR(VLOOKUP(Datos_de_Tarjetas!D751,Parámetros!$AD$12:$AE$17,2,FALSE),\"\")","v":""},{"$f":"IF(Datos_de_Tarjetas!G751=0,\"\",Datos_de_Tarjetas!G751)","v":""},{"$f":"IFERROR(VLOOKUP(Datos_de_Tarjetas!K751,Parámetros!$AJ$3:$AK$13,2,FALSE),\"\")","v":""},{"$f":"IFERROR(VLOOKUP(Datos_de_Tarjetas!J751,Parámetros!$AQ$3:$AR$57,2,FALSE),\"\")","v":""},null,{"$f":"IF(Datos_de_Tarjetas!L751=0,\"\",Datos_de_Tarjetas!L751)","v":""},{"$f":"IF(Datos_de_Tarjetas!M751=0,\"\",Datos_de_Tarjetas!M751)","v":""},{"$f":"IF(Datos_de_Tarjetas!N751=0,\"\",Datos_de_Tarjetas!N751)","v":""},{"$f":"IFERROR(VLOOKUP(Datos_de_Tarjetas!P751,Parámetros!$AM$3:$AN$90,2,FALSE),\"\")","v":""}]
[null,1069470000,{"$f":"IFERROR(VLOOKUP(Datos_de_Tarjetas!D752,Parámetros!$AD$12:$AE$17,2,FALSE),\"\")","v":""},{"$f":"IF(Datos_de_Tarjetas!G752=0,\"\",Datos_de_Tarjetas!G752)","v":""},{"$f":"IFERROR(VLOOKUP(Datos_de_Tarjetas!K752,Parámetros!$AJ$3:$AK$13,2,FALSE),\"\")","v":""},{"$f":"IFERROR(VLOOKUP(Datos_de_Tarjetas!J752,Parámetros!$AQ$3:$AR$57,2,FALSE),\"\")","v":""},null,{"$f":"IF(Datos_de_Tarjetas!L752=0,\"\",Datos_de_Tarjetas!L752)","v":""},{"$f":"IF(Datos_de_Tarjetas!M752=0,\"\",Datos_de_Tarjetas!M752)","v":""},{"$f":"IF(Datos_de_Tarjetas!N752=0,\"\",Datos_de_Tarjetas!N752)","v":""},{"$f":"IFERROR(VLOOKUP(Datos_de_Tarjetas!P752,Parámetros!$AM$3:$AN$90,2,FALSE),\"\")","v":""}]
[null,1069470000,{"$f":"IFERROR(VLOOKUP(Datos_de_Tarjetas!D753,Parámetros!$AD$12:$AE$17,2,FALSE),\"\")","v":""},{"$f":"IF(Datos_de_Tarjetas!G753=0,\"\",Datos_de_Tarjetas!G753)","v":""},{"$f":"IFERROR(VLOOKUP(Datos_de_Tarjetas!K753,Parámetros!$AJ$3:$AK$13,2,FALSE),\"\")","v":""},{"$f":"IFERROR(VLOOKUP(Datos_de_Tarjetas!J753,Parámetros!$AQ$3:$AR$57,2,FALSE),\"\")","v":""},null,{"$f":"IF(Datos_de_Tarjetas!L753=0,\"\",Datos_de_Tarjetas!L753)","v":""},{"$f":"IF(Datos_de_Tarjetas!M753=0,\"\",Datos_de_Tarjetas!M753)","v":""},{"$f":"IF(Datos_de_Tarjetas!N753=0,\"\",Datos_de_Tarjetas!N753)","v":""},{"$f":"IFERROR(VLOOKUP(Datos_de_Tarjetas!P753,Parámetros!$AM$3:$AN$90,2,FALSE),\"\")","v":""}]
[null,1069470000,{"$f":"IFERROR(VLOOKUP(Datos_de_Tarjetas!D754,Parámetros!$AD$12:$AE$17,2,FALSE),\"\")","v":""},{"$f":"IF(Datos_de_Tarjetas!G754=0,\"\",Datos_de_Tarjetas!G754)","v":""},{"$f":"IFERROR(VLOOKUP(Datos_de_Tarjetas!K754,Parámetros!$AJ$3:$AK$13,2,FALSE),\"\")","v":""},{"$f":"IFERROR(VLOOKUP(Datos_de_Tarjetas!J754,Parámetros!$AQ$3:$AR$57,2,FALSE),\"\")","v":""},null,{"$f":"IF(Datos_de_Tarjetas!L754=0,\"\",Datos_de_Tarjetas!L754)","v":""},{"$f":"IF(Datos_de_Tarjetas!M754=0,\"\",Datos_de_Tarjetas!M754)","v":""},{"$f":"IF(Datos_de_Tarjetas!N754=0,\"\",Datos_de_Tarjetas!N754)","v":""},{"$f":"IFERROR(VLOOKUP(Datos_de_Tarjetas!P754,Parámetros!$AM$3:$AN$90,2,FALSE),\"\")","v":""}]
[null,1069470000,{"$f":"IFERROR(VLOOKUP(Datos_de_Tarjetas!D755,Parámetros!$AD$12:$AE$17,2,FALSE),\"\")","v":""},{"$f":"IF(Datos_de_Tarjetas!G755=0,\"\",Datos_de_Tarjetas!G755)","v":""},{"$f":"IFERROR(VLOOKUP(Datos_de_Tarjetas!K755,Parámetros!$AJ$3:$AK$13,2,FALSE),\"\")","v":""},{"$f":"IFERROR(VLOOKUP(Datos_de_Tarjetas!J755,Parámetros!$AQ$3:$AR$57,2,FALSE),\"\")","v":""},null,{"$f":"IF(Datos_de_Tarjetas!L755=0,\"\",Datos_de_Tarjetas!L755)","v":""},{"$f":"IF(Datos_de_Tarjetas!M755=0,\"\",Datos_de_Tarjetas!M755)","v":""},{"$f":"IF(Datos_de_Tarjetas!N755=0,\"\",Datos_de_Tarjetas!N755)","v":""},{"$f":"IFERROR(VLOOKUP(Datos_de_Tarjetas!P755,Parámetros!$AM$3:$AN$90,2,FALSE),\"\")","v":""}]
[null,1069470000,{"$f":"IFERROR(VLOOKUP(Datos_de_Tarjetas!D756,Parámetros!$AD$12:$AE$17,2,FALSE),\"\")","v":""},{"$f":"IF(Datos_de_Tarjetas!G756=0,\"\",Datos_de_Tarjetas!G756)","v":""},{"$f":"IFERROR(VLOOKUP(Datos_de_Tarjetas!K756,Parámetros!$AJ$3:$AK$13,2,FALSE),\"\")","v":""},{"$f":"IFERROR(VLOOKUP(Datos_de_Tarjetas!J756,Parámetros!$AQ$3:$AR$57,2,FALSE),\"\")","v":""},null,{"$f":"IF(Datos_de_Tarjetas!L756=0,\"\",Datos_de_Tarjetas!L756)","v":""},{"$f":"IF(Datos_de_Tarjetas!M756=0,\"\",Datos_de_Tarjetas!M756)","v":""},{"$f":"IF(Datos_de_Tarjetas!N756=0,\"\",Datos_de_Tarjetas!N756)","v":""},{"$f":"IFERROR(VLOOKUP(Datos_de_Tarjetas!P756,Parámetros!$AM$3:$AN$90,2,FALSE),\"\")","v":""}]
[null,1069470000,{"$f":"IFERROR(VLOOKUP(Datos_de_Tarjetas!D757,Parámetros!$AD$12:$AE$17,2,FALSE),\"\")","v":""},{"$f":"IF(Datos_de_Tarjetas!G757=0,\"\",Datos_de_Tarjetas!G757)","v":""},{"$f":"IFERROR(VLOOKUP(Datos_de_Tarjetas!K757,Parámetros!$AJ$3:$AK$13,2,FALSE),\"\")","v":""},{"$f":"IFERROR(VLOOKUP(Datos_de_Tarjetas!J757,Parámetros!$AQ$3:$AR$57,2,FALSE),\"\")","v":""},null,{"$f":"IF(Datos_de_Tarjetas!L757=0,\"\",Datos_de_Tarjetas!L757)","v":""},{"$f":"IF(Datos_de_Tarjetas!M757=0,\"\",Datos_de_Tarjetas!M757)","v":""},{"$f":"IF(Datos_de_Tarjetas!N757=0,\"\",Datos_de_Tarjetas!N757)","v":""},{"$f":"IFERROR(VLOOKUP(Datos_de_Tarjetas!P757,Parámetros!$AM$3:$AN$90,2,FALSE),\"\")","v":""}]
[null,1069470000,{"$f":"IFERROR(VLOOKUP(Datos_de_Tarjetas!D758,Parámetros!$AD$12:$AE$17,2,FALSE),\"\")","v":""},{"$f":"IF(Datos_de_Tarjetas!G758=0,\"\",Datos_de_Tarjetas!G758)","v":""},{"$f":"IFERROR(VLOOKUP(Datos_de_Tarjetas!K758,Parámetros!$AJ$3:$AK$13,2,FALSE),\"\")","v":""},{"$f":"IFERROR(VLOOKUP(Datos_de_Tarjetas!J758,Parámetros!$AQ$3:$AR$57,2,FALSE),\"\")","v":""},null,{"$f":"IF(Datos_de_Tarjetas!L758=0,\"\",Datos_de_Tarjetas!L758)","v":""},{"$f":"IF(Datos_de_Tarjetas!M758=0,\"\",Datos_de_Tarjetas!M758)","v":""},{"$f":"IF(Datos_de_Tarjetas!N758=0,\"\",Datos_de_Tarjetas!N758)","v":""},{"$f":"IFERROR(VLOOKUP(Datos_de_Tarjetas!P758,Parámetros!$AM$3:$AN$90,2,FALSE),\"\")","v":""}]
[null,1069470000,{"$f":"IFERROR(VLOOKUP(Datos_de_Tarjetas!D759,Parámetros!$AD$12:$AE$17,2,FALSE),\"\")","v":""},{"$f":"IF(Datos_de_Tarjetas!G759=0,\"\",Datos_de_Tarjetas!G759)","v":""},{"$f":"IFERROR(VLOOKUP(Datos_de_Tarjetas!K759,Parámetros!$AJ$3:$AK$13,2,FALSE),\"\")","v":""},{"$f":"IFERROR(VLOOKUP(Datos_de_Tarjetas!J759,Parámetros!$AQ$3:$AR$57,2,FALSE),\"\")","v":""},null,{"$f":"IF(Datos_de_Tarjetas!L759=0,\"\",Datos_de_Tarjetas!L759)","v":""},{"$f":"IF(Datos_de_Tarjetas!M759=0,\"\",Datos_de_Tarjetas!M759)","v":""},{"$f":"IF(Datos_de_Tarjetas!N759=0,\"\",Datos_de_Tarjetas!N759)","v":""},{"$f":"IFERROR(VLOOKUP(Datos_de_Tarjetas!P759,Parámetros!$AM$3:$AN$90,2,FALSE),\"\")","v":""}]
[null,1069470000,{"$f":"IFERROR(VLOOKUP(Datos_de_Tarjetas!D760,Parámetros!$AD$12:$AE$17,2,FALSE),\"\")","v":""},{"$f":"IF(Datos_de_Tarjetas!G760=0,\"\",Datos_de_Tarjetas!G760)","v":""},{"$f":"IFERROR(VLOOKUP(Datos_de_Tarjetas!K760,Parámetros!$AJ$3:$AK$13,2,FALSE),\"\")","v":""},{"$f":"IFERROR(VLOOKUP(Datos_de_Tarjetas!J760,Parámetros!$AQ$3:$AR$57,2,FALSE),\"\")","v":""},null,{"$f":"IF(Datos_de_Tarjetas!L760=0,\"\",Datos_de_Tarjetas!L760)","v":""},{"$f":"IF(Datos_de_Tarjetas!M760=0,\"\",Datos_de_Tarjetas!M760)","v":""},{"$f":"IF(Datos_de_Tarjetas!N760=0,\"\",Datos_de_Tarjetas!N760)","v":""},{"$f":"IFERROR(VLOOKUP(Datos_de_Tarjetas!P760,Parámetros!$AM$3:$AN$90,2,FALSE),\"\")","v":""}]
[null,1069470000,{"$f":"IFERROR(VLOOKUP(Datos_de_Tarjetas!D761,Parámetros!$AD$12:$AE$17,2,FALSE),\"\")","v":""},{"$f":"IF(Datos_de_Tarjetas!G761=0,\"\",Datos_de_Tarjetas!G761)","v":""},{"$f":"IFERROR(VLOOKUP(Datos_de_Tarjetas!K761,Parámetros!$AJ$3:$AK$13,2,FALSE),\"\")","v":""},{"$f":"IFERROR(VLOOKUP(Datos_de_Tarjetas!J761,Parámetros!$AQ$3:$AR$57,2,FALSE),\"\")","v":""},null,{"$f":"IF(Datos_de_Tarjetas!L761=0,\"\",Datos_de_Tarjetas!L761)","v":""},{"$f":"IF(Datos_de_Tarjetas!M761=0,\"\",Datos_de_Tarjetas!M761)","v":""},{"$f":"IF(Datos_de_Tarjetas!N761=0,\"\",Datos_de_Tarjetas!N761)","v":""},{"$f":"IFERROR(VLOOKUP(Datos_de_Tarjetas!P761,Parámetros!$AM$3:$AN$90,2,FALSE),\"\")","v":""}]
[null,1069470000,{"$f":"IFERROR(VLOOKUP(Datos_de_Tarjetas!D762,Parámetros!$AD$12:$AE$17,2,FALSE),\"\")","v":""},{"$f":"IF(Datos_de_Tarjetas!G762=0,\"\",Datos_de_Tarjetas!G762)","v":""},{"$f":"IFERROR(VLOOKUP(Datos_de_Tarjetas!K762,Parámetros!$AJ$3:$AK$13,2,FALSE),\"\")","v":""},{"$f":"IFERROR(VLOOKUP(Datos_de_Tarjetas!J762,Parámetros!$AQ$3:$AR$57,2,FALSE),\"\")","v":""},null,{"$f":"IF(Datos_de_Tarjetas!L762=0,\"\",Datos_de_Tarjetas!L762)","v":""},{"$f":"IF(Datos_de_Tarjetas!M762=0,\"\",Datos_de_Tarjetas!M762)","v":""},{"$f":"IF(Datos_de_Tarjetas!N762=0,\"\",Datos_de_Tarjetas!N762)","v":""},{"$f":"IFERROR(VLOOKUP(Datos_de_Tarjetas!P762,Parámetros!$AM$3:$AN$90,2,FALSE),\"\")","v":""}]
[null,1069470000,{"$f":"IFERROR(VLOOKUP(Datos_de_Tarjetas!D763,Parámetros!$AD$12:$AE$17,2,FALSE),\"\")","v":""},{"$f":"IF(Datos_de_Tarjetas!G763=0,\"\",Datos_de_Tarjetas!G763)","v":""},{"$f":"IFERROR(VLOOKUP(Datos_de_Tarjetas!K763,Parámetros!$AJ$3:$AK$13,2,FALSE),\"\")","v":""},{"$f":"IFERROR(VLOOKUP(Datos_de_Tarjetas!J763,Parámetros!$AQ$3:$AR$57,2,FALSE),\"\")","v":""},null,{"$f":"IF(Datos_de_Tarjetas!L763=0,\"\",Datos_de_Tarjetas!L763)","v":""},{"$f":"IF(Datos_de_Tarjetas!M763=0,\"\",Datos_de_Tarjetas!M763)","v":""},{"$f":"IF(Datos_de_Tarjetas!N763=0,\"\",Datos_de_Tarjetas!N763)","v":""},{"$f":"IFERROR(VLOOKUP(Datos_de_Tarjetas!P763,Parámetros!$AM$3:$AN$90,2,FALSE),\"\")","v":""}]
[null,1069470000,{"$f":"IFERROR(VLOOKUP(Datos_de_Tarjetas!D764,Parámetros!$AD$12:$AE$17,2,FALSE),\"\")","v":""},{"$f":"IF(Datos_de_Tarjetas!G764=0,\"\",Datos_de_Tarjetas!G764)","v":""},{"$f":"IFERROR(VLOOKUP(Datos_de_Tarjetas!K764,Parámetros!$AJ$3:$AK$13,2,FALSE),\"\")","v":""},{"$f":"IFERROR(VLOOKUP(Datos_de_Tarjetas!J764,Parámetros!$AQ$3:$AR$57,2,FALSE),\"\")","v":""},null,{"$f":"IF(Datos_de_Tarjetas!L764=0,\"\",Datos_de_Tarjetas!L764)","v":""},{"$f":"IF(Datos_de_Tarjetas!M764=0,\"\",Datos_de_Tarjetas!M764)","v":""},{"$f":"IF(Datos_de_Tarjetas!N764=0,\"\",Datos_de_Tarjetas!N764)","v":""},{"$f":"IFERROR(VLOOKUP(Datos_de_Tarjetas!P764,Parámetros!$AM$3:$AN$90,2,FALSE),\"\")","v":""}]
[null,1069470000,{"$f":"IFERROR(VLOOKUP(Datos_de_Tarjetas!D765,Parámetros!$AD$12:$AE$17,2,FALSE),\"\")","v":""},{"$f":"IF(Datos_de_Tarjetas!G765=0,\"\",Datos_de_Tarjetas!G765)","v":""},{"$f":"IFERROR(VLOOKUP(Datos_de_Tarjetas!K765,Parámetros!$AJ$3:$AK$13,2,FALSE),\"\")","v":""},{"$f":"IFERROR(VLOOKUP(Datos_de_Tarjetas!J765,Parámetros!$AQ$3:$AR$57,2,FALSE),\"\")","v":""},null,{"$f":"IF(Datos_de_Tarjetas!L765=0,\"\",Datos_de_Tarjetas!L765)","v":""},{"$f":"IF(Datos_de_Tarjetas!M765=0,\"\",Datos_de_Tarjetas!M765)","v":""},{"$f":"IF(Datos_de_Tarjetas!N765=0,\"\",Datos_de_Tarjetas!N765)","v":""},{"$f":"IFERROR(VLOOKUP(Datos_de_Tarjetas!P765,Parámetros!$AM$3:$AN$90,2,FALSE),\"\")","v":""}]
[null,1069470000,{"$f":"IFERROR(VLOOKUP(Datos_de_Tarjetas!D766,Parámetros!$AD$12:$AE$17,2,FALSE),\"\")","v":""},{"$f":"IF(Datos_de_Tarjetas!G766=0,\"\",Datos_de_Tarjetas!G766)","v":""},{"$f":"IFERROR(VLOOKUP(Datos_de_Tarjetas!K766,Parámetros!$AJ$3:$AK$13,2,FALSE),\"\")","v":""},{"$f":"IFERROR(VLOOKUP(Datos_de_Tarjetas!J766,Parámetros!$AQ$3:$AR$57,2,FALSE),\"\")","v":""},null,{"$f":"IF(Datos_de_Tarjetas!L766=0,\"\",Datos_de_Tarjetas!L766)","v":""},{"$f":"IF(Datos_de_Tarjetas!M766=0,\"\",Datos_de_Tarjetas!M766)","v":""},{"$f":"IF(Datos_de_Tarjetas!N766=0,\"\",Datos_de_Tarjetas!N766)","v":""},{"$f":"IFERROR(VLOOKUP(Datos_de_Tarjetas!P766,Parámetros!$AM$3:$AN$90,2,FALSE),\"\")","v":""}]
[null,1069470000,{"$f":"IFERROR(VLOOKUP(Datos_de_Tarjetas!D767,Parámetros!$AD$12:$AE$17,2,FALSE),\"\")","v":""},{"$f":"IF(Datos_de_Tarjetas!G767=0,\"\",Datos_de_Tarjetas!G767)","v":""},{"$f":"IFERROR(VLOOKUP(Datos_de_Tarjetas!K767,Parámetros!$AJ$3:$AK$13,2,FALSE),\"\")","v":""},{"$f":"IFERROR(VLOOKUP(Datos_de_Tarjetas!J767,Parámetros!$AQ$3:$AR$57,2,FALSE),\"\")","v":""},null,{"$f":"IF(Datos_de_Tarjetas!L767=0,\"\",Datos_de_Tarjetas!L767)","v":""},{"$f":"IF(Datos_de_Tarjetas!M767=0,\"\",Datos_de_Tarjetas!M767)","v":""},{"$f":"IF(Datos_de_Tarjetas!N767=0,\"\",Datos_de_Tarjetas!N767)","v":""},{"$f":"IFERROR(VLOOKUP(Datos_de_Tarjetas!P767,Parámetros!$AM$3:$AN$90,2,FALSE),\"\")","v":""}]
[null,1069470000,{"$f":"IFERROR(VLOOKUP(Datos_de_Tarjetas!D768,Parámetros!$AD$12:$AE$17,2,FALSE),\"\")","v":""},{"$f":"IF(Datos_de_Tarjetas!G768=0,\"\",Datos_de_Tarjetas!G768)","v":""},{"$f":"IFERROR(VLOOKUP(Datos_de_Tarjetas!K768,Parámetros!$AJ$3:$AK$13,2,FALSE),\"\")","v":""},{"$f":"IFERROR(VLOOKUP(Datos_de_Tarjetas!J768,Parámetros!$AQ$3:$AR$57,2,FALSE),\"\")","v":""},null,{"$f":"IF(Datos_de_Tarjetas!L768=0,\"\",Datos_de_Tarjetas!L768)","v":""},{"$f":"IF(Datos_de_Tarjetas!M768=0,\"\",Datos_de_Tarjetas!M768)","v":""},{"$f":"IF(Datos_de_Tarjetas!N768=0,\"\",Datos_de_Tarjetas!N768)","v":""},{"$f":"IFERROR(VLOOKUP(Datos_de_Tarjetas!P768,Parámetros!$AM$3:$AN$90,2,FALSE),\"\")","v":""}]
[null,1069470000,{"$f":"IFERROR(VLOOKUP(Datos_de_Tarjetas!D769,Parámetros!$AD$12:$AE$17,2,FALSE),\"\")","v":""},{"$f":"IF(Datos_de_Tarjetas!G769=0,\"\",Datos_de_Tarjetas!G769)","v":""},{"$f":"IFERROR(VLOOKUP(Datos_de_Tarjetas!K769,Parámetros!$AJ$3:$AK$13,2,FALSE),\"\")","v":""},{"$f":"IFERROR(VLOOKUP(Datos_de_Tarjetas!J769,Parámetros!$AQ$3:$AR$57,2,FALSE),\"\")","v":""},null,{"$f":"IF(Datos_de_Tarjetas!L769=0,\"\",Datos_de_Tarjetas!L769)","v":""},{"$f":"IF(Datos_de_Tarjetas!M769=0,\"\",Datos_de_Tarjetas!M769)","v":""},{"$f":"IF(Datos_de_Tarjetas!N769=0,\"\",Datos_de_Tarjetas!N769)","v":""},{"$f":"IFERROR(VLOOKUP(Datos_de_Tarjetas!P769,Parámetros!$AM$3:$AN$90,2,FALSE),\"\")","v":""}]
[null,1069470000,{"$f":"IFERROR(VLOOKUP(Datos_de_Tarjetas!D770,Parámetros!$AD$12:$AE$17,2,FALSE),\"\")","v":""},{"$f":"IF(Datos_de_Tarjetas!G770=0,\"\",Datos_de_Tarjetas!G770)","v":""},{"$f":"IFERROR(VLOOKUP(Datos_de_Tarjetas!K770,Parámetros!$AJ$3:$AK$13,2,FALSE),\"\")","v":""},{"$f":"IFERROR(VLOOKUP(Datos_de_Tarjetas!J770,Parámetros!$AQ$3:$AR$57,2,FALSE),\"\")","v":""},null,{"$f":"IF(Datos_de_Tarjetas!L770=0,\"\",Datos_de_Tarjetas!L770)","v":""},{"$f":"IF(Datos_de_Tarjetas!M770=0,\"\",Datos_de_Tarjetas!M770)","v":""},{"$f":"IF(Datos_de_Tarjetas!N770=0,\"\",Datos_de_Tarjetas!N770)","v":""},{"$f":"IFERROR(VLOOKUP(Datos_de_Tarjetas!P770,Parámetros!$AM$3:$AN$90,2,FALSE),\"\")","v":""}]
[null,1069470000,{"$f":"IFERROR(VLOOKUP(Datos_de_Tarjetas!D771,Parámetros!$AD$12:$AE$17,2,FALSE),\"\")","v":""},{"$f":"IF(Datos_de_Tarjetas!G771=0,\"\",Datos_de_Tarjetas!G771)","v":""},{"$f":"IFERROR(VLOOKUP(Datos_de_Tarjetas!K771,Parámetros!$AJ$3:$AK$13,2,FALSE),\"\")","v":""},{"$f":"IFERROR(VLOOKUP(Datos_de_Tarjetas!J771,Parámetros!$AQ$3:$AR$57,2,FALSE),\"\")","v":""},null,{"$f":"IF(Datos_de_Tarjetas!L771=0,\"\",Datos_de_Tarjetas!L771)","v":""},{"$f":"IF(Datos_de_Tarjetas!M771=0,\"\",Datos_de_Tarjetas!M771)","v":""},{"$f":"IF(Datos_de_Tarjetas!N771=0,\"\",Datos_de_Tarjetas!N771)","v":""},{"$f":"IFERROR(VLOOKUP(Datos_de_Tarjetas!P771,Parámetros!$AM$3:$AN$90,2,FALSE),\"\")","v":""}]
[null,1069470000,{"$f":"IFERROR(VLOOKUP(Datos_de_Tarjetas!D772,Parámetros!$AD$12:$AE$17,2,FALSE),\"\")","v":""},{"$f":"IF(Datos_de_Tarjetas!G772=0,\"\",Datos_de_Tarjetas!G772)","v":""},{"$f":"IFERROR(VLOOKUP(Datos_de_Tarjetas!K772,Parámetros!$AJ$3:$AK$13,2,FALSE),\"\")","v":""},{"$f":"IFERROR(VLOOKUP(Datos_de_Tarjetas!J772,Parámetros!$AQ$3:$AR$57,2,FALSE),\"\")","v":""},null,{"$f":"IF(Datos_de_Tarjetas!L772=0,\"\",Datos_de_Tarjetas!L772)","v":""},{"$f":"IF(Datos_de_Tarjetas!M772=0,\"\",Datos_de_Tarjetas!M772)","v":""},{"$f":"IF(Datos_de_Tarjetas!N772=0,\"\",Datos_de_Tarjetas!N772)","v":""},{"$f":"IFERROR(VLOOKUP(Datos_de_Tarjetas!P772,Parámetros!$AM$3:$AN$90,2,FALSE),\"\")","v":""}]
[null,1069470000,{"$f":"IFERROR(VLOOKUP(Datos_de_Tarjetas!D773,Parámetros!$AD$12:$AE$17,2,FALSE),\"\")","v":""},{"$f":"IF(Datos_de_Tarjetas!G773=0,\"\",Datos_de_Tarjetas!G773)","v":""},{"$f":"IFERROR(VLOOKUP(Datos_de_Tarjetas!K773,Parámetros!$AJ$3:$AK$13,2,FALSE),\"\")","v":""},{"$f":"IFERROR(VLOOKUP(Datos_de_Tarjetas!J773,Parámetros!$AQ$3:$AR$57,2,FALSE),\"\")","v":""},null,{"$f":"IF(Datos_de_Tarjetas!L773=0,\"\",Datos_de_Tarjetas!L773)","v":""},{"$f":"IF(Datos_de_Tarjetas!M773=0,\"\",Datos_de_Tarjetas!M773)","v":""},{"$f":"IF(Datos_de_Tarjetas!N773=0,\"\",Datos_de_Tarjetas!N773)","v":""},{"$f":"IFERROR(VLOOKUP(Datos_de_Tarjetas!P773,Parámetros!$AM$3:$AN$90,2,FALSE),\"\")","v":""}]
[null,1069470000,{"$f":"IFERROR(VLOOKUP(Datos_de_Tarjetas!D774,Parámetros!$AD$12:$AE$17,2,FALSE),\"\")","v":""},{"$f":"IF(Datos_de_Tarjetas!G774=0,\"\",Datos_de_Tarjetas!G774)","v":""},{"$f":"IFERROR(VLOOKUP(Datos_de_Tarjetas!K774,Parámetros!$AJ$3:$AK$13,2,FALSE),\"\")","v":""},{"$f":"IFERROR(VLOOKUP(Datos_de_Tarjetas!J774,Parámetros!$AQ$3:$AR$57,2,FALSE),\"\")","v":""},null,{"$f":"IF(Datos_de_Tarjetas!L774=0,\"\",Datos_de_Tarjetas!L774)","v":""},{"$f":"IF(Datos_de_Tarjetas!M774=0,\"\",Datos_de_Tarjetas!M774)","v":""},{"$f":"IF(Datos_de_Tarjetas!N774=0,\"\",Datos_de_Tarjetas!N774)","v":""},{"$f":"IFERROR(VLOOKUP(Datos_de_Tarjetas!P774,Parámetros!$AM$3:$AN$90,2,FALSE),\"\")","v":""}]
[null,1069470000,{"$f":"IFERROR(VLOOKUP(Datos_de_Tarjetas!D775,Parámetros!$AD$12:$AE$17,2,FALSE),\"\")","v":""},{"$f":"IF(Datos_de_Tarjetas!G775=0,\"\",Datos_de_Tarjetas!G775)","v":""},{"$f":"IFERROR(VLOOKUP(Datos_de_Tarjetas!K775,Parámetros!$AJ$3:$AK$13,2,FALSE),\"\")","v":""},{"$f":"IFERROR(VLOOKUP(Datos_de_Tarjetas!J775,Parámetros!$AQ$3:$AR$57,2,FALSE),\"\")","v":""},null,{"$f":"IF(Datos_de_Tarjetas!L775=0,\"\",Datos_de_Tarjetas!L775)","v":""},{"$f":"IF(Datos_de_Tarjetas!M775=0,\"\",Datos_de_Tarjetas!M775)","v":""},{"$f":"IF(Datos_de_Tarjetas!N775=0,\"\",Datos_de_Tarjetas!N775)","v":""},{"$f":"IFERROR(VLOOKUP(Datos_de_Tarjetas!P775,Parámetros!$AM$3:$AN$90,2,FALSE),\"\")","v":""}]
[null,1069470000,{"$f":"IFERROR(VLOOKUP(Datos_de_Tarjetas!D776,Parámetros!$AD$12:$AE$17,2,FALSE),\"\")","v":""},{"$f":"IF(Datos_de_Tarjetas!G776=0,\"\",Datos_de_Tarjetas!G776)","v":""},{"$f":"IFERROR(VLOOKUP(Datos_de_Tarjetas!K776,Parámetros!$AJ$3:$AK$13,2,FALSE),\"\")","v":""},{"$f":"IFERROR(VLOOKUP(Datos_de_Tarjetas!J776,Parámetros!$AQ$3:$AR$57,2,FALSE),\"\")","v":""},null,{"$f":"IF(Datos_de_Tarjetas!L776=0,\"\",Datos_de_Tarjetas!L776)","v":""},{"$f":"IF(Datos_de_Tarjetas!M776=0,\"\",Datos_de_Tarjetas!M776)","v":""},{"$f":"IF(Datos_de_Tarjetas!N776=0,\"\",Datos_de_Tarjetas!N776)","v":""},{"$f":"IFERROR(VLOOKUP(Datos_de_Tarjetas!P776,Parámetros!$AM$3:$AN$90,2,FALSE),\"\")","v":""}]
[null,1069470000,{"$f":"IFERROR(VLOOKUP(Datos_de_Tarjetas!D777,Parámetros!$AD$12:$AE$17,2,FALSE),\"\")","v":""},{"$f":"IF(Datos_de_Tarjetas!G777=0,\"\",Datos_de_Tarjetas!G777)","v":""},{"$f":"IFERROR(VLOOKUP(Datos_de_Tarjetas!K777,Parámetros!$AJ$3:$AK$13,2,FALSE),\"\")","v":""},{"$f":"IFERROR(VLOOKUP(Datos_de_Tarjetas!J777,Parámetros!$AQ$3:$AR$57,2,FALSE),\"\")","v":""},null,{"$f":"IF(Datos_de_Tarjetas!L777=0,\"\",Datos_de_Tarjetas!L777)","v":""},{"$f":"IF(Datos_de_Tarjetas!M777=0,\"\",Datos_de_Tarjetas!M777)","v":""},{"$f":"IF(Datos_de_Tarjetas!N777=0,\"\",Datos_de_Tarjetas!N777)","v":""},{"$f":"IFERROR(VLOOKUP(Datos_de_Tarjetas!P777,Parámetros!$AM$3:$AN$90,2,FALSE),\"\")","v":""}]
[null,1069470000,{"$f":"IFERROR(VLOOKUP(Datos_de_Tarjetas!D778,Parámetros!$AD$12:$AE$17,2,FALSE),\"\")","v":""},{"$f":"IF(Datos_de_Tarjetas!G778=0,\"\",Datos_de_Tarjetas!G778)","v":""},{"$f":"IFERROR(VLOOKUP(Datos_de_Tarjetas!K778,Parámetros!$AJ$3:$AK$13,2,FALSE),\"\")","v":""},{"$f":"IFERROR(VLOOKUP(Datos_de_Tarjetas!J778,Parámetros!$AQ$3:$AR$57,2,FALSE),\"\")","v":""},null,{"$f":"IF(Datos_de_Tarjetas!L778=0,\"\",Datos_de_Tarjetas!L778)","v":""},{"$f":"IF(Datos_de_Tarjetas!M778=0,\"\",Datos_de_Tarjetas!M778)","v":""},{"$f":"IF(Datos_de_Tarjetas!N778=0,\"\",Datos_de_Tarjetas!N778)","v":""},{"$f":"IFERROR(VLOOKUP(Datos_de_Tarjetas!P778,Parámetros!$AM$3:$AN$90,2,FALSE),\"\")","v":""}]
[null,1069470000,{"$f":"IFERROR(VLOOKUP(Datos_de_Tarjetas!D779,Parámetros!$AD$12:$AE$17,2,FALSE),\"\")","v":""},{"$f":"IF(Datos_de_Tarjetas!G779=0,\"\",Datos_de_Tarjetas!G779)","v":""},{"$f":"IFERROR(VLOOKUP(Datos_de_Tarjetas!K779,Parámetros!$AJ$3:$AK$13,2,FALSE),\"\")","v":""},{"$f":"IFERROR(VLOOKUP(Datos_de_Tarjetas!J779,Parámetros!$AQ$3:$AR$57,2,FALSE),\"\")","v":""},null,{"$f":"IF(Datos_de_Tarjetas!L779=0,\"\",Datos_de_Tarjetas!L779)","v":""},{"$f":"IF(Datos_de_Tarjetas!M779=0,\"\",Datos_de_Tarjetas!M779)","v":""},{"$f":"IF(Datos_de_Tarjetas!N779=0,\"\",Datos_de_Tarjetas!N779)","v":""},{"$f":"IFERROR(VLOOKUP(Datos_de_Tarjetas!P779,Parámetros!$AM$3:$AN$90,2,FALSE),\"\")","v":""}]
[null,1069470000,{"$f":"IFERROR(VLOOKUP(Datos_de_Tarjetas!D780,Parámetros!$AD$12:$AE$17,2,FALSE),\"\")","v":""},{"$f":"IF(Datos_de_Tarjetas!G780=0,\"\",Datos_de_Tarjetas!G780)","v":""},{"$f":"IFERROR(VLOOKUP(Datos_de_Tarjetas!K780,Parámetros!$AJ$3:$AK$13,2,FALSE),\"\")","v":""},{"$f":"IFERROR(VLOOKUP(Datos_de_Tarjetas!J780,Parámetros!$AQ$3:$AR$57,2,FALSE),\"\")","v":""},null,{"$f":"IF(Datos_de_Tarjetas!L780=0,\"\",Datos_de_Tarjetas!L780)","v":""},{"$f":"IF(Datos_de_Tarjetas!M780=0,\"\",Datos_de_Tarjetas!M780)","v":""},{"$f":"IF(Datos_de_Tarjetas!N780=0,\"\",Datos_de_Tarjetas!N780)","v":""},{"$f":"IFERROR(VLOOKUP(Datos_de_Tarjetas!P780,Parámetros!$AM$3:$AN$90,2,FALSE),\"\")","v":""}]
[null,1069470000,{"$f":"IFERROR(VLOOKUP(Datos_de_Tarjetas!D781,Parámetros!$AD$12:$AE$17,2,FALSE),\"\")","v":""},{"$f":"IF(Datos_de_Tarjetas!G781=0,\"\",Datos_de_Tarjetas!G781)","v":""},{"$f":"IFERROR(VLOOKUP(Datos_de_Tarjetas!K781,Parámetros!$AJ$3:$AK$13,2,FALSE),\"\")","v":""},{"$f":"IFERROR(VLOOKUP(Datos_de_Tarjetas!J781,Parámetros!$AQ$3:$AR$57,2,FALSE),\"\")","v":""},null,{"$f":"IF(Datos_de_Tarjetas!L781=0,\"\",Datos_de_Tarjetas!L781)","v":""},{"$f":"IF(Datos_de_Tarjetas!M781=0,\"\",Datos_de_Tarjetas!M781)","v":""},{"$f":"IF(Datos_de_Tarjetas!N781=0,\"\",Datos_de_Tarjetas!N781)","v":""},{"$f":"IFERROR(VLOOKUP(Datos_de_Tarjetas!P781,Parámetros!$AM$3:$AN$90,2,FALSE),\"\")","v":""}]
[null,1069470000,{"$f":"IFERROR(VLOOKUP(Datos_de_Tarjetas!D782,Parámetros!$AD$12:$AE$17,2,FALSE),\"\")","v":""},{"$f":"IF(Datos_de_Tarjetas!G782=0,\"\",Datos_de_Tarjetas!G782)","v":""},{"$f":"IFERROR(VLOOKUP(Datos_de_Tarjetas!K782,Parámetros!$AJ$3:$AK$13,2,FALSE),\"\")","v":""},{"$f":"IFERROR(VLOOKUP(Datos_de_Tarjetas!J782,Parámetros!$AQ$3:$AR$57,2,FALSE),\"\")","v":""},null,{"$f":"IF(Datos_de_Tarjetas!L782=0,\"\",Datos_de_Tarjetas!L782)","v":""},{"$f":"IF(Datos_de_Tarjetas!M782=0,\"\",Datos_de_Tarjetas!M782)","v":""},{"$f":"IF(Datos_de_Tarjetas!N782=0,\"\",Datos_de_Tarjetas!N782)","v":""},{"$f":"IFERROR(VLOOKUP(Datos_de_Tarjetas!P782,Parámetros!$AM$3:$AN$90,2,FALSE),\"\")","v":""}]
[null,1069470000,{"$f":"IFERROR(VLOOKUP(Datos_de_Tarjetas!D783,Parámetros!$AD$12:$AE$17,2,FALSE),\"\")","v":""},{"$f":"IF(Datos_de_Tarjetas!G783=0,\"\",Datos_de_Tarjetas!G783)","v":""},{"$f":"IFERROR(VLOOKUP(Datos_de_Tarjetas!K783,Parámetros!$AJ$3:$AK$13,2,FALSE),\"\")","v":""},{"$f":"IFERROR(VLOOKUP(Datos_de_Tarjetas!J783,Parámetros!$AQ$3:$AR$57,2,FALSE),\"\")","v":""},null,{"$f":"IF(Datos_de_Tarjetas!L783=0,\"\",Datos_de_Tarjetas!L783)","v":""},{"$f":"IF(Datos_de_Tarjetas!M783=0,\"\",Datos_de_Tarjetas!M783)","v":""},{"$f":"IF(Datos_de_Tarjetas!N783=0,\"\",Datos_de_Tarjetas!N783)","v":""},{"$f":"IFERROR(VLOOKUP(Datos_de_Tarjetas!P783,Parámetros!$AM$3:$AN$90,2,FALSE),\"\")","v":""}]
[null,1069470000,{"$f":"IFERROR(VLOOKUP(Datos_de_Tarjetas!D784,Parámetros!$AD$12:$AE$17,2,FALSE),\"\")","v":""},{"$f":"IF(Datos_de_Tarjetas!G784=0,\"\",Datos_de_Tarjetas!G784)","v":""},{"$f":"IFERROR(VLOOKUP(Datos_de_Tarjetas!K784,Parámetros!$AJ$3:$AK$13,2,FALSE),\"\")","v":""},{"$f":"IFERROR(VLOOKUP(Datos_de_Tarjetas!J784,Parámetros!$AQ$3:$AR$57,2,FALSE),\"\")","v":""},null,{"$f":"IF(Datos_de_Tarjetas!L784=0,\"\",Datos_de_Tarjetas!L784)","v":""},{"$f":"IF(Datos_de_Tarjetas!M784=0,\"\",Datos_de_Tarjetas!M784)","v":""},{"$f":"IF(Datos_de_Tarjetas!N784=0,\"\",Datos_de_Tarjetas!N784)","v":""},{"$f":"IFERROR(VLOOKUP(Datos_de_Tarjetas!P784,Parámetros!$AM$3:$AN$90,2,FALSE),\"\")","v":""}]
[null,{"$f":"$C$2","v":1069470000},{"$f":"IFERROR(VLOOKUP(Datos_de_Tarjetas!D785,Parámetros!$AD$12:$AE$17,2,FALSE),\"\")","v":""},{"$f":"IF(Datos_de_Tarjetas!G785=0,\"\",Datos_de_Tarjetas!G785)","v":""},{"$f":"IFERROR(VLOOKUP(Datos_de_Tarjetas!K785,Parámetros!$AJ$3:$AK$13,2,FALSE),\"\")","v":""},{"$f":"IFERROR(VLOOKUP(Datos_de_Tarjetas!J785,Parámetros!$AQ$3:$AR$57,2,FALSE),\"\")","v":""},null,{"$f":"IF(Datos_de_Tarjetas!L785=0,\"\",Datos_de_Tarjetas!L785)","v":""},{"$f":"IF(Datos_de_Tarjetas!M785=0,\"\",Datos_de_Tarjetas!M785)","v":""},{"$f":"IF(Datos_de_Tarjetas!N785=0,\"\",Datos_de_Tarjetas!N785)","v":""},{"$f":"IFERROR(VLOOKUP(Datos_de_Tarjetas!P785,Parámetros!$AM$3:$AN$90,2,FALSE),\"\")","v":""}]
[null,1069470000,{"$f":"IFERROR(VLOOKUP(Datos_de_Tarjetas!D786,Parámetros!$AD$12:$AE$17,2,FALSE),\"\")","v":""},{"$f":"IF(Datos_de_Tarjetas!G786=0,\"\",Datos_de_Tarjetas!G786)","v":""},{"$f":"IFERROR(VLOOKUP(Datos_de_Tarjetas!K786,Parámetros!$AJ$3:$AK$13,2,FALSE),\"\")","v":""},{"$f":"IFERROR(VLOOKUP(Datos_de_Tarjetas!J786,Parámetros!$AQ$3:$AR$57,2,FALSE),\"\")","v":""},null,{"$f":"IF(Datos_de_Tarjetas!L786=0,\"\",Datos_de_Tarjetas!L786)","v":""},{"$f":"IF(Datos_de_Tarjetas!M786=0,\"\",Datos_de_Tarjetas!M786)","v":""},{"$f":"IF(Datos_de_Tarjetas!N786=0,\"\",Datos_de_Tarjetas!N786)","v":""},{"$f":"IFERROR(VLOOKUP(Datos_de_Tarjetas!P786,Parámetros!$AM$3:$AN$90,2,FALSE),\"\")","v":""}]
[null,1069470000,{"$f":"IFERROR(VLOOKUP(Datos_de_Tarjetas!D787,Parámetros!$AD$12:$AE$17,2,FALSE),\"\")","v":""},{"$f":"IF(Datos_de_Tarjetas!G787=0,\"\",Datos_de_Tarjetas!G787)","v":""},{"$f":"IFERROR(VLOOKUP(Datos_de_Tarjetas!K787,Parámetros!$AJ$3:$AK$13,2,FALSE),\"\")","v":""},{"$f":"IFERROR(VLOOKUP(Datos_de_Tarjetas!J787,Parámetros!$AQ$3:$AR$57,2,FALSE),\"\")","v":""},null,{"$f":"IF(Datos_de_Tarjetas!L787=0,\"\",Datos_de_Tarjetas!L787)","v":""},{"$f":"IF(Datos_de_Tarjetas!M787=0,\"\",Datos_de_Tarjetas!M787)","v":""},{"$f":"IF(Datos_de_Tarjetas!N787=0,\"\",Datos_de_Tarjetas!N787)","v":""},{"$f":"IFERROR(VLOOKUP(Datos_de_Tarjetas!P787,Parámetros!$AM$3:$AN$90,2,FALSE),\"\")","v":""}]
[null,1069470000,{"$f":"IFERROR(VLOOKUP(Datos_de_Tarjetas!D788,Parámetros!$AD$12:$AE$17,2,FALSE),\"\")","v":""},{"$f":"IF(Datos_de_Tarjetas!G788=0,\"\",Datos_de_Tarjetas!G788)","v":""},{"$f":"IFERROR(VLOOKUP(Datos_de_Tarjetas!K788,Parámetros!$AJ$3:$AK$13,2,FALSE),\"\")","v":""},{"$f":"IFERROR(VLOOKUP(Datos_de_Tarjetas!J788,Parámetros!$AQ$3:$AR$57,2,FALSE),\"\")","v":""},null,{"$f":"IF(Datos_de_Tarjetas!L788=0,\"\",Datos_de_Tarjetas!L788)","v":""},{"$f":"IF(Datos_de_Tarjetas!M788=0,\"\",Datos_de_Tarjetas!M788)","v":""},{"$f":"IF(Datos_de_Tarjetas!N788=0,\"\",Datos_de_Tarjetas!N788)","v":""},{"$f":"IFERROR(VLOOKUP(Datos_de_Tarjetas!P788,Parámetros!$AM$3:$AN$90,2,FALSE),\"\")","v":""}]
[null,1069470000,{"$f":"IFERROR(VLOOKUP(Datos_de_Tarjetas!D789,Parámetros!$AD$12:$AE$17,2,FALSE),\"\")","v":""},{"$f":"IF(Datos_de_Tarjetas!G789=0,\"\",Datos_de_Tarjetas!G789)","v":""},{"$f":"IFERROR(VLOOKUP(Datos_de_Tarjetas!K789,Parámetros!$AJ$3:$AK$13,2,FALSE),\"\")","v":""},{"$f":"IFERROR(VLOOKUP(Datos_de_Tarjetas!J789,Parámetros!$AQ$3:$AR$57,2,FALSE),\"\")","v":""},null,{"$f":"IF(Datos_de_Tarjetas!L789=0,\"\",Datos_de_Tarjetas!L789)","v":""},{"$f":"IF(Datos_de_Tarjetas!M789=0,\"\",Datos_de_Tarjetas!M789)","v":""},{"$f":"IF(Datos_de_Tarjetas!N789=0,\"\",Datos_de_Tarjetas!N789)","v":""},{"$f":"IFERROR(VLOOKUP(Datos_de_Tarjetas!P789,Parámetros!$AM$3:$AN$90,2,FALSE),\"\")","v":""}]
[null,1069470000,{"$f":"IFERROR(VLOOKUP(Datos_de_Tarjetas!D790,Parámetros!$AD$12:$AE$17,2,FALSE),\"\")","v":""},{"$f":"IF(Datos_de_Tarjetas!G790=0,\"\",Datos_de_Tarjetas!G790)","v":""},{"$f":"IFERROR(VLOOKUP(Datos_de_Tarjetas!K790,Parámetros!$AJ$3:$AK$13,2,FALSE),\"\")","v":""},{"$f":"IFERROR(VLOOKUP(Datos_de_Tarjetas!J790,Parámetros!$AQ$3:$AR$57,2,FALSE),\"\")","v":""},null,{"$f":"IF(Datos_de_Tarjetas!L790=0,\"\",Datos_de_Tarjetas!L790)","v":""},{"$f":"IF(Datos_de_Tarjetas!M790=0,\"\",Datos_de_Tarjetas!M790)","v":""},{"$f":"IF(Datos_de_Tarjetas!N790=0,\"\",Datos_de_Tarjetas!N790)","v":""},{"$f":"IFERROR(VLOOKUP(Datos_de_Tarjetas!P790,Parámetros!$AM$3:$AN$90,2,FALSE),\"\")","v":""}]
[null,1069470000,{"$f":"IFERROR(VLOOKUP(Datos_de_Tarjetas!D791,Parámetros!$AD$12:$AE$17,2,FALSE),\"\")","v":""},{"$f":"IF(Datos_de_Tarjetas!G791=0,\"\",Datos_de_Tarjetas!G791)","v":""},{"$f":"IFERROR(VLOOKUP(Datos_de_Tarjetas!K791,Parámetros!$AJ$3:$AK$13,2,FALSE),\"\")","v":""},{"$f":"IFERROR(VLOOKUP(Datos_de_Tarjetas!J791,Parámetros!$AQ$3:$AR$57,2,FALSE),\"\")","v":""},null,{"$f":"IF(Datos_de_Tarjetas!L791=0,\"\",Datos_de_Tarjetas!L791)","v":""},{"$f":"IF(Datos_de_Tarjetas!M791=0,\"\",Datos_de_Tarjetas!M791)","v":""},{"$f":"IF(Datos_de_Tarjetas!N791=0,\"\",Datos_de_Tarjetas!N791)","v":""},{"$f":"IFERROR(VLOOKUP(Datos_de_Tarjetas!P791,Parámetros!$AM$3:$AN$90,2,FALSE),\"\")","v":""}]
[null,1069470000,{"$f":"IFERROR(VLOOKUP(Datos_de_Tarjetas!D792,Parámetros!$AD$12:$AE$17,2,FALSE),\"\")","v":""},{"$f":"IF(Datos_de_Tarjetas!G792=0,\"\",Datos_de_Tarjetas!G792)","v":""},{"$f":"IFERROR(VLOOKUP(Datos_de_Tarjetas!K792,Parámetros!$AJ$3:$AK$13,2,FALSE),\"\")","v":""},{"$f":"IFERROR(VLOOKUP(Datos_de_Tarjetas!J792,Parámetros!$AQ$3:$AR$57,2,FALSE),\"\")","v":""},null,{"$f":"IF(Datos_de_Tarjetas!L792=0,\"\",Datos_de_Tarjetas!L792)","v":""},{"$f":"IF(Datos_de_Tarjetas!M792=0,\"\",Datos_de_Tarjetas!M792)","v":""},{"$f":"IF(Datos_de_Tarjetas!N792=0,\"\",Datos_de_Tarjetas!N792)","v":""},{"$f":"IFERROR(VLOOKUP(Datos_de_Tarjetas!P792,Parámetros!$AM$3:$AN$90,2,FALSE),\"\")","v":""}]
[null,1069470000,{"$f":"IFERROR(VLOOKUP(Datos_de_Tarjetas!D793,Parámetros!$AD$12:$AE$17,2,FALSE),\"\")","v":""},{"$f":"IF(Datos_de_Tarjetas!G793=0,\"\",Datos_de_Tarjetas!G793)","v":""},{"$f":"IFERROR(VLOOKUP(Datos_de_Tarjetas!K793,Parámetros!$AJ$3:$AK$13,2,FALSE),\"\")","v":""},{"$f":"IFERROR(VLOOKUP(Datos_de_Tarjetas!J793,Parámetros!$AQ$3:$AR$57,2,FALSE),\"\")","v":""},null,{"$f":"IF(Datos_de_Tarjetas!L793=0,\"\",Datos_de_Tarjetas!L793)","v":""},{"$f":"IF(Datos_de_Tarjetas!M793=0,\"\",Datos_de_Tarjetas!M793)","v":""},{"$f":"IF(Datos_de_Tarjetas!N793=0,\"\",Datos_de_Tarjetas!N793)","v":""},{"$f":"IFERROR(VLOOKUP(Datos_de_Tarjetas!P793,Parámetros!$AM$3:$AN$90,2,FALSE),\"\")","v":""}]
[null,1069470000,{"$f":"IFERROR(VLOOKUP(Datos_de_Tarjetas!D794,Parámetros!$AD$12:$AE$17,2,FALSE),\"\")","v":""},{"$f":"IF(Datos_de_Tarjetas!G794=0,\"\",Datos_de_Tarjetas!G794)","v":""},{"$f":"IFERROR(VLOOKUP(Datos_de_Tarjetas!K794,Parámetros!$AJ$3:$AK$13,2,FALSE),\"\")","v":""},{"$f":"IFERROR(VLOOKUP(Datos_de_Tarjetas!J794,Parámetros!$AQ$3:$AR$57,2,FALSE),\"\")","v":""},null,{"$f":"IF(Datos_de_Tarjetas!L794=0,\"\",Datos_de_Tarjetas!L794)","v":""},{"$f":"IF(Datos_de_Tarjetas!M794=0,\"\",Datos_de_Tarjetas!M794)","v":""},{"$f":"IF(Datos_de_Tarjetas!N794=0,\"\",Datos_de_Tarjetas!N794)","v":""},{"$f":"IFERROR(VLOOKUP(Datos_de_Tarjetas!P794,Parámetros!$AM$3:$AN$90,2,FALSE),\"\")","v":""}]
[null,1069470000,{"$f":"IFERROR(VLOOKUP(Datos_de_Tarjetas!D795,Parámetros!$AD$12:$AE$17,2,FALSE),\"\")","v":""},{"$f":"IF(Datos_de_Tarjetas!G795=0,\"\",Datos_de_Tarjetas!G795)","v":""},{"$f":"IFERROR(VLOOKUP(Datos_de_Tarjetas!K795,Parámetros!$AJ$3:$AK$13,2,FALSE),\"\")","v":""},{"$f":"IFERROR(VLOOKUP(Datos_de_Tarjetas!J795,Parámetros!$AQ$3:$AR$57,2,FALSE),\"\")","v":""},null,{"$f":"IF(Datos_de_Tarjetas!L795=0,\"\",Datos_de_Tarjetas!L795)","v":""},{"$f":"IF(Datos_de_Tarjetas!M795=0,\"\",Datos_de_Tarjetas!M795)","v":""},{"$f":"IF(Datos_de_Tarjetas!N795=0,\"\",Datos_de_Tarjetas!N795)","v":""},{"$f":"IFERROR(VLOOKUP(Datos_de_Tarjetas!P795,Parámetros!$AM$3:$AN$90,2,FALSE),\"\")","v":""}]
[null,1069470000,{"$f":"IFERROR(VLOOKUP(Datos_de_Tarjetas!D796,Parámetros!$AD$12:$AE$17,2,FALSE),\"\")","v":""},{"$f":"IF(Datos_de_Tarjetas!G796=0,\"\",Datos_de_Tarjetas!G796)","v":""},{"$f":"IFERROR(VLOOKUP(Datos_de_Tarjetas!K796,Parámetros!$AJ$3:$AK$13,2,FALSE),\"\")","v":""},{"$f":"IFERROR(VLOOKUP(Datos_de_Tarjetas!J796,Parámetros!$AQ$3:$AR$57,2,FALSE),\"\")","v":""},null,{"$f":"IF(Datos_de_Tarjetas!L796=0,\"\",Datos_de_Tarjetas!L796)","v":""},{"$f":"IF(Datos_de_Tarjetas!M796=0,\"\",Datos_de_Tarjetas!M796)","v":""},{"$f":"IF(Datos_de_Tarjetas!N796=0,\"\",Datos_de_Tarjetas!N796)","v":""},{"$f":"IFERROR(VLOOKUP(Datos_de_Tarjetas!P796,Parámetros!$AM$3:$AN$90,2,FALSE),\"\")","v":""}]
[null,1069470000,{"$f":"IFERROR(VLOOKUP(Datos_de_Tarjetas!D797,Parámetros!$AD$12:$AE$17,2,FALSE),\"\")","v":""},{"$f":"IF(Datos_de_Tarjetas!G797=0,\"\",Datos_de_Tarjetas!G797)","v":""},{"$f":"IFERROR(VLOOKUP(Datos_de_Tarjetas!K797,Parámetros!$AJ$3:$AK$13,2,FALSE),\"\")","v":""},{"$f":"IFERROR(VLOOKUP(Datos_de_Tarjetas!J797,Parámetros!$AQ$3:$AR$57,2,FALSE),\"\")","v":""},null,{"$f":"IF(Datos_de_Tarjetas!L797=0,\"\",Datos_de_Tarjetas!L797)","v":""},{"$f":"IF(Datos_de_Tarjetas!M797=0,\"\",Datos_de_Tarjetas!M797)","v":""},{"$f":"IF(Datos_de_Tarjetas!N797=0,\"\",Datos_de_Tarjetas!N797)","v":""},{"$f":"IFERROR(VLOOKUP(Datos_de_Tarjetas!P797,Parámetros!$AM$3:$AN$90,2,FALSE),\"\")","v":""}]
[null,1069470000,{"$f":"IFERROR(VLOOKUP(Datos_de_Tarjetas!D798,Parámetros!$AD$12:$AE$17,2,FALSE),\"\")","v":""},{"$f":"IF(Datos_de_Tarjetas!G798=0,\"\",Datos_de_Tarjetas!G798)","v":""},{"$f":"IFERROR(VLOOKUP(Datos_de_Tarjetas!K798,Parámetros!$AJ$3:$AK$13,2,FALSE),\"\")","v":""},{"$f":"IFERROR(VLOOKUP(Datos_de_Tarjetas!J798,Parámetros!$AQ$3:$AR$57,2,FALSE),\"\")","v":""},null,{"$f":"IF(Datos_de_Tarjetas!L798=0,\"\",Datos_de_Tarjetas!L798)","v":""},{"$f":"IF(Datos_de_Tarjetas!M798=0,\"\",Datos_de_Tarjetas!M798)","v":""},{"$f":"IF(Datos_de_Tarjetas!N798=0,\"\",Datos_de_Tarjetas!N798)","v":""},{"$f":"IFERROR(VLOOKUP(Datos_de_Tarjetas!P798,Parámetros!$AM$3:$AN$90,2,FALSE),\"\")","v":""}]
[null,1069470000,{"$f":"IFERROR(VLOOKUP(Datos_de_Tarjetas!D799,Parámetros!$AD$12:$AE$17,2,FALSE),\"\")","v":""},{"$f":"IF(Datos_de_Tarjetas!G799=0,\"\",Datos_de_Tarjetas!G799)","v":""},{"$f":"IFERROR(VLOOKUP(Datos_de_Tarjetas!K799,Parámetros!$AJ$3:$AK$13,2,FALSE),\"\")","v":""},{"$f":"IFERROR(VLOOKUP(Datos_de_Tarjetas!J799,Parámetros!$AQ$3:$AR$57,2,FALSE),\"\")","v":""},null,{"$f":"IF(Datos_de_Tarjetas!L799=0,\"\",Datos_de_Tarjetas!L799)","v":""},{"$f":"IF(Datos_de_Tarjetas!M799=0,\"\",Datos_de_Tarjetas!M799)","v":""},{"$f":"IF(Datos_de_Tarjetas!N799=0,\"\",Datos_de_Tarjetas!N799)","v":""},{"$f":"IFERROR(VLOOKUP(Datos_de_Tarjetas!P799,Parámetros!$AM$3:$AN$90,2,FALSE),\"\")","v":""}]
[null,1069470000,{"$f":"IFERROR(VLOOKUP(Datos_de_Tarjetas!D800,Parámetros!$AD$12:$AE$17,2,FALSE),\"\")","v":""},{"$f":"IF(Datos_de_Tarjetas!G800=0,\"\",Datos_de_Tarjetas!G800)","v":""},{"$f":"IFERROR(VLOOKUP(Datos_de_Tarjetas!K800,Parámetros!$AJ$3:$AK$13,2,FALSE),\"\")","v":""},{"$f":"IFERROR(VLOOKUP(Datos_de_Tarjetas!J800,Parámetros!$AQ$3:$AR$57,2,FALSE),\"\")","v":""},null,{"$f":"IF(Datos_de_Tarjetas!L800=0,\"\",Datos_de_Tarjetas!L800)","v":""},{"$f":"IF(Datos_de_Tarjetas!M800=0,\"\",Datos_de_Tarjetas!M800)","v":""},{"$f":"IF(Datos_de_Tarjetas!N800=0,\"\",Datos_de_Tarjetas!N800)","v":""},{"$f":"IFERROR(VLOOKUP(Datos_de_Tarjetas!P800,Parámetros!$AM$3:$AN$90,2,FALSE),\"\")","v":""}]
[null,1069470000,{"$f":"IFERROR(VLOOKUP(Datos_de_Tarjetas!D801,Parámetros!$AD$12:$AE$17,2,FALSE),\"\")","v":""},{"$f":"IF(Datos_de_Tarjetas!G801=0,\"\",Datos_de_Tarjetas!G801)","v":""},{"$f":"IFERROR(VLOOKUP(Datos_de_Tarjetas!K801,Parámetros!$AJ$3:$AK$13,2,FALSE),\"\")","v":""},{"$f":"IFERROR(VLOOKUP(Datos_de_Tarjetas!J801,Parámetros!$AQ$3:$AR$57,2,FALSE),\"\")","v":""},null,{"$f":"IF(Datos_de_Tarjetas!L801=0,\"\",Datos_de_Tarjetas!L801)","v":""},{"$f":"IF(Datos_de_Tarjetas!M801=0,\"\",Datos_de_Tarjetas!M801)","v":""},{"$f":"IF(Datos_de_Tarjetas!N801=0,\"\",Datos_de_Tarjetas!N801)","v":""},{"$f":"IFERROR(VLOOKUP(Datos_de_Tarjetas!P801,Parámetros!$AM$3:$AN$90,2,FALSE),\"\")","v":""}]
[null,1069470000,{"$f":"IFERROR(VLOOKUP(Datos_de_Tarjetas!D802,Parámetros!$AD$12:$AE$17,2,FALSE),\"\")","v":""},{"$f":"IF(Datos_de_Tarjetas!G802=0,\"\",Datos_de_Tarjetas!G802)","v":""},{"$f":"IFERROR(VLOOKUP(Datos_de_Tarjetas!K802,Parámetros!$AJ$3:$AK$13,2,FALSE),\"\")","v":""},{"$f":"IFERROR(VLOOKUP(Datos_de_Tarjetas!J802,Parámetros!$AQ$3:$AR$57,2,FALSE),\"\")","v":""},null,{"$f":"IF(Datos_de_Tarjetas!L802=0,\"\",Datos_de_Tarjetas!L802)","v":""},{"$f":"IF(Datos_de_Tarjetas!M802=0,\"\",Datos_de_Tarjetas!M802)","v":""},{"$f":"IF(Datos_de_Tarjetas!N802=0,\"\",Datos_de_Tarjetas!N802)","v":""},{"$f":"IFERROR(VLOOKUP(Datos_de_Tarjetas!P802,Parámetros!$AM$3:$AN$90,2,FALSE),\"\")","v":""}]
[null,1069470000,{"$f":"IFERROR(VLOOKUP(Datos_de_Tarjetas!D803,Parámetros!$AD$12:$AE$17,2,FALSE),\"\")","v":""},{"$f":"IF(Datos_de_Tarjetas!G803=0,\"\",Datos_de_Tarjetas!G803)","v":""},{"$f":"IFERROR(VLOOKUP(Datos_de_Tarjetas!K803,Parámetros!$AJ$3:$AK$13,2,FALSE),\"\")","v":""},{"$f":"IFERROR(VLOOKUP(Datos_de_Tarjetas!J803,Parámetros!$AQ$3:$AR$57,2,FALSE),\"\")","v":""},null,{"$f":"IF(Datos_de_Tarjetas!L803=0,\"\",Datos_de_Tarjetas!L803)","v":""},{"$f":"IF(Datos_de_Tarjetas!M803=0,\"\",Datos_de_Tarjetas!M803)","v":""},{"$f":"IF(Datos_de_Tarjetas!N803=0,\"\",Datos_de_Tarjetas!N803)","v":""},{"$f":"IFERROR(VLOOKUP(Datos_de_Tarjetas!P803,Parámetros!$AM$3:$AN$90,2,FALSE),\"\")","v":""}]
[null,1069470000,{"$f":"IFERROR(VLOOKUP(Datos_de_Tarjetas!D804,Parámetros!$AD$12:$AE$17,2,FALSE),\"\")","v":""},{"$f":"IF(Datos_de_Tarjetas!G804=0,\"\",Datos_de_Tarjetas!G804)","v":""},{"$f":"IFERROR(VLOOKUP(Datos_de_Tarjetas!K804,Parámetros!$AJ$3:$AK$13,2,FALSE),\"\")","v":""},{"$f":"IFERROR(VLOOKUP(Datos_de_Tarjetas!J804,Parámetros!$AQ$3:$AR$57,2,FALSE),\"\")","v":""},null,{"$f":"IF(Datos_de_Tarjetas!L804=0,\"\",Datos_de_Tarjetas!L804)","v":""},{"$f":"IF(Datos_de_Tarjetas!M804=0,\"\",Datos_de_Tarjetas!M804)","v":""},{"$f":"IF(Datos_de_Tarjetas!N804=0,\"\",Datos_de_Tarjetas!N804)","v":""},{"$f":"IFERROR(VLOOKUP(Datos_de_Tarjetas!P804,Parámetros!$AM$3:$AN$90,2,FALSE),\"\")","v":""}]
[null,1069470000,{"$f":"IFERROR(VLOOKUP(Datos_de_Tarjetas!D805,Parámetros!$AD$12:$AE$17,2,FALSE),\"\")","v":""},{"$f":"IF(Datos_de_Tarjetas!G805=0,\"\",Datos_de_Tarjetas!G805)","v":""},{"$f":"IFERROR(VLOOKUP(Datos_de_Tarjetas!K805,Parámetros!$AJ$3:$AK$13,2,FALSE),\"\")","v":""},{"$f":"IFERROR(VLOOKUP(Datos_de_Tarjetas!J805,Parámetros!$AQ$3:$AR$57,2,FALSE),\"\")","v":""},null,{"$f":"IF(Datos_de_Tarjetas!L805=0,\"\",Datos_de_Tarjetas!L805)","v":""},{"$f":"IF(Datos_de_Tarjetas!M805=0,\"\",Datos_de_Tarjetas!M805)","v":""},{"$f":"IF(Datos_de_Tarjetas!N805=0,\"\",Datos_de_Tarjetas!N805)","v":""},{"$f":"IFERROR(VLOOKUP(Datos_de_Tarjetas!P805,Parámetros!$AM$3:$AN$90,2,FALSE),\"\")","v":""}]
[null,1069470000,{"$f":"IFERROR(VLOOKUP(Datos_de_Tarjetas!D806,Parámetros!$AD$12:$AE$17,2,FALSE),\"\")","v":""},{"$f":"IF(Datos_de_Tarjetas!G806=0,\"\",Datos_de_Tarjetas!G806)","v":""},{"$f":"IFERROR(VLOOKUP(Datos_de_Tarjetas!K806,Parámetros!$AJ$3:$AK$13,2,FALSE),\"\")","v":""},{"$f":"IFERROR(VLOOKUP(Datos_de_Tarjetas!J806,Parámetros!$AQ$3:$AR$57,2,FALSE),\"\")","v":""},null,{"$f":"IF(Datos_de_Tarjetas!L806=0,\"\",Datos_de_Tarjetas!L806)","v":""},{"$f":"IF(Datos_de_Tarjetas!M806=0,\"\",Datos_de_Tarjetas!M806)","v":""},{"$f":"IF(Datos_de_Tarjetas!N806=0,\"\",Datos_de_Tarjetas!N806)","v":""},{"$f":"IFERROR(VLOOKUP(Datos_de_Tarjetas!P806,Parámetros!$AM$3:$AN$90,2,FALSE),\"\")","v":""}]
[null,1069470000,{"$f":"IFERROR(VLOOKUP(Datos_de_Tarjetas!D807,Parámetros!$AD$12:$AE$17,2,FALSE),\"\")","v":""},{"$f":"IF(Datos_de_Tarjetas!G807=0,\"\",Datos_de_Tarjetas!G807)","v":""},{"$f":"IFERROR(VLOOKUP(Datos_de_Tarjetas!K807,Parámetros!$AJ$3:$AK$13,2,FALSE),\"\")","v":""},{"$f":"IFERROR(VLOOKUP(Datos_de_Tarjetas!J807,Parámetros!$AQ$3:$AR$57,2,FALSE),\"\")","v":""},null,{"$f":"IF(Datos_de_Tarjetas!L807=0,\"\",Datos_de_Tarjetas!L807)","v":""},{"$f":"IF(Datos_de_Tarjetas!M807=0,\"\",Datos_de_Tarjetas!M807)","v":""},{"$f":"IF(Datos_de_Tarjetas!N807=0,\"\",Datos_de_Tarjetas!N807)","v":""},{"$f":"IFERROR(VLOOKUP(Datos_de_Tarjetas!P807,Parámetros!$AM$3:$AN$90,2,FALSE),\"\")","v":""}]
[null,1069470000,{"$f":"IFERROR(VLOOKUP(Datos_de_Tarjetas!D808,Parámetros!$AD$12:$AE$17,2,FALSE),\"\")","v":""},{"$f":"IF(Datos_de_Tarjetas!G808=0,\"\",Datos_de_Tarjetas!G808)","v":""},{"$f":"IFERROR(VLOOKUP(Datos_de_Tarjetas!K808,Parámetros!$AJ$3:$AK$13,2,FALSE),\"\")","v":""},{"$f":"IFERROR(VLOOKUP(Datos_de_Tarjetas!J808,Parámetros!$AQ$3:$AR$57,2,FALSE),\"\")","v":""},null,{"$f":"IF(Datos_de_Tarjetas!L808=0,\"\",Datos_de_Tarjetas!L808)","v":""},{"$f":"IF(Datos_de_Tarjetas!M808=0,\"\",Datos_de_Tarjetas!M808)","v":""},{"$f":"IF(Datos_de_Tarjetas!N808=0,\"\",Datos_de_Tarjetas!N808)","v":""},{"$f":"IFERROR(VLOOKUP(Datos_de_Tarjetas!P808,Parámetros!$AM$3:$AN$90,2,FALSE),\"\")","v":""}]
[null,1069470000,{"$f":"IFERROR(VLOOKUP(Datos_de_Tarjetas!D809,Parámetros!$AD$12:$AE$17,2,FALSE),\"\")","v":""},{"$f":"IF(Datos_de_Tarjetas!G809=0,\"\",Datos_de_Tarjetas!G809)","v":""},{"$f":"IFERROR(VLOOKUP(Datos_de_Tarjetas!K809,Parámetros!$AJ$3:$AK$13,2,FALSE),\"\")","v":""},{"$f":"IFERROR(VLOOKUP(Datos_de_Tarjetas!J809,Parámetros!$AQ$3:$AR$57,2,FALSE),\"\")","v":""},null,{"$f":"IF(Datos_de_Tarjetas!L809=0,\"\",Datos_de_Tarjetas!L809)","v":""},{"$f":"IF(Datos_de_Tarjetas!M809=0,\"\",Datos_de_Tarjetas!M809)","v":""},{"$f":"IF(Datos_de_Tarjetas!N809=0,\"\",Datos_de_Tarjetas!N809)","v":""},{"$f":"IFERROR(VLOOKUP(Datos_de_Tarjetas!P809,Parámetros!$AM$3:$AN$90,2,FALSE),\"\")","v":""}]
[null,1069470000,{"$f":"IFERROR(VLOOKUP(Datos_de_Tarjetas!D810,Parámetros!$AD$12:$AE$17,2,FALSE),\"\")","v":""},{"$f":"IF(Datos_de_Tarjetas!G810=0,\"\",Datos_de_Tarjetas!G810)","v":""},{"$f":"IFERROR(VLOOKUP(Datos_de_Tarjetas!K810,Parámetros!$AJ$3:$AK$13,2,FALSE),\"\")","v":""},{"$f":"IFERROR(VLOOKUP(Datos_de_Tarjetas!J810,Parámetros!$AQ$3:$AR$57,2,FALSE),\"\")","v":""},null,{"$f":"IF(Datos_de_Tarjetas!L810=0,\"\",Datos_de_Tarjetas!L810)","v":""},{"$f":"IF(Datos_de_Tarjetas!M810=0,\"\",Datos_de_Tarjetas!M810)","v":""},{"$f":"IF(Datos_de_Tarjetas!N810=0,\"\",Datos_de_Tarjetas!N810)","v":""},{"$f":"IFERROR(VLOOKUP(Datos_de_Tarjetas!P810,Parámetros!$AM$3:$AN$90,2,FALSE),\"\")","v":""}]
[null,1069470000,{"$f":"IFERROR(VLOOKUP(Datos_de_Tarjetas!D811,Parámetros!$AD$12:$AE$17,2,FALSE),\"\")","v":""},{"$f":"IF(Datos_de_Tarjetas!G811=0,\"\",Datos_de_Tarjetas!G811)","v":""},{"$f":"IFERROR(VLOOKUP(Datos_de_Tarjetas!K811,Parámetros!$AJ$3:$AK$13,2,FALSE),\"\")","v":""},{"$f":"IFERROR(VLOOKUP(Datos_de_Tarjetas!J811,Parámetros!$AQ$3:$AR$57,2,FALSE),\"\")","v":""},null,{"$f":"IF(Datos_de_Tarjetas!L811=0,\"\",Datos_de_Tarjetas!L811)","v":""},{"$f":"IF(Datos_de_Tarjetas!M811=0,\"\",Datos_de_Tarjetas!M811)","v":""},{"$f":"IF(Datos_de_Tarjetas!N811=0,\"\",Datos_de_Tarjetas!N811)","v":""},{"$f":"IFERROR(VLOOKUP(Datos_de_Tarjetas!P811,Parámetros!$AM$3:$AN$90,2,FALSE),\"\")","v":""}]
[null,1069470000,{"$f":"IFERROR(VLOOKUP(Datos_de_Tarjetas!D812,Parámetros!$AD$12:$AE$17,2,FALSE),\"\")","v":""},{"$f":"IF(Datos_de_Tarjetas!G812=0,\"\",Datos_de_Tarjetas!G812)","v":""},{"$f":"IFERROR(VLOOKUP(Datos_de_Tarjetas!K812,Parámetros!$AJ$3:$AK$13,2,FALSE),\"\")","v":""},{"$f":"IFERROR(VLOOKUP(Datos_de_Tarjetas!J812,Parámetros!$AQ$3:$AR$57,2,FALSE),\"\")","v":""},null,{"$f":"IF(Datos_de_Tarjetas!L812=0,\"\",Datos_de_Tarjetas!L812)","v":""},{"$f":"IF(Datos_de_Tarjetas!M812=0,\"\",Datos_de_Tarjetas!M812)","v":""},{"$f":"IF(Datos_de_Tarjetas!N812=0,\"\",Datos_de_Tarjetas!N812)","v":""},{"$f":"IFERROR(VLOOKUP(Datos_de_Tarjetas!P812,Parámetros!$AM$3:$AN$90,2,FALSE),\"\")","v":""}]
[null,1069470000,{"$f":"IFERROR(VLOOKUP(Datos_de_Tarjetas!D813,Parámetros!$AD$12:$AE$17,2,FALSE),\"\")","v":""},{"$f":"IF(Datos_de_Tarjetas!G813=0,\"\",Datos_de_Tarjetas!G813)","v":""},{"$f":"IFERROR(VLOOKUP(Datos_de_Tarjetas!K813,Parámetros!$AJ$3:$AK$13,2,FALSE),\"\")","v":""},{"$f":"IFERROR(VLOOKUP(Datos_de_Tarjetas!J813,Parámetros!$AQ$3:$AR$57,2,FALSE),\"\")","v":""},null,{"$f":"IF(Datos_de_Tarjetas!L813=0,\"\",Datos_de_Tarjetas!L813)","v":""},{"$f":"IF(Datos_de_Tarjetas!M813=0,\"\",Datos_de_Tarjetas!M813)","v":""},{"$f":"IF(Datos_de_Tarjetas!N813=0,\"\",Datos_de_Tarjetas!N813)","v":""},{"$f":"IFERROR(VLOOKUP(Datos_de_Tarjetas!P813,Parámetros!$AM$3:$AN$90,2,FALSE),\"\")","v":""}]
[null,1069470000,{"$f":"IFERROR(VLOOKUP(Datos_de_Tarjetas!D814,Parámetros!$AD$12:$AE$17,2,FALSE),\"\")","v":""},{"$f":"IF(Datos_de_Tarjetas!G814=0,\"\",Datos_de_Tarjetas!G814)","v":""},{"$f":"IFERROR(VLOOKUP(Datos_de_Tarjetas!K814,Parámetros!$AJ$3:$AK$13,2,FALSE),\"\")","v":""},{"$f":"IFERROR(VLOOKUP(Datos_de_Tarjetas!J814,Parámetros!$AQ$3:$AR$57,2,FALSE),\"\")","v":""},null,{"$f":"IF(Datos_de_Tarjetas!L814=0,\"\",Datos_de_Tarjetas!L814)","v":""},{"$f":"IF(Datos_de_Tarjetas!M814=0,\"\",Datos_de_Tarjetas!M814)","v":""},{"$f":"IF(Datos_de_Tarjetas!N814=0,\"\",Datos_de_Tarjetas!N814)","v":""},{"$f":"IFERROR(VLOOKUP(Datos_de_Tarjetas!P814,Parámetros!$AM$3:$AN$90,2,FALSE),\"\")","v":""}]
[null,1069470000,{"$f":"IFERROR(VLOOKUP(Datos_de_Tarjetas!D815,Parámetros!$AD$12:$AE$17,2,FALSE),\"\")","v":""},{"$f":"IF(Datos_de_Tarjetas!G815=0,\"\",Datos_de_Tarjetas!G815)","v":""},{"$f":"IFERROR(VLOOKUP(Datos_de_Tarjetas!K815,Parámetros!$AJ$3:$AK$13,2,FALSE),\"\")","v":""},{"$f":"IFERROR(VLOOKUP(Datos_de_Tarjetas!J815,Parámetros!$AQ$3:$AR$57,2,FALSE),\"\")","v":""},null,{"$f":"IF(Datos_de_Tarjetas!L815=0,\"\",Datos_de_Tarjetas!L815)","v":""},{"$f":"IF(Datos_de_Tarjetas!M815=0,\"\",Datos_de_Tarjetas!M815)","v":""},{"$f":"IF(Datos_de_Tarjetas!N815=0,\"\",Datos_de_Tarjetas!N815)","v":""},{"$f":"IFERROR(VLOOKUP(Datos_de_Tarjetas!P815,Parámetros!$AM$3:$AN$90,2,FALSE),\"\")","v":""}]
[null,1069470000,{"$f":"IFERROR(VLOOKUP(Datos_de_Tarjetas!D816,Parámetros!$AD$12:$AE$17,2,FALSE),\"\")","v":""},{"$f":"IF(Datos_de_Tarjetas!G816=0,\"\",Datos_de_Tarjetas!G816)","v":""},{"$f":"IFERROR(VLOOKUP(Datos_de_Tarjetas!K816,Parámetros!$AJ$3:$AK$13,2,FALSE),\"\")","v":""},{"$f":"IFERROR(VLOOKUP(Datos_de_Tarjetas!J816,Parámetros!$AQ$3:$AR$57,2,FALSE),\"\")","v":""},null,{"$f":"IF(Datos_de_Tarjetas!L816=0,\"\",Datos_de_Tarjetas!L816)","v":""},{"$f":"IF(Datos_de_Tarjetas!M816=0,\"\",Datos_de_Tarjetas!M816)","v":""},{"$f":"IF(Datos_de_Tarjetas!N816=0,\"\",Datos_de_Tarjetas!N816)","v":""},{"$f":"IFERROR(VLOOKUP(Datos_de_Tarjetas!P816,Parámetros!$AM$3:$AN$90,2,FALSE),\"\")","v":""}]
[null,1069470000,{"$f":"IFERROR(VLOOKUP(Datos_de_Tarjetas!D817,Parámetros!$AD$12:$AE$17,2,FALSE),\"\")","v":""},{"$f":"IF(Datos_de_Tarjetas!G817=0,\"\",Datos_de_Tarjetas!G817)","v":""},{"$f":"IFERROR(VLOOKUP(Datos_de_Tarjetas!K817,Parámetros!$AJ$3:$AK$13,2,FALSE),\"\")","v":""},{"$f":"IFERROR(VLOOKUP(Datos_de_Tarjetas!J817,Parámetros!$AQ$3:$AR$57,2,FALSE),\"\")","v":""},null,{"$f":"IF(Datos_de_Tarjetas!L817=0,\"\",Datos_de_Tarjetas!L817)","v":""},{"$f":"IF(Datos_de_Tarjetas!M817=0,\"\",Datos_de_Tarjetas!M817)","v":""},{"$f":"IF(Datos_de_Tarjetas!N817=0,\"\",Datos_de_Tarjetas!N817)","v":""},{"$f":"IFERROR(VLOOKUP(Datos_de_Tarjetas!P817,Parámetros!$AM$3:$AN$90,2,FALSE),\"\")","v":""}]
[null,1069470000,{"$f":"IFERROR(VLOOKUP(Datos_de_Tarjetas!D818,Parámetros!$AD$12:$AE$17,2,FALSE),\"\")","v":""},{"$f":"IF(Datos_de_Tarjetas!G818=0,\"\",Datos_de_Tarjetas!G818)","v":""},{"$f":"IFERROR(VLOOKUP(Datos_de_Tarjetas!K818,Parámetros!$AJ$3:$AK$13,2,FALSE),\"\")","v":""},{"$f":"IFERROR(VLOOKUP(Datos_de_Tarjetas!J818,Parámetros!$AQ$3:$AR$57,2,FALSE),\"\")","v":""},null,{"$f":"IF(Datos_de_Tarjetas!L818=0,\"\",Datos_de_Tarjetas!L818)","v":""},{"$f":"IF(Datos_de_Tarjetas!M818=0,\"\",Datos_de_Tarjetas!M818)","v":""},{"$f":"IF(Datos_de_Tarjetas!N818=0,\"\",Datos_de_Tarjetas!N818)","v":""},{"$f":"IFERROR(VLOOKUP(Datos_de_Tarjetas!P818,Parámetros!$AM$3:$AN$90,2,FALSE),\"\")","v":""}]
[null,1069470000,{"$f":"IFERROR(VLOOKUP(Datos_de_Tarjetas!D819,Parámetros!$AD$12:$AE$17,2,FALSE),\"\")","v":""},{"$f":"IF(Datos_de_Tarjetas!G819=0,\"\",Datos_de_Tarjetas!G819)","v":""},{"$f":"IFERROR(VLOOKUP(Datos_de_Tarjetas!K819,Parámetros!$AJ$3:$AK$13,2,FALSE),\"\")","v":""},{"$f":"IFERROR(VLOOKUP(Datos_de_Tarjetas!J819,Parámetros!$AQ$3:$AR$57,2,FALSE),\"\")","v":""},null,{"$f":"IF(Datos_de_Tarjetas!L819=0,\"\",Datos_de_Tarjetas!L819)","v":""},{"$f":"IF(Datos_de_Tarjetas!M819=0,\"\",Datos_de_Tarjetas!M819)","v":""},{"$f":"IF(Datos_de_Tarjetas!N819=0,\"\",Datos_de_Tarjetas!N819)","v":""},{"$f":"IFERROR(VLOOKUP(Datos_de_Tarjetas!P819,Parámetros!$AM$3:$AN$90,2,FALSE),\"\")","v":""}]
[null,1069470000,{"$f":"IFERROR(VLOOKUP(Datos_de_Tarjetas!D820,Parámetros!$AD$12:$AE$17,2,FALSE),\"\")","v":""},{"$f":"IF(Datos_de_Tarjetas!G820=0,\"\",Datos_de_Tarjetas!G820)","v":""},{"$f":"IFERROR(VLOOKUP(Datos_de_Tarjetas!K820,Parámetros!$AJ$3:$AK$13,2,FALSE),\"\")","v":""},{"$f":"IFERROR(VLOOKUP(Datos_de_Tarjetas!J820,Parámetros!$AQ$3:$AR$57,2,FALSE),\"\")","v":""},null,{"$f":"IF(Datos_de_Tarjetas!L820=0,\"\",Datos_de_Tarjetas!L820)","v":""},{"$f":"IF(Datos_de_Tarjetas!M820=0,\"\",Datos_de_Tarjetas!M820)","v":""},{"$f":"IF(Datos_de_Tarjetas!N820=0,\"\",Datos_de_Tarjetas!N820)","v":""},{"$f":"IFERROR(VLOOKUP(Datos_de_Tarjetas!P820,Parámetros!$AM$3:$AN$90,2,FALSE),\"\")","v":""}]
[null,1069470000,{"$f":"IFERROR(VLOOKUP(Datos_de_Tarjetas!D821,Parámetros!$AD$12:$AE$17,2,FALSE),\"\")","v":""},{"$f":"IF(Datos_de_Tarjetas!G821=0,\"\",Datos_de_Tarjetas!G821)","v":""},{"$f":"IFERROR(VLOOKUP(Datos_de_Tarjetas!K821,Parámetros!$AJ$3:$AK$13,2,FALSE),\"\")","v":""},{"$f":"IFERROR(VLOOKUP(Datos_de_Tarjetas!J821,Parámetros!$AQ$3:$AR$57,2,FALSE),\"\")","v":""},null,{"$f":"IF(Datos_de_Tarjetas!L821=0,\"\",Datos_de_Tarjetas!L821)","v":""},{"$f":"IF(Datos_de_Tarjetas!M821=0,\"\",Datos_de_Tarjetas!M821)","v":""},{"$f":"IF(Datos_de_Tarjetas!N821=0,\"\",Datos_de_Tarjetas!N821)","v":""},{"$f":"IFERROR(VLOOKUP(Datos_de_Tarjetas!P821,Parámetros!$AM$3:$AN$90,2,FALSE),\"\")","v":""}]
[null,1069470000,{"$f":"IFERROR(VLOOKUP(Datos_de_Tarjetas!D822,Parámetros!$AD$12:$AE$17,2,FALSE),\"\")","v":""},{"$f":"IF(Datos_de_Tarjetas!G822=0,\"\",Datos_de_Tarjetas!G822)","v":""},{"$f":"IFERROR(VLOOKUP(Datos_de_Tarjetas!K822,Parámetros!$AJ$3:$AK$13,2,FALSE),\"\")","v":""},{"$f":"IFERROR(VLOOKUP(Datos_de_Tarjetas!J822,Parámetros!$AQ$3:$AR$57,2,FALSE),\"\")","v":""},null,{"$f":"IF(Datos_de_Tarjetas!L822=0,\"\",Datos_de_Tarjetas!L822)","v":""},{"$f":"IF(Datos_de_Tarjetas!M822=0,\"\",Datos_de_Tarjetas!M822)","v":""},{"$f":"IF(Datos_de_Tarjetas!N822=0,\"\",Datos_de_Tarjetas!N822)","v":""},{"$f":"IFERROR(VLOOKUP(Datos_de_Tarjetas!P822,Parámetros!$AM$3:$AN$90,2,FALSE),\"\")","v":""}]
[null,1069470000,{"$f":"IFERROR(VLOOKUP(Datos_de_Tarjetas!D823,Parámetros!$AD$12:$AE$17,2,FALSE),\"\")","v":""},{"$f":"IF(Datos_de_Tarjetas!G823=0,\"\",Datos_de_Tarjetas!G823)","v":""},{"$f":"IFERROR(VLOOKUP(Datos_de_Tarjetas!K823,Parámetros!$AJ$3:$AK$13,2,FALSE),\"\")","v":""},{"$f":"IFERROR(VLOOKUP(Datos_de_Tarjetas!J823,Parámetros!$AQ$3:$AR$57,2,FALSE),\"\")","v":""},null,{"$f":"IF(Datos_de_Tarjetas!L823=0,\"\",Datos_de_Tarjetas!L823)","v":""},{"$f":"IF(Datos_de_Tarjetas!M823=0,\"\",Datos_de_Tarjetas!M823)","v":""},{"$f":"IF(Datos_de_Tarjetas!N823=0,\"\",Datos_de_Tarjetas!N823)","v":""},{"$f":"IFERROR(VLOOKUP(Datos_de_Tarjetas!P823,Parámetros!$AM$3:$AN$90,2,FALSE),\"\")","v":""}]
[null,1069470000,{"$f":"IFERROR(VLOOKUP(Datos_de_Tarjetas!D824,Parámetros!$AD$12:$AE$17,2,FALSE),\"\")","v":""},{"$f":"IF(Datos_de_Tarjetas!G824=0,\"\",Datos_de_Tarjetas!G824)","v":""},{"$f":"IFERROR(VLOOKUP(Datos_de_Tarjetas!K824,Parámetros!$AJ$3:$AK$13,2,FALSE),\"\")","v":""},{"$f":"IFERROR(VLOOKUP(Datos_de_Tarjetas!J824,Parámetros!$AQ$3:$AR$57,2,FALSE),\"\")","v":""},null,{"$f":"IF(Datos_de_Tarjetas!L824=0,\"\",Datos_de_Tarjetas!L824)","v":""},{"$f":"IF(Datos_de_Tarjetas!M824=0,\"\",Datos_de_Tarjetas!M824)","v":""},{"$f":"IF(Datos_de_Tarjetas!N824=0,\"\",Datos_de_Tarjetas!N824)","v":""},{"$f":"IFERROR(VLOOKUP(Datos_de_Tarjetas!P824,Parámetros!$AM$3:$AN$90,2,FALSE),\"\")","v":""}]
[null,1069470000,{"$f":"IFERROR(VLOOKUP(Datos_de_Tarjetas!D825,Parámetros!$AD$12:$AE$17,2,FALSE),\"\")","v":""},{"$f":"IF(Datos_de_Tarjetas!G825=0,\"\",Datos_de_Tarjetas!G825)","v":""},{"$f":"IFERROR(VLOOKUP(Datos_de_Tarjetas!K825,Parámetros!$AJ$3:$AK$13,2,FALSE),\"\")","v":""},{"$f":"IFERROR(VLOOKUP(Datos_de_Tarjetas!J825,Parámetros!$AQ$3:$AR$57,2,FALSE),\"\")","v":""},null,{"$f":"IF(Datos_de_Tarjetas!L825=0,\"\",Datos_de_Tarjetas!L825)","v":""},{"$f":"IF(Datos_de_Tarjetas!M825=0,\"\",Datos_de_Tarjetas!M825)","v":""},{"$f":"IF(Datos_de_Tarjetas!N825=0,\"\",Datos_de_Tarjetas!N825)","v":""},{"$f":"IFERROR(VLOOKUP(Datos_de_Tarjetas!P825,Parámetros!$AM$3:$AN$90,2,FALSE),\"\")","v":""}]
[null,1069470000,{"$f":"IFERROR(VLOOKUP(Datos_de_Tarjetas!D826,Parámetros!$AD$12:$AE$17,2,FALSE),\"\")","v":""},{"$f":"IF(Datos_de_Tarjetas!G826=0,\"\",Datos_de_Tarjetas!G826)","v":""},{"$f":"IFERROR(VLOOKUP(Datos_de_Tarjetas!K826,Parámetros!$AJ$3:$AK$13,2,FALSE),\"\")","v":""},{"$f":"IFERROR(VLOOKUP(Datos_de_Tarjetas!J826,Parámetros!$AQ$3:$AR$57,2,FALSE),\"\")","v":""},null,{"$f":"IF(Datos_de_Tarjetas!L826=0,\"\",Datos_de_Tarjetas!L826)","v":""},{"$f":"IF(Datos_de_Tarjetas!M826=0,\"\",Datos_de_Tarjetas!M826)","v":""},{"$f":"IF(Datos_de_Tarjetas!N826=0,\"\",Datos_de_Tarjetas!N826)","v":""},{"$f":"IFERROR(VLOOKUP(Datos_de_Tarjetas!P826,Parámetros!$AM$3:$AN$90,2,FALSE),\"\")","v":""}]
[null,1069470000,{"$f":"IFERROR(VLOOKUP(Datos_de_Tarjetas!D827,Parámetros!$AD$12:$AE$17,2,FALSE),\"\")","v":""},{"$f":"IF(Datos_de_Tarjetas!G827=0,\"\",Datos_de_Tarjetas!G827)","v":""},{"$f":"IFERROR(VLOOKUP(Datos_de_Tarjetas!K827,Parámetros!$AJ$3:$AK$13,2,FALSE),\"\")","v":""},{"$f":"IFERROR(VLOOKUP(Datos_de_Tarjetas!J827,Parámetros!$AQ$3:$AR$57,2,FALSE),\"\")","v":""},null,{"$f":"IF(Datos_de_Tarjetas!L827=0,\"\",Datos_de_Tarjetas!L827)","v":""},{"$f":"IF(Datos_de_Tarjetas!M827=0,\"\",Datos_de_Tarjetas!M827)","v":""},{"$f":"IF(Datos_de_Tarjetas!N827=0,\"\",Datos_de_Tarjetas!N827)","v":""},{"$f":"IFERROR(VLOOKUP(Datos_de_Tarjetas!P827,Parámetros!$AM$3:$AN$90,2,FALSE),\"\")","v":""}]
[null,1069470000,{"$f":"IFERROR(VLOOKUP(Datos_de_Tarjetas!D828,Parámetros!$AD$12:$AE$17,2,FALSE),\"\")","v":""},{"$f":"IF(Datos_de_Tarjetas!G828=0,\"\",Datos_de_Tarjetas!G828)","v":""},{"$f":"IFERROR(VLOOKUP(Datos_de_Tarjetas!K828,Parámetros!$AJ$3:$AK$13,2,FALSE),\"\")","v":""},{"$f":"IFERROR(VLOOKUP(Datos_de_Tarjetas!J828,Parámetros!$AQ$3:$AR$57,2,FALSE),\"\")","v":""},null,{"$f":"IF(Datos_de_Tarjetas!L828=0,\"\",Datos_de_Tarjetas!L828)","v":""},{"$f":"IF(Datos_de_Tarjetas!M828=0,\"\",Datos_de_Tarjetas!M828)","v":""},{"$f":"IF(Datos_de_Tarjetas!N828=0,\"\",Datos_de_Tarjetas!N828)","v":""},{"$f":"IFERROR(VLOOKUP(Datos_de_Tarjetas!P828,Parámetros!$AM$3:$AN$90,2,FALSE),\"\")","v":""}]
[null,1069470000,{"$f":"IFERROR(VLOOKUP(Datos_de_Tarjetas!D829,Parámetros!$AD$12:$AE$17,2,FALSE),\"\")","v":""},{"$f":"IF(Datos_de_Tarjetas!G829=0,\"\",Datos_de_Tarjetas!G829)","v":""},{"$f":"IFERROR(VLOOKUP(Datos_de_Tarjetas!K829,Parámetros!$AJ$3:$AK$13,2,FALSE),\"\")","v":""},{"$f":"IFERROR(VLOOKUP(Datos_de_Tarjetas!J829,Parámetros!$AQ$3:$AR$57,2,FALSE),\"\")","v":""},null,{"$f":"IF(Datos_de_Tarjetas!L829=0,\"\",Datos_de_Tarjetas!L829)","v":""},{"$f":"IF(Datos_de_Tarjetas!M829=0,\"\",Datos_de_Tarjetas!M829)","v":""},{"$f":"IF(Datos_de_Tarjetas!N829=0,\"\",Datos_de_Tarjetas!N829)","v":""},{"$f":"IFERROR(VLOOKUP(Datos_de_Tarjetas!P829,Parámetros!$AM$3:$AN$90,2,FALSE),\"\")","v":""}]
[null,1069470000,{"$f":"IFERROR(VLOOKUP(Datos_de_Tarjetas!D830,Parámetros!$AD$12:$AE$17,2,FALSE),\"\")","v":""},{"$f":"IF(Datos_de_Tarjetas!G830=0,\"\",Datos_de_Tarjetas!G830)","v":""},{"$f":"IFERROR(VLOOKUP(Datos_de_Tarjetas!K830,Parámetros!$AJ$3:$AK$13,2,FALSE),\"\")","v":""},{"$f":"IFERROR(VLOOKUP(Datos_de_Tarjetas!J830,Parámetros!$AQ$3:$AR$57,2,FALSE),\"\")","v":""},null,{"$f":"IF(Datos_de_Tarjetas!L830=0,\"\",Datos_de_Tarjetas!L830)","v":""},{"$f":"IF(Datos_de_Tarjetas!M830=0,\"\",Datos_de_Tarjetas!M830)","v":""},{"$f":"IF(Datos_de_Tarjetas!N830=0,\"\",Datos_de_Tarjetas!N830)","v":""},{"$f":"IFERROR(VLOOKUP(Datos_de_Tarjetas!P830,Parámetros!$AM$3:$AN$90,2,FALSE),\"\")","v":""}]
[null,1069470000,{"$f":"IFERROR(VLOOKUP(Datos_de_Tarjetas!D831,Parámetros!$AD$12:$AE$17,2,FALSE),\"\")","v":""},{"$f":"IF(Datos_de_Tarjetas!G831=0,\"\",Datos_de_Tarjetas!G831)","v":""},{"$f":"IFERROR(VLOOKUP(Datos_de_Tarjetas!K831,Parámetros!$AJ$3:$AK$13,2,FALSE),\"\")","v":""},{"$f":"IFERROR(VLOOKUP(Datos_de_Tarjetas!J831,Parámetros!$AQ$3:$AR$57,2,FALSE),\"\")","v":""},null,{"$f":"IF(Datos_de_Tarjetas!L831=0,\"\",Datos_de_Tarjetas!L831)","v":""},{"$f":"IF(Datos_de_Tarjetas!M831=0,\"\",Datos_de_Tarjetas!M831)","v":""},{"$f":"IF(Datos_de_Tarjetas!N831=0,\"\",Datos_de_Tarjetas!N831)","v":""},{"$f":"IFERROR(VLOOKUP(Datos_de_Tarjetas!P831,Parámetros!$AM$3:$AN$90,2,FALSE),\"\")","v":""}]
[null,1069470000,{"$f":"IFERROR(VLOOKUP(Datos_de_Tarjetas!D832,Parámetros!$AD$12:$AE$17,2,FALSE),\"\")","v":""},{"$f":"IF(Datos_de_Tarjetas!G832=0,\"\",Datos_de_Tarjetas!G832)","v":""},{"$f":"IFERROR(VLOOKUP(Datos_de_Tarjetas!K832,Parámetros!$AJ$3:$AK$13,2,FALSE),\"\")","v":""},{"$f":"IFERROR(VLOOKUP(Datos_de_Tarjetas!J832,Parámetros!$AQ$3:$AR$57,2,FALSE),\"\")","v":""},null,{"$f":"IF(Datos_de_Tarjetas!L832=0,\"\",Datos_de_Tarjetas!L832)","v":""},{"$f":"IF(Datos_de_Tarjetas!M832=0,\"\",Datos_de_Tarjetas!M832)","v":""},{"$f":"IF(Datos_de_Tarjetas!N832=0,\"\",Datos_de_Tarjetas!N832)","v":""},{"$f":"IFERROR(VLOOKUP(Datos_de_Tarjetas!P832,Parámetros!$AM$3:$AN$90,2,FALSE),\"\")","v":""}]
[null,1069470000,{"$f":"IFERROR(VLOOKUP(Datos_de_Tarjetas!D833,Parámetros!$AD$12:$AE$17,2,FALSE),\"\")","v":""},{"$f":"IF(Datos_de_Tarjetas!G833=0,\"\",Datos_de_Tarjetas!G833)","v":""},{"$f":"IFERROR(VLOOKUP(Datos_de_Tarjetas!K833,Parámetros!$AJ$3:$AK$13,2,FALSE),\"\")","v":""},{"$f":"IFERROR(VLOOKUP(Datos_de_Tarjetas!J833,Parámetros!$AQ$3:$AR$57,2,FALSE),\"\")","v":""},null,{"$f":"IF(Datos_de_Tarjetas!L833=0,\"\",Datos_de_Tarjetas!L833)","v":""},{"$f":"IF(Datos_de_Tarjetas!M833=0,\"\",Datos_de_Tarjetas!M833)","v":""},{"$f":"IF(Datos_de_Tarjetas!N833=0,\"\",Datos_de_Tarjetas!N833)","v":""},{"$f":"IFERROR(VLOOKUP(Datos_de_Tarjetas!P833,Parámetros!$AM$3:$AN$90,2,FALSE),\"\")","v":""}]
[null,1069470000,{"$f":"IFERROR(VLOOKUP(Datos_de_Tarjetas!D834,Parámetros!$AD$12:$AE$17,2,FALSE),\"\")","v":""},{"$f":"IF(Datos_de_Tarjetas!G834=0,\"\",Datos_de_Tarjetas!G834)","v":""},{"$f":"IFERROR(VLOOKUP(Datos_de_Tarjetas!K834,Parámetros!$AJ$3:$AK$13,2,FALSE),\"\")","v":""},{"$f":"IFERROR(VLOOKUP(Datos_de_Tarjetas!J834,Parámetros!$AQ$3:$AR$57,2,FALSE),\"\")","v":""},null,{"$f":"IF(Datos_de_Tarjetas!L834=0,\"\",Datos_de_Tarjetas!L834)","v":""},{"$f":"IF(Datos_de_Tarjetas!M834=0,\"\",Datos_de_Tarjetas!M834)","v":""},{"$f":"IF(Datos_de_Tarjetas!N834=0,\"\",Datos_de_Tarjetas!N834)","v":""},{"$f":"IFERROR(VLOOKUP(Datos_de_Tarjetas!P834,Parámetros!$AM$3:$AN$90,2,FALSE),\"\")","v":""}]
[null,1069470000,{"$f":"IFERROR(VLOOKUP(Datos_de_Tarjetas!D835,Parámetros!$AD$12:$AE$17,2,FALSE),\"\")","v":""},{"$f":"IF(Datos_de_Tarjetas!G835=0,\"\",Datos_de_Tarjetas!G835)","v":""},{"$f":"IFERROR(VLOOKUP(Datos_de_Tarjetas!K835,Parámetros!$AJ$3:$AK$13,2,FALSE),\"\")","v":""},{"$f":"IFERROR(VLOOKUP(Datos_de_Tarjetas!J835,Parámetros!$AQ$3:$AR$57,2,FALSE),\"\")","v":""},null,{"$f":"IF(Datos_de_Tarjetas!L835=0,\"\",Datos_de_Tarjetas!L835)","v":""},{"$f":"IF(Datos_de_Tarjetas!M835=0,\"\",Datos_de_Tarjetas!M835)","v":""},{"$f":"IF(Datos_de_Tarjetas!N835=0,\"\",Datos_de_Tarjetas!N835)","v":""},{"$f":"IFERROR(VLOOKUP(Datos_de_Tarjetas!P835,Parámetros!$AM$3:$AN$90,2,FALSE),\"\")","v":""}]
[null,1069470000,{"$f":"IFERROR(VLOOKUP(Datos_de_Tarjetas!D836,Parámetros!$AD$12:$AE$17,2,FALSE),\"\")","v":""},{"$f":"IF(Datos_de_Tarjetas!G836=0,\"\",Datos_de_Tarjetas!G836)","v":""},{"$f":"IFERROR(VLOOKUP(Datos_de_Tarjetas!K836,Parámetros!$AJ$3:$AK$13,2,FALSE),\"\")","v":""},{"$f":"IFERROR(VLOOKUP(Datos_de_Tarjetas!J836,Parámetros!$AQ$3:$AR$57,2,FALSE),\"\")","v":""},null,{"$f":"IF(Datos_de_Tarjetas!L836=0,\"\",Datos_de_Tarjetas!L836)","v":""},{"$f":"IF(Datos_de_Tarjetas!M836=0,\"\",Datos_de_Tarjetas!M836)","v":""},{"$f":"IF(Datos_de_Tarjetas!N836=0,\"\",Datos_de_Tarjetas!N836)","v":""},{"$f":"IFERROR(VLOOKUP(Datos_de_Tarjetas!P836,Parámetros!$AM$3:$AN$90,2,FALSE),\"\")","v":""}]
[null,1069470000,{"$f":"IFERROR(VLOOKUP(Datos_de_Tarjetas!D837,Parámetros!$AD$12:$AE$17,2,FALSE),\"\")","v":""},{"$f":"IF(Datos_de_Tarjetas!G837=0,\"\",Datos_de_Tarjetas!G837)","v":""},{"$f":"IFERROR(VLOOKUP(Datos_de_Tarjetas!K837,Parámetros!$AJ$3:$AK$13,2,FALSE),\"\")","v":""},{"$f":"IFERROR(VLOOKUP(Datos_de_Tarjetas!J837,Parámetros!$AQ$3:$AR$57,2,FALSE),\"\")","v":""},null,{"$f":"IF(Datos_de_Tarjetas!L837=0,\"\",Datos_de_Tarjetas!L837)","v":""},{"$f":"IF(Datos_de_Tarjetas!M837=0,\"\",Datos_de_Tarjetas!M837)","v":""},{"$f":"IF(Datos_de_Tarjetas!N837=0,\"\",Datos_de_Tarjetas!N837)","v":""},{"$f":"IFERROR(VLOOKUP(Datos_de_Tarjetas!P837,Parámetros!$AM$3:$AN$90,2,FALSE),\"\")","v":""}]
[null,1069470000,{"$f":"IFERROR(VLOOKUP(Datos_de_Tarjetas!D838,Parámetros!$AD$12:$AE$17,2,FALSE),\"\")","v":""},{"$f":"IF(Datos_de_Tarjetas!G838=0,\"\",Datos_de_Tarjetas!G838)","v":""},{"$f":"IFERROR(VLOOKUP(Datos_de_Tarjetas!K838,Parámetros!$AJ$3:$AK$13,2,FALSE),\"\")","v":""},{"$f":"IFERROR(VLOOKUP(Datos_de_Tarjetas!J838,Parámetros!$AQ$3:$AR$57,2,FALSE),\"\")","v":""},null,{"$f":"IF(Datos_de_Tarjetas!L838=0,\"\",Datos_de_Tarjetas!L838)","v":""},{"$f":"IF(Datos_de_Tarjetas!M838=0,\"\",Datos_de_Tarjetas!M838)","v":""},{"$f":"IF(Datos_de_Tarjetas!N838=0,\"\",Datos_de_Tarjetas!N838)","v":""},{"$f":"IFERROR(VLOOKUP(Datos_de_Tarjetas!P838,Parámetros!$AM$3:$AN$90,2,FALSE),\"\")","v":""}]
[null,1069470000,{"$f":"IFERROR(VLOOKUP(Datos_de_Tarjetas!D839,Parámetros!$AD$12:$AE$17,2,FALSE),\"\")","v":""},{"$f":"IF(Datos_de_Tarjetas!G839=0,\"\",Datos_de_Tarjetas!G839)","v":""},{"$f":"IFERROR(VLOOKUP(Datos_de_Tarjetas!K839,Parámetros!$AJ$3:$AK$13,2,FALSE),\"\")","v":""},{"$f":"IFERROR(VLOOKUP(Datos_de_Tarjetas!J839,Parámetros!$AQ$3:$AR$57,2,FALSE),\"\")","v":""},null,{"$f":"IF(Datos_de_Tarjetas!L839=0,\"\",Datos_de_Tarjetas!L839)","v":""},{"$f":"IF(Datos_de_Tarjetas!M839=0,\"\",Datos_de_Tarjetas!M839)","v":""},{"$f":"IF(Datos_de_Tarjetas!N839=0,\"\",Datos_de_Tarjetas!N839)","v":""},{"$f":"IFERROR(VLOOKUP(Datos_de_Tarjetas!P839,Parámetros!$AM$3:$AN$90,2,FALSE),\"\")","v":""}]
[null,1069470000,{"$f":"IFERROR(VLOOKUP(Datos_de_Tarjetas!D840,Parámetros!$AD$12:$AE$17,2,FALSE),\"\")","v":""},{"$f":"IF(Datos_de_Tarjetas!G840=0,\"\",Datos_de_Tarjetas!G840)","v":""},{"$f":"IFERROR(VLOOKUP(Datos_de_Tarjetas!K840,Parámetros!$AJ$3:$AK$13,2,FALSE),\"\")","v":""},{"$f":"IFERROR(VLOOKUP(Datos_de_Tarjetas!J840,Parámetros!$AQ$3:$AR$57,2,FALSE),\"\")","v":""},null,{"$f":"IF(Datos_de_Tarjetas!L840=0,\"\",Datos_de_Tarjetas!L840)","v":""},{"$f":"IF(Datos_de_Tarjetas!M840=0,\"\",Datos_de_Tarjetas!M840)","v":""},{"$f":"IF(Datos_de_Tarjetas!N840=0,\"\",Datos_de_Tarjetas!N840)","v":""},{"$f":"IFERROR(VLOOKUP(Datos_de_Tarjetas!P840,Parámetros!$AM$3:$AN$90,2,FALSE),\"\")","v":""}]
[null,1069470000,{"$f":"IFERROR(VLOOKUP(Datos_de_Tarjetas!D841,Parámetros!$AD$12:$AE$17,2,FALSE),\"\")","v":""},{"$f":"IF(Datos_de_Tarjetas!G841=0,\"\",Datos_de_Tarjetas!G841)","v":""},{"$f":"IFERROR(VLOOKUP(Datos_de_Tarjetas!K841,Parámetros!$AJ$3:$AK$13,2,FALSE),\"\")","v":""},{"$f":"IFERROR(VLOOKUP(Datos_de_Tarjetas!J841,Parámetros!$AQ$3:$AR$57,2,FALSE),\"\")","v":""},null,{"$f":"IF(Datos_de_Tarjetas!L841=0,\"\",Datos_de_Tarjetas!L841)","v":""},{"$f":"IF(Datos_de_Tarjetas!M841=0,\"\",Datos_de_Tarjetas!M841)","v":""},{"$f":"IF(Datos_de_Tarjetas!N841=0,\"\",Datos_de_Tarjetas!N841)","v":""},{"$f":"IFERROR(VLOOKUP(Datos_de_Tarjetas!P841,Parámetros!$AM$3:$AN$90,2,FALSE),\"\")","v":""}]
[null,1069470000,{"$f":"IFERROR(VLOOKUP(Datos_de_Tarjetas!D842,Parámetros!$AD$12:$AE$17,2,FALSE),\"\")","v":""},{"$f":"IF(Datos_de_Tarjetas!G842=0,\"\",Datos_de_Tarjetas!G842)","v":""},{"$f":"IFERROR(VLOOKUP(Datos_de_Tarjetas!K842,Parámetros!$AJ$3:$AK$13,2,FALSE),\"\")","v":""},{"$f":"IFERROR(VLOOKUP(Datos_de_Tarjetas!J842,Parámetros!$AQ$3:$AR$57,2,FALSE),\"\")","v":""},null,{"$f":"IF(Datos_de_Tarjetas!L842=0,\"\",Datos_de_Tarjetas!L842)","v":""},{"$f":"IF(Datos_de_Tarjetas!M842=0,\"\",Datos_de_Tarjetas!M842)","v":""},{"$f":"IF(Datos_de_Tarjetas!N842=0,\"\",Datos_de_Tarjetas!N842)","v":""},{"$f":"IFERROR(VLOOKUP(Datos_de_Tarjetas!P842,Parámetros!$AM$3:$AN$90,2,FALSE),\"\")","v":""}]
[null,1069470000,{"$f":"IFERROR(VLOOKUP(Datos_de_Tarjetas!D843,Parámetros!$AD$12:$AE$17,2,FALSE),\"\")","v":""},{"$f":"IF(Datos_de_Tarjetas!G843=0,\"\",Datos_de_Tarjetas!G843)","v":""},{"$f":"IFERROR(VLOOKUP(Datos_de_Tarjetas!K843,Parámetros!$AJ$3:$AK$13,2,FALSE),\"\")","v":""},{"$f":"IFERROR(VLOOKUP(Datos_de_Tarjetas!J843,Parámetros!$AQ$3:$AR$57,2,FALSE),\"\")","v":""},null,{"$f":"IF(Datos_de_Tarjetas!L843=0,\"\",Datos_de_Tarjetas!L843)","v":""},{"$f":"IF(Datos_de_Tarjetas!M843=0,\"\",Datos_de_Tarjetas!M843)","v":""},{"$f":"IF(Datos_de_Tarjetas!N843=0,\"\",Datos_de_Tarjetas!N843)","v":""},{"$f":"IFERROR(VLOOKUP(Datos_de_Tarjetas!P843,Parámetros!$AM$3:$AN$90,2,FALSE),\"\")","v":""}]
[null,1069470000,{"$f":"IFERROR(VLOOKUP(Datos_de_Tarjetas!D844,Parámetros!$AD$12:$AE$17,2,FALSE),\"\")","v":""},{"$f":"IF(Datos_de_Tarjetas!G844=0,\"\",Datos_de_Tarjetas!G844)","v":""},{"$f":"IFERROR(VLOOKUP(Datos_de_Tarjetas!K844,Parámetros!$AJ$3:$AK$13,2,FALSE),\"\")","v":""},{"$f":"IFERROR(VLOOKUP(Datos_de_Tarjetas!J844,Parámetros!$AQ$3:$AR$57,2,FALSE),\"\")","v":""},null,{"$f":"IF(Datos_de_Tarjetas!L844=0,\"\",Datos_de_Tarjetas!L844)","v":""},{"$f":"IF(Datos_de_Tarjetas!M844=0,\"\",Datos_de_Tarjetas!M844)","v":""},{"$f":"IF(Datos_de_Tarjetas!N844=0,\"\",Datos_de_Tarjetas!N844)","v":""},{"$f":"IFERROR(VLOOKUP(Datos_de_Tarjetas!P844,Parámetros!$AM$3:$AN$90,2,FALSE),\"\")","v":""}]
[null,1069470000,{"$f":"IFERROR(VLOOKUP(Datos_de_Tarjetas!D845,Parámetros!$AD$12:$AE$17,2,FALSE),\"\")","v":""},{"$f":"IF(Datos_de_Tarjetas!G845=0,\"\",Datos_de_Tarjetas!G845)","v":""},{"$f":"IFERROR(VLOOKUP(Datos_de_Tarjetas!K845,Parámetros!$AJ$3:$AK$13,2,FALSE),\"\")","v":""},{"$f":"IFERROR(VLOOKUP(Datos_de_Tarjetas!J845,Parámetros!$AQ$3:$AR$57,2,FALSE),\"\")","v":""},null,{"$f":"IF(Datos_de_Tarjetas!L845=0,\"\",Datos_de_Tarjetas!L845)","v":""},{"$f":"IF(Datos_de_Tarjetas!M845=0,\"\",Datos_de_Tarjetas!M845)","v":""},{"$f":"IF(Datos_de_Tarjetas!N845=0,\"\",Datos_de_Tarjetas!N845)","v":""},{"$f":"IFERROR(VLOOKUP(Datos_de_Tarjetas!P845,Parámetros!$AM$3:$AN$90,2,FALSE),\"\")","v":""}]
[null,1069470000,{"$f":"IFERROR(VLOOKUP(Datos_de_Tarjetas!D846,Parámetros!$AD$12:$AE$17,2,FALSE),\"\")","v":""},{"$f":"IF(Datos_de_Tarjetas!G846=0,\"\",Datos_de_Tarjetas!G846)","v":""},{"$f":"IFERROR(VLOOKUP(Datos_de_Tarjetas!K846,Parámetros!$AJ$3:$AK$13,2,FALSE),\"\")","v":""},{"$f":"IFERROR(VLOOKUP(Datos_de_Tarjetas!J846,Parámetros!$AQ$3:$AR$57,2,FALSE),\"\")","v":""},null,{"$f":"IF(Datos_de_Tarjetas!L846=0,\"\",Datos_de_Tarjetas!L846)","v":""},{"$f":"IF(Datos_de_Tarjetas!M846=0,\"\",Datos_de_Tarjetas!M846)","v":""},{"$f":"IF(Datos_de_Tarjetas!N846=0,\"\",Datos_de_Tarjetas!N846)","v":""},{"$f":"IFERROR(VLOOKUP(Datos_de_Tarjetas!P846,Parámetros!$AM$3:$AN$90,2,FALSE),\"\")","v":""}]
[null,1069470000,{"$f":"IFERROR(VLOOKUP(Datos_de_Tarjetas!D847,Parámetros!$AD$12:$AE$17,2,FALSE),\"\")","v":""},{"$f":"IF(Datos_de_Tarjetas!G847=0,\"\",Datos_de_Tarjetas!G847)","v":""},{"$f":"IFERROR(VLOOKUP(Datos_de_Tarjetas!K847,Parámetros!$AJ$3:$AK$13,2,FALSE),\"\")","v":""},{"$f":"IFERROR(VLOOKUP(Datos_de_Tarjetas!J847,Parámetros!$AQ$3:$AR$57,2,FALSE),\"\")","v":""},null,{"$f":"IF(Datos_de_Tarjetas!L847=0,\"\",Datos_de_Tarjetas!L847)","v":""},{"$f":"IF(Datos_de_Tarjetas!M847=0,\"\",Datos_de_Tarjetas!M847)","v":""},{"$f":"IF(Datos_de_Tarjetas!N847=0,\"\",Datos_de_Tarjetas!N847)","v":""},{"$f":"IFERROR(VLOOKUP(Datos_de_Tarjetas!P847,Parámetros!$AM$3:$AN$90,2,FALSE),\"\")","v":""}]
[null,1069470000,{"$f":"IFERROR(VLOOKUP(Datos_de_Tarjetas!D848,Parámetros!$AD$12:$AE$17,2,FALSE),\"\")","v":""},{"$f":"IF(Datos_de_Tarjetas!G848=0,\"\",Datos_de_Tarjetas!G848)","v":""},{"$f":"IFERROR(VLOOKUP(Datos_de_Tarjetas!K848,Parámetros!$AJ$3:$AK$13,2,FALSE),\"\")","v":""},{"$f":"IFERROR(VLOOKUP(Datos_de_Tarjetas!J848,Parámetros!$AQ$3:$AR$57,2,FALSE),\"\")","v":""},null,{"$f":"IF(Datos_de_Tarjetas!L848=0,\"\",Datos_de_Tarjetas!L848)","v":""},{"$f":"IF(Datos_de_Tarjetas!M848=0,\"\",Datos_de_Tarjetas!M848)","v":""},{"$f":"IF(Datos_de_Tarjetas!N848=0,\"\",Datos_de_Tarjetas!N848)","v":""},{"$f":"IFERROR(VLOOKUP(Datos_de_Tarjetas!P848,Parámetros!$AM$3:$AN$90,2,FALSE),\"\")","v":""}]
[null,{"$f":"$C$2","v":1069470000},{"$f":"IFERROR(VLOOKUP(Datos_de_Tarjetas!D849,Parámetros!$AD$12:$AE$17,2,FALSE),\"\")","v":""},{"$f":"IF(Datos_de_Tarjetas!G849=0,\"\",Datos_de_Tarjetas!G849)","v":""},{"$f":"IFERROR(VLOOKUP(Datos_de_Tarjetas!K849,Parámetros!$AJ$3:$AK$13,2,FALSE),\"\")","v":""},{"$f":"IFERROR(VLOOKUP(Datos_de_Tarjetas!J849,Parámetros!$AQ$3:$AR$57,2,FALSE),\"\")","v":""},null,{"$f":"IF(Datos_de_Tarjetas!L849=0,\"\",Datos_de_Tarjetas!L849)","v":""},{"$f":"IF(Datos_de_Tarjetas!M849=0,\"\",Datos_de_Tarjetas!M849)","v":""},{"$f":"IF(Datos_de_Tarjetas!N849=0,\"\",Datos_de_Tarjetas!N849)","v":""},{"$f":"IFERROR(VLOOKUP(Datos_de_Tarjetas!P849,Parámetros!$AM$3:$AN$90,2,FALSE),\"\")","v":""}]
[null,1069470000,{"$f":"IFERROR(VLOOKUP(Datos_de_Tarjetas!D850,Parámetros!$AD$12:$AE$17,2,FALSE),\"\")","v":""},{"$f":"IF(Datos_de_Tarjetas!G850=0,\"\",Datos_de_Tarjetas!G850)","v":""},{"$f":"IFERROR(VLOOKUP(Datos_de_Tarjetas!K850,Parámetros!$AJ$3:$AK$13,2,FALSE),\"\")","v":""},{"$f":"IFERROR(VLOOKUP(Datos_de_Tarjetas!J850,Parámetros!$AQ$3:$AR$57,2,FALSE),\"\")","v":""},null,{"$f":"IF(Datos_de_Tarjetas!L850=0,\"\",Datos_de_Tarjetas!L850)","v":""},{"$f":"IF(Datos_de_Tarjetas!M850=0,\"\",Datos_de_Tarjetas!M850)","v":""},{"$f":"IF(Datos_de_Tarjetas!N850=0,\"\",Datos_de_Tarjetas!N850)","v":""},{"$f":"IFERROR(VLOOKUP(Datos_de_Tarjetas!P850,Parámetros!$AM$3:$AN$90,2,FALSE),\"\")","v":""}]
[null,1069470000,{"$f":"IFERROR(VLOOKUP(Datos_de_Tarjetas!D851,Parámetros!$AD$12:$AE$17,2,FALSE),\"\")","v":""},{"$f":"IF(Datos_de_Tarjetas!G851=0,\"\",Datos_de_Tarjetas!G851)","v":""},{"$f":"IFERROR(VLOOKUP(Datos_de_Tarjetas!K851,Parámetros!$AJ$3:$AK$13,2,FALSE),\"\")","v":""},{"$f":"IFERROR(VLOOKUP(Datos_de_Tarjetas!J851,Parámetros!$AQ$3:$AR$57,2,FALSE),\"\")","v":""},null,{"$f":"IF(Datos_de_Tarjetas!L851=0,\"\",Datos_de_Tarjetas!L851)","v":""},{"$f":"IF(Datos_de_Tarjetas!M851=0,\"\",Datos_de_Tarjetas!M851)","v":""},{"$f":"IF(Datos_de_Tarjetas!N851=0,\"\",Datos_de_Tarjetas!N851)","v":""},{"$f":"IFERROR(VLOOKUP(Datos_de_Tarjetas!P851,Parámetros!$AM$3:$AN$90,2,FALSE),\"\")","v":""}]
[null,1069470000,{"$f":"IFERROR(VLOOKUP(Datos_de_Tarjetas!D852,Parámetros!$AD$12:$AE$17,2,FALSE),\"\")","v":""},{"$f":"IF(Datos_de_Tarjetas!G852=0,\"\",Datos_de_Tarjetas!G852)","v":""},{"$f":"IFERROR(VLOOKUP(Datos_de_Tarjetas!K852,Parámetros!$AJ$3:$AK$13,2,FALSE),\"\")","v":""},{"$f":"IFERROR(VLOOKUP(Datos_de_Tarjetas!J852,Parámetros!$AQ$3:$AR$57,2,FALSE),\"\")","v":""},null,{"$f":"IF(Datos_de_Tarjetas!L852=0,\"\",Datos_de_Tarjetas!L852)","v":""},{"$f":"IF(Datos_de_Tarjetas!M852=0,\"\",Datos_de_Tarjetas!M852)","v":""},{"$f":"IF(Datos_de_Tarjetas!N852=0,\"\",Datos_de_Tarjetas!N852)","v":""},{"$f":"IFERROR(VLOOKUP(Datos_de_Tarjetas!P852,Parámetros!$AM$3:$AN$90,2,FALSE),\"\")","v":""}]
[null,1069470000,{"$f":"IFERROR(VLOOKUP(Datos_de_Tarjetas!D853,Parámetros!$AD$12:$AE$17,2,FALSE),\"\")","v":""},{"$f":"IF(Datos_de_Tarjetas!G853=0,\"\",Datos_de_Tarjetas!G853)","v":""},{"$f":"IFERROR(VLOOKUP(Datos_de_Tarjetas!K853,Parámetros!$AJ$3:$AK$13,2,FALSE),\"\")","v":""},{"$f":"IFERROR(VLOOKUP(Datos_de_Tarjetas!J853,Parámetros!$AQ$3:$AR$57,2,FALSE),\"\")","v":""},null,{"$f":"IF(Datos_de_Tarjetas!L853=0,\"\",Datos_de_Tarjetas!L853)","v":""},{"$f":"IF(Datos_de_Tarjetas!M853=0,\"\",Datos_de_Tarjetas!M853)","v":""},{"$f":"IF(Datos_de_Tarjetas!N853=0,\"\",Datos_de_Tarjetas!N853)","v":""},{"$f":"IFERROR(VLOOKUP(Datos_de_Tarjetas!P853,Parámetros!$AM$3:$AN$90,2,FALSE),\"\")","v":""}]
[null,1069470000,{"$f":"IFERROR(VLOOKUP(Datos_de_Tarjetas!D854,Parámetros!$AD$12:$AE$17,2,FALSE),\"\")","v":""},{"$f":"IF(Datos_de_Tarjetas!G854=0,\"\",Datos_de_Tarjetas!G854)","v":""},{"$f":"IFERROR(VLOOKUP(Datos_de_Tarjetas!K854,Parámetros!$AJ$3:$AK$13,2,FALSE),\"\")","v":""},{"$f":"IFERROR(VLOOKUP(Datos_de_Tarjetas!J854,Parámetros!$AQ$3:$AR$57,2,FALSE),\"\")","v":""},null,{"$f":"IF(Datos_de_Tarjetas!L854=0,\"\",Datos_de_Tarjetas!L854)","v":""},{"$f":"IF(Datos_de_Tarjetas!M854=0,\"\",Datos_de_Tarjetas!M854)","v":""},{"$f":"IF(Datos_de_Tarjetas!N854=0,\"\",Datos_de_Tarjetas!N854)","v":""},{"$f":"IFERROR(VLOOKUP(Datos_de_Tarjetas!P854,Parámetros!$AM$3:$AN$90,2,FALSE),\"\")","v":""}]
[null,1069470000,{"$f":"IFERROR(VLOOKUP(Datos_de_Tarjetas!D855,Parámetros!$AD$12:$AE$17,2,FALSE),\"\")","v":""},{"$f":"IF(Datos_de_Tarjetas!G855=0,\"\",Datos_de_Tarjetas!G855)","v":""},{"$f":"IFERROR(VLOOKUP(Datos_de_Tarjetas!K855,Parámetros!$AJ$3:$AK$13,2,FALSE),\"\")","v":""},{"$f":"IFERROR(VLOOKUP(Datos_de_Tarjetas!J855,Parámetros!$AQ$3:$AR$57,2,FALSE),\"\")","v":""},null,{"$f":"IF(Datos_de_Tarjetas!L855=0,\"\",Datos_de_Tarjetas!L855)","v":""},{"$f":"IF(Datos_de_Tarjetas!M855=0,\"\",Datos_de_Tarjetas!M855)","v":""},{"$f":"IF(Datos_de_Tarjetas!N855=0,\"\",Datos_de_Tarjetas!N855)","v":""},{"$f":"IFERROR(VLOOKUP(Datos_de_Tarjetas!P855,Parámetros!$AM$3:$AN$90,2,FALSE),\"\")","v":""}]
[null,1069470000,{"$f":"IFERROR(VLOOKUP(Datos_de_Tarjetas!D856,Parámetros!$AD$12:$AE$17,2,FALSE),\"\")","v":""},{"$f":"IF(Datos_de_Tarjetas!G856=0,\"\",Datos_de_Tarjetas!G856)","v":""},{"$f":"IFERROR(VLOOKUP(Datos_de_Tarjetas!K856,Parámetros!$AJ$3:$AK$13,2,FALSE),\"\")","v":""},{"$f":"IFERROR(VLOOKUP(Datos_de_Tarjetas!J856,Parámetros!$AQ$3:$AR$57,2,FALSE),\"\")","v":""},null,{"$f":"IF(Datos_de_Tarjetas!L856=0,\"\",Datos_de_Tarjetas!L856)","v":""},{"$f":"IF(Datos_de_Tarjetas!M856=0,\"\",Datos_de_Tarjetas!M856)","v":""},{"$f":"IF(Datos_de_Tarjetas!N856=0,\"\",Datos_de_Tarjetas!N856)","v":""},{"$f":"IFERROR(VLOOKUP(Datos_de_Tarjetas!P856,Parámetros!$AM$3:$AN$90,2,FALSE),\"\")","v":""}]
[null,1069470000,{"$f":"IFERROR(VLOOKUP(Datos_de_Tarjetas!D857,Parámetros!$AD$12:$AE$17,2,FALSE),\"\")","v":""},{"$f":"IF(Datos_de_Tarjetas!G857=0,\"\",Datos_de_Tarjetas!G857)","v":""},{"$f":"IFERROR(VLOOKUP(Datos_de_Tarjetas!K857,Parámetros!$AJ$3:$AK$13,2,FALSE),\"\")","v":""},{"$f":"IFERROR(VLOOKUP(Datos_de_Tarjetas!J857,Parámetros!$AQ$3:$AR$57,2,FALSE),\"\")","v":""},null,{"$f":"IF(Datos_de_Tarjetas!L857=0,\"\",Datos_de_Tarjetas!L857)","v":""},{"$f":"IF(Datos_de_Tarjetas!M857=0,\"\",Datos_de_Tarjetas!M857)","v":""},{"$f":"IF(Datos_de_Tarjetas!N857=0,\"\",Datos_de_Tarjetas!N857)","v":""},{"$f":"IFERROR(VLOOKUP(Datos_de_Tarjetas!P857,Parámetros!$AM$3:$AN$90,2,FALSE),\"\")","v":""}]
[null,1069470000,{"$f":"IFERROR(VLOOKUP(Datos_de_Tarjetas!D858,Parámetros!$AD$12:$AE$17,2,FALSE),\"\")","v":""},{"$f":"IF(Datos_de_Tarjetas!G858=0,\"\",Datos_de_Tarjetas!G858)","v":""},{"$f":"IFERROR(VLOOKUP(Datos_de_Tarjetas!K858,Parámetros!$AJ$3:$AK$13,2,FALSE),\"\")","v":""},{"$f":"IFERROR(VLOOKUP(Datos_de_Tarjetas!J858,Parámetros!$AQ$3:$AR$57,2,FALSE),\"\")","v":""},null,{"$f":"IF(Datos_de_Tarjetas!L858=0,\"\",Datos_de_Tarjetas!L858)","v":""},{"$f":"IF(Datos_de_Tarjetas!M858=0,\"\",Datos_de_Tarjetas!M858)","v":""},{"$f":"IF(Datos_de_Tarjetas!N858=0,\"\",Datos_de_Tarjetas!N858)","v":""},{"$f":"IFERROR(VLOOKUP(Datos_de_Tarjetas!P858,Parámetros!$AM$3:$AN$90,2,FALSE),\"\")","v":""}]
[null,1069470000,{"$f":"IFERROR(VLOOKUP(Datos_de_Tarjetas!D859,Parámetros!$AD$12:$AE$17,2,FALSE),\"\")","v":""},{"$f":"IF(Datos_de_Tarjetas!G859=0,\"\",Datos_de_Tarjetas!G859)","v":""},{"$f":"IFERROR(VLOOKUP(Datos_de_Tarjetas!K859,Parámetros!$AJ$3:$AK$13,2,FALSE),\"\")","v":""},{"$f":"IFERROR(VLOOKUP(Datos_de_Tarjetas!J859,Parámetros!$AQ$3:$AR$57,2,FALSE),\"\")","v":""},null,{"$f":"IF(Datos_de_Tarjetas!L859=0,\"\",Datos_de_Tarjetas!L859)","v":""},{"$f":"IF(Datos_de_Tarjetas!M859=0,\"\",Datos_de_Tarjetas!M859)","v":""},{"$f":"IF(Datos_de_Tarjetas!N859=0,\"\",Datos_de_Tarjetas!N859)","v":""},{"$f":"IFERROR(VLOOKUP(Datos_de_Tarjetas!P859,Parámetros!$AM$3:$AN$90,2,FALSE),\"\")","v":""}]
[null,1069470000,{"$f":"IFERROR(VLOOKUP(Datos_de_Tarjetas!D860,Parámetros!$AD$12:$AE$17,2,FALSE),\"\")","v":""},{"$f":"IF(Datos_de_Tarjetas!G860=0,\"\",Datos_de_Tarjetas!G860)","v":""},{"$f":"IFERROR(VLOOKUP(Datos_de_Tarjetas!K860,Parámetros!$AJ$3:$AK$13,2,FALSE),\"\")","v":""},{"$f":"IFERROR(VLOOKUP(Datos_de_Tarjetas!J860,Parámetros!$AQ$3:$AR$57,2,FALSE),\"\")","v":""},null,{"$f":"IF(Datos_de_Tarjetas!L860=0,\"\",Datos_de_Tarjetas!L860)","v":""},{"$f":"IF(Datos_de_Tarjetas!M860=0,\"\",Datos_de_Tarjetas!M860)","v":""},{"$f":"IF(Datos_de_Tarjetas!N860=0,\"\",Datos_de_Tarjetas!N860)","v":""},{"$f":"IFERROR(VLOOKUP(Datos_de_Tarjetas!P860,Parámetros!$AM$3:$AN$90,2,FALSE),\"\")","v":""}]
[null,1069470000,{"$f":"IFERROR(VLOOKUP(Datos_de_Tarjetas!D861,Parámetros!$AD$12:$AE$17,2,FALSE),\"\")","v":""},{"$f":"IF(Datos_de_Tarjetas!G861=0,\"\",Datos_de_Tarjetas!G861)","v":""},{"$f":"IFERROR(VLOOKUP(Datos_de_Tarjetas!K861,Parámetros!$AJ$3:$AK$13,2,FALSE),\"\")","v":""},{"$f":"IFERROR(VLOOKUP(Datos_de_Tarjetas!J861,Parámetros!$AQ$3:$AR$57,2,FALSE),\"\")","v":""},null,{"$f":"IF(Datos_de_Tarjetas!L861=0,\"\",Datos_de_Tarjetas!L861)","v":""},{"$f":"IF(Datos_de_Tarjetas!M861=0,\"\",Datos_de_Tarjetas!M861)","v":""},{"$f":"IF(Datos_de_Tarjetas!N861=0,\"\",Datos_de_Tarjetas!N861)","v":""},{"$f":"IFERROR(VLOOKUP(Datos_de_Tarjetas!P861,Parámetros!$AM$3:$AN$90,2,FALSE),\"\")","v":""}]
[null,1069470000,{"$f":"IFERROR(VLOOKUP(Datos_de_Tarjetas!D862,Parámetros!$AD$12:$AE$17,2,FALSE),\"\")","v":""},{"$f":"IF(Datos_de_Tarjetas!G862=0,\"\",Datos_de_Tarjetas!G862)","v":""},{"$f":"IFERROR(VLOOKUP(Datos_de_Tarjetas!K862,Parámetros!$AJ$3:$AK$13,2,FALSE),\"\")","v":""},{"$f":"IFERROR(VLOOKUP(Datos_de_Tarjetas!J862,Parámetros!$AQ$3:$AR$57,2,FALSE),\"\")","v":""},null,{"$f":"IF(Datos_de_Tarjetas!L862=0,\"\",Datos_de_Tarjetas!L862)","v":""},{"$f":"IF(Datos_de_Tarjetas!M862=0,\"\",Datos_de_Tarjetas!M862)","v":""},{"$f":"IF(Datos_de_Tarjetas!N862=0,\"\",Datos_de_Tarjetas!N862)","v":""},{"$f":"IFERROR(VLOOKUP(Datos_de_Tarjetas!P862,Parámetros!$AM$3:$AN$90,2,FALSE),\"\")","v":""}]
[null,1069470000,{"$f":"IFERROR(VLOOKUP(Datos_de_Tarjetas!D863,Parámetros!$AD$12:$AE$17,2,FALSE),\"\")","v":""},{"$f":"IF(Datos_de_Tarjetas!G863=0,\"\",Datos_de_Tarjetas!G863)","v":""},{"$f":"IFERROR(VLOOKUP(Datos_de_Tarjetas!K863,Parámetros!$AJ$3:$AK$13,2,FALSE),\"\")","v":""},{"$f":"IFERROR(VLOOKUP(Datos_de_Tarjetas!J863,Parámetros!$AQ$3:$AR$57,2,FALSE),\"\")","v":""},null,{"$f":"IF(Datos_de_Tarjetas!L863=0,\"\",Datos_de_Tarjetas!L863)","v":""},{"$f":"IF(Datos_de_Tarjetas!M863=0,\"\",Datos_de_Tarjetas!M863)","v":""},{"$f":"IF(Datos_de_Tarjetas!N863=0,\"\",Datos_de_Tarjetas!N863)","v":""},{"$f":"IFERROR(VLOOKUP(Datos_de_Tarjetas!P863,Parámetros!$AM$3:$AN$90,2,FALSE),\"\")","v":""}]
[null,1069470000,{"$f":"IFERROR(VLOOKUP(Datos_de_Tarjetas!D864,Parámetros!$AD$12:$AE$17,2,FALSE),\"\")","v":""},{"$f":"IF(Datos_de_Tarjetas!G864=0,\"\",Datos_de_Tarjetas!G864)","v":""},{"$f":"IFERROR(VLOOKUP(Datos_de_Tarjetas!K864,Parámetros!$AJ$3:$AK$13,2,FALSE),\"\")","v":""},{"$f":"IFERROR(VLOOKUP(Datos_de_Tarjetas!J864,Parámetros!$AQ$3:$AR$57,2,FALSE),\"\")","v":""},null,{"$f":"IF(Datos_de_Tarjetas!L864=0,\"\",Datos_de_Tarjetas!L864)","v":""},{"$f":"IF(Datos_de_Tarjetas!M864=0,\"\",Datos_de_Tarjetas!M864)","v":""},{"$f":"IF(Datos_de_Tarjetas!N864=0,\"\",Datos_de_Tarjetas!N864)","v":""},{"$f":"IFERROR(VLOOKUP(Datos_de_Tarjetas!P864,Parámetros!$AM$3:$AN$90,2,FALSE),\"\")","v":""}]
[null,1069470000,{"$f":"IFERROR(VLOOKUP(Datos_de_Tarjetas!D865,Parámetros!$AD$12:$AE$17,2,FALSE),\"\")","v":""},{"$f":"IF(Datos_de_Tarjetas!G865=0,\"\",Datos_de_Tarjetas!G865)","v":""},{"$f":"IFERROR(VLOOKUP(Datos_de_Tarjetas!K865,Parámetros!$AJ$3:$AK$13,2,FALSE),\"\")","v":""},{"$f":"IFERROR(VLOOKUP(Datos_de_Tarjetas!J865,Parámetros!$AQ$3:$AR$57,2,FALSE),\"\")","v":""},null,{"$f":"IF(Datos_de_Tarjetas!L865=0,\"\",Datos_de_Tarjetas!L865)","v":""},{"$f":"IF(Datos_de_Tarjetas!M865=0,\"\",Datos_de_Tarjetas!M865)","v":""},{"$f":"IF(Datos_de_Tarjetas!N865=0,\"\",Datos_de_Tarjetas!N865)","v":""},{"$f":"IFERROR(VLOOKUP(Datos_de_Tarjetas!P865,Parámetros!$AM$3:$AN$90,2,FALSE),\"\")","v":""}]
[null,1069470000,{"$f":"IFERROR(VLOOKUP(Datos_de_Tarjetas!D866,Parámetros!$AD$12:$AE$17,2,FALSE),\"\")","v":""},{"$f":"IF(Datos_de_Tarjetas!G866=0,\"\",Datos_de_Tarjetas!G866)","v":""},{"$f":"IFERROR(VLOOKUP(Datos_de_Tarjetas!K866,Parámetros!$AJ$3:$AK$13,2,FALSE),\"\")","v":""},{"$f":"IFERROR(VLOOKUP(Datos_de_Tarjetas!J866,Parámetros!$AQ$3:$AR$57,2,FALSE),\"\")","v":""},null,{"$f":"IF(Datos_de_Tarjetas!L866=0,\"\",Datos_de_Tarjetas!L866)","v":""},{"$f":"IF(Datos_de_Tarjetas!M866=0,\"\",Datos_de_Tarjetas!M866)","v":""},{"$f":"IF(Datos_de_Tarjetas!N866=0,\"\",Datos_de_Tarjetas!N866)","v":""},{"$f":"IFERROR(VLOOKUP(Datos_de_Tarjetas!P866,Parámetros!$AM$3:$AN$90,2,FALSE),\"\")","v":""}]
[null,1069470000,{"$f":"IFERROR(VLOOKUP(Datos_de_Tarjetas!D867,Parámetros!$AD$12:$AE$17,2,FALSE),\"\")","v":""},{"$f":"IF(Datos_de_Tarjetas!G867=0,\"\",Datos_de_Tarjetas!G867)","v":""},{"$f":"IFERROR(VLOOKUP(Datos_de_Tarjetas!K867,Parámetros!$AJ$3:$AK$13,2,FALSE),\"\")","v":""},{"$f":"IFERROR(VLOOKUP(Datos_de_Tarjetas!J867,Parámetros!$AQ$3:$AR$57,2,FALSE),\"\")","v":""},null,{"$f":"IF(Datos_de_Tarjetas!L867=0,\"\",Datos_de_Tarjetas!L867)","v":""},{"$f":"IF(Datos_de_Tarjetas!M867=0,\"\",Datos_de_Tarjetas!M867)","v":""},{"$f":"IF(Datos_de_Tarjetas!N867=0,\"\",Datos_de_Tarjetas!N867)","v":""},{"$f":"IFERROR(VLOOKUP(Datos_de_Tarjetas!P867,Parámetros!$AM$3:$AN$90,2,FALSE),\"\")","v":""}]
[null,1069470000,{"$f":"IFERROR(VLOOKUP(Datos_de_Tarjetas!D868,Parámetros!$AD$12:$AE$17,2,FALSE),\"\")","v":""},{"$f":"IF(Datos_de_Tarjetas!G868=0,\"\",Datos_de_Tarjetas!G868)","v":""},{"$f":"IFERROR(VLOOKUP(Datos_de_Tarjetas!K868,Parámetros!$AJ$3:$AK$13,2,FALSE),\"\")","v":""},{"$f":"IFERROR(VLOOKUP(Datos_de_Tarjetas!J868,Parámetros!$AQ$3:$AR$57,2,FALSE),\"\")","v":""},null,{"$f":"IF(Datos_de_Tarjetas!L868=0,\"\",Datos_de_Tarjetas!L868)","v":""},{"$f":"IF(Datos_de_Tarjetas!M868=0,\"\",Datos_de_Tarjetas!M868)","v":""},{"$f":"IF(Datos_de_Tarjetas!N868=0,\"\",Datos_de_Tarjetas!N868)","v":""},{"$f":"IFERROR(VLOOKUP(Datos_de_Tarjetas!P868,Parámetros!$AM$3:$AN$90,2,FALSE),\"\")","v":""}]
[null,1069470000,{"$f":"IFERROR(VLOOKUP(Datos_de_Tarjetas!D869,Parámetros!$AD$12:$AE$17,2,FALSE),\"\")","v":""},{"$f":"IF(Datos_de_Tarjetas!G869=0,\"\",Datos_de_Tarjetas!G869)","v":""},{"$f":"IFERROR(VLOOKUP(Datos_de_Tarjetas!K869,Parámetros!$AJ$3:$AK$13,2,FALSE),\"\")","v":""},{"$f":"IFERROR(VLOOKUP(Datos_de_Tarjetas!J869,Parámetros!$AQ$3:$AR$57,2,FALSE),\"\")","v":""},null,{"$f":"IF(Datos_de_Tarjetas!L869=0,\"\",Datos_de_Tarjetas!L869)","v":""},{"$f":"IF(Datos_de_Tarjetas!M869=0,\"\",Datos_de_Tarjetas!M869)","v":""},{"$f":"IF(Datos_de_Tarjetas!N869=0,\"\",Datos_de_Tarjetas!N869)","v":""},{"$f":"IFERROR(VLOOKUP(Datos_de_Tarjetas!P869,Parámetros!$AM$3:$AN$90,2,FALSE),\"\")","v":""}]
[null,1069470000,{"$f":"IFERROR(VLOOKUP(Datos_de_Tarjetas!D870,Parámetros!$AD$12:$AE$17,2,FALSE),\"\")","v":""},{"$f":"IF(Datos_de_Tarjetas!G870=0,\"\",Datos_de_Tarjetas!G870)","v":""},{"$f":"IFERROR(VLOOKUP(Datos_de_Tarjetas!K870,Parámetros!$AJ$3:$AK$13,2,FALSE),\"\")","v":""},{"$f":"IFERROR(VLOOKUP(Datos_de_Tarjetas!J870,Parámetros!$AQ$3:$AR$57,2,FALSE),\"\")","v":""},null,{"$f":"IF(Datos_de_Tarjetas!L870=0,\"\",Datos_de_Tarjetas!L870)","v":""},{"$f":"IF(Datos_de_Tarjetas!M870=0,\"\",Datos_de_Tarjetas!M870)","v":""},{"$f":"IF(Datos_de_Tarjetas!N870=0,\"\",Datos_de_Tarjetas!N870)","v":""},{"$f":"IFERROR(VLOOKUP(Datos_de_Tarjetas!P870,Parámetros!$AM$3:$AN$90,2,FALSE),\"\")","v":""}]
[null,1069470000,{"$f":"IFERROR(VLOOKUP(Datos_de_Tarjetas!D871,Parámetros!$AD$12:$AE$17,2,FALSE),\"\")","v":""},{"$f":"IF(Datos_de_Tarjetas!G871=0,\"\",Datos_de_Tarjetas!G871)","v":""},{"$f":"IFERROR(VLOOKUP(Datos_de_Tarjetas!K871,Parámetros!$AJ$3:$AK$13,2,FALSE),\"\")","v":""},{"$f":"IFERROR(VLOOKUP(Datos_de_Tarjetas!J871,Parámetros!$AQ$3:$AR$57,2,FALSE),\"\")","v":""},null,{"$f":"IF(Datos_de_Tarjetas!L871=0,\"\",Datos_de_Tarjetas!L871)","v":""},{"$f":"IF(Datos_de_Tarjetas!M871=0,\"\",Datos_de_Tarjetas!M871)","v":""},{"$f":"IF(Datos_de_Tarjetas!N871=0,\"\",Datos_de_Tarjetas!N871)","v":""},{"$f":"IFERROR(VLOOKUP(Datos_de_Tarjetas!P871,Parámetros!$AM$3:$AN$90,2,FALSE),\"\")","v":""}]
[null,1069470000,{"$f":"IFERROR(VLOOKUP(Datos_de_Tarjetas!D872,Parámetros!$AD$12:$AE$17,2,FALSE),\"\")","v":""},{"$f":"IF(Datos_de_Tarjetas!G872=0,\"\",Datos_de_Tarjetas!G872)","v":""},{"$f":"IFERROR(VLOOKUP(Datos_de_Tarjetas!K872,Parámetros!$AJ$3:$AK$13,2,FALSE),\"\")","v":""},{"$f":"IFERROR(VLOOKUP(Datos_de_Tarjetas!J872,Parámetros!$AQ$3:$AR$57,2,FALSE),\"\")","v":""},null,{"$f":"IF(Datos_de_Tarjetas!L872=0,\"\",Datos_de_Tarjetas!L872)","v":""},{"$f":"IF(Datos_de_Tarjetas!M872=0,\"\",Datos_de_Tarjetas!M872)","v":""},{"$f":"IF(Datos_de_Tarjetas!N872=0,\"\",Datos_de_Tarjetas!N872)","v":""},{"$f":"IFERROR(VLOOKUP(Datos_de_Tarjetas!P872,Parámetros!$AM$3:$AN$90,2,FALSE),\"\")","v":""}]
[null,1069470000,{"$f":"IFERROR(VLOOKUP(Datos_de_Tarjetas!D873,Parámetros!$AD$12:$AE$17,2,FALSE),\"\")","v":""},{"$f":"IF(Datos_de_Tarjetas!G873=0,\"\",Datos_de_Tarjetas!G873)","v":""},{"$f":"IFERROR(VLOOKUP(Datos_de_Tarjetas!K873,Parámetros!$AJ$3:$AK$13,2,FALSE),\"\")","v":""},{"$f":"IFERROR(VLOOKUP(Datos_de_Tarjetas!J873,Parámetros!$AQ$3:$AR$57,2,FALSE),\"\")","v":""},null,{"$f":"IF(Datos_de_Tarjetas!L873=0,\"\",Datos_de_Tarjetas!L873)","v":""},{"$f":"IF(Datos_de_Tarjetas!M873=0,\"\",Datos_de_Tarjetas!M873)","v":""},{"$f":"IF(Datos_de_Tarjetas!N873=0,\"\",Datos_de_Tarjetas!N873)","v":""},{"$f":"IFERROR(VLOOKUP(Datos_de_Tarjetas!P873,Parámetros!$AM$3:$AN$90,2,FALSE),\"\")","v":""}]
[null,1069470000,{"$f":"IFERROR(VLOOKUP(Datos_de_Tarjetas!D874,Parámetros!$AD$12:$AE$17,2,FALSE),\"\")","v":""},{"$f":"IF(Datos_de_Tarjetas!G874=0,\"\",Datos_de_Tarjetas!G874)","v":""},{"$f":"IFERROR(VLOOKUP(Datos_de_Tarjetas!K874,Parámetros!$AJ$3:$AK$13,2,FALSE),\"\")","v":""},{"$f":"IFERROR(VLOOKUP(Datos_de_Tarjetas!J874,Parámetros!$AQ$3:$AR$57,2,FALSE),\"\")","v":""},null,{"$f":"IF(Datos_de_Tarjetas!L874=0,\"\",Datos_de_Tarjetas!L874)","v":""},{"$f":"IF(Datos_de_Tarjetas!M874=0,\"\",Datos_de_Tarjetas!M874)","v":""},{"$f":"IF(Datos_de_Tarjetas!N874=0,\"\",Datos_de_Tarjetas!N874)","v":""},{"$f":"IFERROR(VLOOKUP(Datos_de_Tarjetas!P874,Parámetros!$AM$3:$AN$90,2,FALSE),\"\")","v":""}]
[null,1069470000,{"$f":"IFERROR(VLOOKUP(Datos_de_Tarjetas!D875,Parámetros!$AD$12:$AE$17,2,FALSE),\"\")","v":""},{"$f":"IF(Datos_de_Tarjetas!G875=0,\"\",Datos_de_Tarjetas!G875)","v":""},{"$f":"IFERROR(VLOOKUP(Datos_de_Tarjetas!K875,Parámetros!$AJ$3:$AK$13,2,FALSE),\"\")","v":""},{"$f":"IFERROR(VLOOKUP(Datos_de_Tarjetas!J875,Parámetros!$AQ$3:$AR$57,2,FALSE),\"\")","v":""},null,{"$f":"IF(Datos_de_Tarjetas!L875=0,\"\",Datos_de_Tarjetas!L875)","v":""},{"$f":"IF(Datos_de_Tarjetas!M875=0,\"\",Datos_de_Tarjetas!M875)","v":""},{"$f":"IF(Datos_de_Tarjetas!N875=0,\"\",Datos_de_Tarjetas!N875)","v":""},{"$f":"IFERROR(VLOOKUP(Datos_de_Tarjetas!P875,Parámetros!$AM$3:$AN$90,2,FALSE),\"\")","v":""}]
[null,1069470000,{"$f":"IFERROR(VLOOKUP(Datos_de_Tarjetas!D876,Parámetros!$AD$12:$AE$17,2,FALSE),\"\")","v":""},{"$f":"IF(Datos_de_Tarjetas!G876=0,\"\",Datos_de_Tarjetas!G876)","v":""},{"$f":"IFERROR(VLOOKUP(Datos_de_Tarjetas!K876,Parámetros!$AJ$3:$AK$13,2,FALSE),\"\")","v":""},{"$f":"IFERROR(VLOOKUP(Datos_de_Tarjetas!J876,Parámetros!$AQ$3:$AR$57,2,FALSE),\"\")","v":""},null,{"$f":"IF(Datos_de_Tarjetas!L876=0,\"\",Datos_de_Tarjetas!L876)","v":""},{"$f":"IF(Datos_de_Tarjetas!M876=0,\"\",Datos_de_Tarjetas!M876)","v":""},{"$f":"IF(Datos_de_Tarjetas!N876=0,\"\",Datos_de_Tarjetas!N876)","v":""},{"$f":"IFERROR(VLOOKUP(Datos_de_Tarjetas!P876,Parámetros!$AM$3:$AN$90,2,FALSE),\"\")","v":""}]
[null,1069470000,{"$f":"IFERROR(VLOOKUP(Datos_de_Tarjetas!D877,Parámetros!$AD$12:$AE$17,2,FALSE),\"\")","v":""},{"$f":"IF(Datos_de_Tarjetas!G877=0,\"\",Datos_de_Tarjetas!G877)","v":""},{"$f":"IFERROR(VLOOKUP(Datos_de_Tarjetas!K877,Parámetros!$AJ$3:$AK$13,2,FALSE),\"\")","v":""},{"$f":"IFERROR(VLOOKUP(Datos_de_Tarjetas!J877,Parámetros!$AQ$3:$AR$57,2,FALSE),\"\")","v":""},null,{"$f":"IF(Datos_de_Tarjetas!L877=0,\"\",Datos_de_Tarjetas!L877)","v":""},{"$f":"IF(Datos_de_Tarjetas!M877=0,\"\",Datos_de_Tarjetas!M877)","v":""},{"$f":"IF(Datos_de_Tarjetas!N877=0,\"\",Datos_de_Tarjetas!N877)","v":""},{"$f":"IFERROR(VLOOKUP(Datos_de_Tarjetas!P877,Parámetros!$AM$3:$AN$90,2,FALSE),\"\")","v":""}]
[null,1069470000,{"$f":"IFERROR(VLOOKUP(Datos_de_Tarjetas!D878,Parámetros!$AD$12:$AE$17,2,FALSE),\"\")","v":""},{"$f":"IF(Datos_de_Tarjetas!G878=0,\"\",Datos_de_Tarjetas!G878)","v":""},{"$f":"IFERROR(VLOOKUP(Datos_de_Tarjetas!K878,Parámetros!$AJ$3:$AK$13,2,FALSE),\"\")","v":""},{"$f":"IFERROR(VLOOKUP(Datos_de_Tarjetas!J878,Parámetros!$AQ$3:$AR$57,2,FALSE),\"\")","v":""},null,{"$f":"IF(Datos_de_Tarjetas!L878=0,\"\",Datos_de_Tarjetas!L878)","v":""},{"$f":"IF(Datos_de_Tarjetas!M878=0,\"\",Datos_de_Tarjetas!M878)","v":""},{"$f":"IF(Datos_de_Tarjetas!N878=0,\"\",Datos_de_Tarjetas!N878)","v":""},{"$f":"IFERROR(VLOOKUP(Datos_de_Tarjetas!P878,Parámetros!$AM$3:$AN$90,2,FALSE),\"\")","v":""}]
[null,1069470000,{"$f":"IFERROR(VLOOKUP(Datos_de_Tarjetas!D879,Parámetros!$AD$12:$AE$17,2,FALSE),\"\")","v":""},{"$f":"IF(Datos_de_Tarjetas!G879=0,\"\",Datos_de_Tarjetas!G879)","v":""},{"$f":"IFERROR(VLOOKUP(Datos_de_Tarjetas!K879,Parámetros!$AJ$3:$AK$13,2,FALSE),\"\")","v":""},{"$f":"IFERROR(VLOOKUP(Datos_de_Tarjetas!J879,Parámetros!$AQ$3:$AR$57,2,FALSE),\"\")","v":""},null,{"$f":"IF(Datos_de_Tarjetas!L879=0,\"\",Datos_de_Tarjetas!L879)","v":""},{"$f":"IF(Datos_de_Tarjetas!M879=0,\"\",Datos_de_Tarjetas!M879)","v":""},{"$f":"IF(Datos_de_Tarjetas!N879=0,\"\",Datos_de_Tarjetas!N879)","v":""},{"$f":"IFERROR(VLOOKUP(Datos_de_Tarjetas!P879,Parámetros!$AM$3:$AN$90,2,FALSE),\"\")","v":""}]
[null,1069470000,{"$f":"IFERROR(VLOOKUP(Datos_de_Tarjetas!D880,Parámetros!$AD$12:$AE$17,2,FALSE),\"\")","v":""},{"$f":"IF(Datos_de_Tarjetas!G880=0,\"\",Datos_de_Tarjetas!G880)","v":""},{"$f":"IFERROR(VLOOKUP(Datos_de_Tarjetas!K880,Parámetros!$AJ$3:$AK$13,2,FALSE),\"\")","v":""},{"$f":"IFERROR(VLOOKUP(Datos_de_Tarjetas!J880,Parámetros!$AQ$3:$AR$57,2,FALSE),\"\")","v":""},null,{"$f":"IF(Datos_de_Tarjetas!L880=0,\"\",Datos_de_Tarjetas!L880)","v":""},{"$f":"IF(Datos_de_Tarjetas!M880=0,\"\",Datos_de_Tarjetas!M880)","v":""},{"$f":"IF(Datos_de_Tarjetas!N880=0,\"\",Datos_de_Tarjetas!N880)","v":""},{"$f":"IFERROR(VLOOKUP(Datos_de_Tarjetas!P880,Parámetros!$AM$3:$AN$90,2,FALSE),\"\")","v":""}]
[null,1069470000,{"$f":"IFERROR(VLOOKUP(Datos_de_Tarjetas!D881,Parámetros!$AD$12:$AE$17,2,FALSE),\"\")","v":""},{"$f":"IF(Datos_de_Tarjetas!G881=0,\"\",Datos_de_Tarjetas!G881)","v":""},{"$f":"IFERROR(VLOOKUP(Datos_de_Tarjetas!K881,Parámetros!$AJ$3:$AK$13,2,FALSE),\"\")","v":""},{"$f":"IFERROR(VLOOKUP(Datos_de_Tarjetas!J881,Parámetros!$AQ$3:$AR$57,2,FALSE),\"\")","v":""},null,{"$f":"IF(Datos_de_Tarjetas!L881=0,\"\",Datos_de_Tarjetas!L881)","v":""},{"$f":"IF(Datos_de_Tarjetas!M881=0,\"\",Datos_de_Tarjetas!M881)","v":""},{"$f":"IF(Datos_de_Tarjetas!N881=0,\"\",Datos_de_Tarjetas!N881)","v":""},{"$f":"IFERROR(VLOOKUP(Datos_de_Tarjetas!P881,Parámetros!$AM$3:$AN$90,2,FALSE),\"\")","v":""}]
[null,1069470000,{"$f":"IFERROR(VLOOKUP(Datos_de_Tarjetas!D882,Parámetros!$AD$12:$AE$17,2,FALSE),\"\")","v":""},{"$f":"IF(Datos_de_Tarjetas!G882=0,\"\",Datos_de_Tarjetas!G882)","v":""},{"$f":"IFERROR(VLOOKUP(Datos_de_Tarjetas!K882,Parámetros!$AJ$3:$AK$13,2,FALSE),\"\")","v":""},{"$f":"IFERROR(VLOOKUP(Datos_de_Tarjetas!J882,Parámetros!$AQ$3:$AR$57,2,FALSE),\"\")","v":""},null,{"$f":"IF(Datos_de_Tarjetas!L882=0,\"\",Datos_de_Tarjetas!L882)","v":""},{"$f":"IF(Datos_de_Tarjetas!M882=0,\"\",Datos_de_Tarjetas!M882)","v":""},{"$f":"IF(Datos_de_Tarjetas!N882=0,\"\",Datos_de_Tarjetas!N882)","v":""},{"$f":"IFERROR(VLOOKUP(Datos_de_Tarjetas!P882,Parámetros!$AM$3:$AN$90,2,FALSE),\"\")","v":""}]
[null,1069470000,{"$f":"IFERROR(VLOOKUP(Datos_de_Tarjetas!D883,Parámetros!$AD$12:$AE$17,2,FALSE),\"\")","v":""},{"$f":"IF(Datos_de_Tarjetas!G883=0,\"\",Datos_de_Tarjetas!G883)","v":""},{"$f":"IFERROR(VLOOKUP(Datos_de_Tarjetas!K883,Parámetros!$AJ$3:$AK$13,2,FALSE),\"\")","v":""},{"$f":"IFERROR(VLOOKUP(Datos_de_Tarjetas!J883,Parámetros!$AQ$3:$AR$57,2,FALSE),\"\")","v":""},null,{"$f":"IF(Datos_de_Tarjetas!L883=0,\"\",Datos_de_Tarjetas!L883)","v":""},{"$f":"IF(Datos_de_Tarjetas!M883=0,\"\",Datos_de_Tarjetas!M883)","v":""},{"$f":"IF(Datos_de_Tarjetas!N883=0,\"\",Datos_de_Tarjetas!N883)","v":""},{"$f":"IFERROR(VLOOKUP(Datos_de_Tarjetas!P883,Parámetros!$AM$3:$AN$90,2,FALSE),\"\")","v":""}]
[null,1069470000,{"$f":"IFERROR(VLOOKUP(Datos_de_Tarjetas!D884,Parámetros!$AD$12:$AE$17,2,FALSE),\"\")","v":""},{"$f":"IF(Datos_de_Tarjetas!G884=0,\"\",Datos_de_Tarjetas!G884)","v":""},{"$f":"IFERROR(VLOOKUP(Datos_de_Tarjetas!K884,Parámetros!$AJ$3:$AK$13,2,FALSE),\"\")","v":""},{"$f":"IFERROR(VLOOKUP(Datos_de_Tarjetas!J884,Parámetros!$AQ$3:$AR$57,2,FALSE),\"\")","v":""},null,{"$f":"IF(Datos_de_Tarjetas!L884=0,\"\",Datos_de_Tarjetas!L884)","v":""},{"$f":"IF(Datos_de_Tarjetas!M884=0,\"\",Datos_de_Tarjetas!M884)","v":""},{"$f":"IF(Datos_de_Tarjetas!N884=0,\"\",Datos_de_Tarjetas!N884)","v":""},{"$f":"IFERROR(VLOOKUP(Datos_de_Tarjetas!P884,Parámetros!$AM$3:$AN$90,2,FALSE),\"\")","v":""}]
[null,1069470000,{"$f":"IFERROR(VLOOKUP(Datos_de_Tarjetas!D885,Parámetros!$AD$12:$AE$17,2,FALSE),\"\")","v":""},{"$f":"IF(Datos_de_Tarjetas!G885=0,\"\",Datos_de_Tarjetas!G885)","v":""},{"$f":"IFERROR(VLOOKUP(Datos_de_Tarjetas!K885,Parámetros!$AJ$3:$AK$13,2,FALSE),\"\")","v":""},{"$f":"IFERROR(VLOOKUP(Datos_de_Tarjetas!J885,Parámetros!$AQ$3:$AR$57,2,FALSE),\"\")","v":""},null,{"$f":"IF(Datos_de_Tarjetas!L885=0,\"\",Datos_de_Tarjetas!L885)","v":""},{"$f":"IF(Datos_de_Tarjetas!M885=0,\"\",Datos_de_Tarjetas!M885)","v":""},{"$f":"IF(Datos_de_Tarjetas!N885=0,\"\",Datos_de_Tarjetas!N885)","v":""},{"$f":"IFERROR(VLOOKUP(Datos_de_Tarjetas!P885,Parámetros!$AM$3:$AN$90,2,FALSE),\"\")","v":""}]
[null,1069470000,{"$f":"IFERROR(VLOOKUP(Datos_de_Tarjetas!D886,Parámetros!$AD$12:$AE$17,2,FALSE),\"\")","v":""},{"$f":"IF(Datos_de_Tarjetas!G886=0,\"\",Datos_de_Tarjetas!G886)","v":""},{"$f":"IFERROR(VLOOKUP(Datos_de_Tarjetas!K886,Parámetros!$AJ$3:$AK$13,2,FALSE),\"\")","v":""},{"$f":"IFERROR(VLOOKUP(Datos_de_Tarjetas!J886,Parámetros!$AQ$3:$AR$57,2,FALSE),\"\")","v":""},null,{"$f":"IF(Datos_de_Tarjetas!L886=0,\"\",Datos_de_Tarjetas!L886)","v":""},{"$f":"IF(Datos_de_Tarjetas!M886=0,\"\",Datos_de_Tarjetas!M886)","v":""},{"$f":"IF(Datos_de_Tarjetas!N886=0,\"\",Datos_de_Tarjetas!N886)","v":""},{"$f":"IFERROR(VLOOKUP(Datos_de_Tarjetas!P886,Parámetros!$AM$3:$AN$90,2,FALSE),\"\")","v":""}]
[null,1069470000,{"$f":"IFERROR(VLOOKUP(Datos_de_Tarjetas!D887,Parámetros!$AD$12:$AE$17,2,FALSE),\"\")","v":""},{"$f":"IF(Datos_de_Tarjetas!G887=0,\"\",Datos_de_Tarjetas!G887)","v":""},{"$f":"IFERROR(VLOOKUP(Datos_de_Tarjetas!K887,Parámetros!$AJ$3:$AK$13,2,FALSE),\"\")","v":""},{"$f":"IFERROR(VLOOKUP(Datos_de_Tarjetas!J887,Parámetros!$AQ$3:$AR$57,2,FALSE),\"\")","v":""},null,{"$f":"IF(Datos_de_Tarjetas!L887=0,\"\",Datos_de_Tarjetas!L887)","v":""},{"$f":"IF(Datos_de_Tarjetas!M887=0,\"\",Datos_de_Tarjetas!M887)","v":""},{"$f":"IF(Datos_de_Tarjetas!N887=0,\"\",Datos_de_Tarjetas!N887)","v":""},{"$f":"IFERROR(VLOOKUP(Datos_de_Tarjetas!P887,Parámetros!$AM$3:$AN$90,2,FALSE),\"\")","v":""}]
[null,1069470000,{"$f":"IFERROR(VLOOKUP(Datos_de_Tarjetas!D888,Parámetros!$AD$12:$AE$17,2,FALSE),\"\")","v":""},{"$f":"IF(Datos_de_Tarjetas!G888=0,\"\",Datos_de_Tarjetas!G888)","v":""},{"$f":"IFERROR(VLOOKUP(Datos_de_Tarjetas!K888,Parámetros!$AJ$3:$AK$13,2,FALSE),\"\")","v":""},{"$f":"IFERROR(VLOOKUP(Datos_de_Tarjetas!J888,Parámetros!$AQ$3:$AR$57,2,FALSE),\"\")","v":""},null,{"$f":"IF(Datos_de_Tarjetas!L888=0,\"\",Datos_de_Tarjetas!L888)","v":""},{"$f":"IF(Datos_de_Tarjetas!M888=0,\"\",Datos_de_Tarjetas!M888)","v":""},{"$f":"IF(Datos_de_Tarjetas!N888=0,\"\",Datos_de_Tarjetas!N888)","v":""},{"$f":"IFERROR(VLOOKUP(Datos_de_Tarjetas!P888,Parámetros!$AM$3:$AN$90,2,FALSE),\"\")","v":""}]
[null,1069470000,{"$f":"IFERROR(VLOOKUP(Datos_de_Tarjetas!D889,Parámetros!$AD$12:$AE$17,2,FALSE),\"\")","v":""},{"$f":"IF(Datos_de_Tarjetas!G889=0,\"\",Datos_de_Tarjetas!G889)","v":""},{"$f":"IFERROR(VLOOKUP(Datos_de_Tarjetas!K889,Parámetros!$AJ$3:$AK$13,2,FALSE),\"\")","v":""},{"$f":"IFERROR(VLOOKUP(Datos_de_Tarjetas!J889,Parámetros!$AQ$3:$AR$57,2,FALSE),\"\")","v":""},null,{"$f":"IF(Datos_de_Tarjetas!L889=0,\"\",Datos_de_Tarjetas!L889)","v":""},{"$f":"IF(Datos_de_Tarjetas!M889=0,\"\",Datos_de_Tarjetas!M889)","v":""},{"$f":"IF(Datos_de_Tarjetas!N889=0,\"\",Datos_de_Tarjetas!N889)","v":""},{"$f":"IFERROR(VLOOKUP(Datos_de_Tarjetas!P889,Parámetros!$AM$3:$AN$90,2,FALSE),\"\")","v":""}]
[null,1069470000,{"$f":"IFERROR(VLOOKUP(Datos_de_Tarjetas!D890,Parámetros!$AD$12:$AE$17,2,FALSE),\"\")","v":""},{"$f":"IF(Datos_de_Tarjetas!G890=0,\"\",Datos_de_Tarjetas!G890)","v":""},{"$f":"IFERROR(VLOOKUP(Datos_de_Tarjetas!K890,Parámetros!$AJ$3:$AK$13,2,FALSE),\"\")","v":""},{"$f":"IFERROR(VLOOKUP(Datos_de_Tarjetas!J890,Parámetros!$AQ$3:$AR$57,2,FALSE),\"\")","v":""},null,{"$f":"IF(Datos_de_Tarjetas!L890=0,\"\",Datos_de_Tarjetas!L890)","v":""},{"$f":"IF(Datos_de_Tarjetas!M890=0,\"\",Datos_de_Tarjetas!M890)","v":""},{"$f":"IF(Datos_de_Tarjetas!N890=0,\"\",Datos_de_Tarjetas!N890)","v":""},{"$f":"IFERROR(VLOOKUP(Datos_de_Tarjetas!P890,Parámetros!$AM$3:$AN$90,2,FALSE),\"\")","v":""}]
[null,1069470000,{"$f":"IFERROR(VLOOKUP(Datos_de_Tarjetas!D891,Parámetros!$AD$12:$AE$17,2,FALSE),\"\")","v":""},{"$f":"IF(Datos_de_Tarjetas!G891=0,\"\",Datos_de_Tarjetas!G891)","v":""},{"$f":"IFERROR(VLOOKUP(Datos_de_Tarjetas!K891,Parámetros!$AJ$3:$AK$13,2,FALSE),\"\")","v":""},{"$f":"IFERROR(VLOOKUP(Datos_de_Tarjetas!J891,Parámetros!$AQ$3:$AR$57,2,FALSE),\"\")","v":""},null,{"$f":"IF(Datos_de_Tarjetas!L891=0,\"\",Datos_de_Tarjetas!L891)","v":""},{"$f":"IF(Datos_de_Tarjetas!M891=0,\"\",Datos_de_Tarjetas!M891)","v":""},{"$f":"IF(Datos_de_Tarjetas!N891=0,\"\",Datos_de_Tarjetas!N891)","v":""},{"$f":"IFERROR(VLOOKUP(Datos_de_Tarjetas!P891,Parámetros!$AM$3:$AN$90,2,FALSE),\"\")","v":""}]
[null,1069470000,{"$f":"IFERROR(VLOOKUP(Datos_de_Tarjetas!D892,Parámetros!$AD$12:$AE$17,2,FALSE),\"\")","v":""},{"$f":"IF(Datos_de_Tarjetas!G892=0,\"\",Datos_de_Tarjetas!G892)","v":""},{"$f":"IFERROR(VLOOKUP(Datos_de_Tarjetas!K892,Parámetros!$AJ$3:$AK$13,2,FALSE),\"\")","v":""},{"$f":"IFERROR(VLOOKUP(Datos_de_Tarjetas!J892,Parámetros!$AQ$3:$AR$57,2,FALSE),\"\")","v":""},null,{"$f":"IF(Datos_de_Tarjetas!L892=0,\"\",Datos_de_Tarjetas!L892)","v":""},{"$f":"IF(Datos_de_Tarjetas!M892=0,\"\",Datos_de_Tarjetas!M892)","v":""},{"$f":"IF(Datos_de_Tarjetas!N892=0,\"\",Datos_de_Tarjetas!N892)","v":""},{"$f":"IFERROR(VLOOKUP(Datos_de_Tarjetas!P892,Parámetros!$AM$3:$AN$90,2,FALSE),\"\")","v":""}]
[null,1069470000,{"$f":"IFERROR(VLOOKUP(Datos_de_Tarjetas!D893,Parámetros!$AD$12:$AE$17,2,FALSE),\"\")","v":""},{"$f":"IF(Datos_de_Tarjetas!G893=0,\"\",Datos_de_Tarjetas!G893)","v":""},{"$f":"IFERROR(VLOOKUP(Datos_de_Tarjetas!K893,Parámetros!$AJ$3:$AK$13,2,FALSE),\"\")","v":""},{"$f":"IFERROR(VLOOKUP(Datos_de_Tarjetas!J893,Parámetros!$AQ$3:$AR$57,2,FALSE),\"\")","v":""},null,{"$f":"IF(Datos_de_Tarjetas!L893=0,\"\",Datos_de_Tarjetas!L893)","v":""},{"$f":"IF(Datos_de_Tarjetas!M893=0,\"\",Datos_de_Tarjetas!M893)","v":""},{"$f":"IF(Datos_de_Tarjetas!N893=0,\"\",Datos_de_Tarjetas!N893)","v":""},{"$f":"IFERROR(VLOOKUP(Datos_de_Tarjetas!P893,Parámetros!$AM$3:$AN$90,2,FALSE),\"\")","v":""}]
[null,1069470000,{"$f":"IFERROR(VLOOKUP(Datos_de_Tarjetas!D894,Parámetros!$AD$12:$AE$17,2,FALSE),\"\")","v":""},{"$f":"IF(Datos_de_Tarjetas!G894=0,\"\",Datos_de_Tarjetas!G894)","v":""},{"$f":"IFERROR(VLOOKUP(Datos_de_Tarjetas!K894,Parámetros!$AJ$3:$AK$13,2,FALSE),\"\")","v":""},{"$f":"IFERROR(VLOOKUP(Datos_de_Tarjetas!J894,Parámetros!$AQ$3:$AR$57,2,FALSE),\"\")","v":""},null,{"$f":"IF(Datos_de_Tarjetas!L894=0,\"\",Datos_de_Tarjetas!L894)","v":""},{"$f":"IF(Datos_de_Tarjetas!M894=0,\"\",Datos_de_Tarjetas!M894)","v":""},{"$f":"IF(Datos_de_Tarjetas!N894=0,\"\",Datos_de_Tarjetas!N894)","v":""},{"$f":"IFERROR(VLOOKUP(Datos_de_Tarjetas!P894,Parámetros!$AM$3:$AN$90,2,FALSE),\"\")","v":""}]
[null,1069470000,{"$f":"IFERROR(VLOOKUP(Datos_de_Tarjetas!D895,Parámetros!$AD$12:$AE$17,2,FALSE),\"\")","v":""},{"$f":"IF(Datos_de_Tarjetas!G895=0,\"\",Datos_de_Tarjetas!G895)","v":""},{"$f":"IFERROR(VLOOKUP(Datos_de_Tarjetas!K895,Parámetros!$AJ$3:$AK$13,2,FALSE),\"\")","v":""},{"$f":"IFERROR(VLOOKUP(Datos_de_Tarjetas!J895,Parámetros!$AQ$3:$AR$57,2,FALSE),\"\")","v":""},null,{"$f":"IF(Datos_de_Tarjetas!L895=0,\"\",Datos_de_Tarjetas!L895)","v":""},{"$f":"IF(Datos_de_Tarjetas!M895=0,\"\",Datos_de_Tarjetas!M895)","v":""},{"$f":"IF(Datos_de_Tarjetas!N895=0,\"\",Datos_de_Tarjetas!N895)","v":""},{"$f":"IFERROR(VLOOKUP(Datos_de_Tarjetas!P895,Parámetros!$AM$3:$AN$90,2,FALSE),\"\")","v":""}]
[null,1069470000,{"$f":"IFERROR(VLOOKUP(Datos_de_Tarjetas!D896,Parámetros!$AD$12:$AE$17,2,FALSE),\"\")","v":""},{"$f":"IF(Datos_de_Tarjetas!G896=0,\"\",Datos_de_Tarjetas!G896)","v":""},{"$f":"IFERROR(VLOOKUP(Datos_de_Tarjetas!K896,Parámetros!$AJ$3:$AK$13,2,FALSE),\"\")","v":""},{"$f":"IFERROR(VLOOKUP(Datos_de_Tarjetas!J896,Parámetros!$AQ$3:$AR$57,2,FALSE),\"\")","v":""},null,{"$f":"IF(Datos_de_Tarjetas!L896=0,\"\",Datos_de_Tarjetas!L896)","v":""},{"$f":"IF(Datos_de_Tarjetas!M896=0,\"\",Datos_de_Tarjetas!M896)","v":""},{"$f":"IF(Datos_de_Tarjetas!N896=0,\"\",Datos_de_Tarjetas!N896)","v":""},{"$f":"IFERROR(VLOOKUP(Datos_de_Tarjetas!P896,Parámetros!$AM$3:$AN$90,2,FALSE),\"\")","v":""}]
[null,1069470000,{"$f":"IFERROR(VLOOKUP(Datos_de_Tarjetas!D897,Parámetros!$AD$12:$AE$17,2,FALSE),\"\")","v":""},{"$f":"IF(Datos_de_Tarjetas!G897=0,\"\",Datos_de_Tarjetas!G897)","v":""},{"$f":"IFERROR(VLOOKUP(Datos_de_Tarjetas!K897,Parámetros!$AJ$3:$AK$13,2,FALSE),\"\")","v":""},{"$f":"IFERROR(VLOOKUP(Datos_de_Tarjetas!J897,Parámetros!$AQ$3:$AR$57,2,FALSE),\"\")","v":""},null,{"$f":"IF(Datos_de_Tarjetas!L897=0,\"\",Datos_de_Tarjetas!L897)","v":""},{"$f":"IF(Datos_de_Tarjetas!M897=0,\"\",Datos_de_Tarjetas!M897)","v":""},{"$f":"IF(Datos_de_Tarjetas!N897=0,\"\",Datos_de_Tarjetas!N897)","v":""},{"$f":"IFERROR(VLOOKUP(Datos_de_Tarjetas!P897,Parámetros!$AM$3:$AN$90,2,FALSE),\"\")","v":""}]
[null,1069470000,{"$f":"IFERROR(VLOOKUP(Datos_de_Tarjetas!D898,Parámetros!$AD$12:$AE$17,2,FALSE),\"\")","v":""},{"$f":"IF(Datos_de_Tarjetas!G898=0,\"\",Datos_de_Tarjetas!G898)","v":""},{"$f":"IFERROR(VLOOKUP(Datos_de_Tarjetas!K898,Parámetros!$AJ$3:$AK$13,2,FALSE),\"\")","v":""},{"$f":"IFERROR(VLOOKUP(Datos_de_Tarjetas!J898,Parámetros!$AQ$3:$AR$57,2,FALSE),\"\")","v":""},null,{"$f":"IF(Datos_de_Tarjetas!L898=0,\"\",Datos_de_Tarjetas!L898)","v":""},{"$f":"IF(Datos_de_Tarjetas!M898=0,\"\",Datos_de_Tarjetas!M898)","v":""},{"$f":"IF(Datos_de_Tarjetas!N898=0,\"\",Datos_de_Tarjetas!N898)","v":""},{"$f":"IFERROR(VLOOKUP(Datos_de_Tarjetas!P898,Parámetros!$AM$3:$AN$90,2,FALSE),\"\")","v":""}]
[null,1069470000,{"$f":"IFERROR(VLOOKUP(Datos_de_Tarjetas!D899,Parámetros!$AD$12:$AE$17,2,FALSE),\"\")","v":""},{"$f":"IF(Datos_de_Tarjetas!G899=0,\"\",Datos_de_Tarjetas!G899)","v":""},{"$f":"IFERROR(VLOOKUP(Datos_de_Tarjetas!K899,Parámetros!$AJ$3:$AK$13,2,FALSE),\"\")","v":""},{"$f":"IFERROR(VLOOKUP(Datos_de_Tarjetas!J899,Parámetros!$AQ$3:$AR$57,2,FALSE),\"\")","v":""},null,{"$f":"IF(Datos_de_Tarjetas!L899=0,\"\",Datos_de_Tarjetas!L899)","v":""},{"$f":"IF(Datos_de_Tarjetas!M899=0,\"\",Datos_de_Tarjetas!M899)","v":""},{"$f":"IF(Datos_de_Tarjetas!N899=0,\"\",Datos_de_Tarjetas!N899)","v":""},{"$f":"IFERROR(VLOOKUP(Datos_de_Tarjetas!P899,Parámetros!$AM$3:$AN$90,2,FALSE),\"\")","v":""}]
[null,1069470000,{"$f":"IFERROR(VLOOKUP(Datos_de_Tarjetas!D900,Parámetros!$AD$12:$AE$17,2,FALSE),\"\")","v":""},{"$f":"IF(Datos_de_Tarjetas!G900=0,\"\",Datos_de_Tarjetas!G900)","v":""},{"$f":"IFERROR(VLOOKUP(Datos_de_Tarjetas!K900,Parámetros!$AJ$3:$AK$13,2,FALSE),\"\")","v":""},{"$f":"IFERROR(VLOOKUP(Datos_de_Tarjetas!J900,Parámetros!$AQ$3:$AR$57,2,FALSE),\"\")","v":""},null,{"$f":"IF(Datos_de_Tarjetas!L900=0,\"\",Datos_de_Tarjetas!L900)","v":""},{"$f":"IF(Datos_de_Tarjetas!M900=0,\"\",Datos_de_Tarjetas!M900)","v":""},{"$f":"IF(Datos_de_Tarjetas!N900=0,\"\",Datos_de_Tarjetas!N900)","v":""},{"$f":"IFERROR(VLOOKUP(Datos_de_Tarjetas!P900,Parámetros!$AM$3:$AN$90,2,FALSE),\"\")","v":""}]
[null,1069470000,{"$f":"IFERROR(VLOOKUP(Datos_de_Tarjetas!D901,Parámetros!$AD$12:$AE$17,2,FALSE),\"\")","v":""},{"$f":"IF(Datos_de_Tarjetas!G901=0,\"\",Datos_de_Tarjetas!G901)","v":""},{"$f":"IFERROR(VLOOKUP(Datos_de_Tarjetas!K901,Parámetros!$AJ$3:$AK$13,2,FALSE),\"\")","v":""},{"$f":"IFERROR(VLOOKUP(Datos_de_Tarjetas!J901,Parámetros!$AQ$3:$AR$57,2,FALSE),\"\")","v":""},null,{"$f":"IF(Datos_de_Tarjetas!L901=0,\"\",Datos_de_Tarjetas!L901)","v":""},{"$f":"IF(Datos_de_Tarjetas!M901=0,\"\",Datos_de_Tarjetas!M901)","v":""},{"$f":"IF(Datos_de_Tarjetas!N901=0,\"\",Datos_de_Tarjetas!N901)","v":""},{"$f":"IFERROR(VLOOKUP(Datos_de_Tarjetas!P901,Parámetros!$AM$3:$AN$90,2,FALSE),\"\")","v":""}]
[null,1069470000,{"$f":"IFERROR(VLOOKUP(Datos_de_Tarjetas!D902,Parámetros!$AD$12:$AE$17,2,FALSE),\"\")","v":""},{"$f":"IF(Datos_de_Tarjetas!G902=0,\"\",Datos_de_Tarjetas!G902)","v":""},{"$f":"IFERROR(VLOOKUP(Datos_de_Tarjetas!K902,Parámetros!$AJ$3:$AK$13,2,FALSE),\"\")","v":""},{"$f":"IFERROR(VLOOKUP(Datos_de_Tarjetas!J902,Parámetros!$AQ$3:$AR$57,2,FALSE),\"\")","v":""},null,{"$f":"IF(Datos_de_Tarjetas!L902=0,\"\",Datos_de_Tarjetas!L902)","v":""},{"$f":"IF(Datos_de_Tarjetas!M902=0,\"\",Datos_de_Tarjetas!M902)","v":""},{"$f":"IF(Datos_de_Tarjetas!N902=0,\"\",Datos_de_Tarjetas!N902)","v":""},{"$f":"IFERROR(VLOOKUP(Datos_de_Tarjetas!P902,Parámetros!$AM$3:$AN$90,2,FALSE),\"\")","v":""}]
[null,1069470000,{"$f":"IFERROR(VLOOKUP(Datos_de_Tarjetas!D903,Parámetros!$AD$12:$AE$17,2,FALSE),\"\")","v":""},{"$f":"IF(Datos_de_Tarjetas!G903=0,\"\",Datos_de_Tarjetas!G903)","v":""},{"$f":"IFERROR(VLOOKUP(Datos_de_Tarjetas!K903,Parámetros!$AJ$3:$AK$13,2,FALSE),\"\")","v":""},{"$f":"IFERROR(VLOOKUP(Datos_de_Tarjetas!J903,Parámetros!$AQ$3:$AR$57,2,FALSE),\"\")","v":""},null,{"$f":"IF(Datos_de_Tarjetas!L903=0,\"\",Datos_de_Tarjetas!L903)","v":""},{"$f":"IF(Datos_de_Tarjetas!M903=0,\"\",Datos_de_Tarjetas!M903)","v":""},{"$f":"IF(Datos_de_Tarjetas!N903=0,\"\",Datos_de_Tarjetas!N903)","v":""},{"$f":"IFERROR(VLOOKUP(Datos_de_Tarjetas!P903,Parámetros!$AM$3:$AN$90,2,FALSE),\"\")","v":""}]
[null,1069470000,{"$f":"IFERROR(VLOOKUP(Datos_de_Tarjetas!D904,Parámetros!$AD$12:$AE$17,2,FALSE),\"\")","v":""},{"$f":"IF(Datos_de_Tarjetas!G904=0,\"\",Datos_de_Tarjetas!G904)","v":""},{"$f":"IFERROR(VLOOKUP(Datos_de_Tarjetas!K904,Parámetros!$AJ$3:$AK$13,2,FALSE),\"\")","v":""},{"$f":"IFERROR(VLOOKUP(Datos_de_Tarjetas!J904,Parámetros!$AQ$3:$AR$57,2,FALSE),\"\")","v":""},null,{"$f":"IF(Datos_de_Tarjetas!L904=0,\"\",Datos_de_Tarjetas!L904)","v":""},{"$f":"IF(Datos_de_Tarjetas!M904=0,\"\",Datos_de_Tarjetas!M904)","v":""},{"$f":"IF(Datos_de_Tarjetas!N904=0,\"\",Datos_de_Tarjetas!N904)","v":""},{"$f":"IFERROR(VLOOKUP(Datos_de_Tarjetas!P904,Parámetros!$AM$3:$AN$90,2,FALSE),\"\")","v":""}]
[null,1069470000,{"$f":"IFERROR(VLOOKUP(Datos_de_Tarjetas!D905,Parámetros!$AD$12:$AE$17,2,FALSE),\"\")","v":""},{"$f":"IF(Datos_de_Tarjetas!G905=0,\"\",Datos_de_Tarjetas!G905)","v":""},{"$f":"IFERROR(VLOOKUP(Datos_de_Tarjetas!K905,Parámetros!$AJ$3:$AK$13,2,FALSE),\"\")","v":""},{"$f":"IFERROR(VLOOKUP(Datos_de_Tarjetas!J905,Parámetros!$AQ$3:$AR$57,2,FALSE),\"\")","v":""},null,{"$f":"IF(Datos_de_Tarjetas!L905=0,\"\",Datos_de_Tarjetas!L905)","v":""},{"$f":"IF(Datos_de_Tarjetas!M905=0,\"\",Datos_de_Tarjetas!M905)","v":""},{"$f":"IF(Datos_de_Tarjetas!N905=0,\"\",Datos_de_Tarjetas!N905)","v":""},{"$f":"IFERROR(VLOOKUP(Datos_de_Tarjetas!P905,Parámetros!$AM$3:$AN$90,2,FALSE),\"\")","v":""}]
[null,1069470000,{"$f":"IFERROR(VLOOKUP(Datos_de_Tarjetas!D906,Parámetros!$AD$12:$AE$17,2,FALSE),\"\")","v":""},{"$f":"IF(Datos_de_Tarjetas!G906=0,\"\",Datos_de_Tarjetas!G906)","v":""},{"$f":"IFERROR(VLOOKUP(Datos_de_Tarjetas!K906,Parámetros!$AJ$3:$AK$13,2,FALSE),\"\")","v":""},{"$f":"IFERROR(VLOOKUP(Datos_de_Tarjetas!J906,Parámetros!$AQ$3:$AR$57,2,FALSE),\"\")","v":""},null,{"$f":"IF(Datos_de_Tarjetas!L906=0,\"\",Datos_de_Tarjetas!L906)","v":""},{"$f":"IF(Datos_de_Tarjetas!M906=0,\"\",Datos_de_Tarjetas!M906)","v":""},{"$f":"IF(Datos_de_Tarjetas!N906=0,\"\",Datos_de_Tarjetas!N906)","v":""},{"$f":"IFERROR(VLOOKUP(Datos_de_Tarjetas!P906,Parámetros!$AM$3:$AN$90,2,FALSE),\"\")","v":""}]
[null,1069470000,{"$f":"IFERROR(VLOOKUP(Datos_de_Tarjetas!D907,Parámetros!$AD$12:$AE$17,2,FALSE),\"\")","v":""},{"$f":"IF(Datos_de_Tarjetas!G907=0,\"\",Datos_de_Tarjetas!G907)","v":""},{"$f":"IFERROR(VLOOKUP(Datos_de_Tarjetas!K907,Parámetros!$AJ$3:$AK$13,2,FALSE),\"\")","v":""},{"$f":"IFERROR(VLOOKUP(Datos_de_Tarjetas!J907,Parámetros!$AQ$3:$AR$57,2,FALSE),\"\")","v":""},null,{"$f":"IF(Datos_de_Tarjetas!L907=0,\"\",Datos_de_Tarjetas!L907)","v":""},{"$f":"IF(Datos_de_Tarjetas!M907=0,\"\",Datos_de_Tarjetas!M907)","v":""},{"$f":"IF(Datos_de_Tarjetas!N907=0,\"\",Datos_de_Tarjetas!N907)","v":""},{"$f":"IFERROR(VLOOKUP(Datos_de_Tarjetas!P907,Parámetros!$AM$3:$AN$90,2,FALSE),\"\")","v":""}]
[null,1069470000,{"$f":"IFERROR(VLOOKUP(Datos_de_Tarjetas!D908,Parámetros!$AD$12:$AE$17,2,FALSE),\"\")","v":""},{"$f":"IF(Datos_de_Tarjetas!G908=0,\"\",Datos_de_Tarjetas!G908)","v":""},{"$f":"IFERROR(VLOOKUP(Datos_de_Tarjetas!K908,Parámetros!$AJ$3:$AK$13,2,FALSE),\"\")","v":""},{"$f":"IFERROR(VLOOKUP(Datos_de_Tarjetas!J908,Parámetros!$AQ$3:$AR$57,2,FALSE),\"\")","v":""},null,{"$f":"IF(Datos_de_Tarjetas!L908=0,\"\",Datos_de_Tarjetas!L908)","v":""},{"$f":"IF(Datos_de_Tarjetas!M908=0,\"\",Datos_de_Tarjetas!M908)","v":""},{"$f":"IF(Datos_de_Tarjetas!N908=0,\"\",Datos_de_Tarjetas!N908)","v":""},{"$f":"IFERROR(VLOOKUP(Datos_de_Tarjetas!P908,Parámetros!$AM$3:$AN$90,2,FALSE),\"\")","v":""}]
[null,1069470000,{"$f":"IFERROR(VLOOKUP(Datos_de_Tarjetas!D909,Parámetros!$AD$12:$AE$17,2,FALSE),\"\")","v":""},{"$f":"IF(Datos_de_Tarjetas!G909=0,\"\",Datos_de_Tarjetas!G909)","v":""},{"$f":"IFERROR(VLOOKUP(Datos_de_Tarjetas!K909,Parámetros!$AJ$3:$AK$13,2,FALSE),\"\")","v":""},{"$f":"IFERROR(VLOOKUP(Datos_de_Tarjetas!J909,Parámetros!$AQ$3:$AR$57,2,FALSE),\"\")","v":""},null,{"$f":"IF(Datos_de_Tarjetas!L909=0,\"\",Datos_de_Tarjetas!L909)","v":""},{"$f":"IF(Datos_de_Tarjetas!M909=0,\"\",Datos_de_Tarjetas!M909)","v":""},{"$f":"IF(Datos_de_Tarjetas!N909=0,\"\",Datos_de_Tarjetas!N909)","v":""},{"$f":"IFERROR(VLOOKUP(Datos_de_Tarjetas!P909,Parámetros!$AM$3:$AN$90,2,FALSE),\"\")","v":""}]
[null,1069470000,{"$f":"IFERROR(VLOOKUP(Datos_de_Tarjetas!D910,Parámetros!$AD$12:$AE$17,2,FALSE),\"\")","v":""},{"$f":"IF(Datos_de_Tarjetas!G910=0,\"\",Datos_de_Tarjetas!G910)","v":""},{"$f":"IFERROR(VLOOKUP(Datos_de_Tarjetas!K910,Parámetros!$AJ$3:$AK$13,2,FALSE),\"\")","v":""},{"$f":"IFERROR(VLOOKUP(Datos_de_Tarjetas!J910,Parámetros!$AQ$3:$AR$57,2,FALSE),\"\")","v":""},null,{"$f":"IF(Datos_de_Tarjetas!L910=0,\"\",Datos_de_Tarjetas!L910)","v":""},{"$f":"IF(Datos_de_Tarjetas!M910=0,\"\",Datos_de_Tarjetas!M910)","v":""},{"$f":"IF(Datos_de_Tarjetas!N910=0,\"\",Datos_de_Tarjetas!N910)","v":""},{"$f":"IFERROR(VLOOKUP(Datos_de_Tarjetas!P910,Parámetros!$AM$3:$AN$90,2,FALSE),\"\")","v":""}]
[null,1069470000,{"$f":"IFERROR(VLOOKUP(Datos_de_Tarjetas!D911,Parámetros!$AD$12:$AE$17,2,FALSE),\"\")","v":""},{"$f":"IF(Datos_de_Tarjetas!G911=0,\"\",Datos_de_Tarjetas!G911)","v":""},{"$f":"IFERROR(VLOOKUP(Datos_de_Tarjetas!K911,Parámetros!$AJ$3:$AK$13,2,FALSE),\"\")","v":""},{"$f":"IFERROR(VLOOKUP(Datos_de_Tarjetas!J911,Parámetros!$AQ$3:$AR$57,2,FALSE),\"\")","v":""},null,{"$f":"IF(Datos_de_Tarjetas!L911=0,\"\",Datos_de_Tarjetas!L911)","v":""},{"$f":"IF(Datos_de_Tarjetas!M911=0,\"\",Datos_de_Tarjetas!M911)","v":""},{"$f":"IF(Datos_de_Tarjetas!N911=0,\"\",Datos_de_Tarjetas!N911)","v":""},{"$f":"IFERROR(VLOOKUP(Datos_de_Tarjetas!P911,Parámetros!$AM$3:$AN$90,2,FALSE),\"\")","v":""}]
[null,1069470000,{"$f":"IFERROR(VLOOKUP(Datos_de_Tarjetas!D912,Parámetros!$AD$12:$AE$17,2,FALSE),\"\")","v":""},{"$f":"IF(Datos_de_Tarjetas!G912=0,\"\",Datos_de_Tarjetas!G912)","v":""},{"$f":"IFERROR(VLOOKUP(Datos_de_Tarjetas!K912,Parámetros!$AJ$3:$AK$13,2,FALSE),\"\")","v":""},{"$f":"IFERROR(VLOOKUP(Datos_de_Tarjetas!J912,Parámetros!$AQ$3:$AR$57,2,FALSE),\"\")","v":""},null,{"$f":"IF(Datos_de_Tarjetas!L912=0,\"\",Datos_de_Tarjetas!L912)","v":""},{"$f":"IF(Datos_de_Tarjetas!M912=0,\"\",Datos_de_Tarjetas!M912)","v":""},{"$f":"IF(Datos_de_Tarjetas!N912=0,\"\",Datos_de_Tarjetas!N912)","v":""},{"$f":"IFERROR(VLOOKUP(Datos_de_Tarjetas!P912,Parámetros!$AM$3:$AN$90,2,FALSE),\"\")","v":""}]
[null,{"$f":"$C$2","v":1069470000},{"$f":"IFERROR(VLOOKUP(Datos_de_Tarjetas!D913,Parámetros!$AD$12:$AE$17,2,FALSE),\"\")","v":""},{"$f":"IF(Datos_de_Tarjetas!G913=0,\"\",Datos_de_Tarjetas!G913)","v":""},{"$f":"IFERROR(VLOOKUP(Datos_de_Tarjetas!K913,Parámetros!$AJ$3:$AK$13,2,FALSE),\"\")","v":""},{"$f":"IFERROR(VLOOKUP(Datos_de_Tarjetas!J913,Parámetros!$AQ$3:$AR$57,2,FALSE),\"\")","v":""},null,{"$f":"IF(Datos_de_Tarjetas!L913=0,\"\",Datos_de_Tarjetas!L913)","v":""},{"$f":"IF(Datos_de_Tarjetas!M913=0,\"\",Datos_de_Tarjetas!M913)","v":""},{"$f":"IF(Datos_de_Tarjetas!N913=0,\"\",Datos_de_Tarjetas!N913)","v":""},{"$f":"IFERROR(VLOOKUP(Datos_de_Tarjetas!P913,Parámetros!$AM$3:$AN$90,2,FALSE),\"\")","v":""}]
[null,1069470000,{"$f":"IFERROR(VLOOKUP(Datos_de_Tarjetas!D914,Parámetros!$AD$12:$AE$17,2,FALSE),\"\")","v":""},{"$f":"IF(Datos_de_Tarjetas!G914=0,\"\",Datos_de_Tarjetas!G914)","v":""},{"$f":"IFERROR(VLOOKUP(Datos_de_Tarjetas!K914,Parámetros!$AJ$3:$AK$13,2,FALSE),\"\")","v":""},{"$f":"IFERROR(VLOOKUP(Datos_de_Tarjetas!J914,Parámetros!$AQ$3:$AR$57,2,FALSE),\"\")","v":""},null,{"$f":"IF(Datos_de_Tarjetas!L914=0,\"\",Datos_de_Tarjetas!L914)","v":""},{"$f":"IF(Datos_de_Tarjetas!M914=0,\"\",Datos_de_Tarjetas!M914)","v":""},{"$f":"IF(Datos_de_Tarjetas!N914=0,\"\",Datos_de_Tarjetas!N914)","v":""},{"$f":"IFERROR(VLOOKUP(Datos_de_Tarjetas!P914,Parámetros!$AM$3:$AN$90,2,FALSE),\"\")","v":""}]
[null,1069470000,{"$f":"IFERROR(VLOOKUP(Datos_de_Tarjetas!D915,Parámetros!$AD$12:$AE$17,2,FALSE),\"\")","v":""},{"$f":"IF(Datos_de_Tarjetas!G915=0,\"\",Datos_de_Tarjetas!G915)","v":""},{"$f":"IFERROR(VLOOKUP(Datos_de_Tarjetas!K915,Parámetros!$AJ$3:$AK$13,2,FALSE),\"\")","v":""},{"$f":"IFERROR(VLOOKUP(Datos_de_Tarjetas!J915,Parámetros!$AQ$3:$AR$57,2,FALSE),\"\")","v":""},null,{"$f":"IF(Datos_de_Tarjetas!L915=0,\"\",Datos_de_Tarjetas!L915)","v":""},{"$f":"IF(Datos_de_Tarjetas!M915=0,\"\",Datos_de_Tarjetas!M915)","v":""},{"$f":"IF(Datos_de_Tarjetas!N915=0,\"\",Datos_de_Tarjetas!N915)","v":""},{"$f":"IFERROR(VLOOKUP(Datos_de_Tarjetas!P915,Parámetros!$AM$3:$AN$90,2,FALSE),\"\")","v":""}]
[null,1069470000,{"$f":"IFERROR(VLOOKUP(Datos_de_Tarjetas!D916,Parámetros!$AD$12:$AE$17,2,FALSE),\"\")","v":""},{"$f":"IF(Datos_de_Tarjetas!G916=0,\"\",Datos_de_Tarjetas!G916)","v":""},{"$f":"IFERROR(VLOOKUP(Datos_de_Tarjetas!K916,Parámetros!$AJ$3:$AK$13,2,FALSE),\"\")","v":""},{"$f":"IFERROR(VLOOKUP(Datos_de_Tarjetas!J916,Parámetros!$AQ$3:$AR$57,2,FALSE),\"\")","v":""},null,{"$f":"IF(Datos_de_Tarjetas!L916=0,\"\",Datos_de_Tarjetas!L916)","v":""},{"$f":"IF(Datos_de_Tarjetas!M916=0,\"\",Datos_de_Tarjetas!M916)","v":""},{"$f":"IF(Datos_de_Tarjetas!N916=0,\"\",Datos_de_Tarjetas!N916)","v":""},{"$f":"IFERROR(VLOOKUP(Datos_de_Tarjetas!P916,Parámetros!$AM$3:$AN$90,2,FALSE),\"\")","v":""}]
[null,1069470000,{"$f":"IFERROR(VLOOKUP(Datos_de_Tarjetas!D917,Parámetros!$AD$12:$AE$17,2,FALSE),\"\")","v":""},{"$f":"IF(Datos_de_Tarjetas!G917=0,\"\",Datos_de_Tarjetas!G917)","v":""},{"$f":"IFERROR(VLOOKUP(Datos_de_Tarjetas!K917,Parámetros!$AJ$3:$AK$13,2,FALSE),\"\")","v":""},{"$f":"IFERROR(VLOOKUP(Datos_de_Tarjetas!J917,Parámetros!$AQ$3:$AR$57,2,FALSE),\"\")","v":""},null,{"$f":"IF(Datos_de_Tarjetas!L917=0,\"\",Datos_de_Tarjetas!L917)","v":""},{"$f":"IF(Datos_de_Tarjetas!M917=0,\"\",Datos_de_Tarjetas!M917)","v":""},{"$f":"IF(Datos_de_Tarjetas!N917=0,\"\",Datos_de_Tarjetas!N917)","v":""},{"$f":"IFERROR(VLOOKUP(Datos_de_Tarjetas!P917,Parámetros!$AM$3:$AN$90,2,FALSE),\"\")","v":""}]
[null,1069470000,{"$f":"IFERROR(VLOOKUP(Datos_de_Tarjetas!D918,Parámetros!$AD$12:$AE$17,2,FALSE),\"\")","v":""},{"$f":"IF(Datos_de_Tarjetas!G918=0,\"\",Datos_de_Tarjetas!G918)","v":""},{"$f":"IFERROR(VLOOKUP(Datos_de_Tarjetas!K918,Parámetros!$AJ$3:$AK$13,2,FALSE),\"\")","v":""},{"$f":"IFERROR(VLOOKUP(Datos_de_Tarjetas!J918,Parámetros!$AQ$3:$AR$57,2,FALSE),\"\")","v":""},null,{"$f":"IF(Datos_de_Tarjetas!L918=0,\"\",Datos_de_Tarjetas!L918)","v":""},{"$f":"IF(Datos_de_Tarjetas!M918=0,\"\",Datos_de_Tarjetas!M918)","v":""},{"$f":"IF(Datos_de_Tarjetas!N918=0,\"\",Datos_de_Tarjetas!N918)","v":""},{"$f":"IFERROR(VLOOKUP(Datos_de_Tarjetas!P918,Parámetros!$AM$3:$AN$90,2,FALSE),\"\")","v":""}]
[null,1069470000,{"$f":"IFERROR(VLOOKUP(Datos_de_Tarjetas!D919,Parámetros!$AD$12:$AE$17,2,FALSE),\"\")","v":""},{"$f":"IF(Datos_de_Tarjetas!G919=0,\"\",Datos_de_Tarjetas!G919)","v":""},{"$f":"IFERROR(VLOOKUP(Datos_de_Tarjetas!K919,Parámetros!$AJ$3:$AK$13,2,FALSE),\"\")","v":""},{"$f":"IFERROR(VLOOKUP(Datos_de_Tarjetas!J919,Parámetros!$AQ$3:$AR$57,2,FALSE),\"\")","v":""},null,{"$f":"IF(Datos_de_Tarjetas!L919=0,\"\",Datos_de_Tarjetas!L919)","v":""},{"$f":"IF(Datos_de_Tarjetas!M919=0,\"\",Datos_de_Tarjetas!M919)","v":""},{"$f":"IF(Datos_de_Tarjetas!N919=0,\"\",Datos_de_Tarjetas!N919)","v":""},{"$f":"IFERROR(VLOOKUP(Datos_de_Tarjetas!P919,Parámetros!$AM$3:$AN$90,2,FALSE),\"\")","v":""}]
[null,1069470000,{"$f":"IFERROR(VLOOKUP(Datos_de_Tarjetas!D920,Parámetros!$AD$12:$AE$17,2,FALSE),\"\")","v":""},{"$f":"IF(Datos_de_Tarjetas!G920=0,\"\",Datos_de_Tarjetas!G920)","v":""},{"$f":"IFERROR(VLOOKUP(Datos_de_Tarjetas!K920,Parámetros!$AJ$3:$AK$13,2,FALSE),\"\")","v":""},{"$f":"IFERROR(VLOOKUP(Datos_de_Tarjetas!J920,Parámetros!$AQ$3:$AR$57,2,FALSE),\"\")","v":""},null,{"$f":"IF(Datos_de_Tarjetas!L920=0,\"\",Datos_de_Tarjetas!L920)","v":""},{"$f":"IF(Datos_de_Tarjetas!M920=0,\"\",Datos_de_Tarjetas!M920)","v":""},{"$f":"IF(Datos_de_Tarjetas!N920=0,\"\",Datos_de_Tarjetas!N920)","v":""},{"$f":"IFERROR(VLOOKUP(Datos_de_Tarjetas!P920,Parámetros!$AM$3:$AN$90,2,FALSE),\"\")","v":""}]
[null,1069470000,{"$f":"IFERROR(VLOOKUP(Datos_de_Tarjetas!D921,Parámetros!$AD$12:$AE$17,2,FALSE),\"\")","v":""},{"$f":"IF(Datos_de_Tarjetas!G921=0,\"\",Datos_de_Tarjetas!G921)","v":""},{"$f":"IFERROR(VLOOKUP(Datos_de_Tarjetas!K921,Parámetros!$AJ$3:$AK$13,2,FALSE),\"\")","v":""},{"$f":"IFERROR(VLOOKUP(Datos_de_Tarjetas!J921,Parámetros!$AQ$3:$AR$57,2,FALSE),\"\")","v":""},null,{"$f":"IF(Datos_de_Tarjetas!L921=0,\"\",Datos_de_Tarjetas!L921)","v":""},{"$f":"IF(Datos_de_Tarjetas!M921=0,\"\",Datos_de_Tarjetas!M921)","v":""},{"$f":"IF(Datos_de_Tarjetas!N921=0,\"\",Datos_de_Tarjetas!N921)","v":""},{"$f":"IFERROR(VLOOKUP(Datos_de_Tarjetas!P921,Parámetros!$AM$3:$AN$90,2,FALSE),\"\")","v":""}]
[null,1069470000,{"$f":"IFERROR(VLOOKUP(Datos_de_Tarjetas!D922,Parámetros!$AD$12:$AE$17,2,FALSE),\"\")","v":""},{"$f":"IF(Datos_de_Tarjetas!G922=0,\"\",Datos_de_Tarjetas!G922)","v":""},{"$f":"IFERROR(VLOOKUP(Datos_de_Tarjetas!K922,Parámetros!$AJ$3:$AK$13,2,FALSE),\"\")","v":""},{"$f":"IFERROR(VLOOKUP(Datos_de_Tarjetas!J922,Parámetros!$AQ$3:$AR$57,2,FALSE),\"\")","v":""},null,{"$f":"IF(Datos_de_Tarjetas!L922=0,\"\",Datos_de_Tarjetas!L922)","v":""},{"$f":"IF(Datos_de_Tarjetas!M922=0,\"\",Datos_de_Tarjetas!M922)","v":""},{"$f":"IF(Datos_de_Tarjetas!N922=0,\"\",Datos_de_Tarjetas!N922)","v":""},{"$f":"IFERROR(VLOOKUP(Datos_de_Tarjetas!P922,Parámetros!$AM$3:$AN$90,2,FALSE),\"\")","v":""}]
[null,1069470000,{"$f":"IFERROR(VLOOKUP(Datos_de_Tarjetas!D923,Parámetros!$AD$12:$AE$17,2,FALSE),\"\")","v":""},{"$f":"IF(Datos_de_Tarjetas!G923=0,\"\",Datos_de_Tarjetas!G923)","v":""},{"$f":"IFERROR(VLOOKUP(Datos_de_Tarjetas!K923,Parámetros!$AJ$3:$AK$13,2,FALSE),\"\")","v":""},{"$f":"IFERROR(VLOOKUP(Datos_de_Tarjetas!J923,Parámetros!$AQ$3:$AR$57,2,FALSE),\"\")","v":""},null,{"$f":"IF(Datos_de_Tarjetas!L923=0,\"\",Datos_de_Tarjetas!L923)","v":""},{"$f":"IF(Datos_de_Tarjetas!M923=0,\"\",Datos_de_Tarjetas!M923)","v":""},{"$f":"IF(Datos_de_Tarjetas!N923=0,\"\",Datos_de_Tarjetas!N923)","v":""},{"$f":"IFERROR(VLOOKUP(Datos_de_Tarjetas!P923,Parámetros!$AM$3:$AN$90,2,FALSE),\"\")","v":""}]
[null,1069470000,{"$f":"IFERROR(VLOOKUP(Datos_de_Tarjetas!D924,Parámetros!$AD$12:$AE$17,2,FALSE),\"\")","v":""},{"$f":"IF(Datos_de_Tarjetas!G924=0,\"\",Datos_de_Tarjetas!G924)","v":""},{"$f":"IFERROR(VLOOKUP(Datos_de_Tarjetas!K924,Parámetros!$AJ$3:$AK$13,2,FALSE),\"\")","v":""},{"$f":"IFERROR(VLOOKUP(Datos_de_Tarjetas!J924,Parámetros!$AQ$3:$AR$57,2,FALSE),\"\")","v":""},null,{"$f":"IF(Datos_de_Tarjetas!L924=0,\"\",Datos_de_Tarjetas!L924)","v":""},{"$f":"IF(Datos_de_Tarjetas!M924=0,\"\",Datos_de_Tarjetas!M924)","v":""},{"$f":"IF(Datos_de_Tarjetas!N924=0,\"\",Datos_de_Tarjetas!N924)","v":""},{"$f":"IFERROR(VLOOKUP(Datos_de_Tarjetas!P924,Parámetros!$AM$3:$AN$90,2,FALSE),\"\")","v":""}]
[null,1069470000,{"$f":"IFERROR(VLOOKUP(Datos_de_Tarjetas!D925,Parámetros!$AD$12:$AE$17,2,FALSE),\"\")","v":""},{"$f":"IF(Datos_de_Tarjetas!G925=0,\"\",Datos_de_Tarjetas!G925)","v":""},{"$f":"IFERROR(VLOOKUP(Datos_de_Tarjetas!K925,Parámetros!$AJ$3:$AK$13,2,FALSE),\"\")","v":""},{"$f":"IFERROR(VLOOKUP(Datos_de_Tarjetas!J925,Parámetros!$AQ$3:$AR$57,2,FALSE),\"\")","v":""},null,{"$f":"IF(Datos_de_Tarjetas!L925=0,\"\",Datos_de_Tarjetas!L925)","v":""},{"$f":"IF(Datos_de_Tarjetas!M925=0,\"\",Datos_de_Tarjetas!M925)","v":""},{"$f":"IF(Datos_de_Tarjetas!N925=0,\"\",Datos_de_Tarjetas!N925)","v":""},{"$f":"IFERROR(VLOOKUP(Datos_de_Tarjetas!P925,Parámetros!$AM$3:$AN$90,2,FALSE),\"\")","v":""}]
[null,1069470000,{"$f":"IFERROR(VLOOKUP(Datos_de_Tarjetas!D926,Parámetros!$AD$12:$AE$17,2,FALSE),\"\")","v":""},{"$f":"IF(Datos_de_Tarjetas!G926=0,\"\",Datos_de_Tarjetas!G926)","v":""},{"$f":"IFERROR(VLOOKUP(Datos_de_Tarjetas!K926,Parámetros!$AJ$3:$AK$13,2,FALSE),\"\")","v":""},{"$f":"IFERROR(VLOOKUP(Datos_de_Tarjetas!J926,Parámetros!$AQ$3:$AR$57,2,FALSE),\"\")","v":""},null,{"$f":"IF(Datos_de_Tarjetas!L926=0,\"\",Datos_de_Tarjetas!L926)","v":""},{"$f":"IF(Datos_de_Tarjetas!M926=0,\"\",Datos_de_Tarjetas!M926)","v":""},{"$f":"IF(Datos_de_Tarjetas!N926=0,\"\",Datos_de_Tarjetas!N926)","v":""},{"$f":"IFERROR(VLOOKUP(Datos_de_Tarjetas!P926,Parámetros!$AM$3:$AN$90,2,FALSE),\"\")","v":""}]
[null,1069470000,{"$f":"IFERROR(VLOOKUP(Datos_de_Tarjetas!D927,Parámetros!$AD$12:$AE$17,2,FALSE),\"\")","v":""},{"$f":"IF(Datos_de_Tarjetas!G927=0,\"\",Datos_de_Tarjetas!G927)","v":""},{"$f":"IFERROR(VLOOKUP(Datos_de_Tarjetas!K927,Parámetros!$AJ$3:$AK$13,2,FALSE),\"\")","v":""},{"$f":"IFERROR(VLOOKUP(Datos_de_Tarjetas!J927,Parámetros!$AQ$3:$AR$57,2,FALSE),\"\")","v":""},null,{"$f":"IF(Datos_de_Tarjetas!L927=0,\"\",Datos_de_Tarjetas!L927)","v":""},{"$f":"IF(Datos_de_Tarjetas!M927=0,\"\",Datos_de_Tarjetas!M927)","v":""},{"$f":"IF(Datos_de_Tarjetas!N927=0,\"\",Datos_de_Tarjetas!N927)","v":""},{"$f":"IFERROR(VLOOKUP(Datos_de_Tarjetas!P927,Parámetros!$AM$3:$AN$90,2,FALSE),\"\")","v":""}]
[null,1069470000,{"$f":"IFERROR(VLOOKUP(Datos_de_Tarjetas!D928,Parámetros!$AD$12:$AE$17,2,FALSE),\"\")","v":""},{"$f":"IF(Datos_de_Tarjetas!G928=0,\"\",Datos_de_Tarjetas!G928)","v":""},{"$f":"IFERROR(VLOOKUP(Datos_de_Tarjetas!K928,Parámetros!$AJ$3:$AK$13,2,FALSE),\"\")","v":""},{"$f":"IFERROR(VLOOKUP(Datos_de_Tarjetas!J928,Parámetros!$AQ$3:$AR$57,2,FALSE),\"\")","v":""},null,{"$f":"IF(Datos_de_Tarjetas!L928=0,\"\",Datos_de_Tarjetas!L928)","v":""},{"$f":"IF(Datos_de_Tarjetas!M928=0,\"\",Datos_de_Tarjetas!M928)","v":""},{"$f":"IF(Datos_de_Tarjetas!N928=0,\"\",Datos_de_Tarjetas!N928)","v":""},{"$f":"IFERROR(VLOOKUP(Datos_de_Tarjetas!P928,Parámetros!$AM$3:$AN$90,2,FALSE),\"\")","v":""}]
[null,1069470000,{"$f":"IFERROR(VLOOKUP(Datos_de_Tarjetas!D929,Parámetros!$AD$12:$AE$17,2,FALSE),\"\")","v":""},{"$f":"IF(Datos_de_Tarjetas!G929=0,\"\",Datos_de_Tarjetas!G929)","v":""},{"$f":"IFERROR(VLOOKUP(Datos_de_Tarjetas!K929,Parámetros!$AJ$3:$AK$13,2,FALSE),\"\")","v":""},{"$f":"IFERROR(VLOOKUP(Datos_de_Tarjetas!J929,Parámetros!$AQ$3:$AR$57,2,FALSE),\"\")","v":""},null,{"$f":"IF(Datos_de_Tarjetas!L929=0,\"\",Datos_de_Tarjetas!L929)","v":""},{"$f":"IF(Datos_de_Tarjetas!M929=0,\"\",Datos_de_Tarjetas!M929)","v":""},{"$f":"IF(Datos_de_Tarjetas!N929=0,\"\",Datos_de_Tarjetas!N929)","v":""},{"$f":"IFERROR(VLOOKUP(Datos_de_Tarjetas!P929,Parámetros!$AM$3:$AN$90,2,FALSE),\"\")","v":""}]
[null,1069470000,{"$f":"IFERROR(VLOOKUP(Datos_de_Tarjetas!D930,Parámetros!$AD$12:$AE$17,2,FALSE),\"\")","v":""},{"$f":"IF(Datos_de_Tarjetas!G930=0,\"\",Datos_de_Tarjetas!G930)","v":""},{"$f":"IFERROR(VLOOKUP(Datos_de_Tarjetas!K930,Parámetros!$AJ$3:$AK$13,2,FALSE),\"\")","v":""},{"$f":"IFERROR(VLOOKUP(Datos_de_Tarjetas!J930,Parámetros!$AQ$3:$AR$57,2,FALSE),\"\")","v":""},null,{"$f":"IF(Datos_de_Tarjetas!L930=0,\"\",Datos_de_Tarjetas!L930)","v":""},{"$f":"IF(Datos_de_Tarjetas!M930=0,\"\",Datos_de_Tarjetas!M930)","v":""},{"$f":"IF(Datos_de_Tarjetas!N930=0,\"\",Datos_de_Tarjetas!N930)","v":""},{"$f":"IFERROR(VLOOKUP(Datos_de_Tarjetas!P930,Parámetros!$AM$3:$AN$90,2,FALSE),\"\")","v":""}]
[null,1069470000,{"$f":"IFERROR(VLOOKUP(Datos_de_Tarjetas!D931,Parámetros!$AD$12:$AE$17,2,FALSE),\"\")","v":""},{"$f":"IF(Datos_de_Tarjetas!G931=0,\"\",Datos_de_Tarjetas!G931)","v":""},{"$f":"IFERROR(VLOOKUP(Datos_de_Tarjetas!K931,Parámetros!$AJ$3:$AK$13,2,FALSE),\"\")","v":""},{"$f":"IFERROR(VLOOKUP(Datos_de_Tarjetas!J931,Parámetros!$AQ$3:$AR$57,2,FALSE),\"\")","v":""},null,{"$f":"IF(Datos_de_Tarjetas!L931=0,\"\",Datos_de_Tarjetas!L931)","v":""},{"$f":"IF(Datos_de_Tarjetas!M931=0,\"\",Datos_de_Tarjetas!M931)","v":""},{"$f":"IF(Datos_de_Tarjetas!N931=0,\"\",Datos_de_Tarjetas!N931)","v":""},{"$f":"IFERROR(VLOOKUP(Datos_de_Tarjetas!P931,Parámetros!$AM$3:$AN$90,2,FALSE),\"\")","v":""}]
[null,1069470000,{"$f":"IFERROR(VLOOKUP(Datos_de_Tarjetas!D932,Parámetros!$AD$12:$AE$17,2,FALSE),\"\")","v":""},{"$f":"IF(Datos_de_Tarjetas!G932=0,\"\",Datos_de_Tarjetas!G932)","v":""},{"$f":"IFERROR(VLOOKUP(Datos_de_Tarjetas!K932,Parámetros!$AJ$3:$AK$13,2,FALSE),\"\")","v":""},{"$f":"IFERROR(VLOOKUP(Datos_de_Tarjetas!J932,Parámetros!$AQ$3:$AR$57,2,FALSE),\"\")","v":""},null,{"$f":"IF(Datos_de_Tarjetas!L932=0,\"\",Datos_de_Tarjetas!L932)","v":""},{"$f":"IF(Datos_de_Tarjetas!M932=0,\"\",Datos_de_Tarjetas!M932)","v":""},{"$f":"IF(Datos_de_Tarjetas!N932=0,\"\",Datos_de_Tarjetas!N932)","v":""},{"$f":"IFERROR(VLOOKUP(Datos_de_Tarjetas!P932,Parámetros!$AM$3:$AN$90,2,FALSE),\"\")","v":""}]
[null,1069470000,{"$f":"IFERROR(VLOOKUP(Datos_de_Tarjetas!D933,Parámetros!$AD$12:$AE$17,2,FALSE),\"\")","v":""},{"$f":"IF(Datos_de_Tarjetas!G933=0,\"\",Datos_de_Tarjetas!G933)","v":""},{"$f":"IFERROR(VLOOKUP(Datos_de_Tarjetas!K933,Parámetros!$AJ$3:$AK$13,2,FALSE),\"\")","v":""},{"$f":"IFERROR(VLOOKUP(Datos_de_Tarjetas!J933,Parámetros!$AQ$3:$AR$57,2,FALSE),\"\")","v":""},null,{"$f":"IF(Datos_de_Tarjetas!L933=0,\"\",Datos_de_Tarjetas!L933)","v":""},{"$f":"IF(Datos_de_Tarjetas!M933=0,\"\",Datos_de_Tarjetas!M933)","v":""},{"$f":"IF(Datos_de_Tarjetas!N933=0,\"\",Datos_de_Tarjetas!N933)","v":""},{"$f":"IFERROR(VLOOKUP(Datos_de_Tarjetas!P933,Parámetros!$AM$3:$AN$90,2,FALSE),\"\")","v":""}]
[null,1069470000,{"$f":"IFERROR(VLOOKUP(Datos_de_Tarjetas!D934,Parámetros!$AD$12:$AE$17,2,FALSE),\"\")","v":""},{"$f":"IF(Datos_de_Tarjetas!G934=0,\"\",Datos_de_Tarjetas!G934)","v":""},{"$f":"IFERROR(VLOOKUP(Datos_de_Tarjetas!K934,Parámetros!$AJ$3:$AK$13,2,FALSE),\"\")","v":""},{"$f":"IFERROR(VLOOKUP(Datos_de_Tarjetas!J934,Parámetros!$AQ$3:$AR$57,2,FALSE),\"\")","v":""},null,{"$f":"IF(Datos_de_Tarjetas!L934=0,\"\",Datos_de_Tarjetas!L934)","v":""},{"$f":"IF(Datos_de_Tarjetas!M934=0,\"\",Datos_de_Tarjetas!M934)","v":""},{"$f":"IF(Datos_de_Tarjetas!N934=0,\"\",Datos_de_Tarjetas!N934)","v":""},{"$f":"IFERROR(VLOOKUP(Datos_de_Tarjetas!P934,Parámetros!$AM$3:$AN$90,2,FALSE),\"\")","v":""}]
[null,1069470000,{"$f":"IFERROR(VLOOKUP(Datos_de_Tarjetas!D935,Parámetros!$AD$12:$AE$17,2,FALSE),\"\")","v":""},{"$f":"IF(Datos_de_Tarjetas!G935=0,\"\",Datos_de_Tarjetas!G935)","v":""},{"$f":"IFERROR(VLOOKUP(Datos_de_Tarjetas!K935,Parámetros!$AJ$3:$AK$13,2,FALSE),\"\")","v":""},{"$f":"IFERROR(VLOOKUP(Datos_de_Tarjetas!J935,Parámetros!$AQ$3:$AR$57,2,FALSE),\"\")","v":""},null,{"$f":"IF(Datos_de_Tarjetas!L935=0,\"\",Datos_de_Tarjetas!L935)","v":""},{"$f":"IF(Datos_de_Tarjetas!M935=0,\"\",Datos_de_Tarjetas!M935)","v":""},{"$f":"IF(Datos_de_Tarjetas!N935=0,\"\",Datos_de_Tarjetas!N935)","v":""},{"$f":"IFERROR(VLOOKUP(Datos_de_Tarjetas!P935,Parámetros!$AM$3:$AN$90,2,FALSE),\"\")","v":""}]
[null,1069470000,{"$f":"IFERROR(VLOOKUP(Datos_de_Tarjetas!D936,Parámetros!$AD$12:$AE$17,2,FALSE),\"\")","v":""},{"$f":"IF(Datos_de_Tarjetas!G936=0,\"\",Datos_de_Tarjetas!G936)","v":""},{"$f":"IFERROR(VLOOKUP(Datos_de_Tarjetas!K936,Parámetros!$AJ$3:$AK$13,2,FALSE),\"\")","v":""},{"$f":"IFERROR(VLOOKUP(Datos_de_Tarjetas!J936,Parámetros!$AQ$3:$AR$57,2,FALSE),\"\")","v":""},null,{"$f":"IF(Datos_de_Tarjetas!L936=0,\"\",Datos_de_Tarjetas!L936)","v":""},{"$f":"IF(Datos_de_Tarjetas!M936=0,\"\",Datos_de_Tarjetas!M936)","v":""},{"$f":"IF(Datos_de_Tarjetas!N936=0,\"\",Datos_de_Tarjetas!N936)","v":""},{"$f":"IFERROR(VLOOKUP(Datos_de_Tarjetas!P936,Parámetros!$AM$3:$AN$90,2,FALSE),\"\")","v":""}]
[null,1069470000,{"$f":"IFERROR(VLOOKUP(Datos_de_Tarjetas!D937,Parámetros!$AD$12:$AE$17,2,FALSE),\"\")","v":""},{"$f":"IF(Datos_de_Tarjetas!G937=0,\"\",Datos_de_Tarjetas!G937)","v":""},{"$f":"IFERROR(VLOOKUP(Datos_de_Tarjetas!K937,Parámetros!$AJ$3:$AK$13,2,FALSE),\"\")","v":""},{"$f":"IFERROR(VLOOKUP(Datos_de_Tarjetas!J937,Parámetros!$AQ$3:$AR$57,2,FALSE),\"\")","v":""},null,{"$f":"IF(Datos_de_Tarjetas!L937=0,\"\",Datos_de_Tarjetas!L937)","v":""},{"$f":"IF(Datos_de_Tarjetas!M937=0,\"\",Datos_de_Tarjetas!M937)","v":""},{"$f":"IF(Datos_de_Tarjetas!N937=0,\"\",Datos_de_Tarjetas!N937)","v":""},{"$f":"IFERROR(VLOOKUP(Datos_de_Tarjetas!P937,Parámetros!$AM$3:$AN$90,2,FALSE),\"\")","v":""}]
[null,1069470000,{"$f":"IFERROR(VLOOKUP(Datos_de_Tarjetas!D938,Parámetros!$AD$12:$AE$17,2,FALSE),\"\")","v":""},{"$f":"IF(Datos_de_Tarjetas!G938=0,\"\",Datos_de_Tarjetas!G938)","v":""},{"$f":"IFERROR(VLOOKUP(Datos_de_Tarjetas!K938,Parámetros!$AJ$3:$AK$13,2,FALSE),\"\")","v":""},{"$f":"IFERROR(VLOOKUP(Datos_de_Tarjetas!J938,Parámetros!$AQ$3:$AR$57,2,FALSE),\"\")","v":""},null,{"$f":"IF(Datos_de_Tarjetas!L938=0,\"\",Datos_de_Tarjetas!L938)","v":""},{"$f":"IF(Datos_de_Tarjetas!M938=0,\"\",Datos_de_Tarjetas!M938)","v":""},{"$f":"IF(Datos_de_Tarjetas!N938=0,\"\",Datos_de_Tarjetas!N938)","v":""},{"$f":"IFERROR(VLOOKUP(Datos_de_Tarjetas!P938,Parámetros!$AM$3:$AN$90,2,FALSE),\"\")","v":""}]
[null,1069470000,{"$f":"IFERROR(VLOOKUP(Datos_de_Tarjetas!D939,Parámetros!$AD$12:$AE$17,2,FALSE),\"\")","v":""},{"$f":"IF(Datos_de_Tarjetas!G939=0,\"\",Datos_de_Tarjetas!G939)","v":""},{"$f":"IFERROR(VLOOKUP(Datos_de_Tarjetas!K939,Parámetros!$AJ$3:$AK$13,2,FALSE),\"\")","v":""},{"$f":"IFERROR(VLOOKUP(Datos_de_Tarjetas!J939,Parámetros!$AQ$3:$AR$57,2,FALSE),\"\")","v":""},null,{"$f":"IF(Datos_de_Tarjetas!L939=0,\"\",Datos_de_Tarjetas!L939)","v":""},{"$f":"IF(Datos_de_Tarjetas!M939=0,\"\",Datos_de_Tarjetas!M939)","v":""},{"$f":"IF(Datos_de_Tarjetas!N939=0,\"\",Datos_de_Tarjetas!N939)","v":""},{"$f":"IFERROR(VLOOKUP(Datos_de_Tarjetas!P939,Parámetros!$AM$3:$AN$90,2,FALSE),\"\")","v":""}]
[null,1069470000,{"$f":"IFERROR(VLOOKUP(Datos_de_Tarjetas!D940,Parámetros!$AD$12:$AE$17,2,FALSE),\"\")","v":""},{"$f":"IF(Datos_de_Tarjetas!G940=0,\"\",Datos_de_Tarjetas!G940)","v":""},{"$f":"IFERROR(VLOOKUP(Datos_de_Tarjetas!K940,Parámetros!$AJ$3:$AK$13,2,FALSE),\"\")","v":""},{"$f":"IFERROR(VLOOKUP(Datos_de_Tarjetas!J940,Parámetros!$AQ$3:$AR$57,2,FALSE),\"\")","v":""},null,{"$f":"IF(Datos_de_Tarjetas!L940=0,\"\",Datos_de_Tarjetas!L940)","v":""},{"$f":"IF(Datos_de_Tarjetas!M940=0,\"\",Datos_de_Tarjetas!M940)","v":""},{"$f":"IF(Datos_de_Tarjetas!N940=0,\"\",Datos_de_Tarjetas!N940)","v":""},{"$f":"IFERROR(VLOOKUP(Datos_de_Tarjetas!P940,Parámetros!$AM$3:$AN$90,2,FALSE),\"\")","v":""}]
[null,1069470000,{"$f":"IFERROR(VLOOKUP(Datos_de_Tarjetas!D941,Parámetros!$AD$12:$AE$17,2,FALSE),\"\")","v":""},{"$f":"IF(Datos_de_Tarjetas!G941=0,\"\",Datos_de_Tarjetas!G941)","v":""},{"$f":"IFERROR(VLOOKUP(Datos_de_Tarjetas!K941,Parámetros!$AJ$3:$AK$13,2,FALSE),\"\")","v":""},{"$f":"IFERROR(VLOOKUP(Datos_de_Tarjetas!J941,Parámetros!$AQ$3:$AR$57,2,FALSE),\"\")","v":""},null,{"$f":"IF(Datos_de_Tarjetas!L941=0,\"\",Datos_de_Tarjetas!L941)","v":""},{"$f":"IF(Datos_de_Tarjetas!M941=0,\"\",Datos_de_Tarjetas!M941)","v":""},{"$f":"IF(Datos_de_Tarjetas!N941=0,\"\",Datos_de_Tarjetas!N941)","v":""},{"$f":"IFERROR(VLOOKUP(Datos_de_Tarjetas!P941,Parámetros!$AM$3:$AN$90,2,FALSE),\"\")","v":""}]
[null,1069470000,{"$f":"IFERROR(VLOOKUP(Datos_de_Tarjetas!D942,Parámetros!$AD$12:$AE$17,2,FALSE),\"\")","v":""},{"$f":"IF(Datos_de_Tarjetas!G942=0,\"\",Datos_de_Tarjetas!G942)","v":""},{"$f":"IFERROR(VLOOKUP(Datos_de_Tarjetas!K942,Parámetros!$AJ$3:$AK$13,2,FALSE),\"\")","v":""},{"$f":"IFERROR(VLOOKUP(Datos_de_Tarjetas!J942,Parámetros!$AQ$3:$AR$57,2,FALSE),\"\")","v":""},null,{"$f":"IF(Datos_de_Tarjetas!L942=0,\"\",Datos_de_Tarjetas!L942)","v":""},{"$f":"IF(Datos_de_Tarjetas!M942=0,\"\",Datos_de_Tarjetas!M942)","v":""},{"$f":"IF(Datos_de_Tarjetas!N942=0,\"\",Datos_de_Tarjetas!N942)","v":""},{"$f":"IFERROR(VLOOKUP(Datos_de_Tarjetas!P942,Parámetros!$AM$3:$AN$90,2,FALSE),\"\")","v":""}]
[null,1069470000,{"$f":"IFERROR(VLOOKUP(Datos_de_Tarjetas!D943,Parámetros!$AD$12:$AE$17,2,FALSE),\"\")","v":""},{"$f":"IF(Datos_de_Tarjetas!G943=0,\"\",Datos_de_Tarjetas!G943)","v":""},{"$f":"IFERROR(VLOOKUP(Datos_de_Tarjetas!K943,Parámetros!$AJ$3:$AK$13,2,FALSE),\"\")","v":""},{"$f":"IFERROR(VLOOKUP(Datos_de_Tarjetas!J943,Parámetros!$AQ$3:$AR$57,2,FALSE),\"\")","v":""},null,{"$f":"IF(Datos_de_Tarjetas!L943=0,\"\",Datos_de_Tarjetas!L943)","v":""},{"$f":"IF(Datos_de_Tarjetas!M943=0,\"\",Datos_de_Tarjetas!M943)","v":""},{"$f":"IF(Datos_de_Tarjetas!N943=0,\"\",Datos_de_Tarjetas!N943)","v":""},{"$f":"IFERROR(VLOOKUP(Datos_de_Tarjetas!P943,Parámetros!$AM$3:$AN$90,2,FALSE),\"\")","v":""}]
[null,1069470000,{"$f":"IFERROR(VLOOKUP(Datos_de_Tarjetas!D944,Parámetros!$AD$12:$AE$17,2,FALSE),\"\")","v":""},{"$f":"IF(Datos_de_Tarjetas!G944=0,\"\",Datos_de_Tarjetas!G944)","v":""},{"$f":"IFERROR(VLOOKUP(Datos_de_Tarjetas!K944,Parámetros!$AJ$3:$AK$13,2,FALSE),\"\")","v":""},{"$f":"IFERROR(VLOOKUP(Datos_de_Tarjetas!J944,Parámetros!$AQ$3:$AR$57,2,FALSE),\"\")","v":""},null,{"$f":"IF(Datos_de_Tarjetas!L944=0,\"\",Datos_de_Tarjetas!L944)","v":""},{"$f":"IF(Datos_de_Tarjetas!M944=0,\"\",Datos_de_Tarjetas!M944)","v":""},{"$f":"IF(Datos_de_Tarjetas!N944=0,\"\",Datos_de_Tarjetas!N944)","v":""},{"$f":"IFERROR(VLOOKUP(Datos_de_Tarjetas!P944,Parámetros!$AM$3:$AN$90,2,FALSE),\"\")","v":""}]
[null,1069470000,{"$f":"IFERROR(VLOOKUP(Datos_de_Tarjetas!D945,Parámetros!$AD$12:$AE$17,2,FALSE),\"\")","v":""},{"$f":"IF(Datos_de_Tarjetas!G945=0,\"\",Datos_de_Tarjetas!G945)","v":""},{"$f":"IFERROR(VLOOKUP(Datos_de_Tarjetas!K945,Parámetros!$AJ$3:$AK$13,2,FALSE),\"\")","v":""},{"$f":"IFERROR(VLOOKUP(Datos_de_Tarjetas!J945,Parámetros!$AQ$3:$AR$57,2,FALSE),\"\")","v":""},null,{"$f":"IF(Datos_de_Tarjetas!L945=0,\"\",Datos_de_Tarjetas!L945)","v":""},{"$f":"IF(Datos_de_Tarjetas!M945=0,\"\",Datos_de_Tarjetas!M945)","v":""},{"$f":"IF(Datos_de_Tarjetas!N945=0,\"\",Datos_de_Tarjetas!N945)","v":""},{"$f":"IFERROR(VLOOKUP(Datos_de_Tarjetas!P945,Parámetros!$AM$3:$AN$90,2,FALSE),\"\")","v":""}]
[null,1069470000,{"$f":"IFERROR(VLOOKUP(Datos_de_Tarjetas!D946,Parámetros!$AD$12:$AE$17,2,FALSE),\"\")","v":""},{"$f":"IF(Datos_de_Tarjetas!G946=0,\"\",Datos_de_Tarjetas!G946)","v":""},{"$f":"IFERROR(VLOOKUP(Datos_de_Tarjetas!K946,Parámetros!$AJ$3:$AK$13,2,FALSE),\"\")","v":""},{"$f":"IFERROR(VLOOKUP(Datos_de_Tarjetas!J946,Parámetros!$AQ$3:$AR$57,2,FALSE),\"\")","v":""},null,{"$f":"IF(Datos_de_Tarjetas!L946=0,\"\",Datos_de_Tarjetas!L946)","v":""},{"$f":"IF(Datos_de_Tarjetas!M946=0,\"\",Datos_de_Tarjetas!M946)","v":""},{"$f":"IF(Datos_de_Tarjetas!N946=0,\"\",Datos_de_Tarjetas!N946)","v":""},{"$f":"IFERROR(VLOOKUP(Datos_de_Tarjetas!P946,Parámetros!$AM$3:$AN$90,2,FALSE),\"\")","v":""}]
[null,1069470000,{"$f":"IFERROR(VLOOKUP(Datos_de_Tarjetas!D947,Parámetros!$AD$12:$AE$17,2,FALSE),\"\")","v":""},{"$f":"IF(Datos_de_Tarjetas!G947=0,\"\",Datos_de_Tarjetas!G947)","v":""},{"$f":"IFERROR(VLOOKUP(Datos_de_Tarjetas!K947,Parámetros!$AJ$3:$AK$13,2,FALSE),\"\")","v":""},{"$f":"IFERROR(VLOOKUP(Datos_de_Tarjetas!J947,Parámetros!$AQ$3:$AR$57,2,FALSE),\"\")","v":""},null,{"$f":"IF(Datos_de_Tarjetas!L947=0,\"\",Datos_de_Tarjetas!L947)","v":""},{"$f":"IF(Datos_de_Tarjetas!M947=0,\"\",Datos_de_Tarjetas!M947)","v":""},{"$f":"IF(Datos_de_Tarjetas!N947=0,\"\",Datos_de_Tarjetas!N947)","v":""},{"$f":"IFERROR(VLOOKUP(Datos_de_Tarjetas!P947,Parámetros!$AM$3:$AN$90,2,FALSE),\"\")","v":""}]
[null,1069470000,{"$f":"IFERROR(VLOOKUP(Datos_de_Tarjetas!D948,Parámetros!$AD$12:$AE$17,2,FALSE),\"\")","v":""},{"$f":"IF(Datos_de_Tarjetas!G948=0,\"\",Datos_de_Tarjetas!G948)","v":""},{"$f":"IFERROR(VLOOKUP(Datos_de_Tarjetas!K948,Parámetros!$AJ$3:$AK$13,2,FALSE),\"\")","v":""},{"$f":"IFERROR(VLOOKUP(Datos_de_Tarjetas!J948,Parámetros!$AQ$3:$AR$57,2,FALSE),\"\")","v":""},null,{"$f":"IF(Datos_de_Tarjetas!L948=0,\"\",Datos_de_Tarjetas!L948)","v":""},{"$f":"IF(Datos_de_Tarjetas!M948=0,\"\",Datos_de_Tarjetas!M948)","v":""},{"$f":"IF(Datos_de_Tarjetas!N948=0,\"\",Datos_de_Tarjetas!N948)","v":""},{"$f":"IFERROR(VLOOKUP(Datos_de_Tarjetas!P948,Parámetros!$AM$3:$AN$90,2,FALSE),\"\")","v":""}]
[null,1069470000,{"$f":"IFERROR(VLOOKUP(Datos_de_Tarjetas!D949,Parámetros!$AD$12:$AE$17,2,FALSE),\"\")","v":""},{"$f":"IF(Datos_de_Tarjetas!G949=0,\"\",Datos_de_Tarjetas!G949)","v":""},{"$f":"IFERROR(VLOOKUP(Datos_de_Tarjetas!K949,Parámetros!$AJ$3:$AK$13,2,FALSE),\"\")","v":""},{"$f":"IFERROR(VLOOKUP(Datos_de_Tarjetas!J949,Parámetros!$AQ$3:$AR$57,2,FALSE),\"\")","v":""},null,{"$f":"IF(Datos_de_Tarjetas!L949=0,\"\",Datos_de_Tarjetas!L949)","v":""},{"$f":"IF(Datos_de_Tarjetas!M949=0,\"\",Datos_de_Tarjetas!M949)","v":""},{"$f":"IF(Datos_de_Tarjetas!N949=0,\"\",Datos_de_Tarjetas!N949)","v":""},{"$f":"IFERROR(VLOOKUP(Datos_de_Tarjetas!P949,Parámetros!$AM$3:$AN$90,2,FALSE),\"\")","v":""}]
[null,1069470000,{"$f":"IFERROR(VLOOKUP(Datos_de_Tarjetas!D950,Parámetros!$AD$12:$AE$17,2,FALSE),\"\")","v":""},{"$f":"IF(Datos_de_Tarjetas!G950=0,\"\",Datos_de_Tarjetas!G950)","v":""},{"$f":"IFERROR(VLOOKUP(Datos_de_Tarjetas!K950,Parámetros!$AJ$3:$AK$13,2,FALSE),\"\")","v":""},{"$f":"IFERROR(VLOOKUP(Datos_de_Tarjetas!J950,Parámetros!$AQ$3:$AR$57,2,FALSE),\"\")","v":""},null,{"$f":"IF(Datos_de_Tarjetas!L950=0,\"\",Datos_de_Tarjetas!L950)","v":""},{"$f":"IF(Datos_de_Tarjetas!M950=0,\"\",Datos_de_Tarjetas!M950)","v":""},{"$f":"IF(Datos_de_Tarjetas!N950=0,\"\",Datos_de_Tarjetas!N950)","v":""},{"$f":"IFERROR(VLOOKUP(Datos_de_Tarjetas!P950,Parámetros!$AM$3:$AN$90,2,FALSE),\"\")","v":""}]
[null,1069470000,{"$f":"IFERROR(VLOOKUP(Datos_de_Tarjetas!D951,Parámetros!$AD$12:$AE$17,2,FALSE),\"\")","v":""},{"$f":"IF(Datos_de_Tarjetas!G951=0,\"\",Datos_de_Tarjetas!G951)","v":""},{"$f":"IFERROR(VLOOKUP(Datos_de_Tarjetas!K951,Parámetros!$AJ$3:$AK$13,2,FALSE),\"\")","v":""},{"$f":"IFERROR(VLOOKUP(Datos_de_Tarjetas!J951,Parámetros!$AQ$3:$AR$57,2,FALSE),\"\")","v":""},null,{"$f":"IF(Datos_de_Tarjetas!L951=0,\"\",Datos_de_Tarjetas!L951)","v":""},{"$f":"IF(Datos_de_Tarjetas!M951=0,\"\",Datos_de_Tarjetas!M951)","v":""},{"$f":"IF(Datos_de_Tarjetas!N951=0,\"\",Datos_de_Tarjetas!N951)","v":""},{"$f":"IFERROR(VLOOKUP(Datos_de_Tarjetas!P951,Parámetros!$AM$3:$AN$90,2,FALSE),\"\")","v":""}]
[null,1069470000,{"$f":"IFERROR(VLOOKUP(Datos_de_Tarjetas!D952,Parámetros!$AD$12:$AE$17,2,FALSE),\"\")","v":""},{"$f":"IF(Datos_de_Tarjetas!G952=0,\"\",Datos_de_Tarjetas!G952)","v":""},{"$f":"IFERROR(VLOOKUP(Datos_de_Tarjetas!K952,Parámetros!$AJ$3:$AK$13,2,FALSE),\"\")","v":""},{"$f":"IFERROR(VLOOKUP(Datos_de_Tarjetas!J952,Parámetros!$AQ$3:$AR$57,2,FALSE),\"\")","v":""},null,{"$f":"IF(Datos_de_Tarjetas!L952=0,\"\",Datos_de_Tarjetas!L952)","v":""},{"$f":"IF(Datos_de_Tarjetas!M952=0,\"\",Datos_de_Tarjetas!M952)","v":""},{"$f":"IF(Datos_de_Tarjetas!N952=0,\"\",Datos_de_Tarjetas!N952)","v":""},{"$f":"IFERROR(VLOOKUP(Datos_de_Tarjetas!P952,Parámetros!$AM$3:$AN$90,2,FALSE),\"\")","v":""}]
[null,1069470000,{"$f":"IFERROR(VLOOKUP(Datos_de_Tarjetas!D953,Parámetros!$AD$12:$AE$17,2,FALSE),\"\")","v":""},{"$f":"IF(Datos_de_Tarjetas!G953=0,\"\",Datos_de_Tarjetas!G953)","v":""},{"$f":"IFERROR(VLOOKUP(Datos_de_Tarjetas!K953,Parámetros!$AJ$3:$AK$13,2,FALSE),\"\")","v":""},{"$f":"IFERROR(VLOOKUP(Datos_de_Tarjetas!J953,Parámetros!$AQ$3:$AR$57,2,FALSE),\"\")","v":""},null,{"$f":"IF(Datos_de_Tarjetas!L953=0,\"\",Datos_de_Tarjetas!L953)","v":""},{"$f":"IF(Datos_de_Tarjetas!M953=0,\"\",Datos_de_Tarjetas!M953)","v":""},{"$f":"IF(Datos_de_Tarjetas!N953=0,\"\",Datos_de_Tarjetas!N953)","v":""},{"$f":"IFERROR(VLOOKUP(Datos_de_Tarjetas!P953,Parámetros!$AM$3:$AN$90,2,FALSE),\"\")","v":""}]
[null,1069470000,{"$f":"IFERROR(VLOOKUP(Datos_de_Tarjetas!D954,Parámetros!$AD$12:$AE$17,2,FALSE),\"\")","v":""},{"$f":"IF(Datos_de_Tarjetas!G954=0,\"\",Datos_de_Tarjetas!G954)","v":""},{"$f":"IFERROR(VLOOKUP(Datos_de_Tarjetas!K954,Parámetros!$AJ$3:$AK$13,2,FALSE),\"\")","v":""},{"$f":"IFERROR(VLOOKUP(Datos_de_Tarjetas!J954,Parámetros!$AQ$3:$AR$57,2,FALSE),\"\")","v":""},null,{"$f":"IF(Datos_de_Tarjetas!L954=0,\"\",Datos_de_Tarjetas!L954)","v":""},{"$f":"IF(Datos_de_Tarjetas!M954=0,\"\",Datos_de_Tarjetas!M954)","v":""},{"$f":"IF(Datos_de_Tarjetas!N954=0,\"\",Datos_de_Tarjetas!N954)","v":""},{"$f":"IFERROR(VLOOKUP(Datos_de_Tarjetas!P954,Parámetros!$AM$3:$AN$90,2,FALSE),\"\")","v":""}]
[null,1069470000,{"$f":"IFERROR(VLOOKUP(Datos_de_Tarjetas!D955,Parámetros!$AD$12:$AE$17,2,FALSE),\"\")","v":""},{"$f":"IF(Datos_de_Tarjetas!G955=0,\"\",Datos_de_Tarjetas!G955)","v":""},{"$f":"IFERROR(VLOOKUP(Datos_de_Tarjetas!K955,Parámetros!$AJ$3:$AK$13,2,FALSE),\"\")","v":""},{"$f":"IFERROR(VLOOKUP(Datos_de_Tarjetas!J955,Parámetros!$AQ$3:$AR$57,2,FALSE),\"\")","v":""},null,{"$f":"IF(Datos_de_Tarjetas!L955=0,\"\",Datos_de_Tarjetas!L955)","v":""},{"$f":"IF(Datos_de_Tarjetas!M955=0,\"\",Datos_de_Tarjetas!M955)","v":""},{"$f":"IF(Datos_de_Tarjetas!N955=0,\"\",Datos_de_Tarjetas!N955)","v":""},{"$f":"IFERROR(VLOOKUP(Datos_de_Tarjetas!P955,Parámetros!$AM$3:$AN$90,2,FALSE),\"\")","v":""}]
[null,1069470000,{"$f":"IFERROR(VLOOKUP(Datos_de_Tarjetas!D956,Parámetros!$AD$12:$AE$17,2,FALSE),\"\")","v":""},{"$f":"IF(Datos_de_Tarjetas!G956=0,\"\",Datos_de_Tarjetas!G956)","v":""},{"$f":"IFERROR(VLOOKUP(Datos_de_Tarjetas!K956,Parámetros!$AJ$3:$AK$13,2,FALSE),\"\")","v":""},{"$f":"IFERROR(VLOOKUP(Datos_de_Tarjetas!J956,Parámetros!$AQ$3:$AR$57,2,FALSE),\"\")","v":""},null,{"$f":"IF(Datos_de_Tarjetas!L956=0,\"\",Datos_de_Tarjetas!L956)","v":""},{"$f":"IF(Datos_de_Tarjetas!M956=0,\"\",Datos_de_Tarjetas!M956)","v":""},{"$f":"IF(Datos_de_Tarjetas!N956=0,\"\",Datos_de_Tarjetas!N956)","v":""},{"$f":"IFERROR(VLOOKUP(Datos_de_Tarjetas!P956,Parámetros!$AM$3:$AN$90,2,FALSE),\"\")","v":""}]
[null,1069470000,{"$f":"IFERROR(VLOOKUP(Datos_de_Tarjetas!D957,Parámetros!$AD$12:$AE$17,2,FALSE),\"\")","v":""},{"$f":"IF(Datos_de_Tarjetas!G957=0,\"\",Datos_de_Tarjetas!G957)","v":""},{"$f":"IFERROR(VLOOKUP(Datos_de_Tarjetas!K957,Parámetros!$AJ$3:$AK$13,2,FALSE),\"\")","v":""},{"$f":"IFERROR(VLOOKUP(Datos_de_Tarjetas!J957,Parámetros!$AQ$3:$AR$57,2,FALSE),\"\")","v":""},null,{"$f":"IF(Datos_de_Tarjetas!L957=0,\"\",Datos_de_Tarjetas!L957)","v":""},{"$f":"IF(Datos_de_Tarjetas!M957=0,\"\",Datos_de_Tarjetas!M957)","v":""},{"$f":"IF(Datos_de_Tarjetas!N957=0,\"\",Datos_de_Tarjetas!N957)","v":""},{"$f":"IFERROR(VLOOKUP(Datos_de_Tarjetas!P957,Parámetros!$AM$3:$AN$90,2,FALSE),\"\")","v":""}]
[null,1069470000,{"$f":"IFERROR(VLOOKUP(Datos_de_Tarjetas!D958,Parámetros!$AD$12:$AE$17,2,FALSE),\"\")","v":""},{"$f":"IF(Datos_de_Tarjetas!G958=0,\"\",Datos_de_Tarjetas!G958)","v":""},{"$f":"IFERROR(VLOOKUP(Datos_de_Tarjetas!K958,Parámetros!$AJ$3:$AK$13,2,FALSE),\"\")","v":""},{"$f":"IFERROR(VLOOKUP(Datos_de_Tarjetas!J958,Parámetros!$AQ$3:$AR$57,2,FALSE),\"\")","v":""},null,{"$f":"IF(Datos_de_Tarjetas!L958=0,\"\",Datos_de_Tarjetas!L958)","v":""},{"$f":"IF(Datos_de_Tarjetas!M958=0,\"\",Datos_de_Tarjetas!M958)","v":""},{"$f":"IF(Datos_de_Tarjetas!N958=0,\"\",Datos_de_Tarjetas!N958)","v":""},{"$f":"IFERROR(VLOOKUP(Datos_de_Tarjetas!P958,Parámetros!$AM$3:$AN$90,2,FALSE),\"\")","v":""}]
[null,1069470000,{"$f":"IFERROR(VLOOKUP(Datos_de_Tarjetas!D959,Parámetros!$AD$12:$AE$17,2,FALSE),\"\")","v":""},{"$f":"IF(Datos_de_Tarjetas!G959=0,\"\",Datos_de_Tarjetas!G959)","v":""},{"$f":"IFERROR(VLOOKUP(Datos_de_Tarjetas!K959,Parámetros!$AJ$3:$AK$13,2,FALSE),\"\")","v":""},{"$f":"IFERROR(VLOOKUP(Datos_de_Tarjetas!J959,Parámetros!$AQ$3:$AR$57,2,FALSE),\"\")","v":""},null,{"$f":"IF(Datos_de_Tarjetas!L959=0,\"\",Datos_de_Tarjetas!L959)","v":""},{"$f":"IF(Datos_de_Tarjetas!M959=0,\"\",Datos_de_Tarjetas!M959)","v":""},{"$f":"IF(Datos_de_Tarjetas!N959=0,\"\",Datos_de_Tarjetas!N959)","v":""},{"$f":"IFERROR(VLOOKUP(Datos_de_Tarjetas!P959,Parámetros!$AM$3:$AN$90,2,FALSE),\"\")","v":""}]
[null,1069470000,{"$f":"IFERROR(VLOOKUP(Datos_de_Tarjetas!D960,Parámetros!$AD$12:$AE$17,2,FALSE),\"\")","v":""},{"$f":"IF(Datos_de_Tarjetas!G960=0,\"\",Datos_de_Tarjetas!G960)","v":""},{"$f":"IFERROR(VLOOKUP(Datos_de_Tarjetas!K960,Parámetros!$AJ$3:$AK$13,2,FALSE),\"\")","v":""},{"$f":"IFERROR(VLOOKUP(Datos_de_Tarjetas!J960,Parámetros!$AQ$3:$AR$57,2,FALSE),\"\")","v":""},null,{"$f":"IF(Datos_de_Tarjetas!L960=0,\"\",Datos_de_Tarjetas!L960)","v":""},{"$f":"IF(Datos_de_Tarjetas!M960=0,\"\",Datos_de_Tarjetas!M960)","v":""},{"$f":"IF(Datos_de_Tarjetas!N960=0,\"\",Datos_de_Tarjetas!N960)","v":""},{"$f":"IFERROR(VLOOKUP(Datos_de_Tarjetas!P960,Parámetros!$AM$3:$AN$90,2,FALSE),\"\")","v":""}]
[null,1069470000,{"$f":"IFERROR(VLOOKUP(Datos_de_Tarjetas!D961,Parámetros!$AD$12:$AE$17,2,FALSE),\"\")","v":""},{"$f":"IF(Datos_de_Tarjetas!G961=0,\"\",Datos_de_Tarjetas!G961)","v":""},{"$f":"IFERROR(VLOOKUP(Datos_de_Tarjetas!K961,Parámetros!$AJ$3:$AK$13,2,FALSE),\"\")","v":""},{"$f":"IFERROR(VLOOKUP(Datos_de_Tarjetas!J961,Parámetros!$AQ$3:$AR$57,2,FALSE),\"\")","v":""},null,{"$f":"IF(Datos_de_Tarjetas!L961=0,\"\",Datos_de_Tarjetas!L961)","v":""},{"$f":"IF(Datos_de_Tarjetas!M961=0,\"\",Datos_de_Tarjetas!M961)","v":""},{"$f":"IF(Datos_de_Tarjetas!N961=0,\"\",Datos_de_Tarjetas!N961)","v":""},{"$f":"IFERROR(VLOOKUP(Datos_de_Tarjetas!P961,Parámetros!$AM$3:$AN$90,2,FALSE),\"\")","v":""}]
[null,1069470000,{"$f":"IFERROR(VLOOKUP(Datos_de_Tarjetas!D962,Parámetros!$AD$12:$AE$17,2,FALSE),\"\")","v":""},{"$f":"IF(Datos_de_Tarjetas!G962=0,\"\",Datos_de_Tarjetas!G962)","v":""},{"$f":"IFERROR(VLOOKUP(Datos_de_Tarjetas!K962,Parámetros!$AJ$3:$AK$13,2,FALSE),\"\")","v":""},{"$f":"IFERROR(VLOOKUP(Datos_de_Tarjetas!J962,Parámetros!$AQ$3:$AR$57,2,FALSE),\"\")","v":""},null,{"$f":"IF(Datos_de_Tarjetas!L962=0,\"\",Datos_de_Tarjetas!L962)","v":""},{"$f":"IF(Datos_de_Tarjetas!M962=0,\"\",Datos_de_Tarjetas!M962)","v":""},{"$f":"IF(Datos_de_Tarjetas!N962=0,\"\",Datos_de_Tarjetas!N962)","v":""},{"$f":"IFERROR(VLOOKUP(Datos_de_Tarjetas!P962,Parámetros!$AM$3:$AN$90,2,FALSE),\"\")","v":""}]
[null,1069470000,{"$f":"IFERROR(VLOOKUP(Datos_de_Tarjetas!D963,Parámetros!$AD$12:$AE$17,2,FALSE),\"\")","v":""},{"$f":"IF(Datos_de_Tarjetas!G963=0,\"\",Datos_de_Tarjetas!G963)","v":""},{"$f":"IFERROR(VLOOKUP(Datos_de_Tarjetas!K963,Parámetros!$AJ$3:$AK$13,2,FALSE),\"\")","v":""},{"$f":"IFERROR(VLOOKUP(Datos_de_Tarjetas!J963,Parámetros!$AQ$3:$AR$57,2,FALSE),\"\")","v":""},null,{"$f":"IF(Datos_de_Tarjetas!L963=0,\"\",Datos_de_Tarjetas!L963)","v":""},{"$f":"IF(Datos_de_Tarjetas!M963=0,\"\",Datos_de_Tarjetas!M963)","v":""},{"$f":"IF(Datos_de_Tarjetas!N963=0,\"\",Datos_de_Tarjetas!N963)","v":""},{"$f":"IFERROR(VLOOKUP(Datos_de_Tarjetas!P963,Parámetros!$AM$3:$AN$90,2,FALSE),\"\")","v":""}]
[null,1069470000,{"$f":"IFERROR(VLOOKUP(Datos_de_Tarjetas!D964,Parámetros!$AD$12:$AE$17,2,FALSE),\"\")","v":""},{"$f":"IF(Datos_de_Tarjetas!G964=0,\"\",Datos_de_Tarjetas!G964)","v":""},{"$f":"IFERROR(VLOOKUP(Datos_de_Tarjetas!K964,Parámetros!$AJ$3:$AK$13,2,FALSE),\"\")","v":""},{"$f":"IFERROR(VLOOKUP(Datos_de_Tarjetas!J964,Parámetros!$AQ$3:$AR$57,2,FALSE),\"\")","v":""},null,{"$f":"IF(Datos_de_Tarjetas!L964=0,\"\",Datos_de_Tarjetas!L964)","v":""},{"$f":"IF(Datos_de_Tarjetas!M964=0,\"\",Datos_de_Tarjetas!M964)","v":""},{"$f":"IF(Datos_de_Tarjetas!N964=0,\"\",Datos_de_Tarjetas!N964)","v":""},{"$f":"IFERROR(VLOOKUP(Datos_de_Tarjetas!P964,Parámetros!$AM$3:$AN$90,2,FALSE),\"\")","v":""}]
[null,1069470000,{"$f":"IFERROR(VLOOKUP(Datos_de_Tarjetas!D965,Parámetros!$AD$12:$AE$17,2,FALSE),\"\")","v":""},{"$f":"IF(Datos_de_Tarjetas!G965=0,\"\",Datos_de_Tarjetas!G965)","v":""},{"$f":"IFERROR(VLOOKUP(Datos_de_Tarjetas!K965,Parámetros!$AJ$3:$AK$13,2,FALSE),\"\")","v":""},{"$f":"IFERROR(VLOOKUP(Datos_de_Tarjetas!J965,Parámetros!$AQ$3:$AR$57,2,FALSE),\"\")","v":""},null,{"$f":"IF(Datos_de_Tarjetas!L965=0,\"\",Datos_de_Tarjetas!L965)","v":""},{"$f":"IF(Datos_de_Tarjetas!M965=0,\"\",Datos_de_Tarjetas!M965)","v":""},{"$f":"IF(Datos_de_Tarjetas!N965=0,\"\",Datos_de_Tarjetas!N965)","v":""},{"$f":"IFERROR(VLOOKUP(Datos_de_Tarjetas!P965,Parámetros!$AM$3:$AN$90,2,FALSE),\"\")","v":""}]
[null,1069470000,{"$f":"IFERROR(VLOOKUP(Datos_de_Tarjetas!D966,Parámetros!$AD$12:$AE$17,2,FALSE),\"\")","v":""},{"$f":"IF(Datos_de_Tarjetas!G966=0,\"\",Datos_de_Tarjetas!G966)","v":""},{"$f":"IFERROR(VLOOKUP(Datos_de_Tarjetas!K966,Parámetros!$AJ$3:$AK$13,2,FALSE),\"\")","v":""},{"$f":"IFERROR(VLOOKUP(Datos_de_Tarjetas!J966,Parámetros!$AQ$3:$AR$57,2,FALSE),\"\")","v":""},null,{"$f":"IF(Datos_de_Tarjetas!L966=0,\"\",Datos_de_Tarjetas!L966)","v":""},{"$f":"IF(Datos_de_Tarjetas!M966=0,\"\",Datos_de_Tarjetas!M966)","v":""},{"$f":"IF(Datos_de_Tarjetas!N966=0,\"\",Datos_de_Tarjetas!N966)","v":""},{"$f":"IFERROR(VLOOKUP(Datos_de_Tarjetas!P966,Parámetros!$AM$3:$AN$90,2,FALSE),\"\")","v":""}]
[null,1069470000,{"$f":"IFERROR(VLOOKUP(Datos_de_Tarjetas!D967,Parámetros!$AD$12:$AE$17,2,FALSE),\"\")","v":""},{"$f":"IF(Datos_de_Tarjetas!G967=0,\"\",Datos_de_Tarjetas!G967)","v":""},{"$f":"IFERROR(VLOOKUP(Datos_de_Tarjetas!K967,Parámetros!$AJ$3:$AK$13,2,FALSE),\"\")","v":""},{"$f":"IFERROR(VLOOKUP(Datos_de_Tarjetas!J967,Parámetros!$AQ$3:$AR$57,2,FALSE),\"\")","v":""},null,{"$f":"IF(Datos_de_Tarjetas!L967=0,\"\",Datos_de_Tarjetas!L967)","v":""},{"$f":"IF(Datos_de_Tarjetas!M967=0,\"\",Datos_de_Tarjetas!M967)","v":""},{"$f":"IF(Datos_de_Tarjetas!N967=0,\"\",Datos_de_Tarjetas!N967)","v":""},{"$f":"IFERROR(VLOOKUP(Datos_de_Tarjetas!P967,Parámetros!$AM$3:$AN$90,2,FALSE),\"\")","v":""}]
[null,1069470000,{"$f":"IFERROR(VLOOKUP(Datos_de_Tarjetas!D968,Parámetros!$AD$12:$AE$17,2,FALSE),\"\")","v":""},{"$f":"IF(Datos_de_Tarjetas!G968=0,\"\",Datos_de_Tarjetas!G968)","v":""},{"$f":"IFERROR(VLOOKUP(Datos_de_Tarjetas!K968,Parámetros!$AJ$3:$AK$13,2,FALSE),\"\")","v":""},{"$f":"IFERROR(VLOOKUP(Datos_de_Tarjetas!J968,Parámetros!$AQ$3:$AR$57,2,FALSE),\"\")","v":""},null,{"$f":"IF(Datos_de_Tarjetas!L968=0,\"\",Datos_de_Tarjetas!L968)","v":""},{"$f":"IF(Datos_de_Tarjetas!M968=0,\"\",Datos_de_Tarjetas!M968)","v":""},{"$f":"IF(Datos_de_Tarjetas!N968=0,\"\",Datos_de_Tarjetas!N968)","v":""},{"$f":"IFERROR(VLOOKUP(Datos_de_Tarjetas!P968,Parámetros!$AM$3:$AN$90,2,FALSE),\"\")","v":""}]
[null,1069470000,{"$f":"IFERROR(VLOOKUP(Datos_de_Tarjetas!D969,Parámetros!$AD$12:$AE$17,2,FALSE),\"\")","v":""},{"$f":"IF(Datos_de_Tarjetas!G969=0,\"\",Datos_de_Tarjetas!G969)","v":""},{"$f":"IFERROR(VLOOKUP(Datos_de_Tarjetas!K969,Parámetros!$AJ$3:$AK$13,2,FALSE),\"\")","v":""},{"$f":"IFERROR(VLOOKUP(Datos_de_Tarjetas!J969,Parámetros!$AQ$3:$AR$57,2,FALSE),\"\")","v":""},null,{"$f":"IF(Datos_de_Tarjetas!L969=0,\"\",Datos_de_Tarjetas!L969)","v":""},{"$f":"IF(Datos_de_Tarjetas!M969=0,\"\",Datos_de_Tarjetas!M969)","v":""},{"$f":"IF(Datos_de_Tarjetas!N969=0,\"\",Datos_de_Tarjetas!N969)","v":""},{"$f":"IFERROR(VLOOKUP(Datos_de_Tarjetas!P969,Parámetros!$AM$3:$AN$90,2,FALSE),\"\")","v":""}]
[null,1069470000,{"$f":"IFERROR(VLOOKUP(Datos_de_Tarjetas!D970,Parámetros!$AD$12:$AE$17,2,FALSE),\"\")","v":""},{"$f":"IF(Datos_de_Tarjetas!G970=0,\"\",Datos_de_Tarjetas!G970)","v":""},{"$f":"IFERROR(VLOOKUP(Datos_de_Tarjetas!K970,Parámetros!$AJ$3:$AK$13,2,FALSE),\"\")","v":""},{"$f":"IFERROR(VLOOKUP(Datos_de_Tarjetas!J970,Parámetros!$AQ$3:$AR$57,2,FALSE),\"\")","v":""},null,{"$f":"IF(Datos_de_Tarjetas!L970=0,\"\",Datos_de_Tarjetas!L970)","v":""},{"$f":"IF(Datos_de_Tarjetas!M970=0,\"\",Datos_de_Tarjetas!M970)","v":""},{"$f":"IF(Datos_de_Tarjetas!N970=0,\"\",Datos_de_Tarjetas!N970)","v":""},{"$f":"IFERROR(VLOOKUP(Datos_de_Tarjetas!P970,Parámetros!$AM$3:$AN$90,2,FALSE),\"\")","v":""}]
[null,1069470000,{"$f":"IFERROR(VLOOKUP(Datos_de_Tarjetas!D971,Parámetros!$AD$12:$AE$17,2,FALSE),\"\")","v":""},{"$f":"IF(Datos_de_Tarjetas!G971=0,\"\",Datos_de_Tarjetas!G971)","v":""},{"$f":"IFERROR(VLOOKUP(Datos_de_Tarjetas!K971,Parámetros!$AJ$3:$AK$13,2,FALSE),\"\")","v":""},{"$f":"IFERROR(VLOOKUP(Datos_de_Tarjetas!J971,Parámetros!$AQ$3:$AR$57,2,FALSE),\"\")","v":""},null,{"$f":"IF(Datos_de_Tarjetas!L971=0,\"\",Datos_de_Tarjetas!L971)","v":""},{"$f":"IF(Datos_de_Tarjetas!M971=0,\"\",Datos_de_Tarjetas!M971)","v":""},{"$f":"IF(Datos_de_Tarjetas!N971=0,\"\",Datos_de_Tarjetas!N971)","v":""},{"$f":"IFERROR(VLOOKUP(Datos_de_Tarjetas!P971,Parámetros!$AM$3:$AN$90,2,FALSE),\"\")","v":""}]
[null,1069470000,{"$f":"IFERROR(VLOOKUP(Datos_de_Tarjetas!D972,Parámetros!$AD$12:$AE$17,2,FALSE),\"\")","v":""},{"$f":"IF(Datos_de_Tarjetas!G972=0,\"\",Datos_de_Tarjetas!G972)","v":""},{"$f":"IFERROR(VLOOKUP(Datos_de_Tarjetas!K972,Parámetros!$AJ$3:$AK$13,2,FALSE),\"\")","v":""},{"$f":"IFERROR(VLOOKUP(Datos_de_Tarjetas!J972,Parámetros!$AQ$3:$AR$57,2,FALSE),\"\")","v":""},null,{"$f":"IF(Datos_de_Tarjetas!L972=0,\"\",Datos_de_Tarjetas!L972)","v":""},{"$f":"IF(Datos_de_Tarjetas!M972=0,\"\",Datos_de_Tarjetas!M972)","v":""},{"$f":"IF(Datos_de_Tarjetas!N972=0,\"\",Datos_de_Tarjetas!N972)","v":""},{"$f":"IFERROR(VLOOKUP(Datos_de_Tarjetas!P972,Parámetros!$AM$3:$AN$90,2,FALSE),\"\")","v":""}]
[null,1069470000,{"$f":"IFERROR(VLOOKUP(Datos_de_Tarjetas!D973,Parámetros!$AD$12:$AE$17,2,FALSE),\"\")","v":""},{"$f":"IF(Datos_de_Tarjetas!G973=0,\"\",Datos_de_Tarjetas!G973)","v":""},{"$f":"IFERROR(VLOOKUP(Datos_de_Tarjetas!K973,Parámetros!$AJ$3:$AK$13,2,FALSE),\"\")","v":""},{"$f":"IFERROR(VLOOKUP(Datos_de_Tarjetas!J973,Parámetros!$AQ$3:$AR$57,2,FALSE),\"\")","v":""},null,{"$f":"IF(Datos_de_Tarjetas!L973=0,\"\",Datos_de_Tarjetas!L973)","v":""},{"$f":"IF(Datos_de_Tarjetas!M973=0,\"\",Datos_de_Tarjetas!M973)","v":""},{"$f":"IF(Datos_de_Tarjetas!N973=0,\"\",Datos_de_Tarjetas!N973)","v":""},{"$f":"IFERROR(VLOOKUP(Datos_de_Tarjetas!P973,Parámetros!$AM$3:$AN$90,2,FALSE),\"\")","v":""}]
[null,1069470000,{"$f":"IFERROR(VLOOKUP(Datos_de_Tarjetas!D974,Parámetros!$AD$12:$AE$17,2,FALSE),\"\")","v":""},{"$f":"IF(Datos_de_Tarjetas!G974=0,\"\",Datos_de_Tarjetas!G974)","v":""},{"$f":"IFERROR(VLOOKUP(Datos_de_Tarjetas!K974,Parámetros!$AJ$3:$AK$13,2,FALSE),\"\")","v":""},{"$f":"IFERROR(VLOOKUP(Datos_de_Tarjetas!J974,Parámetros!$AQ$3:$AR$57,2,FALSE),\"\")","v":""},null,{"$f":"IF(Datos_de_Tarjetas!L974=0,\"\",Datos_de_Tarjetas!L974)","v":""},{"$f":"IF(Datos_de_Tarjetas!M974=0,\"\",Datos_de_Tarjetas!M974)","v":""},{"$f":"IF(Datos_de_Tarjetas!N974=0,\"\",Datos_de_Tarjetas!N974)","v":""},{"$f":"IFERROR(VLOOKUP(Datos_de_Tarjetas!P974,Parámetros!$AM$3:$AN$90,2,FALSE),\"\")","v":""}]
[null,1069470000,{"$f":"IFERROR(VLOOKUP(Datos_de_Tarjetas!D975,Parámetros!$AD$12:$AE$17,2,FALSE),\"\")","v":""},{"$f":"IF(Datos_de_Tarjetas!G975=0,\"\",Datos_de_Tarjetas!G975)","v":""},{"$f":"IFERROR(VLOOKUP(Datos_de_Tarjetas!K975,Parámetros!$AJ$3:$AK$13,2,FALSE),\"\")","v":""},{"$f":"IFERROR(VLOOKUP(Datos_de_Tarjetas!J975,Parámetros!$AQ$3:$AR$57,2,FALSE),\"\")","v":""},null,{"$f":"IF(Datos_de_Tarjetas!L975=0,\"\",Datos_de_Tarjetas!L975)","v":""},{"$f":"IF(Datos_de_Tarjetas!M975=0,\"\",Datos_de_Tarjetas!M975)","v":""},{"$f":"IF(Datos_de_Tarjetas!N975=0,\"\",Datos_de_Tarjetas!N975)","v":""},{"$f":"IFERROR(VLOOKUP(Datos_de_Tarjetas!P975,Parámetros!$AM$3:$AN$90,2,FALSE),\"\")","v":""}]
[null,1069470000,{"$f":"IFERROR(VLOOKUP(Datos_de_Tarjetas!D976,Parámetros!$AD$12:$AE$17,2,FALSE),\"\")","v":""},{"$f":"IF(Datos_de_Tarjetas!G976=0,\"\",Datos_de_Tarjetas!G976)","v":""},{"$f":"IFERROR(VLOOKUP(Datos_de_Tarjetas!K976,Parámetros!$AJ$3:$AK$13,2,FALSE),\"\")","v":""},{"$f":"IFERROR(VLOOKUP(Datos_de_Tarjetas!J976,Parámetros!$AQ$3:$AR$57,2,FALSE),\"\")","v":""},null,{"$f":"IF(Datos_de_Tarjetas!L976=0,\"\",Datos_de_Tarjetas!L976)","v":""},{"$f":"IF(Datos_de_Tarjetas!M976=0,\"\",Datos_de_Tarjetas!M976)","v":""},{"$f":"IF(Datos_de_Tarjetas!N976=0,\"\",Datos_de_Tarjetas!N976)","v":""},{"$f":"IFERROR(VLOOKUP(Datos_de_Tarjetas!P976,Parámetros!$AM$3:$AN$90,2,FALSE),\"\")","v":""}]
[null,{"$f":"$C$2","v":1069470000},{"$f":"IFERROR(VLOOKUP(Datos_de_Tarjetas!D977,Parámetros!$AD$12:$AE$17,2,FALSE),\"\")","v":""},{"$f":"IF(Datos_de_Tarjetas!G977=0,\"\",Datos_de_Tarjetas!G977)","v":""},{"$f":"IFERROR(VLOOKUP(Datos_de_Tarjetas!K977,Parámetros!$AJ$3:$AK$13,2,FALSE),\"\")","v":""},{"$f":"IFERROR(VLOOKUP(Datos_de_Tarjetas!J977,Parámetros!$AQ$3:$AR$57,2,FALSE),\"\")","v":""},null,{"$f":"IF(Datos_de_Tarjetas!L977=0,\"\",Datos_de_Tarjetas!L977)","v":""},{"$f":"IF(Datos_de_Tarjetas!M977=0,\"\",Datos_de_Tarjetas!M977)","v":""},{"$f":"IF(Datos_de_Tarjetas!N977=0,\"\",Datos_de_Tarjetas!N977)","v":""},{"$f":"IFERROR(VLOOKUP(Datos_de_Tarjetas!P977,Parámetros!$AM$3:$AN$90,2,FALSE),\"\")","v":""}]
[null,1069470000,{"$f":"IFERROR(VLOOKUP(Datos_de_Tarjetas!D978,Parámetros!$AD$12:$AE$17,2,FALSE),\"\")","v":""},{"$f":"IF(Datos_de_Tarjetas!G978=0,\"\",Datos_de_Tarjetas!G978)","v":""},{"$f":"IFERROR(VLOOKUP(Datos_de_Tarjetas!K978,Parámetros!$AJ$3:$AK$13,2,FALSE),\"\")","v":""},{"$f":"IFERROR(VLOOKUP(Datos_de_Tarjetas!J978,Parámetros!$AQ$3:$AR$57,2,FALSE),\"\")","v":""},null,{"$f":"IF(Datos_de_Tarjetas!L978=0,\"\",Datos_de_Tarjetas!L978)","v":""},{"$f":"IF(Datos_de_Tarjetas!M978=0,\"\",Datos_de_Tarjetas!M978)","v":""},{"$f":"IF(Datos_de_Tarjetas!N978=0,\"\",Datos_de_Tarjetas!N978)","v":""},{"$f":"IFERROR(VLOOKUP(Datos_de_Tarjetas!P978,Parámetros!$AM$3:$AN$90,2,FALSE),\"\")","v":""}]
[null,1069470000,{"$f":"IFERROR(VLOOKUP(Datos_de_Tarjetas!D979,Parámetros!$AD$12:$AE$17,2,FALSE),\"\")","v":""},{"$f":"IF(Datos_de_Tarjetas!G979=0,\"\",Datos_de_Tarjetas!G979)","v":""},{"$f":"IFERROR(VLOOKUP(Datos_de_Tarjetas!K979,Parámetros!$AJ$3:$AK$13,2,FALSE),\"\")","v":""},{"$f":"IFERROR(VLOOKUP(Datos_de_Tarjetas!J979,Parámetros!$AQ$3:$AR$57,2,FALSE),\"\")","v":""},null,{"$f":"IF(Datos_de_Tarjetas!L979=0,\"\",Datos_de_Tarjetas!L979)","v":""},{"$f":"IF(Datos_de_Tarjetas!M979=0,\"\",Datos_de_Tarjetas!M979)","v":""},{"$f":"IF(Datos_de_Tarjetas!N979=0,\"\",Datos_de_Tarjetas!N979)","v":""},{"$f":"IFERROR(VLOOKUP(Datos_de_Tarjetas!P979,Parámetros!$AM$3:$AN$90,2,FALSE),\"\")","v":""}]
[null,1069470000,{"$f":"IFERROR(VLOOKUP(Datos_de_Tarjetas!D980,Parámetros!$AD$12:$AE$17,2,FALSE),\"\")","v":""},{"$f":"IF(Datos_de_Tarjetas!G980=0,\"\",Datos_de_Tarjetas!G980)","v":""},{"$f":"IFERROR(VLOOKUP(Datos_de_Tarjetas!K980,Parámetros!$AJ$3:$AK$13,2,FALSE),\"\")","v":""},{"$f":"IFERROR(VLOOKUP(Datos_de_Tarjetas!J980,Parámetros!$AQ$3:$AR$57,2,FALSE),\"\")","v":""},null,{"$f":"IF(Datos_de_Tarjetas!L980=0,\"\",Datos_de_Tarjetas!L980)","v":""},{"$f":"IF(Datos_de_Tarjetas!M980=0,\"\",Datos_de_Tarjetas!M980)","v":""},{"$f":"IF(Datos_de_Tarjetas!N980=0,\"\",Datos_de_Tarjetas!N980)","v":""},{"$f":"IFERROR(VLOOKUP(Datos_de_Tarjetas!P980,Parámetros!$AM$3:$AN$90,2,FALSE),\"\")","v":""}]
[null,1069470000,{"$f":"IFERROR(VLOOKUP(Datos_de_Tarjetas!D981,Parámetros!$AD$12:$AE$17,2,FALSE),\"\")","v":""},{"$f":"IF(Datos_de_Tarjetas!G981=0,\"\",Datos_de_Tarjetas!G981)","v":""},{"$f":"IFERROR(VLOOKUP(Datos_de_Tarjetas!K981,Parámetros!$AJ$3:$AK$13,2,FALSE),\"\")","v":""},{"$f":"IFERROR(VLOOKUP(Datos_de_Tarjetas!J981,Parámetros!$AQ$3:$AR$57,2,FALSE),\"\")","v":""},null,{"$f":"IF(Datos_de_Tarjetas!L981=0,\"\",Datos_de_Tarjetas!L981)","v":""},{"$f":"IF(Datos_de_Tarjetas!M981=0,\"\",Datos_de_Tarjetas!M981)","v":""},{"$f":"IF(Datos_de_Tarjetas!N981=0,\"\",Datos_de_Tarjetas!N981)","v":""},{"$f":"IFERROR(VLOOKUP(Datos_de_Tarjetas!P981,Parámetros!$AM$3:$AN$90,2,FALSE),\"\")","v":""}]
[null,1069470000,{"$f":"IFERROR(VLOOKUP(Datos_de_Tarjetas!D982,Parámetros!$AD$12:$AE$17,2,FALSE),\"\")","v":""},{"$f":"IF(Datos_de_Tarjetas!G982=0,\"\",Datos_de_Tarjetas!G982)","v":""},{"$f":"IFERROR(VLOOKUP(Datos_de_Tarjetas!K982,Parámetros!$AJ$3:$AK$13,2,FALSE),\"\")","v":""},{"$f":"IFERROR(VLOOKUP(Datos_de_Tarjetas!J982,Parámetros!$AQ$3:$AR$57,2,FALSE),\"\")","v":""},null,{"$f":"IF(Datos_de_Tarjetas!L982=0,\"\",Datos_de_Tarjetas!L982)","v":""},{"$f":"IF(Datos_de_Tarjetas!M982=0,\"\",Datos_de_Tarjetas!M982)","v":""},{"$f":"IF(Datos_de_Tarjetas!N982=0,\"\",Datos_de_Tarjetas!N982)","v":""},{"$f":"IFERROR(VLOOKUP(Datos_de_Tarjetas!P982,Parámetros!$AM$3:$AN$90,2,FALSE),\"\")","v":""}]
[null,1069470000,{"$f":"IFERROR(VLOOKUP(Datos_de_Tarjetas!D983,Parámetros!$AD$12:$AE$17,2,FALSE),\"\")","v":""},{"$f":"IF(Datos_de_Tarjetas!G983=0,\"\",Datos_de_Tarjetas!G983)","v":""},{"$f":"IFERROR(VLOOKUP(Datos_de_Tarjetas!K983,Parámetros!$AJ$3:$AK$13,2,FALSE),\"\")","v":""},{"$f":"IFERROR(VLOOKUP(Datos_de_Tarjetas!J983,Parámetros!$AQ$3:$AR$57,2,FALSE),\"\")","v":""},null,{"$f":"IF(Datos_de_Tarjetas!L983=0,\"\",Datos_de_Tarjetas!L983)","v":""},{"$f":"IF(Datos_de_Tarjetas!M983=0,\"\",Datos_de_Tarjetas!M983)","v":""},{"$f":"IF(Datos_de_Tarjetas!N983=0,\"\",Datos_de_Tarjetas!N983)","v":""},{"$f":"IFERROR(VLOOKUP(Datos_de_Tarjetas!P983,Parámetros!$AM$3:$AN$90,2,FALSE),\"\")","v":""}]
[null,1069470000,{"$f":"IFERROR(VLOOKUP(Datos_de_Tarjetas!D984,Parámetros!$AD$12:$AE$17,2,FALSE),\"\")","v":""},{"$f":"IF(Datos_de_Tarjetas!G984=0,\"\",Datos_de_Tarjetas!G984)","v":""},{"$f":"IFERROR(VLOOKUP(Datos_de_Tarjetas!K984,Parámetros!$AJ$3:$AK$13,2,FALSE),\"\")","v":""},{"$f":"IFERROR(VLOOKUP(Datos_de_Tarjetas!J984,Parámetros!$AQ$3:$AR$57,2,FALSE),\"\")","v":""},null,{"$f":"IF(Datos_de_Tarjetas!L984=0,\"\",Datos_de_Tarjetas!L984)","v":""},{"$f":"IF(Datos_de_Tarjetas!M984=0,\"\",Datos_de_Tarjetas!M984)","v":""},{"$f":"IF(Datos_de_Tarjetas!N984=0,\"\",Datos_de_Tarjetas!N984)","v":""},{"$f":"IFERROR(VLOOKUP(Datos_de_Tarjetas!P984,Parámetros!$AM$3:$AN$90,2,FALSE),\"\")","v":""}]
[null,1069470000,{"$f":"IFERROR(VLOOKUP(Datos_de_Tarjetas!D985,Parámetros!$AD$12:$AE$17,2,FALSE),\"\")","v":""},{"$f":"IF(Datos_de_Tarjetas!G985=0,\"\",Datos_de_Tarjetas!G985)","v":""},{"$f":"IFERROR(VLOOKUP(Datos_de_Tarjetas!K985,Parámetros!$AJ$3:$AK$13,2,FALSE),\"\")","v":""},{"$f":"IFERROR(VLOOKUP(Datos_de_Tarjetas!J985,Parámetros!$AQ$3:$AR$57,2,FALSE),\"\")","v":""},null,{"$f":"IF(Datos_de_Tarjetas!L985=0,\"\",Datos_de_Tarjetas!L985)","v":""},{"$f":"IF(Datos_de_Tarjetas!M985=0,\"\",Datos_de_Tarjetas!M985)","v":""},{"$f":"IF(Datos_de_Tarjetas!N985=0,\"\",Datos_de_Tarjetas!N985)","v":""},{"$f":"IFERROR(VLOOKUP(Datos_de_Tarjetas!P985,Parámetros!$AM$3:$AN$90,2,FALSE),\"\")","v":""}]
[null,1069470000,{"$f":"IFERROR(VLOOKUP(Datos_de_Tarjetas!D986,Parámetros!$AD$12:$AE$17,2,FALSE),\"\")","v":""},{"$f":"IF(Datos_de_Tarjetas!G986=0,\"\",Datos_de_Tarjetas!G986)","v":""},{"$f":"IFERROR(VLOOKUP(Datos_de_Tarjetas!K986,Parámetros!$AJ$3:$AK$13,2,FALSE),\"\")","v":""},{"$f":"IFERROR(VLOOKUP(Datos_de_Tarjetas!J986,Parámetros!$AQ$3:$AR$57,2,FALSE),\"\")","v":""},null,{"$f":"IF(Datos_de_Tarjetas!L986=0,\"\",Datos_de_Tarjetas!L986)","v":""},{"$f":"IF(Datos_de_Tarjetas!M986=0,\"\",Datos_de_Tarjetas!M986)","v":""},{"$f":"IF(Datos_de_Tarjetas!N986=0,\"\",Datos_de_Tarjetas!N986)","v":""},{"$f":"IFERROR(VLOOKUP(Datos_de_Tarjetas!P986,Parámetros!$AM$3:$AN$90,2,FALSE),\"\")","v":""}]
[null,1069470000,{"$f":"IFERROR(VLOOKUP(Datos_de_Tarjetas!D987,Parámetros!$AD$12:$AE$17,2,FALSE),\"\")","v":""},{"$f":"IF(Datos_de_Tarjetas!G987=0,\"\",Datos_de_Tarjetas!G987)","v":""},{"$f":"IFERROR(VLOOKUP(Datos_de_Tarjetas!K987,Parámetros!$AJ$3:$AK$13,2,FALSE),\"\")","v":""},{"$f":"IFERROR(VLOOKUP(Datos_de_Tarjetas!J987,Parámetros!$AQ$3:$AR$57,2,FALSE),\"\")","v":""},null,{"$f":"IF(Datos_de_Tarjetas!L987=0,\"\",Datos_de_Tarjetas!L987)","v":""},{"$f":"IF(Datos_de_Tarjetas!M987=0,\"\",Datos_de_Tarjetas!M987)","v":""},{"$f":"IF(Datos_de_Tarjetas!N987=0,\"\",Datos_de_Tarjetas!N987)","v":""},{"$f":"IFERROR(VLOOKUP(Datos_de_Tarjetas!P987,Parámetros!$AM$3:$AN$90,2,FALSE),\"\")","v":""}]
[null,1069470000,{"$f":"IFERROR(VLOOKUP(Datos_de_Tarjetas!D988,Parámetros!$AD$12:$AE$17,2,FALSE),\"\")","v":""},{"$f":"IF(Datos_de_Tarjetas!G988=0,\"\",Datos_de_Tarjetas!G988)","v":""},{"$f":"IFERROR(VLOOKUP(Datos_de_Tarjetas!K988,Parámetros!$AJ$3:$AK$13,2,FALSE),\"\")","v":""},{"$f":"IFERROR(VLOOKUP(Datos_de_Tarjetas!J988,Parámetros!$AQ$3:$AR$57,2,FALSE),\"\")","v":""},null,{"$f":"IF(Datos_de_Tarjetas!L988=0,\"\",Datos_de_Tarjetas!L988)","v":""},{"$f":"IF(Datos_de_Tarjetas!M988=0,\"\",Datos_de_Tarjetas!M988)","v":""},{"$f":"IF(Datos_de_Tarjetas!N988=0,\"\",Datos_de_Tarjetas!N988)","v":""},{"$f":"IFERROR(VLOOKUP(Datos_de_Tarjetas!P988,Parámetros!$AM$3:$AN$90,2,FALSE),\"\")","v":""}]
[null,1069470000,{"$f":"IFERROR(VLOOKUP(Datos_de_Tarjetas!D989,Parámetros!$AD$12:$AE$17,2,FALSE),\"\")","v":""},{"$f":"IF(Datos_de_Tarjetas!G989=0,\"\",Datos_de_Tarjetas!G989)","v":""},{"$f":"IFERROR(VLOOKUP(Datos_de_Tarjetas!K989,Parámetros!$AJ$3:$AK$13,2,FALSE),\"\")","v":""},{"$f":"IFERROR(VLOOKUP(Datos_de_Tarjetas!J989,Parámetros!$AQ$3:$AR$57,2,FALSE),\"\")","v":""},null,{"$f":"IF(Datos_de_Tarjetas!L989=0,\"\",Datos_de_Tarjetas!L989)","v":""},{"$f":"IF(Datos_de_Tarjetas!M989=0,\"\",Datos_de_Tarjetas!M989)","v":""},{"$f":"IF(Datos_de_Tarjetas!N989=0,\"\",Datos_de_Tarjetas!N989)","v":""},{"$f":"IFERROR(VLOOKUP(Datos_de_Tarjetas!P989,Parámetros!$AM$3:$AN$90,2,FALSE),\"\")","v":""}]
[null,1069470000,{"$f":"IFERROR(VLOOKUP(Datos_de_Tarjetas!D990,Parámetros!$AD$12:$AE$17,2,FALSE),\"\")","v":""},{"$f":"IF(Datos_de_Tarjetas!G990=0,\"\",Datos_de_Tarjetas!G990)","v":""},{"$f":"IFERROR(VLOOKUP(Datos_de_Tarjetas!K990,Parámetros!$AJ$3:$AK$13,2,FALSE),\"\")","v":""},{"$f":"IFERROR(VLOOKUP(Datos_de_Tarjetas!J990,Parámetros!$AQ$3:$AR$57,2,FALSE),\"\")","v":""},null,{"$f":"IF(Datos_de_Tarjetas!L990=0,\"\",Datos_de_Tarjetas!L990)","v":""},{"$f":"IF(Datos_de_Tarjetas!M990=0,\"\",Datos_de_Tarjetas!M990)","v":""},{"$f":"IF(Datos_de_Tarjetas!N990=0,\"\",Datos_de_Tarjetas!N990)","v":""},{"$f":"IFERROR(VLOOKUP(Datos_de_Tarjetas!P990,Parámetros!$AM$3:$AN$90,2,FALSE),\"\")","v":""}]
[null,1069470000,{"$f":"IFERROR(VLOOKUP(Datos_de_Tarjetas!D991,Parámetros!$AD$12:$AE$17,2,FALSE),\"\")","v":""},{"$f":"IF(Datos_de_Tarjetas!G991=0,\"\",Datos_de_Tarjetas!G991)","v":""},{"$f":"IFERROR(VLOOKUP(Datos_de_Tarjetas!K991,Parámetros!$AJ$3:$AK$13,2,FALSE),\"\")","v":""},{"$f":"IFERROR(VLOOKUP(Datos_de_Tarjetas!J991,Parámetros!$AQ$3:$AR$57,2,FALSE),\"\")","v":""},null,{"$f":"IF(Datos_de_Tarjetas!L991=0,\"\",Datos_de_Tarjetas!L991)","v":""},{"$f":"IF(Datos_de_Tarjetas!M991=0,\"\",Datos_de_Tarjetas!M991)","v":""},{"$f":"IF(Datos_de_Tarjetas!N991=0,\"\",Datos_de_Tarjetas!N991)","v":""},{"$f":"IFERROR(VLOOKUP(Datos_de_Tarjetas!P991,Parámetros!$AM$3:$AN$90,2,FALSE),\"\")","v":""}]
[null,1069470000,{"$f":"IFERROR(VLOOKUP(Datos_de_Tarjetas!D992,Parámetros!$AD$12:$AE$17,2,FALSE),\"\")","v":""},{"$f":"IF(Datos_de_Tarjetas!G992=0,\"\",Datos_de_Tarjetas!G992)","v":""},{"$f":"IFERROR(VLOOKUP(Datos_de_Tarjetas!K992,Parámetros!$AJ$3:$AK$13,2,FALSE),\"\")","v":""},{"$f":"IFERROR(VLOOKUP(Datos_de_Tarjetas!J992,Parámetros!$AQ$3:$AR$57,2,FALSE),\"\")","v":""},null,{"$f":"IF(Datos_de_Tarjetas!L992=0,\"\",Datos_de_Tarjetas!L992)","v":""},{"$f":"IF(Datos_de_Tarjetas!M992=0,\"\",Datos_de_Tarjetas!M992)","v":""},{"$f":"IF(Datos_de_Tarjetas!N992=0,\"\",Datos_de_Tarjetas!N992)","v":""},{"$f":"IFERROR(VLOOKUP(Datos_de_Tarjetas!P992,Parámetros!$AM$3:$AN$90,2,FALSE),\"\")","v":""}]
[null,1069470000,{"$f":"IFERROR(VLOOKUP(Datos_de_Tarjetas!D993,Parámetros!$AD$12:$AE$17,2,FALSE),\"\")","v":""},{"$f":"IF(Datos_de_Tarjetas!G993=0,\"\",Datos_de_Tarjetas!G993)","v":""},{"$f":"IFERROR(VLOOKUP(Datos_de_Tarjetas!K993,Parámetros!$AJ$3:$AK$13,2,FALSE),\"\")","v":""},{"$f":"IFERROR(VLOOKUP(Datos_de_Tarjetas!J993,Parámetros!$AQ$3:$AR$57,2,FALSE),\"\")","v":""},null,{"$f":"IF(Datos_de_Tarjetas!L993=0,\"\",Datos_de_Tarjetas!L993)","v":""},{"$f":"IF(Datos_de_Tarjetas!M993=0,\"\",Datos_de_Tarjetas!M993)","v":""},{"$f":"IF(Datos_de_Tarjetas!N993=0,\"\",Datos_de_Tarjetas!N993)","v":""},{"$f":"IFERROR(VLOOKUP(Datos_de_Tarjetas!P993,Parámetros!$AM$3:$AN$90,2,FALSE),\"\")","v":""}]
[null,1069470000,{"$f":"IFERROR(VLOOKUP(Datos_de_Tarjetas!D994,Parámetros!$AD$12:$AE$17,2,FALSE),\"\")","v":""},{"$f":"IF(Datos_de_Tarjetas!G994=0,\"\",Datos_de_Tarjetas!G994)","v":""},{"$f":"IFERROR(VLOOKUP(Datos_de_Tarjetas!K994,Parámetros!$AJ$3:$AK$13,2,FALSE),\"\")","v":""},{"$f":"IFERROR(VLOOKUP(Datos_de_Tarjetas!J994,Parámetros!$AQ$3:$AR$57,2,FALSE),\"\")","v":""},null,{"$f":"IF(Datos_de_Tarjetas!L994=0,\"\",Datos_de_Tarjetas!L994)","v":""},{"$f":"IF(Datos_de_Tarjetas!M994=0,\"\",Datos_de_Tarjetas!M994)","v":""},{"$f":"IF(Datos_de_Tarjetas!N994=0,\"\",Datos_de_Tarjetas!N994)","v":""},{"$f":"IFERROR(VLOOKUP(Datos_de_Tarjetas!P994,Parámetros!$AM$3:$AN$90,2,FALSE),\"\")","v":""}]
[null,1069470000,{"$f":"IFERROR(VLOOKUP(Datos_de_Tarjetas!D995,Parámetros!$AD$12:$AE$17,2,FALSE),\"\")","v":""},{"$f":"IF(Datos_de_Tarjetas!G995=0,\"\",Datos_de_Tarjetas!G995)","v":""},{"$f":"IFERROR(VLOOKUP(Datos_de_Tarjetas!K995,Parámetros!$AJ$3:$AK$13,2,FALSE),\"\")","v":""},{"$f":"IFERROR(VLOOKUP(Datos_de_Tarjetas!J995,Parámetros!$AQ$3:$AR$57,2,FALSE),\"\")","v":""},null,{"$f":"IF(Datos_de_Tarjetas!L995=0,\"\",Datos_de_Tarjetas!L995)","v":""},{"$f":"IF(Datos_de_Tarjetas!M995=0,\"\",Datos_de_Tarjetas!M995)","v":""},{"$f":"IF(Datos_de_Tarjetas!N995=0,\"\",Datos_de_Tarjetas!N995)","v":""},{"$f":"IFERROR(VLOOKUP(Datos_de_Tarjetas!P995,Parámetros!$AM$3:$AN$90,2,FALSE),\"\")","v":""}]
[null,1069470000,{"$f":"IFERROR(VLOOKUP(Datos_de_Tarjetas!D996,Parámetros!$AD$12:$AE$17,2,FALSE),\"\")","v":""},{"$f":"IF(Datos_de_Tarjetas!G996=0,\"\",Datos_de_Tarjetas!G996)","v":""},{"$f":"IFERROR(VLOOKUP(Datos_de_Tarjetas!K996,Parámetros!$AJ$3:$AK$13,2,FALSE),\"\")","v":""},{"$f":"IFERROR(VLOOKUP(Datos_de_Tarjetas!J996,Parámetros!$AQ$3:$AR$57,2,FALSE),\"\")","v":""},null,{"$f":"IF(Datos_de_Tarjetas!L996=0,\"\",Datos_de_Tarjetas!L996)","v":""},{"$f":"IF(Datos_de_Tarjetas!M996=0,\"\",Datos_de_Tarjetas!M996)","v":""},{"$f":"IF(Datos_de_Tarjetas!N996=0,\"\",Datos_de_Tarjetas!N996)","v":""},{"$f":"IFERROR(VLOOKUP(Datos_de_Tarjetas!P996,Parámetros!$AM$3:$AN$90,2,FALSE),\"\")","v":""}]
[null,1069470000,{"$f":"IFERROR(VLOOKUP(Datos_de_Tarjetas!D997,Parámetros!$AD$12:$AE$17,2,FALSE),\"\")","v":""},{"$f":"IF(Datos_de_Tarjetas!G997=0,\"\",Datos_de_Tarjetas!G997)","v":""},{"$f":"IFERROR(VLOOKUP(Datos_de_Tarjetas!K997,Parámetros!$AJ$3:$AK$13,2,FALSE),\"\")","v":""},{"$f":"IFERROR(VLOOKUP(Datos_de_Tarjetas!J997,Parámetros!$AQ$3:$AR$57,2,FALSE),\"\")","v":""},null,{"$f":"IF(Datos_de_Tarjetas!L997=0,\"\",Datos_de_Tarjetas!L997)","v":""},{"$f":"IF(Datos_de_Tarjetas!M997=0,\"\",Datos_de_Tarjetas!M997)","v":""},{"$f":"IF(Datos_de_Tarjetas!N997=0,\"\",Datos_de_Tarjetas!N997)","v":""},{"$f":"IFERROR(VLOOKUP(Datos_de_Tarjetas!P997,Parámetros!$AM$3:$AN$90,2,FALSE),\"\")","v":""}]
[null,1069470000,{"$f":"IFERROR(VLOOKUP(Datos_de_Tarjetas!D998,Parámetros!$AD$12:$AE$17,2,FALSE),\"\")","v":""},{"$f":"IF(Datos_de_Tarjetas!G998=0,\"\",Datos_de_Tarjetas!G998)","v":""},{"$f":"IFERROR(VLOOKUP(Datos_de_Tarjetas!K998,Parámetros!$AJ$3:$AK$13,2,FALSE),\"\")","v":""},{"$f":"IFERROR(VLOOKUP(Datos_de_Tarjetas!J998,Parámetros!$AQ$3:$AR$57,2,FALSE),\"\")","v":""},null,{"$f":"IF(Datos_de_Tarjetas!L998=0,\"\",Datos_de_Tarjetas!L998)","v":""},{"$f":"IF(Datos_de_Tarjetas!M998=0,\"\",Datos_de_Tarjetas!M998)","v":""},{"$f":"IF(Datos_de_Tarjetas!N998=0,\"\",Datos_de_Tarjetas!N998)","v":""},{"$f":"IFERROR(VLOOKUP(Datos_de_Tarjetas!P998,Parámetros!$AM$3:$AN$90,2,FALSE),\"\")","v":""}]
[null,1069470000,{"$f":"IFERROR(VLOOKUP(Datos_de_Tarjetas!D999,Parámetros!$AD$12:$AE$17,2,FALSE),\"\")","v":""},{"$f":"IF(Datos_de_Tarjetas!G999=0,\"\",Datos_de_Tarjetas!G999)","v":""},{"$f":"IFERROR(VLOOKUP(Datos_de_Tarjetas!K999,Parámetros!$AJ$3:$AK$13,2,FALSE),\"\")","v":""},{"$f":"IFERROR(VLOOKUP(Datos_de_Tarjetas!J999,Parámetros!$AQ$3:$AR$57,2,FALSE),\"\")","v":""},null,{"$f":"IF(Datos_de_Tarjetas!L999=0,\"\",Datos_de_Tarjetas!L999)","v":""},{"$f":"IF(Datos_de_Tarjetas!M999=0,\"\",Datos_de_Tarjetas!M999)","v":""},{"$f":"IF(Datos_de_Tarjetas!N999=0,\"\",Datos_de_Tarjetas!N999)","v":""},{"$f":"IFERROR(VLOOKUP(Datos_de_Tarjetas!P999,Parámetros!$AM$3:$AN$90,2,FALSE),\"\")","v":""}]
[null,1069470000,{"$f":"IFERROR(VLOOKUP(Datos_de_Tarjetas!D1000,Parámetros!$AD$12:$AE$17,2,FALSE),\"\")","v":""},{"$f":"IF(Datos_de_Tarjetas!G1000=0,\"\",Datos_de_Tarjetas!G1000)","v":""},{"$f":"IFERROR(VLOOKUP(Datos_de_Tarjetas!K1000,Parámetros!$AJ$3:$AK$13,2,FALSE),\"\")","v":""},{"$f":"IFERROR(VLOOKUP(Datos_de_Tarjetas!J1000,Parámetros!$AQ$3:$AR$57,2,FALSE),\"\")","v":""},null,{"$f":"IF(Datos_de_Tarjetas!L1000=0,\"\",Datos_de_Tarjetas!L1000)","v":""},{"$f":"IF(Datos_de_Tarjetas!M1000=0,\"\",Datos_de_Tarjetas!M1000)","v":""},{"$f":"IF(Datos_de_Tarjetas!N1000=0,\"\",Datos_de_Tarjetas!N1000)","v":""},{"$f":"IFERROR(VLOOKUP(Datos_de_Tarjetas!P1000,Parámetros!$AM$3:$AN$90,2,FALSE),\"\")","v":""}]
[null,1069470000,{"$f":"IFERROR(VLOOKUP(Datos_de_Tarjetas!D1001,Parámetros!$AD$12:$AE$17,2,FALSE),\"\")","v":""},{"$f":"IF(Datos_de_Tarjetas!G1001=0,\"\",Datos_de_Tarjetas!G1001)","v":""},{"$f":"IFERROR(VLOOKUP(Datos_de_Tarjetas!K1001,Parámetros!$AJ$3:$AK$13,2,FALSE),\"\")","v":""},{"$f":"IFERROR(VLOOKUP(Datos_de_Tarjetas!J1001,Parámetros!$AQ$3:$AR$57,2,FALSE),\"\")","v":""},null,{"$f":"IF(Datos_de_Tarjetas!L1001=0,\"\",Datos_de_Tarjetas!L1001)","v":""},{"$f":"IF(Datos_de_Tarjetas!M1001=0,\"\",Datos_de_Tarjetas!M1001)","v":""},{"$f":"IF(Datos_de_Tarjetas!N1001=0,\"\",Datos_de_Tarjetas!N1001)","v":""},{"$f":"IFERROR(VLOOKUP(Datos_de_Tarjetas!P1001,Parámetros!$AM$3:$AN$90,2,FALSE),\"\")","v":""}]
[null,1069470000,{"$f":"IFERROR(VLOOKUP(Datos_de_Tarjetas!D1002,Parámetros!$AD$12:$AE$17,2,FALSE),\"\")","v":""},{"$f":"IF(Datos_de_Tarjetas!G1002=0,\"\",Datos_de_Tarjetas!G1002)","v":""},{"$f":"IFERROR(VLOOKUP(Datos_de_Tarjetas!K1002,Parámetros!$AJ$3:$AK$13,2,FALSE),\"\")","v":""},{"$f":"IFERROR(VLOOKUP(Datos_de_Tarjetas!J1002,Parámetros!$AQ$3:$AR$57,2,FALSE),\"\")","v":""},null,{"$f":"IF(Datos_de_Tarjetas!L1002=0,\"\",Datos_de_Tarjetas!L1002)","v":""},{"$f":"IF(Datos_de_Tarjetas!M1002=0,\"\",Datos_de_Tarjetas!M1002)","v":""},{"$f":"IF(Datos_de_Tarjetas!N1002=0,\"\",Datos_de_Tarjetas!N1002)","v":""},{"$f":"IFERROR(VLOOKUP(Datos_de_Tarjetas!P1002,Parámetros!$AM$3:$AN$90,2,FALSE),\"\")","v":""}]
[null,1069470000,{"$f":"IFERROR(VLOOKUP(Datos_de_Tarjetas!D1003,Parámetros!$AD$12:$AE$17,2,FALSE),\"\")","v":""},{"$f":"IF(Datos_de_Tarjetas!G1003=0,\"\",Datos_de_Tarjetas!G1003)","v":""},{"$f":"IFERROR(VLOOKUP(Datos_de_Tarjetas!K1003,Parámetros!$AJ$3:$AK$13,2,FALSE),\"\")","v":""},{"$f":"IFERROR(VLOOKUP(Datos_de_Tarjetas!J1003,Parámetros!$AQ$3:$AR$57,2,FALSE),\"\")","v":""},null,{"$f":"IF(Datos_de_Tarjetas!L1003=0,\"\",Datos_de_Tarjetas!L1003)","v":""},{"$f":"IF(Datos_de_Tarjetas!M1003=0,\"\",Datos_de_Tarjetas!M1003)","v":""},{"$f":"IF(Datos_de_Tarjetas!N1003=0,\"\",Datos_de_Tarjetas!N1003)","v":""},{"$f":"IFERROR(VLOOKUP(Datos_de_Tarjetas!P1003,Parámetros!$AM$3:$AN$90,2,FALSE),\"\")","v":""}]
[null,1069470000,{"$f":"IFERROR(VLOOKUP(Datos_de_Tarjetas!D1004,Parámetros!$AD$12:$AE$17,2,FALSE),\"\")","v":""},{"$f":"IF(Datos_de_Tarjetas!G1004=0,\"\",Datos_de_Tarjetas!G1004)","v":""},{"$f":"IFERROR(VLOOKUP(Datos_de_Tarjetas!K1004,Parámetros!$AJ$3:$AK$13,2,FALSE),\"\")","v":""},{"$f":"IFERROR(VLOOKUP(Datos_de_Tarjetas!J1004,Parámetros!$AQ$3:$AR$57,2,FALSE),\"\")","v":""},null,{"$f":"IF(Datos_de_Tarjetas!L1004=0,\"\",Datos_de_Tarjetas!L1004)","v":""},{"$f":"IF(Datos_de_Tarjetas!M1004=0,\"\",Datos_de_Tarjetas!M1004)","v":""},{"$f":"IF(Datos_de_Tarjetas!N1004=0,\"\",Datos_de_Tarjetas!N1004)","v":""},{"$f":"IFERROR(VLOOKUP(Datos_de_Tarjetas!P1004,Parámetros!$AM$3:$AN$90,2,FALSE),\"\")","v":""}]
[null,1069470000,{"$f":"IFERROR(VLOOKUP(Datos_de_Tarjetas!D1005,Parámetros!$AD$12:$AE$17,2,FALSE),\"\")","v":""},{"$f":"IF(Datos_de_Tarjetas!G1005=0,\"\",Datos_de_Tarjetas!G1005)","v":""},{"$f":"IFERROR(VLOOKUP(Datos_de_Tarjetas!K1005,Parámetros!$AJ$3:$AK$13,2,FALSE),\"\")","v":""},{"$f":"IFERROR(VLOOKUP(Datos_de_Tarjetas!J1005,Parámetros!$AQ$3:$AR$57,2,FALSE),\"\")","v":""},null,{"$f":"IF(Datos_de_Tarjetas!L1005=0,\"\",Datos_de_Tarjetas!L1005)","v":""},{"$f":"IF(Datos_de_Tarjetas!M1005=0,\"\",Datos_de_Tarjetas!M1005)","v":""},{"$f":"IF(Datos_de_Tarjetas!N1005=0,\"\",Datos_de_Tarjetas!N1005)","v":""},{"$f":"IFERROR(VLOOKUP(Datos_de_Tarjetas!P1005,Parámetros!$AM$3:$AN$90,2,FALSE),\"\")","v":""}]
[null,1069470000,{"$f":"IFERROR(VLOOKUP(Datos_de_Tarjetas!D1006,Parámetros!$AD$12:$AE$17,2,FALSE),\"\")","v":""},{"$f":"IF(Datos_de_Tarjetas!G1006=0,\"\",Datos_de_Tarjetas!G1006)","v":""},{"$f":"IFERROR(VLOOKUP(Datos_de_Tarjetas!K1006,Parámetros!$AJ$3:$AK$13,2,FALSE),\"\")","v":""},{"$f":"IFERROR(VLOOKUP(Datos_de_Tarjetas!J1006,Parámetros!$AQ$3:$AR$57,2,FALSE),\"\")","v":""},null,{"$f":"IF(Datos_de_Tarjetas!L1006=0,\"\",Datos_de_Tarjetas!L1006)","v":""},{"$f":"IF(Datos_de_Tarjetas!M1006=0,\"\",Datos_de_Tarjetas!M1006)","v":""},{"$f":"IF(Datos_de_Tarjetas!N1006=0,\"\",Datos_de_Tarjetas!N1006)","v":""},{"$f":"IFERROR(VLOOKUP(Datos_de_Tarjetas!P1006,Parámetros!$AM$3:$AN$90,2,FALSE),\"\")","v":""}]
[null,1069470000,{"$f":"IFERROR(VLOOKUP(Datos_de_Tarjetas!D1007,Parámetros!$AD$12:$AE$17,2,FALSE),\"\")","v":""},{"$f":"IF(Datos_de_Tarjetas!G1007=0,\"\",Datos_de_Tarjetas!G1007)","v":""},{"$f":"IFERROR(VLOOKUP(Datos_de_Tarjetas!K1007,Parámetros!$AJ$3:$AK$13,2,FALSE),\"\")","v":""},{"$f":"IFERROR(VLOOKUP(Datos_de_Tarjetas!J1007,Parámetros!$AQ$3:$AR$57,2,FALSE),\"\")","v":""},null,{"$f":"IF(Datos_de_Tarjetas!L1007=0,\"\",Datos_de_Tarjetas!L1007)","v":""},{"$f":"IF(Datos_de_Tarjetas!M1007=0,\"\",Datos_de_Tarjetas!M1007)","v":""},{"$f":"IF(Datos_de_Tarjetas!N1007=0,\"\",Datos_de_Tarjetas!N1007)","v":""},{"$f":"IFERROR(VLOOKUP(Datos_de_Tarjetas!P1007,Parámetros!$AM$3:$AN$90,2,FALSE),\"\")","v":""}]
[null,1069470000,{"$f":"IFERROR(VLOOKUP(Datos_de_Tarjetas!D1008,Parámetros!$AD$12:$AE$17,2,FALSE),\"\")","v":""},{"$f":"IF(Datos_de_Tarjetas!G1008=0,\"\",Datos_de_Tarjetas!G1008)","v":""},{"$f":"IFERROR(VLOOKUP(Datos_de_Tarjetas!K1008,Parámetros!$AJ$3:$AK$13,2,FALSE),\"\")","v":""},{"$f":"IFERROR(VLOOKUP(Datos_de_Tarjetas!J1008,Parámetros!$AQ$3:$AR$57,2,FALSE),\"\")","v":""},null,{"$f":"IF(Datos_de_Tarjetas!L1008=0,\"\",Datos_de_Tarjetas!L1008)","v":""},{"$f":"IF(Datos_de_Tarjetas!M1008=0,\"\",Datos_de_Tarjetas!M1008)","v":""},{"$f":"IF(Datos_de_Tarjetas!N1008=0,\"\",Datos_de_Tarjetas!N1008)","v":""},{"$f":"IFERROR(VLOOKUP(Datos_de_Tarjetas!P1008,Parámetros!$AM$3:$AN$90,2,FALSE),\"\")","v":""}]
[null,1069470000,{"$f":"IFERROR(VLOOKUP(Datos_de_Tarjetas!D1009,Parámetros!$AD$12:$AE$17,2,FALSE),\"\")","v":""},{"$f":"IF(Datos_de_Tarjetas!G1009=0,\"\",Datos_de_Tarjetas!G1009)","v":""},{"$f":"IFERROR(VLOOKUP(Datos_de_Tarjetas!K1009,Parámetros!$AJ$3:$AK$13,2,FALSE),\"\")","v":""},{"$f":"IFERROR(VLOOKUP(Datos_de_Tarjetas!J1009,Parámetros!$AQ$3:$AR$57,2,FALSE),\"\")","v":""},null,{"$f":"IF(Datos_de_Tarjetas!L1009=0,\"\",Datos_de_Tarjetas!L1009)","v":""},{"$f":"IF(Datos_de_Tarjetas!M1009=0,\"\",Datos_de_Tarjetas!M1009)","v":""},{"$f":"IF(Datos_de_Tarjetas!N1009=0,\"\",Datos_de_Tarjetas!N1009)","v":""},{"$f":"IFERROR(VLOOKUP(Datos_de_Tarjetas!P1009,Parámetros!$AM$3:$AN$90,2,FALSE),\"\")","v":""}]
[null,1069470000,{"$f":"IFERROR(VLOOKUP(Datos_de_Tarjetas!D1010,Parámetros!$AD$12:$AE$17,2,FALSE),\"\")","v":""},{"$f":"IF(Datos_de_Tarjetas!G1010=0,\"\",Datos_de_Tarjetas!G1010)","v":""},{"$f":"IFERROR(VLOOKUP(Datos_de_Tarjetas!K1010,Parámetros!$AJ$3:$AK$13,2,FALSE),\"\")","v":""},{"$f":"IFERROR(VLOOKUP(Datos_de_Tarjetas!J1010,Parámetros!$AQ$3:$AR$57,2,FALSE),\"\")","v":""},null,{"$f":"IF(Datos_de_Tarjetas!L1010=0,\"\",Datos_de_Tarjetas!L1010)","v":""},{"$f":"IF(Datos_de_Tarjetas!M1010=0,\"\",Datos_de_Tarjetas!M1010)","v":""},{"$f":"IF(Datos_de_Tarjetas!N1010=0,\"\",Datos_de_Tarjetas!N1010)","v":""},{"$f":"IFERROR(VLOOKUP(Datos_de_Tarjetas!P1010,Parámetros!$AM$3:$AN$90,2,FALSE),\"\")","v":""}]
[null,1069470000,{"$f":"IFERROR(VLOOKUP(Datos_de_Tarjetas!D1011,Parámetros!$AD$12:$AE$17,2,FALSE),\"\")","v":""},{"$f":"IF(Datos_de_Tarjetas!G1011=0,\"\",Datos_de_Tarjetas!G1011)","v":""},{"$f":"IFERROR(VLOOKUP(Datos_de_Tarjetas!K1011,Parámetros!$AJ$3:$AK$13,2,FALSE),\"\")","v":""},{"$f":"IFERROR(VLOOKUP(Datos_de_Tarjetas!J1011,Parámetros!$AQ$3:$AR$57,2,FALSE),\"\")","v":""},null,{"$f":"IF(Datos_de_Tarjetas!L1011=0,\"\",Datos_de_Tarjetas!L1011)","v":""},{"$f":"IF(Datos_de_Tarjetas!M1011=0,\"\",Datos_de_Tarjetas!M1011)","v":""},{"$f":"IF(Datos_de_Tarjetas!N1011=0,\"\",Datos_de_Tarjetas!N1011)","v":""},{"$f":"IFERROR(VLOOKUP(Datos_de_Tarjetas!P1011,Parámetros!$AM$3:$AN$90,2,FALSE),\"\")","v":""}]
[null,1069470000,{"$f":"IFERROR(VLOOKUP(Datos_de_Tarjetas!D1012,Parámetros!$AD$12:$AE$17,2,FALSE),\"\")","v":""},{"$f":"IF(Datos_de_Tarjetas!G1012=0,\"\",Datos_de_Tarjetas!G1012)","v":""},{"$f":"IFERROR(VLOOKUP(Datos_de_Tarjetas!K1012,Parámetros!$AJ$3:$AK$13,2,FALSE),\"\")","v":""},{"$f":"IFERROR(VLOOKUP(Datos_de_Tarjetas!J1012,Parámetros!$AQ$3:$AR$57,2,FALSE),\"\")","v":""},null,{"$f":"IF(Datos_de_Tarjetas!L1012=0,\"\",Datos_de_Tarjetas!L1012)","v":""},{"$f":"IF(Datos_de_Tarjetas!M1012=0,\"\",Datos_de_Tarjetas!M1012)","v":""},{"$f":"IF(Datos_de_Tarjetas!N1012=0,\"\",Datos_de_Tarjetas!N1012)","v":""},{"$f":"IFERROR(VLOOKUP(Datos_de_Tarjetas!P1012,Parámetros!$AM$3:$AN$90,2,FALSE),\"\")","v":""}]
[null,1069470000,{"$f":"IFERROR(VLOOKUP(Datos_de_Tarjetas!#REF!,Parámetros!$AD$12:$AE$17,2,FALSE),\"\")","v":""},{"$f":"IF(Datos_de_Tarjetas!#REF!=0,\"\",Datos_de_Tarjetas!#REF!)","v":{"$error":"#REF!"}},{"$f":"IFERROR(VLOOKUP(Datos_de_Tarjetas!#REF!,Parámetros!$AJ$3:$AK$13,2,FALSE),\"\")","v":""},{"$f":"IFERROR(VLOOKUP(Datos_de_Tarjetas!J1013,Parámetros!$AQ$3:$AR$57,2,FALSE),\"\")","v":""},null,{"$f":"IF(Datos_de_Tarjetas!#REF!=0,\"\",Datos_de_Tarjetas!#REF!)","v":{"$error":"#REF!"}},{"$f":"IF(Datos_de_Tarjetas!#REF!=0,\"\",Datos_de_Tarjetas!#REF!)","v":{"$error":"#REF!"}},{"$f":"IF(Datos_de_Tarjetas!#REF!=0,\"\",Datos_de_Tarjetas!#REF!)","v":{"$error":"#REF!"}},{"$f":"IFERROR(VLOOKUP(Datos_de_Tarjetas!#REF!,Parámetros!$AM$3:$AN$90,2,FALSE),\"\")","v":""}]
[null,1069470000,{"$f":"IFERROR(VLOOKUP(Datos_de_Tarjetas!D1013,Parámetros!$AD$12:$AE$17,2,FALSE),\"\")","v":""},{"$f":"IF(Datos_de_Tarjetas!G1013=0,\"\",Datos_de_Tarjetas!G1013)","v":""},{"$f":"IFERROR(VLOOKUP(Datos_de_Tarjetas!K1013,Parámetros!$AJ$3:$AK$13,2,FALSE),\"\")","v":""},{"$f":"IFERROR(VLOOKUP(Datos_de_Tarjetas!J1014,Parámetros!$AQ$3:$AR$57,2,FALSE),\"\")","v":""},null,{"$f":"IF(Datos_de_Tarjetas!L1013=0,\"\",Datos_de_Tarjetas!L1013)","v":""},{"$f":"IF(Datos_de_Tarjetas!M1013=0,\"\",Datos_de_Tarjetas!M1013)","v":""},{"$f":"IF(Datos_de_Tarjetas!N1013=0,\"\",Datos_de_Tarjetas!N1013)","v":""},{"$f":"IFERROR(VLOOKUP(Datos_de_Tarjetas!P1013,Parámetros!$AM$3:$AN$90,2,FALSE),\"\")","v":""}]

{"sheet":"Condiciones_Generales","index":6,"n_rows":180,"n_cols":8,"rows_kept":180,"cut":false,"hidden":true,"merged":[[144,1,144,7],[46,1,46,7],[51,1,51,7],[68,1,68,7],[126,1,126,7],[88,1,88,7],[90,1,90,7],[73,1,73,7],[77,1,77,7],[78,1,78,7],[79,1,79,7],[84,1,84,7],[86,1,86,7],[61,1,61,7],[66,1,66,7],[140,2,140,7],[4,1,4,7],[8,1,8,7],[9,1,9,7],[10,1,10,7],[12,1,12,7],[141,2,141,7],[142,2,142,7],[22,1,22,7],[23,1,23,7],[24,1,24,7],[39,1,39,7],[37,1,37,7],[26,1,26,7],[67,1,67,7],[71,1,71,7],[75,1,75,7],[49,1,49,7],[58,1,58,7],[60,1,60,7],[138,1,138,2]]}
[]
[]
[]
[]
[null,"Buenos Aires, ______ de ____________ de 2019"]
[]
[null,"CONDICIONES GENERALES DEL PROGRAMA TARJETA “YPF ENRUTA”"]
[null,"1. CONCEPTO:"]
[null,"1.1. La TARJETA “YPF ENRUTA” es un instrumento de pago que permite a sus titulares (los “TITULARES DE LA TARJETA” y, en singular, el “TITULAR DE LA TARJETA”) adquirir bienes y/o contratar la prestación de servicios en los establecimientos adheridos al Programa TARJETA “YPF ENRUTA” (“ESTABLECIMIENTOS ADHERIDOS”)."]
[null,"1.2. El TITULAR DE LA TARJETA acepta utilizar la TARJETA “YPF ENRUTA” de acuerdo con las presentes CONDICIONES GENERALES DEL PROGRAMA TARJETA “YPF ENRUTA” y a las modificaciones que pudiera introducir YPF Sociedad Anónima (“YPF”) en caso de variaciones objetivas de las condiciones de mercado, previa comunicación fehaciente al TITULAR DE LA TARJETA. Dicha comunicación deberá realizarse con una antelación no menor a sesenta (60) días de la entrada en vigencia de los cambios realizados en el convenio. El TITULAR DE LA TARJETA podrá rechazar dichas modificaciones sin expresión de causa, notificándoselo en forma fehaciente a YPF. El rechazo de las modificaciones introducidas en el convenio por parte del TITULAR DE LA TARJETA dará por resuelto el mismo de acuerdo a lo establecido en el punto 3.3 de las presentes CONDICIONES GENERALES DEL PROGRAMA TARJETA “YPF ENRUTA”."]
[null,"1.3. Este contrato se rige por la Ley 25.065, y demás normas aplicables y las que en el futuro regulen el régimen de Tarjeta de Crédito. Ninguna cláusula de estos términos y condiciones tiene por objeto modificar las disposiciones de orden público de la Ley 25.065 u otra normativa de orden público que regule la relación que aquí se establece, y no podrá ser interpretado contrariando el orden público establecido."]
[null,"2. DEFINICIONES:"]
[null,"2.1. Las palabras que, seguidamente se consignan tendrán en estas CONDICIONES GENERALES DEL PROGRAMA TARJETA \"YPF ENRUTA\", el significado que, en cada caso, se indica, en la medida que se encuentren escritas con mayúsculas.\nCARGOS: Son los montos que figuran en el resumen de cuenta adeudados por el TITULAR DE LA TARJETA a YPF a la fecha de emisión del resumen, incluyendo sin que ello sea limitativo, todos los importes correspondientes a adquirir bienes y/o contratar la prestación de servicios efectuados en un pago o bajo planes de pago en cuotas, tales como consumos de combustibles y lubricantes efectuados en las ESTACIONES DE SERVICIO, comisiones, aranceles, cargos, intereses y otros conceptos que figuren en las presentes CONDICIONES GENERALES DEL PROGRAMA TARJETA “YPF ENRUTA”.\n\nENTIDAD EMISORA o YPF: Es quien emite la TARJETA \"YPF ENRUTA\".\nESTABLECIMIENTOS ADHERIDOS: Son aquellas empresas que expresamente adhieran al Programa TARJETA \"YPF ENRUTA\", ya sea que opere una o más ESTACIONES DE SERVICIO (tal como este término es definido seguidamente) o locales comerciales adheridos.\nESTACIONES DE SERVICIO: Son las Estaciones de Servicio de la Red Propia de YPF y de la Red de Terceros que expresamente adhieran al Programa TARJETA \"YPF ENRUTA\".\nPARTE: Es, indistinta e individualmente, YPF o el TITULAR DE LA TARJETA.\nPARTES: Son, conjuntamente, YPF y el TITULAR DE LA TARJETA.\nTARJETA \"YPF ENRUTA\" - TARJETAS \"YPF ENRUTA\": La o las tarjetas que YPF entregue al TITULAR DE LA TARJETA, como instrumento de pago.\nTENEDOR DE LA TARJETA: Es la persona a quien el TITULAR DE LA TARJETA autoriza a utilizar el vehículo cuya matrícula (patente) se consigna en la TARJETA “YPF ENRUTA\" y/o la persona a nombre de la cual el TITULAR DE LA TARJETA solicita la TARJETA “YPF ENRUTA\".\nTITULAR DE LA TARJETA -TITULARES DE LA TARJETA: La o las personas jurídicas, o las empresas unipersonales, que suscriben la presente Solicitud de Adhesión y CONDICIONES GENERALES DEL PROGRAMA TARJETA \"YPF ENRUTA\"."]
[]
[]
[null,{"$f":"Parámetros!$N$13","v":"Versión 1.2.2019"},null,"Condiciones Generales del Programa YPF ENRUTA",null,null,null,"Hoja 1 / 9"]
[]
[]
[]
[]
[]
[]
[null,"3. PLAZO DE VIGENCIA - RENOVACION AUTOMÁTICA – RESOLUCIÓN:"]
[null,"3.1. El plazo de vigencia de la TARJETA \"YPF ENRUTA\" será de cinco (5) años contados a partir de la fecha de su emisión.\n3.2. YPF podrá renovar automáticamente la TARJETA \"YPF ENRUTA\", en este caso enviará el o los nuevos ejemplares de la TARJETA \"YPF ENRUTA\" al TITULAR DE\nLA TARJETA del que se tratare con no menos de diez (l0) días de antelación a la fecha de vencimiento del plazo de validez inserto en la TARJETA \"YPF ENRUTA\" que, a la sazón, se encontrare en vigencia.\nYPF notificará al TITULAR DE LA TARJETA en los tres últimos resúmenes anteriores al vencimiento de la relación contractual la fecha en que opera el mismo. El TITULAR DE LA TARJETA podrá dejar sin efecto la renovación automática comunicando su decisión por medio fehaciente a YPF con treinta (30) días de antelación a la fecha de vencimiento.\n3.3. Si la resolución del presente Convenio se produjera por voluntad unilateral del TITULAR DE LA TARJETA, la relación contractual cesará a partir de la hora 24 de la fecha del acuse de recibo por la ENTIDAD EMISORA de la notificación escrita, acompañada de la o las Tarjetas YPF EN RUTA en carácter de devolución, pero los efectos del Convenio subsistirán en los términos expresados en el primer párrafo de esta cláusula."]
[null,"3.4. En el caso de que se produjera cualquiera de los siguientes supuestos que puedan generar un incumplimiento por parte del TITULAR DE LA TARJETA: , (I) mora del TITULAR DE LA TARJETA con relación a las obligaciones establecidas en el presente convenio o la falta de pago en término de cualquier obligación asumida por el TITULAR DE LA TARJETA con YPF, siendo condición esencial para la vigencia de la TARJETA YPF EN RUTA que el TITULAR DE LA TARJETA mantenga todas sus obligaciones con – LA ENTIDAD EMISORA en cumplimiento regular (II) el TITULAR DE LA TARJETA se presentara en quiebra concurso preventivo o concurso civil o promoviese acuerdos judiciales o extrajudiciales con sus acreedores, o le fuera decretada la quiebra o el concurso civil o incurriese en cesación de pagos aún sin efectuarse los trámites antedichos, librase cheques sin fondos sin la debida autorización, o si se le trabare medida cautelar sobre sus bienes, (III) se comprobara por la ENTIDAD EMISORA o autoridad competente el incumplimiento de toda disposición legal referida al otorgamiento o mantenimiento de la TARJETA DE\nCRÉDITO “YPF ENRUTA”, (IV) transferencia del fondo de comercio del TITULAR DE LA TARJETA, fusión o escisión, o cambio de titularidad del control societario del TITULAR o si se produjera cualquier alteración que a juicio de la ENTIDAD EMISORA ocasionara un cambio fundamental en las condiciones básicas que se tengan en cuenta para el otorgamiento de la TARJETA “YPF ENRUTA”, y/o (V) cuando se produjera un uso fraudulento de la o las Tarjetas YPF EN RUTA o se acreditara la falsedad de los datos consignados por el TITULAR DE LA TARJETA en el presente convenio o con posterioridad; entonces la ENTIDAD EMISORA podrá suspender el uso de la TARJETA “YPF ENRUTA” y/o rescindir en forma inmediata el presente convenio, sin necesidad de intimación previa alguna, teniendo el derecho a reclamar la totalidad de las sumas adeudadas con más los daños y perjuicios, intereses compensatorios y/o punitorios correspondientes, gastos, ajustes, CARGOS, comisiones, impuestos y accesorios, e iniciar sin más trámite acciones judiciales."]
[null,"4. CONDICIONES DE EMISION DE LA TARJETA \"YPF ENRUTA\":"]
[null,"4.1. La TARJETA \"YPF ENRUTA\" es propiedad de la ENTIDAD EMISORA, quien la emitirá a favor de aquellos poseedores de vehículos que, de los que así lo soliciten, YPF considere, a su criterio, que reúnen los requisitos exigidos.\n4.2. Si el solicitante fuera una persona jurídica, la Solicitud de Adhesión deberá ser firmada por un representante de aquella con poderes y facultades suficientes.\n4.3. En la TARJETA \"YPF ENRUTA\" se consignará entre otros datos, su plazo de validez, la matrícula (patente) del vehículo al que se le ha asignado la TARJETA “YPF ENRUTA\", el nombre de la empresa o persona TITULAR DE LA TARJETA, y en su caso el número de documento de identidad del TENEDOR DE LA TARJETA."]
[null,{"$f":"Parámetros!$N$13","v":"Versión 1.2.2019"},null,"Condiciones Generales del Programa YPF ENRUTA",null,null,null,"Hoja 2 / 9"]
[]
[]
[]
[]
[]
[]
[]
[]
[null,"5. CONDICIONES DE USO DE LA TARJETA:"]
[null,"5.1. La TARJETA \"YPF ENRUTA\" es una tarjeta de crédito.\n5.2. La TARJETA \"YPF ENRUTA\" solo podrá ser utilizada por el TITULAR DE LA TARJETA o, en su caso, por el TENEDOR DE LA TARJETA.\n5.3. La TARJETA \"YPF ENRUTA\" solo podrá utilizarse para adquirir los productos y/o contratar la prestación de servicios disponibles en los ESTABLECIMIENTOS ADHERIDOS, en las modalidades y límites que tenga autorizados el TITULAR DE LA TARJETA, y conforme las tasas de intereses compensatorios y punitorios, y cargos según se detalla en el Anexo I. El Límite de Compra Mensual inicial del TITULAR DE LA TARJETA, será de 80.000 pesos ($ ochenta mil) . La fecha de cierre contable de operaciones será la establecida en el Anexo I de la presente.\n5.4. Por el presente el TITULAR DE LA TARJETA otorga a YPF el mandato expreso para comprar y pagar por su cuenta y orden los productos y servicios propios de los ESTABLECIMIENTOS ADHERIDOS adquiridos a través de la TARJETA “YPF ENRUTA”. La facturación de los consumos de combustibles y lubricantes efectuados en los ESTABLECIMIENTOS ADHERIDOS y la liquidación de las compras de productos y servicios propios de los ESTABLECIMIENTOS ADHERIDOS efectuadas por mandato del TITULAR DE LA TARJETA en virtud del presente convenio se realizará de acuerdo a lo estipulado en la cláusula 9, punto 9.1.\n\n5.5. LA TARJETA \"YPF ENRUTA\" SERÁ RECHAZADA POR LOS ESTABLECIMIENTOS ADHERIDOS CUANDO:\n(I) EL TITULAR DE LA TARJETA SE ENCUENTRE EXCEDIDO EN LOS LÍMITES DEL CRÉDITO OTORGADO Y/O DE LOS CONSUMOS ASIGNADOS; \n(II) EL TITULAR DE LA TARJETA SE ENCUENTRE EN MORA EN SUS PAGOS; \n(III) EL MONTO DE SUS CONSUMOS EXCEDA LOS VALORES DE LAS GARANTÍAS PRESENTADAS POR EL TITULAR DE LA TARJETA; \n(IV) SE HUBIEREN DETECTADO OPERACIONES FRAUDULENTAS.\n\n5.6. Todos los impuestos que gravan esta operación están a cargo del TITULAR DE LA TARJETA."]
[null,"6. OBLIGACIONES:"]
[null,"6.1. EI TITULAR DE LA TARJETA se obliga a:\na) Conservar, utilizar correctamente, y tomar todas las medidas que fueren necesarias para asegurar la correcta utilización de las TARJETAS \"YPF ENRUTA\" que le fueran asignadas.\nb) Controlar que las TARJETAS \"YPF ENRUTA\" se encuentren siempre en poder de los TENEDORES DE LA TARJETA autorizados y que sean utilizadas del modo estipulado por estas CONDICIONES GENERALES DEL PROGRAMA TARJETA \"YPF ENRUTA\".\nc) Notificar de inmediato al Centro de Contacto designado por YPF los siguientes eventos que pudieran ocurrir respecto de la TARJETA \"YPF ENRUTA\": (I) robo; (II) hurto; (III) extravío; (IV) daño; (V) inutilización; (VI) tenencia por persona no autorizada; (VII) todo otro evento que pueda ser considerado causal suficiente para la cancelación de la TARJETA \"YPF ENRUTA\". Ello a los fines de la oportuna anulación de la TARJETA \"YPF ENRUTA\" de la que se tratare por parte de YPF. Dicha denuncia deberá ser confirmada dentro del plazo de cuarenta y ocho (48) horas, mediante comunicación fehaciente entregada al Centro de Contacto designado por YPF. En los casos de robo, hurto o extravío se deberá acompañar, asimismo, la correspondiente denuncia efectuada ante la Autoridad Competente.\nUna vez que YPF reciba la notificación fehaciente precedentemente referida, en las condiciones precedentemente establecidas el TITULAR DE LA TARJETA quedará liberado de toda responsabilidad por uso indebido de la TARJETA \"YPF ENRUTA\" en cuestión, por hechos ocurridos a partir de dicha notificación, salvo que haya actuado con culpa, grave negligencia, o dolo.\nd) Abstenerse de utilizar TARJETAS \"YPF ENRUTA\" vencidas, o que hayan sido sustituidas o canceladas."]
[null,{"$f":"Parámetros!$N$13","v":"Versión 1.2.2019"},null,"Condiciones Generales del Programa YPF ENRUTA",null,null,null,"Hoja 3/ 9"]
[]
[]
[]
[]
[]
[null,"e) Destruir o devolver a YPF inmediatamente la TARJETA \"YPF ENRUTA\" respecto de la cual le hubiere sido comunicada su cancelación, su sustitución o su no renovación por YPF y, asimismo, destruirla o devolverla cuando el TITULAR DE LA TARJETA hubiere renunciado expresamente a su uso. En todos los casos el TITULAR DE LA TARJETA estará obligado a pagar el importe de todos los gastos incurridos o relacionados con, o generados por la TARJETA \"YPF ENRUTA\" que debió haber sido destruida o devuelta.\nf) Pagar las transacciones realizadas mediante el uso de la TARJETA \"YPF ENRUTA\", en el plazo y condiciones establecidas en la cláusula 9 de las presentes CONDICIONES\nGENERALES EL PROGRAMA TARJETA \"YPF ENRUTA\".\ng) Notificar fehacientemente a YPF cualquier circunstancia que afecte de cualquier manera a su solvencia.\nh) Comunicar a YPF mediante notificación fehaciente y en el plazo máximo de dos (2) días desde el momento en que se produzca; cualquier siniestro que por su gravedad afecte al uso habitual o normal del vehículo autorizado en la TARJETA \"YPF ENRUTA\", o cualquier modificación en su identificación, disponibilidad o titularidad.\ni) Informar al personal del ESTABLECIMIENTO ADHERIDO antes de solicitar cualquier prestación, que utilizará la TARJETA \"YPF ENRUTA\" como medio de pago.\nj) Instruir a los TENEDORES DE LA TARJETA de su empresa que deben informar al personal del ESTABLECIMIENTO ADHERIDO; antes de solicitar cualquier prestación, que utilizarán como medio de pago la TARJETA \"YPF ENRUTA\".\n6.2. YPF se obliga a:\na) Remitir al TITULAR DE LA TARJETA un listado de ESTABLECIMIENTOS ADHERIDOS al Programa \"YPF ENRUTA\", listado que se actualizará periódicamente.\nb) Inhabilitar las TARJETAS \"YPF ENRUTA\" vencidas o canceladas así como todas aquellas cuyo robo, extravío, pérdida o inutilización hubieren sido notificados por el TITULAR DE LA TARJETA a YPF en las condiciones establecidas en el punto 6.l (c) precedente.\nc) Entregar al TITULAR DE TARJETA un ejemplar de las presentes CONDICIONES GENERALES DEL PROGRAMA TARJETA \"YPF ENRUTA\"."]
[null,"7. MODO DE USO DE LA TARJETA \"YPF EN RUTA\":"]
[null,"Los TITULARES DE LA TARJETA y los TENEDORES DE LA TARJETA deberán:"]
[null,"7.1. Presentar la TARJETA \"YPF ENRUTA\" en el ESTABLECIMIENTO ADHERIDO, debiendo acreditar su identidad.\n7.2. Presentarse con el vehículo indicado en la TARJETA \"YPF ENRUTA\", cuando la misma esté asignada a un vehículo en particular.\n7.3. Ingresar el Código de Identificación Personal asignado por YPF y firmar los comprobantes de compra o de utilización de servicio que emita el ESTABLECIMIENTO ADHERIDO como medio para acreditar la realización de la operación. El ingreso del Código de Identificación Personal y la firma del comprobante de compra o de utilización de servicio implicará irrevocablemente para el TITULAR DE LA TARJETA:\n• Plena conformidad del TITULAR DE LA TARJETA con la operación efectuada y con la información que figure registrada en el comprobante.\n• Compromiso firme de pago del TITULAR DE LA TARJETA de los cargos que obran en el comprobante, en el plazo y condiciones establecidas en la Cláusula 9.\n• Aceptación del TITULAR DE LA TARJETA de la cesión de crédito realizada por el ESTABLECIMIENTO ADHERIDO, en favor de YPF.\n• Aceptación del TITULAR DE LA TARJETA que el Código de Identificación Personal que utilicen los TITULARES DE LA TARJETA o TENEDORES DE LA TARJETA tendrá a todos los efectos el mismo valor jurídico que la firma ológrafa del TITULAR DE LA TARJETA.\n7.4. Conservar copias de los comprobantes de compra o de utilización de servicio."]
[null,"8. CREDITO. CARGOS EN MONEDA EXTRANJERA:"]
[null,"8.1. Pago Mínimo. YPF podrá ofrecer al TITULAR DE LA TARJETA en cada resumen de cuenta una financiación del total o de parte de los CARGOS, en cuyo caso se indicará el monto mínimo que deberá ser pagado (de aquí en adelante el “PAGO MINIMO”). En el siguiente resumen de cuenta, YPF tendrá la misma opción de financiar el total o parte de los CARGOS o de reclamar su pago integral. "]
[null,{"$f":"Parámetros!$N$13","v":"Versión 1.2.2019"},null,"Condiciones Generales del Programa YPF ENRUTA",null,null,null,"Hoja 4/ 9"]
[]
[]
[]
[]
[]
[null,"El TITULAR DE LA TARJETA podrá, al cumplirse cada período, optar por el pago total. Si el TITULAR DE LA TARJETA efectuara el PAGO MINIMO o un monto superior que no cubra el saldo total, se entenderá que el TITULAR DE LA TARJETA ha solicitado financiar el saldo impago. A la fecha, el PAGO MINIMO es del 100 %. El PAGO MINIMO varía de tiempo en tiempo, teniendo en cuenta las variaciones ocurridas en los mercados financieros y será informado en forma mensual en los resúmenes de cuenta.\n8.2. Cargos Financieros. El saldo impago señalado en el punto 8.1 de la presente cláusula generará intereses financieros desde la fecha identificada en el resumen de cuenta como vencimiento actual a una tasa mensual que a la fecha es la informada en el Anexo I al presente, dicha tasa podrá variar de tiempo en tiempo, teniendo en cuenta las variaciones ocurridas en los mercados financieros y será informada en forma mensual en los resúmenes de cuenta. YPF se reserva el derecho de exigir la cancelación de la totalidad de los saldos deudores del resumen de cuenta, como así también la posibilidad de excluir del sistema de financiación ciertos bienes o servicios.\n8.3. Cargos Efectuados en Moneda Extranjera. Si el TITULAR DE LA TARJETA efectuara un CARGO en una moneda extranjera distinta del dólar estadounidense, ese cargo se convertirá a dólares estadounidenses. La conversión al dólar estadounidense se hará en la fecha en la cual el CARGO sea procesado por YPF, que depende de la fecha en la cual el CARGO se presentó a YPF y puede no coincidir con la fecha en la que el TITULAR DE LA TARJETA efectuó el CARGO. Salvo que la ley aplicable hiciere obligatorio otro tipo de cambio, el TITULAR DE LA TARJETA entiende y acuerda que el departamento de tesorería de las afiliadas de YPF en el exterior utilizará tipos de cambio basados en tipos de cambio interbancarios, elegidos por dicho departamento en el día hábil anterior a la fecha en la cual se procesa el CARGO de fuentes que la industria acostumbra a usar Si los CARGOS fueran convertidos por terceros antes de ser presentados a YPF, cualquier conversión efectuada por dichos terceros se hará al tipo de cambio elegido por ellos. YPF podrá suspender en cualquier momento la validez internacional de la tarjeta, o la posibilidad de efectuar compras en moneda extranjera si a su juicio su habilidad de compra de dólares estadounidenses a un tipo de cambio libre, o su habilidad para transferir libremente dólares estadounidenses al exterior, pudiere quedar total o parcialmente afectada como consecuencia de modificaciones en la situación económica internacional o local."]
[null,"9. FACTURACION Y COBRO:"]
[null,"9.1. YPF remitirá al TITULAR DE LA TARJETA: a) una factura por los consumos de combustibles y lubricantes efectuados en los ESTABLECIMIENTOS ADHERIDOS que operen una o más Estaciones de Servicios, b) una liquidación por las compras de productos y servicios propios de los ESTABLECIMIENTOS ADHERIDOS efectuadas por mandato del TITULAR DE LA TARJETA en virtud del presente convenio, y c) un resumen de cuenta que indicará los CARGOS adeudados por el TITULAR DE LA TARJETA a la fecha de emisión, la fecha de vencimiento para el pago del mismo y los demás conceptos mencionados en los artículos 6,7 y 23 de la Ley 25.065. La periodicidad del envío de factura, liquidación y resumen de cuenta de la Tarjeta YPF EN RUTA dependerá del plazo de facturación acordado con el TITULAR DE LA TARJETA. El tipo y monto de los cargos administrativos y comisiones vigentes se detallan en el Anexo I de la presente.\nYPF puede modificar las comisiones y tiene el deber de informarlas con 60 (sesenta) días de anticipación. Una vez transcurridos dicho plazo de 60 días y no habiendo sido rechazada la modificación por escrito, la misma se considerará aceptada y valida. Si el TITULAR DE LA TARJETA no llegara a estar de acuerdo con las modificaciones informadas, podrá poner término anticipado al presente convenio sin cargo siempre que lo haga antes de que dichas modificaciones entren en vigencia y que lo comunique a YPF por medio fehaciente."]
[null,"El TITULAR DE LA TARJETA presta conformidad para que toda notificación que corresponda realizar en virtud de lo establecido en el presente convenio, sea efectuada a través de los resúmenes de cuenta. A los efectos del presente convenio se considerará que el resumen de cuenta constituye un medio fehaciente de notificación. Los CARGOS en que se haya incurrido con motivo del uso de la Tarjeta YPF “ENRUTA” son debidos y deben ser abonados contra recepción del resumen de cuenta recibido periódicamente. Si el resumen de cuenta no llegase al TITULAR DE LA TARJETA por cualquier causa, imputable o no a la ENTIDAD EMISORA, subsistirá la responsabilidad del TITULAR DE LA TARJETA de pagar el importe determinado en el mismo en su fecha de vencimiento. "]
[null,{"$f":"Parámetros!$N$13","v":"Versión 1.2.2019"},null,"Condiciones Generales del Programa YPF ENRUTA",null,null,null,"Hoja 5 / 9"]
[]
[]
[]
[null,"De no recibir el resumen de cuenta aludido, el TITULAR DE LA TARJETA se obliga a informarse en tiempo oportuno y cuantas veces sea necesario, a través del canal de comunicación telefónica que la ENTIDAD EMISORA ofrezca, durante las 24 horas del día, acerca de la fecha de vencimiento del plazo referido a fin de hacer efectivo el pago de lo que resulte independientemente de la recepción o no del resumen de cuenta.\nLos datos referidos a la línea telefónica habilitada a tal fin se comunicarán a los TITULARES DE LA TARJETA en los resúmenes de cuenta y en documentación que les sea remitida periódicamente. Este sistema de consulta que la ENTIDAD EMISORA pone a disposición del TITULAR DE LA TARJETA responde al deber de cooperar de éstos, que rige en la materia y que por ende no excusa el no pago, en tiempo y forma. Asimismo, en los resúmenes de cuenta y en la documentación que les sea remitida periódicamente, se informará el domicilio de la oficina comercial de la ENTIDAD EMISORA que contenga los registros de los resúmenes de cuenta."]
[null,"9.2. YPF incluirá en la factura, la liquidación y en el resumen de cuenta, todo descuento o promoción que se le hubiese concedido al TITULAR DE LA TARJETA por YPF y/o por los ESTABLECIMIENTOS ADHERIDOS, en relación con las operaciones facturadas. La vigencia de los referidos descuentos y/o promociones se encontrará sujeta a la condición de que el TITULAR DE LA TARJETA abone el importe de todos los CARGOS del resumen de cuenta (o el PAGO MINIMO, en el caso de que YPF le haya ofrecido una financiación de su saldo) íntegramente a su vencimiento. De comprobarse que el resumen de cuenta no fue íntegramente pagado a su vencimiento o que fue abonado fuera de término, YPF podrá debitar al TITULAR DE LA TARJETA, todos aquellos descuentos o promociones que se hubieran realizado, aplicándose lo dispuesto en el punto 9.5 de esta Cláusula.\n9.3. El pago de los resúmenes de cuenta podrá efectuarse, a elección del cliente, mediante débito automático, en la cuenta y Banco que el TITULAR DE LA TARJETA indica en la Nota de Autorización a la que se alude seguidamente, para lo cual el TITULAR DE LA TARJETA, mediante dicha Nota de Autorización que, como \"Anexo Débito Directo\" forma parte integrante de la presente Solicitud de Adhesión, autoriza expresamente a YPF a debitar automáticamente, de la Cuenta precedentemente referida y en la fecha de sus respectivos vencimientos, el importe de todos los CARGOS del resumen de cuenta (o el PAGO MINIMO, en el caso de que YPF le haya ofrecido una financiación de su saldo) emitido al TITULAR DE LA TARJETA. Sin perjuicio de ello, YPF se reserva el derecho de prever o aceptar otros medios de pago a su sola opción. La fecha de vencimiento inicial del resumen de cuenta será la indicada en el Anexo 1 de la presente. El TITULAR DE LA TARJETA deberá pagar las sumas adeudadas por su uso, más los intereses y otros cargos que pudieran corresponder. Si, en el plazo de treinta (30) días corridos, contados desde la fecha de cierre del período de consumo que figura en el resumen de cuenta, no se recibiera reclamo escrito del TITULAR DE LA TARJETA se considerará, sin admitir prueba en contrario, que el TITULAR DE LA TARJETA nada tiene que objetar al resumen de cuenta y al débito que el Banco haya efectuado.\n9.4. En el caso de que YPF no recibiera el PAGO MINIMO a más tardar en la fecha identificada como vencimiento actual en el resumen de cuenta, o la totalidad de los saldos deudores del resumen de cuenta no fuera abonado a su vencimiento, en el caso de que YPF exigiera la cancelación de los mismos, el TITULAR DE LA TARJETA quedará constituido en mora por el mero vencimiento del término y las sumas adeudadas devengarán, por todo el período de mora que se extenderá desde la fecha del vencimiento del que se tratare hasta el pago del total (capital e intereses) de lo adeudado, los intereses punitorios indicados en el Anexo I.\n"]
[null,"9.5. La ENTIDAD EMISORA podrá preparar la vía ejecutiva de cobro contra el TITULAR DE LA TARJETA, de conformidad con lo prescripto en las leyes procesales vigentes en el lugar que se acciona y en el art. 39 de la Ley 25.065 de tarjeta de crédito y sus modificatorias.\n9.6. En todos los casos estarán también a cargo del TITULAR DE LA TARJETA todos los gastos judiciales y extrajudiciales, tasas y costas del proceso, incluidos los honorarios de abogados y procuradores, en que deba incurrir YPF aun cuando su intervención no fuese obligatoria, así como la indemnización por daños y perjuicios que hubiere sufrido YPF por el incumplimiento del TITULAR DE LA TARJETA."]
[null,{"$f":"Parámetros!$N$13","v":"Versión 1.2.2019"},null,"Condiciones Generales del Programa YPF ENRUTA",null,null,null,"Hoja 6/ 9"]
[]
[null,"9.7. En caso que el TITULAR DE LA TARJETA solicitare su Concurso Preventivo o su Quiebra, o un tercero solicitare la Quiebra del TITULAR DE LA TARJETA, el saldo íntegro de todas las cuentas del TITULAR DE LA TARJETA se considerará vencido y podrá ser exigido desde ese momento por YPF, teniendo esta además, derecho a cobrar al TITULAR DE LA TARJETA todos los gastos, daños y perjuicios originados por esa situación. Las sumas adeudadas devengarán, asimismo, un interés compensatorio equivalente al consignado en el punto 8.2 precedente.\n9.8. Las operaciones en moneda extranjera se regirán por la legislación vigente y en especial por el artículo 31 de la Ley 25.065. El titular podrá cancelar sus saldos en la moneda extranjera o en la de curso legal en el territorio de la República al valor al tiempo del efectivo pago del resumen."]
[null,"10. INTERESES - CARGOS FIJOS - CARGOS ADICIONALES"]
[null,"10.1. INTERESES COMPENSATORIOS\nLos intereses compensatorios iniciales son del 66,4% anual (TNA)\nEsta tasa variará mensualmente en función de la Tasa de interés por préstamos personales sin garantía real en moneda nacional publicada por el BCRA, no pudiendo superar en más de un veinticinco por ciento (25 %) al promedio de tasa del sistema para operaciones de préstamos personales publicados del día 1 (uno) al 5 (cinco) de cada mes por el BCRA.\n10.2. INTERESES PUNITORIOS\nLos intereses punitorios serán calculados a una tasa anual equivalente al 50% de la tasa descripta en el punto A) precedente que a la fecha asciende a 33,2% anual.\n10.3 CARGOS FIJOS\nEl canon que se cobra por la cantidad de tarjetas activas es de $ 11,60 por tarjeta.\n10.4 CARGOS ADICIONALES\nEl TITULAR DE LA TARJETA deberá pagar un adicional de 1,2% en concepto de Impuesto al sello si se encuentra radicado en la Provincia de Buenos Aires."]
[null,"11. EXONERACION DE RESPONSABILIDAD:"]
[null,"11.1. LA FALTA DE ATENCIÓN A UN TITULAR DE TARJETA Y/O TENEDOR DE TARJETA POR PARTE DE UN ESTABLECIMIENTO\nADHERIDO NO GENERARÁ RESPONSABILIDAD DE NINGÚN TIPO PARA\nYPF.\n11.2. YPF ES TOTAL Y ABSOLUTAMENTE AJENA A LA RELACIÓN QUE SE ESTABLECE ENTRE EL TITULAR DE LA TARJETA Y/O EL TENEDOR DE LA TARJETA Y EL ESTABLECIMIENTO ADHERIDO, SIENDO EXCLUSIVA RESPONSABILIDAD DEL ESTABLECIMIENTO ADHERIDO LA CALIDAD DEL PRODUCTO O DE LA PRESTACIÓN QUE EL ESTABLECIMIENTO ADHERIDO BRINDE AL TITULAR DE LA TARJETA."]
[null,"12. CESIÓN DE DERECHOS:"]
[null,"12.1. El TITULAR DE LA TARJETA no podrá ceder los derechos ni las obligaciones derivadas de estas Solicitud de Adhesión y CONDICIONES GENERALES DEL PROGRAMA TARJETA “YPF ENRUTA” en ningún caso y bajo ninguna circunstancia salvo previa autorización por escrito dada por YPF.\n12.2. YPF podrá ceder los derechos que en su favor, se establecen en la presente Solicitud de Adhesión y CONDICIONES GENERALES DEL PROGRAMA TARJETA “YPF ENRUTA\", sin necesidad de cumplir otro requisito que cursar notificación escrita al TITULAR DE LA TARJETA."]
[null,"13. INCOMPATIBILIDAD DEL PROGRAMA \"YPF ENRUTA\" CON EL PROGRAMA YPF \"SERVICLUB\":"]
[null,"13.1. El TITULAR DE LA TARJETA declara conocer y aceptar que el presente\nPrograma TARJETA \"YPF ENRUTA” es incompatible con el Programa YPF \"ServiClub\" y que, por lo tanto toda operación que realice la TARJETA “YPF ENRUTA\" no dará derecho a incorporar puntos en la o las Tarjetas \"YPF ServiClub\" que pudiere tener."]
[]
[null,{"$f":"Parámetros!$N$13","v":"Versión 1.2.2019"},null,"Condiciones Generales del Programa YPF ENRUTA",null,null,null,"Hoja 7/ 9"]
[]
[null,"14. ADHESION A BENEFICIOS ADICIONALES DEL PROGRAMA \"YPF ENRUTA\":"]
[null,"14.1 Para acceder a los beneficios especiales que pudieren llegar a otorgar los\nESTABLECIMIENTOS ADHERIDOS, los TITULARES DE LAS TARJETAS deberán suscribir, previamente, los Formularios de Adhesión con cada uno de dichos\nESTABLECIMIENTOS ADHERIDOS."]
[null,"15. DOMICILIOS Y JURISDICCIÓN:"]
[null,"15.1. El TITULAR DE LA TARJETA constituye domicilio especial, a todos los efectos legales, en el que obra bajo su firma en la presente Solicitud de Adhesión y CONDICIONES GENERALES DEL PROGRAMA TARJETA \"YPF ENRUTA,\" e YPF lo hace a los mismos efectos en Macacha Güemes 515 Ciudad de Buenos Aires, donde se tendrán por válidas todas las notificaciones de cualquier índole que las PARTES recíprocamente entre ellos se dirijan.\n15.2. Las PARTES podrán, dentro del ejido de las Ciudades en las que han constituido su domicilio modificarlo. Pero dicho nuevo domicilio constituido no entrará en vigor sino hasta que hayan transcurrido diez (l0) días corridos desde que se hubiere comunicado a la otra PARTE, mediante notificación fehaciente, el cambio de domicilio del que se tratare."]
[null,"16. INFORMACIONES:"]
[null,"16.1. El TITULAR de la TARJETA autoriza a YPF para que utilice sus datos de identificación a fin de remitirle al TITULAR DE LA TARJETA otras informaciones de interés, propias o de terceros, sobre productos y servicios relacionados con el transporte y el mercado automotor en general, así como lo autoriza a proporcionar en su caso dichos datos a terceros."]
[null,"17. ANEXOS"]
[null,"17.1. Forma parte del presente documento el \"Formulario de Adhesión YPF ENRUTA”, el cual deberá ser completado por el TITULAR DE LA TARJETA con los vehículos y conductores que desee habilitar."]
[]
[]
[]
[]
[]
[]
[]
[]
[]
[]
[]
[]
[]
[]
[]
[]
[]
[]
[]
[]
[]
[]
[]
[]
[]
[]
[]
[]
[]
[]
[null,{"$f":"Parámetros!$N$13","v":"Versión 1.2.2019"},null,"Condiciones Generales del Programa YPF ENRUTA",null,null,null,"Hoja 8/ 9"]
[]
[]
[]
[]
[null,"YPF S.A. solicita que el TITULAR DE LA TARJETA firme y certifique (por medio de entiedad bancaria o escribano) la hoja 9 de las Condiciones Generales comprendiendo dicha acción la compresión, entendimiento y aceptación de los 17 puntos detallados desde la hoja 1 a la 8 del presente documento."]
[]
[null,"Nro de Incidencia:",null,{"$f":"Datos_Empresa_Persona!AE3","v":0}]
[null,"Razón Social:",null,{"$f":"Datos_Empresa_Persona!C8","v":0}]
[null,"Tipo y Nro. de Documento:",null,{"$f":"CONCATENATE(Datos_Empresa_Persona!U8,\" - \",Datos_Empresa_Persona!W8)","v":"CUIT - "}]
[]
[null,"Medio de Pago:",null,{"$f":"Datos_Empresa_Persona!$C$43","v":0}]
[null,"Banco:",null,{"$f":"Datos_Empresa_Persona!G46","v":0}]
[null,"CBU:",null,{"$f":"Datos_Empresa_Persona!O43","v":0}]
[]
[null,"Fecha Cierre Contable:",null,{"$f":"'Anexo Comercial'!H39","v":"QUINCENAL"},{"$f":"IF(D137=\"QUINCENAL\",\"(15avo día calendario o último día calendario)\",\"(Último día calendario)\")","v":"(15avo día calendario o último día calendario)"}]
[]
[null,"Vencimiento del Resumen de Cuenta:",null,{"$f":"'Anexo Comercial'!L39","v":"QI-10 (10mo día calendario)"}]
[]
[null,"Tarjeta:",{"$f":"CONCATENATE(Datos_de_Tarjetas!D15,\" - \",Datos_de_Tarjetas!G15,\" - Límite por Operación: \",Datos_de_Tarjetas!K15,\" - Límite Mensual: \",Datos_de_Tarjetas!P15)","v":" -  - Límite por Operación:  - Límite Mensual: "}]
[null,null,{"$f":"CONCATENATE(\"Productos: \",Datos_de_Tarjetas!J15)","v":"Productos: "}]
[null,null,{"$f":"CONCATENATE(\"Vehículo: \",Datos_de_Tarjetas!M15,\" \",Datos_de_Tarjetas!N15,\" \",Datos_de_Tarjetas!O15,\" - Cap. Tanque: \",Datos_de_Tarjetas!L15)","v":"Vehículo:    - Cap. Tanque: "}]
[]
[null,"Direcciones de Correo Electrónico donde se enviarán las Facturas, Extractos, Resumenes de Cuenta, Nota de Crédito y Notas de Débito:"]
[null,"e-mail 1:",{"$f":"'Anexo Comercial'!N20","v":0}]
[null,"e-mail 2:",{"$f":"'Anexo Comercial'!N23","v":0}]
[]
[]
[]
[]
[]
[null,null,"FIRMA",null,null,"FIRMA"]
[]
[]
[]
[]
[null,null,"ACLARACIÓN",null,null,"ACLARACIÓN"]
[]
[]
[null,null,"CARGO",null,null,"CARGO"]
[]
[null,"Espacio para sellos de certificación"]
[]
[]
[]
[]
[]
[]
[]
[]
[]
[]
[]
[]
[]
[]
[]
[]
[null,{"$f":"Parámetros!$N$13","v":"Versión 1.2.2019"},null,"Condiciones Generales del Programa YPF ENRUTA",null,null,null,"Hoja 9/ 9"]

{"sheet":"Carátula","index":7,"n_rows":35,"n_cols":14,"rows_kept":35,"cut":false,"hidden":true,"merged":[[8,1,8,16],[13,1,13,16],[1,2,1,6],[2,2,2,5],[2,7,2,15],[10,2,10,15],[11,2,11,15],[9,1,9,16],[4,4,4,6],[6,4,6,6],[4,9,4,11],[34,13,34,16],[27,2,28,2],[25,3,25,15],[27,3,28,15],[20,2,20,15]]}
[]
[]
[null,null,{"$f":"IF(Datos_Empresa_Persona!AE3=\"\",\"\",Datos_Empresa_Persona!AE3)","v":""},null,null,null,null,{"$f":"IF(Datos_Empresa_Persona!C8=\"\",\"\",Datos_Empresa_Persona!C8)","v":""}]
[null,null,"Nro Incidencia",null,null,null,null,"Razón Social"]
[null,null,"RAPPEL",null,null,null,null,"CONTRATO",null,null,null,null,"CTC"]
[]
[null,null,"APIES"]
[]
[null,"DESTINATARIO:"]
[null,"YPF S.A."]
[null,null,"Macacha Güemes 515 - Piso 12\nCABA (C1106BKK)"]
[null,null,"A: SAC (Bandeja N° 1126)"]
[]
[null,"REMITENTE:"]
[null,null,"RAZÓN SOCIAL",null,null,null,{"$f":"IF(Datos_Empresa_Persona!C8=\"\",\"\",Datos_Empresa_Persona!C8)","v":""}]
[null,null,"DIRECCION:",null,null,null,{"$f":"IF(Datos_Empresa_Persona!C11=\"\",\"\",Datos_Empresa_Persona!C11)","v":""}]
[null,null,"LOCALIDAD:",null,null,null,{"$f":"IF(Datos_Empresa_Persona!W11=\"\",\"\",Datos_Empresa_Persona!W11)","v":""}]
[null,null,"PROVINCIA:",null,null,null,{"$f":"IF(Datos_Empresa_Persona!O11=\"\",\" \",Datos_Empresa_Persona!O11)","v":" "}]
[null,null,"COD. POSTAL:",null,null,null,{"$f":"IF(Datos_Empresa_Persona!AK11=\"\",\" \",Datos_Empresa_Persona!AK11)","v":" "}]
[]
[null,null,"DOCUMENTACIÓN A ENVIAR POR CORREO POSTAL"]
[]
[null,null," Marque con una cruz (X):"]
[]
[]
[null,null,null,"Condiciones Generales del programa (documento Firmado y Certificado)."]
[]
[]
[]
[]
[]
[]
[]
[]
[null,null,null,null,null,null,null,null,null,null,null,null,null,"Versión 2.0.2020"]

{"sheet":"Débito Directo","index":8,"n_rows":81,"n_cols":22,"rows_kept":81,"cut":false,"hidden":true,"merged":[[40,1,40,26],[15,8,15,14],[17,8,17,9],[17,18,17,24],[35,9,35,24],[36,9,36,24],[15,18,15,24],[39,21,39,25],[5,3,5,6],[5,12,5,13],[5,15,5,16],[5,18,5,24],[7,6,7,9],[7,13,7,24]]}
[]
[]
[]
[null,"Adhesión al Débito Directo"]
[]
[null,null,"En",null,null,null,null,",a los",null,"días del mes de",null,null,null,null,"del año",null,null,","]
[]
[null,null,"en su carácter de",null,null,null,null,null,null,null,"de la empresa",null,null,{"$f":"IF(Datos_Empresa_Persona!C8=\"\",\"\",Datos_Empresa_Persona!C8)","v":""}]
[]
[null,null,"en adelante  el \"TITULAR DE LA TARJETA\", autoriza  a YPF S.A. a que el  importe total de sus facturas y/o "]
[]
[null,null,"resumenes correspondientes a los consumos realizados por las TARJETAS \"YPF EN RUTA\" habilitadas a su"]
[]
[null,null,"nombre, le sea automáticamente debitado de su cuenta de Caja de Ahorro / Cuenta Corriente, en pesos /"]
[]
[null,null,"dolares estadounidenses n°",null,null,null,null,null,{"$f":"IF(Datos_Empresa_Persona!Y46=\"\",\"\",Datos_Empresa_Persona!Y46)","v":""},null,null,null,null,null,null,"en el Banco",null,null,{"$f":"IF(Datos_Empresa_Persona!I46=\"\",\"\",Datos_Empresa_Persona!I46)","v":""}]
[]
[null,null,"sucursal (nombre y número)",null,null,null,null,null,{"$f":"IF(Datos_Empresa_Persona!C46=\"\",\"\",Datos_Empresa_Persona!C46)","v":""},null,", con CBU (Clave Bancaria Unificada) N°",null,null,null,null,null,null,null,{"$f":"IF(Datos_Empresa_Persona!O43=\"\",\"\",Datos_Empresa_Persona!O43)","v":""}]
[]
[]
[null,null,"La presente autorización  solo podrá ser rebocada por el TITULAR DE LA TARJETA cuando haya cancelado"]
[]
[null,null,"toda deuda que hubieren generado las TARJETAS YPF EN RUTA habilitadas a su nombre."]
[]
[]
[null,null,"En caso que el TITULAR DE LA TARJETA se  viera obligado  a cambiar el  Banco y/o número de cuenta, el "]
[]
[null,null,"TITULAR DE LA TARJETA deberá comunicar mediante notificación fehaciente a YPF esta circunstancia con"]
[]
[null,null,"una  antelación  de quince (15) días anteriores  a la fecha del  cambio, remitiendo  junto con el aviso una"]
[]
[null,null,"nueva autorización para una nueva cuenta y/o Banco."]
[]
[]
[]
[]
[null,null,null,null,null,null,null,null,null,"Firma y Aclaracion responsable legal de la empresa."]
[]
[]
[null,null,null,null,null,null,null,null,null,null,null,null,null,null,null,null,null,null,null,null,null,"Versión 2.0.2020"]
[]
[]
[]
[]
[]
[]
[]
[]
[]
[null,null,null,null,null,null,null,null,"dia","mes","año",null,"pcia"]
[null,null,null,null,null,null,null,null,1,"Enero",2018,null,"BUENOS AIRES             "]
[null,null,null,null,null,null,null,null,2,"Febrero",2019,null,"CAPITAL FEDERAL          "]
[null,null,null,null,null,null,null,null,3,"Marzo",2020,null,"CHACO                    "]
[null,null,null,null,null,null,null,null,4,"Abril",null,null,"CATAMARCA                "]
[null,null,null,null,null,null,null,null,5,"Mayo",null,null,"CORDOBA                  "]
[null,null,null,null,null,null,null,null,6,"Junio",null,null,"CORRIENTES               "]
[null,null,null,null,null,null,null,null,7,"Julio",null,null,"CHUBUT                   "]
[null,null,null,null,null,null,null,null,8,"Agosto",null,null,"ENTRE RIOS               "]
[null,null,null,null,null,null,null,null,9,"Septiembre",null,null,"FORMOSA                  "]
[null,null,null,null,null,null,null,null,10,"Octubre",null,null,"JUJUY                    "]
[null,null,null,null,null,null,null,null,11,"Noviembre",null,null,"LA PAMPA                 "]
[null,null,null,null,null,null,null,null,12,"Diciembre",null,null,"LA RIOJA                 "]
[null,null,null,null,null,null,null,null,13,null,null,null,"MISIONES                 "]
[null,null,null,null,null,null,null,null,14,null,null,null,"MENDOZA                  "]
[null,null,null,null,null,null,null,null,15,null,null,null,"NEUQUEN                  "]
[null,null,null,null,null,null,null,null,16,null,null,null,"RIO NEGRO                "]
[null,null,null,null,null,null,null,null,17,null,null,null,"SALTA                    "]
[null,null,null,null,null,null,null,null,18,null,null,null,"SANTA CRUZ               "]
[null,null,null,null,null,null,null,null,19,null,null,null,"SANTIAGO DEL ESTERO      "]
[null,null,null,null,null,null,null,null,20,null,null,null,"SANTA FE                 "]
[null,null,null,null,null,null,null,null,21,null,null,null,"SAN JUAN                 "]
[null,null,null,null,null,null,null,null,22,null,null,null,"SAN LUIS                 "]
[null,null,null,null,null,null,null,null,23,null,null,null,"TIERRA DEL FUEGO         "]
[null,null,null,null,null,null,null,null,24,null,null,null,"TUCUMAN                  "]
[null,null,null,null,null,null,null,null,25]
[null,null,null,null,null,null,null,null,26]
[null,null,null,null,null,null,null,null,27]
[null,null,null,null,null,null,null,null,28]
[null,null,null,null,null,null,null,null,29]
[null,null,null,null,null,null,null,null,30]
[null,null,null,null,null,null,null,null,31]

{"sheet":"Parámetros","index":9,"n_rows":3031,"n_cols":60,"rows_kept":2250,"cut":true,"hidden":true,"merged":[[10,29,10,30],[0,1,0,7],[0,45,0,59],[1,35,1,36],[1,38,1,39]],"bounds":{"rows_first":1000,"rows_last":250,"rows_between":1000,"halvings":1}}
[null,"Representa Comercial de Transporte",null,null,null,null,null,null,null,null,null,null,null,null,null,null,null,null,null,null,null,null,null,null,null,null,null,null,null,null,null,null,null,null,null,null,null,null,null,null,null,null,null,null,null,"REPRESENTANTE COMERCIAL RETAIL"]
[null,"Concatenado","CodigoPostal","Localidad","Provincia","Region","NRO AGENTE","NOMBRE",null,"Provincias",null,"SI-NO",null,"TipoDocumento",null,"condiciones de iva",null,"Medio",null,"Día","Mes","Año",null,"Ciclo de Facturación",null,"Plazo Pago",null,"Forma de Pago",null,"Tipo Garantia",null,null,"Tipo de Flota",null,null,"Límites por Transacción",null,null,"Perfil Límite Mensual",null,null,"Productos",null,null,null,"Boca","Nombre","Gestión","Tipo Operación","Región","Domicilio","Código Postal","Localidad","Partido","Provincia","CUIT","RC","Jefe de Ventas","Gerente","JJRR OPESSA"]
[null,{"$f":"CONCATENATE(D3,\" (CP: \",C3,\")\")","v":"CAPITAL FEDERAL (CP: 1000)"},"1000","CAPITAL FEDERAL","CAPITAL FEDERAL","METROPOLITANA",31,"PABLO CIMINARI",null,"BUENOS_AIRES",null,"SI",null,"CUIT",null,"RESP INSCRIPTO      ",null,"Cartelería vía pública",null,1,1,1930,null,"MENSUAL",null,"QI-05 (5to. día calendario)",null,"ACUERDOS BANCARIOS        ",null,"Aval Bancario",null,null,"ACOPIADOR",17,null,1300,10,null,999999,"99",null,"GO- D500 / AZUL 32",{"$f":"AR3&\" - \"&AP3","v":"01 - GO- D500 / AZUL 32"},"01",null,1,"ACA BARRACAS","ACA","ACA","METROPOLITANA","AVENIDA MANUEL AUGUSTO MONTES DE OCA 492 Y AVENIDA MARTIN GARCIA",1270,"CAPITAL FEDERAL","CAPITAL FEDERAL","CAPITAL FEDERAL","30500143297","Crespo, Sebastián","Acosta, Diego","Gottlieb, Patricio",""]
[null,"CAPITAL FEDERAL (CP: 1001)","1001","CAPITAL FEDERAL","CAPITAL FEDERAL","METROPOLITANA",31,"PABLO CIMINARI",null,"CABA",null,"NO",null,"CI",null,"RESP NO INSCRIPTO   ",null,"Mail con publicidad",null,2,2,1931,null,"QUINCENAL",null,"QI-10 (10mo. día calendario)",null,"COMPENSACIÓN EN CUENTA (Proveedores)",null,"Prenda en pesos",null,null,"AMBULANCIAS",9,null,8500,"02",null,900000,"98",null,"GO- D500/ LUB / AZUL 32","02 - GO- D500/ LUB / AZUL 32","02",null,2,"OPESSA ACA VELEZ SARSFIELD","OPESSA","Consignado","METROPOLITANA","AVENIDA DR VELEZ SARSFIELD 850 Y TOLL",1281,"CAPITAL FEDERAL","CAPITAL FEDERAL","CAPITAL FEDERAL","30678774495","Crespo, Sebastián","Acosta, Diego","Gottlieb, Patricio","Gualeni, Andrea"]
[null,"CAPITAL FEDERAL (CP: 1002)","1002","CAPITAL FEDERAL","CAPITAL FEDERAL","METROPOLITANA",31,"PABLO CIMINARI",null,"CATAMARCA",null,null,null,"DNI",null,"NO RESPONSABLE      ",null,"Por la estación de servicio",null,3,3,1932,null,null,null,"QI-15 (15avo. día calendario)",null,"DEBIN (Débito Inmediato)",null,"Garantía Hipotecaria",null,null,"AUTOTRANSPORTE",3,null,8500,"03",null,600000,"97",null,"GO- D500 / PE / AZUL 32","03 - GO- D500 / PE / AZUL 32","03",null,4,"INCAT SRL","TERCEROS","Consignado","METROPOLITANA","AVENIDA INDEPENDENCIA 2701 Y JUJUY",1225,"CAPITAL FEDERAL","CAPITAL FEDERAL","CAPITAL FEDERAL","30515800219","Crespo, Sebastián","Acosta, Diego","Gottlieb, Patricio",""]
[null,"CAPITAL FEDERAL (CP: 1003)","1003","CAPITAL FEDERAL","CAPITAL FEDERAL","METROPOLITANA",31,"PABLO CIMINARI",null,"CHACO",null,null,null,"LC",null,"EXENTO              ",null,"Por la página de YPF",null,4,4,1933,null,null,null,"QI-30 (30mo. día calendario)",null,"DÉBITO AUTOMÁTICO",null,"Garantía Proveedor",null,null,"CARGA/LARGA DIST GDE",7,null,13000,"04",null,500000,"96",null,"GO- D500 / LUB / PE / AZUL 32","04 - GO- D500 / LUB / PE / AZUL 32","04",null,7,"OPESSA CABILDO","OPESSA","Consignado","METROPOLITANA","AVENIDA CABILDO 4108 Y VILELA",1429,"CAPITAL FEDERAL","CAPITAL FEDERAL","CAPITAL FEDERAL","30678774495","López, Alejandro","Bouzon, Gustavo","Gottlieb, Patricio","Gualeni, Andrea"]
[null,"CAPITAL FEDERAL (CP: 1004)","1004","CAPITAL FEDERAL","CAPITAL FEDERAL","METROPOLITANA",31,"PABLO CIMINARI",null,"CHUBUT",null,"TipoLinea",null,"LE",null,"CONSUMIDOR FINAL    ",null,"Publicidad en revistas",null,5,5,1934,null,"TipoCaja",null,"QI-45 (45avo. día calendario)",null,"DÉBITO AUTOMÁTICO Tarjeta Crédito AMEX",null,"LRT- Limite de Riesgo Técnico",null,null,"CARGA/LARGA DISTA PASAJEROS",1,null,13000,11,null,400000,"95",null,"GO- D500 / LUB / ACC / AZUL 32","05 - GO- D500 / LUB / ACC / AZUL 32","05",null,10,"UNENS SRL","TERCEROS","Consignado","METROPOLITANA","GERVASIO ESPINOSA 605 Y NEUQUEN",1405,"CAPITAL FEDERAL","CAPITAL FEDERAL","CAPITAL FEDERAL","33688436279","Crespo, Sebastián","Acosta, Diego","Gottlieb, Patricio",""]
[null,"CAPITAL FEDERAL (CP: 1005)","1005","CAPITAL FEDERAL","CAPITAL FEDERAL","METROPOLITANA",31,"PABLO CIMINARI",null,"CORDOBA",null,"FIJA",null,"PASAPORTE",null,"VENTAS EXTERIOR     ",null,"Recomendación",null,6,6,1935,null,"CAJA DE AHORRO",null,"ME-05 (5to. día calendario)",null,"INTERBANKING (Empresa a Empresa)",null,null,null,null,"CONTRATISTA",14,null,19500,"07",null,300000,"94",null,"GO- D500 / LUB / ACC / PE / AZUL 32","06 - GO- D500 / LUB / ACC / PE / AZUL 32","06",null,11,"PETROLFE SA","TERCEROS","Consignado","METROPOLITANA","AVENIDA SAN JUAN 2901 Y DEAN FUNES",1235,"CAPITAL FEDERAL","CAPITAL FEDERAL","CAPITAL FEDERAL","30696131003","Crespo, Sebastián","Acosta, Diego","Gottlieb, Patricio",""]
[null,"CAPITAL FEDERAL (CP: 1006)","1006","CAPITAL FEDERAL","CAPITAL FEDERAL","METROPOLITANA",31,"PABLO CIMINARI",null,"CORRIENTES",null,"CELULAR",null,null,null,"MONOTRIBUTISTA      ",null,"Redes Sociales ",null,7,7,1936,null,"CUENTA CORRIENTE",null,"ME-15 (15avo. día calendario)",null,"MERCADO PAGO",null,null,null,null,"COOPERATIVA",16,null,32500,"05",null,250000,"93",null,"GO- D500 / E / L Y GOM / AZUL 32","07 - GO- D500 / E / L Y GOM / AZUL 32","07",null,14,"HUACALERA SRL","TERCEROS","Consignado","METROPOLITANA","AVENIDA JUAN DE GARAY 2780 Y ESTEBAN DE LUCA",1256,"CAPITAL FEDERAL","CAPITAL FEDERAL","CAPITAL FEDERAL","30555854974","Crespo, Sebastián","Acosta, Diego","Gottlieb, Patricio",""]
[null,"CAPITAL FEDERAL (CP: 1007)","1007","CAPITAL FEDERAL","CAPITAL FEDERAL","METROPOLITANA",31,"PABLO CIMINARI",null,"ENTRE_RIOS",null,null,null,null,null,"NO CATEGORIZADO     ",null,"Otras (especificar)",null,8,8,1937,null,null,null,"ME-20 (20mo. día calendario)",null,"E-CHEQ",null,null,null,null,"DISTRIBUCION",2,null,45500,12,null,200000,"92",null,"GO- D500 / LUB / E / L Y GOM / AZUL 32","08 - GO- D500 / LUB / E / L Y GOM / AZUL 32","08",null,19,"PROINCO SACI","TERCEROS","Consignado","METROPOLITANA","AVENIDA LA PLATA 901 Y J BONIFACIO",1235,"CAPITAL FEDERAL","CAPITAL FEDERAL","CAPITAL FEDERAL","30538851937","Crespo, Sebastián","Acosta, Diego","Gottlieb, Patricio",""]
[null,"CAPITAL FEDERAL (CP: 1008)","1008","CAPITAL FEDERAL","CAPITAL FEDERAL","METROPOLITANA",31,"PABLO CIMINARI",null,"FORMOSA",null,null,null,null,null,null,null,null,null,9,9,1938,null,null,null,"ME-30 (30mo. día calendario)",null,null,null,"TipoPatente",null,null,"EMP PROV YPF ACTIV T",20,null,65000,"06",null,150000,"91",null,"GO- D500/INFINIA DIESEL / LUB / ACC / S / E / OS / PE / L Y GOM / AZUL 32","09 - GO- D500/INFINIA DIESEL / LUB / ACC / S / E / OS / PE / L Y GOM / AZUL 32","09",null,20,"PSF UNISERVICIOS","TERCEROS","Consignado","METROPOLITANA","AVENIDA JOSE M MORENO 1485 Y AVELINO DIAZ",1424,"CAPITAL FEDERAL","CAPITAL FEDERAL","CAPITAL FEDERAL","30682816305","Crespo, Sebastián","Acosta, Diego","Gottlieb, Patricio",""]
[null,"CAPITAL FEDERAL (CP: 1009)","1009","CAPITAL FEDERAL","CAPITAL FEDERAL","METROPOLITANA",31,"PABLO CIMINARI",null,"JUJUY",null,null,null,"Versión Formulario",null,null,null,null,null,10,10,1939,null,"MonedaCaja",null,"DE-10",null,null,null,"Dominio (XXX999)","01",null,"EMP PROV YPF ACTIVID",21,null,84500,"08",null,99999,"90",null,"GO- D500 / LUB E / OS / PE / L Y GOM / AZUL 32","10 - GO- D500 / LUB E / OS / PE / L Y GOM / AZUL 32","10",null,21,"MADRO SA","TERCEROS","Consignado","METROPOLITANA","AVENIDA AMANCIO ALCORTA 2711 Y MONTESQUIEU",1437,"CAPITAL FEDERAL","CAPITAL FEDERAL","CAPITAL FEDERAL","30679185973","Crespo, Sebastián","Acosta, Diego","Gottlieb, Patricio",""]
[null,"CAPITAL FEDERAL (CP: 1010)","1010","CAPITAL FEDERAL","CAPITAL FEDERAL","METROPOLITANA",31,"PABLO CIMINARI",null,"LA_PAMPA",null,null,null,"Versión 1.2.2019",null,null,null,null,null,11,11,1940,null,"PESOS",null,"SE-10",null,null,null,"Dominio (XX999XX)","00",null,"EXTRANJERO          ",19,null,130000,"09",null,70000,"73",null,"GO- D500 / E / OS / PE / L Y GOM / AZUL 32","11 - GO- D500 / E / OS / PE / L Y GOM / AZUL 32","11",null,23,"SAN JUAN Y SOLIS ALVAREZ Y DI LEVA SA","TERCEROS","Consignado","METROPOLITANA","AVENIDA SAN JUAN 1701 Y SOLIS",1148,"CAPITAL FEDERAL","CAPITAL FEDERAL","CAPITAL FEDERAL","30540259166","Crespo, Sebastián","Acosta, Diego","Gottlieb, Patricio",""]
[null,"CAPITAL FEDERAL (CP: 1011)","1011","CAPITAL FEDERAL","CAPITAL FEDERAL","METROPOLITANA",31,"PABLO CIMINARI",null,"LA_RIOJA",null,null,null,null,null,null,null,null,null,12,12,1941,null,"DOLARES",null,"ME-22 (días calendario)",null,null,null,"Conductor DNI","20",null,"FLOTA INTERNA YPF",10,null,null,null,null,55000,"72",null,"N/GNC","12 - N/GNC","12",null,24,"RERIFE SA","TERCEROS","Consignado","METROPOLITANA","AVENIDA ALBERDI 100 Y SENILLOSA",1424,"CAPITAL FEDERAL","CAPITAL FEDERAL","CAPITAL FEDERAL","30677909001","Crespo, Sebastián","Acosta, Diego","Gottlieb, Patricio",""]
[null,"CAPITAL FEDERAL (CP: 1012)","1012","CAPITAL FEDERAL","CAPITAL FEDERAL","METROPOLITANA",31,"PABLO CIMINARI",null,"MENDOZA",null,null,null,null,null,null,null,null,null,13,null,1942,null,null,null,null,null,"ListaTarifa",null,"Motos","00",null,"FLOTA VENTAS",6,null,null,null,null,45000,"71",null,"N/GNC/LUB","13 - N/GNC/LUB","13",null,29,"NEUQUEN PETRO OESTE SRL","TERCEROS","Consignado","PATAGONIA","RUTA NACIONAL 22 KM 1234 (Descendente)",8318,"PLAZA HUINCUL","CONFLUENCIA","NEUQUEN","30646766369","Diacono, Juan Pablo","Maccari, Marcelo","Barreiro, Silvina",""]
[null,"CAPITAL FEDERAL (CP: 1013)","1013","CAPITAL FEDERAL","CAPITAL FEDERAL","METROPOLITANA",31,"PABLO CIMINARI",null,"MISIONES",null,null,null,null,null,null,null,null,null,14,null,1943,null,null,null,null,null,"LISTA",null,"Maquinaria Pesada","00",null,"MANTENIMIENTO",4,null,null,null,null,40000,"70",null,"N/GNC/LUB/ACC/E/LYGOM","14 - N/GNC/LUB/ACC/E/LYGOM","14",null,32,"SUPER SERVICIOS S.A.","TERCEROS","Consignado","METROPOLITANA","AVENIDA AVELLANEDA 1628 Y SEGUI",1406,"CAPITAL FEDERAL","CAPITAL FEDERAL","CAPITAL FEDERAL","30654236069","Crespo, Sebastián","Acosta, Diego","Gottlieb, Patricio",""]
[null,"CAPITAL FEDERAL (CP: 1014)","1014","CAPITAL FEDERAL","CAPITAL FEDERAL","METROPOLITANA",31,"PABLO CIMINARI",null,"NEUQUEN",null,null,null,"TipoDocumentoConductor",null,"NEGOCIO",null,null,null,15,null,1944,null,null,null,null,null,"TARIFA",null,"Otros","00",null,"OPERADORES LOGISTICO",8,null,null,null,null,38000,"69",null,"N/GNC/LUB/E/LYGOM","15 - N/GNC/LUB/E/LYGOM","15",null,35,"GNC POMPEYA SRL","TERCEROS","GNC","METROPOLITANA","AVENIDA AMANCIO ALCORTA 3415 Y PEPIRI",1437,"CAPITAL FEDERAL","CAPITAL FEDERAL","CAPITAL FEDERAL",30627980600,"Crespo, Sebastián","Acosta, Diego","Gottlieb, Patricio",""]
[null,"CAPITAL FEDERAL (CP: 1015)","1015","CAPITAL FEDERAL","CAPITAL FEDERAL","METROPOLITANA",31,"PABLO CIMINARI",null,"RIO_NEGRO",null,null,null,"CI",null,"AGRO",null,null,null,16,null,1945,null,"Documentación",null,null,null,null,null,null,"00",null,"OTROS",18,null,null,null,null,36500,"79",null,"N/GNC/LUB/ACC ","16 - N/GNC/LUB/ACC ","16",null,43,"ACA FLORES","ACA","ACA","METROPOLITANA","AVENIDA BERNARDINO RIVADAVIA 7530 Y JOSE MARTI",1406,"CAPITAL FEDERAL","CAPITAL FEDERAL","CAPITAL FEDERAL","30500143297","Lupi, Guido","Acosta, Diego","Gottlieb, Patricio",""]
[null,"CAPITAL FEDERAL (CP: 1016)","1016","CAPITAL FEDERAL","CAPITAL FEDERAL","METROPOLITANA",31,"PABLO CIMINARI",null,"SALTA",null,null,null,"DNI",null,"AVIACIÓN",null,null,null,17,null,1946,null,"DIGITAL",null,null,null,"Perfil_Lista",null,null,null,null,"PASAJEROS SUBSIDIADO",23,null,null,null,null,36000,"64",null,"N/GNC/E/LYGOM","17 - N/GNC/E/LYGOM","17",null,44,"OPESSA ACA AUTODROMO","OPESSA","Consignado","METROPOLITANA","AVENIDA CNEL JOSE SEGUNDO ROCA 4550 Y ESCALADA",1439,"CAPITAL FEDERAL","CAPITAL FEDERAL","CAPITAL FEDERAL","30678774495","Lupi, Guido","Acosta, Diego","Gottlieb, Patricio","Gualeni, Andrea"]
[null,"CAPITAL FEDERAL (CP: 1017)","1017","CAPITAL FEDERAL","CAPITAL FEDERAL","METROPOLITANA",31,"PABLO CIMINARI",null,"SAN_JUAN",null,null,null,"DOCUMENTO EXTRANJERO",null,"GLP",null,null,null,18,null,1947,null,"IMPRESO",null,null,null,"PERFIL LISTA 0",null,null,null,null,"PRODUCTOR",15,null,null,null,null,35000,"68",null,"N/GNC/LUB/S/ACC/E/LYGOM ","18 - N/GNC/LUB/S/ACC/E/LYGOM ","18",null,47,"GASOLEO S.A.","TERCEROS","Consignado","METROPOLITANA","AVENIDA ALBERDI 7500 Y GENERAL PAZ",1440,"CAPITAL FEDERAL","CAPITAL FEDERAL","CAPITAL FEDERAL","30620098058","Lupi, Guido","Acosta, Diego","Gottlieb, Patricio",""]
[null,"CAPITAL FEDERAL (CP: 1018)","1018","CAPITAL FEDERAL","CAPITAL FEDERAL","METROPOLITANA",31,"PABLO CIMINARI",null,"SAN_LUIS",null,null,null,"LC",null,"LUBRICANTES",null,null,null,19,null,1948,null,null,null,null,null,"PERFIL TARIFA  02",null,null,null,null,"REMIS/TAXI",5,null,null,null,null,33000,"67",null,"N/GNC/PE","19 - N/GNC/PE","19",null,49,"SERVICIO ESCALADA SRL","TERCEROS","Consignado","METROPOLITANA","GRAL M DE ESCALADA 678 Y J B ALBERDI",1407,"CAPITAL FEDERAL","CAPITAL FEDERAL","CAPITAL FEDERAL","30571048619","Lupi, Guido","Acosta, Diego","Gottlieb, Patricio",""]
[null,"CAPITAL FEDERAL (CP: 1019)","1019","CAPITAL FEDERAL","CAPITAL FEDERAL","METROPOLITANA",31,"PABLO CIMINARI",null,"SANTA_CRUZ",null,null,null,"LE",null,"MINERÍA",null,null,null,20,null,1949,null,null,null,null,null,"PERFIL TARIFA  03",null,null,null,null,"TRANSPORTE DE PASAJEROS",12,null,null,null,null,33000,"63",null,"N/GNC/LUB/PE","20 - N/GNC/LUB/PE","20",null,50,"CALITRI F L Y NIETO A H SH","TERCEROS","Consignado","METROPOLITANA","GENERAL M DE ESCALADA 2951 Y ARTIGAS",1439,"CAPITAL FEDERAL","CAPITAL FEDERAL","CAPITAL FEDERAL","33709401489","Lupi, Guido","Acosta, Diego","Gottlieb, Patricio",""]
[null,"CAPITAL FEDERAL (CP: 1020)","1020","CAPITAL FEDERAL","CAPITAL FEDERAL","METROPOLITANA",31,"PABLO CIMINARI",null,"SANTA_FE",null,null,null,"PASAPORTE",null,"OIL & GAS",null,null,null,21,null,1950,null,null,null,null,null,"PERFIL TARIFA  04",null,null,null,null,"TURISMO",13,null,null,null,null,30000,"66",null,"N/GNC/LUB/ACC/S/E/PE/OS/LYGOM","21 - N/GNC/LUB/ACC/S/E/PE/OS/LYGOM","21",null,51,"CORRO NORTE SA","TERCEROS","Consignado","METROPOLITANA","AVENIDA CANONIGO M DEL CORRO 501 Y ARANGUREN",1407,"CAPITAL FEDERAL","CAPITAL FEDERAL","CAPITAL FEDERAL","33552744859","Outeda, Sergio Angel","Bouzon, Gustavo","Gottlieb, Patricio",""]
[null,"CAPITAL FEDERAL (CP: 1021)","1021","CAPITAL FEDERAL","CAPITAL FEDERAL","METROPOLITANA",31,"PABLO CIMINARI",null,"SANTIAGO_DEL_ESTERO",null,null,null,null,null,"POLOS INDUSTRIALES",null,null,null,22,null,1951,null,null,null,null,null,"PERFIL TARIFA  05",null,null,null,null,"VIGILANCIA/TPTE CAUD",11,null,null,null,null,30000,"62",null,"N/GNC/LUB/E/PE/OS/LYGOM","22 - N/GNC/LUB/E/PE/OS/LYGOM","22",null,53,"MARTINEZ,ANALIA SUSANA","TERCEROS","Reventa","METROPOLITANA","AVENIDA LARRAZABAL 801 Y SCHMIDL",1408,"CAPITAL FEDERAL","CAPITAL FEDERAL","CAPITAL FEDERAL","27122283351","Lupi, Guido","Acosta, Diego","Gottlieb, Patricio",""]
[null,"CAPITAL FEDERAL (CP: 1022)","1022","CAPITAL FEDERAL","CAPITAL FEDERAL","METROPOLITANA",31,"PABLO CIMINARI",null,"TIERRA_DEL_FUEGO",null,null,null,null,null,"TRANSPORTE",null,null,null,23,null,1952,null,null,null,null,null,"PERFIL TARIFA  06",null,null,null,null,null,null,null,null,null,null,28000,"65",null,"N/GNC/E/PE/OS/LYGOM","23 - N/GNC/E/PE/OS/LYGOM","23",null,56,"GARAGE Y ESTACION DE SERVICIO EL PROGRESO SA","TERCEROS","Consignado","METROPOLITANA","AVENIDA DOMINGO OLIVERA 1136 Y WHITE",1407,"CAPITAL FEDERAL","CAPITAL FEDERAL","CAPITAL FEDERAL","30621559598","Lupi, Guido","Acosta, Diego","Gottlieb, Patricio",""]
[null,"CAPITAL FEDERAL (CP: 1023)","1023","CAPITAL FEDERAL","CAPITAL FEDERAL","METROPOLITANA",31,"PABLO CIMINARI",null,"TUCUMAN",null,null,null,null,null,null,null,null,null,24,null,1953,null,null,null,null,null,"PERFIL TARIFA  07",null,null,null,null,null,null,null,null,null,null,27500,"61",null,"GO- D500/INFINIA DIESEL/N/GNC/KE / AZUL 32","24 - GO- D500/INFINIA DIESEL/N/GNC/KE / AZUL 32","24",null,59,"JONTE 3386 SRL","TERCEROS","Consignado","METROPOLITANA","AVENIDA ANTONIO ALVAREZ JONTE 3386 Y LLAVALLOL",1407,"CAPITAL FEDERAL","CAPITAL FEDERAL","CAPITAL FEDERAL","33653335259","Outeda, Sergio Angel","Bouzon, Gustavo","Gottlieb, Patricio",""]
[null,"CAPITAL FEDERAL (CP: 1024)","1024","CAPITAL FEDERAL","CAPITAL FEDERAL","METROPOLITANA",31,"PABLO CIMINARI",null,null,null,null,null,null,null,null,null,null,null,25,null,1954,null,null,null,null,null,"PERFIL TARIFA  08",null,null,null,null,null,null,null,null,null,null,25000,"60",null,"GO- D500/INFINIA DIESEL/N/GNC/KE /LUB / AZUL 32","25 - GO- D500/INFINIA DIESEL/N/GNC/KE /LUB / AZUL 32","25",null,63,"DESTINATUM S.A.","TERCEROS","Consignado","METROPOLITANA","AVENIDA EVA PERON 6102 Y MURGUIONDO",1439,"CAPITAL FEDERAL","CAPITAL FEDERAL","CAPITAL FEDERAL","30712135022","Lupi, Guido","Acosta, Diego","Gottlieb, Patricio",""]
[null,"CAPITAL FEDERAL (CP: 1025)","1025","CAPITAL FEDERAL","CAPITAL FEDERAL","METROPOLITANA",31,"PABLO CIMINARI",null,null,null,null,null,null,null,null,null,null,null,26,null,1955,null,null,null,null,null,"PERFIL TARIFA  09",null,null,null,null,null,null,null,null,null,null,24100,"78",null,"GO- D500/INFINIA DIESEL/N/GNC/KE/LUB/ACC/E/LYGOM / AZUL 32","26 - GO- D500/INFINIA DIESEL/N/GNC/KE/LUB/ACC/E/LYGOM / AZUL 32","26",null,64,"MAURER & GRUMELLI SRL","TERCEROS","Consignado","METROPOLITANA","AVENIDA LOPE DE VEGA 1502 Y MIRANDA",1407,"CAPITAL FEDERAL","CAPITAL FEDERAL","CAPITAL FEDERAL","30601316982","Outeda, Sergio Angel","Bouzon, Gustavo","Gottlieb, Patricio",""]
[null,"CAPITAL FEDERAL (CP: 1026)","1026","CAPITAL FEDERAL","CAPITAL FEDERAL","METROPOLITANA",31,"PABLO CIMINARI",null,"JOSE ANDRES MONDINO",null,null,null,null,null,null,null,null,null,27,null,1956,null,null,null,null,null,"PERFIL TARIFA  10",null,null,null,null,null,null,null,null,null,null,22000,"59",null,"GO- D500/INFINIA DIESEL/N/GNC/KE/LUB/E/LYGOM / AZUL 32","27 - GO- D500/INFINIA DIESEL/N/GNC/KE/LUB/E/LYGOM / AZUL 32","27",null,66,"TERGEN SRL","TERCEROS","Consignado","METROPOLITANA","AVENIDA DIRECTORIO 2578 Y VARELA",1406,"CAPITAL FEDERAL","CAPITAL FEDERAL","CAPITAL FEDERAL","30708622423","Lupi, Guido","Acosta, Diego","Gottlieb, Patricio",""]
[null,"CAPITAL FEDERAL (CP: 1027)","1027","CAPITAL FEDERAL","CAPITAL FEDERAL","METROPOLITANA",31,"PABLO CIMINARI",null,null,null,null,null,null,null,null,null,null,null,28,null,1957,null,null,null,null,null,"PERFIL TARIFA  11",null,null,null,null,null,null,null,null,null,null,21200,"77",null,"GO- D500/INFINIA DIESEL/N/GNC/KE/E/LYGOM / AZUL 32","28 - GO- D500/INFINIA DIESEL/N/GNC/KE/E/LYGOM / AZUL 32","28",null,67,"RED PETROL SA","TERCEROS","Consignado","METROPOLITANA","AVENIDA CNEL JOSE SEGUNDO ROCA 6797 Y J L SUAREZ",1439,"CAPITAL FEDERAL","CAPITAL FEDERAL","CAPITAL FEDERAL","30636622695","Lupi, Guido","Acosta, Diego","Gottlieb, Patricio",""]
[null,"CAPITAL FEDERAL (CP: 1028)","1028","CAPITAL FEDERAL","CAPITAL FEDERAL","METROPOLITANA",31,"PABLO CIMINARI",null,null,null,null,null,null,null,null,null,null,null,29,null,1958,null,null,null,null,null,"PERFIL TARIFA  12",null,null,null,null,null,null,null,null,null,null,20200,"76",null,"GO- D500/INFINIA DIESEL/N/GNC/KE/LUB/ACC  / AZUL 32","29 - GO- D500/INFINIA DIESEL/N/GNC/KE/LUB/ACC  / AZUL 32","29",null,68,"DARSISA SA","TERCEROS","Consignado","METROPOLITANA","AVENIDA DR JUAN BAUTISTA JUSTO 7099 Y AVENIDA SEGUROLA",1407,"CAPITAL FEDERAL","CAPITAL FEDERAL","CAPITAL FEDERAL","30686929848","Outeda, Sergio Angel","Bouzon, Gustavo","Gottlieb, Patricio",""]
[null,"CAPITAL FEDERAL (CP: 1029)","1029","CAPITAL FEDERAL","CAPITAL FEDERAL","METROPOLITANA",31,"PABLO CIMINARI",null,null,null,null,null,null,null,null,null,null,null,30,null,1959,null,null,null,null,null,"PERFIL TARIFA  13",null,null,null,null,null,null,null,null,null,null,20000,"58",null,"GO- D500/INFINIA DIESEL/N/GNC/KE/LUB/ACC/S/E/LYGOM/AZUL 32","30 - GO- D500/INFINIA DIESEL/N/GNC/KE/LUB/ACC/S/E/LYGOM/AZUL 32","30",null,70,"NAFPUR XXI SA","TERCEROS","Consignado","METROPOLITANA","ARGENTINA 5620 Y ZELARRAYAN",1439,"CAPITAL FEDERAL","CAPITAL FEDERAL","CAPITAL FEDERAL","30707983732","Lupi, Guido","Acosta, Diego","Gottlieb, Patricio",""]
[null,"CAPITAL FEDERAL (CP: 1030)","1030","CAPITAL FEDERAL","CAPITAL FEDERAL","METROPOLITANA",31,"PABLO CIMINARI",null,null,null,null,null,null,null,null,null,null,null,31,null,1960,null,null,null,null,null,"PERFIL TARIFA  14",null,null,null,null,null,null,null,null,null,null,19700,"75",null,"GO- D500/INFINIA DIESEL/N/GNC/KE/PE/AZUL 32","31 - GO- D500/INFINIA DIESEL/N/GNC/KE/PE/AZUL 32","31",null,72,"SUPER SERVICIOS SA","TERCEROS","Consignado","METROPOLITANA","CAMBIESES 1780 Y FRANK BROWN",1600,"CAPITAL FEDERAL","CAPITAL FEDERAL","CAPITAL FEDERAL","30654236069","Lupi, Guido","Acosta, Diego","Gottlieb, Patricio",""]
[null,"CAPITAL FEDERAL (CP: 1031)","1031","CAPITAL FEDERAL","CAPITAL FEDERAL","METROPOLITANA",31,"PABLO CIMINARI",null,null,null,null,null,null,null,null,null,null,null,null,null,1961,null,null,null,null,null,"PERFIL TARIFA  15",null,null,null,null,null,null,null,null,null,null,19100,"74",null,"GO- D500/INFINIA DIESEL/N/GNC/KE/LUB/PE/AZUL 32","32 - GO- D500/INFINIA DIESEL/N/GNC/KE/LUB/PE/AZUL 32","32",null,73,"SERVIFE SRL","TERCEROS","Consignado","METROPOLITANA","AVENIDA EVA PERON 4899 Y OLIVERA",1407,"CAPITAL FEDERAL","CAPITAL FEDERAL","CAPITAL FEDERAL","30555220584","Lupi, Guido","Acosta, Diego","Gottlieb, Patricio",""]
[null,"CAPITAL FEDERAL (CP: 1032)","1032","CAPITAL FEDERAL","CAPITAL FEDERAL","METROPOLITANA",31,"PABLO CIMINARI",null,null,null,null,null,null,null,null,null,null,null,null,null,1962,null,null,null,null,null,"PERFIL TARIFA  16",null,null,null,null,null,null,null,null,null,null,18700,"24",null,"GO- D500/INFINIA DIESEL/N/GNC/KE/LUB/ACC/S/E/PE/OS/LYGOM/AZUL 32",{"$f":"AR35&\" - \"&AP35","v":"33 - GO- D500/INFINIA DIESEL/N/GNC/KE/LUB/ACC/S/E/PE/OS/LYGOM/AZUL 32"},"33",null,74,"SOLMAY SRL","TERCEROS","Consignado","METROPOLITANA","AVENIDA ALBERDI 4402 Y MEDINA",1407,"CAPITAL FEDERAL","CAPITAL FEDERAL","CAPITAL FEDERAL","30702071506","Lupi, Guido","Acosta, Diego","Gottlieb, Patricio",""]
[null,"CAPITAL FEDERAL (CP: 1033)","1033","CAPITAL FEDERAL","CAPITAL FEDERAL","METROPOLITANA",31,"PABLO CIMINARI",null,null,null,null,null,null,null,null,null,null,null,null,null,1963,null,null,null,null,null,"PERFIL TARIFA  17",null,null,null,null,null,null,null,null,null,null,17700,"23",null,"GO- D500/INFINIA DIESEL/N/GNC/KE/LUB/E/PE/OS/LYGOM/AZUL 32","34 - GO- D500/INFINIA DIESEL/N/GNC/KE/LUB/E/PE/OS/LYGOM/AZUL 32","34",null,80,"NAFPUR XXI SA","TERCEROS","GNC","METROPOLITANA","JUAN ZELARRAYAN 5530 Y AVENIDA ARGENTINA",1439,"CAPITAL FEDERAL","CAPITAL FEDERAL","CAPITAL FEDERAL",30707983732,"Lupi, Guido","Acosta, Diego","Gottlieb, Patricio",""]
[null,"CAPITAL FEDERAL (CP: 1034)","1034","CAPITAL FEDERAL","CAPITAL FEDERAL","METROPOLITANA",31,"PABLO CIMINARI",null,null,null,null,null,null,null,null,null,null,null,null,null,1964,null,null,null,null,null,"PERFIL TARIFA  18",null,null,null,null,null,null,null,null,null,null,17300,"22",null,"GO- D500/INFINIA DIESEL/N/GNC/KE/E/PE/OS/LYGOM/AZUL 32","35 - GO- D500/INFINIA DIESEL/N/GNC/KE/E/PE/OS/LYGOM/AZUL 32","35",null,82,"OPESSA ACA CABALLITO","OPESSA","Consignado","METROPOLITANA","AVENIDA GAONA 1204 Y MARTIN DE GAINZA",1416,"CAPITAL FEDERAL","CAPITAL FEDERAL","CAPITAL FEDERAL","30678774495","Crespo, Sebastián","Acosta, Diego","Gottlieb, Patricio","Gualeni, Andrea"]
[null,"CAPITAL FEDERAL (CP: 1035)","1035","CAPITAL FEDERAL","CAPITAL FEDERAL","METROPOLITANA",31,"PABLO CIMINARI",null,null,null,null,null,null,null,null,null,null,null,null,null,1965,null,null,null,null,null,"PERFIL TARIFA  19",null,null,null,null,null,null,null,null,null,null,16600,"21",null,"GO- D500/LUB/ACC/EN/LAYGOM / AZUL 32","36 - GO- D500/LUB/ACC/EN/LAYGOM / AZUL 32","36",null,83,"ACA CENTRAL","ACA","ACA","METROPOLITANA","AVENIDA DEL LIBERTADOR 1850 Y PEREYRA LUCENA",1425,"CAPITAL FEDERAL","CAPITAL FEDERAL","CAPITAL FEDERAL","30500143297","López, Alejandro","Bouzon, Gustavo","Gottlieb, Patricio",""]
[null,"CAPITAL FEDERAL (CP: 1036)","1036","CAPITAL FEDERAL","CAPITAL FEDERAL","METROPOLITANA",31,"PABLO CIMINARI",null,null,null,null,null,null,null,null,null,null,null,null,null,1966,null,null,null,null,null,"PERFIL TARIFA  20",null,null,null,null,null,null,null,null,null,null,16000,"57",null,"GO- D500 / LUB / ACC / E / L Y GOM / AZUL 32","37 - GO- D500 / LUB / ACC / E / L Y GOM / AZUL 32","37",null,84,"OPESSA ACA ONCE","OPESSA","Consignado","METROPOLITANA","AVENIDA RIVADAVIA 3341 Y AGÜERO",1203,"CAPITAL FEDERAL","CAPITAL FEDERAL","CAPITAL FEDERAL","30678774495","Crespo, Sebastián","Acosta, Diego","Gottlieb, Patricio","Gualeni, Andrea"]
[null,"CAPITAL FEDERAL (CP: 1037)","1037","CAPITAL FEDERAL","CAPITAL FEDERAL","METROPOLITANA",31,"PABLO CIMINARI",null,null,null,null,null,null,null,null,null,null,null,null,null,1967,null,null,null,null,null,"PERFIL TARIFA  21",null,null,null,null,null,null,null,null,null,null,15800,"19",null,"GO/N (Sólo para tarjetas Ford)","38 - GO/N (Sólo para tarjetas Ford)","38",null,85,"ACA PALERMO","ACA","ACA","METROPOLITANA","GODOY CRUZ 3111 Y DEMARIA",1425,"CAPITAL FEDERAL","CAPITAL FEDERAL","CAPITAL FEDERAL","30500143297","López, Alejandro","Bouzon, Gustavo","Gottlieb, Patricio",""]
[null,"CAPITAL FEDERAL (CP: 1038)","1038","CAPITAL FEDERAL","CAPITAL FEDERAL","METROPOLITANA",31,"PABLO CIMINARI",null,null,null,null,null,null,null,null,null,null,null,null,null,1968,null,null,null,null,null,"PERFIL TARIFA  22",null,null,null,null,null,null,null,null,null,null,15400,"18",null,"Tiendas YPF Full","39 - Tiendas YPF Full","39",null,95,"OPESSA DORREGO","OPESSA","Consignado","METROPOLITANA","AVENIDA CORDOBA 5984 Y DORREGO",1414,"CAPITAL FEDERAL","CAPITAL FEDERAL","CAPITAL FEDERAL","30678774495","López, Alejandro","Bouzon, Gustavo","Gottlieb, Patricio","Gualeni, Andrea"]
[null,"CAPITAL FEDERAL (CP: 1039)","1039","CAPITAL FEDERAL","CAPITAL FEDERAL","METROPOLITANA",31,"PABLO CIMINARI",null,null,null,null,null,null,null,null,null,null,null,null,null,1969,null,null,null,null,null,"PERFIL TARIFA  23",null,null,null,null,null,null,null,null,null,null,15000,"17",null,"NAFTAS SIN GNC","40 - NAFTAS SIN GNC","40",null,103,"KLIVE SA","TERCEROS","Consignado","METROPOLITANA","COLPAYO 406 Y AVELLANEDA",1405,"CAPITAL FEDERAL","CAPITAL FEDERAL","CAPITAL FEDERAL","30578367779","Crespo, Sebastián","Acosta, Diego","Gottlieb, Patricio",""]
[null,"CAPITAL FEDERAL (CP: 1040)","1040","CAPITAL FEDERAL","CAPITAL FEDERAL","METROPOLITANA",31,"PABLO CIMINARI",null,null,null,null,null,null,null,null,null,null,null,null,null,1970,null,null,null,null,null,"PERFIL TARIFA  24",null,null,null,null,null,null,null,null,null,null,14700,"16",null,"NAFTAS Y LUBRICANTES SIN GNC","41 - NAFTAS Y LUBRICANTES SIN GNC","41",null,105,"NUESTRO SOSIEGO SA","TERCEROS","Consignado","METROPOLITANA","AVENIDA TTE GRAL DONATO ALVAREZ 2290 Y MANUEL RICARDO TRELLES",1416,"CAPITAL FEDERAL","CAPITAL FEDERAL","CAPITAL FEDERAL","30572234300","Outeda, Sergio Angel","Bouzon, Gustavo","Gottlieb, Patricio",""]
[null,"CAPITAL FEDERAL (CP: 1041)","1041","CAPITAL FEDERAL","CAPITAL FEDERAL","METROPOLITANA",31,"PABLO CIMINARI",null,null,null,null,null,null,null,null,null,null,null,null,null,1971,null,null,null,null,null,"PERFIL TARIFA PASAJEROS  25 ",null,null,null,null,null,null,null,null,null,null,14400,"14",null,"NAFTA NORMAL","42 - NAFTA NORMAL","42",null,106,"NOCEDA SA","TERCEROS","Consignado","METROPOLITANA","AVENIDA CNEL IGNACIO WARNES 236 Y CAMPICHUELO",1414,"CAPITAL FEDERAL","CAPITAL FEDERAL","CAPITAL FEDERAL","30597304281","Outeda, Sergio Angel","Bouzon, Gustavo","Gottlieb, Patricio",""]
[null,"CAPITAL FEDERAL (CP: 1042)","1042","CAPITAL FEDERAL","CAPITAL FEDERAL","METROPOLITANA",31,"PABLO CIMINARI",null,null,null,null,null,null,null,null,null,null,null,null,null,1972,null,null,null,null,null,"PERFIL TARIFA 26   ",null,null,null,null,null,null,null,null,null,null,14000,"56",null,"NAFTA SUPER","43 - NAFTA SUPER","43",null,107,"RIO DE JANEIRO SA","TERCEROS","Consignado","METROPOLITANA","RIO DE JANEIRO 464 Y ESCRIBANO",1405,"CAPITAL FEDERAL","CAPITAL FEDERAL","CAPITAL FEDERAL","30538456876","Crespo, Sebastián","Acosta, Diego","Gottlieb, Patricio",""]
[null,"CAPITAL FEDERAL (CP: 1043)","1043","CAPITAL FEDERAL","CAPITAL FEDERAL","METROPOLITANA",31,"PABLO CIMINARI",null,null,null,null,null,null,null,null,null,null,null,null,null,1973,null,null,null,null,null,"PERFIL TARIFA 27   ",null,null,null,null,null,null,null,null,null,null,13300,"49",null,"NAFTA INFINIA","44 - NAFTA INFINIA","44",null,109,"UBR SA","TERCEROS","Consignado","METROPOLITANA","AVENIDA JUAN B JUSTO 3508 Y GENERAL MARTIN RODRIGUEZ",1416,"CAPITAL FEDERAL","CAPITAL FEDERAL","CAPITAL FEDERAL","30707918302","Outeda, Sergio Angel","Bouzon, Gustavo","Gottlieb, Patricio",""]
[null,"CAPITAL FEDERAL (CP: 1044)","1044","CAPITAL FEDERAL","CAPITAL FEDERAL","METROPOLITANA",31,"PABLO CIMINARI",null,null,null,null,null,null,null,null,null,null,null,null,null,1974,null,null,null,null,null,"PERFIL TARIFA 28   ",null,null,null,null,null,null,null,null,null,null,12700,"48",null,"NAFTA NORMAL /LUB","45 - NAFTA NORMAL /LUB","45",null,115,"GEO GAS SRL","TERCEROS","Consignado","VALLES","JUJUY Y EINSTEIN",4000,"S.M.TUCUMAN","TUCUMAN CAPITAL","TUCUMAN","30707419705","Abboud, Marco","Naval, Carlos","Astegiano, Flavio",""]
[null,"CAPITAL FEDERAL (CP: 1045)","1045","CAPITAL FEDERAL","CAPITAL FEDERAL","METROPOLITANA",31,"PABLO CIMINARI",null,null,null,null,null,null,null,null,null,null,null,null,null,1975,null,null,null,null,null,"PERFIL TARIFA 29   ",null,null,null,null,null,null,null,null,null,null,12400,"47",null,"NAFTA SUPER/ LUB","46 - NAFTA SUPER/ LUB","46",null,117,"ACA BELGRANO","ACA","ACA","METROPOLITANA","AVENIDA CABILDO 1499 Y VIRREY ARREDONDO",1426,"CAPITAL FEDERAL","CAPITAL FEDERAL","CAPITAL FEDERAL","30500143297","López, Alejandro","Bouzon, Gustavo","Gottlieb, Patricio",""]
[null,"CAPITAL FEDERAL (CP: 1046)","1046","CAPITAL FEDERAL","CAPITAL FEDERAL","METROPOLITANA",31,"PABLO CIMINARI",null,null,null,null,null,null,null,null,null,null,null,null,null,1976,null,null,null,null,null,"PERFIL TARIFA 30   ",null,null,null,null,null,null,null,null,null,null,12000,"55",null,"GO/EN/LA/GOM","47 - GO/EN/LA/GOM","47",null,118,"ACA VILLA DEVOTO","ACA","ACA","METROPOLITANA","AVENIDA FRANCISCO BEIRO 3561 Y LINCOLN",1419,"CAPITAL FEDERAL","CAPITAL FEDERAL","CAPITAL FEDERAL","30500143297","Outeda, Sergio Angel","Bouzon, Gustavo","Gottlieb, Patricio",""]
[null,"CAPITAL FEDERAL (CP: 1047)","1047","CAPITAL FEDERAL","CAPITAL FEDERAL","METROPOLITANA",31,"PABLO CIMINARI",null,null,null,null,null,null,null,null,null,null,null,null,null,1977,null,null,null,null,null,"PERFIL TARIFA 31   ",null,null,null,null,null,null,null,null,null,null,11400,"46",null,"NA,GNC/LUB,ACC ","63 - NA,GNC/LUB,ACC ","63",null,119,"CORTTI MARIA CRISTINA","TERCEROS","Consignado","METROPOLITANA","AVENIDA GENERAL JOSE MARIA PAZ 6850 Y AVENIDA GENERAL PAZ",1419,"CAPITAL FEDERAL","CAPITAL FEDERAL","CAPITAL FEDERAL","27127433629","Outeda, Sergio Angel","Bouzon, Gustavo","Gottlieb, Patricio",""]
[null,"CAPITAL FEDERAL (CP: 1048)","1048","CAPITAL FEDERAL","CAPITAL FEDERAL","METROPOLITANA",31,"PABLO CIMINARI",null,null,null,null,null,null,null,null,null,null,null,null,null,1978,null,null,null,null,null,"PERFIL TARIFA 32   ",null,null,null,null,null,null,null,null,null,null,10900,"44",null,"GASOIL-KEROSENE / AZUL 32","85 - GASOIL-KEROSENE / AZUL 32","85",null,120,"ESTACION DE SERVICIO NORTENA SRL","TERCEROS","Consignado","METROPOLITANA","AVENIDA DR RICARDO BALBIN 4491 Y CORREA",1430,"CAPITAL FEDERAL","CAPITAL FEDERAL","CAPITAL FEDERAL","30537781323","López, Alejandro","Bouzon, Gustavo","Gottlieb, Patricio",""]
[null,"CAPITAL FEDERAL (CP: 1049)","1049","CAPITAL FEDERAL","CAPITAL FEDERAL","METROPOLITANA",31,"PABLO CIMINARI",null,null,null,null,null,null,null,null,null,null,null,null,null,1979,null,null,null,null,null,"PERFIL TARIFA 33   ",null,null,null,null,null,null,null,null,null,null,10200,"43",null,"GASOIL-KEROSENE-LUBRICANTES / AZUL 32","86 - GASOIL-KEROSENE-LUBRICANTES / AZUL 32","86",null,123,"ESTACION DE SERVICIO AVALOS SA","TERCEROS","Consignado","METROPOLITANA","AVENIDA DE LOS INCAS 4801 Y AVALOS",1427,"CAPITAL FEDERAL","CAPITAL FEDERAL","CAPITAL FEDERAL","30541715580","López, Alejandro","Bouzon, Gustavo","Gottlieb, Patricio",""]
[null,"CAPITAL FEDERAL (CP: 1050)","1050","CAPITAL FEDERAL","CAPITAL FEDERAL","METROPOLITANA",31,"PABLO CIMINARI",null,null,null,null,null,null,null,null,null,null,null,null,null,1980,null,null,null,null,null,"PERFIL TARIFA 34   ",null,null,null,null,null,null,null,null,null,null,10000,"54",null,"GASOIL-SUPER- NORMAL / AZUL 32","87 - GASOIL-SUPER- NORMAL / AZUL 32","87",null,124,"ESTACION DE SERVICIO SAAVEDRA SRL","TERCEROS","Consignado","METROPOLITANA","CRISOLOGO LARRALDE 4688 Y LUGONES",1430,"CAPITAL FEDERAL","CAPITAL FEDERAL","CAPITAL FEDERAL","30559742933","López, Alejandro","Bouzon, Gustavo","Gottlieb, Patricio",""]
[null,"CAPITAL FEDERAL (CP: 1051)","1051","CAPITAL FEDERAL","CAPITAL FEDERAL","METROPOLITANA",31,"PABLO CIMINARI",null,null,null,null,null,null,null,null,null,null,null,null,null,1981,null,null,null,null,null,"PERFIL TARIFA 35   ",null,null,null,null,null,null,null,null,null,null,9800,"42",null,"GASOIL-SUPER- NORMAL-LUBRICANTES / AZUL 32","88 - GASOIL-SUPER- NORMAL-LUBRICANTES / AZUL 32","88",null,125,"FUENTE DE PETROLEO SA","TERCEROS","Consignado","METROPOLITANA","AVENIDA ANTONIO ALVAREZ JONTE 2695 Y CONDARCO",1417,"CAPITAL FEDERAL","CAPITAL FEDERAL","CAPITAL FEDERAL","30646297911","Outeda, Sergio Angel","Bouzon, Gustavo","Gottlieb, Patricio",""]
[null,"CAPITAL FEDERAL (CP: 1052)","1052","CAPITAL FEDERAL","CAPITAL FEDERAL","METROPOLITANA",31,"PABLO CIMINARI",null,null,null,null,null,null,null,null,null,null,null,null,null,1982,null,null,null,null,null,"PERFIL TARIFA PASAJEROS II 36",null,null,null,null,null,null,null,null,null,null,9300,"41",null,"GO- D500/INFINIA DIESEL / AZUL 32","96 - GO- D500/INFINIA DIESEL / AZUL 32","96",null,126,"GASPARQUE SA","TERCEROS","Consignado","METROPOLITANA","AVENIDA DR RICARDO BALBIN 5041 Y SALTO",1430,"CAPITAL FEDERAL","CAPITAL FEDERAL","CAPITAL FEDERAL","30650296997","López, Alejandro","Bouzon, Gustavo","Gottlieb, Patricio",""]
[null,"CAPITAL FEDERAL (CP: 1053)","1053","CAPITAL FEDERAL","CAPITAL FEDERAL","METROPOLITANA",31,"PABLO CIMINARI",null,null,null,null,null,null,null,null,null,null,null,null,null,1983,null,null,null,null,null,"PERFIL TARIFA 37   ",null,null,null,null,null,null,null,null,null,null,9000,"53",null,"GO- D500/INFINIA DIESEL/LUB / AZUL 32","97 - GO- D500/INFINIA DIESEL/LUB / AZUL 32","97",null,128,"LE BRETON SRL","TERCEROS","Consignado","METROPOLITANA","CONGRESO 4008 Y PLAZA",1430,"CAPITAL FEDERAL","CAPITAL FEDERAL","CAPITAL FEDERAL","30657213663","López, Alejandro","Bouzon, Gustavo","Gottlieb, Patricio",""]
[null,"CAPITAL FEDERAL (CP: 1054)","1054","CAPITAL FEDERAL","CAPITAL FEDERAL","METROPOLITANA",31,"PABLO CIMINARI",null,null,null,null,null,null,null,null,null,null,null,null,null,1984,null,null,null,null,null,"PERFIL TARIFA 40    ",null,null,null,null,null,null,null,null,null,null,8700,"39",null,"GO- D500/INFINIA DIESEL/LUB/ACC / AZUL 32","98 - GO- D500/INFINIA DIESEL/LUB/ACC / AZUL 32","98",null,133,"BOYACA CISA","TERCEROS","Consignado","METROPOLITANA","AVENIDA SEBASTIAN ELCANO 4000 Y FRAGA",1427,"CAPITAL FEDERAL","CAPITAL FEDERAL","CAPITAL FEDERAL","30537387870","Outeda, Sergio Angel","Bouzon, Gustavo","Gottlieb, Patricio",""]
[null,"CAPITAL FEDERAL (CP: 1055)","1055","CAPITAL FEDERAL","CAPITAL FEDERAL","METROPOLITANA",31,"PABLO CIMINARI",null,null,null,null,null,null,null,null,null,null,null,null,null,1985,null,null,null,null,null,"PERFIL TARIFA 41    ",null,null,null,null,null,null,null,null,null,null,8500,"38",null,null,null,null,null,135,"PANAMERICANA SRL","TERCEROS","Consignado","METROPOLITANA","AVENIDA SAN MARTIN 5316 Y SIMBRON",1417,"CAPITAL FEDERAL","CAPITAL FEDERAL","CAPITAL FEDERAL","30537115552","Outeda, Sergio Angel","Bouzon, Gustavo","Gottlieb, Patricio",""]
[null,"CAPITAL FEDERAL (CP: 1056)","1056","CAPITAL FEDERAL","CAPITAL FEDERAL","METROPOLITANA",31,"PABLO CIMINARI",null,null,null,null,null,null,null,null,null,null,null,null,null,1986,null,null,null,null,null,"PERFIL TARIFA 50   ",null,null,null,null,null,null,null,null,null,null,8000,"52",null,null,null,null,null,136,"PROODOS SA","TERCEROS","Consignado","METROPOLITANA","AVENIDA DR JUAN BAUTISTA JUSTO 5315 Y BELAUSTEGUI",1416,"CAPITAL FEDERAL","CAPITAL FEDERAL","CAPITAL FEDERAL","30518707627","Outeda, Sergio Angel","Bouzon, Gustavo","Gottlieb, Patricio",""]
[null,"CAPITAL FEDERAL (CP: 1057)","1057","CAPITAL FEDERAL","CAPITAL FEDERAL","METROPOLITANA",31,"PABLO CIMINARI",null,null,null,null,null,null,null,null,null,null,null,null,null,1987,null,null,null,null,null,"PERFIL TARIFA 51",null,null,null,null,null,null,null,null,null,null,7600,"37",null,null,null,null,null,137,"FEDAL SRL","TERCEROS","Consignado","BUENOS AIRES","FAMATINA 3070 Y COLOMBIA",1714,"ITUZAINGO","MORON","BUENOS AIRES","30690339648","Isak, Fernando","Brena, Marcelo","Barruti, Francisco",""]
[null,"CAPITAL FEDERAL (CP: 1058)","1058","CAPITAL FEDERAL","CAPITAL FEDERAL","METROPOLITANA",31,"PABLO CIMINARI",null,null,null,null,null,null,null,null,null,null,null,null,null,1988,null,null,null,null,null,"PERFIL TARIFA 52",null,null,null,null,null,null,null,null,null,null,7000,"51",null,null,null,null,null,142,"SERVICE NAON SRL","TERCEROS","Consignado","METROPOLITANA","AVENIDA FELIX DE OLAZABAL 3690 Y ROMULO NAON",1430,"CAPITAL FEDERAL","CAPITAL FEDERAL","CAPITAL FEDERAL","30572585758","López, Alejandro","Bouzon, Gustavo","Gottlieb, Patricio",""]
[null,"CAPITAL FEDERAL (CP: 1059)","1059","CAPITAL FEDERAL","CAPITAL FEDERAL","METROPOLITANA",31,"PABLO CIMINARI",null,null,null,null,null,null,null,null,null,null,null,null,null,1989,null,null,null,null,null,"PERFIL TARIFA 53    ",null,null,null,null,null,null,null,null,null,null,6100,"36",null,null,null,null,null,143,"SUCESORES DE LOPEZ ALDAO Y CIA SRL","TERCEROS","Consignado","METROPOLITANA","AVENIDA SAN MARTIN 7001 Y EMILIO LAMARCA",1419,"CAPITAL FEDERAL","CAPITAL FEDERAL","CAPITAL FEDERAL","30537648704","Outeda, Sergio Angel","Bouzon, Gustavo","Gottlieb, Patricio",""]
[null,"CAPITAL FEDERAL (CP: 1060)","1060","CAPITAL FEDERAL","CAPITAL FEDERAL","METROPOLITANA",31,"PABLO CIMINARI",null,null,null,null,null,null,null,null,null,null,null,null,null,1990,null,null,null,null,null,"PERFIL TARIFA 54    ",null,null,null,null,null,null,null,null,null,null,5500,"34",null,null,null,null,null,144,"SUPER SERVICIOS SA","TERCEROS","Consignado","METROPOLITANA","AVENIDA DEL LIBERTADOR 5002 Y OLLEROS",1426,"CAPITAL FEDERAL","CAPITAL FEDERAL","CAPITAL FEDERAL","30654236069","López, Alejandro","Bouzon, Gustavo","Gottlieb, Patricio",""]
[null,"CAPITAL FEDERAL (CP: 1061)","1061","CAPITAL FEDERAL","CAPITAL FEDERAL","METROPOLITANA",31,"PABLO CIMINARI",null,null,null,null,null,null,null,null,null,null,null,null,null,1991,null,null,null,null,null,"PERFIL TARIFA 61    ",null,null,null,null,null,null,null,null,null,null,5200,"33",null,null,null,null,null,147,"GOPA SACIF Y A","TERCEROS","Consignado","METROPOLITANA","NOGOYA 3641 ENTRE EMILIO LAMARCA Y CONCORDIA",1417,"CAPITAL FEDERAL","CAPITAL FEDERAL","CAPITAL FEDERAL","33520227739","Outeda, Sergio Angel","Bouzon, Gustavo","Gottlieb, Patricio",""]
[null,"CAPITAL FEDERAL (CP: 1062)","1062","CAPITAL FEDERAL","CAPITAL FEDERAL","METROPOLITANA",31,"PABLO CIMINARI",null,null,null,null,null,null,null,null,null,null,null,null,null,1992,null,null,null,null,null,"PERFIL TARIFA 63    ",null,null,null,null,null,null,null,null,null,null,5000,"50",null,null,null,null,null,149,"OPESSA BEIRO","OPESSA","Consignado","METROPOLITANA","AVENIDA FRANCISCO BEIRO 5804 Y AV. GRAL. PAZ",1419,"CAPITAL FEDERAL","CAPITAL FEDERAL","CAPITAL FEDERAL","30678774495","Outeda, Sergio Angel","Bouzon, Gustavo","Gottlieb, Patricio","Gualeni, Andrea"]
[null,"CAPITAL FEDERAL (CP: 1063)","1063","CAPITAL FEDERAL","CAPITAL FEDERAL","METROPOLITANA",31,"PABLO CIMINARI",null,null,null,null,null,null,null,null,null,null,null,null,null,1993,null,null,null,null,null,"PERFIL TARIFA 65    ",null,null,null,null,null,null,null,null,null,null,4700,"32",null,null,null,null,null,150,"ACA OLIVOS","ACA","ACA","METROPOLITANA","AVENIDA DEL LIBERTADOR 2362 Y CORRIENTES",1636,"OLIVOS","VICENTE LOPEZ","BUENOS AIRES","30500143297","Leite, Jose","Bouzon, Gustavo","Gottlieb, Patricio",""]
[null,{"$f":"CONCATENATE(D67,\" (CP: \",C67,\")\")","v":"CAPITAL FEDERAL (CP: 1064)"},"1064","CAPITAL FEDERAL","CAPITAL FEDERAL","METROPOLITANA",31,"PABLO CIMINARI",null,null,null,null,null,null,null,null,null,null,null,null,null,1994,null,null,null,null,null,"PERFIL TARIFA 70",null,null,null,null,null,null,null,null,null,null,4200,"31",null,null,null,null,null,151,"ACA PANAMERICANA ACC 1","ACA","ACA","METROPOLITANA","AUTOPISTA PANAMERICANA KM (Ascendente) DESCENDENTE Y DEBENEDETTI",1636,"OLIVOS","VICENTE LOPEZ","BUENOS AIRES","30500143297","López, Alejandro","Bouzon, Gustavo","Gottlieb, Patricio",""]
[null,"CAPITAL FEDERAL (CP: 1065)","1065","CAPITAL FEDERAL","CAPITAL FEDERAL","METROPOLITANA",31,"PABLO CIMINARI",null,null,null,null,null,null,null,null,null,null,null,null,null,1995,null,null,null,null,null,null,null,null,null,null,null,null,null,null,null,null,4050,"45",null,null,null,null,null,154,"BANESTO SA","TERCEROS","Consignado","METROPOLITANA","AVENIDA AVELINO ROLON 2488 Y AVENIDA BERNARDO ADER",1609,"BOULOGNE","SAN ISIDRO","BUENOS AIRES","30516509194","Gatt, Gaston","Bouzon, Gustavo","Gottlieb, Patricio",""]
[null,"CAPITAL FEDERAL (CP: 1066)","1066","CAPITAL FEDERAL","CAPITAL FEDERAL","METROPOLITANA",31,"PABLO CIMINARI",null,null,null,null,null,null,null,null,null,null,null,null,null,1996,null,null,null,null,null,null,null,null,null,null,null,null,null,null,null,null,4000,"40",null,null,null,null,null,155,"URANGA, PEAGUDA, SILVA, NIECZY","TERCEROS","Consignado","METROPOLITANA","PRIMERA JUNTA 3263 Y MONTES DE OCA",1605,"MUNRO","VICENTE LOPEZ","BUENOS AIRES","30691268086","Gatt, Gaston","Bouzon, Gustavo","Gottlieb, Patricio",""]
[null,"CAPITAL FEDERAL (CP: 1067)","1067","CAPITAL FEDERAL","CAPITAL FEDERAL","METROPOLITANA",31,"PABLO CIMINARI",null,null,null,null,null,null,null,null,null,null,null,null,null,1997,null,null,null,null,null,null,null,null,null,null,null,null,null,null,null,null,3500,"35",null,null,null,null,null,160,"OPESSA HIPODROMO","OPESSA","Consignado","METROPOLITANA","AVENIDA BERNABE MARQUEZ 1195 Y ANDRES ROLON",1642,"SAN ISIDRO","SAN ISIDRO","BUENOS AIRES","30678774495","Leite, Jose","Bouzon, Gustavo","Gottlieb, Patricio","Santa Cruz, Wilde"]
[null,"CAPITAL FEDERAL (CP: 1068)","1068","CAPITAL FEDERAL","CAPITAL FEDERAL","METROPOLITANA",31,"PABLO CIMINARI",null,null,null,null,null,null,null,null,null,null,null,null,null,1998,null,null,null,null,null,null,null,null,null,null,null,null,null,null,null,null,3400,"29",null,null,null,null,null,161,"SAN ISIDRO 2000 SA","TERCEROS","Consignado","METROPOLITANA","AVENIDA ANDRES ROLON 1902 Y JOSE INGENIEROS",1643,"BECCAR","SAN ISIDRO","BUENOS AIRES","33707901409","Leite, Jose","Bouzon, Gustavo","Gottlieb, Patricio",""]
[null,"CAPITAL FEDERAL (CP: 1069)","1069","CAPITAL FEDERAL","CAPITAL FEDERAL","METROPOLITANA",31,"PABLO CIMINARI",null,null,null,null,null,null,null,null,null,null,null,null,null,1999,null,null,null,null,null,null,null,null,null,null,null,null,null,null,null,null,3000,"30",null,null,null,null,null,162,"DEL GOLF SA","TERCEROS","Consignado","METROPOLITANA","AVENIDA FONDO DE LA LEGUA 2127 Y DRAGO",1607,"VILLA ADELINA","SAN ISIDRO","BUENOS AIRES","30645009556","Gatt, Gaston","Bouzon, Gustavo","Gottlieb, Patricio",""]
[null,"CAPITAL FEDERAL (CP: 1070)","1070","CAPITAL FEDERAL","CAPITAL FEDERAL","METROPOLITANA",31,"PABLO CIMINARI",null,null,null,null,null,null,null,null,null,null,null,null,null,2000,null,null,null,null,null,null,null,null,null,null,null,null,null,null,null,null,2800,"28",null,null,null,null,null,163,"ESTACION DE SERVICIOS POSADAS SRL","TERCEROS","Consignado","METROPOLITANA","HIPOLITO YRIGOYEN 1598 Y SIR ALEXANDER FLEMMING",1640,"MARTINEZ","SAN ISIDRO","BUENOS AIRES","30517295457","Leite, Jose","Bouzon, Gustavo","Gottlieb, Patricio",""]
[null,"CAPITAL FEDERAL (CP: 1071)","1071","CAPITAL FEDERAL","CAPITAL FEDERAL","METROPOLITANA",31,"PABLO CIMINARI",null,null,null,null,null,null,null,null,null,null,null,null,null,2001,null,null,null,null,null,null,null,null,null,null,null,null,null,null,null,null,2500,"25",null,null,null,null,null,164,"LUIS A CARRIZO Y CIA SRL","TERCEROS","Consignado","MEDITERRANEA","RUTA NACIONAL 9 KM (Ascendente) Y ACCESO",5236,"VILLA DEL TOTORAL","TOTORAL","CORDOBA","30627062490","Alizzi, Silvina","Parolin, Mauricio Elvio","Banegas, Walter",""]
[null,"CAPITAL FEDERAL (CP: 1072)","1072","CAPITAL FEDERAL","CAPITAL FEDERAL","METROPOLITANA",31,"PABLO CIMINARI",null,null,null,null,null,null,null,null,null,null,null,null,null,2002,null,null,null,null,null,null,null,null,null,null,null,null,null,null,null,null,2200,"27",null,null,null,null,null,165,"FARMEX SA","TERCEROS","Consignado","METROPOLITANA","AVENIDA MAIPU 999 Y MARTIN J. HAEDO",1638,"VICENTE LOPEZ","VICENTE LOPEZ","BUENOS AIRES","30540438060","Leite, Jose","Bouzon, Gustavo","Gottlieb, Patricio",""]
[null,"CAPITAL FEDERAL (CP: 1073)","1073","CAPITAL FEDERAL","CAPITAL FEDERAL","METROPOLITANA",31,"PABLO CIMINARI",null,null,null,null,null,null,null,null,null,null,null,null,null,null,null,null,null,null,null,null,null,null,null,null,null,null,null,null,null,null,2000,"20",null,null,null,null,null,167,"OPESSA VICENTE LOPEZ","OPESSA","Consignado","METROPOLITANA","AVENIDA MAIPU 760 Y GÜEMES",1638,"VICENTE LOPEZ","VICENTE LOPEZ","BUENOS AIRES","30678774495","Leite, Jose","Bouzon, Gustavo","Gottlieb, Patricio","Santa Cruz, Wilde"]
[null,"CAPITAL FEDERAL (CP: 1074)","1074","CAPITAL FEDERAL","CAPITAL FEDERAL","METROPOLITANA",31,"PABLO CIMINARI",null,null,null,null,null,null,null,null,null,null,null,null,null,null,null,null,null,null,null,null,null,null,null,null,null,null,null,null,null,null,1800,"26",null,null,null,null,null,172,"NOREST SRL","TERCEROS","Reventa","METROPOLITANA","AVENIDA SANTA FE 1920 Y VICENTE FIDEL LOPEZ",1640,"MARTINEZ","SAN ISIDRO","BUENOS AIRES","30707728082","Leite, Jose","Bouzon, Gustavo","Gottlieb, Patricio",""]
[null,"CAPITAL FEDERAL (CP: 1075)","1075","CAPITAL FEDERAL","CAPITAL FEDERAL","METROPOLITANA",31,"PABLO CIMINARI",null,null,null,null,null,null,null,null,null,null,null,null,null,null,null,null,null,null,null,null,null,null,null,null,null,null,null,null,null,null,1500,"15",null,null,null,null,null,175,"PUNTA CHICA SRL","TERCEROS","Consignado","METROPOLITANA","AVENIDA DEL LIBERTADOR 18047 Y ROSARIO DE SANTA FE",1643,"BECCAR","SAN ISIDRO","BUENOS AIRES","30522854758","Leite, Jose","Bouzon, Gustavo","Gottlieb, Patricio",""]
[null,"CAPITAL FEDERAL (CP: 1076)","1076","CAPITAL FEDERAL","CAPITAL FEDERAL","METROPOLITANA",31,"PABLO CIMINARI",null,null,null,null,null,null,null,null,null,null,null,null,null,null,null,null,null,null,null,null,null,null,null,null,null,null,null,null,null,null,1300,"13",null,null,null,null,null,178,"SUPERSERVICIOS (OLIVOS)","TERCEROS","Consignado","METROPOLITANA","CARLOS VILLATE 3290 Y ROSETTI",1636,"OLIVOS","VICENTE LOPEZ","BUENOS AIRES","30583747482","López, Alejandro","Bouzon, Gustavo","Gottlieb, Patricio",""]
[null,"CAPITAL FEDERAL (CP: 1077)","1077","CAPITAL FEDERAL","CAPITAL FEDERAL","METROPOLITANA",31,"PABLO CIMINARI",null,null,null,null,null,null,null,null,null,null,null,null,null,null,null,null,null,null,null,null,null,null,null,null,null,null,null,null,null,null,1200,"12",null,null,null,null,null,180,"NOREST SRL","TERCEROS","Consignado","METROPOLITANA","AVENIDA MAIPU 3604 Y CAPITAN JUSTO G. BERMUDEZ",1636,"OLIVOS","VICENTE LOPEZ","BUENOS AIRES","30707728082","Leite, Jose","Bouzon, Gustavo","Gottlieb, Patricio",""]
[null,"CAPITAL FEDERAL (CP: 1078)","1078","CAPITAL FEDERAL","CAPITAL FEDERAL","METROPOLITANA",31,"PABLO CIMINARI",null,null,null,null,null,null,null,null,null,null,null,null,null,null,null,null,null,null,null,null,null,null,null,null,null,null,null,null,null,null,1000,"10",null,null,null,null,null,182,"OPESSA LA LUCILA","OPESSA","Consignado","METROPOLITANA","AVENIDA DEL LIBERTADOR 3402 Y J INGENIEROS",1636,"OLIVOS","VICENTE LOPEZ","BUENOS AIRES","30678774495","Leite, Jose","Bouzon, Gustavo","Gottlieb, Patricio","Santa Cruz, Wilde"]
[null,"CAPITAL FEDERAL (CP: 1079)","1079","CAPITAL FEDERAL","CAPITAL FEDERAL","METROPOLITANA",31,"PABLO CIMINARI",null,null,null,null,null,null,null,null,null,null,null,null,null,null,null,null,null,null,null,null,null,null,null,null,null,null,null,null,null,null,900,"09",null,null,null,null,null,184,"OPESSA UGARTE","OPESSA","Consignado","METROPOLITANA","AVENIDA GOB. UGARTE 3501 Y PANAMERICANA",1638,"VICENTE LOPEZ","VICENTE LOPEZ","BUENOS AIRES","30678774495","López, Alejandro","Bouzon, Gustavo","Gottlieb, Patricio","Santa Cruz, Wilde"]
[null,"CAPITAL FEDERAL (CP: 1080)","1080","CAPITAL FEDERAL","CAPITAL FEDERAL","METROPOLITANA",31,"PABLO CIMINARI",null,null,null,null,null,null,null,null,null,null,null,null,null,null,null,null,null,null,null,null,null,null,null,null,null,null,null,null,null,null,800,"08",null,null,null,null,null,190,"ACA AUTOPISTA DEL BUEN AYRE NORTE","ACA","ACA","METROPOLITANA","AUTOPISTA CAMINO DEL BUEN AYRE KM (Ascendente) Y VIAS DEL FFCC",1655,"JOSE LEON SUAREZ","SAN MARTIN","BUENOS AIRES","30500143297","Gatt, Gaston","Bouzon, Gustavo","Gottlieb, Patricio",""]
[null,"CAPITAL FEDERAL (CP: 1081)","1081","CAPITAL FEDERAL","CAPITAL FEDERAL","METROPOLITANA",31,"PABLO CIMINARI",null,null,null,null,null,null,null,null,null,null,null,null,null,null,null,null,null,null,null,null,null,null,null,null,null,null,null,null,null,null,700,"07",null,null,null,null,null,192,"RODRIGUEZ PENA 1101 SA","TERCEROS","Consignado","METROPOLITANA","RODRIGUEZ PE#A 4901 Y LAMADRID",1650,"SAN MARTIN","SAN MARTIN","BUENOS AIRES","30576333230","Gatt, Gaston","Bouzon, Gustavo","Gottlieb, Patricio",""]
[null,"CAPITAL FEDERAL (CP: 1082)","1082","CAPITAL FEDERAL","CAPITAL FEDERAL","METROPOLITANA",31,"PABLO CIMINARI",null,null,null,null,null,null,null,null,null,null,null,null,null,null,null,null,null,null,null,null,null,null,null,null,null,null,null,null,null,null,600,"06",null,null,null,null,null,193,"KOMO SAICI","TERCEROS","Consignado","METROPOLITANA","AVENIDA DR RICARDO BALBIN 5050 5050 Y MAIPU",1650,"SAN MARTIN","SAN MARTIN","BUENOS AIRES","30661496424","Gatt, Gaston","Bouzon, Gustavo","Gottlieb, Patricio",""]
[null,"CAPITAL FEDERAL (CP: 1083)","1083","CAPITAL FEDERAL","CAPITAL FEDERAL","METROPOLITANA",31,"PABLO CIMINARI",null,null,null,null,null,null,null,null,null,null,null,null,null,null,null,null,null,null,null,null,null,null,null,null,null,null,null,null,null,null,500,"05",null,null,null,null,null,199,"BALLCAR AUTOMOTORES SA","TERCEROS","Consignado","METROPOLITANA","PUEYRREDON 301 Y ALBERDI",1653,"VILLA BALLESTER","SAN MARTIN","BUENOS AIRES","30574492811","Gatt, Gaston","Bouzon, Gustavo","Gottlieb, Patricio",""]
[null,"CAPITAL FEDERAL (CP: 1084)","1084","CAPITAL FEDERAL","CAPITAL FEDERAL","METROPOLITANA",31,"PABLO CIMINARI",null,null,null,null,null,null,null,null,null,null,null,null,null,null,null,null,null,null,null,null,null,null,null,null,null,null,null,null,null,null,400,"04",null,null,null,null,null,200,"BOTAZZINI ALICIA, MA C Y MA E SH","TERCEROS","Consignado","METROPOLITANA","ARTIGAS 1601 Y CHILAVERT",1653,"VILLA BALLESTER","SAN MARTIN","BUENOS AIRES","30696293836","Gatt, Gaston","Bouzon, Gustavo","Gottlieb, Patricio",""]
[null,"CAPITAL FEDERAL (CP: 1085)","1085","CAPITAL FEDERAL","CAPITAL FEDERAL","METROPOLITANA",31,"PABLO CIMINARI",null,null,null,null,null,null,null,null,null,null,null,null,null,null,null,null,null,null,null,null,null,null,null,null,null,null,null,null,null,null,300,"03",null,null,null,null,null,210,"GUERINO SA","TERCEROS","Consignado","METROPOLITANA","RUTA NACIONAL 8 KM (Ascendente) Y JOSE HERNANDEZ",1653,"VILLA BALLESTER","SAN MARTIN","BUENOS AIRES","30523240532","Gatt, Gaston","Bouzon, Gustavo","Gottlieb, Patricio",""]
[null,"CAPITAL FEDERAL (CP: 1086)","1086","CAPITAL FEDERAL","CAPITAL FEDERAL","METROPOLITANA",31,"PABLO CIMINARI",null,null,null,null,null,null,null,null,null,null,null,null,null,null,null,null,null,null,null,null,null,null,null,null,null,null,null,null,null,null,200,"02",null,null,null,null,null,214,"H Y G L CONSTRUCCIONES SA","TERCEROS","Consignado","METROPOLITANA","AVENIDA BARTOLOME MITRE 4708 Y SAN MARTIN",1678,"CASEROS","TRES DE FEBRERO","BUENOS AIRES","30610456487","Sanchez, Luis","Bouzon, Gustavo","Gottlieb, Patricio",""]
[null,"CAPITAL FEDERAL (CP: 1087)","1087","CAPITAL FEDERAL","CAPITAL FEDERAL","METROPOLITANA",31,"PABLO CIMINARI",null,null,null,null,null,null,null,null,null,null,null,null,null,null,null,null,null,null,null,null,null,null,null,null,null,null,null,null,null,null,100,"01",null,null,null,null,null,218,"CORAFAL NORTE SA","TERCEROS","Consignado","METROPOLITANA","AVENIDA DR RICARDO BALBIN 1895 Y MORENO",1650,"SAN MARTIN","SAN MARTIN","BUENOS AIRES","30550847589","Gatt, Gaston","Bouzon, Gustavo","Gottlieb, Patricio",""]
[null,"CAPITAL FEDERAL (CP: 1088)","1088","CAPITAL FEDERAL","CAPITAL FEDERAL","METROPOLITANA",31,"PABLO CIMINARI",null,null,null,null,null,null,null,null,null,null,null,null,null,null,null,null,null,null,null,null,null,null,null,null,null,null,null,null,null,null,null,null,null,null,null,null,null,225,"TARSVA SA","TERCEROS","Consignado","METROPOLITANA","AVENIDA PRESIDENTE M T DE ALVEAR 2701 Y BELGRANO",1678,"CASEROS","TRES DE FEBRERO","BUENOS AIRES","33709183449","Sanchez, Luis","Bouzon, Gustavo","Gottlieb, Patricio",""]
[null,"CAPITAL FEDERAL (CP: 1089)","1089","CAPITAL FEDERAL","CAPITAL FEDERAL","METROPOLITANA",31,"PABLO CIMINARI",null,null,null,null,null,null,null,null,null,null,null,null,null,null,null,null,null,null,null,null,null,null,null,null,null,null,null,null,null,null,null,null,null,null,null,null,null,227,"SACOMA SA","TERCEROS","Consignado","METROPOLITANA","AYACUCHO 2600 Y PTE. PERON",1650,"SAN MARTIN","SAN MARTIN","BUENOS AIRES","30602346567","Gatt, Gaston","Bouzon, Gustavo","Gottlieb, Patricio",""]
[null,"CAPITAL FEDERAL (CP: 1090)","1090","CAPITAL FEDERAL","CAPITAL FEDERAL","METROPOLITANA",31,"PABLO CIMINARI",null,null,null,null,null,null,null,null,null,null,null,null,null,null,null,null,null,null,null,null,null,null,null,null,null,null,null,null,null,null,null,null,null,null,null,null,null,234,"LIQUID GAS SA","TERCEROS","Consignado","METROPOLITANA","CNO DE CINT PRES H YRIGOYEN 6 Y ARENALES",1708,"MORON","MORON","BUENOS AIRES","30712212817","Sanchez, Luis","Bouzon, Gustavo","Gottlieb, Patricio",""]
[null,"CAPITAL FEDERAL (CP: 1091)","1091","CAPITAL FEDERAL","CAPITAL FEDERAL","METROPOLITANA",31,"PABLO CIMINARI",null,null,null,null,null,null,null,null,null,null,null,null,null,null,null,null,null,null,null,null,null,null,null,null,null,null,null,null,null,null,null,null,null,null,null,null,null,235,"TRIANGLE SCA","TERCEROS","Consignado","METROPOLITANA","ROCA 2227 Y VERGARA",1686,"HURLINGHAM","HURLINGHAM","BUENOS AIRES","30517264160","Sanchez, Luis","Bouzon, Gustavo","Gottlieb, Patricio",""]
[null,"CAPITAL FEDERAL (CP: 1092)","1092","CAPITAL FEDERAL","CAPITAL FEDERAL","METROPOLITANA",31,"PABLO CIMINARI",null,null,null,null,null,null,null,null,null,null,null,null,null,null,null,null,null,null,null,null,null,null,null,null,null,null,null,null,null,null,null,null,null,null,null,null,null,236,"TEXA PETROL SA","TERCEROS","Consignado","METROPOLITANA","AVENIDA PIERRESTEGUI Y TIERRA DEL FUEGO",1708,"MORON","MORON","BUENOS AIRES","30658997846","Sanchez, Luis","Bouzon, Gustavo","Gottlieb, Patricio",""]
[null,"CAPITAL FEDERAL (CP: 1093)","1093","CAPITAL FEDERAL","CAPITAL FEDERAL","METROPOLITANA",31,"PABLO CIMINARI",null,null,null,null,null,null,null,null,null,null,null,null,null,null,null,null,null,null,null,null,null,null,null,null,null,null,null,null,null,null,null,null,null,null,null,null,null,239,"VERGARA COMBUSTIBLES SRL","TERCEROS","Consignado","METROPOLITANA","CNO DE CINT GOB V VERGARA 3702 Y ESTEBAN DE LUCA",1686,"HURLINGHAM","HURLINGHAM","BUENOS AIRES","30681830800","Sanchez, Luis","Bouzon, Gustavo","Gottlieb, Patricio",""]
[null,"CAPITAL FEDERAL (CP: 1094)","1094","CAPITAL FEDERAL","CAPITAL FEDERAL","METROPOLITANA",31,"PABLO CIMINARI",null,null,null,null,null,null,null,null,null,null,null,null,null,null,null,null,null,null,null,null,null,null,null,null,null,null,null,null,null,null,null,null,null,null,null,null,null,242,"CARDO MARIA DEL CARMEN E HIJO","TERCEROS","Consignado","METROPOLITANA","SANTA ROSA 2489 Y CURUCHET",1712,"CASTELAR","MORON","BUENOS AIRES","30690044389","Sanchez, Luis","Bouzon, Gustavo","Gottlieb, Patricio",""]
[null,"CAPITAL FEDERAL (CP: 1095)","1095","CAPITAL FEDERAL","CAPITAL FEDERAL","METROPOLITANA",31,"PABLO CIMINARI",null,null,null,null,null,null,null,null,null,null,null,null,null,null,null,null,null,null,null,null,null,null,null,null,null,null,null,null,null,null,null,null,null,null,null,null,null,243,"GV SRL","TERCEROS","Consignado","METROPOLITANA","CAMINO DE CINTURA GOBERNADOR VERGARA 2265",1688,"SANTOS TESEI","HURLINGHAM","BUENOS AIRES","30593338491","Sanchez, Luis","Bouzon, Gustavo","Gottlieb, Patricio",""]
[null,"CAPITAL FEDERAL (CP: 1096)","1096","CAPITAL FEDERAL","CAPITAL FEDERAL","METROPOLITANA",31,"PABLO CIMINARI",null,null,null,null,null,null,null,null,null,null,null,null,null,null,null,null,null,null,null,null,null,null,null,null,null,null,null,null,null,null,null,null,null,null,null,null,null,244,"LAMPUGNANI ARMANDO","TERCEROS","Consignado","METROPOLITANA","CAMINO DE CINTURA PRESIDENTE H YRIGOYEN 807 Y 25 DE MAYO",1708,"MORON","MORON","BUENOS AIRES","30546909278","Sanchez, Luis","Bouzon, Gustavo","Gottlieb, Patricio",""]
[null,"CAPITAL FEDERAL (CP: 1097)","1097","CAPITAL FEDERAL","CAPITAL FEDERAL","METROPOLITANA",31,"PABLO CIMINARI",null,null,null,null,null,null,null,null,null,null,null,null,null,null,null,null,null,null,null,null,null,null,null,null,null,null,null,null,null,null,null,null,null,null,null,null,null,247,"HURLINGHAM COMBUSTIBLES SRL","TERCEROS","Consignado","METROPOLITANA","RUTA PROVINCIAL PRESIDENTE GENERAL JULIO A ROCA KM (Ascendente) Y CENTENERA",1686,"HURLINGHAM","HURLINGHAM","BUENOS AIRES","30627119247","Sanchez, Luis","Bouzon, Gustavo","Gottlieb, Patricio",""]
[null,"CAPITAL FEDERAL (CP: 1098)","1098","CAPITAL FEDERAL","CAPITAL FEDERAL","METROPOLITANA",31,"PABLO CIMINARI",null,null,null,null,null,null,null,null,null,null,null,null,null,null,null,null,null,null,null,null,null,null,null,null,null,null,null,null,null,null,null,null,null,null,null,null,null,249,"OPESSA ACA HAEDO","OPESSA","Consignado","METROPOLITANA","AVENIDA PRESIDENTE PERON 1535 Y ROSALES",1706,"HAEDO","MORON","BUENOS AIRES","30678774495","Sanchez, Luis","Bouzon, Gustavo","Gottlieb, Patricio","Gualeni, Andrea"]
[null,"CAPITAL FEDERAL (CP: 1099)","1099","CAPITAL FEDERAL","CAPITAL FEDERAL","METROPOLITANA",31,"PABLO CIMINARI",null,null,null,null,null,null,null,null,null,null,null,null,null,null,null,null,null,null,null,null,null,null,null,null,null,null,null,null,null,null,null,null,null,null,null,null,null,251,"MACCIONE HERMANOS","TERCEROS","Consignado","METROPOLITANA","AVENIDA PRES J D PERON 3245",1706,"HAEDO","MORON","BUENOS AIRES","30637247324","Sanchez, Luis","Bouzon, Gustavo","Gottlieb, Patricio",""]
[null,"CAPITAL FEDERAL (CP: 1100)","1100","CAPITAL FEDERAL","CAPITAL FEDERAL","METROPOLITANA",31,"PABLO CIMINARI",null,null,null,null,null,null,null,null,null,null,null,null,null,null,null,null,null,null,null,null,null,null,null,null,null,null,null,null,null,null,null,null,null,null,null,null,null,252,"NAVOS, BARREIRO, PEGITOS Y OTROS SH","TERCEROS","Consignado","METROPOLITANA","AVENIDA ING GUILLERMO MARCONI 391 Y URQUIZA",1684,"EL PALOMAR","MORON","BUENOS AIRES","30551022184","Sanchez, Luis","Bouzon, Gustavo","Gottlieb, Patricio",""]
[null,"CAPITAL FEDERAL (CP: 1101)","1101","CAPITAL FEDERAL","CAPITAL FEDERAL","METROPOLITANA",31,"PABLO CIMINARI",null,null,null,null,null,null,null,null,null,null,null,null,null,null,null,null,null,null,null,null,null,null,null,null,null,null,null,null,null,null,null,null,null,null,null,null,null,253,"PLUS SERVI SRL","TERCEROS","Consignado","METROPOLITANA","AVENIDA RIVADAVIA 16389 Y J M ESTRADA",1708,"MORON","MORON","BUENOS AIRES","30544765856","Sanchez, Luis","Bouzon, Gustavo","Gottlieb, Patricio",""]
[null,"CAPITAL FEDERAL (CP: 1102)","1102","CAPITAL FEDERAL","CAPITAL FEDERAL","METROPOLITANA",31,"PABLO CIMINARI",null,null,null,null,null,null,null,null,null,null,null,null,null,null,null,null,null,null,null,null,null,null,null,null,null,null,null,null,null,null,null,null,null,null,null,null,null,254,"PACRISVA SA","TERCEROS","Consignado","BUENOS AIRES","GRAL JOSE MARIA PAZ 2975 Y AUTOPISTA PRESIDENTE PERON",1714,"ITUZAINGO","ITUZAINGO","BUENOS AIRES","30628841566","Isak, Fernando","Brena, Marcelo","Barruti, Francisco",""]
[null,"CAPITAL FEDERAL (CP: 1103)","1103","CAPITAL FEDERAL","CAPITAL FEDERAL","METROPOLITANA",31,"PABLO CIMINARI",null,null,null,null,null,null,null,null,null,null,null,null,null,null,null,null,null,null,null,null,null,null,null,null,null,null,null,null,null,null,null,null,null,null,null,null,null,259,"SERVI RUTA SRL","TERCEROS","Consignado","METROPOLITANA","AVENIDA RIVADAVIA 21190 Y GUAMINI",1712,"CASTELAR","MORON","BUENOS AIRES","30555253164","Sanchez, Luis","Bouzon, Gustavo","Gottlieb, Patricio",""]
[null,"CAPITAL FEDERAL (CP: 1104)","1104","CAPITAL FEDERAL","CAPITAL FEDERAL","METROPOLITANA",31,"PABLO CIMINARI",null,null,null,null,null,null,null,null,null,null,null,null,null,null,null,null,null,null,null,null,null,null,null,null,null,null,null,null,null,null,null,null,null,null,null,null,null,265,"LJP SA","TERCEROS","Consignado","BUENOS AIRES","AVENIDA ECHEVERRY 315 Y LEZAMA",1722,"MERLO","MERLO","BUENOS AIRES","30708617330","Isak, Fernando","Brena, Marcelo","Barruti, Francisco",""]
[null,"CAPITAL FEDERAL (CP: 1105)","1105","CAPITAL FEDERAL","CAPITAL FEDERAL","METROPOLITANA",31,"PABLO CIMINARI",null,null,null,null,null,null,null,null,null,null,null,null,null,null,null,null,null,null,null,null,null,null,null,null,null,null,null,null,null,null,null,null,null,null,null,null,null,266,"TRESTON SA","TERCEROS","Consignado","BUENOS AIRES","AVENIDA DE LA CALLE REAL 1815",1716,"LIBERTAD","MERLO","BUENOS AIRES","33708862989","Isak, Fernando","Brena, Marcelo","Barruti, Francisco",""]
[null,"CAPITAL FEDERAL (CP: 1106)","1106","CAPITAL FEDERAL","CAPITAL FEDERAL","METROPOLITANA",31,"PABLO CIMINARI",null,null,null,null,null,null,null,null,null,null,null,null,null,null,null,null,null,null,null,null,null,null,null,null,null,null,null,null,null,null,null,null,null,null,null,null,null,267,"ROSINOLE SRL","TERCEROS","Consignado","BUENOS AIRES","TONELERO Y RICARDO BALBIN",1723,"MARIANO ACOSTA","MERLO","BUENOS AIRES","30707722866","Isak, Fernando","Brena, Marcelo","Barruti, Francisco",""]
[null,"CAPITAL FEDERAL (CP: 1107)","1107","CAPITAL FEDERAL","CAPITAL FEDERAL","METROPOLITANA",31,"PABLO CIMINARI",null,null,null,null,null,null,null,null,null,null,null,null,null,null,null,null,null,null,null,null,null,null,null,null,null,null,null,null,null,null,null,null,null,null,null,null,null,271,"LIBEROIL SRL","TERCEROS","Consignado","BUENOS AIRES","AVENIDA EVA PERON 3750 Y HELVECA",1716,"LIBERTAD","MERLO","BUENOS AIRES","30677911189","Isak, Fernando","Brena, Marcelo","Barruti, Francisco",""]
[null,"CAPITAL FEDERAL (CP: 1109)","1109","CAPITAL FEDERAL","CAPITAL FEDERAL","METROPOLITANA",31,"PABLO CIMINARI",null,null,null,null,null,null,null,null,null,null,null,null,null,null,null,null,null,null,null,null,null,null,null,null,null,null,null,null,null,null,null,null,null,null,null,null,null,273,"ESTACION DE SERVICIO SERVIPARQUE SA","TERCEROS","Consignado","BUENOS AIRES","AVENIDA ARGENTINA 1799 Y CONSTITUCION",1722,"MERLO","MERLO","BUENOS AIRES","30571699474","Isak, Fernando","Brena, Marcelo","Barruti, Francisco",""]
[null,"CAPITAL FEDERAL (CP: 1110)","1110","CAPITAL FEDERAL","CAPITAL FEDERAL","METROPOLITANA",31,"PABLO CIMINARI",null,null,null,null,null,null,null,null,null,null,null,null,null,null,null,null,null,null,null,null,null,null,null,null,null,null,null,null,null,null,null,null,null,null,null,null,null,274,"EST DE SERVICIOS RABAIOTTI SRL","TERCEROS","Reventa","BUENOS AIRES","DE LA UNION 2300 Y DE LOS FRANCESES",1761,"PONTEVEDRA","MERLO","BUENOS AIRES","30568043282","Marincolo, Fernando","Emanuel, Adrian Fabio","Barruti, Francisco",""]
[null,"CAPITAL FEDERAL (CP: 1111)","1111","CAPITAL FEDERAL","CAPITAL FEDERAL","METROPOLITANA",31,"PABLO CIMINARI",null,null,null,null,null,null,null,null,null,null,null,null,null,null,null,null,null,null,null,null,null,null,null,null,null,null,null,null,null,null,null,null,null,null,null,null,null,276,"SARAFE SA","TERCEROS","Consignado","BUENOS AIRES","AVENIDA PRESIDENTE JUAN D PERON 23604 Y BARABINO",1718,"SAN ANT.DE PADUA","MERLO","BUENOS AIRES","30569451481","Isak, Fernando","Brena, Marcelo","Barruti, Francisco",""]
[null,"CAPITAL FEDERAL (CP: 1112)","1112","CAPITAL FEDERAL","CAPITAL FEDERAL","METROPOLITANA",31,"PABLO CIMINARI",null,null,null,null,null,null,null,null,null,null,null,null,null,null,null,null,null,null,null,null,null,null,null,null,null,null,null,null,null,null,null,null,null,null,null,null,null,279,"ACA DELTA","ACA","ACA","METROPOLITANA","RIO LUJAN Y CANAL BENAVIDEZ",1621,"DELTA","TIGRE","BUENOS AIRES","30500143297","Leite, Jose","Bouzon, Gustavo","Gottlieb, Patricio",""]
[null,"CAPITAL FEDERAL (CP: 1113)","1113","CAPITAL FEDERAL","CAPITAL FEDERAL","METROPOLITANA",31,"PABLO CIMINARI",null,null,null,null,null,null,null,null,null,null,null,null,null,null,null,null,null,null,null,null,null,null,null,null,null,null,null,null,null,null,null,null,null,null,null,null,null,280,"OPESSA ACA DON TORCUATO","OPESSA","Consignado","BUENOS AIRES","RUTA NACIONAL 202 KM (Descendente) Y AVENIDA DEL TRABAJO",1611,"DON TORCUATO","TIGRE","BUENOS AIRES","30678774495","Isak, Fernando","Brena, Marcelo","Barruti, Francisco","Santa Cruz, Wilde"]
[null,"CAPITAL FEDERAL (CP: 1114)","1114","CAPITAL FEDERAL","CAPITAL FEDERAL","METROPOLITANA",31,"PABLO CIMINARI",null,null,null,null,null,null,null,null,null,null,null,null,null,null,null,null,null,null,null,null,null,null,null,null,null,null,null,null,null,null,null,null,null,null,null,null,null,281,"ACA INGENIERO MASCHWITZ","ACA","ACA","BUENOS AIRES","RUTA NACIONAL 9 KM 44.500 (Ascendente)",1623,"INGENIERO MASCHWITZ","ESCOBAR","BUENOS AIRES","30500143297","Cullari, José","Brena, Marcelo","Barruti, Francisco",""]
[null,"CAPITAL FEDERAL (CP: 1115)","1115","CAPITAL FEDERAL","CAPITAL FEDERAL","METROPOLITANA",31,"PABLO CIMINARI",null,null,null,null,null,null,null,null,null,null,null,null,null,null,null,null,null,null,null,null,null,null,null,null,null,null,null,null,null,null,null,null,null,null,null,null,null,282,"GNC ESCOBAR SA","TERCEROS","Consignado","BUENOS AIRES","RUTA PROVINCIAL 25 KM 1771 (Descendente)",1625,"ESCOBAR","ESCOBAR","BUENOS AIRES","30653466931","Cullari, José","Brena, Marcelo","Barruti, Francisco",""]
[null,"CAPITAL FEDERAL (CP: 1116)","1116","CAPITAL FEDERAL","CAPITAL FEDERAL","METROPOLITANA",31,"PABLO CIMINARI",null,null,null,null,null,null,null,null,null,null,null,null,null,null,null,null,null,null,null,null,null,null,null,null,null,null,null,null,null,null,null,null,null,null,null,null,null,283,"OPESSA LA CALETA","OPESSA","Consignado","BUENOS AIRES","AVENIDA COLECTORA ESTE (PANAMERICANA) Y RUTA 202",1611,"DON TORCUATO","TIGRE","BUENOS AIRES","30678774495","Isak, Fernando","Brena, Marcelo","Barruti, Francisco","Santa Cruz, Wilde"]
[null,"CAPITAL FEDERAL (CP: 1117)","1117","CAPITAL FEDERAL","CAPITAL FEDERAL","METROPOLITANA",31,"PABLO CIMINARI",null,null,null,null,null,null,null,null,null,null,null,null,null,null,null,null,null,null,null,null,null,null,null,null,null,null,null,null,null,null,null,null,null,null,null,null,null,288,"OPESSA ACA TIGRE","OPESSA","Consignado","METROPOLITANA","AVENIDA CAZON 997 Y CHACABUCO",1648,"TIGRE","TIGRE","BUENOS AIRES","30678774495","Leite, Jose","Bouzon, Gustavo","Gottlieb, Patricio","Santa Cruz, Wilde"]
[null,"CAPITAL FEDERAL (CP: 1118)","1118","CAPITAL FEDERAL","CAPITAL FEDERAL","METROPOLITANA",31,"PABLO CIMINARI",null,null,null,null,null,null,null,null,null,null,null,null,null,null,null,null,null,null,null,null,null,null,null,null,null,null,null,null,null,null,null,null,null,null,null,null,null,291,"EL CURVON SRL","TERCEROS","Consignado","BUENOS AIRES","AUTOPISTA PANAMERICANA KM 41.500 (Ascendente)",1621,"BENAVIDEZ","TIGRE","BUENOS AIRES","30551016117","Cullari, José","Brena, Marcelo","Barruti, Francisco",""]
[null,"CAPITAL FEDERAL (CP: 1119)","1119","CAPITAL FEDERAL","CAPITAL FEDERAL","METROPOLITANA",31,"PABLO CIMINARI",null,null,null,null,null,null,null,null,null,null,null,null,null,null,null,null,null,null,null,null,null,null,null,null,null,null,null,null,null,null,null,null,null,null,null,null,null,292,"BARATOK SRL","TERCEROS","Consignado","BUENOS AIRES","AVENIDA LIBERTADOR GRAL SAN MARTIN 1385 Y KENNEDY",1611,"DON TORCUATO","TIGRE","BUENOS AIRES","30709552623","Isak, Fernando","Brena, Marcelo","Barruti, Francisco",""]
[null,"CAPITAL FEDERAL (CP: 1120)","1120","CAPITAL FEDERAL","CAPITAL FEDERAL","METROPOLITANA",31,"PABLO CIMINARI",null,null,null,null,null,null,null,null,null,null,null,null,null,null,null,null,null,null,null,null,null,null,null,null,null,null,null,null,null,null,null,null,null,null,null,null,null,293,"PUENTE VANGUARDIA SA","TERCEROS","Consignado","METROPOLITANA","LAVALLE 200 Y CARLOS PELLEGRINI",1648,"TIGRE","TIGRE","BUENOS AIRES","30698813659","Leite, Jose","Bouzon, Gustavo","Gottlieb, Patricio",""]
[null,"CAPITAL FEDERAL (CP: 1121)","1121","CAPITAL FEDERAL","CAPITAL FEDERAL","METROPOLITANA",31,"PABLO CIMINARI",null,null,null,null,null,null,null,null,null,null,null,null,null,null,null,null,null,null,null,null,null,null,null,null,null,null,null,null,null,null,null,null,null,null,null,null,null,297,"MARTIN BARROCAS Y CIA SRL","TERCEROS","Consignado","BUENOS AIRES","RUTA NACIONAL 9 KM 49.500 (Ascendente) Y 25 DE MAYO",1625,"ESCOBAR","ESCOBAR","BUENOS AIRES","30608964076","Cullari, José","Brena, Marcelo","Barruti, Francisco",""]
[null,"CAPITAL FEDERAL (CP: 1122)","1122","CAPITAL FEDERAL","CAPITAL FEDERAL","METROPOLITANA",31,"PABLO CIMINARI",null,null,null,null,null,null,null,null,null,null,null,null,null,null,null,null,null,null,null,null,null,null,null,null,null,null,null,null,null,null,null,null,null,null,null,null,null,298,"MI DESTINO SRL","TERCEROS","Consignado","BUENOS AIRES","AVENIDA GRAL SAN MARTIN Y FELIPE BOERO",1625,"ESCOBAR","ESCOBAR","BUENOS AIRES","30611492347","Cullari, José","Brena, Marcelo","Barruti, Francisco",""]
[null,"CAPITAL FEDERAL (CP: 1123)","1123","CAPITAL FEDERAL","CAPITAL FEDERAL","METROPOLITANA",31,"PABLO CIMINARI",null,null,null,null,null,null,null,null,null,null,null,null,null,null,null,null,null,null,null,null,null,null,null,null,null,null,null,null,null,null,null,null,null,null,null,null,null,304,"OPESSA PACHECO","OPESSA","Consignado","BUENOS AIRES","RUTA NACIONAL 197 KM (Descendente) Y SARMIENTO",1617,"GRAL.PACHECO","TIGRE","BUENOS AIRES","30678774495","Isak, Fernando","Brena, Marcelo","Barruti, Francisco","Santa Cruz, Wilde"]
[null,"CAPITAL FEDERAL (CP: 1124)","1124","CAPITAL FEDERAL","CAPITAL FEDERAL","METROPOLITANA",31,"PABLO CIMINARI",null,null,null,null,null,null,null,null,null,null,null,null,null,null,null,null,null,null,null,null,null,null,null,null,null,null,null,null,null,null,null,null,null,null,null,null,null,305,"SUPER SERVICIOS SA","TERCEROS","Consignado","METROPOLITANA","AUTOPISTA COLECTORA PANAMERICANA KM 31.300 (Ascendente) Y MARCOS SASTRE",1618,"EL TALAR","TIGRE","BUENOS AIRES","30654236069","Leite, Jose","Bouzon, Gustavo","Gottlieb, Patricio",""]
[null,"CAPITAL FEDERAL (CP: 1125)","1125","CAPITAL FEDERAL","CAPITAL FEDERAL","METROPOLITANA",31,"PABLO CIMINARI",null,null,null,null,null,null,null,null,null,null,null,null,null,null,null,null,null,null,null,null,null,null,null,null,null,null,null,null,null,null,null,null,null,null,null,null,null,311,"TOMASELLI RICARDO","TERCEROS","Reventa","METROPOLITANA","ARROYO ABRAVIEJA Y PRIMERA SECCION",1648,"TIGRE","TIGRE","BUENOS AIRES","20046090218","Leite, Jose","Bouzon, Gustavo","Gottlieb, Patricio",""]
[null,"CAPITAL FEDERAL (CP: 1126)","1126","CAPITAL FEDERAL","CAPITAL FEDERAL","METROPOLITANA",31,"PABLO CIMINARI",null,null,null,null,null,null,null,null,null,null,null,null,null,null,null,null,null,null,null,null,null,null,null,null,null,null,null,null,null,null,null,null,null,null,null,null,null,315,"OPESSA SAN FERNANDO","OPESSA","Consignado","METROPOLITANA","AVENIDA DEL LIBERTADOR 2199 Y QUINTANA",1646,"SAN FERNANDO","SAN FERNANDO","BUENOS AIRES","30678774495","Leite, Jose","Bouzon, Gustavo","Gottlieb, Patricio","Santa Cruz, Wilde"]
[null,"CAPITAL FEDERAL (CP: 1127)","1127","CAPITAL FEDERAL","CAPITAL FEDERAL","METROPOLITANA",31,"PABLO CIMINARI",null,null,null,null,null,null,null,null,null,null,null,null,null,null,null,null,null,null,null,null,null,null,null,null,null,null,null,null,null,null,null,null,null,null,null,null,null,317,"OPESSA ACA PILAR","OPESSA","Consignado","BUENOS AIRES","RUTA NACIONAL 8 KM 53.700 (Ascendente) Y RUTA 25",1629,"PILAR","PILAR","BUENOS AIRES","30678774495","Cullari, José","Brena, Marcelo","Barruti, Francisco","Gualeni, Andrea"]
[null,"CAPITAL FEDERAL (CP: 1128)","1128","CAPITAL FEDERAL","CAPITAL FEDERAL","METROPOLITANA",31,"PABLO CIMINARI",null,null,null,null,null,null,null,null,null,null,null,null,null,null,null,null,null,null,null,null,null,null,null,null,null,null,null,null,null,null,null,null,null,null,null,null,null,319,"UNITY OIL SA","TERCEROS","Consignado","BUENOS AIRES","RUTA NACIONAL 8 KM (Ascendente) Y DEL CANAL",1629,"PILAR","PILAR","BUENOS AIRES","30660259003","Cullari, José","Brena, Marcelo","Barruti, Francisco",""]
[null,{"$f":"CONCATENATE(D131,\" (CP: \",C131,\")\")","v":"CAPITAL FEDERAL (CP: 1129)"},"1129","CAPITAL FEDERAL","CAPITAL FEDERAL","METROPOLITANA",31,"PABLO CIMINARI",null,null,null,null,null,null,null,null,null,null,null,null,null,null,null,null,null,null,null,null,null,null,null,null,null,null,null,null,null,null,null,null,null,null,null,null,null,321,"OPESSA SAN MIGUEL","OPESSA","Consignado","BUENOS AIRES","RUTA NACIONAL 8 KM (Ascendente) Y RUTA 202",1663,"SAN MIGUEL","SAN MIGUEL","BUENOS AIRES","30678774495","Isak, Fernando","Brena, Marcelo","Barruti, Francisco","Gualeni, Andrea"]
[null,"CAPITAL FEDERAL (CP: 1130)","1130","CAPITAL FEDERAL","CAPITAL FEDERAL","METROPOLITANA",31,"PABLO CIMINARI",null,null,null,null,null,null,null,null,null,null,null,null,null,null,null,null,null,null,null,null,null,null,null,null,null,null,null,null,null,null,null,null,null,null,null,null,null,322,"GAS IMPULSO SA","TERCEROS","Consignado","BUENOS AIRES","RUTA PROVINCIAL DR HONORIO PUEYRREDON KM 619 (Ascendente) Y PIROVANO",1629,"PILAR","PILAR","BUENOS AIRES","30618744848","Cullari, José","Brena, Marcelo","Barruti, Francisco",""]
[null,"CAPITAL FEDERAL (CP: 1133)","1133","CAPITAL FEDERAL","CAPITAL FEDERAL","METROPOLITANA",31,"PABLO CIMINARI",null,null,null,null,null,null,null,null,null,null,null,null,null,null,null,null,null,null,null,null,null,null,null,null,null,null,null,null,null,null,null,null,null,null,null,null,null,328,"ESGOS SA","TERCEROS","Consignado","BUENOS AIRES","RUTA NACIONAL 7 KM 34.500 () Y PADRE LUIS VARVELLO",1742,"PASO DEL REY","MORENO","BUENOS AIRES","30570131520","Luppoli, Hugo Martin","Brena, Marcelo","Barruti, Francisco",""]
[null,"CAPITAL FEDERAL (CP: 1134)","1134","CAPITAL FEDERAL","CAPITAL FEDERAL","METROPOLITANA",31,"PABLO CIMINARI",null,null,null,null,null,null,null,null,null,null,null,null,null,null,null,null,null,null,null,null,null,null,null,null,null,null,null,null,null,null,null,null,null,null,null,null,null,332,"FSE SA","TERCEROS","Reventa","BUENOS AIRES","RUTA PROVINCIAL 202 KM 16.500 (Ascendente)",1613,"LOS POLVORINES","MALVINAS ARGENTINAS","BUENOS AIRES","30709157570","Isak, Fernando","Brena, Marcelo","Barruti, Francisco",""]
[null,"CAPITAL FEDERAL (CP: 1135)","1135","CAPITAL FEDERAL","CAPITAL FEDERAL","METROPOLITANA",31,"PABLO CIMINARI",null,null,null,null,null,null,null,null,null,null,null,null,null,null,null,null,null,null,null,null,null,null,null,null,null,null,null,null,null,null,null,null,null,null,null,null,null,335,"OPESSA MORENO","OPESSA","Consignado","BUENOS AIRES","DIAGONAL NORTE Y ACCESO OESTE",1744,"MORENO","MORENO","BUENOS AIRES","30678774495","Luppoli, Hugo Martin","Brena, Marcelo","Barruti, Francisco","Gualeni, Andrea"]
[null,"CAPITAL FEDERAL (CP: 1136)","1136","CAPITAL FEDERAL","CAPITAL FEDERAL","METROPOLITANA",31,"PABLO CIMINARI",null,null,null,null,null,null,null,null,null,null,null,null,null,null,null,null,null,null,null,null,null,null,null,null,null,null,null,null,null,null,null,null,null,null,null,null,null,339,"MELE, BROCCA SRL","TERCEROS","Consignado","BUENOS AIRES","BARTOLOME MITRE 1199 Y VICTORICA",1744,"MORENO","MORENO","BUENOS AIRES","30681818177","Luppoli, Hugo Martin","Brena, Marcelo","Barruti, Francisco",""]
[null,"CAPITAL FEDERAL (CP: 1137)","1137","CAPITAL FEDERAL","CAPITAL FEDERAL","METROPOLITANA",31,"PABLO CIMINARI",null,null,null,null,null,null,null,null,null,null,null,null,null,null,null,null,null,null,null,null,null,null,null,null,null,null,null,null,null,null,null,null,null,null,null,null,null,341,"DANIEL Y MARCELO PATO SH","TERCEROS","Consignado","BUENOS AIRES","RUTA PROVINCIAL 24 KM (Ascendente) Y RUTA PROVINCIAL 25",1744,"MORENO","MORENO","BUENOS AIRES","33688644319","Luppoli, Hugo Martin","Brena, Marcelo","Barruti, Francisco",""]
[null,"CAPITAL FEDERAL (CP: 1138)","1138","CAPITAL FEDERAL","CAPITAL FEDERAL","METROPOLITANA",31,"PABLO CIMINARI",null,null,null,null,null,null,null,null,null,null,null,null,null,null,null,null,null,null,null,null,null,null,null,null,null,null,null,null,null,null,null,null,null,null,null,null,null,345,"BUZANCY SA","TERCEROS","Consignado","BUENOS AIRES","AVENIDA PRESIDENTE ARTURO H ILLIA(EX RUTA NAC 8) 773",1661,"BELLA VISTA","SAN MIGUEL","BUENOS AIRES","33707010059","Isak, Fernando","Brena, Marcelo","Barruti, Francisco",""]
[null,"CAPITAL FEDERAL (CP: 1139)","1139","CAPITAL FEDERAL","CAPITAL FEDERAL","METROPOLITANA",31,"PABLO CIMINARI",null,null,null,null,null,null,null,null,null,null,null,null,null,null,null,null,null,null,null,null,null,null,null,null,null,null,null,null,null,null,null,null,null,null,null,null,null,347,"COMERCIAL SANTA MARTA SA","TERCEROS","Consignado","BUENOS AIRES","AVENIDA PTE ARTURO UMBERTO ILLIA Y PRIMERA JUNTA",1663,"SAN MIGUEL","SAN MIGUEL","BUENOS AIRES","30577649827","Isak, Fernando","Brena, Marcelo","Barruti, Francisco",""]
[null,"CAPITAL FEDERAL (CP: 1140)","1140","CAPITAL FEDERAL","CAPITAL FEDERAL","METROPOLITANA",31,"PABLO CIMINARI",null,null,null,null,null,null,null,null,null,null,null,null,null,null,null,null,null,null,null,null,null,null,null,null,null,null,null,null,null,null,null,null,null,null,null,null,null,349,"SERVICIOS PILAR SA","TERCEROS","Consignado","BUENOS AIRES","RIVADAVIA Y E NAZARRE",1629,"PILAR","PILAR","BUENOS AIRES","33657319789","Cullari, José","Brena, Marcelo","Barruti, Francisco",""]
[null,"CAPITAL FEDERAL (CP: 1141)","1141","CAPITAL FEDERAL","CAPITAL FEDERAL","METROPOLITANA",31,"PABLO CIMINARI",null,null,null,null,null,null,null,null,null,null,null,null,null,null,null,null,null,null,null,null,null,null,null,null,null,null,null,null,null,null,null,null,null,null,null,null,null,351,"ESGOS SA","TERCEROS","Consignado","BUENOS AIRES","AVENIDA B MITRE 400 Y ASCONAPE",1742,"PASO DEL REY","MORENO","BUENOS AIRES","30570131520","Luppoli, Hugo Martin","Brena, Marcelo","Barruti, Francisco",""]
[null,"CAPITAL FEDERAL (CP: 1143)","1143","CAPITAL FEDERAL","CAPITAL FEDERAL","METROPOLITANA",31,"PABLO CIMINARI",null,null,null,null,null,null,null,null,null,null,null,null,null,null,null,null,null,null,null,null,null,null,null,null,null,null,null,null,null,null,null,null,null,null,null,null,null,352,"ACA AVELLANEDA","ACA","ACA","METROPOLITANA","AVENIDA PTE BARTOLOME MITRE Y 9 DE JULIO",1870,"AVELLANEDA","AVELLANEDA","BUENOS AIRES","30500143297","Berardi, Juan Carlos","Acosta, Diego","Gottlieb, Patricio",""]
[null,"CAPITAL FEDERAL (CP: 1144)","1144","CAPITAL FEDERAL","CAPITAL FEDERAL","METROPOLITANA",31,"PABLO CIMINARI",null,null,null,null,null,null,null,null,null,null,null,null,null,null,null,null,null,null,null,null,null,null,null,null,null,null,null,null,null,null,null,null,null,null,null,null,null,353,"SDS SA","TERCEROS","Consignado","METROPOLITANA","CENTENARIO URUGUAYO 1196 Y C LARRALDE",1874,"VILLA DOMINICO","AVELLANEDA","BUENOS AIRES","30708128801","Berardi, Juan Carlos","Acosta, Diego","Gottlieb, Patricio",""]
[null,"CAPITAL FEDERAL (CP: 1147)","1147","CAPITAL FEDERAL","CAPITAL FEDERAL","METROPOLITANA",31,"PABLO CIMINARI",null,null,null,null,null,null,null,null,null,null,null,null,null,null,null,null,null,null,null,null,null,null,null,null,null,null,null,null,null,null,null,null,null,null,null,null,null,354,"KALPAT SA","TERCEROS","Consignado","METROPOLITANA","AVENIDA BERNARDINO RIVADAVIA 1185 Y CHILE",1870,"AVELLANEDA","AVELLANEDA","BUENOS AIRES","30710662718","Noval, Marcelo","Acosta, Diego","Gottlieb, Patricio",""]
[null,"CAPITAL FEDERAL (CP: 1148)","1148","CAPITAL FEDERAL","CAPITAL FEDERAL","METROPOLITANA",31,"PABLO CIMINARI",null,null,null,null,null,null,null,null,null,null,null,null,null,null,null,null,null,null,null,null,null,null,null,null,null,null,null,null,null,null,null,null,null,null,null,null,null,358,"BIBILONI SA","TERCEROS","Consignado","METROPOLITANA","AVENIDA MITRE 1749 Y HERNANDEZ",1878,"QUILMES","QUILMES","BUENOS AIRES","30707003770","Berardi, Juan Carlos","Acosta, Diego","Gottlieb, Patricio",""]
[null,"CAPITAL FEDERAL (CP: 1150)","1150","CAPITAL FEDERAL","CAPITAL FEDERAL","METROPOLITANA",31,"PABLO CIMINARI",null,null,null,null,null,null,null,null,null,null,null,null,null,null,null,null,null,null,null,null,null,null,null,null,null,null,null,null,null,null,null,null,null,null,null,null,null,359,"BRION ERNESTO OSCAR","TERCEROS","Consignado","METROPOLITANA","25 DER MAYO 300 Y ZEBALLOS",1870,"AVELLANEDA","AVELLANEDA","BUENOS AIRES","20127670014","Berardi, Juan Carlos","Acosta, Diego","Gottlieb, Patricio",""]
[null,"CAPITAL FEDERAL (CP: 1151)","1151","CAPITAL FEDERAL","CAPITAL FEDERAL","METROPOLITANA",31,"PABLO CIMINARI",null,null,null,null,null,null,null,null,null,null,null,null,null,null,null,null,null,null,null,null,null,null,null,null,null,null,null,null,null,null,null,null,null,null,null,null,null,363,"OPESSA AVELLANEDA","OPESSA","Consignado","METROPOLITANA","AVENIDA BELGRANO 791 Y 9 DE JULIO",1870,"AVELLANEDA","AVELLANEDA","BUENOS AIRES","30678774495","Berardi, Juan Carlos","Acosta, Diego","Gottlieb, Patricio","Herlein, Carolina"]
[null,"CAPITAL FEDERAL (CP: 1152)","1152","CAPITAL FEDERAL","CAPITAL FEDERAL","METROPOLITANA",31,"PABLO CIMINARI",null,null,null,null,null,null,null,null,null,null,null,null,null,null,null,null,null,null,null,null,null,null,null,null,null,null,null,null,null,null,null,null,null,null,null,null,null,364,"RAMON FRANCO NORTE SRL","TERCEROS","Consignado","METROPOLITANA","AVENIDA RAMON FRANCO 5699 Y NAVARRO",1875,"WILDE","AVELLANEDA","BUENOS AIRES","30550169319","Berardi, Juan Carlos","Acosta, Diego","Gottlieb, Patricio",""]
[null,"CAPITAL FEDERAL (CP: 1153)","1153","CAPITAL FEDERAL","CAPITAL FEDERAL","METROPOLITANA",31,"PABLO CIMINARI",null,null,null,null,null,null,null,null,null,null,null,null,null,null,null,null,null,null,null,null,null,null,null,null,null,null,null,null,null,null,null,null,null,null,null,null,null,365,"ERAQUIL SA","TERCEROS","Consignado","METROPOLITANA","RODOLFO LOPEZ 1504 Y M RODRIGUEZ",1879,"QUILMES OESTE","QUILMES","BUENOS AIRES","30677854479","Berardi, Juan Carlos","Acosta, Diego","Gottlieb, Patricio",""]
[null,"CAPITAL FEDERAL (CP: 1154)","1154","CAPITAL FEDERAL","CAPITAL FEDERAL","METROPOLITANA",31,"PABLO CIMINARI",null,null,null,null,null,null,null,null,null,null,null,null,null,null,null,null,null,null,null,null,null,null,null,null,null,null,null,null,null,null,null,null,null,null,null,null,null,367,"IACONO RAFAEL","TERCEROS","Consignado","METROPOLITANA","AVENIDA RAMON FRANCO 6287 Y LARTIGAU",1875,"WILDE","AVELLANEDA","BUENOS AIRES","20163439515","Berardi, Juan Carlos","Acosta, Diego","Gottlieb, Patricio",""]
[null,"CAPITAL FEDERAL (CP: 1155)","1155","CAPITAL FEDERAL","CAPITAL FEDERAL","METROPOLITANA",31,"PABLO CIMINARI",null,null,null,null,null,null,null,null,null,null,null,null,null,null,null,null,null,null,null,null,null,null,null,null,null,null,null,null,null,null,null,null,null,null,null,null,null,369,"BIACOMAC DEL SUR SA","TERCEROS","Consignado","METROPOLITANA","AVENIDA LOS QUILMES 702 Y CERRITO",1876,"BERNAL","QUILMES","BUENOS AIRES","30714070807","Berardi, Juan Carlos","Acosta, Diego","Gottlieb, Patricio",""]
[null,"CAPITAL FEDERAL (CP: 1156)","1156","CAPITAL FEDERAL","CAPITAL FEDERAL","METROPOLITANA",31,"PABLO CIMINARI",null,null,null,null,null,null,null,null,null,null,null,null,null,null,null,null,null,null,null,null,null,null,null,null,null,null,null,null,null,null,null,null,null,null,null,null,null,372,"LOS ARGENTINOS SRL","TERCEROS","Consignado","METROPOLITANA","FLORENCIO VARELA 710 Y R COLORADO",1882,"EZPELETA","QUILMES","BUENOS AIRES","30689364930","Berardi, Juan Carlos","Acosta, Diego","Gottlieb, Patricio",""]
[null,"CAPITAL FEDERAL (CP: 1157)","1157","CAPITAL FEDERAL","CAPITAL FEDERAL","METROPOLITANA",31,"PABLO CIMINARI",null,null,null,null,null,null,null,null,null,null,null,null,null,null,null,null,null,null,null,null,null,null,null,null,null,null,null,null,null,null,null,null,null,null,null,null,null,373,"MELINKA SRL","TERCEROS","Consignado","METROPOLITANA","AVENIDA CNO GRAL BELGRANO 6602",1875,"WILDE","AVELLANEDA","BUENOS AIRES","30697954399","Berardi, Juan Carlos","Acosta, Diego","Gottlieb, Patricio",""]
[null,"CAPITAL FEDERAL (CP: 1158)","1158","CAPITAL FEDERAL","CAPITAL FEDERAL","METROPOLITANA",31,"PABLO CIMINARI",null,null,null,null,null,null,null,null,null,null,null,null,null,null,null,null,null,null,null,null,null,null,null,null,null,null,null,null,null,null,null,null,null,null,null,null,null,374,"MARTI-GONZALEZ Y DONADIO","TERCEROS","Consignado","METROPOLITANA","CRISOLOGO LARRALDE 2701 Y SALTA",1872,"SARANDI","AVELLANEDA","BUENOS AIRES","30539939358","Berardi, Juan Carlos","Acosta, Diego","Gottlieb, Patricio",""]
[null,"CAPITAL FEDERAL (CP: 1159)","1159","CAPITAL FEDERAL","CAPITAL FEDERAL","METROPOLITANA",31,"PABLO CIMINARI",null,null,null,null,null,null,null,null,null,null,null,null,null,null,null,null,null,null,null,null,null,null,null,null,null,null,null,null,null,null,null,null,null,null,null,null,null,376,"SUPER SERVICIOS SA","TERCEROS","Consignado","METROPOLITANA","GRAL M DE ESCALADA 302",1872,"SARANDI","AVELLANEDA","BUENOS AIRES","30654236069","Berardi, Juan Carlos","Acosta, Diego","Gottlieb, Patricio",""]
[null,"CAPITAL FEDERAL (CP: 1160)","1160","CAPITAL FEDERAL","CAPITAL FEDERAL","METROPOLITANA",31,"PABLO CIMINARI",null,null,null,null,null,null,null,null,null,null,null,null,null,null,null,null,null,null,null,null,null,null,null,null,null,null,null,null,null,null,null,null,null,null,null,null,null,377,"CABARO SRL","TERCEROS","Reventa","METROPOLITANA","CRAMER 897 Y LOMAS DE ZAMORA",1876,"BERNAL","QUILMES","BUENOS AIRES",30707426329,"Berardi, Juan Carlos","Acosta, Diego","Gottlieb, Patricio",""]
[null,"CAPITAL FEDERAL (CP: 1161)","1161","CAPITAL FEDERAL","CAPITAL FEDERAL","METROPOLITANA",31,"PABLO CIMINARI",null,null,null,null,null,null,null,null,null,null,null,null,null,null,null,null,null,null,null,null,null,null,null,null,null,null,null,null,null,null,null,null,null,null,null,null,null,384,"AGUERO NORTE SRL","TERCEROS","Consignado","METROPOLITANA","CRISOLOGO LARRALDE 5310 Y BOULEVARD DE LOS ITALIANOS",1875,"WILDE","AVELLANEDA","BUENOS AIRES","30680645651","Berardi, Juan Carlos","Acosta, Diego","Gottlieb, Patricio",""]
[null,"CAPITAL FEDERAL (CP: 1162)","1162","CAPITAL FEDERAL","CAPITAL FEDERAL","METROPOLITANA",31,"PABLO CIMINARI",null,null,null,null,null,null,null,null,null,null,null,null,null,null,null,null,null,null,null,null,null,null,null,null,null,null,null,null,null,null,null,null,null,null,null,null,null,387,"PETROLGAS EZEIZA SRL","TERCEROS","Consignado","BUENOS AIRES","SARGEMTO CABRAL Y RECONQUISTA",1804,"EZEIZA","EZEIZA","BUENOS AIRES","30659879685","Marincolo, Fernando","Emanuel, Adrian Fabio","Barruti, Francisco",""]
[null,"CAPITAL FEDERAL (CP: 1163)","1163","CAPITAL FEDERAL","CAPITAL FEDERAL","METROPOLITANA",31,"PABLO CIMINARI",null,null,null,null,null,null,null,null,null,null,null,null,null,null,null,null,null,null,null,null,null,null,null,null,null,null,null,null,null,null,null,null,null,null,null,null,null,389,"DON ANTONIO Y FLIA S.A.","TERCEROS","Consignado","BUENOS AIRES","BOULEVARD BUENOS AIRES 2073 Y CAMINO DE CINTURA",1838,"LUIS GUILLON","ESTEBAN ECHEVERRIA","BUENOS AIRES","30711021759","Carrera, Sebastián","Emanuel, Adrian Fabio","Barruti, Francisco",""]
[null,"CAPITAL FEDERAL (CP: 1164)","1164","CAPITAL FEDERAL","CAPITAL FEDERAL","METROPOLITANA",31,"PABLO CIMINARI",null,null,null,null,null,null,null,null,null,null,null,null,null,null,null,null,null,null,null,null,null,null,null,null,null,null,null,null,null,null,null,null,null,null,null,null,null,400,"BAMBURY SA","TERCEROS","Consignado","BUENOS AIRES","AVENIDA FAIR V 410 Y REVISO",1842,"MONTE GRANDE","ESTEBAN ECHEVERRIA","BUENOS AIRES","30705738358","Marincolo, Fernando","Emanuel, Adrian Fabio","Barruti, Francisco",""]
[null,"CAPITAL FEDERAL (CP: 1165)","1165","CAPITAL FEDERAL","CAPITAL FEDERAL","METROPOLITANA",31,"PABLO CIMINARI",null,null,null,null,null,null,null,null,null,null,null,null,null,null,null,null,null,null,null,null,null,null,null,null,null,null,null,null,null,null,null,null,null,null,null,null,null,402,"OPESSA LANUS","OPESSA","Consignado","METROPOLITANA","AVENIDA HIPOLITO YRIGOYEN 3732 Y PERON",1824,"LANUS OESTE","LANUS","BUENOS AIRES","30678774495","Noval, Marcelo","Acosta, Diego","Gottlieb, Patricio","Herlein, Carolina"]
[null,"CAPITAL FEDERAL (CP: 1166)","1166","CAPITAL FEDERAL","CAPITAL FEDERAL","METROPOLITANA",31,"PABLO CIMINARI",null,null,null,null,null,null,null,null,null,null,null,null,null,null,null,null,null,null,null,null,null,null,null,null,null,null,null,null,null,null,null,null,null,null,null,null,null,403,"OPESSA ACA LOMAS DE ZAMORA","OPESSA","Consignado","METROPOLITANA","AVENIDA HIPOLITO YRIGOYEN 8590",1832,"LOMAS DE ZAMORA","LOMAS DE ZAMORA","BUENOS AIRES","30678774495","Noval, Marcelo","Acosta, Diego","Gottlieb, Patricio","Herlein, Carolina"]
[null,"CAPITAL FEDERAL (CP: 1167)","1167","CAPITAL FEDERAL","CAPITAL FEDERAL","METROPOLITANA",31,"PABLO CIMINARI",null,null,null,null,null,null,null,null,null,null,null,null,null,null,null,null,null,null,null,null,null,null,null,null,null,null,null,null,null,null,null,null,null,null,null,null,null,406,"AUFKOCHEN SACIFI","TERCEROS","Consignado","METROPOLITANA","AVENIDA GENERAL SAN MARTIN 2298 Y VIAMONTE",1824,"LANUS OESTE","LANUS","BUENOS AIRES","33616422389","Noval, Marcelo","Acosta, Diego","Gottlieb, Patricio",""]
[null,"CAPITAL FEDERAL (CP: 1168)","1168","CAPITAL FEDERAL","CAPITAL FEDERAL","METROPOLITANA",31,"PABLO CIMINARI",null,null,null,null,null,null,null,null,null,null,null,null,null,null,null,null,null,null,null,null,null,null,null,null,null,null,null,null,null,null,null,null,null,null,null,null,null,408,"CHOUSAL E IACOPETTI","TERCEROS","Consignado","BUENOS AIRES","AVENIDA EVA PERON 1399 Y AV. CABRED",1834,"TEMPERLEY","LOMAS DE ZAMORA","BUENOS AIRES","30520814554","Marincolo, Fernando","Emanuel, Adrian Fabio","Barruti, Francisco",""]
[null,"CAPITAL FEDERAL (CP: 1169)","1169","CAPITAL FEDERAL","CAPITAL FEDERAL","METROPOLITANA",31,"PABLO CIMINARI",null,null,null,null,null,null,null,null,null,null,null,null,null,null,null,null,null,null,null,null,null,null,null,null,null,null,null,null,null,null,null,null,null,null,null,null,null,411,"COMBUSTIBLES LA COLONIA SA","TERCEROS","Consignado","METROPOLITANA","AVENIDA PRESIDENTE BERNARDINO RIVADAVIA 2410 Y M PEDRAZA",1822,"VALENTIN ALSINA","LANUS","BUENOS AIRES","30709453560","Noval, Marcelo","Acosta, Diego","Gottlieb, Patricio",""]
[null,"CAPITAL FEDERAL (CP: 1170)","1170","CAPITAL FEDERAL","CAPITAL FEDERAL","METROPOLITANA",31,"PABLO CIMINARI",null,null,null,null,null,null,null,null,null,null,null,null,null,null,null,null,null,null,null,null,null,null,null,null,null,null,null,null,null,null,null,null,null,null,null,null,null,420,"CAMACHO, CAMACHO, VILLACENIN","TERCEROS","Consignado","BUENOS AIRES","AVENIDA PRES H YRIGOYEN 10548 Y SOLER",1834,"TEMPERLEY","LOMAS DE ZAMORA","BUENOS AIRES","30637478636","Marincolo, Fernando","Emanuel, Adrian Fabio","Barruti, Francisco",""]
[null,"CAPITAL FEDERAL (CP: 1171)","1171","CAPITAL FEDERAL","CAPITAL FEDERAL","METROPOLITANA",18,"OMAR PRESAS",null,null,null,null,null,null,null,null,null,null,null,null,null,null,null,null,null,null,null,null,null,null,null,null,null,null,null,null,null,null,null,null,null,null,null,null,null,421,"OPESSA ACA ZARATE","OPESSA","Consignado","BUENOS AIRES","RUTA NACIONAL 12 KM (Ascendente) Y 193",2800,"ZARATE","ZARATE","BUENOS AIRES","30678774495","Cullari, José","Brena, Marcelo","Barruti, Francisco","Ferrando, Damián Andres"]
[null,"CAPITAL FEDERAL (CP: 1172)","1172","CAPITAL FEDERAL","CAPITAL FEDERAL","METROPOLITANA",18,"OMAR PRESAS",null,null,null,null,null,null,null,null,null,null,null,null,null,null,null,null,null,null,null,null,null,null,null,null,null,null,null,null,null,null,null,null,null,null,null,null,null,430,"VIVAPAS SRL","TERCEROS","Consignado","METROPOLITANA","AVENIDA GENERAL MARTIN RODRIGUEZ 1087 Y SARMIENTO",1824,"LANUS OESTE","LANUS","BUENOS AIRES","30663562807","Noval, Marcelo","Acosta, Diego","Gottlieb, Patricio",""]
[null,"CAPITAL FEDERAL (CP: 1173)","1173","CAPITAL FEDERAL","CAPITAL FEDERAL","METROPOLITANA",18,"OMAR PRESAS",null,null,null,null,null,null,null,null,null,null,null,null,null,null,null,null,null,null,null,null,null,null,null,null,null,null,null,null,null,null,null,null,null,null,null,null,null,439,"TINARI S.A.","TERCEROS","Consignado","METROPOLITANA","PEDRO FRANCISCO DE URIARTE 1097 Y MAGALLANES",1826,"REMEDIOS DE ESCALADA","LANUS","BUENOS AIRES","33714053979","Noval, Marcelo","Acosta, Diego","Gottlieb, Patricio",""]
[null,"CAPITAL FEDERAL (CP: 1174)","1174","CAPITAL FEDERAL","CAPITAL FEDERAL","METROPOLITANA",18,"OMAR PRESAS",null,null,null,null,null,null,null,null,null,null,null,null,null,null,null,null,null,null,null,null,null,null,null,null,null,null,null,null,null,null,null,null,null,null,null,null,null,440,"ESTACION INTEGRAL LAS AMERICAS SA","TERCEROS","Consignado","METROPOLITANA","PRESIDENTE JUAN DOMINGO PERON Y ALBERTO LARROQUE",1828,"BANFIELD","LOMAS DE ZAMORA","BUENOS AIRES","30709583707","Noval, Marcelo","Acosta, Diego","Gottlieb, Patricio",""]
[null,"CAPITAL FEDERAL (CP: 1175)","1175","CAPITAL FEDERAL","CAPITAL FEDERAL","METROPOLITANA",18,"OMAR PRESAS",null,null,null,null,null,null,null,null,null,null,null,null,null,null,null,null,null,null,null,null,null,null,null,null,null,null,null,null,null,null,null,null,null,null,null,null,null,443,"DA COSTA E HIJOS SA","TERCEROS","Consignado","BUENOS AIRES","AVENIDA DARDO ROCHA 711 Y CALLE 7",1884,"BERAZATEGUI","BERAZATEGUI","BUENOS AIRES","30658022349","Cabral, Carlos","Emanuel, Adrian Fabio","Barruti, Francisco",""]
[null,"CAPITAL FEDERAL (CP: 1176)","1176","CAPITAL FEDERAL","CAPITAL FEDERAL","METROPOLITANA",18,"OMAR PRESAS",null,null,null,null,null,null,null,null,null,null,null,null,null,null,null,null,null,null,null,null,null,null,null,null,null,null,null,null,null,null,null,null,null,null,null,null,null,444,"ASENCIO Y PULLEY SRL","TERCEROS","Consignado","BUENOS AIRES","AVENIDA MONTEVERDE 3552 Y HUMBERTO PRIMO",1852,"BURZACO","ALMTE BROWN","BUENOS AIRES","30520201048","Carrera, Sebastián","Emanuel, Adrian Fabio","Barruti, Francisco",""]
[null,"CAPITAL FEDERAL (CP: 1177)","1177","CAPITAL FEDERAL","CAPITAL FEDERAL","METROPOLITANA",18,"OMAR PRESAS",null,null,null,null,null,null,null,null,null,null,null,null,null,null,null,null,null,null,null,null,null,null,null,null,null,null,null,null,null,null,null,null,null,null,null,null,null,445,"ALLEGRETTI SA","TERCEROS","Consignado","BUENOS AIRES","CALLE 21 Y CALLE 131",1884,"BERAZATEGUI","BERAZATEGUI","BUENOS AIRES","30708972041","Cabral, Carlos","Emanuel, Adrian Fabio","Barruti, Francisco",""]
[null,"CAPITAL FEDERAL (CP: 1178)","1178","CAPITAL FEDERAL","CAPITAL FEDERAL","METROPOLITANA",18,"OMAR PRESAS",null,null,null,null,null,null,null,null,null,null,null,null,null,null,null,null,null,null,null,null,null,null,null,null,null,null,null,null,null,null,null,null,null,null,null,null,null,446,"ADROGUE DENAK BAT SA","TERCEROS","Consignado","BUENOS AIRES","AVENIDA TOMAS ESPORA 1498 Y SAN MARTIN",1846,"ADROGUE","ALMTE BROWN","BUENOS AIRES","30708403772","Carrera, Sebastián","Emanuel, Adrian Fabio","Barruti, Francisco",""]
[null,"CAPITAL FEDERAL (CP: 1179)","1179","CAPITAL FEDERAL","CAPITAL FEDERAL","METROPOLITANA",18,"OMAR PRESAS",null,null,null,null,null,null,null,null,null,null,null,null,null,null,null,null,null,null,null,null,null,null,null,null,null,null,null,null,null,null,null,null,null,null,null,null,null,452,"EREZCANO SA","TERCEROS","Consignado","BUENOS AIRES","AVENIDA SAN MARTIN Y AGUSTIN EREZCANO",1847,"RAFAEL CALZADA","ALMTE BROWN","BUENOS AIRES","30708260785","Carrera, Sebastián","Emanuel, Adrian Fabio","Barruti, Francisco",""]
[null,"CAPITAL FEDERAL (CP: 1180)","1180","CAPITAL FEDERAL","CAPITAL FEDERAL","METROPOLITANA",18,"OMAR PRESAS",null,null,null,null,null,null,null,null,null,null,null,null,null,null,null,null,null,null,null,null,null,null,null,null,null,null,null,null,null,null,null,null,null,null,null,null,null,454,"NICNAFED SRL","TERCEROS","Consignado","BUENOS AIRES","CALLE 847 Y CALLE 899",1881,"S.F.SOLANO","QUILMES","BUENOS AIRES","30714583510","Carrera, Sebastián","Emanuel, Adrian Fabio","Barruti, Francisco",""]
[null,"CAPITAL FEDERAL (CP: 1181)","1181","CAPITAL FEDERAL","CAPITAL FEDERAL","METROPOLITANA",18,"OMAR PRESAS",null,null,null,null,null,null,null,null,null,null,null,null,null,null,null,null,null,null,null,null,null,null,null,null,null,null,null,null,null,null,null,null,null,null,null,null,null,457,"HERSU SA","TERCEROS","Consignado","BUENOS AIRES","RUTA NACIONAL 210 KM 32.500 ()",1856,"GLEW","ALMTE BROWN","BUENOS AIRES","33517376499","Carrera, Sebastián","Emanuel, Adrian Fabio","Barruti, Francisco",""]
[null,"CAPITAL FEDERAL (CP: 1182)","1182","CAPITAL FEDERAL","CAPITAL FEDERAL","METROPOLITANA",18,"OMAR PRESAS",null,null,null,null,null,null,null,null,null,null,null,null,null,null,null,null,null,null,null,null,null,null,null,null,null,null,null,null,null,null,null,null,null,null,null,null,null,458,"LA POSTA SRL","TERCEROS","Consignado","BUENOS AIRES","AVENIDA SAN MARTIN 3401 Y 9 DE JULIO",1847,"RAFAEL CALZADA","ALMTE BROWN","BUENOS AIRES","30515866163","Carrera, Sebastián","Emanuel, Adrian Fabio","Barruti, Francisco",""]
[null,"CAPITAL FEDERAL (CP: 1183)","1183","CAPITAL FEDERAL","CAPITAL FEDERAL","METROPOLITANA",18,"OMAR PRESAS",null,null,null,null,null,null,null,null,null,null,null,null,null,null,null,null,null,null,null,null,null,null,null,null,null,null,null,null,null,null,null,null,null,null,null,null,null,462,"DA COSTA E HIJOS SA","TERCEROS","Consignado","BUENOS AIRES","RUTA NACIONAL 36 KM 29 (Descendente)",1889,"BOSQUES","FLORENCIO VARELA","BUENOS AIRES","30658022349","Cabral, Carlos","Emanuel, Adrian Fabio","Barruti, Francisco",""]
[null,"CAPITAL FEDERAL (CP: 1184)","1184","CAPITAL FEDERAL","CAPITAL FEDERAL","METROPOLITANA",18,"OMAR PRESAS",null,null,null,null,null,null,null,null,null,null,null,null,null,null,null,null,null,null,null,null,null,null,null,null,null,null,null,null,null,null,null,null,null,null,null,null,null,463,"PAOLUCCI HERMANOS SRL","TERCEROS","Consignado","BUENOS AIRES","AVENIDA MITRE Y CALLE 49A",1885,"PLATANOS","BERAZATEGUI","BUENOS AIRES","30710930399","Cabral, Carlos","Emanuel, Adrian Fabio","Barruti, Francisco",""]
[null,"CAPITAL FEDERAL (CP: 1185)","1185","CAPITAL FEDERAL","CAPITAL FEDERAL","METROPOLITANA",18,"OMAR PRESAS",null,null,null,null,null,null,null,null,null,null,null,null,null,null,null,null,null,null,null,null,null,null,null,null,null,null,null,null,null,null,null,null,null,null,null,null,null,464,"CLERICI SRL","TERCEROS","Consignado","BUENOS AIRES","AVENIDA EVA PERON Y CONCEJAL BROWN",1888,"FCIO.VARELA","FLORENCIO VARELA","BUENOS AIRES","30558822607","Cabral, Carlos","Emanuel, Adrian Fabio","Barruti, Francisco",""]
[null,"CAPITAL FEDERAL (CP: 1186)","1186","CAPITAL FEDERAL","CAPITAL FEDERAL","METROPOLITANA",18,"OMAR PRESAS",null,null,null,null,null,null,null,null,null,null,null,null,null,null,null,null,null,null,null,null,null,null,null,null,null,null,null,null,null,null,null,null,null,null,null,null,null,465,"PETROLITO S.A","TERCEROS","Consignado","BUENOS AIRES","CALLE 21 Y CALLE 114",1884,"BERAZATEGUI","BERAZATEGUI","BUENOS AIRES","30708850396","Cabral, Carlos","Emanuel, Adrian Fabio","Barruti, Francisco",""]
[null,"CAPITAL FEDERAL (CP: 1187)","1187","CAPITAL FEDERAL","CAPITAL FEDERAL","METROPOLITANA",18,"OMAR PRESAS",null,null,null,null,null,null,null,null,null,null,null,null,null,null,null,null,null,null,null,null,null,null,null,null,null,null,null,null,null,null,null,null,null,null,null,null,null,467,"PALO VERDE ADROGUE SRL","TERCEROS","Consignado","BUENOS AIRES","AVENIDA HIPOLITO YRIGOYEN 13600 Y TARIJA",1846,"ADROGUE","ALMTE BROWN","BUENOS AIRES","30638659723","Carrera, Sebastián","Emanuel, Adrian Fabio","Barruti, Francisco",""]
[null,"CAPITAL FEDERAL (CP: 1188)","1188","CAPITAL FEDERAL","CAPITAL FEDERAL","METROPOLITANA",18,"OMAR PRESAS",null,null,null,null,null,null,null,null,null,null,null,null,null,null,null,null,null,null,null,null,null,null,null,null,null,null,null,null,null,null,null,null,null,null,null,null,null,469,"RONDI HNOS","TERCEROS","Consignado","BUENOS AIRES","TTE GRAL JUAN DOMINGO PERON E ITUZAINGO",1888,"FCIO.VARELA","FLORENCIO VARELA","BUENOS AIRES","30516910840","Cabral, Carlos","Emanuel, Adrian Fabio","Barruti, Francisco",""]
[null,"CAPITAL FEDERAL (CP: 1189)","1189","CAPITAL FEDERAL","CAPITAL FEDERAL","METROPOLITANA",18,"OMAR PRESAS",null,null,null,null,null,null,null,null,null,null,null,null,null,null,null,null,null,null,null,null,null,null,null,null,null,null,null,null,null,null,null,null,null,null,null,null,null,472,"GAS BUR SA","TERCEROS","Consignado","BUENOS AIRES","AVENIDA TOMAS ESPORA Y HUMBERTO I",1852,"BURZACO","ALMTE BROWN","BUENOS AIRES","33693127799","Carrera, Sebastián","Emanuel, Adrian Fabio","Barruti, Francisco",""]
[null,"CAPITAL FEDERAL (CP: 1190)","1190","CAPITAL FEDERAL","CAPITAL FEDERAL","METROPOLITANA",18,"OMAR PRESAS",null,null,null,null,null,null,null,null,null,null,null,null,null,null,null,null,null,null,null,null,null,null,null,null,null,null,null,null,null,null,null,null,null,null,null,null,null,473,"TOBAGO SA","TERCEROS","Consignado","BUENOS AIRES","AVENIDA MONTEVERDE 1081 Y 881",1881,"S.F.SOLANO","QUILMES","BUENOS AIRES","30709047767","Carrera, Sebastián","Emanuel, Adrian Fabio","Barruti, Francisco",""]
[null,"CAPITAL FEDERAL (CP: 1191)","1191","CAPITAL FEDERAL","CAPITAL FEDERAL","METROPOLITANA",18,"OMAR PRESAS",null,null,null,null,null,null,null,null,null,null,null,null,null,null,null,null,null,null,null,null,null,null,null,null,null,null,null,null,null,null,null,null,null,null,null,null,null,484,"POMATO COES SRL","TERCEROS","Consignado","BUENOS AIRES","AVENIDA 44 3220 160 Y 161",1900,"LA PLATA","LA PLATA","BUENOS AIRES","33715242589","Cabral, Carlos","Emanuel, Adrian Fabio","Barruti, Francisco",""]
[null,"CAPITAL FEDERAL (CP: 1192)","1192","CAPITAL FEDERAL","CAPITAL FEDERAL","METROPOLITANA",18,"OMAR PRESAS",null,null,null,null,null,null,null,null,null,null,null,null,null,null,null,null,null,null,null,null,null,null,null,null,null,null,null,null,null,null,null,null,null,null,null,null,null,488,"LAS AVENIDAS SCPA","TERCEROS","Consignado","BUENOS AIRES","AVENIDA 51 ENTRE CALLE 51 Y CALLE 52",1900,"LA PLATA","LA PLATA","BUENOS AIRES","30517669918","Fasan, Ricardo","Emanuel, Adrian Fabio","Barruti, Francisco",""]
[null,"CAPITAL FEDERAL (CP: 1193)","1193","CAPITAL FEDERAL","CAPITAL FEDERAL","METROPOLITANA",18,"OMAR PRESAS",null,null,null,null,null,null,null,null,null,null,null,null,null,null,null,null,null,null,null,null,null,null,null,null,null,null,null,null,null,null,null,null,null,null,null,null,null,492,"SUC DE ORLANDO LUIS CRIGNOLA SA","TERCEROS","Consignado","BUENOS AIRES","CALLE 66 Y CALLE 173",1900,"LA PLATA","LA PLATA","BUENOS AIRES","30714738808","Cabral, Carlos","Emanuel, Adrian Fabio","Barruti, Francisco",""]
[null,"CAPITAL FEDERAL (CP: 1194)","1194","CAPITAL FEDERAL","CAPITAL FEDERAL","METROPOLITANA",18,"OMAR PRESAS",null,null,null,null,null,null,null,null,null,null,null,null,null,null,null,null,null,null,null,null,null,null,null,null,null,null,null,null,null,null,null,null,null,null,null,null,null,494,"MANCINELLI BRUNO ALEJANDRO","TERCEROS","Consignado","BUENOS AIRES","BOULEVARD 82 Y ESQUINA 29",1900,"LA PLATA","LA PLATA","BUENOS AIRES","20052373558","Fasan, Ricardo","Emanuel, Adrian Fabio","Barruti, Francisco",""]
[null,"CAPITAL FEDERAL (CP: 1195)","1195","CAPITAL FEDERAL","CAPITAL FEDERAL","METROPOLITANA",18,"OMAR PRESAS",null,null,null,null,null,null,null,null,null,null,null,null,null,null,null,null,null,null,null,null,null,null,null,null,null,null,null,null,null,null,null,null,null,null,null,null,null,500,"COMBUSTIBLES Y SERVICIOS SA","TERCEROS","Consignado","BUENOS AIRES","AVENIDA CENTENARIO (DESCENDENTE) Y GUEMES",1896,"CITY BELL","LA PLATA","BUENOS AIRES","30692079503","Cabral, Carlos","Emanuel, Adrian Fabio","Barruti, Francisco",""]
[null,"CAPITAL FEDERAL (CP: 1196)","1196","CAPITAL FEDERAL","CAPITAL FEDERAL","METROPOLITANA",18,"OMAR PRESAS",null,null,null,null,null,null,null,null,null,null,null,null,null,null,null,null,null,null,null,null,null,null,null,null,null,null,null,null,null,null,null,null,null,null,null,null,null,501,"BARBERO HERMANOS SA","TERCEROS","Consignado","BUENOS AIRES","AVENIDA 7 Y CALLE 39",1900,"LA PLATA","LA PLATA","BUENOS AIRES","30665074354","Fasan, Ricardo","Emanuel, Adrian Fabio","Barruti, Francisco",""]
[null,"CAPITAL FEDERAL (CP: 1197)","1197","CAPITAL FEDERAL","CAPITAL FEDERAL","METROPOLITANA",18,"OMAR PRESAS",null,null,null,null,null,null,null,null,null,null,null,null,null,null,null,null,null,null,null,null,null,null,null,null,null,null,null,null,null,null,null,null,null,null,null,null,null,504,"OPESSA LA PLATA","OPESSA","Consignado","BUENOS AIRES","CALLE 7 Y CALLE 32",1900,"LA PLATA","LA PLATA","BUENOS AIRES","30678774495","Fasan, Ricardo","Emanuel, Adrian Fabio","Barruti, Francisco","Herlein, Carolina"]
[null,"CAPITAL FEDERAL (CP: 1198)","1198","CAPITAL FEDERAL","CAPITAL FEDERAL","METROPOLITANA",18,"OMAR PRESAS",null,null,null,null,null,null,null,null,null,null,null,null,null,null,null,null,null,null,null,null,null,null,null,null,null,null,null,null,null,null,null,null,null,null,null,null,null,506,"LA ROTONDA DE 32 SA","TERCEROS","Consignado","BUENOS AIRES","CALLE 32 Y CALLE 120",1900,"LA PLATA","LA PLATA","BUENOS AIRES","30710514115","Fasan, Ricardo","Emanuel, Adrian Fabio","Barruti, Francisco",""]
[null,{"$f":"CONCATENATE(D195,\" (CP: \",C195,\")\")","v":"CAPITAL FEDERAL (CP: 1199)"},"1199","CAPITAL FEDERAL","CAPITAL FEDERAL","METROPOLITANA",18,"OMAR PRESAS",null,null,null,null,null,null,null,null,null,null,null,null,null,null,null,null,null,null,null,null,null,null,null,null,null,null,null,null,null,null,null,null,null,null,null,null,null,508,"JORGE DAMIAN YEMMI","TERCEROS","Consignado","BUENOS AIRES","CAMINO GRAL. BELGRANO KM. 6 ENTRE CALLE 505 Y CALLE 506",1897,"GONNET, MANUEL B.","LA PLATA","BUENOS AIRES","20227182025","Cabral, Carlos","Emanuel, Adrian Fabio","Barruti, Francisco",""]
[null,"CAPITAL FEDERAL (CP: 1200)","1200","CAPITAL FEDERAL","CAPITAL FEDERAL","METROPOLITANA",18,"OMAR PRESAS",null,null,null,null,null,null,null,null,null,null,null,null,null,null,null,null,null,null,null,null,null,null,null,null,null,null,null,null,null,null,null,null,null,null,null,null,null,510,"ACA LA PLATA","ACA","ACA","BUENOS AIRES","CALLE 51 Y CALLE 9",1900,"LA PLATA","LA PLATA","BUENOS AIRES","30500143297","Fasan, Ricardo","Emanuel, Adrian Fabio","Barruti, Francisco",""]
[null,"CAPITAL FEDERAL (CP: 1201)","1201","CAPITAL FEDERAL","CAPITAL FEDERAL","METROPOLITANA",18,"OMAR PRESAS",null,null,null,null,null,null,null,null,null,null,null,null,null,null,null,null,null,null,null,null,null,null,null,null,null,null,null,null,null,null,null,null,null,null,null,null,null,511,"ACA LA PLATA","ACA","ACA","BUENOS AIRES","DIAGONAL 79 ENTRE CALLE 4 Y CALLE 5",1900,"LA PLATA","LA PLATA","BUENOS AIRES","30500143297","Fasan, Ricardo","Emanuel, Adrian Fabio","Barruti, Francisco",""]
[null,"CAPITAL FEDERAL (CP: 1202)","1202","CAPITAL FEDERAL","CAPITAL FEDERAL","METROPOLITANA",18,"OMAR PRESAS",null,null,null,null,null,null,null,null,null,null,null,null,null,null,null,null,null,null,null,null,null,null,null,null,null,null,null,null,null,null,null,null,null,null,null,null,null,516,"ARMENTI FABIO","TERCEROS","Consignado","BUENOS AIRES","DIAGONAL 73 Y CALLE 9",1900,"LA PLATA","LA PLATA","BUENOS AIRES","23180458549","Fasan, Ricardo","Emanuel, Adrian Fabio","Barruti, Francisco",""]
[null,"CAPITAL FEDERAL (CP: 1203)","1203","CAPITAL FEDERAL","CAPITAL FEDERAL","METROPOLITANA",18,"OMAR PRESAS",null,null,null,null,null,null,null,null,null,null,null,null,null,null,null,null,null,null,null,null,null,null,null,null,null,null,null,null,null,null,null,null,null,null,null,null,null,517,"FUEL SERVICE SRL","TERCEROS","Consignado","BUENOS AIRES","AVENIDA 122 Y CALLE 70",1900,"LA PLATA","LA PLATA","BUENOS AIRES","30677144234","Fasan, Ricardo","Emanuel, Adrian Fabio","Barruti, Francisco",""]
[null,"CAPITAL FEDERAL (CP: 1204)","1204","CAPITAL FEDERAL","CAPITAL FEDERAL","METROPOLITANA",18,"OMAR PRESAS",null,null,null,null,null,null,null,null,null,null,null,null,null,null,null,null,null,null,null,null,null,null,null,null,null,null,null,null,null,null,null,null,null,null,null,null,null,522,"FULL SERVICE SRL","TERCEROS","Consignado","BUENOS AIRES","AVENIDA HORACIO CESTINO Y QUINTANA",1925,"ENSENADA","ENSENADA","BUENOS AIRES","30709240060","Fasan, Ricardo","Emanuel, Adrian Fabio","Barruti, Francisco",""]
[null,"CAPITAL FEDERAL (CP: 1205)","1205","CAPITAL FEDERAL","CAPITAL FEDERAL","METROPOLITANA",18,"OMAR PRESAS",null,null,null,null,null,null,null,null,null,null,null,null,null,null,null,null,null,null,null,null,null,null,null,null,null,null,null,null,null,null,null,null,null,null,null,null,null,523,"OPESSA BERISSO PUENTE ROMA","OPESSA","Consignado","BUENOS AIRES","CALLE 2 Y CALLE 158",1923,"BERISSO","BERISSO","BUENOS AIRES","30678774495","Fasan, Ricardo","Emanuel, Adrian Fabio","Barruti, Francisco","Herlein, Carolina"]
[null,"CAPITAL FEDERAL (CP: 1206)","1206","CAPITAL FEDERAL","CAPITAL FEDERAL","METROPOLITANA",18,"OMAR PRESAS",null,null,null,null,null,null,null,null,null,null,null,null,null,null,null,null,null,null,null,null,null,null,null,null,null,null,null,null,null,null,null,null,null,null,null,null,null,525,"OPESSA BERISSO","OPESSA","Consignado","BUENOS AIRES","CALLE 122 Y CALLE 60",1923,"BERISSO","BERISSO","BUENOS AIRES","30678774495","Fasan, Ricardo","Emanuel, Adrian Fabio","Barruti, Francisco","Herlein, Carolina"]
[null,"CAPITAL FEDERAL (CP: 1207)","1207","CAPITAL FEDERAL","CAPITAL FEDERAL","METROPOLITANA",18,"OMAR PRESAS",null,null,null,null,null,null,null,null,null,null,null,null,null,null,null,null,null,null,null,null,null,null,null,null,null,null,null,null,null,null,null,null,null,null,null,null,null,529,"PEDRO MARRAFFINI E HIJOS SRL","TERCEROS","Consignado","BUENOS AIRES","AVENIDA BOSINGA Y CALLE 34",1925,"ENSENADA","ENSENADA","BUENOS AIRES","30712338578","Fasan, Ricardo","Emanuel, Adrian Fabio","Barruti, Francisco",""]
[null,"CAPITAL FEDERAL (CP: 1208)","1208","CAPITAL FEDERAL","CAPITAL FEDERAL","METROPOLITANA",18,"OMAR PRESAS",null,null,null,null,null,null,null,null,null,null,null,null,null,null,null,null,null,null,null,null,null,null,null,null,null,null,null,null,null,null,null,null,null,null,null,null,null,533,"SAN MIGUEL SA","TERCEROS","Consignado","BUENOS AIRES","AVENIDA 1 Y CALLE 63",1900,"LA PLATA","LA PLATA","BUENOS AIRES","30620683031","Fasan, Ricardo","Emanuel, Adrian Fabio","Barruti, Francisco",""]
[null,"CAPITAL FEDERAL (CP: 1209)","1209","CAPITAL FEDERAL","CAPITAL FEDERAL","METROPOLITANA",18,"OMAR PRESAS",null,null,null,null,null,null,null,null,null,null,null,null,null,null,null,null,null,null,null,null,null,null,null,null,null,null,null,null,null,null,null,null,null,null,null,null,null,535,"ESTACION DE SERVICIO RUTA 11 SRL","TERCEROS","Consignado","BUENOS AIRES","AVENIDA 122 Y CALLE 92",1900,"LA PLATA","LA PLATA","BUENOS AIRES","30711323372","Fasan, Ricardo","Emanuel, Adrian Fabio","Barruti, Francisco",""]
[null,"CAPITAL FEDERAL (CP: 1210)","1210","CAPITAL FEDERAL","CAPITAL FEDERAL","METROPOLITANA",18,"OMAR PRESAS",null,null,null,null,null,null,null,null,null,null,null,null,null,null,null,null,null,null,null,null,null,null,null,null,null,null,null,null,null,null,null,null,null,null,null,null,null,537,"ACA CHASCOMUS","ACA","ACA","BUENOS AIRES","RUTA NACIONAL 2 KM 122 (Ascendente) Y LASTRA",7130,"CHASCOMUS","CHASCOMUS","BUENOS AIRES","30500143297","Rodriguez, Fernando","Emanuel, Adrian Fabio","Barruti, Francisco",""]
[null,"CAPITAL FEDERAL (CP: 1211)","1211","CAPITAL FEDERAL","CAPITAL FEDERAL","METROPOLITANA",18,"OMAR PRESAS",null,null,null,null,null,null,null,null,null,null,null,null,null,null,null,null,null,null,null,null,null,null,null,null,null,null,null,null,null,null,null,null,null,null,null,null,null,538,"ACA GORCHS","ACA","ACA","BUENOS AIRES","RUTA NACIONAL 3 KM 143 (Ascendente)",7226,"GORCHS","GRAL BELGRANO","BUENOS AIRES","30500143297","Rodriguez, Fernando","Emanuel, Adrian Fabio","Barruti, Francisco",""]
[null,"CAPITAL FEDERAL (CP: 1212)","1212","CAPITAL FEDERAL","CAPITAL FEDERAL","METROPOLITANA",18,"OMAR PRESAS",null,null,null,null,null,null,null,null,null,null,null,null,null,null,null,null,null,null,null,null,null,null,null,null,null,null,null,null,null,null,null,null,null,null,null,null,null,539,"ACA SAMBOROMBON","ACA","ACA","BUENOS AIRES","RUTA NACIONAL 2 KM 92 (Ascendente)",1981,"SAMBOROMBON","BRANDSEN","BUENOS AIRES","30500143297","Rodriguez, Fernando","Emanuel, Adrian Fabio","Barruti, Francisco",""]
[null,"CAPITAL FEDERAL (CP: 1213)","1213","CAPITAL FEDERAL","CAPITAL FEDERAL","METROPOLITANA",18,"OMAR PRESAS",null,null,null,null,null,null,null,null,null,null,null,null,null,null,null,null,null,null,null,null,null,null,null,null,null,null,null,null,null,null,null,null,null,null,null,null,null,540,"BARBERO HERMANOS SA","TERCEROS","Consignado","BUENOS AIRES","RUTA PROVINCIAL 29 KM (Ascendente)",7223,"GRAL.BELGRANO","GRAL BELGRANO","BUENOS AIRES","30665074354","Rodriguez, Fernando","Emanuel, Adrian Fabio","Barruti, Francisco",""]
[null,"CAPITAL FEDERAL (CP: 1214)","1214","CAPITAL FEDERAL","CAPITAL FEDERAL","METROPOLITANA",18,"OMAR PRESAS",null,null,null,null,null,null,null,null,null,null,null,null,null,null,null,null,null,null,null,null,null,null,null,null,null,null,null,null,null,null,null,null,null,null,null,null,null,541,"BARBERO HERMANOS SA","TERCEROS","Consignado","BUENOS AIRES","RIVADAVIA 1 Y GÜEMES",7223,"GRAL.BELGRANO","GRAL BELGRANO","BUENOS AIRES","30665074354","Rodriguez, Fernando","Emanuel, Adrian Fabio","Barruti, Francisco",""]
[null,"CAPITAL FEDERAL (CP: 1215)","1215","CAPITAL FEDERAL","CAPITAL FEDERAL","METROPOLITANA",18,"OMAR PRESAS",null,null,null,null,null,null,null,null,null,null,null,null,null,null,null,null,null,null,null,null,null,null,null,null,null,null,null,null,null,null,null,null,null,null,null,null,null,543,"CASA ELICEIRY SA","TERCEROS","Consignado","PAMPEANA","RUTA NACIONAL 2 KM 182.500 (Ascendente)",7114,"CASTELLI","CASTELLI","BUENOS AIRES","30708613335","Del Dago, Gabriel","Gerino, Ignacio","Barrera Casal, Facundo",""]
[null,"CAPITAL FEDERAL (CP: 1216)","1216","CAPITAL FEDERAL","CAPITAL FEDERAL","METROPOLITANA",18,"OMAR PRESAS",null,null,null,null,null,null,null,null,null,null,null,null,null,null,null,null,null,null,null,null,null,null,null,null,null,null,null,null,null,null,null,null,null,null,null,null,null,546,"BARBERO HERMANOS SA","TERCEROS","Consignado","BUENOS AIRES","AVENIDA ESTANISLAO GARAY Y BETBEZE",1987,"RANCHOS","GRAL PAZ","BUENOS AIRES","30665074354","Rodriguez, Fernando","Emanuel, Adrian Fabio","Barruti, Francisco",""]
[null,"CAPITAL FEDERAL (CP: 1217)","1217","CAPITAL FEDERAL","CAPITAL FEDERAL","METROPOLITANA",18,"OMAR PRESAS",null,null,null,null,null,null,null,null,null,null,null,null,null,null,null,null,null,null,null,null,null,null,null,null,null,null,null,null,null,null,null,null,null,null,null,null,null,547,"ESTACION DE SERVICIO EL ALBA SA","TERCEROS","Consignado","BUENOS AIRES","RUTA NACIONAL 2 KM 60 (Ascendente)",1901,"A.ETCHEVERRY","LA PLATA","BUENOS AIRES","33714995869","Cabral, Carlos","Emanuel, Adrian Fabio","Barruti, Francisco",""]
[null,"CAPITAL FEDERAL (CP: 1218)","1218","CAPITAL FEDERAL","CAPITAL FEDERAL","METROPOLITANA",18,"OMAR PRESAS",null,null,null,null,null,null,null,null,null,null,null,null,null,null,null,null,null,null,null,null,null,null,null,null,null,null,null,null,null,null,null,null,null,null,null,null,null,548,"COMBUSTIBLES MAGDALENA SRL","TERCEROS","Consignado","BUENOS AIRES","PEDRO GOENAGA Y ITUZAINGO",1913,"MAGDALENA","MAGDALENA","BUENOS AIRES","30712247467","Fasan, Ricardo","Emanuel, Adrian Fabio","Barruti, Francisco",""]
[null,"CAPITAL FEDERAL (CP: 1219)","1219","CAPITAL FEDERAL","CAPITAL FEDERAL","METROPOLITANA",18,"OMAR PRESAS",null,null,null,null,null,null,null,null,null,null,null,null,null,null,null,null,null,null,null,null,null,null,null,null,null,null,null,null,null,null,null,null,null,null,null,null,null,549,"COMPLEJO TALA DEL MONTE SA","TERCEROS","Consignado","BUENOS AIRES","RUTA NACIONAL 3 KM 112.330 (Ascendente)",7220,"SAN MIGUEL DEL MONTE","MONTE","BUENOS AIRES","30711170096","Rodriguez, Fernando","Emanuel, Adrian Fabio","Barruti, Francisco",""]
[null,"CAPITAL FEDERAL (CP: 1220)","1220","CAPITAL FEDERAL","CAPITAL FEDERAL","METROPOLITANA",18,"OMAR PRESAS",null,null,null,null,null,null,null,null,null,null,null,null,null,null,null,null,null,null,null,null,null,null,null,null,null,null,null,null,null,null,null,null,null,null,null,null,null,550,"BARBERO HERMANOS SA","TERCEROS","Consignado","BUENOS AIRES","RUTA PROVINCIAL 41 KM (Ascendente) Y RUTA PROVINCIAL 215",7220,"SAN MIGUEL DEL MONTE","MONTE","BUENOS AIRES","30665074354","Rodriguez, Fernando","Emanuel, Adrian Fabio","Barruti, Francisco",""]
[null,"CAPITAL FEDERAL (CP: 1221)","1221","CAPITAL FEDERAL","CAPITAL FEDERAL","METROPOLITANA",18,"OMAR PRESAS",null,null,null,null,null,null,null,null,null,null,null,null,null,null,null,null,null,null,null,null,null,null,null,null,null,null,null,null,null,null,null,null,null,null,null,null,null,551,"BARBERO HNOS.SA","TERCEROS","Consignado","BUENOS AIRES","6 Y CALLE 9",7116,"PILA","PILA","BUENOS AIRES","30665074354","Rodriguez, Fernando","Emanuel, Adrian Fabio","Barruti, Francisco",""]
[null,"CAPITAL FEDERAL (CP: 1222)","1222","CAPITAL FEDERAL","CAPITAL FEDERAL","METROPOLITANA",18,"OMAR PRESAS",null,null,null,null,null,null,null,null,null,null,null,null,null,null,null,null,null,null,null,null,null,null,null,null,null,null,null,null,null,null,null,null,null,null,null,null,null,558,"POURTAU COMBUSTIBLES SA","TERCEROS","Consignado","BUENOS AIRES","AVENIDA ITUZAINGO 1280",1980,"BRANDSEN","BRANDSEN","BUENOS AIRES","30583460930","Rodriguez, Fernando","Emanuel, Adrian Fabio","Barruti, Francisco",""]
[null,"CAPITAL FEDERAL (CP: 1223)","1223","CAPITAL FEDERAL","CAPITAL FEDERAL","METROPOLITANA",18,"OMAR PRESAS",null,null,null,null,null,null,null,null,null,null,null,null,null,null,null,null,null,null,null,null,null,null,null,null,null,null,null,null,null,null,null,null,null,null,null,null,null,560,"AGROMARE SRL","TERCEROS","Consignado","BUENOS AIRES","RUTA PROVINCIAL 36 KM 121 (Ascendente)",1915,"VIEYTES","MAGDALENA","BUENOS AIRES","30701648087","Fasan, Ricardo","Emanuel, Adrian Fabio","Barruti, Francisco",""]
[null,"CAPITAL FEDERAL (CP: 1224)","1224","CAPITAL FEDERAL","CAPITAL FEDERAL","METROPOLITANA",18,"OMAR PRESAS",null,null,null,null,null,null,null,null,null,null,null,null,null,null,null,null,null,null,null,null,null,null,null,null,null,null,null,null,null,null,null,null,null,null,null,null,null,563,"RISCAM SRL","TERCEROS","Consignado","BUENOS AIRES","25 DE MAYO Y RIVADAVIA",1865,"SAN VICENTE","SAN VICENTE","BUENOS AIRES","34523391102","Carrera, Sebastián","Emanuel, Adrian Fabio","Barruti, Francisco",""]
[null,"CAPITAL FEDERAL (CP: 1225)","1225","CAPITAL FEDERAL","CAPITAL FEDERAL","METROPOLITANA",18,"OMAR PRESAS",null,null,null,null,null,null,null,null,null,null,null,null,null,null,null,null,null,null,null,null,null,null,null,null,null,null,null,null,null,null,null,null,null,null,null,null,null,564,"RUTA 54 SRL","TERCEROS","Consignado","BUENOS AIRES","RUTA PROVINCIAL 54 KM (Ascendente) Y AVENIDA MITRE",1911,"G.MANCILLA","MAGDALENA","BUENOS AIRES","30615670231","Fasan, Ricardo","Emanuel, Adrian Fabio","Barruti, Francisco",""]
[null,"CAPITAL FEDERAL (CP: 1226)","1226","CAPITAL FEDERAL","CAPITAL FEDERAL","METROPOLITANA",18,"OMAR PRESAS",null,null,null,null,null,null,null,null,null,null,null,null,null,null,null,null,null,null,null,null,null,null,null,null,null,null,null,null,null,null,null,null,null,null,null,null,null,565,"RODRIGUEZ FLORENCIO DOMINGO","TERCEROS","Consignado","BUENOS AIRES","BLANDENGUES 205 ENTRE MOLINA Y SAYOS",7220,"SAN MIGUEL DEL MONTE","MONTE","BUENOS AIRES","20048670904","Rodriguez, Fernando","Emanuel, Adrian Fabio","Barruti, Francisco",""]
[null,"CAPITAL FEDERAL (CP: 1227)","1227","CAPITAL FEDERAL","CAPITAL FEDERAL","METROPOLITANA",18,"OMAR PRESAS",null,null,null,null,null,null,null,null,null,null,null,null,null,null,null,null,null,null,null,null,null,null,null,null,null,null,null,null,null,null,null,null,null,null,null,null,null,567,"BARBERO HERMANOS SA","TERCEROS","Consignado","BUENOS AIRES","BELGRANO 450 Y ESCRIBANO",7130,"CHASCOMUS","CHASCOMUS","BUENOS AIRES","30665074354","Rodriguez, Fernando","Emanuel, Adrian Fabio","Barruti, Francisco",""]
[null,"CAPITAL FEDERAL (CP: 1228)","1228","CAPITAL FEDERAL","CAPITAL FEDERAL","METROPOLITANA",18,"OMAR PRESAS",null,null,null,null,null,null,null,null,null,null,null,null,null,null,null,null,null,null,null,null,null,null,null,null,null,null,null,null,null,null,null,null,null,null,null,null,null,568,"TRISTAN COMBUSTIBLES SRL","TERCEROS","Consignado","PAMPEANA","RUTA NACIONAL 2 KM 157 (Ascendente)",7116,"LEZAMA","CHASCOMUS","BUENOS AIRES","30709618179","Del Dago, Gabriel","Gerino, Ignacio","Barrera Casal, Facundo",""]
[null,"CAPITAL FEDERAL (CP: 1229)","1229","CAPITAL FEDERAL","CAPITAL FEDERAL","METROPOLITANA",18,"OMAR PRESAS",null,null,null,null,null,null,null,null,null,null,null,null,null,null,null,null,null,null,null,null,null,null,null,null,null,null,null,null,null,null,null,null,null,null,null,null,null,570,"USHUAIA SERVICIOS","TERCEROS","Consignado","PATAGONIA","PTO MORENO Y EVA PERON",9410,"USHUAIA","USHUAIA","TIERRA DEL FUEGO","30675747608","Potes, Claudio Fernando","Peletay, Walter","Barreiro, Silvina",""]
[null,"CAPITAL FEDERAL (CP: 1230)","1230","CAPITAL FEDERAL","CAPITAL FEDERAL","METROPOLITANA",18,"OMAR PRESAS",null,null,null,null,null,null,null,null,null,null,null,null,null,null,null,null,null,null,null,null,null,null,null,null,null,null,null,null,null,null,null,null,null,null,null,null,null,571,"ACA 25 DE MAYO","ACA","ACA","PAMPEANA","CALLE 27 Y CALLE 4",6660,"25 DE MAYO","25 DE MAYO","BUENOS AIRES","30500143297","Astaburuaga, Jose Martin ","Gerino, Ignacio","Barrera Casal, Facundo",""]
[null,"CAPITAL FEDERAL (CP: 1231)","1231","CAPITAL FEDERAL","CAPITAL FEDERAL","METROPOLITANA",18,"OMAR PRESAS",null,null,null,null,null,null,null,null,null,null,null,null,null,null,null,null,null,null,null,null,null,null,null,null,null,null,null,null,null,null,null,null,null,null,null,null,null,574,"ALONSO HNOS","TERCEROS","Consignado","BUENOS AIRES","RUTA NACIONAL 205 KM 57.500 (Ascendente)",1814,"CA#UELAS","CA#UELAS","BUENOS AIRES","30586438286","Rodriguez, Fernando","Emanuel, Adrian Fabio","Barruti, Francisco",""]
[null,"CAPITAL FEDERAL (CP: 1232)","1232","CAPITAL FEDERAL","CAPITAL FEDERAL","METROPOLITANA",18,"OMAR PRESAS",null,null,null,null,null,null,null,null,null,null,null,null,null,null,null,null,null,null,null,null,null,null,null,null,null,null,null,null,null,null,null,null,null,null,null,null,null,576,"AGENTES ROMERO SA","TERCEROS","Consignado","PAMPEANA","RUTA PROVINCIAL 51 KM (Ascendente) Y RUTA PROVINCIAL 73",7260,"SALADILLO","SALADILLO","BUENOS AIRES","30520152691","Astaburuaga, Jose Martin ","Gerino, Ignacio","Barrera Casal, Facundo",""]
[null,"CAPITAL FEDERAL (CP: 1233)","1233","CAPITAL FEDERAL","CAPITAL FEDERAL","METROPOLITANA",18,"OMAR PRESAS",null,null,null,null,null,null,null,null,null,null,null,null,null,null,null,null,null,null,null,null,null,null,null,null,null,null,null,null,null,null,null,null,null,null,null,null,null,577,"AGENTES ROMERO SA","TERCEROS","Consignado","PAMPEANA","BOULEVARD SARGENTO JUAN B CABRAL 605",6663,"NORBERTO DE LA RIESTRA","25 DE MAYO","BUENOS AIRES","30520152691","Astaburuaga, Jose Martin ","Gerino, Ignacio","Barrera Casal, Facundo",""]
[null,"CAPITAL FEDERAL (CP: 1234)","1234","CAPITAL FEDERAL","CAPITAL FEDERAL","METROPOLITANA",18,"OMAR PRESAS",null,null,null,null,null,null,null,null,null,null,null,null,null,null,null,null,null,null,null,null,null,null,null,null,null,null,null,null,null,null,null,null,null,null,null,null,null,578,"AGENTES ROMERO SA","TERCEROS","Consignado","PAMPEANA","AVENIDA MAXIMO CABRAL Y SARMIENTO",7260,"SALADILLO","SALADILLO","BUENOS AIRES","30520152691","Astaburuaga, Jose Martin ","Gerino, Ignacio","Barrera Casal, Facundo",""]
[null,"CAPITAL FEDERAL (CP: 1235)","1235","CAPITAL FEDERAL","CAPITAL FEDERAL","METROPOLITANA",18,"OMAR PRESAS",null,null,null,null,null,null,null,null,null,null,null,null,null,null,null,null,null,null,null,null,null,null,null,null,null,null,null,null,null,null,null,null,null,null,null,null,null,585,"NIETOS SA","TERCEROS","Consignado","BUENOS AIRES","PRESIDENTE PERON Y AVENIDA DE CIRCUNVALACION",7240,"LOBOS","LOBOS","BUENOS AIRES","30709448338","Rodriguez, Fernando","Emanuel, Adrian Fabio","Barruti, Francisco",""]
[null,"CAPITAL FEDERAL (CP: 1236)","1236","CAPITAL FEDERAL","CAPITAL FEDERAL","METROPOLITANA",18,"OMAR PRESAS",null,null,null,null,null,null,null,null,null,null,null,null,null,null,null,null,null,null,null,null,null,null,null,null,null,null,null,null,null,null,null,null,null,null,null,null,null,590,"OPESSA CA#UELAS","OPESSA","Consignado","BUENOS AIRES","RUTA NACIONAL 205 KM 65.500 (Ascendente)",1814,"CA#UELAS","CA#UELAS","BUENOS AIRES","30678774495","Rodriguez, Fernando","Emanuel, Adrian Fabio","Barruti, Francisco","Gualeni, Andrea"]
[null,"CAPITAL FEDERAL (CP: 1237)","1237","CAPITAL FEDERAL","CAPITAL FEDERAL","METROPOLITANA",18,"OMAR PRESAS",null,null,null,null,null,null,null,null,null,null,null,null,null,null,null,null,null,null,null,null,null,null,null,null,null,null,null,null,null,null,null,null,null,null,null,null,null,591,"KM 72 SRL","TERCEROS","Consignado","BUENOS AIRES","RUTA NACIONAL 3 KM 72 (Descendente)",1814,"CA#UELAS","CA#UELAS","BUENOS AIRES","33715685529","Rodriguez, Fernando","Emanuel, Adrian Fabio","Barruti, Francisco",""]
[null,"CAPITAL FEDERAL (CP: 1238)","1238","CAPITAL FEDERAL","CAPITAL FEDERAL","METROPOLITANA",18,"OMAR PRESAS",null,null,null,null,null,null,null,null,null,null,null,null,null,null,null,null,null,null,null,null,null,null,null,null,null,null,null,null,null,null,null,null,null,null,null,null,null,592,"ALONSO HNOS","TERCEROS","Consignado","BUENOS AIRES","DEL CARMEN Y SAN VICENTE",1814,"CA#UELAS","CA#UELAS","BUENOS AIRES","30586438286","Rodriguez, Fernando","Emanuel, Adrian Fabio","Barruti, Francisco",""]
[null,"CAPITAL FEDERAL (CP: 1239)","1239","CAPITAL FEDERAL","CAPITAL FEDERAL","METROPOLITANA",18,"OMAR PRESAS",null,null,null,null,null,null,null,null,null,null,null,null,null,null,null,null,null,null,null,null,null,null,null,null,null,null,null,null,null,null,null,null,null,null,null,null,null,594,"ROMERO MARTIN IGNACIO","TERCEROS","Consignado","PAMPEANA","CALLE 9 Y CALLE 33",6660,"25 DE MAYO","25 DE MAYO","BUENOS AIRES","20200091109","Astaburuaga, Jose Martin ","Gerino, Ignacio","Barrera Casal, Facundo",""]
[null,"CAPITAL FEDERAL (CP: 1240)","1240","CAPITAL FEDERAL","CAPITAL FEDERAL","METROPOLITANA",31,"PABLO CIMINARI",null,null,null,null,null,null,null,null,null,null,null,null,null,null,null,null,null,null,null,null,null,null,null,null,null,null,null,null,null,null,null,null,null,null,null,null,null,596,"CUTRALCO SALADILLO S.A.","TERCEROS","Consignado","PAMPEANA","AVENIDA RIVADAVIA Y SOJO",7260,"SALADILLO","SALADILLO","BUENOS AIRES","30712101780","Astaburuaga, Jose Martin ","Gerino, Ignacio","Barrera Casal, Facundo",""]
[null,"CAPITAL FEDERAL (CP: 1241)","1241","CAPITAL FEDERAL","CAPITAL FEDERAL","METROPOLITANA",31,"PABLO CIMINARI",null,null,null,null,null,null,null,null,null,null,null,null,null,null,null,null,null,null,null,null,null,null,null,null,null,null,null,null,null,null,null,null,null,null,null,null,null,604,"ACA RIO TALA","ACA","ACA","BUENOS AIRES","RUTA NACIONAL 9 KM (Ascendente)",2944,"RIO TALA","SAN PEDRO","BUENOS AIRES","30500143297","Olivetti, Diego","Brena, Marcelo","Barruti, Francisco",""]
[null,"CAPITAL FEDERAL (CP: 1242)","1242","CAPITAL FEDERAL","CAPITAL FEDERAL","METROPOLITANA",31,"PABLO CIMINARI",null,null,null,null,null,null,null,null,null,null,null,null,null,null,null,null,null,null,null,null,null,null,null,null,null,null,null,null,null,null,null,null,null,null,null,null,null,605,"ACA SAN NICOLAS","ACA","ACA","BUENOS AIRES","RUTA PROVINCIAL 21 KM (Ascendente)",2900,"SAN NICOLAS","SAN NICOLAS","BUENOS AIRES","30500143297","Olivetti, Diego","Brena, Marcelo","Barruti, Francisco",""]
[null,"CAPITAL FEDERAL (CP: 1243)","1243","CAPITAL FEDERAL","CAPITAL FEDERAL","METROPOLITANA",31,"PABLO CIMINARI",null,null,null,null,null,null,null,null,null,null,null,null,null,null,null,null,null,null,null,null,null,null,null,null,null,null,null,null,null,null,null,null,null,null,null,null,null,606,"KEH-COM SA","TERCEROS","Consignado","BUENOS AIRES","AVENIDA PRES GRAL J A ROCA 116 Y AZCUENAGA",2700,"PERGAMINO","PERGAMINO","BUENOS AIRES","30708068469","Olivetti, Diego","Brena, Marcelo","Barruti, Francisco",""]
[null,"CAPITAL FEDERAL (CP: 1245)","1245","CAPITAL FEDERAL","CAPITAL FEDERAL","METROPOLITANA",31,"PABLO CIMINARI",null,null,null,null,null,null,null,null,null,null,null,null,null,null,null,null,null,null,null,null,null,null,null,null,null,null,null,null,null,null,null,null,null,null,null,null,null,610,"COMBUSTIBLE EL RODEO","TERCEROS","Consignado","BUENOS AIRES","AVENIDA SAN MARTIN Y DR DI BACCO",2914,"VILLA ESTACION RAMALLO","RAMALLO","BUENOS AIRES","30693891112","Olivetti, Diego","Brena, Marcelo","Barruti, Francisco",""]
[null,"CAPITAL FEDERAL (CP: 1246)","1246","CAPITAL FEDERAL","CAPITAL FEDERAL","METROPOLITANA",31,"PABLO CIMINARI",null,null,null,null,null,null,null,null,null,null,null,null,null,null,null,null,null,null,null,null,null,null,null,null,null,null,null,null,null,null,null,null,null,null,null,null,null,612,"PILA SA","TERCEROS","Consignado","BUENOS AIRES","RUTA NACIONAL 8 KM 261 (Descendente)",2721,"EL ARBOLITO","COLON","BUENOS AIRES","30708827874","Mahon, Nicolas","Brena, Marcelo","Barruti, Francisco",""]
[null,"CAPITAL FEDERAL (CP: 1247)","1247","CAPITAL FEDERAL","CAPITAL FEDERAL","METROPOLITANA",31,"PABLO CIMINARI",null,null,null,null,null,null,null,null,null,null,null,null,null,null,null,null,null,null,null,null,null,null,null,null,null,null,null,null,null,null,null,null,null,null,null,null,null,613,"GNC DE LA COSTA SRL","TERCEROS","Consignado","BUENOS AIRES","AVENIDA A ALBERDI Y URQUIZA",2900,"SAN NICOLAS","SAN NICOLAS","BUENOS AIRES","30708948574","Olivetti, Diego","Brena, Marcelo","Barruti, Francisco",""]
[null,"CAPITAL FEDERAL (CP: 1248)","1248","CAPITAL FEDERAL","CAPITAL FEDERAL","METROPOLITANA",31,"PABLO CIMINARI",null,null,null,null,null,null,null,null,null,null,null,null,null,null,null,null,null,null,null,null,null,null,null,null,null,null,null,null,null,null,null,null,null,null,null,null,null,616,"OPESSA SAN NICOLAS","OPESSA","Consignado","BUENOS AIRES","AVENIDA GENERAL SAVIO 1289 Y POMBO",2900,"SAN NICOLAS","SAN NICOLAS","BUENOS AIRES","30678774495","Olivetti, Diego","Brena, Marcelo","Barruti, Francisco","Talani, Cristian"]
[null,"CAPITAL FEDERAL (CP: 1249)","1249","CAPITAL FEDERAL","CAPITAL FEDERAL","METROPOLITANA",31,"PABLO CIMINARI",null,null,null,null,null,null,null,null,null,null,null,null,null,null,null,null,null,null,null,null,null,null,null,null,null,null,null,null,null,null,null,null,null,null,null,null,null,618,"LUCIANI HNOS SH","TERCEROS","Consignado","BUENOS AIRES","LOS ANDES Y BELGRANO",2933,"PEREZ MILLAN","RAMALLO","BUENOS AIRES","33539982759","Olivetti, Diego","Brena, Marcelo","Barruti, Francisco",""]
[null,"CAPITAL FEDERAL (CP: 1250)","1250","CAPITAL FEDERAL","CAPITAL FEDERAL","METROPOLITANA",31,"PABLO CIMINARI",null,null,null,null,null,null,null,null,null,null,null,null,null,null,null,null,null,null,null,null,null,null,null,null,null,null,null,null,null,null,null,null,null,null,null,null,null,620,"CRIPER SACITAFI","TERCEROS","Consignado","BUENOS AIRES","RUTA NACIONAL 8 KM 223 (Descendente) RUTA NACIONAL 188",2700,"PERGAMINO","PERGAMINO","BUENOS AIRES","30581270077","Olivetti, Diego","Brena, Marcelo","Barruti, Francisco",""]
[null,"CAPITAL FEDERAL (CP: 1251)","1251","CAPITAL FEDERAL","CAPITAL FEDERAL","METROPOLITANA",31,"PABLO CIMINARI",null,null,null,null,null,null,null,null,null,null,null,null,null,null,null,null,null,null,null,null,null,null,null,null,null,null,null,null,null,null,null,null,null,null,null,null,null,625,"MACCHI ALBERTO LUIS","TERCEROS","Consignado","BUENOS AIRES","CALLE 48 Y CALLE 19",2720,"COLON","COLON","BUENOS AIRES","23046916689","Mahon, Nicolas","Brena, Marcelo","Barruti, Francisco",""]
[null,"CAPITAL FEDERAL (CP: 1252)","1252","CAPITAL FEDERAL","CAPITAL FEDERAL","METROPOLITANA",31,"PABLO CIMINARI",null,null,null,null,null,null,null,null,null,null,null,null,null,null,null,null,null,null,null,null,null,null,null,null,null,null,null,null,null,null,null,null,null,null,null,null,null,628,"PETACCIO ROBERTO L","TERCEROS","Consignado","BUENOS AIRES","RUTA NACIONAL 8 KM 206.500 (Ascendente)",2718,"URQUIZA","PERGAMINO","BUENOS AIRES","20046777140","Olivetti, Diego","Brena, Marcelo","Barruti, Francisco",""]
[null,"CAPITAL FEDERAL (CP: 1253)","1253","CAPITAL FEDERAL","CAPITAL FEDERAL","METROPOLITANA",31,"PABLO CIMINARI",null,null,null,null,null,null,null,null,null,null,null,null,null,null,null,null,null,null,null,null,null,null,null,null,null,null,null,null,null,null,null,null,null,null,null,null,null,629,"PETACCIO R Y H GERCOVICH SH","TERCEROS","Consignado","BUENOS AIRES","AVENIDA COLON Y HONDURAS",2700,"PERGAMINO","PERGAMINO","BUENOS AIRES","30520688818","Olivetti, Diego","Brena, Marcelo","Barruti, Francisco",""]
[null,"CAPITAL FEDERAL (CP: 1254)","1254","CAPITAL FEDERAL","CAPITAL FEDERAL","METROPOLITANA",31,"PABLO CIMINARI",null,null,null,null,null,null,null,null,null,null,null,null,null,null,null,null,null,null,null,null,null,null,null,null,null,null,null,null,null,null,null,null,null,null,null,null,null,630,"GASPIC S.A.","TERCEROS","Consignado","BUENOS AIRES","AVENIDA EVA PERON (CALLE 9) Y CALLE 47",2720,"COLON","COLON","BUENOS AIRES","30712552898","Mahon, Nicolas","Brena, Marcelo","Barruti, Francisco",""]
[null,"CAPITAL FEDERAL (CP: 1255)","1255","CAPITAL FEDERAL","CAPITAL FEDERAL","METROPOLITANA",31,"PABLO CIMINARI",null,null,null,null,null,null,null,null,null,null,null,null,null,null,null,null,null,null,null,null,null,null,null,null,null,null,null,null,null,null,null,null,null,null,null,null,null,631,"TRIAR SA","TERCEROS","Consignado","BUENOS AIRES","AVENIDA DR MARIANO MORENO ENTRE BARTOLOME MITRE Y DE LA NACION",2900,"SAN NICOLAS","SAN NICOLAS","BUENOS AIRES","30708760656","Olivetti, Diego","Brena, Marcelo","Barruti, Francisco",""]
[null,"CAPITAL FEDERAL (CP: 1256)","1256","CAPITAL FEDERAL","CAPITAL FEDERAL","METROPOLITANA",31,"PABLO CIMINARI",null,null,null,null,null,null,null,null,null,null,null,null,null,null,null,null,null,null,null,null,null,null,null,null,null,null,null,null,null,null,null,null,null,null,null,null,null,638,"ACA LUJAN","ACA","ACA","BUENOS AIRES","RUTA NACIONAL 7 KM 62.100 (Ascendente)",6700,"LUJAN","LUJAN","BUENOS AIRES","30500143297","Luppoli, Hugo Martin","Brena, Marcelo","Barruti, Francisco",""]
[null,"CAPITAL FEDERAL (CP: 1257)","1257","CAPITAL FEDERAL","CAPITAL FEDERAL","METROPOLITANA",31,"PABLO CIMINARI",null,null,null,null,null,null,null,null,null,null,null,null,null,null,null,null,null,null,null,null,null,null,null,null,null,null,null,null,null,null,null,null,null,null,null,null,null,640,"CARABONI, KRALJJEVICH Y DIDIO","TERCEROS","Consignado","BUENOS AIRES","CARLOS PELLEGRINI Y AZPEITIA",6700,"LUJAN","LUJAN","BUENOS AIRES","30523216658","Luppoli, Hugo Martin","Brena, Marcelo","Barruti, Francisco",""]
[null,"CAPITAL FEDERAL (CP: 1258)","1258","CAPITAL FEDERAL","CAPITAL FEDERAL","METROPOLITANA",18,"OMAR PRESAS",null,null,null,null,null,null,null,null,null,null,null,null,null,null,null,null,null,null,null,null,null,null,null,null,null,null,null,null,null,null,null,null,null,null,null,null,null,641,"P A Y S","TERCEROS","Consignado","BUENOS AIRES","BARTOLOME MITRE 1050 ENTRE SARMIENTO Y PAZ",6700,"LUJAN","LUJAN","BUENOS AIRES","30607297610","Luppoli, Hugo Martin","Brena, Marcelo","Barruti, Francisco",""]
[null,"CAPITAL FEDERAL (CP: 1259)","1259","CAPITAL FEDERAL","CAPITAL FEDERAL","METROPOLITANA",18,"OMAR PRESAS",null,null,null,null,null,null,null,null,null,null,null,null,null,null,null,null,null,null,null,null,null,null,null,null,null,null,null,null,null,null,null,null,null,null,null,null,null,646,"CAMERANO Y GLENON","TERCEROS","Consignado","BUENOS AIRES","BARTOLOME MITRE 129 ENTRE 9 DE JULIO Y FRANCIA",6700,"LUJAN","LUJAN","BUENOS AIRES","30544819948","Luppoli, Hugo Martin","Brena, Marcelo","Barruti, Francisco",""]
[null,"CAPITAL FEDERAL (CP: 1260)","1260","CAPITAL FEDERAL","CAPITAL FEDERAL","METROPOLITANA",18,"OMAR PRESAS",null,null,null,null,null,null,null,null,null,null,null,null,null,null,null,null,null,null,null,null,null,null,null,null,null,null,null,null,null,null,null,null,null,null,null,null,null,647,"CARABONI, KRALJJEVICH Y DIDIO","TERCEROS","Consignado","BUENOS AIRES","BARTOLOME MITRE Y GUEMES",6700,"LUJAN","LUJAN","BUENOS AIRES","30523216658","Luppoli, Hugo Martin","Brena, Marcelo","Barruti, Francisco",""]
[null,"CAPITAL FEDERAL (CP: 1261)","1261","CAPITAL FEDERAL","CAPITAL FEDERAL","METROPOLITANA",18,"OMAR PRESAS",null,null,null,null,null,null,null,null,null,null,null,null,null,null,null,null,null,null,null,null,null,null,null,null,null,null,null,null,null,null,null,null,null,null,null,null,null,651,"DALCON SA","TERCEROS","Consignado","BUENOS AIRES","AVENIDA ESPA#A Y BOULEVARD BERNARDO DE IRIGOYEN",1748,"GRAL. RODRIGUEZ","GRAL RODRIGUEZ","BUENOS AIRES","30606612903","Luppoli, Hugo Martin","Brena, Marcelo","Barruti, Francisco",""]
[null,"CAPITAL FEDERAL (CP: 1262)","1262","CAPITAL FEDERAL","CAPITAL FEDERAL","METROPOLITANA",18,"OMAR PRESAS",null,null,null,null,null,null,null,null,null,null,null,null,null,null,null,null,null,null,null,null,null,null,null,null,null,null,null,null,null,null,null,null,null,null,null,null,null,653,"DALCON SA","TERCEROS","Consignado","BUENOS AIRES","HIPOLITO YRIGOYEN Y PEDRO WHEELAN",1748,"GRAL. RODRIGUEZ","GRAL RODRIGUEZ","BUENOS AIRES","30606612903","Luppoli, Hugo Martin","Brena, Marcelo","Barruti, Francisco",""]
[null,"CAPITAL FEDERAL (CP: 1263)","1263","CAPITAL FEDERAL","CAPITAL FEDERAL","METROPOLITANA",18,"OMAR PRESAS",null,null,null,null,null,null,null,null,null,null,null,null,null,null,null,null,null,null,null,null,null,null,null,null,null,null,null,null,null,null,null,null,null,null,null,null,null,655,"EST DE SERVICIOS LA ESTANCIA SA","TERCEROS","Consignado","BUENOS AIRES","RUTA NACIONAL 7 KM 97 (Descendente)",6720,"S.ANDRES DE GILES","SAN ANDRES DE GILES","BUENOS AIRES","30624227677","Mahon, Nicolas","Brena, Marcelo","Barruti, Francisco",""]
[null,{"$f":"CONCATENATE(D259,\" (CP: \",C259,\")\")","v":"CAPITAL FEDERAL (CP: 1264)"},"1264","CAPITAL FEDERAL","CAPITAL FEDERAL","METROPOLITANA",18,"OMAR PRESAS",null,null,null,null,null,null,null,null,null,null,null,null,null,null,null,null,null,null,null,null,null,null,null,null,null,null,null,null,null,null,null,null,null,null,null,null,null,657,"DANIEL IOTTI","TERCEROS","Consignado","BUENOS AIRES","RUTA NACIONAL 7 KM 103 (Ascendente) Y AVENIDA CAMPORA",6720,"S.ANDRES DE GILES","SAN ANDRES DE GILES","BUENOS AIRES","20045404162","Mahon, Nicolas","Brena, Marcelo","Barruti, Francisco",""]
[null,"CAPITAL FEDERAL (CP: 1265)","1265","CAPITAL FEDERAL","CAPITAL FEDERAL","METROPOLITANA",18,"OMAR PRESAS",null,null,null,null,null,null,null,null,null,null,null,null,null,null,null,null,null,null,null,null,null,null,null,null,null,null,null,null,null,null,null,null,null,null,null,null,null,659,"SERVICIO LOS CARDALES SRL","TERCEROS","Consignado","BUENOS AIRES","AVENIDA LIB GRAL SAN MARTIN Y MORENO",2814,"LOS CARDALES","EXALTACION DE LA CRUZ","BUENOS AIRES","30686314282","Cullari, José","Brena, Marcelo","Barruti, Francisco",""]
[null,"CAPITAL FEDERAL (CP: 1266)","1266","CAPITAL FEDERAL","CAPITAL FEDERAL","METROPOLITANA",18,"OMAR PRESAS",null,null,null,null,null,null,null,null,null,null,null,null,null,null,null,null,null,null,null,null,null,null,null,null,null,null,null,null,null,null,null,null,null,null,null,null,null,660,"GRUPO FIP SA","TERCEROS","Consignado","BUENOS AIRES","LAVALLE Y JEAN JEAURES",2800,"ZARATE","ZARATE","BUENOS AIRES","30645806871","Cullari, José","Brena, Marcelo","Barruti, Francisco",""]
[null,"CAPITAL FEDERAL (CP: 1267)","1267","CAPITAL FEDERAL","CAPITAL FEDERAL","METROPOLITANA",18,"OMAR PRESAS",null,null,null,null,null,null,null,null,null,null,null,null,null,null,null,null,null,null,null,null,null,null,null,null,null,null,null,null,null,null,null,null,null,null,null,null,null,661,"ZARCAM SA","TERCEROS","Consignado","BUENOS AIRES","AVENIDA GALESIO E HIPOLITO YRIGOYEN",2800,"ZARATE","ZARATE","BUENOS AIRES","30547099229","Cullari, José","Brena, Marcelo","Barruti, Francisco",""]
[null,"CAPITAL FEDERAL (CP: 1268)","1268","CAPITAL FEDERAL","CAPITAL FEDERAL","METROPOLITANA",18,"OMAR PRESAS",null,null,null,null,null,null,null,null,null,null,null,null,null,null,null,null,null,null,null,null,null,null,null,null,null,null,null,null,null,null,null,null,null,null,null,null,null,665,"PARADOR ROBLES SRL","TERCEROS","Consignado","BUENOS AIRES","RUTA NACIONAL 8 KM 78 (Ascendente)",6703,"PARADA ROBLES","EXALTACION DE LA CRUZ","BUENOS AIRES","30648820425","Cullari, José","Brena, Marcelo","Barruti, Francisco",""]
[null,"CAPITAL FEDERAL (CP: 1269)","1269","CAPITAL FEDERAL","CAPITAL FEDERAL","METROPOLITANA",18,"OMAR PRESAS",null,null,null,null,null,null,null,null,null,null,null,null,null,null,null,null,null,null,null,null,null,null,null,null,null,null,null,null,null,null,null,null,null,null,null,null,null,672,"ACA MERCEDES","ACA","ACA","BUENOS AIRES","CALLE 29 Y CALLE 16",6600,"MERCEDES","MERCEDES","BUENOS AIRES","30500143297","Luppoli, Hugo Martin","Brena, Marcelo","Barruti, Francisco",""]
[null,"CAPITAL FEDERAL (CP: 1270)","1270","CAPITAL FEDERAL","CAPITAL FEDERAL","METROPOLITANA",18,"OMAR PRESAS",null,null,null,null,null,null,null,null,null,null,null,null,null,null,null,null,null,null,null,null,null,null,null,null,null,null,null,null,null,null,null,null,null,null,null,null,null,674,"BERTONE Y COURTADE SRL","TERCEROS","Consignado","BUENOS AIRES","CALLE 2 Y CALLE 119",6600,"MERCEDES","MERCEDES","BUENOS AIRES","30714384127","Luppoli, Hugo Martin","Brena, Marcelo","Barruti, Francisco",""]
[null,"CAPITAL FEDERAL (CP: 1271)","1271","CAPITAL FEDERAL","CAPITAL FEDERAL","METROPOLITANA",18,"OMAR PRESAS",null,null,null,null,null,null,null,null,null,null,null,null,null,null,null,null,null,null,null,null,null,null,null,null,null,null,null,null,null,null,null,null,null,null,null,null,null,678,"GUARANI SRL","TERCEROS","Consignado","BUENOS AIRES","CALLE 29 Y CALLE 18",6600,"MERCEDES","MERCEDES","BUENOS AIRES","30606025706","Luppoli, Hugo Martin","Brena, Marcelo","Barruti, Francisco",""]
[null,"CAPITAL FEDERAL (CP: 1272)","1272","CAPITAL FEDERAL","CAPITAL FEDERAL","METROPOLITANA",18,"OMAR PRESAS",null,null,null,null,null,null,null,null,null,null,null,null,null,null,null,null,null,null,null,null,null,null,null,null,null,null,null,null,null,null,null,null,null,null,null,null,null,680,"EL PARADOR DE MERCEDES SA","TERCEROS","Consignado","BUENOS AIRES","RUTA PROVINCIAL 5 KM 107 (Ascendente)",6600,"MERCEDES","MERCEDES","BUENOS AIRES","30666267520","Luppoli, Hugo Martin","Brena, Marcelo","Barruti, Francisco",""]
[null,"CAPITAL FEDERAL (CP: 1273)","1273","CAPITAL FEDERAL","CAPITAL FEDERAL","METROPOLITANA",18,"OMAR PRESAS",null,null,null,null,null,null,null,null,null,null,null,null,null,null,null,null,null,null,null,null,null,null,null,null,null,null,null,null,null,null,null,null,null,null,null,null,null,689,"FLYNN FERNANDO G - FLYNN DANIEL E","TERCEROS","Consignado","BUENOS AIRES","CALLE 29 Y CALLE 2",6600,"MERCEDES","MERCEDES","BUENOS AIRES","30666288196","Luppoli, Hugo Martin","Brena, Marcelo","Barruti, Francisco",""]
[null,"CAPITAL FEDERAL (CP: 1274)","1274","CAPITAL FEDERAL","CAPITAL FEDERAL","METROPOLITANA",18,"OMAR PRESAS",null,null,null,null,null,null,null,null,null,null,null,null,null,null,null,null,null,null,null,null,null,null,null,null,null,null,null,null,null,null,null,null,null,null,null,null,null,695,"LA POSTA DE CHIVILCOY SA","TERCEROS","Consignado","BUENOS AIRES","RUTA NACIONAL 5 KM 158.800 (Ascendente) Y ACCESO",6620,"CHIVILCOY","CHIVILCOY","BUENOS AIRES","30687725529","Luppoli, Hugo Martin","Brena, Marcelo","Barruti, Francisco",""]
[null,"CAPITAL FEDERAL (CP: 1275)","1275","CAPITAL FEDERAL","CAPITAL FEDERAL","METROPOLITANA",18,"OMAR PRESAS",null,null,null,null,null,null,null,null,null,null,null,null,null,null,null,null,null,null,null,null,null,null,null,null,null,null,null,null,null,null,null,null,null,null,null,null,null,698,"ACA ARRECIFES","ACA","ACA","BUENOS AIRES","RUTA NACIONAL 8 KM 171 (Descendente)",2740,"ARRECIFES","BARTOLOME MITRE","BUENOS AIRES","30500143297","Olivetti, Diego","Brena, Marcelo","Barruti, Francisco",""]
[null,"CAPITAL FEDERAL (CP: 1276)","1276","CAPITAL FEDERAL","CAPITAL FEDERAL","METROPOLITANA",18,"OMAR PRESAS",null,null,null,null,null,null,null,null,null,null,null,null,null,null,null,null,null,null,null,null,null,null,null,null,null,null,null,null,null,null,null,null,null,null,null,null,null,699,"ACA CARMEN DE ARECO","ACA","ACA","BUENOS AIRES","RUTA NACIONAL 7 KM 139.500 (Ascendente)",6725,"CARMEN DE ARECO","CARMEN DE ARECO","BUENOS AIRES","30500143297","Mahon, Nicolas","Brena, Marcelo","Barruti, Francisco",""]
[null,"CAPITAL FEDERAL (CP: 1277)","1277","CAPITAL FEDERAL","CAPITAL FEDERAL","METROPOLITANA",18,"OMAR PRESAS",null,null,null,null,null,null,null,null,null,null,null,null,null,null,null,null,null,null,null,null,null,null,null,null,null,null,null,null,null,null,null,null,null,null,null,null,null,702,"DAIMO BOJANICH Y CIA SRL","TERCEROS","Consignado","BUENOS AIRES","AVENIDA L N ALEM Y MARMOL",2752,"CAP SARMIENTO","CAP SARMIENTO","BUENOS AIRES","30531872998","Olivetti, Diego","Brena, Marcelo","Barruti, Francisco",""]
[null,"CAPITAL FEDERAL (CP: 1278)","1278","CAPITAL FEDERAL","CAPITAL FEDERAL","METROPOLITANA",18,"OMAR PRESAS",null,null,null,null,null,null,null,null,null,null,null,null,null,null,null,null,null,null,null,null,null,null,null,null,null,null,null,null,null,null,null,null,null,null,null,null,null,703,"COOPERATIVA DE GRANJEROS DE CHACABUCO","TERCEROS","Consignado","BUENOS AIRES","AVENIDA SOLIS Y BALCARCE",6740,"CHACABUCO","CHACABUCO","BUENOS AIRES","33509162439","Mahon, Nicolas","Brena, Marcelo","Barruti, Francisco",""]
[null,"CAPITAL FEDERAL (CP: 1279)","1279","CAPITAL FEDERAL","CAPITAL FEDERAL","METROPOLITANA",18,"OMAR PRESAS",null,null,null,null,null,null,null,null,null,null,null,null,null,null,null,null,null,null,null,null,null,null,null,null,null,null,null,null,null,null,null,null,null,null,null,null,null,705,"COMBUSTIBLES NICOLLS SA","TERCEROS","Consignado","BUENOS AIRES","RUTA NACIONAL 7 KM 202 (Ascendente)",6740,"CHACABUCO","CHACABUCO","BUENOS AIRES","30709377716","Mahon, Nicolas","Brena, Marcelo","Barruti, Francisco",""]
[null,"CAPITAL FEDERAL (CP: 1280)","1280","CAPITAL FEDERAL","CAPITAL FEDERAL","METROPOLITANA",18,"OMAR PRESAS",null,null,null,null,null,null,null,null,null,null,null,null,null,null,null,null,null,null,null,null,null,null,null,null,null,null,null,null,null,null,null,null,null,null,null,null,null,720,"PETROCELA SA","TERCEROS","Consignado","BUENOS AIRES","25 DE MAYO Y PROFESOR MONTES",2741,"SALTO","SALTO","BUENOS AIRES","30697445613","Mahon, Nicolas","Brena, Marcelo","Barruti, Francisco",""]
[null,"CAPITAL FEDERAL (CP: 1281)","1281","CAPITAL FEDERAL","CAPITAL FEDERAL","METROPOLITANA",18,"OMAR PRESAS",null,null,null,null,null,null,null,null,null,null,null,null,null,null,null,null,null,null,null,null,null,null,null,null,null,null,null,null,null,null,null,null,null,null,null,null,null,722,"KEH COM SA","TERCEROS","Consignado","BUENOS AIRES","URQUIZA Y RUTA PROVINCIAL 51",2740,"ARRECIFES","BARTOLOME MITRE","BUENOS AIRES","30708068469","Olivetti, Diego","Brena, Marcelo","Barruti, Francisco",""]
[null,"CAPITAL FEDERAL (CP: 1282)","1282","CAPITAL FEDERAL","CAPITAL FEDERAL","METROPOLITANA",18,"OMAR PRESAS",null,null,null,null,null,null,null,null,null,null,null,null,null,null,null,null,null,null,null,null,null,null,null,null,null,null,null,null,null,null,null,null,null,null,null,null,null,726,"DUFAU HNOS SA","TERCEROS","Consignado","BUENOS AIRES","RUTA NACIONAL 3 KM 34.700 (Ascendente)",1763,"VIRREY DEL PINO","LA MATANZA","BUENOS AIRES","30694117283","Marincolo, Fernando","Emanuel, Adrian Fabio","Barruti, Francisco",""]
[null,"CAPITAL FEDERAL (CP: 1283)","1283","CAPITAL FEDERAL","CAPITAL FEDERAL","METROPOLITANA",18,"OMAR PRESAS",null,null,null,null,null,null,null,null,null,null,null,null,null,null,null,null,null,null,null,null,null,null,null,null,null,null,null,null,null,null,null,null,null,null,null,null,null,729,"DIVE SRL","TERCEROS","Consignado","METROPOLITANA","AVENIDA DIAZ VELEZ Y COSTA",1752,"LOMAS DEL MIRADOR","LA MATANZA","BUENOS AIRES","30547280446","Endrinal, Johana","Acosta, Diego","Gottlieb, Patricio",""]
[null,"CAPITAL FEDERAL (CP: 1284)","1284","CAPITAL FEDERAL","CAPITAL FEDERAL","METROPOLITANA",18,"OMAR PRESAS",null,null,null,null,null,null,null,null,null,null,null,null,null,null,null,null,null,null,null,null,null,null,null,null,null,null,null,null,null,null,null,null,null,null,null,null,null,734,"LOPEZ JOSE Y MARIA E F DE LOPEZ","TERCEROS","Consignado","BUENOS AIRES","MENDEZ DE ANDES Y CARLOS CASARES",1755,"RAFAEL CASTILLO","LA MATANZA","BUENOS AIRES","30547242196","Marincolo, Fernando","Emanuel, Adrian Fabio","Barruti, Francisco",""]
[null,"CAPITAL FEDERAL (CP: 1285)","1285","CAPITAL FEDERAL","CAPITAL FEDERAL","METROPOLITANA",18,"OMAR PRESAS",null,null,null,null,null,null,null,null,null,null,null,null,null,null,null,null,null,null,null,null,null,null,null,null,null,null,null,null,null,null,null,null,null,null,null,null,null,735,"LA DECADA SRL","TERCEROS","Consignado","METROPOLITANA","AVENIDA GRAL SAN MARTIN Y MITRE",1704,"RAMOS MEJIA","LA MATANZA","BUENOS AIRES","33579157319","Endrinal, Johana","Acosta, Diego","Gottlieb, Patricio",""]
[null,"CAPITAL FEDERAL (CP: 1286)","1286","CAPITAL FEDERAL","CAPITAL FEDERAL","METROPOLITANA",18,"OMAR PRESAS",null,null,null,null,null,null,null,null,null,null,null,null,null,null,null,null,null,null,null,null,null,null,null,null,null,null,null,null,null,null,null,null,null,null,null,null,null,737,"RIVERA INDARTE NORTE SRL","TERCEROS","Consignado","METROPOLITANA","CNEL BRANDSEN Y TRINUVIRATO",1704,"RAMOS MEJIA","LA MATANZA","BUENOS AIRES","30550061070","Endrinal, Johana","Acosta, Diego","Gottlieb, Patricio",""]
[null,"CAPITAL FEDERAL (CP: 1287)","1287","CAPITAL FEDERAL","CAPITAL FEDERAL","METROPOLITANA",18,"OMAR PRESAS",null,null,null,null,null,null,null,null,null,null,null,null,null,null,null,null,null,null,null,null,null,null,null,null,null,null,null,null,null,null,null,null,null,null,null,null,null,739,"ESTACION DE SERVICIO ECHEVERRIA E HIJOS SRL","TERCEROS","Consignado","BUENOS AIRES","SENGEL 4222 Y FEDERICO BAEZ",1759,"GONZALEZ CATAN","LA MATANZA","BUENOS AIRES","30709859001","Marincolo, Fernando","Emanuel, Adrian Fabio","Barruti, Francisco",""]
[null,"CAPITAL FEDERAL (CP: 1288)","1288","CAPITAL FEDERAL","CAPITAL FEDERAL","METROPOLITANA",18,"OMAR PRESAS",null,null,null,null,null,null,null,null,null,null,null,null,null,null,null,null,null,null,null,null,null,null,null,null,null,null,null,null,null,null,null,null,null,null,null,null,null,745,"PABLO ZUCCO Y CIA SA","TERCEROS","Consignado","METROPOLITANA","DR ARTURO ILLIA Y PICHINCHA",1754,"SAN JUSTO","LA MATANZA","BUENOS AIRES","30699190558","Endrinal, Johana","Acosta, Diego","Gottlieb, Patricio",""]
[null,"CAPITAL FEDERAL (CP: 1289)","1289","CAPITAL FEDERAL","CAPITAL FEDERAL","METROPOLITANA",18,"OMAR PRESAS",null,null,null,null,null,null,null,null,null,null,null,null,null,null,null,null,null,null,null,null,null,null,null,null,null,null,null,null,null,null,null,null,null,null,null,null,null,751,"LAFERRED SA","TERCEROS","Consignado","BUENOS AIRES","AVENIDA GRAL ROJO Y LUDWING VAN BEETHOVEN",1757,"LA FERRERE","LA MATANZA","BUENOS AIRES","30707158766","Marincolo, Fernando","Emanuel, Adrian Fabio","Barruti, Francisco",""]
[null,"CAPITAL FEDERAL (CP: 1290)","1290","CAPITAL FEDERAL","CAPITAL FEDERAL","METROPOLITANA",18,"OMAR PRESAS",null,null,null,null,null,null,null,null,null,null,null,null,null,null,null,null,null,null,null,null,null,null,null,null,null,null,null,null,null,null,null,null,null,null,null,null,null,752,"CHILAVERT 1990 SRL","TERCEROS","Consignado","METROPOLITANA","CHILAVERT Y GRAL PAZ",1772,"VILLA CELINA","LA MATANZA","BUENOS AIRES","30594760928","Endrinal, Johana","Acosta, Diego","Gottlieb, Patricio",""]
[null,"CAPITAL FEDERAL (CP: 1291)","1291","CAPITAL FEDERAL","CAPITAL FEDERAL","METROPOLITANA",18,"OMAR PRESAS",null,null,null,null,null,null,null,null,null,null,null,null,null,null,null,null,null,null,null,null,null,null,null,null,null,null,null,null,null,null,null,null,null,null,null,null,null,753,"MELINCUE SRL","TERCEROS","Consignado","METROPOLITANA","AVENIDA VELEZ SARSFIELD Y CULPINA",1768,"VILLA MADERO","LA MATANZA","BUENOS AIRES","30520309450","Endrinal, Johana","Acosta, Diego","Gottlieb, Patricio",""]
[null,"CAPITAL FEDERAL (CP: 1292)","1292","CAPITAL FEDERAL","CAPITAL FEDERAL","METROPOLITANA",18,"OMAR PRESAS",null,null,null,null,null,null,null,null,null,null,null,null,null,null,null,null,null,null,null,null,null,null,null,null,null,null,null,null,null,null,null,null,null,null,null,null,null,760,"ESTACION DE SERVICIO SATRAGNO SRL","TERCEROS","Consignado","BUENOS AIRES","AVENIDA BRIG. JUAN M. DE ROSAS 13300",1757,"LA FERRERE","LA MATANZA","BUENOS AIRES","33709858969","Marincolo, Fernando","Emanuel, Adrian Fabio","Barruti, Francisco",""]
[null,"CAPITAL FEDERAL (CP: 1293)","1293","CAPITAL FEDERAL","CAPITAL FEDERAL","METROPOLITANA",18,"OMAR PRESAS",null,null,null,null,null,null,null,null,null,null,null,null,null,null,null,null,null,null,null,null,null,null,null,null,null,null,null,null,null,null,null,null,null,null,null,null,null,762,"WORKERS SA","TERCEROS","Consignado","METROPOLITANA","AVENIDA INTENDENTE E J CROVARA Y COSTA RICA",1768,"VILLA MADERO","LA MATANZA","BUENOS AIRES","30687652084","Endrinal, Johana","Acosta, Diego","Gottlieb, Patricio",""]
[null,"CAPITAL FEDERAL (CP: 1294)","1294","CAPITAL FEDERAL","CAPITAL FEDERAL","METROPOLITANA",18,"OMAR PRESAS",null,null,null,null,null,null,null,null,null,null,null,null,null,null,null,null,null,null,null,null,null,null,null,null,null,null,null,null,null,null,null,null,null,null,null,null,null,797,"EN PUNTA SA","TERCEROS","Consignado","BUENOS AIRES","AVENIDA AVELINO ROLON Y AVENIDA SUCRE",1609,"BOULOGNE","SAN ISIDRO","BUENOS AIRES","30662535059","Isak, Fernando","Brena, Marcelo","Barruti, Francisco",""]
[null,"CAPITAL FEDERAL (CP: 1295)","1295","CAPITAL FEDERAL","CAPITAL FEDERAL","METROPOLITANA",18,"OMAR PRESAS",null,null,null,null,null,null,null,null,null,null,null,null,null,null,null,null,null,null,null,null,null,null,null,null,null,null,null,null,null,null,null,null,null,null,null,null,null,798,"DA COSTA E HIJOS SA","TERCEROS","Consignado","BUENOS AIRES","RUTA PROVINCIAL 36 KM (Ascendente) Y CALLE 21",1884,"BERAZATEGUI","BERAZATEGUI","BUENOS AIRES","30658022349","Cabral, Carlos","Emanuel, Adrian Fabio","Barruti, Francisco",""]
[null,"CAPITAL FEDERAL (CP: 1296)","1296","CAPITAL FEDERAL","CAPITAL FEDERAL","METROPOLITANA",18,"OMAR PRESAS",null,null,null,null,null,null,null,null,null,null,null,null,null,null,null,null,null,null,null,null,null,null,null,null,null,null,null,null,null,null,null,null,null,null,null,null,null,799,"OPESSA BECCAR","OPESSA","Consignado","METROPOLITANA","AVENIDA CENTENARIO Y JOSE INGENIEROS",1643,"BECCAR","SAN ISIDRO","BUENOS AIRES","30678774495","Leite, Jose","Bouzon, Gustavo","Gottlieb, Patricio","Santa Cruz, Wilde"]
[null,"CAPITAL FEDERAL (CP: 1300)","1300","CAPITAL FEDERAL","CAPITAL FEDERAL","METROPOLITANA",31,"PABLO CIMINARI",null,null,null,null,null,null,null,null,null,null,null,null,null,null,null,null,null,null,null,null,null,null,null,null,null,null,null,null,null,null,null,null,null,null,null,null,null,800,"ACA PANAMERICANA ACC 2","ACA","ACA","METROPOLITANA","ECHEVERRÍA 3921 3921 Y COMANDANTE LUIS PIEDRA BUENA",1605,"MUNRO","VICENTE LOPEZ","BUENOS AIRES","30500143297","López, Alejandro","Bouzon, Gustavo","Gottlieb, Patricio",""]
[null,"CAPITAL FEDERAL (CP: 1301)","1301","CAPITAL FEDERAL","CAPITAL FEDERAL","METROPOLITANA",31,"PABLO CIMINARI",null,null,null,null,null,null,null,null,null,null,null,null,null,null,null,null,null,null,null,null,null,null,null,null,null,null,null,null,null,null,null,null,null,null,null,null,null,802,"VILLAPAS S.A.","TERCEROS","Consignado","METROPOLITANA","AVENIDA BRIGADIER GENERAL JUAN MANUEL DE ROSAS 3002",1754,"SAN JUSTO","LA MATANZA","BUENOS AIRES","30714688495","Endrinal, Johana","Acosta, Diego","Gottlieb, Patricio",""]
[null,"CAPITAL FEDERAL (CP: 1302)","1302","CAPITAL FEDERAL","CAPITAL FEDERAL","METROPOLITANA",31,"PABLO CIMINARI",null,null,null,null,null,null,null,null,null,null,null,null,null,null,null,null,null,null,null,null,null,null,null,null,null,null,null,null,null,null,null,null,null,null,null,null,null,809,"POSTA DE FUNES SA.","TERCEROS","Consignado","LITORAL SUR","CORDOBA 1201",2132,"FUNES","ROSARIO","SANTA FE","30714287709","Colla, María de los Ángeles","Gomez, Cristian","A definir",""]
[null,"CAPITAL FEDERAL (CP: 1303)","1303","CAPITAL FEDERAL","CAPITAL FEDERAL","METROPOLITANA",31,"PABLO CIMINARI",null,null,null,null,null,null,null,null,null,null,null,null,null,null,null,null,null,null,null,null,null,null,null,null,null,null,null,null,null,null,null,null,null,null,null,null,null,812,"OPESSA ROSARIO URQUIZA","OPESSA","Consignado","LITORAL SUR","MITRE Y URQUIZA",2000,"ROSARIO","ROSARIO","SANTA FE","30678774495","Donato, Sebastian","Gomez, Cristian","A definir","Talani, Cristian"]
[null,"CAPITAL FEDERAL (CP: 1304)","1304","CAPITAL FEDERAL","CAPITAL FEDERAL","METROPOLITANA",31,"PABLO CIMINARI",null,null,null,null,null,null,null,null,null,null,null,null,null,null,null,null,null,null,null,null,null,null,null,null,null,null,null,null,null,null,null,null,null,null,null,null,null,814,"G.N.C DE LA VILLA S.R.L","TERCEROS","Consignado","MEDITERRANEA","RUTA NACIONAL 20 KM 18 (Ascendente) Y EMPALME LA PERLA",5101,"MALAGUEÑO","SANTA MARIA","CORDOBA","30708364602","Villagra, Luis ","Parolin, Mauricio Elvio","Banegas, Walter",""]
[null,"CAPITAL FEDERAL (CP: 1305)","1305","CAPITAL FEDERAL","CAPITAL FEDERAL","METROPOLITANA",31,"PABLO CIMINARI",null,null,null,null,null,null,null,null,null,null,null,null,null,null,null,null,null,null,null,null,null,null,null,null,null,null,null,null,null,null,null,null,null,null,null,null,null,815,"ESTACION DE SERVICIO GENERAL MOSCONI","TERCEROS","Consignado","LITORAL SUR","AVENIDA SALTA Y CALLAO",2000,"ROSARIO","ROSARIO","SANTA FE","30543502983","Donato, Sebastian","Gomez, Cristian","A definir",""]
[null,"CAPITAL FEDERAL (CP: 1306)","1306","CAPITAL FEDERAL","CAPITAL FEDERAL","METROPOLITANA",31,"PABLO CIMINARI",null,null,null,null,null,null,null,null,null,null,null,null,null,null,null,null,null,null,null,null,null,null,null,null,null,null,null,null,null,null,null,null,null,null,null,null,null,817,"PETRONOR SRL","TERCEROS","Consignado","LITORAL SUR","GRANADERO BAIGORRIA 1285 Y MACHAIN",2000,"ROSARIO","ROSARIO","SANTA FE","30591694339","Donato, Sebastian","Gomez, Cristian","A definir",""]
[null,"CAPITAL FEDERAL (CP: 1307)","1307","CAPITAL FEDERAL","CAPITAL FEDERAL","METROPOLITANA",31,"PABLO CIMINARI",null,null,null,null,null,null,null,null,null,null,null,null,null,null,null,null,null,null,null,null,null,null,null,null,null,null,null,null,null,null,null,null,null,null,null,null,null,818,"OPESSA ECHEVERRIA","OPESSA","Consignado","METROPOLITANA","AVENIDA FIGUEROA ALCORTA 6608 Y ECHEVERRIA",1428,"CAPITAL FEDERAL","CAPITAL FEDERAL","CAPITAL FEDERAL","30678774495","López, Alejandro","Bouzon, Gustavo","Gottlieb, Patricio","Gualeni, Andrea"]
[null,"CAPITAL FEDERAL (CP: 1308)","1308","CAPITAL FEDERAL","CAPITAL FEDERAL","METROPOLITANA",31,"PABLO CIMINARI",null,null,null,null,null,null,null,null,null,null,null,null,null,null,null,null,null,null,null,null,null,null,null,null,null,null,null,null,null,null,null,null,null,null,null,null,null,819,"ORLANDO FERNANDEZ SRL","TERCEROS","Consignado","LITORAL SUR","MENDOZA Y FELIPE MORE",2000,"ROSARIO","ROSARIO","SANTA FE","30555162576","Donato, Sebastian","Gomez, Cristian","A definir",""]
[null,"CAPITAL FEDERAL (CP: 1309)","1309","CAPITAL FEDERAL","CAPITAL FEDERAL","METROPOLITANA",31,"PABLO CIMINARI",null,null,null,null,null,null,null,null,null,null,null,null,null,null,null,null,null,null,null,null,null,null,null,null,null,null,null,null,null,null,null,null,null,null,null,null,null,820,"SI SRL","TERCEROS","Consignado","LITORAL SUR","AVENIDA JUAN B ALBERDI BIS Y GENOVA",2000,"ROSARIO","ROSARIO","SANTA FE","30698328440","Donato, Sebastian","Gomez, Cristian","A definir",""]
[null,"CAPITAL FEDERAL (CP: 1310)","1310","CAPITAL FEDERAL","CAPITAL FEDERAL","METROPOLITANA",31,"PABLO CIMINARI",null,null,null,null,null,null,null,null,null,null,null,null,null,null,null,null,null,null,null,null,null,null,null,null,null,null,null,null,null,null,null,null,null,null,null,null,null,821,"LIBRA SRL","TERCEROS","Consignado","VALLES","ESPAÑA SUR Y BOLIVAR",4650,"LA QUIACA","YAVI","JUJUY","30629558183","Stoll, Maximiliano","Naval, Carlos","Astegiano, Flavio",""]
[null,"CAPITAL FEDERAL (CP: 1311)","1311","CAPITAL FEDERAL","CAPITAL FEDERAL","METROPOLITANA",31,"PABLO CIMINARI",null,null,null,null,null,null,null,null,null,null,null,null,null,null,null,null,null,null,null,null,null,null,null,null,null,null,null,null,null,null,null,null,null,null,null,null,null,822,"HERRERO SRL","TERCEROS","Consignado","LITORAL SUR","DONADO Y CORDOBA",2000,"ROSARIO","ROSARIO","SANTA FE","30518089982","Donato, Sebastian","Gomez, Cristian","A definir",""]
[null,"CAPITAL FEDERAL (CP: 1312)","1312","CAPITAL FEDERAL","CAPITAL FEDERAL","METROPOLITANA",31,"PABLO CIMINARI",null,null,null,null,null,null,null,null,null,null,null,null,null,null,null,null,null,null,null,null,null,null,null,null,null,null,null,null,null,null,null,null,null,null,null,null,null,824,"PETROGAS SRL","TERCEROS","Consignado","LITORAL SUR","BOULEVARD GRAL JOSE RONDEAU 1545 Y URIARTE",2000,"ROSARIO","ROSARIO","SANTA FE","30708983639","Donato, Sebastian","Gomez, Cristian","A definir",""]
[null,"CAPITAL FEDERAL (CP: 1313)","1313","CAPITAL FEDERAL","CAPITAL FEDERAL","METROPOLITANA",31,"PABLO CIMINARI",null,null,null,null,null,null,null,null,null,null,null,null,null,null,null,null,null,null,null,null,null,null,null,null,null,null,null,null,null,null,null,null,null,null,null,null,null,825,"OPESSA CALCHAQUI","OPESSA","Consignado","METROPOLITANA","AVENIDA CALCHAQUI 851 Y RODOLFO LOPEZ",1879,"QUILMES OESTE","QUILMES","BUENOS AIRES","30678774495","Berardi, Juan Carlos","Acosta, Diego","Gottlieb, Patricio","Herlein, Carolina"]
[null,"CAPITAL FEDERAL (CP: 1314)","1314","CAPITAL FEDERAL","CAPITAL FEDERAL","METROPOLITANA",31,"PABLO CIMINARI",null,null,null,null,null,null,null,null,null,null,null,null,null,null,null,null,null,null,null,null,null,null,null,null,null,null,null,null,null,null,null,null,null,null,null,null,null,826,"LARRAN CARLOS A Y MEDINA DE MUSSO MARIA E SH","TERCEROS","Consignado","VALLES","AVENIDA BATALLA DE SALTA Y EJERCITO ARGENTINO",4400,"SALTA","SALTA CAPITAL","SALTA","30632261159","Corbella, Laura","Naval, Carlos","Astegiano, Flavio",""]
[null,"CAPITAL FEDERAL (CP: 1315)","1315","CAPITAL FEDERAL","CAPITAL FEDERAL","METROPOLITANA",31,"PABLO CIMINARI",null,null,null,null,null,null,null,null,null,null,null,null,null,null,null,null,null,null,null,null,null,null,null,null,null,null,null,null,null,null,null,null,null,null,null,null,null,827,"ANDRES BINAGHI SACIFIMA","TERCEROS","Consignado","LITORAL SUR","RUTA NACIONAL 11 KM 891 (Ascendente) Y CALLE 19",3586,"LAS TOSCAS","GRAL OBLIGADO","SANTA FE","33552674079","Vergara, Marcelo","Gomez, Cristian","A definir",""]
[null,"CAPITAL FEDERAL (CP: 1316)","1316","CAPITAL FEDERAL","CAPITAL FEDERAL","METROPOLITANA",31,"PABLO CIMINARI",null,null,null,null,null,null,null,null,null,null,null,null,null,null,null,null,null,null,null,null,null,null,null,null,null,null,null,null,null,null,null,null,null,null,null,null,null,829,"PEDRO MANUEL FANTIN","TERCEROS","Consignado","LITORAL SUR","RUTA NACIONAL 11 KM 872 (Descendente) Y ACCESO",3580,"VILLA OCAMPO","GRAL OBLIGADO","SANTA FE","20129015277","Vergara, Marcelo","Gomez, Cristian","A definir",""]
[null,"CAPITAL FEDERAL (CP: 1317)","1317","CAPITAL FEDERAL","CAPITAL FEDERAL","METROPOLITANA",31,"PABLO CIMINARI",null,null,null,null,null,null,null,null,null,null,null,null,null,null,null,null,null,null,null,null,null,null,null,null,null,null,null,null,null,null,null,null,null,null,null,null,null,831,"GREGORET S.A.","TERCEROS","Consignado","LITORAL SUR","AVENIDA SAN MARTIN 1681",3580,"VILLA OCAMPO","GRAL OBLIGADO","SANTA FE","30714235547","Vergara, Marcelo","Gomez, Cristian","A definir",""]
[null,"CAPITAL FEDERAL (CP: 1318)","1318","CAPITAL FEDERAL","CAPITAL FEDERAL","METROPOLITANA",31,"PABLO CIMINARI",null,null,null,null,null,null,null,null,null,null,null,null,null,null,null,null,null,null,null,null,null,null,null,null,null,null,null,null,null,null,null,null,null,null,null,null,null,832,"GAMBA SA","TERCEROS","Consignado","LITORAL SUR","IRIONDO Y ROCA",3560,"RECONQUISTA","GRAL OBLIGADO","SANTA FE","30715974203","Vergara, Marcelo","Gomez, Cristian","A definir",""]
[null,"CAPITAL FEDERAL (CP: 1319)","1319","CAPITAL FEDERAL","CAPITAL FEDERAL","METROPOLITANA",31,"PABLO CIMINARI",null,null,null,null,null,null,null,null,null,null,null,null,null,null,null,null,null,null,null,null,null,null,null,null,null,null,null,null,null,null,null,null,null,null,null,null,null,833,"LA MALVINA SA","TERCEROS","Consignado","LITORAL SUR","RUTA NACIONAL 11 KM 787 (Descendente)",3560,"RECONQUISTA","GRAL OBLIGADO","SANTA FE","33707603599","Vergara, Marcelo","Gomez, Cristian","A definir",""]
[null,"CAPITAL FEDERAL (CP: 1320)","1320","CAPITAL FEDERAL","CAPITAL FEDERAL","METROPOLITANA",31,"PABLO CIMINARI",null,null,null,null,null,null,null,null,null,null,null,null,null,null,null,null,null,null,null,null,null,null,null,null,null,null,null,null,null,null,null,null,null,null,null,null,null,836,"PETRONOR SRL","TERCEROS","Consignado","LITORAL SUR","RUTA NACIONAL 11 KM 673 (Ascendente)",3050,"CALCHAQUI","VERA","SANTA FE","30591694339","Vergara, Marcelo","Gomez, Cristian","A definir",""]
[null,"CAPITAL FEDERAL (CP: 1321)","1321","CAPITAL FEDERAL","CAPITAL FEDERAL","METROPOLITANA",31,"PABLO CIMINARI",null,null,null,null,null,null,null,null,null,null,null,null,null,null,null,null,null,null,null,null,null,null,null,null,null,null,null,null,null,null,null,null,null,null,null,null,null,838,"ORLANDO M AGENO E HIJOS SRL","TERCEROS","Consignado","LITORAL SUR","AVENIDA SANTA FE E ITALIA",3040,"SAN JUSTO","SAN JUSTO","SANTA FE","30581954359","Vergara, Marcelo","Gomez, Cristian","A definir",""]
[null,"CAPITAL FEDERAL (CP: 1322)","1322","CAPITAL FEDERAL","CAPITAL FEDERAL","METROPOLITANA",31,"PABLO CIMINARI",null,null,null,null,null,null,null,null,null,null,null,null,null,null,null,null,null,null,null,null,null,null,null,null,null,null,null,null,null,null,null,null,null,null,null,null,null,845,"DANTE LUIS MAZZON","TERCEROS","Consignado","LITORAL SUR","RUTA NACIONAL 11 KM 568 (Ascendente)",3040,"SAN JUSTO","SAN JUSTO","SANTA FE","20082815636","Vergara, Marcelo","Gomez, Cristian","A definir",""]
[null,"CAPITAL FEDERAL (CP: 1323)","1323","CAPITAL FEDERAL","CAPITAL FEDERAL","METROPOLITANA",31,"PABLO CIMINARI",null,null,null,null,null,null,null,null,null,null,null,null,null,null,null,null,null,null,null,null,null,null,null,null,null,null,null,null,null,null,null,null,null,null,null,null,null,846,"ZILLI GUSTAVO HERNAN","TERCEROS","Consignado","LITORAL SUR","RUTA NACIONAL 11 KM 619 (Descendente) Y GARAY",3044,"GDOR.CRESPO","SAN JUSTO","SANTA FE","20179721180","Vergara, Marcelo","Gomez, Cristian","A definir",""]
[null,"CAPITAL FEDERAL (CP: 1324)","1324","CAPITAL FEDERAL","CAPITAL FEDERAL","METROPOLITANA",31,"PABLO CIMINARI",null,null,null,null,null,null,null,null,null,null,null,null,null,null,null,null,null,null,null,null,null,null,null,null,null,null,null,null,null,null,null,null,null,null,null,null,null,851,"GIORGI, SARTOR Y CIA SRL","TERCEROS","Consignado","LITORAL SUR","BOULEVARD CARLOS PELLEGRINI Y SAN LORENZO",3000,"SANTA FE","SANTA FE CAPITAL","SANTA FE","30530677571","Martino, Alejandra","Gomez, Cristian","A definir",""]
[null,"CAPITAL FEDERAL (CP: 1325)","1325","CAPITAL FEDERAL","CAPITAL FEDERAL","METROPOLITANA",31,"PABLO CIMINARI",null,null,null,null,null,null,null,null,null,null,null,null,null,null,null,null,null,null,null,null,null,null,null,null,null,null,null,null,null,null,null,null,null,null,null,null,null,853,"GUADUPE SA","TERCEROS","Consignado","LITORAL SUR","ITALIA Y JAVIER DE LA ROSA",3000,"SANTA FE","SANTA FE CAPITAL","SANTA FE","30674609821","Martino, Alejandra","Gomez, Cristian","A definir",""]
[null,"CAPITAL FEDERAL (CP: 1326)","1326","CAPITAL FEDERAL","CAPITAL FEDERAL","METROPOLITANA",31,"PABLO CIMINARI",null,null,null,null,null,null,null,null,null,null,null,null,null,null,null,null,null,null,null,null,null,null,null,null,null,null,null,null,null,null,null,null,null,null,null,null,null,854,"R RIETMANN Y CIA SRL","TERCEROS","Consignado","LITORAL SUR","AVENIDA DEL TRABAJO 2449",3016,"SANTO TOME","LAS COLONIAS","SANTA FE","30542623426","Martino, Alejandra","Gomez, Cristian","A definir",""]
[null,"CAPITAL FEDERAL (CP: 1327)","1327","CAPITAL FEDERAL","CAPITAL FEDERAL","METROPOLITANA",31,"PABLO CIMINARI",null,null,null,null,null,null,null,null,null,null,null,null,null,null,null,null,null,null,null,null,null,null,null,null,null,null,null,null,null,null,null,null,null,null,null,null,null,856,"OPESSA COLASTINE","OPESSA","Consignado","LITORAL SUR","AUTOPISTA ROSARIO / SANTA FE KM 101 (Ascendente)",2242,"AROCENA","SAN JERONIMO","SANTA FE","30678774495","Oyola, Rafael","Gomez, Cristian","A definir","Talani, Cristian"]
[null,"CAPITAL FEDERAL (CP: 1328)","1328","CAPITAL FEDERAL","CAPITAL FEDERAL","METROPOLITANA",31,"PABLO CIMINARI",null,null,null,null,null,null,null,null,null,null,null,null,null,null,null,null,null,null,null,null,null,null,null,null,null,null,null,null,null,null,null,null,null,null,null,null,null,857,"OPESSA TRES ARROYOS","OPESSA","Consignado","PAMPEANA","RUTA NACIONAL 3 KM (Ascendente) Y VELEZ SARFIELD",7500,"TRES ARROYOS","TRES ARROYOS","BUENOS AIRES","30678774495","Aramburu, Diego","Gerino, Ignacio","Barrera Casal, Facundo","Urruspil, Ezequiel"]
[null,"CAPITAL FEDERAL (CP: 1329)","1329","CAPITAL FEDERAL","CAPITAL FEDERAL","METROPOLITANA",31,"PABLO CIMINARI",null,null,null,null,null,null,null,null,null,null,null,null,null,null,null,null,null,null,null,null,null,null,null,null,null,null,null,null,null,null,null,null,null,null,null,null,null,860,"FAVINI SA","TERCEROS","Consignado","LITORAL SUR","AVENIDA GRAL JOSE MARIA PAZ Y PJE KOCH",3000,"SANTA FE","SANTA FE CAPITAL","SANTA FE","30641564628","Martino, Alejandra","Gomez, Cristian","A definir",""]
[null,"CAPITAL FEDERAL (CP: 1330)","1330","CAPITAL FEDERAL","CAPITAL FEDERAL","METROPOLITANA",31,"PABLO CIMINARI",null,null,null,null,null,null,null,null,null,null,null,null,null,null,null,null,null,null,null,null,null,null,null,null,null,null,null,null,null,null,null,null,null,null,null,null,null,862,"GOMILA SRL","TERCEROS","Consignado","LITORAL SUR","AVENIDA PROF ARISTOBULO DEL VALLE Y E ZEBALLOS",3000,"SANTA FE","SANTA FE CAPITAL","SANTA FE","30707676783","Martino, Alejandra","Gomez, Cristian","A definir",""]
[null,{"$f":"CONCATENATE(D323,\" (CP: \",C323,\")\")","v":"CAPITAL FEDERAL (CP: 1331)"},"1331","CAPITAL FEDERAL","CAPITAL FEDERAL","METROPOLITANA",31,"PABLO CIMINARI",null,null,null,null,null,null,null,null,null,null,null,null,null,null,null,null,null,null,null,null,null,null,null,null,null,null,null,null,null,null,null,null,null,null,null,null,null,866,"OPESSA PELLEGRINI","OPESSA","Consignado","LITORAL SUR","BOULEVARD PELLEGRINI 2550",3000,"SANTA FE","SANTA FE CAPITAL","SANTA FE","30678774495","Martino, Alejandra","Gomez, Cristian","A definir","Talani, Cristian"]
[null,"CAPITAL FEDERAL (CP: 1332)","1332","CAPITAL FEDERAL","CAPITAL FEDERAL","METROPOLITANA",31,"PABLO CIMINARI",null,null,null,null,null,null,null,null,null,null,null,null,null,null,null,null,null,null,null,null,null,null,null,null,null,null,null,null,null,null,null,null,null,null,null,null,null,880,"MANCINI HUGO LIBERO ALBERTO","TERCEROS","Consignado","LITORAL SUR","RUTA PROVINCIAL 280 KM (Ascendente) Y ACCESO",2317,"COLON.ALDAO","CASTELLANOS","SANTA FE","20125788298","Oyola, Rafael","Gomez, Cristian","A definir",""]
[null,"CAPITAL FEDERAL (CP: 1333)","1333","CAPITAL FEDERAL","CAPITAL FEDERAL","METROPOLITANA",31,"PABLO CIMINARI",null,null,null,null,null,null,null,null,null,null,null,null,null,null,null,null,null,null,null,null,null,null,null,null,null,null,null,null,null,null,null,null,null,null,null,null,null,881,"MAS SINERGIA S.A.","TERCEROS","Consignado","LITORAL SUR","AVENIDA V CASARES Y ALMIRANTE BROWN",2340,"CERES","SAN CRISTOBAL","SANTA FE","30714339202","Vergara, Marcelo","Gomez, Cristian","A definir",""]
[null,"CAPITAL FEDERAL (CP: 1334)","1334","CAPITAL FEDERAL","CAPITAL FEDERAL","METROPOLITANA",31,"PABLO CIMINARI",null,null,null,null,null,null,null,null,null,null,null,null,null,null,null,null,null,null,null,null,null,null,null,null,null,null,null,null,null,null,null,null,null,null,null,null,null,883,"ESTACION DE SERVICIO YPF SUNCHALES SRL","TERCEROS","Consignado","LITORAL SUR","RUTA NACIONAL 34 KM 2605 (Descendente) Y ACCESO",2322,"SUNCHALES","CASTELLANOS","SANTA FE","30707840540","Oyola, Rafael","Gomez, Cristian","A definir",""]
[null,"CAPITAL FEDERAL (CP: 1335)","1335","CAPITAL FEDERAL","CAPITAL FEDERAL","METROPOLITANA",31,"PABLO CIMINARI",null,null,null,null,null,null,null,null,null,null,null,null,null,null,null,null,null,null,null,null,null,null,null,null,null,null,null,null,null,null,null,null,null,null,null,null,null,887,"ACA CERES","ACA","ACA","LITORAL SUR","RUTA NACIONAL 34 KM (Ascendente) Y AVDA DE MAYO",2340,"CERES","SAN CRISTOBAL","SANTA FE","30500143297","Vergara, Marcelo","Gomez, Cristian","A definir",""]
[null,"CAPITAL FEDERAL (CP: 1336)","1336","CAPITAL FEDERAL","CAPITAL FEDERAL","METROPOLITANA",31,"PABLO CIMINARI",null,null,null,null,null,null,null,null,null,null,null,null,null,null,null,null,null,null,null,null,null,null,null,null,null,null,null,null,null,null,null,null,null,null,null,null,null,888,"ACA RAFAELA","ACA","ACA","LITORAL SUR","AVENIDA SANTA FE 705 Y RUTA NACIONAL N° 3",2300,"RAFAELA","CASTELLANOS","SANTA FE","30500143297","Oyola, Rafael","Gomez, Cristian","A definir",""]
[null,"CAPITAL FEDERAL (CP: 1337)","1337","CAPITAL FEDERAL","CAPITAL FEDERAL","METROPOLITANA",31,"PABLO CIMINARI",null,null,null,null,null,null,null,null,null,null,null,null,null,null,null,null,null,null,null,null,null,null,null,null,null,null,null,null,null,null,null,null,null,null,null,null,null,889,"OPESSA ACA SUSANA","OPESSA","Consignado","LITORAL SUR","RUTA NACIONAL 34 KM 213.800 (Ascendente)",2301,"SUSANA","CASTELLANOS","SANTA FE","30678774495","Oyola, Rafael","Gomez, Cristian","A definir","Lujan, Gabriela"]
[null,"CAPITAL FEDERAL (CP: 1338)","1338","CAPITAL FEDERAL","CAPITAL FEDERAL","METROPOLITANA",31,"PABLO CIMINARI",null,null,null,null,null,null,null,null,null,null,null,null,null,null,null,null,null,null,null,null,null,null,null,null,null,null,null,null,null,null,null,null,null,null,null,null,null,890,"SUC ALVAREZ N Y CAUDA N G C DE ALVAREZ","TERCEROS","Consignado","LITORAL SUR","CASEROS Y SAAVEDRA",3070,"SAN CRISTOBAL","SAN CRISTOBAL","SANTA FE","30589175073","Vergara, Marcelo","Gomez, Cristian","A definir",""]
[null,"CAPITAL FEDERAL (CP: 1339)","1339","CAPITAL FEDERAL","CAPITAL FEDERAL","METROPOLITANA",31,"PABLO CIMINARI",null,null,null,null,null,null,null,null,null,null,null,null,null,null,null,null,null,null,null,null,null,null,null,null,null,null,null,null,null,null,null,null,null,null,null,null,null,899,"MACARIO JORGE CARLOS","TERCEROS","Reventa","LITORAL SUR","RUTA PROVINCIAL DR BORGNA KM (Ascendente) Y RUTA 13",2407,"CLUCELLAS","CASTELLANOS","SANTA FE","20101544142","Colla, María de los Ángeles","Gomez, Cristian","A definir",""]
[null,"CAPITAL FEDERAL (CP: 1340)","1340","CAPITAL FEDERAL","CAPITAL FEDERAL","METROPOLITANA",31,"PABLO CIMINARI",null,null,null,null,null,null,null,null,null,null,null,null,null,null,null,null,null,null,null,null,null,null,null,null,null,null,null,null,null,null,null,null,null,null,null,null,null,904,"UNION AGRICOLA DE AVELLANEDA COOPERATIVA LTDA","TERCEROS","Consignado","LITORAL SUR","CALLE 11 Y CALLE 18",3561,"AVELLANEDA","GRAL OBLIGADO","SANTA FE","30501912405","Vergara, Marcelo","Gomez, Cristian","A definir",""]
[null,"CAPITAL FEDERAL (CP: 1341)","1341","CAPITAL FEDERAL","CAPITAL FEDERAL","METROPOLITANA",31,"PABLO CIMINARI",null,null,null,null,null,null,null,null,null,null,null,null,null,null,null,null,null,null,null,null,null,null,null,null,null,null,null,null,null,null,null,null,null,null,null,null,null,905,"MARIA DEL HUERTO SRL","TERCEROS","Consignado","LITORAL SUR","RUTA PROVINCIAL 1 KM () Y ACCESO",3555,"ROMANG","SAN JAVIER","SANTA FE","30658269557","Vergara, Marcelo","Gomez, Cristian","A definir",""]
[null,"CAPITAL FEDERAL (CP: 1342)","1342","CAPITAL FEDERAL","CAPITAL FEDERAL","METROPOLITANA",31,"PABLO CIMINARI",null,null,null,null,null,null,null,null,null,null,null,null,null,null,null,null,null,null,null,null,null,null,null,null,null,null,null,null,null,null,null,null,null,null,null,null,null,907,"OPESSA ACA RECONQUISTA","OPESSA","Consignado","LITORAL SUR","BOULEVARD HIPOLITO YRIGOYEN Y PATRICIO DIEZ",3560,"RECONQUISTA","GRAL OBLIGADO","SANTA FE","30678774495","Vergara, Marcelo","Gomez, Cristian","A definir","Duran, Oscar"]
[null,"CAPITAL FEDERAL (CP: 1343)","1343","CAPITAL FEDERAL","CAPITAL FEDERAL","METROPOLITANA",31,"PABLO CIMINARI",null,null,null,null,null,null,null,null,null,null,null,null,null,null,null,null,null,null,null,null,null,null,null,null,null,null,null,null,null,null,null,null,null,null,null,null,null,909,"ESTRADA DE MEYER MERCEDES","TERCEROS","Consignado","LITORAL SUR","25 DE MAYO",3023,"PROGRESO","LAS COLONIAS","SANTA FE","27135202709","Oyola, Rafael","Gomez, Cristian","A definir",""]
[null,"CAPITAL FEDERAL (CP: 1344)","1344","CAPITAL FEDERAL","CAPITAL FEDERAL","METROPOLITANA",31,"PABLO CIMINARI",null,null,null,null,null,null,null,null,null,null,null,null,null,null,null,null,null,null,null,null,null,null,null,null,null,null,null,null,null,null,null,null,null,null,null,null,null,919,"ALCIDES PHISALIX SACIF","TERCEROS","Consignado","LITORAL SUR","AVENIDA GRAL MANUEL BELGRANO Y LHERITTIER",3013,"SAN CARLOS CENTRO","LAS COLONIAS","SANTA FE","33517584229","Oyola, Rafael","Gomez, Cristian","A definir",""]
[null,"CAPITAL FEDERAL (CP: 1345)","1345","CAPITAL FEDERAL","CAPITAL FEDERAL","METROPOLITANA",31,"PABLO CIMINARI",null,null,null,null,null,null,null,null,null,null,null,null,null,null,null,null,null,null,null,null,null,null,null,null,null,null,null,null,null,null,null,null,null,null,null,null,null,923,"CANEVA JORGE ALBERTO","TERCEROS","Consignado","LITORAL SUR","GRAL SAN MARTIN Y J HERNANDEZ",3023,"SARMIENTO","LAS COLONIAS","SANTA FE","20127500801","Oyola, Rafael","Gomez, Cristian","A definir",""]
[null,"CAPITAL FEDERAL (CP: 1346)","1346","CAPITAL FEDERAL","CAPITAL FEDERAL","METROPOLITANA",31,"PABLO CIMINARI",null,null,null,null,null,null,null,null,null,null,null,null,null,null,null,null,null,null,null,null,null,null,null,null,null,null,null,null,null,null,null,null,null,null,null,null,null,925,"M LEURINO, R NEGRO Y R DONNET","TERCEROS","Consignado","LITORAL SUR","SAN MARTIN 2297 Y 3 DE FEBRERO",3080,"ESPERANZA","LAS COLONIAS","SANTA FE","30572392178","Oyola, Rafael","Gomez, Cristian","A definir",""]
[null,"CAPITAL FEDERAL (CP: 1347)","1347","CAPITAL FEDERAL","CAPITAL FEDERAL","METROPOLITANA",31,"PABLO CIMINARI",null,null,null,null,null,null,null,null,null,null,null,null,null,null,null,null,null,null,null,null,null,null,null,null,null,null,null,null,null,null,null,null,null,null,null,null,null,927,"SAN JAVIER SERVICIOS SRL","TERCEROS","Consignado","LITORAL SUR","RUTA PROVINCIAL 1 KM (Ascendente) Y ACCESO",3005,"SAN JAVIER","SAN JAVIER","SANTA FE","30692426696","Vergara, Marcelo","Gomez, Cristian","A definir",""]
[null,"CAPITAL FEDERAL (CP: 1348)","1348","CAPITAL FEDERAL","CAPITAL FEDERAL","METROPOLITANA",31,"PABLO CIMINARI",null,null,null,null,null,null,null,null,null,null,null,null,null,null,null,null,null,null,null,null,null,null,null,null,null,null,null,null,null,null,null,null,null,null,null,null,null,928,"SCHLEPPI RENE JORGE","TERCEROS","Consignado","LITORAL SUR","AVENIDA ESTANISLAO LOPEZ 2305 Y SAN JOSE",3081,"HUMBOLDT","LAS COLONIAS","SANTA FE","20066132057","Oyola, Rafael","Gomez, Cristian","A definir",""]
[null,"CAPITAL FEDERAL (CP: 1349)","1349","CAPITAL FEDERAL","CAPITAL FEDERAL","METROPOLITANA",31,"PABLO CIMINARI",null,null,null,null,null,null,null,null,null,null,null,null,null,null,null,null,null,null,null,null,null,null,null,null,null,null,null,null,null,null,null,null,null,null,null,null,null,929,"BURGUI OMAR RAUL","TERCEROS","Consignado","LITORAL SUR","RIVADAVIA Y MORENO",3087,"FELICIA","LAS COLONIAS","SANTA FE","20115710037","Oyola, Rafael","Gomez, Cristian","A definir",""]
[null,"CAPITAL FEDERAL (CP: 1350)","1350","CAPITAL FEDERAL","CAPITAL FEDERAL","METROPOLITANA",31,"PABLO CIMINARI",null,null,null,null,null,null,null,null,null,null,null,null,null,null,null,null,null,null,null,null,null,null,null,null,null,null,null,null,null,null,null,null,null,null,null,null,null,930,"SERVIFRANCK SRL","TERCEROS","Consignado","LITORAL SUR","GRAL SAN MARTIN Y 25 DE MAYO",3009,"FRANCK","LAS COLONIAS","SANTA FE","30589410765","Oyola, Rafael","Gomez, Cristian","A definir",""]
[null,"CAPITAL FEDERAL (CP: 1351)","1351","CAPITAL FEDERAL","CAPITAL FEDERAL","METROPOLITANA",31,"PABLO CIMINARI",null,null,null,null,null,null,null,null,null,null,null,null,null,null,null,null,null,null,null,null,null,null,null,null,null,null,null,null,null,null,null,null,null,null,null,null,null,931,"ACA SANTA FE","ACA","ACA","LITORAL SUR","PRES BERNARDINO RIVADAVIA 3101 Y SUIPACHA",3000,"SANTA FE","SANTA FE CAPITAL","SANTA FE","30500143297","Martino, Alejandra","Gomez, Cristian","A definir",""]
[null,"CAPITAL FEDERAL (CP: 1352)","1352","CAPITAL FEDERAL","CAPITAL FEDERAL","METROPOLITANA",31,"PABLO CIMINARI",null,null,null,null,null,null,null,null,null,null,null,null,null,null,null,null,null,null,null,null,null,null,null,null,null,null,null,null,null,null,null,null,null,null,null,null,null,933,"SERGIO ANIBAL ALBERTO","TERCEROS","Consignado","LITORAL SUR","ACCESO SIN ESPECIFICAR Y RUTA 34",2449,"SAN M.D.L.ESCOBAS","SAN MARTIN","SANTA FE","23081065659","Oyola, Rafael","Gomez, Cristian","A definir",""]
[null,"CAPITAL FEDERAL (CP: 1353)","1353","CAPITAL FEDERAL","CAPITAL FEDERAL","METROPOLITANA",31,"PABLO CIMINARI",null,null,null,null,null,null,null,null,null,null,null,null,null,null,null,null,null,null,null,null,null,null,null,null,null,null,null,null,null,null,null,null,null,null,null,null,null,935,"COOPERATIVA AGROPECUARIA DE LOPEZ LTDA","TERCEROS","Reventa","LITORAL SUR","AVENIDA BUENOS AIRES Y AURELIA",2255,"SAN EUGENIO","SAN JERONIMO","SANTA FE","30508378765","Oyola, Rafael","Gomez, Cristian","A definir",""]
[null,"CAPITAL FEDERAL (CP: 1354)","1354","CAPITAL FEDERAL","CAPITAL FEDERAL","METROPOLITANA",31,"PABLO CIMINARI",null,null,null,null,null,null,null,null,null,null,null,null,null,null,null,null,null,null,null,null,null,null,null,null,null,null,null,null,null,null,null,null,null,null,null,null,null,936,"EDUARDO Y JUAN CASTELLARIN SH","TERCEROS","Consignado","LITORAL SUR","BELGRANO",2252,"GALVEZ","SAN JERONIMO","SANTA FE","30601256513","Oyola, Rafael","Gomez, Cristian","A definir",""]
[null,"CAPITAL FEDERAL (CP: 1355)","1355","CAPITAL FEDERAL","CAPITAL FEDERAL","METROPOLITANA",31,"PABLO CIMINARI",null,null,null,null,null,null,null,null,null,null,null,null,null,null,null,null,null,null,null,null,null,null,null,null,null,null,null,null,null,null,null,null,null,null,null,null,null,937,"AVANZAR SRL(EX DRUETTA)","TERCEROS","Consignado","LITORAL SUR","BUENOS AIRES Y GRAL LOPEZ",2454,"CAÑADA ROSQUIN","SAN MARTIN","SANTA FE","30674846343","Oyola, Rafael","Gomez, Cristian","A definir",""]
[null,"CAPITAL FEDERAL (CP: 1356)","1356","CAPITAL FEDERAL","CAPITAL FEDERAL","METROPOLITANA",31,"PABLO CIMINARI",null,null,null,null,null,null,null,null,null,null,null,null,null,null,null,null,null,null,null,null,null,null,null,null,null,null,null,null,null,null,null,null,null,null,null,null,null,938,"AVANZAR SRL","TERCEROS","Consignado","LITORAL SUR","RUTA NACIONAL 34 KM 129 (Ascendente)",2454,"CAÑADA ROSQUIN","SAN MARTIN","SANTA FE","30674846343","Oyola, Rafael","Gomez, Cristian","A definir",""]
[null,"CAPITAL FEDERAL (CP: 1357)","1357","CAPITAL FEDERAL","CAPITAL FEDERAL","METROPOLITANA",31,"PABLO CIMINARI",null,null,null,null,null,null,null,null,null,null,null,null,null,null,null,null,null,null,null,null,null,null,null,null,null,null,null,null,null,null,null,null,null,null,null,null,null,953,"CEGNA GERARDO MARCELO","TERCEROS","Consignado","LITORAL SUR","AVENIDA AMERICA Y SANTA FE",2535,"EL TREBOL","SAN MARTIN","SANTA FE","20219760184","Colla, María de los Ángeles","Gomez, Cristian","A definir",""]
[null,"CAPITAL FEDERAL (CP: 1358)","1358","CAPITAL FEDERAL","CAPITAL FEDERAL","METROPOLITANA",31,"PABLO CIMINARI",null,null,null,null,null,null,null,null,null,null,null,null,null,null,null,null,null,null,null,null,null,null,null,null,null,null,null,null,null,null,null,null,null,null,null,null,null,956,"FRANCISCO JOSE DURA SRL","TERCEROS","Consignado","LITORAL SUR","AVENIDA R SAENZ PE#A Y RIVADAVIA",2147,"SAN GENARO NORTE","SAN JERONIMO","SANTA FE","30709300403","Oyola, Rafael","Gomez, Cristian","A definir",""]
[null,"CAPITAL FEDERAL (CP: 1359)","1359","CAPITAL FEDERAL","CAPITAL FEDERAL","METROPOLITANA",31,"PABLO CIMINARI",null,null,null,null,null,null,null,null,null,null,null,null,null,null,null,null,null,null,null,null,null,null,null,null,null,null,null,null,null,null,null,null,null,null,null,null,null,959,"OPESSA ACA MARULL","OPESSA","Consignado","LITORAL SUR","BOULEVARD RONDEAU 898 Y MARULL",2000,"ROSARIO","ROSARIO","SANTA FE","30678774495","Donato, Sebastian","Gomez, Cristian","A definir","Talani, Cristian"]
[null,"CAPITAL FEDERAL (CP: 1360)","1360","CAPITAL FEDERAL","CAPITAL FEDERAL","METROPOLITANA",31,"PABLO CIMINARI",null,null,null,null,null,null,null,null,null,null,null,null,null,null,null,null,null,null,null,null,null,null,null,null,null,null,null,null,null,null,null,null,null,null,null,null,null,960,"ESTACION DE SERVICIOS RAUL SRL","TERCEROS","Consignado","LITORAL SUR","AVENIDA SAN MARTIN Y ARENALES",2152,"GRANAD.BAIGORRIA","ROSARIO","SANTA FE","30520586683","Colla, María de los Ángeles","Gomez, Cristian","A definir",""]
[null,"CAPITAL FEDERAL (CP: 1361)","1361","CAPITAL FEDERAL","CAPITAL FEDERAL","METROPOLITANA",31,"PABLO CIMINARI",null,null,null,null,null,null,null,null,null,null,null,null,null,null,null,null,null,null,null,null,null,null,null,null,null,null,null,null,null,null,null,null,null,null,null,null,null,973,"OPESSA ACA ORO#O","OPESSA","Consignado","LITORAL SUR","BOULEVARD ORO#O 1302 Y TRES DE FEBRERO",2000,"ROSARIO","ROSARIO","SANTA FE","30678774495","Donato, Sebastian","Gomez, Cristian","A definir","Talani, Cristian"]
[null,"CAPITAL FEDERAL (CP: 1362)","1362","CAPITAL FEDERAL","CAPITAL FEDERAL","METROPOLITANA",31,"PABLO CIMINARI",null,null,null,null,null,null,null,null,null,null,null,null,null,null,null,null,null,null,null,null,null,null,null,null,null,null,null,null,null,null,null,null,null,null,null,null,null,974,"HORACIO OSVALDO ALVAREZ","TERCEROS","Consignado","LITORAL SUR","RUTA NACIONAL 9 KM 397 (Descendente)",2508,"ARMSTRONG","BELGRANO","SANTA FE","20061837907","Colla, María de los Ángeles","Gomez, Cristian","A definir",""]
[null,"CAPITAL FEDERAL (CP: 1363)","1363","CAPITAL FEDERAL","CAPITAL FEDERAL","METROPOLITANA",31,"PABLO CIMINARI",null,null,null,null,null,null,null,null,null,null,null,null,null,null,null,null,null,null,null,null,null,null,null,null,null,null,null,null,null,null,null,null,null,null,null,null,null,976,"EDGARDO Y EDDA D'ONOFRIO SRL","TERCEROS","Consignado","LITORAL SUR","SAN MARTIN Y DORREGO",2105,"URANGA","ROSARIO","SANTA FE","30608574065","Colla, María de los Ángeles","Gomez, Cristian","A definir",""]
[null,"CAPITAL FEDERAL (CP: 1364)","1364","CAPITAL FEDERAL","CAPITAL FEDERAL","METROPOLITANA",31,"PABLO CIMINARI",null,null,null,null,null,null,null,null,null,null,null,null,null,null,null,null,null,null,null,null,null,null,null,null,null,null,null,null,null,null,null,null,null,null,null,null,null,977,"OPESSA FIGHIERA OESTE","OPESSA","Consignado","LITORAL SUR","AUTOPISTA AUT.GRAL.ARAMBURU RN N°9 KM 256 (Descendente)","2126A","FIGHIERA","ROSARIO","SANTA FE","30678774495","Donato, Sebastian","Gomez, Cristian","A definir","Talani, Cristian"]
[null,"CAPITAL FEDERAL (CP: 1365)","1365","CAPITAL FEDERAL","CAPITAL FEDERAL","METROPOLITANA",31,"PABLO CIMINARI",null,null,null,null,null,null,null,null,null,null,null,null,null,null,null,null,null,null,null,null,null,null,null,null,null,null,null,null,null,null,null,null,null,null,null,null,null,981,"LISI - LENCI SRL","TERCEROS","Consignado","LITORAL SUR","AVENIDA RIVADAVIA 1259",2126,"FIGHIERA","ROSARIO","SANTA FE","30707998632","Donato, Sebastian","Gomez, Cristian","A definir",""]
[null,"CAPITAL FEDERAL (CP: 1366)","1366","CAPITAL FEDERAL","CAPITAL FEDERAL","METROPOLITANA",31,"PABLO CIMINARI",null,null,null,null,null,null,null,null,null,null,null,null,null,null,null,null,null,null,null,null,null,null,null,null,null,null,null,null,null,null,null,null,null,null,null,null,null,983,"OPESSA OVIDIO LAGOS","OPESSA","Consignado","LITORAL SUR","27 DE FEBRERO 2801 Y OVIDIO LAGOS",2000,"ROSARIO","ROSARIO","SANTA FE","30678774495","Donato, Sebastian","Gomez, Cristian","A definir","Talani, Cristian"]
[null,"CAPITAL FEDERAL (CP: 1367)","1367","CAPITAL FEDERAL","CAPITAL FEDERAL","METROPOLITANA",31,"PABLO CIMINARI",null,null,null,null,null,null,null,null,null,null,null,null,null,null,null,null,null,null,null,null,null,null,null,null,null,null,null,null,null,null,null,null,null,null,null,null,null,985,"JULIO Y SALVADOR GONZALEZ SRL","TERCEROS","Consignado","LITORAL SUR","AVENIDA MANUEL ARIJON Y MORENO",2000,"ROSARIO","ROSARIO","SANTA FE","30547498271","Donato, Sebastian","Gomez, Cristian","A definir",""]
[null,"CAPITAL FEDERAL (CP: 1368)","1368","CAPITAL FEDERAL","CAPITAL FEDERAL","METROPOLITANA",31,"PABLO CIMINARI",null,null,null,null,null,null,null,null,null,null,null,null,null,null,null,null,null,null,null,null,null,null,null,null,null,null,null,null,null,null,null,null,null,null,null,null,null,986,"LA BLANCA SRL","TERCEROS","Consignado","LITORAL SUR","AVENIDA OVIDIO LAGOS Y ESTEBAN DE LUCA",2000,"ROSARIO","ROSARIO","SANTA FE","30539285684","Donato, Sebastian","Gomez, Cristian","A definir",""]
[null,"CAPITAL FEDERAL (CP: 1369)","1369","CAPITAL FEDERAL","CAPITAL FEDERAL","METROPOLITANA",31,"PABLO CIMINARI",null,null,null,null,null,null,null,null,null,null,null,null,null,null,null,null,null,null,null,null,null,null,null,null,null,null,null,null,null,null,null,null,null,null,null,null,null,987,"JOSE ORSI Y CIA SRL","TERCEROS","Consignado","LITORAL SUR","AVENIDA ARIJON Y AYACUCHO",2000,"ROSARIO","ROSARIO","SANTA FE","33519660259","Donato, Sebastian","Gomez, Cristian","A definir",""]
[null,"CAPITAL FEDERAL (CP: 1370)","1370","CAPITAL FEDERAL","CAPITAL FEDERAL","METROPOLITANA",31,"PABLO CIMINARI",null,null,null,null,null,null,null,null,null,null,null,null,null,null,null,null,null,null,null,null,null,null,null,null,null,null,null,null,null,null,null,null,null,null,null,null,null,989,"OPESSA ACA ROSARIO URIBURU","OPESSA","Consignado","LITORAL SUR","AVENIDA GENERAL SAN MARTIN Y AVENIDA URIBURU",2000,"ROSARIO","ROSARIO","SANTA FE","30678774495","Donato, Sebastian","Gomez, Cristian","A definir","Talani, Cristian"]
[null,"CAPITAL FEDERAL (CP: 1371)","1371","CAPITAL FEDERAL","CAPITAL FEDERAL","METROPOLITANA",31,"PABLO CIMINARI",null,null,null,null,null,null,null,null,null,null,null,null,null,null,null,null,null,null,null,null,null,null,null,null,null,null,null,null,null,null,null,null,null,null,null,null,null,991,"ALBERTO CROSSETTI","TERCEROS","Consignado","LITORAL SUR","RUTA NACIONAL 178 KM 10 (Ascendente)",2505,"LAS PAREJAS","BELGRANO","SANTA FE","20125420606","Colla, María de los Ángeles","Gomez, Cristian","A definir",""]
[null,"CAPITAL FEDERAL (CP: 1372)","1372","CAPITAL FEDERAL","CAPITAL FEDERAL","METROPOLITANA",31,"PABLO CIMINARI",null,null,null,null,null,null,null,null,null,null,null,null,null,null,null,null,null,null,null,null,null,null,null,null,null,null,null,null,null,null,null,null,null,null,null,null,null,994,"MEYER RICARDO","TERCEROS","Consignado","LITORAL SUR","AVENIDA SANTA FE Y MORENO",2500,"CAÑADA DE GOMEZ","IRIONDO","SANTA FE","20102508689","Colla, María de los Ángeles","Gomez, Cristian","A definir",""]
[null,"CAPITAL FEDERAL (CP: 1373)","1373","CAPITAL FEDERAL","CAPITAL FEDERAL","METROPOLITANA",31,"PABLO CIMINARI",null,null,null,null,null,null,null,null,null,null,null,null,null,null,null,null,null,null,null,null,null,null,null,null,null,null,null,null,null,null,null,null,null,null,null,null,null,997,"KILOMETRO 352 SRL","TERCEROS","Consignado","LITORAL SUR","RUTA NACIONAL 9 KM 352 (Descendente) Y CHACABUCO",2138,"CARCARAÑA","SAN LORENZO","SANTA FE","30557560404","Colla, María de los Ángeles","Gomez, Cristian","A definir",""]
[null,"CAPITAL FEDERAL (CP: 1374)","1374","CAPITAL FEDERAL","CAPITAL FEDERAL","METROPOLITANA",31,"PABLO CIMINARI",null,null,null,null,null,null,null,null,null,null,null,null,null,null,null,null,null,null,null,null,null,null,null,null,null,null,null,null,null,null,null,null,null,null,null,null,null,1001,"CARNEVALE ROBERTO Y/O RABITTI JOSE","TERCEROS","Consignado","LITORAL SUR","RUTA NACIONAL 34 KM 53.500 (Descendente)",2144,"TOTORAS","IRIONDO","SANTA FE","30708190442","Oyola, Rafael","Gomez, Cristian","A definir",""]
[null,"CAPITAL FEDERAL (CP: 1375)","1375","CAPITAL FEDERAL","CAPITAL FEDERAL","METROPOLITANA",31,"PABLO CIMINARI",null,null,null,null,null,null,null,null,null,null,null,null,null,null,null,null,null,null,null,null,null,null,null,null,null,null,null,null,null,null,null,null,null,null,null,null,null,1005,"OPESSA LA RIBERA","OPESSA","Consignado","LITORAL SUR","AUTOPISTA BRIGADIER ESTANISLAO LOPEZ KM 28 (Ascendente)",2204,"TIMBUES","SAN LORENZO","SANTA FE","30678774495","Colla, María de los Ángeles","Gomez, Cristian","A definir","Talani, Cristian"]
[null,"CAPITAL FEDERAL (CP: 1376)","1376","CAPITAL FEDERAL","CAPITAL FEDERAL","METROPOLITANA",31,"PABLO CIMINARI",null,null,null,null,null,null,null,null,null,null,null,null,null,null,null,null,null,null,null,null,null,null,null,null,null,null,null,null,null,null,null,null,null,null,null,null,null,1006,"ACA TORTUGAS","ACA","ACA","LITORAL SUR","RUTA NACIONAL 9 KM 419 (Ascendente)",2512,"TORTUGAS","BELGRANO","SANTA FE","30500143297","Colla, María de los Ángeles","Gomez, Cristian","A definir",""]
[null,"CAPITAL FEDERAL (CP: 1377)","1377","CAPITAL FEDERAL","CAPITAL FEDERAL","METROPOLITANA",31,"PABLO CIMINARI",null,null,null,null,null,null,null,null,null,null,null,null,null,null,null,null,null,null,null,null,null,null,null,null,null,null,null,null,null,null,null,null,null,null,null,null,null,1009,"ACCESO SUR SAN LORENZO SRL","TERCEROS","Consignado","LITORAL SUR","RUTA PROVINCIAL AO12 KM (Ascendente) Y VIAS FCGB MITRE",2200,"SAN LORENZO","SAN LORENZO","SANTA FE","30707045821","Colla, María de los Ángeles","Gomez, Cristian","A definir",""]
[null,"CAPITAL FEDERAL (CP: 1378)","1378","CAPITAL FEDERAL","CAPITAL FEDERAL","METROPOLITANA",31,"PABLO CIMINARI",null,null,null,null,null,null,null,null,null,null,null,null,null,null,null,null,null,null,null,null,null,null,null,null,null,null,null,null,null,null,null,null,null,null,null,null,null,1014,"HACHEBE SA","TERCEROS","Consignado","LITORAL SUR","RUTA NACIONAL 11 KM (Descendente) Y MARTIN FIERRO",2154,"CAP.BERMUDEZ","SAN LORENZO","SANTA FE","30629966931","Colla, María de los Ángeles","Gomez, Cristian","A definir",""]
[null,"CAPITAL FEDERAL (CP: 1379)","1379","CAPITAL FEDERAL","CAPITAL FEDERAL","METROPOLITANA",31,"PABLO CIMINARI",null,null,null,null,null,null,null,null,null,null,null,null,null,null,null,null,null,null,null,null,null,null,null,null,null,null,null,null,null,null,null,null,null,null,null,null,null,1022,"JAVIER J CAMAROTTI Y RODRIGO M CAMAROTTI","TERCEROS","Consignado","LITORAL SUR","BOULEVARD OVIDIO LAGOS Y TUCUMAN",2170,"CASILDA","CASEROS","SANTA FE","30676847681","Colla, María de los Ángeles","Gomez, Cristian","A definir",""]
[null,"CAPITAL FEDERAL (CP: 1380)","1380","CAPITAL FEDERAL","CAPITAL FEDERAL","METROPOLITANA",31,"PABLO CIMINARI",null,null,null,null,null,null,null,null,null,null,null,null,null,null,null,null,null,null,null,null,null,null,null,null,null,null,null,null,null,null,null,null,null,null,null,null,null,1024,"GNC CRUZ ALTA SRL","TERCEROS","Consignado","LITORAL SUR","RUTA PROVINCIAL 92 KM (Ascendente) Y RIVADAVIA",2185,"S.J.ESQUINA","CASEROS","SANTA FE","30708294477","Colla, María de los Ángeles","Gomez, Cristian","A definir",""]
[null,"CAPITAL FEDERAL (CP: 1381)","1381","CAPITAL FEDERAL","CAPITAL FEDERAL","METROPOLITANA",31,"PABLO CIMINARI",null,null,null,null,null,null,null,null,null,null,null,null,null,null,null,null,null,null,null,null,null,null,null,null,null,null,null,null,null,null,null,null,null,null,null,null,null,1025,"PETROTRELEW","TERCEROS","Consignado","PATAGONIA","MODESTA DIAZ DE QUINTANA Y L FERRARI AVDA ANTARTIDA ARGENTINA Y 25 DE MAYO",9103,"RAWSON","RAWSON","CHUBUT","30708081961","Scolari, Dario","Peletay, Walter","Barreiro, Silvina",""]
[null,"CAPITAL FEDERAL (CP: 1382)","1382","CAPITAL FEDERAL","CAPITAL FEDERAL","METROPOLITANA",31,"PABLO CIMINARI",null,null,null,null,null,null,null,null,null,null,null,null,null,null,null,null,null,null,null,null,null,null,null,null,null,null,null,null,null,null,null,null,null,null,null,null,null,1026,"MIRKO ESTEBAN MILOSLAVICH","TERCEROS","Consignado","LITORAL SUR","AVENIDA SAN MARTIN Y CALLE 2",2181,"LOS MOLINOS","CASEROS","SANTA FE","20030929706","Colla, María de los Ángeles","Gomez, Cristian","A definir",""]
[null,"CAPITAL FEDERAL (CP: 1383)","1383","CAPITAL FEDERAL","CAPITAL FEDERAL","METROPOLITANA",31,"PABLO CIMINARI",null,null,null,null,null,null,null,null,null,null,null,null,null,null,null,null,null,null,null,null,null,null,null,null,null,null,null,null,null,null,null,null,null,null,null,null,null,1030,"MIJOEVICH HUGO JOSE","TERCEROS","Consignado","LITORAL SUR","SAN MARTIN Y LIBERTAD",2177,"BIGAND","CASEROS","SANTA FE","20127239127","Ahmad, Ricardo","Gomez, Cristian","A definir",""]
[null,"CAPITAL FEDERAL (CP: 1384)","1384","CAPITAL FEDERAL","CAPITAL FEDERAL","METROPOLITANA",31,"PABLO CIMINARI",null,null,null,null,null,null,null,null,null,null,null,null,null,null,null,null,null,null,null,null,null,null,null,null,null,null,null,null,null,null,null,null,null,null,null,null,null,1031,"VOLONTE SRL","TERCEROS","Consignado","LITORAL SUR","1° DE MAYO Y LISANDRO DE LA TORRE",2170,"CASILDA","CASEROS","SANTA FE","30707390863","Colla, María de los Ángeles","Gomez, Cristian","A definir",""]
[null,"CAPITAL FEDERAL (CP: 1385)","1385","CAPITAL FEDERAL","CAPITAL FEDERAL","METROPOLITANA",31,"PABLO CIMINARI",null,null,null,null,null,null,null,null,null,null,null,null,null,null,null,null,null,null,null,null,null,null,null,null,null,null,null,null,null,null,null,null,null,null,null,null,null,1033,"FACUNDO Y JUAN CRUZ STIZZA SH","TERCEROS","Consignado","LITORAL SUR","BUENOS AIRES Y GENERAL ROCA",2918,"EMPAL.V.CONSTIT.","CONSTITUCION","SANTA FE","30701510824","Donato, Sebastian","Gomez, Cristian","A definir",""]
[null,"CAPITAL FEDERAL (CP: 1386)","1386","CAPITAL FEDERAL","CAPITAL FEDERAL","METROPOLITANA",31,"PABLO CIMINARI",null,null,null,null,null,null,null,null,null,null,null,null,null,null,null,null,null,null,null,null,null,null,null,null,null,null,null,null,null,null,null,null,null,null,null,null,null,1039,"ROGELIO MARIANO ORIOLO","TERCEROS","Consignado","LITORAL SUR","RIVADAVIA Y 25 DE MAYO",2117,"ALCORTA","CONSTITUCION","SANTA FE","20149219014","Ahmad, Ricardo","Gomez, Cristian","A definir",""]
[null,"CAPITAL FEDERAL (CP: 1387)","1387","CAPITAL FEDERAL","CAPITAL FEDERAL","METROPOLITANA",31,"PABLO CIMINARI",null,null,null,null,null,null,null,null,null,null,null,null,null,null,null,null,null,null,null,null,null,null,null,null,null,null,null,null,null,null,null,null,null,null,null,null,null,1040,"SANTOS COSTA SA","TERCEROS","Consignado","LITORAL SUR","SAN MARTIN Y MOSCONI",2919,"VILLA CONSTITUCION","CONSTITUCION","SANTA FE","30615128186","Donato, Sebastian","Gomez, Cristian","A definir",""]
[null,"CAPITAL FEDERAL (CP: 1388)","1388","CAPITAL FEDERAL","CAPITAL FEDERAL","METROPOLITANA",31,"PABLO CIMINARI",null,null,null,null,null,null,null,null,null,null,null,null,null,null,null,null,null,null,null,null,null,null,null,null,null,null,null,null,null,null,null,null,null,null,null,null,null,1046,"ACA FIRMAT","ACA","ACA","LITORAL SUR","RUTA NACIONAL 33 KM (Ascendente) Y 9 DE JULIO",2630,"FIRMAT","GRAL LOPEZ","SANTA FE","30500143297","Ahmad, Ricardo","Gomez, Cristian","A definir",""]
[null,"CAPITAL FEDERAL (CP: 1389)","1389","CAPITAL FEDERAL","CAPITAL FEDERAL","METROPOLITANA",31,"PABLO CIMINARI",null,null,null,null,null,null,null,null,null,null,null,null,null,null,null,null,null,null,null,null,null,null,null,null,null,null,null,null,null,null,null,null,null,null,null,null,null,1047,"N S DE FERNANDEZ E HIJOS SH","TERCEROS","Consignado","LITORAL SUR","RUTA NACIONAL 8 KM 301.500 (Descendente)",2725,"HUGHES","GRAL LOPEZ","SANTA FE","30628181132","Ahmad, Ricardo","Gomez, Cristian","A definir",""]
[null,"CAPITAL FEDERAL (CP: 1390)","1390","CAPITAL FEDERAL","CAPITAL FEDERAL","METROPOLITANA",31,"PABLO CIMINARI",null,null,null,null,null,null,null,null,null,null,null,null,null,null,null,null,null,null,null,null,null,null,null,null,null,null,null,null,null,null,null,null,null,null,null,null,null,1048,"N S DE FERNANDEZ E HIJOS SH","TERCEROS","Consignado","LITORAL SUR","SAN MARTIN Y MORENO",2728,"MELINCUE","GRAL LOPEZ","SANTA FE","30628181132","Ahmad, Ricardo","Gomez, Cristian","A definir",""]
[null,"CAPITAL FEDERAL (CP: 1391)","1391","CAPITAL FEDERAL","CAPITAL FEDERAL","METROPOLITANA",31,"PABLO CIMINARI",null,null,null,null,null,null,null,null,null,null,null,null,null,null,null,null,null,null,null,null,null,null,null,null,null,null,null,null,null,null,null,null,null,null,null,null,null,1049,"JOSE LORENZO CELDRAN","TERCEROS","Consignado","LITORAL SUR","AVENIDA J.ROBERTI Y B. MARTINEZ",6009,"TEODELINA","GRAL LOPEZ","SANTA FE","20061234498","Ahmad, Ricardo","Gomez, Cristian","A definir",""]
[null,"CAPITAL FEDERAL (CP: 1392)","1392","CAPITAL FEDERAL","CAPITAL FEDERAL","METROPOLITANA",31,"PABLO CIMINARI",null,null,null,null,null,null,null,null,null,null,null,null,null,null,null,null,null,null,null,null,null,null,null,null,null,null,null,null,null,null,null,null,null,null,null,null,null,1051,"RUTAS DEL SOL SA","TERCEROS","Consignado","AREA DEL SOL","AVENIDA ACCESO SUR 2159",5501,"G0D0Y CRUZ","GODOY CRUZ","MENDOZA","30679813028","Farias, Daniel","Cacciola, Federico","Chiavassa, César Miguel",""]
[null,"CAPITAL FEDERAL (CP: 1393)","1393","CAPITAL FEDERAL","CAPITAL FEDERAL","METROPOLITANA",31,"PABLO CIMINARI",null,null,null,null,null,null,null,null,null,null,null,null,null,null,null,null,null,null,null,null,null,null,null,null,null,null,null,null,null,null,null,null,null,null,null,null,null,1053,"ORGANIZACION DELASOIE HNOS","TERCEROS","Consignado","LITORAL SUR","V URQUIZA Y ESTRADA",3265,"VILLA ELISA","COLON","ENTRE RIOS","30546995735","Martinez Ruhl, Jose Huberto","Gomez, Cristian","A definir",""]
[null,"CAPITAL FEDERAL (CP: 1394)","1394","CAPITAL FEDERAL","CAPITAL FEDERAL","METROPOLITANA",31,"PABLO CIMINARI",null,null,null,null,null,null,null,null,null,null,null,null,null,null,null,null,null,null,null,null,null,null,null,null,null,null,null,null,null,null,null,null,null,null,null,null,null,1057,"VENADO COMBUSTIBLES SA","TERCEROS","Consignado","LITORAL SUR","AVENIDA DR LUIS CHAPUIS Y PIACENZA",2600,"VENADO TUERTO","GRAL LOPEZ","SANTA FE","33674821889","Ahmad, Ricardo","Gomez, Cristian","A definir",""]
[null,{"$f":"CONCATENATE(D387,\" (CP: \",C387,\")\")","v":"CAPITAL FEDERAL (CP: 1395)"},"1395","CAPITAL FEDERAL","CAPITAL FEDERAL","METROPOLITANA",31,"PABLO CIMINARI",null,null,null,null,null,null,null,null,null,null,null,null,null,null,null,null,null,null,null,null,null,null,null,null,null,null,null,null,null,null,null,null,null,null,null,null,null,1064,"ORGANIZACION DELASOIE HNOS SA","TERCEROS","Consignado","LITORAL SUR","AVENIDA PRESIDENTE JUAN DOMINGO PERON Y ALDERDI",3280,"COLON","COLON","ENTRE RIOS","30546995735","Martinez Ruhl, Jose Huberto","Gomez, Cristian","A definir",""]
[null,"CAPITAL FEDERAL (CP: 1396)","1396","CAPITAL FEDERAL","CAPITAL FEDERAL","METROPOLITANA",31,"PABLO CIMINARI",null,null,null,null,null,null,null,null,null,null,null,null,null,null,null,null,null,null,null,null,null,null,null,null,null,null,null,null,null,null,null,null,null,null,null,null,null,1065,"EMPRESA DUVAL FLORES SA","TERCEROS","Consignado","LITORAL SUR","RUTA NACIONAL 12 KM (Ascendente) Y RUTA PROV 1",3190,"LA PAZ","LA PAZ","ENTRE RIOS","33607129989","A definir","Gomez, Cristian","A definir",""]
[null,"CAPITAL FEDERAL (CP: 1397)","1397","CAPITAL FEDERAL","CAPITAL FEDERAL","METROPOLITANA",31,"PABLO CIMINARI",null,null,null,null,null,null,null,null,null,null,null,null,null,null,null,null,null,null,null,null,null,null,null,null,null,null,null,null,null,null,null,null,null,null,null,null,null,1067,"HUINCAS SA","TERCEROS","Consignado","LITORAL SUR","RUTA NACIONAL 33 KM 587.500 (Ascendente) Y ACCESO",2617,"SANCTI SPIRITU","GRAL LOPEZ","SANTA FE","30711838968","Ahmad, Ricardo","Gomez, Cristian","A definir",""]
[null,"CAPITAL FEDERAL (CP: 1398)","1398","CAPITAL FEDERAL","CAPITAL FEDERAL","METROPOLITANA",31,"PABLO CIMINARI",null,null,null,null,null,null,null,null,null,null,null,null,null,null,null,null,null,null,null,null,null,null,null,null,null,null,null,null,null,null,null,null,null,null,null,null,null,1071,"COMERCIAL DIEGO SRL","TERCEROS","Consignado","LITORAL SUR","J B JUSTO Y AVDA ESPAðA",6100,"RUFINO","GRAL LOPEZ","SANTA FE","30540109342","Ahmad, Ricardo","Gomez, Cristian","A definir",""]
[null,"CAPITAL FEDERAL (CP: 1399)","1399","CAPITAL FEDERAL","CAPITAL FEDERAL","METROPOLITANA",31,"PABLO CIMINARI",null,null,null,null,null,null,null,null,null,null,null,null,null,null,null,null,null,null,null,null,null,null,null,null,null,null,null,null,null,null,null,null,null,null,null,null,null,1075,"HECTOR PEDRO MASSA","TERCEROS","Reventa","LITORAL SUR","SANTA FE Y LA PLACE",2633,"CHOVET","GRAL LOPEZ","SANTA FE","20061235788","Ahmad, Ricardo","Gomez, Cristian","A definir",""]
[null,"CAPITAL FEDERAL (CP: 1400)","1400","CAPITAL FEDERAL","CAPITAL FEDERAL","METROPOLITANA",18,"OMAR PRESAS",null,null,null,null,null,null,null,null,null,null,null,null,null,null,null,null,null,null,null,null,null,null,null,null,null,null,null,null,null,null,null,null,null,null,null,null,null,1076,"EL EMPALME SRL","TERCEROS","Consignado","LITORAL SUR","RUTA NACIONAL 12 KM 64 (Descendente) Y RUTA NACIONAL 127",3132,"EL PINGO","PARANA","ENTRE RIOS","33615338449","A definir","Gomez, Cristian","A definir",""]
[null,"CAPITAL FEDERAL (CP: 1401)","1401","CAPITAL FEDERAL","CAPITAL FEDERAL","METROPOLITANA",18,"OMAR PRESAS",null,null,null,null,null,null,null,null,null,null,null,null,null,null,null,null,null,null,null,null,null,null,null,null,null,null,null,null,null,null,null,null,null,null,null,null,null,1077,"LUBRICOM SACAIFI","TERCEROS","Consignado","LITORAL SUR","AVENIDA SOBERANIA Y ARTIGAS",2840,"GUALEGUAY","GUALEGUAY","ENTRE RIOS","30538044519","Martinez Ruhl, Jose Huberto","Gomez, Cristian","A definir",""]
[null,"CAPITAL FEDERAL (CP: 1405)","1405","CAPITAL FEDERAL","CAPITAL FEDERAL","METROPOLITANA",18,"OMAR PRESAS",null,null,null,null,null,null,null,null,null,null,null,null,null,null,null,null,null,null,null,null,null,null,null,null,null,null,null,null,null,null,null,null,null,null,null,null,null,1078,"CRACCO ADOLFO I","TERCEROS","Consignado","LITORAL SUR","HIPOLITO IRIGOYEN Y BOULEVARD VILLAGUAY",3218,"SAN SALVADOR","COLON","ENTRE RIOS","20057779943","A definir","Gomez, Cristian","A definir",""]
[null,"CAPITAL FEDERAL (CP: 1406)","1406","CAPITAL FEDERAL","CAPITAL FEDERAL","METROPOLITANA",18,"OMAR PRESAS",null,null,null,null,null,null,null,null,null,null,null,null,null,null,null,null,null,null,null,null,null,null,null,null,null,null,null,null,null,null,null,null,null,null,null,null,null,1080,"ACA GUALEGUAYCHU","ACA","ACA","LITORAL SUR","URQUIZA 1001 Y CHACABUCO",2820,"GUALEGUAYCHU","GUALEGUAYCHU","ENTRE RIOS","30500143297","Martinez Ruhl, Jose Huberto","Gomez, Cristian","A definir",""]
[null,"CAPITAL FEDERAL (CP: 1407)","1407","CAPITAL FEDERAL","CAPITAL FEDERAL","METROPOLITANA",18,"OMAR PRESAS",null,null,null,null,null,null,null,null,null,null,null,null,null,null,null,null,null,null,null,null,null,null,null,null,null,null,null,null,null,null,null,null,null,null,null,null,null,1082,"ACA VENADO TUERTO","ACA","ACA","LITORAL SUR","25 DE MAYO Y BELGRANO",2600,"VENADO TUERTO","GRAL LOPEZ","SANTA FE","30500143297","Ahmad, Ricardo","Gomez, Cristian","A definir",""]
[null,"CAPITAL FEDERAL (CP: 1408)","1408","CAPITAL FEDERAL","CAPITAL FEDERAL","METROPOLITANA",18,"OMAR PRESAS",null,null,null,null,null,null,null,null,null,null,null,null,null,null,null,null,null,null,null,null,null,null,null,null,null,null,null,null,null,null,null,null,null,null,null,null,null,1084,"9 DE JULIO SERVICIOS SRL","TERCEROS","Consignado","LITORAL SUR","9 DE JULIO Y UGARTECHE",3260,"CONC.DEL URUGUAY","URUGUAY","ENTRE RIOS","30709011150","Martinez Ruhl, Jose Huberto","Gomez, Cristian","A definir",""]
[null,"CAPITAL FEDERAL (CP: 1413)","1413","CAPITAL FEDERAL","CAPITAL FEDERAL","METROPOLITANA",18,"OMAR PRESAS",null,null,null,null,null,null,null,null,null,null,null,null,null,null,null,null,null,null,null,null,null,null,null,null,null,null,null,null,null,null,null,null,null,null,null,null,null,1087,"GRUPO COMERCIAL SRL","TERCEROS","Consignado","LITORAL SUR","RUTA NACIONAL 12 KM () Y BELGRANO",3150,"NOGOYA","NOGOYA","ENTRE RIOS","30707198288","Martinez Ruhl, Jose Huberto","Gomez, Cristian","A definir",""]
[null,"CAPITAL FEDERAL (CP: 1414)","1414","CAPITAL FEDERAL","CAPITAL FEDERAL","METROPOLITANA",29,"JOSE ANDRES MONDINO",null,null,null,null,null,null,null,null,null,null,null,null,null,null,null,null,null,null,null,null,null,null,null,null,null,null,null,null,null,null,null,null,null,null,null,null,null,1088,"OPESSA ALMAFUERTE","OPESSA","Consignado","LITORAL SUR","AVENIDA ALMAFUERTE 795 Y AYACUCHO",3100,"PARANA","PARANA","ENTRE RIOS","30678774495","Martino, Alejandra","Gomez, Cristian","A definir","Talani, Cristian"]
[null,"CAPITAL FEDERAL (CP: 1416)","1416","CAPITAL FEDERAL","CAPITAL FEDERAL","METROPOLITANA",29,"JOSE ANDRES MONDINO",null,null,null,null,null,null,null,null,null,null,null,null,null,null,null,null,null,null,null,null,null,null,null,null,null,null,null,null,null,null,null,null,null,null,null,null,null,1089,"ACA RUFINO","ACA","ACA","LITORAL SUR","AVENIDA COBO Y BERNAVE FERREIRA",6100,"RUFINO","GRAL LOPEZ","SANTA FE","30500143297","Ahmad, Ricardo","Gomez, Cristian","A definir",""]
[null,"CAPITAL FEDERAL (CP: 1417)","1417","CAPITAL FEDERAL","CAPITAL FEDERAL","METROPOLITANA",18,"OMAR PRESAS",null,null,null,null,null,null,null,null,null,null,null,null,null,null,null,null,null,null,null,null,null,null,null,null,null,null,null,null,null,null,null,null,null,null,null,null,null,1091,"SILZA SRL","TERCEROS","Consignado","LITORAL SUR","SAN MARTIN Y CORRIENTES",3206,"FEDERACION","FEDERACION","ENTRE RIOS","30713269103","A definir","Gomez, Cristian","A definir",""]
[null,"CAPITAL FEDERAL (CP: 1418)","1418","CAPITAL FEDERAL","CAPITAL FEDERAL","METROPOLITANA",18,"OMAR PRESAS",null,null,null,null,null,null,null,null,null,null,null,null,null,null,null,null,null,null,null,null,null,null,null,null,null,null,null,null,null,null,null,null,null,null,null,null,null,1095,"LA AGRICOLA REGIONAL COOP.LTDA.","TERCEROS","Consignado","LITORAL SUR","RUTA NACIONAL 11 KM 40 (Ascendente) Y RP32",3105,"DIAMANTE","DIAMANTE","ENTRE RIOS","33504047089","Martino, Alejandra","Gomez, Cristian","A definir",""]
[null,"CAPITAL FEDERAL (CP: 1419)","1419","CAPITAL FEDERAL","CAPITAL FEDERAL","METROPOLITANA",18,"OMAR PRESAS",null,null,null,null,null,null,null,null,null,null,null,null,null,null,null,null,null,null,null,null,null,null,null,null,null,null,null,null,null,null,null,null,null,null,null,null,null,1097,"EXEQUIEL FABRELLO Y D BAEZ","TERCEROS","Consignado","LITORAL SUR","URQUIZA Y IRIGOYEN",3228,"CHAJARI","FEDERACION","ENTRE RIOS","30624720527","A definir","Gomez, Cristian","A definir",""]
[null,"CAPITAL FEDERAL (CP: 1422)","1422","CAPITAL FEDERAL","CAPITAL FEDERAL","METROPOLITANA",18,"OMAR PRESAS",null,null,null,null,null,null,null,null,null,null,null,null,null,null,null,null,null,null,null,null,null,null,null,null,null,null,null,null,null,null,null,null,null,null,null,null,null,1098,"SILVESTRI SERGIO ALBERTO","TERCEROS","Consignado","LITORAL SUR","RUTA NACIONAL 14 KM 296 (Ascendente) Y ACCESO FEDERACION",3206,"FEDERACION","FEDERACION","ENTRE RIOS","20130138005","A definir","Gomez, Cristian","A definir",""]
[null,"CAPITAL FEDERAL (CP: 1424)","1424","CAPITAL FEDERAL","CAPITAL FEDERAL","METROPOLITANA",18,"OMAR PRESAS",null,null,null,null,null,null,null,null,null,null,null,null,null,null,null,null,null,null,null,null,null,null,null,null,null,null,null,null,null,null,null,null,null,null,null,null,null,1099,"ESTACION DE SERVICIO GENERAL MOSCONI SRL","TERCEROS","Consignado","LITORAL SUR","L N ALEM Y GIANELLO",2840,"GUALEGUAY","GUALEGUAY","ENTRE RIOS","30534189202","Martinez Ruhl, Jose Huberto","Gomez, Cristian","A definir",""]
[null,"CAPITAL FEDERAL (CP: 1425)","1425","CAPITAL FEDERAL","CAPITAL FEDERAL","METROPOLITANA",29,"JOSE ANDRES MONDINO",null,null,null,null,null,null,null,null,null,null,null,null,null,null,null,null,null,null,null,null,null,null,null,null,null,null,null,null,null,null,null,null,null,null,null,null,null,1101,"ACA CONCORDIA","ACA","ACA","LITORAL SUR","CARLOS PELLEGRINI Y CORRIENTES",3200,"CONCORDIA","CONCORDIA","ENTRE RIOS","30500143297","A definir","Gomez, Cristian","A definir",""]
[null,"CAPITAL FEDERAL (CP: 1426)","1426","CAPITAL FEDERAL","CAPITAL FEDERAL","METROPOLITANA",29,"JOSE ANDRES MONDINO",null,null,null,null,null,null,null,null,null,null,null,null,null,null,null,null,null,null,null,null,null,null,null,null,null,null,null,null,null,null,null,null,null,null,null,null,null,1104,"TYBERTY SA","TERCEROS","GNC","METROPOLITANA","CAMINO DE CINTURA GOBERNADOR VERGARA",1688,"SANTOS TESEI","HURLINGHAM","BUENOS AIRES",33708823339,"Sanchez, Luis","Bouzon, Gustavo","Gottlieb, Patricio",""]
[null,"CAPITAL FEDERAL (CP: 1427)","1427","CAPITAL FEDERAL","CAPITAL FEDERAL","METROPOLITANA",29,"JOSE ANDRES MONDINO",null,null,null,null,null,null,null,null,null,null,null,null,null,null,null,null,null,null,null,null,null,null,null,null,null,null,null,null,null,null,null,null,null,null,null,null,null,1105,"OPESSA CONCORDIA","OPESSA","Consignado","LITORAL SUR","HUARTE Y M ROSCH",3200,"CONCORDIA","CONCORDIA","ENTRE RIOS","30678774495","A definir","Gomez, Cristian","A definir","Duran, Oscar"]
[null,"CAPITAL FEDERAL (CP: 1428)","1428","CAPITAL FEDERAL","CAPITAL FEDERAL","METROPOLITANA",29,"JOSE ANDRES MONDINO",null,null,null,null,null,null,null,null,null,null,null,null,null,null,null,null,null,null,null,null,null,null,null,null,null,null,null,null,null,null,null,null,null,null,null,null,null,1112,"HIJOS DE OVIDIO RAMIREZ S.A.","TERCEROS","Consignado","LITORAL SUR","BOULEVARD SARMIENTO Y 25 DE MAYO",3153,"VICTORIA","VICTORIA","ENTRE RIOS","30544925853","Martinez Ruhl, Jose Huberto","Gomez, Cristian","A definir",""]
[null,"CAPITAL FEDERAL (CP: 1429)","1429","CAPITAL FEDERAL","CAPITAL FEDERAL","METROPOLITANA",29,"JOSE ANDRES MONDINO",null,null,null,null,null,null,null,null,null,null,null,null,null,null,null,null,null,null,null,null,null,null,null,null,null,null,null,null,null,null,null,null,null,null,null,null,null,1113,"ORGANIZACIÓN DELASOIE HNOS SA","TERCEROS","Consignado","LITORAL SUR","MITRE Y IRIGOYEN",3283,"SAN JOSE","COLON","ENTRE RIOS","30546995735","Martinez Ruhl, Jose Huberto","Gomez, Cristian","A definir",""]
[null,"CAPITAL FEDERAL (CP: 1430)","1430","CAPITAL FEDERAL","CAPITAL FEDERAL","METROPOLITANA",29,"JOSE ANDRES MONDINO",null,null,null,null,null,null,null,null,null,null,null,null,null,null,null,null,null,null,null,null,null,null,null,null,null,null,null,null,null,null,null,null,null,null,null,null,null,1114,"SALVADOR R CARBONI SACIFIA","TERCEROS","Consignado","LITORAL SUR","RUTA PROVINCIAL 16 KM (Ascendente) Y ACCESO A LARROQUE",2854,"LARROQUE","GUALEGUAYCHU","ENTRE RIOS","30540335911","Martinez Ruhl, Jose Huberto","Gomez, Cristian","A definir",""]
[null,"CAPITAL FEDERAL (CP: 1431)","1431","CAPITAL FEDERAL","CAPITAL FEDERAL","METROPOLITANA",29,"JOSE ANDRES MONDINO",null,null,null,null,null,null,null,null,null,null,null,null,null,null,null,null,null,null,null,null,null,null,null,null,null,null,null,null,null,null,null,null,null,null,null,null,null,1118,"NORMA M DE MORALES","TERCEROS","Consignado","LITORAL SUR","RUTA NACIONAL 18 KM (Ascendente)",3241,"PASO DE LA LAGUNA","VILLAGUAY","ENTRE RIOS","27051632287","A definir","Gomez, Cristian","A definir",""]
[null,"CAPITAL FEDERAL (CP: 1432)","1432","CAPITAL FEDERAL","CAPITAL FEDERAL","METROPOLITANA",18,"OMAR PRESAS",null,null,null,null,null,null,null,null,null,null,null,null,null,null,null,null,null,null,null,null,null,null,null,null,null,null,null,null,null,null,null,null,null,null,null,null,null,1121,"BOUVET NERI JOSE","TERCEROS","Consignado","LITORAL SUR","ACCESO PUENTE COLON Y PAYSANDU",3280,"COLON","COLON","ENTRE RIOS","23163280779","Martinez Ruhl, Jose Huberto","Gomez, Cristian","A definir",""]
[null,"CAPITAL FEDERAL (CP: 1434)","1434","CAPITAL FEDERAL","CAPITAL FEDERAL","METROPOLITANA",18,"OMAR PRESAS",null,null,null,null,null,null,null,null,null,null,null,null,null,null,null,null,null,null,null,null,null,null,null,null,null,null,null,null,null,null,null,null,null,null,null,null,null,1122,"ARAMBURU MARIA JOSE ARAMBURU GUILLERMO FEDERICO SH","TERCEROS","Consignado","LITORAL SUR","GRAL MANUEL BELGRANO 621 Y FELICIANO",3187,"S.JO.DE FELICIANO","FELICIANO","ENTRE RIOS","33708372469","A definir","Gomez, Cristian","A definir",""]
[null,"CAPITAL FEDERAL (CP: 1435)","1435","CAPITAL FEDERAL","CAPITAL FEDERAL","METROPOLITANA",18,"OMAR PRESAS",null,null,null,null,null,null,null,null,null,null,null,null,null,null,null,null,null,null,null,null,null,null,null,null,null,null,null,null,null,null,null,null,null,null,null,null,null,1126,"ESTACION DE SERVICIO COLMAN SRL","TERCEROS","Consignado","LITORAL SUR","CHACABUCO 159 Y MONTECASEROS",2840,"GUALEGUAY","GUALEGUAY","ENTRE RIOS","30670940027","Martinez Ruhl, Jose Huberto","Gomez, Cristian","A definir",""]
[null,"CAPITAL FEDERAL (CP: 1437)","1437","CAPITAL FEDERAL","CAPITAL FEDERAL","METROPOLITANA",29,"JOSE ANDRES MONDINO",null,null,null,null,null,null,null,null,null,null,null,null,null,null,null,null,null,null,null,null,null,null,null,null,null,null,null,null,null,null,null,null,null,null,null,null,null,1127,"EL RUTERO SRL","TERCEROS","Consignado","LITORAL SUR","AVENIDA DE LAS AMERICAS 3106",3100,"PARANA","PARANA","ENTRE RIOS","30538443707","Martino, Alejandra","Gomez, Cristian","A definir",""]
[null,"CAPITAL FEDERAL (CP: 1439)","1439","CAPITAL FEDERAL","CAPITAL FEDERAL","METROPOLITANA",18,"OMAR PRESAS",null,null,null,null,null,null,null,null,null,null,null,null,null,null,null,null,null,null,null,null,null,null,null,null,null,null,null,null,null,null,null,null,null,null,null,null,null,1130,"MARIA HERMANOS SRL","TERCEROS","Consignado","LITORAL SUR","AV. SAN MARTIN Y 9 DE JULIO",3109,"VIALE","PARANA","ENTRE RIOS","30547752933","A definir","Gomez, Cristian","A definir",""]
[null,"CAPITAL FEDERAL (CP: 1440)","1440","CAPITAL FEDERAL","CAPITAL FEDERAL","METROPOLITANA",18,"OMAR PRESAS",null,null,null,null,null,null,null,null,null,null,null,null,null,null,null,null,null,null,null,null,null,null,null,null,null,null,null,null,null,null,null,null,null,null,null,null,null,1131,"ESTACION DE SERVICIO 25 DE JUNIO SA","TERCEROS","Consignado","LITORAL SUR","25 DE JUNIO 201",3100,"PARANA","PARANA","ENTRE RIOS","30562496773","Martino, Alejandra","Gomez, Cristian","A definir",""]
[null,"CAPITAL FEDERAL (CP: 1442)","1442","CAPITAL FEDERAL","CAPITAL FEDERAL","METROPOLITANA",18,"OMAR PRESAS",null,null,null,null,null,null,null,null,null,null,null,null,null,null,null,null,null,null,null,null,null,null,null,null,null,null,null,null,null,null,null,null,null,null,null,null,null,1132,"MARIO CESAR RONCHI","TERCEROS","Consignado","LITORAL SUR","RUTA NACIONAL 12 KM 28.500 (Ascendente) Y 9 DE JULIO",3118,"LA PICADA","PARANA","ENTRE RIOS","20130139230","Martino, Alejandra","Gomez, Cristian","A definir",""]
[null,"CAPITAL FEDERAL (CP: 1458)","1458","CAPITAL FEDERAL","CAPITAL FEDERAL","METROPOLITANA",18,"OMAR PRESAS",null,null,null,null,null,null,null,null,null,null,null,null,null,null,null,null,null,null,null,null,null,null,null,null,null,null,null,null,null,null,null,null,null,null,null,null,null,1133,"ACA LA PAZ","ACA","ACA","LITORAL SUR","MORENO 889 Y ECHAGUE",3190,"LA PAZ","LA PAZ","ENTRE RIOS","30500143297","A definir","Gomez, Cristian","A definir",""]
[null,"CAPITAL FEDERAL (CP: 1460)","1460","CAPITAL FEDERAL","CAPITAL FEDERAL","METROPOLITANA",18,"OMAR PRESAS",null,null,null,null,null,null,null,null,null,null,null,null,null,null,null,null,null,null,null,null,null,null,null,null,null,null,null,null,null,null,null,null,null,null,null,null,null,1137,"COMERCIAL DIEGO SRL","TERCEROS","Consignado","LITORAL SUR","QUINTANA Y GARAY",6103,"AMENABAR","GRAL LOPEZ","SANTA FE","30540109342","Ahmad, Ricardo","Gomez, Cristian","A definir",""]
[null,"CAPITAL FEDERAL (CP: 1525)","1525","CAPITAL FEDERAL","CAPITAL FEDERAL","METROPOLITANA",18,"OMAR PRESAS",null,null,null,null,null,null,null,null,null,null,null,null,null,null,null,null,null,null,null,null,null,null,null,null,null,null,null,null,null,null,null,null,null,null,null,null,null,1140,"LA COLINA SRL","TERCEROS","Consignado","LITORAL SUR","RIVADAVIA Y 9 DE JULIO",3103,"L.S.MARTIN","DIAMANTE","ENTRE RIOS","30632955916","Martino, Alejandra","Gomez, Cristian","A definir",""]
[null,"CAPITAL FEDERAL (CP: 1546)","1546","CAPITAL FEDERAL","CAPITAL FEDERAL","METROPOLITANA",18,"OMAR PRESAS",null,null,null,null,null,null,null,null,null,null,null,null,null,null,null,null,null,null,null,null,null,null,null,null,null,null,null,null,null,null,null,null,null,null,null,null,null,1141,"AGROMERIDIANO SA","TERCEROS","Consignado","PAMPEANA","RUTA PROVINCIAL 70 KM (Ascendente) Y ACCESO",6239,"GONZALEZ MORENO","RIVADAVIA","BUENOS AIRES","30679920614","Tempone, Irene ","Gerino, Ignacio","Barrera Casal, Facundo",""]
[null,"CAPITAL FEDERAL (CP: 1552)","1552","CAPITAL FEDERAL","CAPITAL FEDERAL","METROPOLITANA",18,"OMAR PRESAS",null,null,null,null,null,null,null,null,null,null,null,null,null,null,null,null,null,null,null,null,null,null,null,null,null,null,null,null,null,null,null,null,null,null,null,null,null,1142,"OPESSA AUSOL CAMPANA ESTE","OPESSA","Consignado","BUENOS AIRES","AUTOPISTA DEL SOL RAMAL CAMPANA (LADO CAMPANA) KM 36.500 (Ascendente)",1615,"GRAND BOURG","MALVINAS ARGENTINAS","BUENOS AIRES","30678774495","Cullari, José","Brena, Marcelo","Barruti, Francisco","Gualeni, Andrea"]
[null,"CAPITAL FEDERAL (CP: 1574)","1574","CAPITAL FEDERAL","CAPITAL FEDERAL","METROPOLITANA",18,"OMAR PRESAS",null,null,null,null,null,null,null,null,null,null,null,null,null,null,null,null,null,null,null,null,null,null,null,null,null,null,null,null,null,null,null,null,null,null,null,null,null,1145,"QUINTIN R SIONE SRL","TERCEROS","Consignado","LITORAL SUR","RUTA NACIONAL 18 KM 80.500 (Descendente)",3111,"LAS TUNAS","PARANA","ENTRE RIOS","30604713966","A definir","Gomez, Cristian","A definir",""]
[null,"CAPITAL FEDERAL (CP: 1592)","1592","CAPITAL FEDERAL","CAPITAL FEDERAL","METROPOLITANA",18,"OMAR PRESAS",null,null,null,null,null,null,null,null,null,null,null,null,null,null,null,null,null,null,null,null,null,null,null,null,null,null,null,null,null,null,null,null,null,null,null,null,null,1152,"COMERCIAL DIEGO SRL","TERCEROS","Consignado","LITORAL SUR","RUTA NACIONAL 7 KM 368 (Ascendente)",6036,"DIEGO DE ALVEAR","GRAL LOPEZ","SANTA FE","30540109342","Ahmad, Ricardo","Gomez, Cristian","A definir",""]
[null,"CAPITAL FEDERAL (CP: 1598)","1598","CAPITAL FEDERAL","CAPITAL FEDERAL","METROPOLITANA",18,"OMAR PRESAS",null,null,null,null,null,null,null,null,null,null,null,null,null,null,null,null,null,null,null,null,null,null,null,null,null,null,null,null,null,null,null,null,null,null,null,null,null,1159,"PROCOM SACIFIA","TERCEROS","Consignado","LITORAL SUR","BALCARCE Y 25 DE MAYO",3240,"VILLAGUAY","VILLAGUAY","ENTRE RIOS","30543113898","A definir","Gomez, Cristian","A definir",""]
[null,"CAPITAL FEDERAL (CP: 1599)","1599","CAPITAL FEDERAL","CAPITAL FEDERAL","METROPOLITANA",18,"OMAR PRESAS",null,null,null,null,null,null,null,null,null,null,null,null,null,null,null,null,null,null,null,null,null,null,null,null,null,null,null,null,null,null,null,null,null,null,null,null,null,1160,"ANTONIO CARGNEL E HIJOS S C","TERCEROS","Consignado","LITORAL SUR","LIBERTAD 249",3117,"SEGUI","PARANA","ENTRE RIOS","30502437360","Martino, Alejandra","Gomez, Cristian","A definir",""]
[null,"CAPITAL FEDERAL (CP: 1600)","1600","CAPITAL FEDERAL","CAPITAL FEDERAL","METROPOLITANA","29","JOSE ANDRES MONDINO",null,null,null,null,null,null,null,null,null,null,null,null,null,null,null,null,null,null,null,null,null,null,null,null,null,null,null,null,null,null,null,null,null,null,null,null,null,1161,"ROMA COMBUSTIBLES SA","TERCEROS","Consignado","LITORAL SUR","AVENIDA MARCOS CIANI 3680",2600,"VENADO TUERTO","GRAL LOPEZ","SANTA FE","30674756123","Ahmad, Ricardo","Gomez, Cristian","A definir",""]
[null,"CAPITAL FEDERAL (CP: 1670)","1670","CAPITAL FEDERAL","CAPITAL FEDERAL","METROPOLITANA","29","JOSE ANDRES MONDINO"]
[null,"CAPITAL FEDERAL (CP: 1694)","1694","CAPITAL FEDERAL","CAPITAL FEDERAL","METROPOLITANA",18,"OMAR PRESAS"]
[null,"CAPITAL FEDERAL (CP: 1801)","1801","CAPITAL FEDERAL","CAPITAL FEDERAL","METROPOLITANA",31,"PABLO CIMINARI"]
[null,"CAPITAL FEDERAL (CP: 99999)","99999","CAPITAL FEDERAL","CAPITAL FEDERAL","LOS VALLES",18,"OMAR PRESAS",null,null,null,null,null,null,null,null,null,null,null,null,null,null,null,null,null,null,null,null,null,null,null,null,null,null,null,null,null,null,null,null,null,null,null,null,null,1162,"BEL Y BOURLOT SA","TERCEROS","Consignado","LITORAL SUR","AVENIDA LIBERTAD 436",2826,"URDINARRAIN","GUALEGUAYCHU","ENTRE RIOS","30710432127","Martinez Ruhl, Jose Huberto","Gomez, Cristian","A definir",""]
[null,"12 DE OCTUBRE (CP: 6501)","6501","12 DE OCTUBRE","BUENOS AIRES","METROPOLITANA",18,"OMAR PRESAS",null,null,null,null,null,null,null,null,null,null,null,null,null,null,null,null,null,null,null,null,null,null,null,null,null,null,null,null,null,null,null,null,null,null,null,null,null,1163,"DON SEBASTIAN SRL","TERCEROS","Consignado","LITORAL SUR","AVENIDA GRAL SAN MARTIN Y OLEGARIO ANDREADE",3134,"HASENKAMP","PARANA","ENTRE RIOS","33681085519","A definir","Gomez, Cristian","A definir",""]
[null,"16 DE JULIO (CP: 7313)","7313","16 DE JULIO","BUENOS AIRES","METROPOLITANA","123","CESAR RONCARI",null,null,null,null,null,null,null,null,null,null,null,null,null,null,null,null,null,null,null,null,null,null,null,null,null,null,null,null,null,null,null,null,null,null,null,null,null,1165,"SPAHN ROBERTO Y SPAHN GISELA SH","TERCEROS","Consignado","LITORAL SUR","RUTA NACIONAL 11 KM 16.500 (Descendente)",3101,"COLONIA ENSAYO","PARANA","ENTRE RIOS","30709091251","Martino, Alejandra","Gomez, Cristian","A definir",""]
[null,"17 DE AG0ST0 (CP: 8129)","8129","17 DE AG0ST0","BUENOS AIRES","METROPOLITANA",130,"CESAR RONCARI",null,null,null,null,null,null,null,null,null,null,null,null,null,null,null,null,null,null,null,null,null,null,null,null,null,null,null,null,null,null,null,null,null,null,null,null,null,1166,"BAHLER JAVIER A Y RUBEN D S.H.","TERCEROS","Consignado","LITORAL SUR","SUPREMO ENTRERRIANO Y CENTENARIO",3158,"LUCAS GONZALEZ","NOGOYA","ENTRE RIOS","30690500422","Martinez Ruhl, Jose Huberto","Gomez, Cristian","A definir",""]
[null,"25 DE MAYO (CP: 6660)","6660","25 DE MAYO","BUENOS AIRES","METROPOLITANA",18,"OMAR PRESAS",null,null,null,null,null,null,null,null,null,null,null,null,null,null,null,null,null,null,null,null,null,null,null,null,null,null,null,null,null,null,null,null,null,null,null,null,null,1168,"ASTORGA SRL","TERCEROS","Consignado","LITORAL SUR","AVENIDA 51 Y CALLE 58",2607,"VILLA CAÑAS","GRAL LOPEZ","SANTA FE","33715133089","Ahmad, Ricardo","Gomez, Cristian","A definir",""]
[null,"30 DE AGOSTO (CP: 6405)","6405","30 DE AGOSTO","BUENOS AIRES","METROPOLITANA","123","CESAR RONCARI",null,null,null,null,null,null,null,null,null,null,null,null,null,null,null,null,null,null,null,null,null,null,null,null,null,null,null,null,null,null,null,null,null,null,null,null,null,1169,"JACQUELIN OSVALDO Y CARIGNANO","TERCEROS","Consignado","LITORAL SUR","GENERAL LOPEZ 433",2722,"WHEELWRIGHT","GRAL LOPEZ","SANTA FE","30611377181","Ahmad, Ricardo","Gomez, Cristian","A definir",""]
[null,"9 DE ABRIL (CP: 1776)","1776","9 DE ABRIL","BUENOS AIRES","METROPOLITANA",18,"OMAR PRESAS",null,null,null,null,null,null,null,null,null,null,null,null,null,null,null,null,null,null,null,null,null,null,null,null,null,null,null,null,null,null,null,null,null,null,null,null,null,1173,"OPESSA ACA AZUL","OPESSA","Consignado","PAMPEANA","RUTA NACIONAL 3 KM 299 (Descendente) Y CAMINO VIEJO A TANDIL",7300,"AZUL","AZUL","BUENOS AIRES","30678774495","Di Santo, Julio","Fernandez, Mariano","Barrera Casal, Facundo","Urruspil, Ezequiel"]
[null,"9 DE JULIO (CP: 6500)","6500","9 DE JULIO","BUENOS AIRES","METROPOLITANA",18,"OMAR PRESAS",null,null,null,null,null,null,null,null,null,null,null,null,null,null,null,null,null,null,null,null,null,null,null,null,null,null,null,null,null,null,null,null,null,null,null,null,null,1182,"OPESSA AUSOL PILAR NORTE","OPESSA","Consignado","BUENOS AIRES","AUTOPISTA DEL SOL RAMAL PILAR (LADO PILAR) KM 36.500 (Ascendente)",1667,"TORTUGUITAS","MALVINAS ARGENTINAS","BUENOS AIRES","30678774495","Cullari, José","Brena, Marcelo","Barruti, Francisco","Gualeni, Andrea"]
[null,"A.ETCHEVERRY (CP: 1901)","1901","A.ETCHEVERRY","BUENOS AIRES","METROPOLITANA",31,"PABLO CIMINARI",null,null,null,null,null,null,null,null,null,null,null,null,null,null,null,null,null,null,null,null,null,null,null,null,null,null,null,null,null,null,null,null,null,null,null,null,null,1183,"JOSE MATZKIN SACYA","TERCEROS","Consignado","LITORAL SUR","LIBERTAD Y PODESTA",3170,"BASAVILBASO","URUGUAY","ENTRE RIOS","30564657251","Martinez Ruhl, Jose Huberto","Gomez, Cristian","A definir",""]
[null,"ABASTO (CP: 1903)","1903","ABASTO","BUENOS AIRES","METROPOLITANA",31,"PABLO CIMINARI",null,null,null,null,null,null,null,null,null,null,null,null,null,null,null,null,null,null,null,null,null,null,null,null,null,null,null,null,null,null,null,null,null,null,null,null,null,1185,"MARIA A ALABERT DE INSFRAN","TERCEROS","Consignado","LITORAL NORTE","AVENIDA AV PERU AV DEL LIBERTADOR 0",3615,"GRAL.M.BELGRANO","PATI#O","FORMOSA","27108425216","Mendoza, Gonzalo","Kokubu, Alberto","A definir",""]
[null,"ABBOTT (CP: 7228)","7228","ABBOTT","BUENOS AIRES","METROPOLITANA",31,"PABLO CIMINARI",null,null,null,null,null,null,null,null,null,null,null,null,null,null,null,null,null,null,null,null,null,null,null,null,null,null,null,null,null,null,null,null,null,null,null,null,null,1189,"ANGEL LUIS BIGATTI","TERCEROS","Consignado","LITORAL NORTE","RUTA NACIONAL RUTA NAC 11 KM 1178 (Descendente) Y GENDARMERIA NACIONAL",3600,"FORMOSA","FORMOSA","FORMOSA","23079165859","Mendoza, Gonzalo","Kokubu, Alberto","A definir",""]
[null,"ACASUSSO (CP: 1641)","1641","ACASUSSO","BUENOS AIRES","METROPOLITANA","29","JOSE ANDRES MONDINO",null,null,null,null,null,null,null,null,null,null,null,null,null,null,null,null,null,null,null,null,null,null,null,null,null,null,null,null,null,null,null,null,null,null,null,null,null,1198,"RAUL HONORIO SILVESTRI SA","TERCEROS","Consignado","LITORAL NORTE","RUTA NACIONAL 90 KM (Descendente) Y AV ING MA#ANES (EX 25 DE MAYO)",3509,"GRAL.J.D.S.MARTIN","LIB GRAL SAN MARTIN","CHACO","30612450249","Mendoza, Gonzalo","Kokubu, Alberto","A definir",""]
[null,"ACEVEDO (CP: 2717)","2717","ACEVEDO","BUENOS AIRES","METROPOLITANA","29","JOSE ANDRES MONDINO",null,null,null,null,null,null,null,null,null,null,null,null,null,null,null,null,null,null,null,null,null,null,null,null,null,null,null,null,null,null,null,null,null,null,null,null,null,1201,"OPESSA FORMOSA","OPESSA","Consignado","LITORAL NORTE","GOBERNADOR GUTNISKI 1701",3600,"FORMOSA","FORMOSA","FORMOSA","30678774495","Mendoza, Gonzalo","Kokubu, Alberto","A definir","Duran, Oscar"]
[null,"ACHUPALLAS (CP: 6627)","6627","ACHUPALLAS","BUENOS AIRES","METROPOLITANA","123","CESAR RONCARI",null,null,null,null,null,null,null,null,null,null,null,null,null,null,null,null,null,null,null,null,null,null,null,null,null,null,null,null,null,null,null,null,null,null,null,null,null,1202,"MIGUEL WELSCH SUCESORES SRL","TERCEROS","Consignado","LITORAL NORTE","RUTA NACIONAL 81 KM () Y 25 DE MAYO",3624,"IBARRETA","PATI#O","FORMOSA","30590281561","Mendoza, Gonzalo","Kokubu, Alberto","A definir",""]
[null,"ADOLFO GONZALES CHAVES (CP: 7513)","7513","ADOLFO GONZALES CHAVES","BUENOS AIRES","METROPOLITANA","123","CESAR RONCARI",null,null,null,null,null,null,null,null,null,null,null,null,null,null,null,null,null,null,null,null,null,null,null,null,null,null,null,null,null,null,null,null,null,null,null,null,null,1203,"ACA INGENIERO JUAREZ","ACA","ACA","LITORAL NORTE","RUTA NACIONAL 81 KM 484 (Ascendente) Y ACCESO",3636,"ING.JUAREZ","MATACOS","FORMOSA","30500143297","Mendoza, Gonzalo","Kokubu, Alberto","A definir",""]
[null,"ADROGUE (CP: 1846)","1846","ADROGUE","BUENOS AIRES","METROPOLITANA",31,"PABLO CIMINARI",null,null,null,null,null,null,null,null,null,null,null,null,null,null,null,null,null,null,null,null,null,null,null,null,null,null,null,null,null,null,null,null,null,null,null,null,null,1204,"ACA FORMOSA","ACA","ACA","LITORAL NORTE","GOBERNADOR GUDNISKY 3025",3600,"FORMOSA","FORMOSA","FORMOSA","30500143297","Mendoza, Gonzalo","Kokubu, Alberto","A definir",""]
[null,"AEROPUERTO EZEIZA (CP: 1802)","1802","AEROPUERTO EZEIZA","BUENOS AIRES","METROPOLITANA",31,"PABLO CIMINARI",null,null,null,null,null,null,null,null,null,null,null,null,null,null,null,null,null,null,null,null,null,null,null,null,null,null,null,null,null,null,null,null,null,null,null,null,null,1205,"ACA CLORINDA","ACA","ACA","LITORAL NORTE","RUTA NACIONAL 11 KM 1287 (Ascendente) Y ACCESO",3610,"CLORINDA","PILCOMAYO","FORMOSA","30500143297","Mendoza, Gonzalo","Kokubu, Alberto","A definir",""]
[null,"AGUARA (CP: 8105)","8105","AGUARA","BUENOS AIRES","METROPOLITANA",130,"CESAR RONCARI",null,null,null,null,null,null,null,null,null,null,null,null,null,null,null,null,null,null,null,null,null,null,null,null,null,null,null,null,null,null,null,null,null,null,null,null,null,1206,"RAUL HONORIO SILVESTRI SA","TERCEROS","Consignado","LITORAL NORTE","RUTA NACIONAL 11 KM 1107 (Ascendente) Y PROVINCIAL 8",3526,"GRAL LUCIO V MANSILLA","LAISHI","FORMOSA","30612450249","Mendoza, Gonzalo","Kokubu, Alberto","A definir",""]
[null,{"$f":"CONCATENATE(D451,\" (CP: \",C451,\")\")","v":"AGUSTINA (CP: 6001)"},"6001","AGUSTINA","BUENOS AIRES","METROPOLITANA",18,"OMAR PRESAS",null,null,null,null,null,null,null,null,null,null,null,null,null,null,null,null,null,null,null,null,null,null,null,null,null,null,null,null,null,null,null,null,null,null,null,null,null,1211,"DON TITO SRL","TERCEROS","Consignado","LITORAL NORTE","HIPOLITO YRIGOYEN Y USPALLATA",3220,"MONTE CASEROS","MONTE CASEROS","CORRIENTES","30707475222","Avalos, Ramón","Kokubu, Alberto","A definir",""]
[null,"ALBERTI (CP: 6634)","6634","ALBERTI","BUENOS AIRES","METROPOLITANA",18,"OMAR PRESAS",null,null,null,null,null,null,null,null,null,null,null,null,null,null,null,null,null,null,null,null,null,null,null,null,null,null,null,null,null,null,null,null,null,null,null,null,null,1217,"COMBUSTIBLES SA","TERCEROS","Consignado","LITORAL NORTE","RUTA NACIONAL 12 KM () Y ACCESO NORTE",3196,"ESQUINA","ESQUINA","CORRIENTES","30543048751","Machuca, Rolando","Kokubu, Alberto","A definir",""]
[null,"ALDEA ROMANA (CP: 8101)","8101","ALDEA ROMANA","BUENOS AIRES","METROPOLITANA",130,"CESAR RONCARI",null,null,null,null,null,null,null,null,null,null,null,null,null,null,null,null,null,null,null,null,null,null,null,null,null,null,null,null,null,null,null,null,null,null,null,null,null,1218,"COMBUSTIBLES SA","TERCEROS","Consignado","LITORAL NORTE","SANTA RITA Y CASEROS",3196,"ESQUINA","ESQUINA","CORRIENTES","30543048751","Machuca, Rolando","Kokubu, Alberto","A definir",""]
[null,"ALDO BONZI (CP: 1770)","1770","ALDO BONZI","BUENOS AIRES","METROPOLITANA",18,"OMAR PRESAS",null,null,null,null,null,null,null,null,null,null,null,null,null,null,null,null,null,null,null,null,null,null,null,null,null,null,null,null,null,null,null,null,null,null,null,null,null,1220,"OPESSA ACA CORRIENTES GOYA","OPESSA","Consignado","LITORAL NORTE","AVENIDA MAZZANTTI Y MENDOZA",3450,"GOYA","GOYA","CORRIENTES","30678774495","Machuca, Rolando","Kokubu, Alberto","A definir","Duran, Oscar"]
[null,"ALEJANDRO KORN (CP: 1864)","1864","ALEJANDRO KORN","BUENOS AIRES","METROPOLITANA",31,"PABLO CIMINARI",null,null,null,null,null,null,null,null,null,null,null,null,null,null,null,null,null,null,null,null,null,null,null,null,null,null,null,null,null,null,null,null,null,null,null,null,null,1222,"LA RUTERA SRL","TERCEROS","Consignado","LITORAL NORTE","MAZANTI Y J ROLON",3450,"GOYA","GOYA","CORRIENTES","30624009297","Machuca, Rolando","Kokubu, Alberto","A definir",""]
[null,"ALEJANDRO PETION (CP: 1808)","1808","ALEJANDRO PETION","BUENOS AIRES","METROPOLITANA",31,"PABLO CIMINARI",null,null,null,null,null,null,null,null,null,null,null,null,null,null,null,null,null,null,null,null,null,null,null,null,null,null,null,null,null,null,null,null,null,null,null,null,null,1223,"SEGUIR SCA","TERCEROS","Consignado","LITORAL NORTE","CRISTOBAL COLON Y A P JUSTO",3450,"GOYA","GOYA","CORRIENTES","30523202665","Machuca, Rolando","Kokubu, Alberto","A definir",""]
[null,"ALFEREZ SAN MARTIN (CP: 8117)","8117","ALFEREZ SAN MARTIN","BUENOS AIRES","METROPOLITANA",130,"CESAR RONCARI",null,null,null,null,null,null,null,null,null,null,null,null,null,null,null,null,null,null,null,null,null,null,null,null,null,null,null,null,null,null,null,null,null,null,null,null,null,1225,"ROQUE LINO PENZO Y CIA","TERCEROS","Consignado","LITORAL NORTE","AVENIDA GRAL SAN MARTIN Y BUENOS AIRES",3445,"SANTA LUCIA","LAVALLE","CORRIENTES","30669869645","Machuca, Rolando","Kokubu, Alberto","A definir",""]
[null,"ALFREDO DEMARCHI (CP: 6533)","6533","ALFREDO DEMARCHI","BUENOS AIRES","METROPOLITANA",31,"PABLO CIMINARI",null,null,null,null,null,null,null,null,null,null,null,null,null,null,null,null,null,null,null,null,null,null,null,null,null,null,null,null,null,null,null,null,null,null,null,null,null,1226,"FUTURO SRL","TERCEROS","Consignado","LITORAL NORTE","SAN MARTIN Y URUGUAY",3340,"SANTO TOME","SANTO TOME","CORRIENTES","30660563268","Avalos, Ramón","Kokubu, Alberto","A definir",""]
[null,"ALFREDO FORTABAT (CP: 7005)","7005","ALFREDO FORTABAT","BUENOS AIRES","METROPOLITANA","123","CESAR RONCARI",null,null,null,null,null,null,null,null,null,null,null,null,null,null,null,null,null,null,null,null,null,null,null,null,null,null,null,null,null,null,null,null,null,null,null,null,null,1229,"ROMERO SRL","TERCEROS","Reventa","LITORAL NORTE","JUAN PUJOL Y GOMEZ",3470,"MERCEDES","MERCEDES","CORRIENTES","30518572047","Avalos, Ramón","Kokubu, Alberto","A definir",""]
[null,"ALGARROBO (CP: 8136)","8136","ALGARROBO","BUENOS AIRES","METROPOLITANA",130,"CESAR RONCARI",null,null,null,null,null,null,null,null,null,null,null,null,null,null,null,null,null,null,null,null,null,null,null,null,null,null,null,null,null,null,null,null,null,null,null,null,null,1232,"JUAN JOSE RAMIREZ","TERCEROS","Consignado","LITORAL NORTE","RUTA NACIONAL 14 KM 620 (Ascendente)",3220,"CUATRO BOCAS","MONTE CASEROS","CORRIENTES","20045791239","Avalos, Ramón","Kokubu, Alberto","A definir",""]
[null,"ALIANZA (CP: 7007)","7007","ALIANZA","BUENOS AIRES","METROPOLITANA","123","CESAR RONCARI",null,null,null,null,null,null,null,null,null,null,null,null,null,null,null,null,null,null,null,null,null,null,null,null,null,null,null,null,null,null,null,null,null,null,null,null,null,1236,"JUAN TORRES SA","TERCEROS","Consignado","LITORAL NORTE","RUTA PROVINCIAL 27 KM (Ascendente) ENTRE CORDOBA Y PARANA",3432,"BELLA VISTA","BELLA VISTA","CORRIENTES","30711695083","Machuca, Rolando","Kokubu, Alberto","A definir",""]
[null,"ALMTE BROWN (CP: 1846)","1846","ALMTE BROWN","BUENOS AIRES","METROPOLITANA",31,"PABLO CIMINARI",null,null,null,null,null,null,null,null,null,null,null,null,null,null,null,null,null,null,null,null,null,null,null,null,null,null,null,null,null,null,null,null,null,null,null,null,null,1238,"OPESSA MAIPU","OPESSA","Consignado","AREA DEL SOL","RODRIGUEZ PE#A 1130 Y CORONEL RODRIGUEZ",5511,"GRAL.GUTIERREZ","MAIPU","MENDOZA","30678774495","Farias, Daniel","Cacciola, Federico","Chiavassa, César Miguel","Abrahamsohn, Claudio"]
[null,"ALSINA (CP: 2938)","2938","ALSINA","BUENOS AIRES","METROPOLITANA","29","JOSE ANDRES MONDINO",null,null,null,null,null,null,null,null,null,null,null,null,null,null,null,null,null,null,null,null,null,null,null,null,null,null,null,null,null,null,null,null,null,null,null,null,null,1239,"ACA CURUZU CUATIA","ACA","ACA","LITORAL NORTE","BERON DE ASTRADA Y PERAZZO",3460,"CURUZU CUATIA","CURUZU CUATIA","CORRIENTES","30500143297","Avalos, Ramón","Kokubu, Alberto","A definir",""]
[null,"ALTAMIRANO (CP: 1986)","1986","ALTAMIRANO","BUENOS AIRES","METROPOLITANA",31,"PABLO CIMINARI",null,null,null,null,null,null,null,null,null,null,null,null,null,null,null,null,null,null,null,null,null,null,null,null,null,null,null,null,null,null,null,null,null,null,null,null,null,1240,"ACA PASO DE LOS LIBRES","ACA","ACA","LITORAL NORTE","AVENIDA SAN MARTIN Y RUTA 11",3230,"P.D.L.LIBRES","PASO DE LOS LIBRES","CORRIENTES","30500143297","Avalos, Ramón","Kokubu, Alberto","A definir",""]
[null,"ALVAREZ JONTE (CP: 1921)","1921","ALVAREZ JONTE","BUENOS AIRES","METROPOLITANA",31,"PABLO CIMINARI",null,null,null,null,null,null,null,null,null,null,null,null,null,null,null,null,null,null,null,null,null,null,null,null,null,null,null,null,null,null,null,null,null,null,null,null,null,1242,"MARCELO SALOMON AMIEL","TERCEROS","Consignado","LITORAL NORTE","RUTA NACIONAL 12 KM (Descendente) RP 204",3308,"CANDELARIA","CANDELARIA","MISIONES","23177719579","Cendra, Luciano","Kokubu, Alberto","A definir",""]
[null,"ALZAGA (CP: 7513)","7513","ALZAGA","BUENOS AIRES","METROPOLITANA","123","CESAR RONCARI",null,null,null,null,null,null,null,null,null,null,null,null,null,null,null,null,null,null,null,null,null,null,null,null,null,null,null,null,null,null,null,null,null,null,null,null,null,1247,"PETROVALLE SA","TERCEROS","Consignado","LITORAL NORTE","AVENIDA SARMIENTO",3360,"OBERA","OBERA","MISIONES","30572365391","Avalos, Ramón","Kokubu, Alberto","A definir",""]
[null,"AMALIA (CP: 6516)","6516","AMALIA","BUENOS AIRES","METROPOLITANA",31,"PABLO CIMINARI",null,null,null,null,null,null,null,null,null,null,null,null,null,null,null,null,null,null,null,null,null,null,null,null,null,null,null,null,null,null,null,null,null,null,null,null,null,1249,"PETROVALLE SA","TERCEROS","Consignado","LITORAL NORTE","RUTA NACIONAL 14 KM (Ascendente) Y ACCESO OBERA",3360,"OBERA","OBERA","MISIONES","30572365391","Avalos, Ramón","Kokubu, Alberto","A definir",""]
[null,"AMEGHINO (CP: 6064)","6064","AMEGHINO","BUENOS AIRES","METROPOLITANA",18,"OMAR PRESAS",null,null,null,null,null,null,null,null,null,null,null,null,null,null,null,null,null,null,null,null,null,null,null,null,null,null,null,null,null,null,null,null,null,null,null,null,null,1250,"DOS MIL SA","TERCEROS","Consignado","LITORAL NORTE","LOTE AGRICOLA",3350,"APOSTOLES","APOSTOLES","MISIONES","30687923878","Avalos, Ramón","Kokubu, Alberto","A definir",""]
[null,"AMERICA (CP: 6237)","6237","AMERICA","BUENOS AIRES","METROPOLITANA","123","CESAR RONCARI",null,null,null,null,null,null,null,null,null,null,null,null,null,null,null,null,null,null,null,null,null,null,null,null,null,null,null,null,null,null,null,null,null,null,null,null,null,1256,"KAMBY SA","TERCEROS","Consignado","PATAGONIA","AVENIDA PERITO MORENO 4788",9410,"USHUAIA","USHUAIA","TIERRA DEL FUEGO","30590322969","Potes, Claudio Fernando","Peletay, Walter","Barreiro, Silvina",""]
[null,"ANDANT-DAIREAUX (CP: 6555)","6555","ANDANT-DAIREAUX","BUENOS AIRES","METROPOLITANA","123","CESAR RONCARI",null,null,null,null,null,null,null,null,null,null,null,null,null,null,null,null,null,null,null,null,null,null,null,null,null,null,null,null,null,null,null,null,null,null,null,null,null,1258,"PETROVALLE SA","TERCEROS","Consignado","LITORAL NORTE","AVENIDA GENERAL JUAN LAVALLE Y CDTE ANDRESITO",3300,"POSADAS","POSADAS","MISIONES","30572365391","Cendra, Luciano","Kokubu, Alberto","A definir",""]
[null,"ANDERSON (CP: 6621)","6621","ANDERSON","BUENOS AIRES","METROPOLITANA",18,"OMAR PRESAS",null,null,null,null,null,null,null,null,null,null,null,null,null,null,null,null,null,null,null,null,null,null,null,null,null,null,null,null,null,null,null,null,null,null,null,null,null,1260,"SAN JAVIER COMBUSTIBLES SA","TERCEROS","Consignado","LITORAL NORTE","J LENUZZA Y 25 DE MAYO",3357,"SAN JAVIER","SAN JAVIER","MISIONES","30626599016","Avalos, Ramón","Kokubu, Alberto","A definir",""]
[null,"ANTONIO CARBONI (CP: 7243)","7243","ANTONIO CARBONI","BUENOS AIRES","METROPOLITANA",31,"PABLO CIMINARI",null,null,null,null,null,null,null,null,null,null,null,null,null,null,null,null,null,null,null,null,null,null,null,null,null,null,null,null,null,null,null,null,null,null,null,null,null,1261,"ADOLFO SARTORI SA","TERCEROS","Consignado","LITORAL NORTE","RUTA NACIONAL 12 KM (Ascendente) Y ACCESO",3316,"SANTA ANA","CANDELARIA","MISIONES","30543294760","Avalos, Ramón","Kokubu, Alberto","A definir",""]
[null,"APARICIO (CP: 8158)","8158","APARICIO","BUENOS AIRES","METROPOLITANA","123","CESAR RONCARI",null,null,null,null,null,null,null,null,null,null,null,null,null,null,null,null,null,null,null,null,null,null,null,null,null,null,null,null,null,null,null,null,null,null,null,null,null,1262,"ADOLFO SARTORI SA","TERCEROS","Consignado","LITORAL NORTE","AVENIDA BELGRANO Y A CORTI",3315,"LEANDRO N. ALEM","LEANDRO N ALEM","MISIONES","30543294760","Avalos, Ramón","Kokubu, Alberto","A definir",""]
[null,"ARANA (CP: 1909)","1909","ARANA","BUENOS AIRES","METROPOLITANA",31,"PABLO CIMINARI",null,null,null,null,null,null,null,null,null,null,null,null,null,null,null,null,null,null,null,null,null,null,null,null,null,null,null,null,null,null,null,null,null,null,null,null,null,1266,"VERINO SRL","TERCEROS","Consignado","LITORAL NORTE","AVENIDA TAMBOR DE TACUARI Y AVENIDA 123",3300,"POSADAS","POSADAS","MISIONES","30710383339","Cendra, Luciano","Kokubu, Alberto","A definir",""]
[null,"ARANO (CP: 6443)","6443","ARANO","BUENOS AIRES","METROPOLITANA","123","CESAR RONCARI",null,null,null,null,null,null,null,null,null,null,null,null,null,null,null,null,null,null,null,null,null,null,null,null,null,null,null,null,null,null,null,null,null,null,null,null,null,1267,"ACA OBERA","ACA","ACA","LITORAL NORTE","AVENIDA SARMIENTO 1354",3360,"OBERA","OBERA","MISIONES","30500143297","Avalos, Ramón","Kokubu, Alberto","A definir",""]
[null,"ARAUJO (CP: 6643)","6643","ARAUJO","BUENOS AIRES","METROPOLITANA",18,"OMAR PRESAS",null,null,null,null,null,null,null,null,null,null,null,null,null,null,null,null,null,null,null,null,null,null,null,null,null,null,null,null,null,null,null,null,null,null,null,null,null,1268,"ACA POSADAS","ACA","ACA","LITORAL NORTE","COLON Y CORDOBA",3300,"POSADAS","POSADAS","MISIONES","30500143297","Avalos, Ramón","Kokubu, Alberto","A definir",""]
[null,"ARBOLEDAS (CP: 6557)","6557","ARBOLEDAS","BUENOS AIRES","METROPOLITANA","123","CESAR RONCARI",null,null,null,null,null,null,null,null,null,null,null,null,null,null,null,null,null,null,null,null,null,null,null,null,null,null,null,null,null,null,null,null,null,null,null,null,null,1272,"ADOLFO SARTORI SA","TERCEROS","Consignado","LITORAL NORTE","PROGRESIVA Y RUTA 14",3315,"LEANDRO N. ALEM","LEANDRO N ALEM","MISIONES","30543294760","Avalos, Ramón","Kokubu, Alberto","A definir",""]
[null,"ARENAZA (CP: 6075)","6075","ARENAZA","BUENOS AIRES","METROPOLITANA",18,"OMAR PRESAS",null,null,null,null,null,null,null,null,null,null,null,null,null,null,null,null,null,null,null,null,null,null,null,null,null,null,null,null,null,null,null,null,null,null,null,null,null,1274,"ALFREDO BRUGNOLI E HIJOS","TERCEROS","Consignado","LITORAL NORTE","RUTA NACIONAL 16 KM (Ascendente) Y APOLO GUZMAN",3708,"PAMPA DEL INFIERNO (CH)","ALMTE BROWN","CHACO","30538525118","Titos, Marlene","Kokubu, Alberto","A definir",""]
[null,"ARIEL (CP: 7301)","7301","ARIEL","BUENOS AIRES","METROPOLITANA","123","CESAR RONCARI",null,null,null,null,null,null,null,null,null,null,null,null,null,null,null,null,null,null,null,null,null,null,null,null,null,null,null,null,null,null,null,null,null,null,null,null,null,1277,"NUEVO HORIZONTE SRL","TERCEROS","Consignado","LITORAL NORTE","SAN MARTIN Y J ALONSO",3530,"QUITILIPI","QUITILIPI","CHACO","30707199268","Mendoza, Gonzalo","Kokubu, Alberto","A definir",""]
[null,"ARRECIFES (CP: 2740)","2740","ARRECIFES","BUENOS AIRES","METROPOLITANA","29","JOSE ANDRES MONDINO",null,null,null,null,null,null,null,null,null,null,null,null,null,null,null,null,null,null,null,null,null,null,null,null,null,null,null,null,null,null,null,null,null,null,null,null,null,1279,"CHARATA COMBUSTIBLES SACIE","TERCEROS","Consignado","LITORAL NORTE","AVENIDA GRAL GUEMES 767",3730,"CHARATA","CHACABUCO","CHACO","30522015292","Titos, Marlene","Kokubu, Alberto","A definir",""]
[null,"ARRIBEÑOS (CP: 6007)","6007","ARRIBEÑOS","BUENOS AIRES","METROPOLITANA",18,"OMAR PRESAS",null,null,null,null,null,null,null,null,null,null,null,null,null,null,null,null,null,null,null,null,null,null,null,null,null,null,null,null,null,null,null,null,null,null,null,null,null,1283,"SILVIO DERKA E HIJOS SCC","TERCEROS","Consignado","LITORAL NORTE","AVENIDA GRAL SAN MARTIN Y SALTA",3705,"JUAN JOSE CASTELLI","GRAL GÜEMES","CHACO","30592844997","Mendoza, Gonzalo","Kokubu, Alberto","A definir",""]
[null,"ARROYO CORTO (CP: 8172)","8172","ARROYO CORTO","BUENOS AIRES","METROPOLITANA","123","CESAR RONCARI",null,null,null,null,null,null,null,null,null,null,null,null,null,null,null,null,null,null,null,null,null,null,null,null,null,null,null,null,null,null,null,null,null,null,null,null,null,1286,"EDHEL SRL","TERCEROS","Consignado","LITORAL NORTE","COLON Y NECOCHEA",3541,"CORONEL DU GRATY","MAYOR J LUIS FONTANA","CHACO","30708236590","Titos, Marlene","Kokubu, Alberto","A definir",""]
[null,"ARROYO DULCE (CP: 2743)","2743","ARROYO DULCE","BUENOS AIRES","METROPOLITANA","29","JOSE ANDRES MONDINO",null,null,null,null,null,null,null,null,null,null,null,null,null,null,null,null,null,null,null,null,null,null,null,null,null,null,null,null,null,null,null,null,null,null,null,null,null,1287,"EDUBEL SRL","TERCEROS","Consignado","LITORAL NORTE","SARGENTO JUAN B CABRAL Y PRESIDENTE PERON",3703,"TRES ISLETAS","MAIPU","CHACO","33707065619","Mendoza, Gonzalo","Kokubu, Alberto","A definir",""]
[null,"ARROYO LOS HUESOS (CP: 7301)","7301","ARROYO LOS HUESOS","BUENOS AIRES","METROPOLITANA","123","CESAR RONCARI",null,null,null,null,null,null,null,null,null,null,null,null,null,null,null,null,null,null,null,null,null,null,null,null,null,null,null,null,null,null,null,null,null,null,null,null,null,1289,"DEL CAMPO COMBUSTIBLES SRL","TERCEROS","Consignado","LITORAL NORTE","25 DE MAYO Y MONTEAGUDO",3540,"VILLA ANGELA","MAYOR J LUIS FONTANA","CHACO","30696758294","Titos, Marlene","Kokubu, Alberto","A definir",""]
[null,"ARROYO VENADO (CP: 6437)","6437","ARROYO VENADO","BUENOS AIRES","METROPOLITANA","123","CESAR RONCARI",null,null,null,null,null,null,null,null,null,null,null,null,null,null,null,null,null,null,null,null,null,null,null,null,null,null,null,null,null,null,null,null,null,null,null,null,null,1291,"JUAN KISIEL SRL","TERCEROS","Consignado","LITORAL NORTE","GRAL SAN MARTIN Y MAIPU",3701,"SAN BERNARDO","O'HIGGINS","CHACO","30623569566","Titos, Marlene","Kokubu, Alberto","A definir",""]
[null,"ARTURO VATTEONE (CP: 6433)","6433","ARTURO VATTEONE","BUENOS AIRES","METROPOLITANA","123","CESAR RONCARI",null,null,null,null,null,null,null,null,null,null,null,null,null,null,null,null,null,null,null,null,null,null,null,null,null,null,null,null,null,null,null,null,null,null,null,null,null,1294,"MACHAGAI COMBUSTIBLES SRL","TERCEROS","Consignado","LITORAL NORTE","DR MARIANO MORENO Y 25 DE MAYO",3534,"MACHAGAY","25 DE MAYO","CHACO","30588217562","Mendoza, Gonzalo","Kokubu, Alberto","A definir",""]
[null,"ASAMBLEA (CP: 6640)","6640","ASAMBLEA","BUENOS AIRES","METROPOLITANA",18,"OMAR PRESAS",null,null,null,null,null,null,null,null,null,null,null,null,null,null,null,null,null,null,null,null,null,null,null,null,null,null,null,null,null,null,null,null,null,null,null,null,null,1296,"MACHAGAI COMBUSTIBLES SRL","TERCEROS","Consignado","LITORAL NORTE","RUTA NACIONAL 16 KM 116 (Ascendente) Y ACCESO PCIA DE LA PLAZA",3536,"P.D.LA PLAZA","PTE DE LA PLAZA","CHACO","30588217562","Mendoza, Gonzalo","Kokubu, Alberto","A definir",""]
[null,"ASCENSION (CP: 6003)","6003","ASCENSION","BUENOS AIRES","METROPOLITANA",18,"OMAR PRESAS",null,null,null,null,null,null,null,null,null,null,null,null,null,null,null,null,null,null,null,null,null,null,null,null,null,null,null,null,null,null,null,null,null,null,null,null,null,1297,"PETRO BRENAS SA","TERCEROS","Consignado","LITORAL NORTE","AVENIDA GENERAL MANUEL BELGRANO 1703",3722,"LAS BREÑAS","9 DE JULIO","CHACO","30585224754","Titos, Marlene","Kokubu, Alberto","A definir",""]
[null,"AVELLANEDA (CP: 1870)","1870","AVELLANEDA","BUENOS AIRES","METROPOLITANA",31,"PABLO CIMINARI",null,null,null,null,null,null,null,null,null,null,null,null,null,null,null,null,null,null,null,null,null,null,null,null,null,null,null,null,null,null,null,null,null,null,null,null,null,1299,"SAENZ PENA COMBUSTIBLES","TERCEROS","Consignado","LITORAL NORTE","CHACABUCO Y BELGRANO",3700,"PTE.R.SAENZ PEÑA","CMDTE FERNANDEZ","CHACO","30534004067","Titos, Marlene","Kokubu, Alberto","A definir",""]
[null,"AVESTRUZ (CP: 8183)","8183","AVESTRUZ","BUENOS AIRES","METROPOLITANA","123","CESAR RONCARI",null,null,null,null,null,null,null,null,null,null,null,null,null,null,null,null,null,null,null,null,null,null,null,null,null,null,null,null,null,null,null,null,null,null,null,null,null,1301,"SCHRODER HNOS","TERCEROS","Consignado","LITORAL NORTE","SAN MARTIN Y 9 DE JULIO",3541,"SANTA SYLVINA","FRAY JUSTO STA MA DE ORO","CHACO","30636690623","Titos, Marlene","Kokubu, Alberto","A definir",""]
[null,"AYACUCHO (CP: 7150)","7150","AYACUCHO","BUENOS AIRES","METROPOLITANA","123","CESAR RONCARI",null,null,null,null,null,null,null,null,null,null,null,null,null,null,null,null,null,null,null,null,null,null,null,null,null,null,null,null,null,null,null,null,null,null,null,null,null,1302,"ACA PRESIDENTE ROQUE SAENZ PE#A","ACA","ACA","LITORAL NORTE","RIVADAVIA Y 25 MAYO",3700,"PTE.R.SAENZ PEÑA","CMDTE FERNANDEZ","CHACO","30500143297","Titos, Marlene","Kokubu, Alberto","A definir",""]
[null,"AYACUCHO (CP: 7151)","7151","AYACUCHO","BUENOS AIRES","METROPOLITANA","123","CESAR RONCARI",null,null,null,null,null,null,null,null,null,null,null,null,null,null,null,null,null,null,null,null,null,null,null,null,null,null,null,null,null,null,null,null,null,null,null,null,null,1304,"AUTO STAR SRL","TERCEROS","Consignado","LITORAL NORTE","AVENIDA HERNANDARIAS Y AVENIDA MARCONI",3500,"RESISTENCIA","SAN FERNANDO","CHACO","30585653620","Titos, Marlene","Kokubu, Alberto","A definir",""]
[null,"AZOPARDO (CP: 8181)","8181","AZOPARDO","BUENOS AIRES","METROPOLITANA","123","CESAR RONCARI",null,null,null,null,null,null,null,null,null,null,null,null,null,null,null,null,null,null,null,null,null,null,null,null,null,null,null,null,null,null,null,null,null,null,null,null,null,1306,"APALA SA (COLOMBINI OLOFERNE)","TERCEROS","Consignado","LITORAL NORTE","AVENIDA MAIPU 1801",3400,"CORRIENTES","CORRIENTES CAPITAL","CORRIENTES","30709361372","Machuca, Rolando","Kokubu, Alberto","A definir",""]
[null,"AZUL (CP: 7300)","7300","AZUL","BUENOS AIRES","METROPOLITANA","123","CESAR RONCARI",null,null,null,null,null,null,null,null,null,null,null,null,null,null,null,null,null,null,null,null,null,null,null,null,null,null,null,null,null,null,null,null,null,null,null,null,null,1309,"SUC DE DEGREGORIO OVIDIO J SH","TERCEROS","Consignado","LITORAL NORTE","AVENIDA GENERAL JOSE AVALOS",3500,"RESISTENCIA","SAN FERNANDO","CHACO","30670179350","Titos, Marlene","Kokubu, Alberto","A definir",""]
[null,"BACACAY (CP: 6516)","6516","BACACAY","BUENOS AIRES","METROPOLITANA",31,"PABLO CIMINARI",null,null,null,null,null,null,null,null,null,null,null,null,null,null,null,null,null,null,null,null,null,null,null,null,null,null,null,null,null,null,null,null,null,null,null,null,null,1310,"EL CRUCE SA","TERCEROS","Consignado","LITORAL NORTE","RUTA NACIONAL RUTA NAC 11 KM 1006 (Ascendente) Y AVENIDA ALVEAR",3500,"RESISTENCIA","SAN FERNANDO","CHACO","30542675698","Titos, Marlene","Kokubu, Alberto","A definir",""]
[null,"BAHIA BLANCA (CP: 8000)","8000","BAHIA BLANCA","BUENOS AIRES","METROPOLITANA",130,"CESAR RONCARI",null,null,null,null,null,null,null,null,null,null,null,null,null,null,null,null,null,null,null,null,null,null,null,null,null,null,null,null,null,null,null,null,null,null,null,null,null,1314,"MACIAS JORGE HORACIO","TERCEROS","Consignado","LITORAL NORTE","AVENIDA PEDRO FERRE 2590",3400,"CORRIENTES","CORRIENTES CAPITAL","CORRIENTES","20132800481","Machuca, Rolando","Kokubu, Alberto","A definir",""]
[null,"BAIGORRITA (CP: 6013)","6013","BAIGORRITA","BUENOS AIRES","METROPOLITANA","29","JOSE ANDRES MONDINO",null,null,null,null,null,null,null,null,null,null,null,null,null,null,null,null,null,null,null,null,null,null,null,null,null,null,null,null,null,null,null,null,null,null,null,null,null,1317,"OPESSA ACA BARRANQUERA","OPESSA","Consignado","LITORAL NORTE","RUTA NACIONAL 16 KM 6 (Ascendente)",3505,"ANTEQUERAS","1 DE MAYO","CHACO","30678774495","Titos, Marlene","Kokubu, Alberto","A definir","Duran, Oscar"]
[null,"BAJO HONDO (CP: 8115)","8115","BAJO HONDO","BUENOS AIRES","METROPOLITANA",130,"CESAR RONCARI",null,null,null,null,null,null,null,null,null,null,null,null,null,null,null,null,null,null,null,null,null,null,null,null,null,null,null,null,null,null,null,null,null,null,null,null,null,1319,"PETROCOR D F CAPURRO SA","TERCEROS","Consignado","LITORAL NORTE","AVENIDA LIBERTAD Y RUTA NACIONAL 12",3400,"CORRIENTES","CORRIENTES CAPITAL","CORRIENTES","30519296795","Machuca, Rolando","Kokubu, Alberto","A definir",""]
[null,"BALCARCE (CP: 7620)","7620","BALCARCE","BUENOS AIRES","METROPOLITANA","123","CESAR RONCARI",null,null,null,null,null,null,null,null,null,null,null,null,null,null,null,null,null,null,null,null,null,null,null,null,null,null,null,null,null,null,null,null,null,null,null,null,null,1320,"OSCAR LEANDRO SRL","TERCEROS","Consignado","LITORAL NORTE","RUTA NACIONAL 12 KM 1024 (Ascendente) Y MAIPU",3400,"CORRIENTES","CORRIENTES CAPITAL","CORRIENTES","30710417217","Machuca, Rolando","Kokubu, Alberto","A definir",""]
[null,"BANDERALO (CP: 6244)","6244","BANDERALO","BUENOS AIRES","METROPOLITANA","123","CESAR RONCARI",null,null,null,null,null,null,null,null,null,null,null,null,null,null,null,null,null,null,null,null,null,null,null,null,null,null,null,null,null,null,null,null,null,null,null,null,null,1322,"CHAVES RAQUEL ESTHER","TERCEROS","Reventa","LITORAL NORTE","MORENO Y PUJOL",3427,"MBURUCUYA","MBURUCUYA","CORRIENTES","27225800508","Machuca, Rolando","Kokubu, Alberto","A definir",""]
[null,"BANFIELD (CP: 1820)","1820","BANFIELD","BUENOS AIRES","METROPOLITANA",31,"PABLO CIMINARI",null,null,null,null,null,null,null,null,null,null,null,null,null,null,null,null,null,null,null,null,null,null,null,null,null,null,null,null,null,null,null,null,null,null,null,null,null,1324,"ROSTAN MARIA ELENA","TERCEROS","Consignado","LITORAL NORTE","RUTA NACIONAL 11 KM 946 (Descendente) Y ACCESO",3516,"BASAIL","SAN FERNANDO","CHACO","27052138642","Titos, Marlene","Kokubu, Alberto","A definir",""]
[null,"BANFIELD (CP: 1828)","1828","BANFIELD","BUENOS AIRES","METROPOLITANA",31,"PABLO CIMINARI",null,null,null,null,null,null,null,null,null,null,null,null,null,null,null,null,null,null,null,null,null,null,null,null,null,null,null,null,null,null,null,null,null,null,null,null,null,1328,"SALADAS COMBUSTIBLES SRL","TERCEROS","Consignado","LITORAL NORTE","SARMIENTO Y SAN MARTIN",3420,"SALADAS","SALADAS","CORRIENTES","30589977412","Machuca, Rolando","Kokubu, Alberto","A definir",""]
[null,"BARADERO (CP: 2942)","2942","BARADERO","BUENOS AIRES","METROPOLITANA","29","JOSE ANDRES MONDINO",null,null,null,null,null,null,null,null,null,null,null,null,null,null,null,null,null,null,null,null,null,null,null,null,null,null,null,null,null,null,null,null,null,null,null,null,null,1329,"SIMON DREISPIEL SA","TERCEROS","Consignado","LITORAL NORTE","AVENIDA GOB ANTONIO RUIZ",3400,"CORRIENTES","CORRIENTES CAPITAL","CORRIENTES","30521713077","Machuca, Rolando","Kokubu, Alberto","A definir",""]
[null,"BARKER (CP: 7005)","7005","BARKER","BUENOS AIRES","METROPOLITANA","123","CESAR RONCARI",null,null,null,null,null,null,null,null,null,null,null,null,null,null,null,null,null,null,null,null,null,null,null,null,null,null,null,null,null,null,null,null,null,null,null,null,null,1331,"RAUL HONORIO SILVESTRI SA","TERCEROS","Consignado","LITORAL NORTE","GENERAL GÜEMES Y DON BOSCO",3500,"RESISTENCIA","SAN FERNANDO","CHACO","30612450249","Titos, Marlene","Kokubu, Alberto","A definir",""]
[null,"BARRIO D.ANTONIO (CP: 2914)","2914","BARRIO D.ANTONIO","BUENOS AIRES","METROPOLITANA","29","JOSE ANDRES MONDINO",null,null,null,null,null,null,null,null,null,null,null,null,null,null,null,null,null,null,null,null,null,null,null,null,null,null,null,null,null,null,null,null,null,null,null,null,null,1333,"ACA CORRIENTES","ACA","ACA","LITORAL NORTE","MENDOZA Y 25 DE MAYO",3400,"CORRIENTES","CORRIENTES CAPITAL","CORRIENTES","30500143297","Machuca, Rolando","Kokubu, Alberto","A definir",""]
[null,"BARRIO PARQUE PELUFFO (CP: 1708)","1708","BARRIO PARQUE PELUFFO","BUENOS AIRES","METROPOLITANA",18,"OMAR PRESAS",null,null,null,null,null,null,null,null,null,null,null,null,null,null,null,null,null,null,null,null,null,null,null,null,null,null,null,null,null,null,null,null,null,null,null,null,null,1334,"ACA ITA IBATE","ACA","ACA","LITORAL NORTE","RUTA NACIONAL 12 KM 1181 (Ascendente) Y ITA IBATE",3480,"ITA IBATE","GRAL PAZ","CORRIENTES","30500143297","Machuca, Rolando","Kokubu, Alberto","A definir",""]
[null,"BARRIO SAN JOSE (CP: 1846)","1846","BARRIO SAN JOSE","BUENOS AIRES","METROPOLITANA",31,"PABLO CIMINARI",null,null,null,null,null,null,null,null,null,null,null,null,null,null,null,null,null,null,null,null,null,null,null,null,null,null,null,null,null,null,null,null,null,null,null,null,null,1335,"OPESSA ACA RESISTENCIA","OPESSA","Consignado","LITORAL NORTE","AVENIDA 9 DE JULIO 499 Y AVENIDA ITALIA",3500,"RESISTENCIA","SAN FERNANDO","CHACO","30678774495","Titos, Marlene","Kokubu, Alberto","A definir","Duran, Oscar"]
[null,"BASE AERONAVAL PTA.INDIO (CP: 1919)","1919","BASE AERONAVAL PTA.INDIO","BUENOS AIRES","METROPOLITANA",31,"PABLO CIMINARI",null,null,null,null,null,null,null,null,null,null,null,null,null,null,null,null,null,null,null,null,null,null,null,null,null,null,null,null,null,null,null,null,null,null,null,null,null,1337,"ERIKSEN Y CIA SA","TERCEROS","Consignado","LITORAL NORTE","RUTA NACIONAL 12 KM (Ascendente) Y AVENIDA EL FUNDADOR",3380,"ELDORADO","ELDORADO","MISIONES","30529592759","Cendra, Luciano","Kokubu, Alberto","A definir",""]
[null,"BATAN (BARRIO) (CP: 7601)","7601","BATAN (BARRIO)","BUENOS AIRES","METROPOLITANA","123","CESAR RONCARI",null,null,null,null,null,null,null,null,null,null,null,null,null,null,null,null,null,null,null,null,null,null,null,null,null,null,null,null,null,null,null,null,null,null,null,null,null,1338,"ERIKSEN Y CIA SA","TERCEROS","Consignado","LITORAL NORTE","AVENIDA SAN MARTIN 820",3380,"ELDORADO","ELDORADO","MISIONES","30529592759","Cendra, Luciano","Kokubu, Alberto","A definir",""]
[null,"BATERIAS (CP: 8113)","8113","BATERIAS","BUENOS AIRES","METROPOLITANA",130,"CESAR RONCARI",null,null,null,null,null,null,null,null,null,null,null,null,null,null,null,null,null,null,null,null,null,null,null,null,null,null,null,null,null,null,null,null,null,null,null,null,null,1340,"EL GUAEMBE SRL","TERCEROS","Consignado","LITORAL NORTE","RUTA NACIONAL 12 KM () Y ACCESO 9 DE JULIO",3334,"PUERTO RICO","LIB GRAL SAN MARTIN","MISIONES","30552354601","Cendra, Luciano","Kokubu, Alberto","A definir",""]
[null,"BAUDRIX (CP: 6643)","6643","BAUDRIX","BUENOS AIRES","METROPOLITANA",18,"OMAR PRESAS",null,null,null,null,null,null,null,null,null,null,null,null,null,null,null,null,null,null,null,null,null,null,null,null,null,null,null,null,null,null,null,null,null,null,null,null,null,1343,"PETROIGUAZU SA","TERCEROS","Consignado","LITORAL NORTE","RUTA NACIONAL 12 KM (Ascendente) Y ACCESO",3378,"PUERTO ESPERANZA","IGUAZU","MISIONES","30547499952","Cendra, Luciano","Kokubu, Alberto","A definir",""]
[null,"BAYAUCA-PROV. DE BS. AS. (CP: 6068)","6068","BAYAUCA-PROV. DE BS. AS.","BUENOS AIRES","METROPOLITANA",18,"OMAR PRESAS",null,null,null,null,null,null,null,null,null,null,null,null,null,null,null,null,null,null,null,null,null,null,null,null,null,null,null,null,null,null,null,null,null,null,null,null,null,1344,"PETROIGUAZU SA","TERCEROS","Consignado","LITORAL NORTE","AVENIDA 20 DE JUNIO",3378,"PUERTO ESPERANZA","IGUAZU","MISIONES","30547499952","Cendra, Luciano","Kokubu, Alberto","A definir",""]
[null,"BAYAUCA-PROV. DE BS. AS. (CP: 6078)","6078","BAYAUCA-PROV. DE BS. AS.","BUENOS AIRES","METROPOLITANA","123","CESAR RONCARI",null,null,null,null,null,null,null,null,null,null,null,null,null,null,null,null,null,null,null,null,null,null,null,null,null,null,null,null,null,null,null,null,null,null,null,null,null,1348,"IGNACIO MESCHEDE Y CIA SRL","TERCEROS","Consignado","LITORAL NORTE","AVENIDA SAN MARTIN",3380,"ELDORADO","ELDORADO","MISIONES","30530481545","Cendra, Luciano","Kokubu, Alberto","A definir",""]
[null,"BECCAR (CP: 1643)","1643","BECCAR","BUENOS AIRES","METROPOLITANA","29","JOSE ANDRES MONDINO",null,null,null,null,null,null,null,null,null,null,null,null,null,null,null,null,null,null,null,null,null,null,null,null,null,null,null,null,null,null,null,null,null,null,null,null,null,1350,"COOPERATIVA AGRICOLA MIXTA MONTE CARLO LTD","TERCEROS","Consignado","LITORAL NORTE","AVENIDA GRAL SAN MARTIN 2628",3384,"MONTE CARLO","MONTECARLO","MISIONES","30528844746","Cendra, Luciano","Kokubu, Alberto","A definir",""]
[null,{"$f":"CONCATENATE(D515,\" (CP: \",C515,\")\")","v":"BELLA VISTA (CP: 1661)"},"1661","BELLA VISTA","BUENOS AIRES","METROPOLITANA",18,"OMAR PRESAS",null,null,null,null,null,null,null,null,null,null,null,null,null,null,null,null,null,null,null,null,null,null,null,null,null,null,null,null,null,null,null,null,null,null,null,null,null,1352,"ARNO SEEWALD SA","TERCEROS","Consignado","LITORAL NORTE","RUTA NACIONAL 12 KM (Ascendente) Y ACCESO AV DE LAS AMERICAS",3334,"GARUHAPE","LIB GRAL SAN MARTIN","MISIONES","30698136541","Cendra, Luciano","Kokubu, Alberto","A definir",""]
[null,"BELLOCO (CP: 6535)","6535","BELLOCO","BUENOS AIRES","METROPOLITANA",31,"PABLO CIMINARI",null,null,null,null,null,null,null,null,null,null,null,null,null,null,null,null,null,null,null,null,null,null,null,null,null,null,null,null,null,null,null,null,null,null,null,null,null,1353,"SEEWALD CENTRO SA","TERCEROS","Consignado","LITORAL NORTE","AVENIDA GENERAL SAN MARTIN 2646",3334,"PUERTO RICO","LIB GRAL SAN MARTIN","MISIONES","30715394150","Cendra, Luciano","Kokubu, Alberto","A definir",""]
[null,"BENAVIDEZ (CP: 1621)","1621","BENAVIDEZ","BUENOS AIRES","METROPOLITANA","29","JOSE ANDRES MONDINO",null,null,null,null,null,null,null,null,null,null,null,null,null,null,null,null,null,null,null,null,null,null,null,null,null,null,null,null,null,null,null,null,null,null,null,null,null,1354,"PETRO IGUAZU SA","TERCEROS","Consignado","LITORAL NORTE","AVENIDA V AGUIRRE Y CORDOBA",3370,"IGUAZU","IGUAZU","MISIONES","30547499952","Cendra, Luciano","Kokubu, Alberto","A definir",""]
[null,"BENITEZ (CP: 6632)","6632","BENITEZ","BUENOS AIRES","METROPOLITANA","123","CESAR RONCARI",null,null,null,null,null,null,null,null,null,null,null,null,null,null,null,null,null,null,null,null,null,null,null,null,null,null,null,null,null,null,null,null,null,null,null,null,null,1356,"PETROVALLE SA","TERCEROS","Consignado","LITORAL NORTE","AVENIDA DE LAS AMERICAS 1005",3364,"ARISTOBULO DEL VALLE","CAINGUAS","MISIONES","30572365391","Avalos, Ramón","Kokubu, Alberto","A definir",""]
[null,"BENITO JUAREZ (CP: 7020)","7020","BENITO JUAREZ","BUENOS AIRES","METROPOLITANA","123","CESAR RONCARI",null,null,null,null,null,null,null,null,null,null,null,null,null,null,null,null,null,null,null,null,null,null,null,null,null,null,null,null,null,null,null,null,null,null,null,null,null,1357,"PETROVALLE SA","TERCEROS","Consignado","LITORAL NORTE","AVENIDA DEL LIBERTADOR 992",3364,"SAN VICENTE","GUARANI","MISIONES","30572365391","Cendra, Luciano","Kokubu, Alberto","A definir",""]
[null,"BERAZATEGUI (CP: 1884)","1884","BERAZATEGUI","BUENOS AIRES","METROPOLITANA",31,"PABLO CIMINARI",null,null,null,null,null,null,null,null,null,null,null,null,null,null,null,null,null,null,null,null,null,null,null,null,null,null,null,null,null,null,null,null,null,null,null,null,null,1358,"PETROVALLE SA","TERCEROS","Consignado","LITORAL NORTE","25 DE MAYO Y GUEMES",3364,"SAN PEDRO","SAN PEDRO","MISIONES","30572365391","Cendra, Luciano","Kokubu, Alberto","A definir",""]
[null,"BERAZATEGUI (CP: 5957)","5957","BERAZATEGUI","BUENOS AIRES","METROPOLITANA",31,"PABLO CIMINARI",null,null,null,null,null,null,null,null,null,null,null,null,null,null,null,null,null,null,null,null,null,null,null,null,null,null,null,null,null,null,null,null,null,null,null,null,null,1359,"PETROVALLE SA","TERCEROS","Consignado","LITORAL NORTE","AVENIDA LOS COLONOS Y EX RUTA PROVINCIAL 211",3364,"DOS DE MAYO","CAINGUAS","MISIONES","30572365391","Avalos, Ramón","Kokubu, Alberto","A definir",""]
[null,"BERAZATEGUI OESTE (CP: 1884)","1884","BERAZATEGUI OESTE","BUENOS AIRES","METROPOLITANA",31,"PABLO CIMINARI",null,null,null,null,null,null,null,null,null,null,null,null,null,null,null,null,null,null,null,null,null,null,null,null,null,null,null,null,null,null,null,null,null,null,null,null,null,1361,"PETROVALLE SA","TERCEROS","Consignado","LITORAL NORTE","RUTA NACIONAL 14 KM (Ascendente)",3364,"ARISTOBULO DEL VALLE","CAINGUAS","MISIONES","30572365391","Avalos, Ramón","Kokubu, Alberto","A definir",""]
[null,"BERISSO (CP: 1923)","1923","BERISSO","BUENOS AIRES","METROPOLITANA",31,"PABLO CIMINARI",null,null,null,null,null,null,null,null,null,null,null,null,null,null,null,null,null,null,null,null,null,null,null,null,null,null,null,null,null,null,null,null,null,null,null,null,null,1362,"PETROVALLE SA","TERCEROS","Consignado","LITORAL NORTE","RUTA NACIONAL 14 KM 1259 (Ascendente)",3364,"SAN VICENTE","GUARANI","MISIONES","30572365391","Cendra, Luciano","Kokubu, Alberto","A definir",""]
[null,"BERNAL (CP: 1876)","1876","BERNAL","BUENOS AIRES","METROPOLITANA",31,"PABLO CIMINARI",null,null,null,null,null,null,null,null,null,null,null,null,null,null,null,null,null,null,null,null,null,null,null,null,null,null,null,null,null,null,null,null,null,null,null,null,null,1364,"PETROVALLE SA","TERCEROS","Consignado","LITORAL NORTE","RIO URUGUAY Y 8 DE SETIEMBRE",3364,"SALTO ENCANTADO","CAINGUAS","MISIONES","30572365391","Avalos, Ramón","Kokubu, Alberto","A definir",""]
[null,"BERUTTI (CP: 6424)","6424","BERUTTI","BUENOS AIRES","METROPOLITANA","123","CESAR RONCARI",null,null,null,null,null,null,null,null,null,null,null,null,null,null,null,null,null,null,null,null,null,null,null,null,null,null,null,null,null,null,null,null,null,null,null,null,null,1365,"ACA BERNARDO DE IRIGOYEN","ACA","ACA","LITORAL NORTE","RUTA NACIONAL 14 KM 1435 (Ascendente) (RADIO URBANO)",3366,"B.DE IRIGOYEN","GRAL MANUEL BELGRANO","MISIONES","30500143297","Cendra, Luciano","Kokubu, Alberto","A definir",""]
[null,"BLANDENGUES (CP: 6032)","6032","BLANDENGUES","BUENOS AIRES","METROPOLITANA",18,"OMAR PRESAS",null,null,null,null,null,null,null,null,null,null,null,null,null,null,null,null,null,null,null,null,null,null,null,null,null,null,null,null,null,null,null,null,null,null,null,null,null,1366,"ACA EL DORADO","ACA","ACA","LITORAL NORTE","AVENIDA SAN MARTIN Y RODRIGO",3380,"ELDORADO","ELDORADO","MISIONES","30500143297","Cendra, Luciano","Kokubu, Alberto","A definir",""]
[null,"BLAQUIER (CP: 6065)","6065","BLAQUIER","BUENOS AIRES","METROPOLITANA",18,"OMAR PRESAS",null,null,null,null,null,null,null,null,null,null,null,null,null,null,null,null,null,null,null,null,null,null,null,null,null,null,null,null,null,null,null,null,null,null,null,null,null,1367,"ACA PUERTO IGUAZU","ACA","ACA","LITORAL NORTE","RUTA NACIONAL 12 KM 1638.500 (Ascendente)",3370,"IGUAZU","IGUAZU","MISIONES","30500143297","Cendra, Luciano","Kokubu, Alberto","A definir",""]
[null,"BLAS DURAÑONA (CP: 6661)","6661","BLAS DURAÑONA","BUENOS AIRES","METROPOLITANA",18,"OMAR PRESAS",null,null,null,null,null,null,null,null,null,null,null,null,null,null,null,null,null,null,null,null,null,null,null,null,null,null,null,null,null,null,null,null,null,null,null,null,null,1368,"SANCHEZ LUIS Y M SANCHEZ SH","TERCEROS","Consignado","LITORAL SUR","AVENIDA MENDOZA Y CULLEN",2000,"ROSARIO","ROSARIO","SANTA FE","30716026236","Donato, Sebastian","Gomez, Cristian","A definir",""]
[null,"BO BCO PCIA (CP: 1923)","1923","BO BCO PCIA","BUENOS AIRES","METROPOLITANA",31,"PABLO CIMINARI",null,null,null,null,null,null,null,null,null,null,null,null,null,null,null,null,null,null,null,null,null,null,null,null,null,null,null,null,null,null,null,null,null,null,null,null,null,1369,"EL SURTIDOR S.R.L.","TERCEROS","Consignado","LITORAL SUR","CORDOBA Y BV AVELLANEDA",2000,"ROSARIO","ROSARIO","SANTA FE","30519328220","Donato, Sebastian","Gomez, Cristian","A definir",""]
[null,"BO UNIVERSITARIO (CP: 1923)","1923","BO UNIVERSITARIO","BUENOS AIRES","METROPOLITANA",31,"PABLO CIMINARI",null,null,null,null,null,null,null,null,null,null,null,null,null,null,null,null,null,null,null,null,null,null,null,null,null,null,null,null,null,null,null,null,null,null,null,null,null,1377,"TONIN HNOS SRL","TERCEROS","Consignado","LITORAL SUR","GRAL SAN MARTIN Y J B JUSTO",2128,"ARROYO SECO","ROSARIO","SANTA FE","33711055989","Donato, Sebastian","Gomez, Cristian","A definir",""]
[null,"BOLIVAR (CP: 6550)","6550","BOLIVAR","BUENOS AIRES","METROPOLITANA","123","CESAR RONCARI",null,null,null,null,null,null,null,null,null,null,null,null,null,null,null,null,null,null,null,null,null,null,null,null,null,null,null,null,null,null,null,null,null,null,null,null,null,1380,"RICARDO RISATTI SACIF","TERCEROS","Consignado","MEDITERRANEA","RUTA NACIONAL 35 KM (Ascendente) Y ACCESO NORTE",6270,"HUINCA RENANCO","GRAL ROCA","CORDOBA","33525935189","Ojeda,  David ","Parolin, Mauricio Elvio","Banegas, Walter",""]
[null,"BONIFACIO (CP: 6439)","6439","BONIFACIO","BUENOS AIRES","METROPOLITANA","123","CESAR RONCARI",null,null,null,null,null,null,null,null,null,null,null,null,null,null,null,null,null,null,null,null,null,null,null,null,null,null,null,null,null,null,null,null,null,null,null,null,null,1387,"PETROVALLE SA","TERCEROS","Consignado","LITORAL NORTE","RUTA NACIONAL 12 KM (Ascendente)",3328,"JARDIN AMERICA","SAN IGNACIO","MISIONES","30572365391","Cendra, Luciano","Kokubu, Alberto","A definir",""]
[null,"BORDENAVE (CP: 8187)","8187","BORDENAVE","BUENOS AIRES","METROPOLITANA",130,"CESAR RONCARI",null,null,null,null,null,null,null,null,null,null,null,null,null,null,null,null,null,null,null,null,null,null,null,null,null,null,null,null,null,null,null,null,null,null,null,null,null,1388,"INVERSORA SA","TERCEROS","Consignado","LITORAL NORTE","RUTA NACIONAL 12 KM (Ascendente) Y PUERTO DESEADO",3300,"POSADAS","POSADAS","MISIONES","30538219424","Cendra, Luciano","Kokubu, Alberto","A definir",""]
[null,"BORDEU (CP: 8000)","8000","BORDEU","BUENOS AIRES","METROPOLITANA",130,"CESAR RONCARI",null,null,null,null,null,null,null,null,null,null,null,null,null,null,null,null,null,null,null,null,null,null,null,null,null,null,null,null,null,null,null,null,null,null,null,null,null,1390,"PETRO BRENAS SA","TERCEROS","Consignado","LITORAL NORTE","RUTA PROVINCIAL 94 KM (Ascendente) Y RUTA PROVINCIAL 6",3722,"LAS BREÑAS","9 DE JULIO","CHACO","30585224754","Titos, Marlene","Kokubu, Alberto","A definir",""]
[null,"BOSCH (CP: 7620)","7620","BOSCH","BUENOS AIRES","METROPOLITANA","123","CESAR RONCARI",null,null,null,null,null,null,null,null,null,null,null,null,null,null,null,null,null,null,null,null,null,null,null,null,null,null,null,null,null,null,null,null,null,null,null,null,null,1392,"MARIA A ALABERT DE INSFRAN","TERCEROS","Consignado","LITORAL NORTE","RUTA NACIONAL 81 KM (Ascendente) Y PROVINCIAL 23",3608,"PALO SANTO","PILAGAS","FORMOSA","27108425216","Mendoza, Gonzalo","Kokubu, Alberto","A definir",""]
[null,"BOSQUES (CP: 1889)","1889","BOSQUES","BUENOS AIRES","METROPOLITANA",31,"PABLO CIMINARI",null,null,null,null,null,null,null,null,null,null,null,null,null,null,null,null,null,null,null,null,null,null,null,null,null,null,null,null,null,null,null,null,null,null,null,null,null,1405,"SUCESORIO DE ANTONIO LLADHON SRL","TERCEROS","Consignado","VALLES","RUTA NACIONAL 34 KM 565 (Descendente) Y RUTA PROVINCIAL 92",4332,"COLONIA DORA","AVELLANEDA","SANTIAGO DEL ESTERO","30675063490","Arevalo, Roque Fabian","Naval, Carlos","Astegiano, Flavio",""]
[null,"BOULOGNE (CP: 1609)","1609","BOULOGNE","BUENOS AIRES","METROPOLITANA","29","JOSE ANDRES MONDINO",null,null,null,null,null,null,null,null,null,null,null,null,null,null,null,null,null,null,null,null,null,null,null,null,null,null,null,null,null,null,null,null,null,null,null,null,null,1409,"U. AGRIC. DE AVELLANEDA COOP LTDA","TERCEROS","Consignado","VALLES","AVENIDA SAN MARTIN (CALLE PRINCIPAL)",3763,"LOS JURIES","GRAL TABOADA","SANTIAGO DEL ESTERO","30501912405","Arevalo, Roque Fabian","Naval, Carlos","Astegiano, Flavio",""]
[null,"BRAGADO (CP: 6640)","6640","BRAGADO","BUENOS AIRES","METROPOLITANA",18,"OMAR PRESAS",null,null,null,null,null,null,null,null,null,null,null,null,null,null,null,null,null,null,null,null,null,null,null,null,null,null,null,null,null,null,null,null,null,null,null,null,null,1414,"OPESSA BELLA VISTA","OPESSA","Consignado","BUENOS AIRES","AVENIDA GASPAR CAMPOS Y MORON",1661,"BELLA VISTA","SAN MIGUEL","BUENOS AIRES","30678774495","Isak, Fernando","Brena, Marcelo","Barruti, Francisco","Gualeni, Andrea"]
[null,"BRANDSEN (CP: 1980)","1980","BRANDSEN","BUENOS AIRES","METROPOLITANA",31,"PABLO CIMINARI",null,null,null,null,null,null,null,null,null,null,null,null,null,null,null,null,null,null,null,null,null,null,null,null,null,null,null,null,null,null,null,null,null,null,null,null,null,1415,"OPESSA PERDRIEL","OPESSA","Consignado","METROPOLITANA","25 DE MAYO 1544 Y PERDRIEL",1650,"SAN MARTIN","SAN MARTIN","BUENOS AIRES","30678774495","Gatt, Gaston","Bouzon, Gustavo","Gottlieb, Patricio","Gualeni, Andrea"]
[null,"BUNGE (CP: 6241)","6241","BUNGE","BUENOS AIRES","METROPOLITANA","123","CESAR RONCARI",null,null,null,null,null,null,null,null,null,null,null,null,null,null,null,null,null,null,null,null,null,null,null,null,null,null,null,null,null,null,null,null,null,null,null,null,null,1416,"ALLI VAMOS SA","TERCEROS","Consignado","BUENOS AIRES","AVENIDA BARTOLOME MITRE Y JERONIMO SALGUERO",1663,"SAN MIGUEL","SAN MIGUEL","BUENOS AIRES","30694782821","Isak, Fernando","Brena, Marcelo","Barruti, Francisco",""]
[null,"BURZACO (CP: 1852)","1852","BURZACO","BUENOS AIRES","METROPOLITANA",31,"PABLO CIMINARI",null,null,null,null,null,null,null,null,null,null,null,null,null,null,null,null,null,null,null,null,null,null,null,null,null,null,null,null,null,null,null,null,null,null,null,null,null,1417,"SERVISUR SRL","TERCEROS","Consignado","VALLES","AVENIDA EX COMBATIENTES DE MALVINAS 3897 Y LUIS M IBARRA",4400,"SALTA","SALTA CAPITAL","SALTA","30700078287","Corbella, Laura","Naval, Carlos","Astegiano, Flavio",""]
[null,"BURZACO (CP: 1853)","1853","BURZACO","BUENOS AIRES","METROPOLITANA",31,"PABLO CIMINARI",null,null,null,null,null,null,null,null,null,null,null,null,null,null,null,null,null,null,null,null,null,null,null,null,null,null,null,null,null,null,null,null,null,null,null,null,null,1418,"LA AGRICOLA REGIONAL COOP LD","TERCEROS","Consignado","LITORAL SUR","9 DE JULIO Y ENTRE RIOS",3116,"CRESPO","PARANA","ENTRE RIOS","33504047089","Martino, Alejandra","Gomez, Cristian","A definir",""]
[null,"CABILDO (CP: 8118)","8118","CABILDO","BUENOS AIRES","METROPOLITANA",130,"CESAR RONCARI",null,null,null,null,null,null,null,null,null,null,null,null,null,null,null,null,null,null,null,null,null,null,null,null,null,null,null,null,null,null,null,null,null,null,null,null,null,1422,"LUIS ALBERTO ARROYO","TERCEROS","Consignado","VALLES","9 DE JULIO Y MATIENZO",4146,"CONCEPCION","CHICLIGASTA","TUCUMAN","20210744216","Villafañe, Ramiro","Naval, Carlos","Astegiano, Flavio",""]
[null,"CACHARI (CP: 7214)","7214","CACHARI","BUENOS AIRES","METROPOLITANA","123","CESAR RONCARI",null,null,null,null,null,null,null,null,null,null,null,null,null,null,null,null,null,null,null,null,null,null,null,null,null,null,null,null,null,null,null,null,null,null,null,null,null,1426,"LOS QUIRQUINCHOS COMBUSTIBLES S.A.","TERCEROS","Consignado","LITORAL SUR","RUTA PROVINCIAL 93 KM (Descendente) Y ACCESO",2637,"LOS QUIRQUINCHOS","GRAL LOPEZ","SANTA FE","33713144709","Ahmad, Ricardo","Gomez, Cristian","A definir",""]
[null,"CAMBACERES (CP: 6516)","6516","CAMBACERES","BUENOS AIRES","METROPOLITANA",31,"PABLO CIMINARI",null,null,null,null,null,null,null,null,null,null,null,null,null,null,null,null,null,null,null,null,null,null,null,null,null,null,null,null,null,null,null,null,null,null,null,null,null,1429,"PETROVALLE SA","TERCEROS","Consignado","LITORAL SUR","RUTA NACIONAL 14 KM 142.900 (Ascendente)",3280,"COLON","COLON","ENTRE RIOS","30572365391","Martinez Ruhl, Jose Huberto","Gomez, Cristian","A definir",""]
[null,"CAMET (CP: 7612)","7612","CAMET","BUENOS AIRES","METROPOLITANA","123","CESAR RONCARI",null,null,null,null,null,null,null,null,null,null,null,null,null,null,null,null,null,null,null,null,null,null,null,null,null,null,null,null,null,null,null,null,null,null,null,null,null,1430,"PETROVALLE SA","TERCEROS","Consignado","LITORAL NORTE","AVENIDA REPUBLICA ORIENTAL DEL URUGUAY Y MONTEAGUDO",3300,"POSADAS","POSADAS","MISIONES","30572365391","Cendra, Luciano","Kokubu, Alberto","A definir",""]
[null,"CAMPANA (CP: 2804)","2804","CAMPANA","BUENOS AIRES","METROPOLITANA","29","JOSE ANDRES MONDINO",null,null,null,null,null,null,null,null,null,null,null,null,null,null,null,null,null,null,null,null,null,null,null,null,null,null,null,null,null,null,null,null,null,null,null,null,null,1433,"GLORIA J BARNECHE DE BARREIRO Y ABEL HORACIO BARREIRO","TERCEROS","Consignado","PAMPEANA","ELICAGARAY 400 Y MAIPU",7513,"ADOLFO GONZALES CHAVES","ADOLFO GONZALEZ CHAVES","BUENOS AIRES","30707219382","Aramburu, Diego","Gerino, Ignacio","Barrera Casal, Facundo",""]
[null,"CAMPO DE MAYO (CP: 1659)","1659","CAMPO DE MAYO","BUENOS AIRES","METROPOLITANA",18,"OMAR PRESAS",null,null,null,null,null,null,null,null,null,null,null,null,null,null,null,null,null,null,null,null,null,null,null,null,null,null,null,null,null,null,null,null,null,null,null,null,null,1435,"JARA JUAN ENRIQUE","TERCEROS","Consignado","PAMPEANA","AVENIDA SAN MARTIN 215 Y CHACABUCO",7513,"ADOLFO GONZALES CHAVES","ADOLFO GONZALEZ CHAVES","BUENOS AIRES","20250763302","Aramburu, Diego","Gerino, Ignacio","Barrera Casal, Facundo",""]
[null,"CAMPO SALLES (CP: 2903)","2903","CAMPO SALLES","BUENOS AIRES","METROPOLITANA","29","JOSE ANDRES MONDINO",null,null,null,null,null,null,null,null,null,null,null,null,null,null,null,null,null,null,null,null,null,null,null,null,null,null,null,null,null,null,null,null,null,null,null,null,null,1437,"TUNESSI Y CIA SC","TERCEROS","Consignado","PAMPEANA","MORENO Y BAHIA BLANCA",8136,"ALGARROBO","VILLARI#O","BUENOS AIRES","30550004514","Lindo Poisson, Ruben Ariel","Fernandez, Mariano","Barrera Casal, Facundo",""]
[null,"CAMPODONICO (CP: 7305)","7305","CAMPODONICO","BUENOS AIRES","METROPOLITANA","123","CESAR RONCARI",null,null,null,null,null,null,null,null,null,null,null,null,null,null,null,null,null,null,null,null,null,null,null,null,null,null,null,null,null,null,null,null,null,null,null,null,null,1438,"A SILVETTI Y CIA SCC","TERCEROS","Consignado","PATAGONIA","TOMAS ORELL E INDEPENDENCIA",8328,"ALLEN","GRAL ROCA","RIO NEGRO","33530857609","Vincent, Adrián ","Maccari, Marcelo","Barreiro, Silvina",""]
[null,"CANGALLO (CP: 7153)","7153","CANGALLO","BUENOS AIRES","METROPOLITANA","123","CESAR RONCARI",null,null,null,null,null,null,null,null,null,null,null,null,null,null,null,null,null,null,null,null,null,null,null,null,null,null,null,null,null,null,null,null,null,null,null,null,null,1442,"MASSA ANIBAL L Y JUAN CARLOS SH","TERCEROS","Consignado","PAMPEANA","SARMIENTO Y SAN MARTIN",6064,"AMEGHINO","GRAL PINTO","BUENOS AIRES","30576527663","Tempone, Irene ","Gerino, Ignacio","Barrera Casal, Facundo",""]
[null,"CANNING (CP: 1804)","1804","CANNING","BUENOS AIRES","METROPOLITANA",31,"PABLO CIMINARI",null,null,null,null,null,null,null,null,null,null,null,null,null,null,null,null,null,null,null,null,null,null,null,null,null,null,null,null,null,null,null,null,null,null,null,null,null,1443,"BELTRAMO PEDRO PABLO","TERCEROS","Consignado","BUENOS AIRES","AVENIDA CORDOBA ENTRE SARMIENTO Y 25 DE MAYO",6007,"ARRIBEÑOS","GRAL ARENALES","BUENOS AIRES","23104367879","Mahon, Nicolas","Brena, Marcelo","Barruti, Francisco",""]
[null,"CANNING (CP: 3842)","3842","CANNING","BUENOS AIRES","METROPOLITANA",31,"PABLO CIMINARI",null,null,null,null,null,null,null,null,null,null,null,null,null,null,null,null,null,null,null,null,null,null,null,null,null,null,null,null,null,null,null,null,null,null,null,null,null,1445,"BASES SA","TERCEROS","Consignado","PATAGONIA","RUTA NACIONAL 22 KM 1266 (Ascendente)",8313,"ARROYITO","CONFLUENCIA","NEUQUEN","30588295385","Diacono, Juan Pablo","Maccari, Marcelo","Barreiro, Silvina",""]
[null,"CANONIGO GORRITI (CP: 8185)","8185","CANONIGO GORRITI","BUENOS AIRES","METROPOLITANA","123","CESAR RONCARI",null,null,null,null,null,null,null,null,null,null,null,null,null,null,null,null,null,null,null,null,null,null,null,null,null,null,null,null,null,null,null,null,null,null,null,null,null,1446,"NABE COMBUSTIBLES COMERCIAL SA","TERCEROS","Consignado","BUENOS AIRES","AVENIDA SAN MARTIN Y 25 DE MAYO","6003A","ASCENSION","GRAL ARENALES","BUENOS AIRES","30599484589","Mahon, Nicolas","Brena, Marcelo","Barruti, Francisco",""]
[null,"CAÑADA MARIANO (CP: 8183)","8183","CAÑADA MARIANO","BUENOS AIRES","METROPOLITANA","123","CESAR RONCARI",null,null,null,null,null,null,null,null,null,null,null,null,null,null,null,null,null,null,null,null,null,null,null,null,null,null,null,null,null,null,null,null,null,null,null,null,null,1447,"CORDONNIER Y CIA SMC","TERCEROS","Consignado","PAMPEANA","25 DE MAYO Y MITRE",7150,"AYACUCHO","AYACUCHO","BUENOS AIRES","30532986342","Del Dago, Gabriel","Gerino, Ignacio","Barrera Casal, Facundo",""]
[null,"CAÑADA SECA (CP: 6105)","6105","CAÑADA SECA","BUENOS AIRES","METROPOLITANA","123","CESAR RONCARI",null,null,null,null,null,null,null,null,null,null,null,null,null,null,null,null,null,null,null,null,null,null,null,null,null,null,null,null,null,null,null,null,null,null,null,null,null,1453,"MARTHA LOUSTAU SA","TERCEROS","Consignado","PAMPEANA","COLON Y HIPOLITO YRIGOYEN",7300,"AZUL","AZUL","BUENOS AIRES","33664120459","Di Santo, Julio","Fernandez, Mariano","Barrera Casal, Facundo",""]
[null,"CAÑUELAS (CP: 1814)","1814","CAÑUELAS","BUENOS AIRES","METROPOLITANA",31,"PABLO CIMINARI",null,null,null,null,null,null,null,null,null,null,null,null,null,null,null,null,null,null,null,null,null,null,null,null,null,null,null,null,null,null,null,null,null,null,null,null,null,1454,"OPESSA PASO DE LOS LIBRES","OPESSA","Consignado","LITORAL NORTE","RUTA NACIONAL 117 KM 9 (Ascendente)",3230,"P.D.L.LIBRES","PASO DE LOS LIBRES","CORRIENTES","30678774495","Avalos, Ramón","Kokubu, Alberto","A definir","Duran, Oscar"]
[null,"CAP SARMIENTO (CP: 2752)","2752","CAP SARMIENTO","BUENOS AIRES","METROPOLITANA","29","JOSE ANDRES MONDINO",null,null,null,null,null,null,null,null,null,null,null,null,null,null,null,null,null,null,null,null,null,null,null,null,null,null,null,null,null,null,null,null,null,null,null,null,null,1455,"MARTHA LOUSTAU SA","TERCEROS","Consignado","PAMPEANA","AVENIDA AVENIDA MITRE Y RAUCH",7300,"AZUL","AZUL","BUENOS AIRES","33664120459","Di Santo, Julio","Fernandez, Mariano","Barrera Casal, Facundo",""]
[null,"CAPILLA DEL SEÑOR (CP: 2812)","2812","CAPILLA DEL SEÑOR","BUENOS AIRES","METROPOLITANA","29","JOSE ANDRES MONDINO",null,null,null,null,null,null,null,null,null,null,null,null,null,null,null,null,null,null,null,null,null,null,null,null,null,null,null,null,null,null,null,null,null,null,null,null,null,1456,"GLOBAL OIL SRL","TERCEROS","Consignado","PATAGONIA","CALLE 1 E INTENDENTE TANUZ",8305,"A#ELO","A#ELO","NEUQUEN","30711463514","Linares, Roberto","Maccari, Marcelo","Barreiro, Silvina",""]
[null,"CARABELAS (CP: 2703)","2703","CARABELAS","BUENOS AIRES","METROPOLITANA","29","JOSE ANDRES MONDINO",null,null,null,null,null,null,null,null,null,null,null,null,null,null,null,null,null,null,null,null,null,null,null,null,null,null,null,null,null,null,null,null,null,null,null,null,null,1457,"ACA BAHIA BLANCA","ACA","ACA","PAMPEANA","CHICLANA Y FITZ ROY",8000,"BAHIA BLANCA","BAHIA BLANCA","BUENOS AIRES","30500143297","Lindo Poisson, Ruben Ariel","Fernandez, Mariano","Barrera Casal, Facundo",""]
[null,"CARAPACHAY (CP: 1606)","1606","CARAPACHAY","BUENOS AIRES","METROPOLITANA",18,"OMAR PRESAS",null,null,null,null,null,null,null,null,null,null,null,null,null,null,null,null,null,null,null,null,null,null,null,null,null,null,null,null,null,null,null,null,null,null,null,null,null,1458,"OPESSA BAHIA BLANCA","OPESSA","Consignado","PAMPEANA","VIEYTES 24 Y COLON",8000,"BAHIA BLANCA","BAHIA BLANCA","BUENOS AIRES","30678774495","Lindo Poisson, Ruben Ariel","Fernandez, Mariano","Barrera Casal, Facundo","Sinatra, Saul"]
[null,"CARDENAL CAGLIER0 (CP: 8506)","8506","CARDENAL CAGLIER0","BUENOS AIRES","METROPOLITANA",130,"CESAR RONCARI",null,null,null,null,null,null,null,null,null,null,null,null,null,null,null,null,null,null,null,null,null,null,null,null,null,null,null,null,null,null,null,null,null,null,null,null,null,1459,"ACA VILLA BORDEAU","ACA","ACA","PAMPEANA","CAMINO DEL SESQUICENTENARIO Y RUTA NACIONAL 3",8000,"BAHIA BLANCA","BAHIA BLANCA","BUENOS AIRES","30500143297","Lindo Poisson, Ruben Ariel","Fernandez, Mariano","Barrera Casal, Facundo",""]
[null,"CARHUE (CP: 6430)","6430","CARHUE","BUENOS AIRES","METROPOLITANA","123","CESAR RONCARI",null,null,null,null,null,null,null,null,null,null,null,null,null,null,null,null,null,null,null,null,null,null,null,null,null,null,null,null,null,null,null,null,null,null,null,null,null,1461,"BALLESI ALICIA B","TERCEROS","Consignado","PAMPEANA","RUTA NACIONAL 35 KM (Descendente) Y ASCENCIO",8000,"BAHIA BLANCA","BAHIA BLANCA","BUENOS AIRES","27048979454","Lindo Poisson, Ruben Ariel","Fernandez, Mariano","Barrera Casal, Facundo",""]
[null,"CARILO (CP: 7167)","7167","CARILO","BUENOS AIRES","METROPOLITANA","123","CESAR RONCARI",null,null,null,null,null,null,null,null,null,null,null,null,null,null,null,null,null,null,null,null,null,null,null,null,null,null,null,null,null,null,null,null,null,null,null,null,null,1462,"OPESSA BAHIA BLANCA BRANDSEN","OPESSA","Consignado","PAMPEANA","BRANDSEN 306 Y LAMADRID",8000,"BAHIA BLANCA","BAHIA BLANCA","BUENOS AIRES","30678774495","Lindo Poisson, Ruben Ariel","Fernandez, Mariano","Barrera Casal, Facundo","Sinatra, Saul"]
[null,"CARLOS CASARES (CP: 6530)","6530","CARLOS CASARES","BUENOS AIRES","METROPOLITANA",31,"PABLO CIMINARI",null,null,null,null,null,null,null,null,null,null,null,null,null,null,null,null,null,null,null,null,null,null,null,null,null,null,null,null,null,null,null,null,null,null,null,null,null,1468,"SUPER PERU SRL","TERCEROS","Consignado","PAMPEANA","ESTOMBA 983 Y PERU",8000,"BAHIA BLANCA","BAHIA BLANCA","BUENOS AIRES","30714058793","Lindo Poisson, Ruben Ariel","Fernandez, Mariano","Barrera Casal, Facundo",""]
[null,"CARLOS MARIA NAON (CP: 6515)","6515","CARLOS MARIA NAON","BUENOS AIRES","METROPOLITANA",31,"PABLO CIMINARI",null,null,null,null,null,null,null,null,null,null,null,null,null,null,null,null,null,null,null,null,null,null,null,null,null,null,null,null,null,null,null,null,null,null,null,null,null,1470,"PARIGIANI MARIO ISAAC","TERCEROS","Consignado","PAMPEANA","AVENIDA COLON Y 9 DE JULIO",8000,"BAHIA BLANCA","BAHIA BLANCA","BUENOS AIRES","20124741867","Lindo Poisson, Ruben Ariel","Fernandez, Mariano","Barrera Casal, Facundo",""]
[null,"CARLOS SPEGAZZINI (CP: 1812)","1812","CARLOS SPEGAZZINI","BUENOS AIRES","METROPOLITANA",31,"PABLO CIMINARI",null,null,null,null,null,null,null,null,null,null,null,null,null,null,null,null,null,null,null,null,null,null,null,null,null,null,null,null,null,null,null,null,null,null,null,null,null,1472,"CUCCHIARA ANTONIO","TERCEROS","Consignado","PAMPEANA","MITRE Y 11 DE ABRIL",8000,"BAHIA BLANCA","BAHIA BLANCA","BUENOS AIRES","20129714361","Lindo Poisson, Ruben Ariel","Fernandez, Mariano","Barrera Casal, Facundo",""]
[null,"CARLOS TEJEDOR (CP: 6455)","6455","CARLOS TEJEDOR","BUENOS AIRES","METROPOLITANA","123","CESAR RONCARI",null,null,null,null,null,null,null,null,null,null,null,null,null,null,null,null,null,null,null,null,null,null,null,null,null,null,null,null,null,null,null,null,null,null,null,null,null,1473,"JUAN V Y ANTONIO A CUCCHIARA SH","TERCEROS","Consignado","PAMPEANA","MONTEVIDEO Y ITALIA",8000,"BAHIA BLANCA","BAHIA BLANCA","BUENOS AIRES","30664173618","Lindo Poisson, Ruben Ariel","Fernandez, Mariano","Barrera Casal, Facundo",""]
[null,"CARLOS TOMAS SOURIGUES (CP: 1886)","1886","CARLOS TOMAS SOURIGUES","BUENOS AIRES","METROPOLITANA",31,"PABLO CIMINARI",null,null,null,null,null,null,null,null,null,null,null,null,null,null,null,null,null,null,null,null,null,null,null,null,null,null,null,null,null,null,null,null,null,null,null,null,null,1477,"COMBUSTIBLES SERRANOS SRL EN FORMACION","TERCEROS","Consignado","PAMPEANA","AVENIDA DEL VALLE Y CALLE 12",7620,"BALCARCE","BALCARCE","BUENOS AIRES","30710814984","Di Santo, Julio","Fernandez, Mariano","Barrera Casal, Facundo",""]
[null,"CARM.D.PATAGONES (CP: 8504)","8504","CARM.D.PATAGONES","BUENOS AIRES","METROPOLITANA",130,"CESAR RONCARI",null,null,null,null,null,null,null,null,null,null,null,null,null,null,null,null,null,null,null,null,null,null,null,null,null,null,null,null,null,null,null,null,null,null,null,null,null,1478,"ROZA HNOS SA","TERCEROS","Consignado","PAMPEANA","AVENIDA KELLY Y CALLE 19",7620,"BALCARCE","BALCARCE","BUENOS AIRES","30622657666","Di Santo, Julio","Fernandez, Mariano","Barrera Casal, Facundo",""]
[null,"CARMEN DE ARECO (CP: 6725)","6725","CARMEN DE ARECO","BUENOS AIRES","METROPOLITANA","29","JOSE ANDRES MONDINO",null,null,null,null,null,null,null,null,null,null,null,null,null,null,null,null,null,null,null,null,null,null,null,null,null,null,null,null,null,null,null,null,null,null,null,null,null,1479,"GNC BALCARCE SRL","TERCEROS","Consignado","PAMPEANA","AVENIDA ADOLFO GONZALES CHAVES Y CALLE 3",7620,"BALCARCE","BALCARCE","BUENOS AIRES","30636667117","Di Santo, Julio","Fernandez, Mariano","Barrera Casal, Facundo",""]
[null,"CASALINS (CP: 7225)","7225","CASALINS","BUENOS AIRES","METROPOLITANA",31,"PABLO CIMINARI",null,null,null,null,null,null,null,null,null,null,null,null,null,null,null,null,null,null,null,null,null,null,null,null,null,null,null,null,null,null,null,null,null,null,null,null,null,1481,"ROZA HNOS SA","TERCEROS","Consignado","PAMPEANA","RUTA NACIONAL 226 KM (Ascendente) Y RUTA PROV 55",7620,"BALCARCE","BALCARCE","BUENOS AIRES","30622657666","Di Santo, Julio","Fernandez, Mariano","Barrera Casal, Facundo",""]
[null,"CASBAS (CP: 6417)","6417","CASBAS","BUENOS AIRES","METROPOLITANA","123","CESAR RONCARI",null,null,null,null,null,null,null,null,null,null,null,null,null,null,null,null,null,null,null,null,null,null,null,null,null,null,null,null,null,null,null,null,null,null,null,null,null,1485,"ALONSO CONSTANTINO RAUL","TERCEROS","Consignado","PAMPEANA","AVENIDA ECHEVERRIA 292 Y SARMIENTO",7020,"BENITO JUAREZ","BENITO JUAREZ","BUENOS AIRES","20109136167","Aramburu, Diego","Gerino, Ignacio","Barrera Casal, Facundo",""]
[null,"CASEROS (CP: 1675)","1675","CASEROS","BUENOS AIRES","METROPOLITANA",18,"OMAR PRESAS",null,null,null,null,null,null,null,null,null,null,null,null,null,null,null,null,null,null,null,null,null,null,null,null,null,null,null,null,null,null,null,null,null,null,null,null,null,1486,"CONSTANTINO RAUL ALONSO","TERCEROS","Consignado","PAMPEANA","RUTA NACIONAL 3 KM 401 (Descendente) Y CRUCE RUTA 86",7020,"BENITO JUAREZ","BENITO JUAREZ","BUENOS AIRES","20109136167","Aramburu, Diego","Gerino, Ignacio","Barrera Casal, Facundo",""]
[null,"CASEROS (CP: 1678)","1678","CASEROS","BUENOS AIRES","METROPOLITANA",18,"OMAR PRESAS",null,null,null,null,null,null,null,null,null,null,null,null,null,null,null,null,null,null,null,null,null,null,null,null,null,null,null,null,null,null,null,null,null,null,null,null,null,1492,"ACA BOLIVAR","ACA","ACA","PAMPEANA","LAVALLE 301 Y SANTOS PLAZA",6550,"BOLIVAR","BOLIVAR","BUENOS AIRES","30500143297","Aramburu, Diego","Gerino, Ignacio","Barrera Casal, Facundo",""]
[null,"CASEROS (CP: 1679)","1679","CASEROS","BUENOS AIRES","METROPOLITANA",18,"OMAR PRESAS",null,null,null,null,null,null,null,null,null,null,null,null,null,null,null,null,null,null,null,null,null,null,null,null,null,null,null,null,null,null,null,null,null,null,null,null,null,1494,"DON PANTA S.A","TERCEROS","Consignado","PAMPEANA","ARENALES Y AVENIDA UNZUE",6550,"BOLIVAR","BOLIVAR","BUENOS AIRES","30711887438","Aramburu, Diego","Gerino, Ignacio","Barrera Casal, Facundo",""]
[null,"CASTELAR (CP: 1712)","1712","CASTELAR","BUENOS AIRES","METROPOLITANA",18,"OMAR PRESAS",null,null,null,null,null,null,null,null,null,null,null,null,null,null,null,null,null,null,null,null,null,null,null,null,null,null,null,null,null,null,null,null,null,null,null,null,null,1495,"LAS CAVAS SERVICIO & AGRO SA","TERCEROS","Consignado","PAMPEANA","RUTA NACIONAL 226 KM (Ascendente)",6550,"BOLIVAR","BOLIVAR","BUENOS AIRES","30522075899","Aramburu, Diego","Gerino, Ignacio","Barrera Casal, Facundo",""]
[null,"CASTELLI (CP: 7114)","7114","CASTELLI","BUENOS AIRES","METROPOLITANA","123","CESAR RONCARI",null,null,null,null,null,null,null,null,null,null,null,null,null,null,null,null,null,null,null,null,null,null,null,null,null,null,null,null,null,null,null,null,null,null,null,null,null,1499,"IGLESIAS HERMANOS SA","TERCEROS","Consignado","PATAGONIA","AVENIDA DEL LIBERTADOR Y EL CALAFATE",9405,"CALAFATE","LAGO ARGENTINO","SANTA CRUZ","30549563046","Potes, Claudio Fernando","Peletay, Walter","Barreiro, Silvina",""]
[null,{"$f":"CONCATENATE(D579,\" (CP: \",C579,\")\")","v":"CASTILLA (CP: 6616)"},"6616","CASTILLA","BUENOS AIRES","METROPOLITANA",18,"OMAR PRESAS",null,null,null,null,null,null,null,null,null,null,null,null,null,null,null,null,null,null,null,null,null,null,null,null,null,null,null,null,null,null,null,null,null,null,null,null,null,1500,"OTAMENDI Y COMPA#ÍA SRL","TERCEROS","Consignado","PATAGONIA","SAN MARTIN Y JORGE NEWBERY",9011,"CALETA OLIVIA","DESEADO","SANTA CRUZ","30545080172","Sire, Juan","Peletay, Walter","Barreiro, Silvina",""]
[null,"CENTENARIO (CP: 6535)","6535","CENTENARIO","BUENOS AIRES","METROPOLITANA",31,"PABLO CIMINARI",null,null,null,null,null,null,null,null,null,null,null,null,null,null,null,null,null,null,null,null,null,null,null,null,null,null,null,null,null,null,null,null,null,null,null,null,null,1501,"OTAMENDI Y COMPA#IA SRL","TERCEROS","Consignado","PATAGONIA","RUTA NACIONAL 3 KM 1918 (Descendente) Y ACCESO NORTE",9011,"CALETA OLIVIA","DESEADO","SANTA CRUZ","30545080172","Sire, Juan","Peletay, Walter","Barreiro, Silvina",""]
[null,"CHACABUCO (CP: 1740)","1740","CHACABUCO","BUENOS AIRES","METROPOLITANA",29,"JOSE ANDRES MONDINO",null,null,null,null,null,null,null,null,null,null,null,null,null,null,null,null,null,null,null,null,null,null,null,null,null,null,null,null,null,null,null,null,null,null,null,null,null,1502,"ACA CALEU CALEU","ACA","ACA","PATAGONIA","RUTA NACIONAL 22 KM 856 (Ascendente)",8138,"LA ADELA","CALEU CALEU","LA PAMPA","30500143297","Peralta, Gustavo","Maccari, Marcelo","Barreiro, Silvina",""]
[null,"CHACABUCO (CP: 6740)","6740","CHACABUCO","BUENOS AIRES","METROPOLITANA","29","JOSE ANDRES MONDINO",null,null,null,null,null,null,null,null,null,null,null,null,null,null,null,null,null,null,null,null,null,null,null,null,null,null,null,null,null,null,null,null,null,null,null,null,null,1507,"ACA CARHUE","ACA","ACA","PAMPEANA","SAN MARTIN Y COLON",6430,"CARHUE","ADOLFO ALSINA","BUENOS AIRES","30500143297","Perez, Pablo Alejandro","Fernandez, Mariano","Barrera Casal, Facundo",""]
[null,"CHACABUCO (CP: 6746)","6746","CHACABUCO","BUENOS AIRES","METROPOLITANA","29","JOSE ANDRES MONDINO",null,null,null,null,null,null,null,null,null,null,null,null,null,null,null,null,null,null,null,null,null,null,null,null,null,null,null,null,null,null,null,null,null,null,null,null,null,1508,"AGRUPACION CAMPO NUEVO","TERCEROS","Consignado","PAMPEANA","MORENO Y EUGUI",6430,"CARHUE","ADOLFO ALSINA","BUENOS AIRES","30708679263","Perez, Pablo Alejandro","Fernandez, Mariano","Barrera Casal, Facundo",""]
[null,"CHAPADMALAL (CP: 7605)","7605","CHAPADMALAL","BUENOS AIRES","METROPOLITANA","123","CESAR RONCARI",null,null,null,null,null,null,null,null,null,null,null,null,null,null,null,null,null,null,null,null,null,null,null,null,null,null,null,null,null,null,null,null,null,null,null,null,null,1510,"BELMAR SA","TERCEROS","Consignado","PAMPEANA","AVENIDA ANTONIO MAYA Y BELGRANO",6530,"CARLOS CASARES","CARLOS CASARES","BUENOS AIRES","30541311722","Tempone, Irene ","Gerino, Ignacio","Barrera Casal, Facundo",""]
[null,"CHASCOMUS (CP: 7130)","7130","CHASCOMUS","BUENOS AIRES","METROPOLITANA","123","CESAR RONCARI",null,null,null,null,null,null,null,null,null,null,null,null,null,null,null,null,null,null,null,null,null,null,null,null,null,null,null,null,null,null,null,null,null,null,null,null,null,1516,"GEN SRL","TERCEROS","Consignado","PATAGONIA","AVENIDA SAN MARTIN Y ENTRE RIOS",8307,"CATRIEL","GRAL ROCA","RIO NEGRO","30711336431","Vincent, Adrián ","Maccari, Marcelo","Barreiro, Silvina",""]
[null,"CHASICO (CP: 8117)","8117","CHASICO","BUENOS AIRES","METROPOLITANA",130,"CESAR RONCARI",null,null,null,null,null,null,null,null,null,null,null,null,null,null,null,null,null,null,null,null,null,null,null,null,null,null,null,null,null,null,null,null,null,null,null,null,null,1517,"GEN SRL","TERCEROS","Consignado","PATAGONIA","RUTA NACIONAL 151 KM 126 (Ascendente)",8307,"CATRIEL","GRAL ROCA","RIO NEGRO","30711336431","Vincent, Adrián ","Maccari, Marcelo","Barreiro, Silvina",""]
[null,"CHILLAR (CP: 7311)","7311","CHILLAR","BUENOS AIRES","METROPOLITANA","123","CESAR RONCARI",null,null,null,null,null,null,null,null,null,null,null,null,null,null,null,null,null,null,null,null,null,null,null,null,null,null,null,null,null,null,null,null,null,null,null,null,null,1522,"GLOBAL OIL SRL","TERCEROS","Consignado","PATAGONIA","RUTA PROVINCIAL EX DE DESIERTO Y PARAGUAY KM (Ascendente)",8309,"CENTENARIO","CONFLUENCIA","NEUQUEN","30711463514","Linares, Roberto","Maccari, Marcelo","Barreiro, Silvina",""]
[null,"CHIVILCOY (CP: 6620)","6620","CHIVILCOY","BUENOS AIRES","METROPOLITANA",18,"OMAR PRESAS",null,null,null,null,null,null,null,null,null,null,null,null,null,null,null,null,null,null,null,null,null,null,null,null,null,null,null,null,null,null,null,null,null,null,null,null,null,1526,"RIO SALADO SRL","TERCEROS","Consignado","PATAGONIA","RUTA NACIONAL 22 KM 1117 (Ascendente)",8326,"CHICHINALES","GRAL ROCA","RIO NEGRO","33708577389","Vincent, Adrián ","Maccari, Marcelo","Barreiro, Silvina",""]
[null,"CITY BELL (CP: 1896)","1896","CITY BELL","BUENOS AIRES","METROPOLITANA",31,"PABLO CIMINARI",null,null,null,null,null,null,null,null,null,null,null,null,null,null,null,null,null,null,null,null,null,null,null,null,null,null,null,null,null,null,null,null,null,null,null,null,null,1527,"SANTIAGO MASSON SA","TERCEROS","Consignado","PAMPEANA","RUTA NACIONAL 3 KM 360 (Ascendente)",7311,"CHILLAR","AZUL","BUENOS AIRES","30540194986","Aramburu, Diego","Gerino, Ignacio","Barrera Casal, Facundo",""]
[null,"CIUDAD EVITA -LA MATANZA (CP: 1778)","1778","CIUDAD EVITA -LA MATANZA","BUENOS AIRES","METROPOLITANA",18,"OMAR PRESAS",null,null,null,null,null,null,null,null,null,null,null,null,null,null,null,null,null,null,null,null,null,null,null,null,null,null,null,null,null,null,null,null,null,null,null,null,null,1528,"GLOBAL OIL SRL","TERCEROS","Consignado","PATAGONIA","RUTA NACIONAL 22 KM 1045 (Ascendente) Y ALEM",8364,"CHIMPAY","AVELLANEDA","RIO NEGRO","30711463514","Peralta, Gustavo","Maccari, Marcelo","Barreiro, Silvina",""]
[null,"CIUDADELA (CP: 1702)","1702","CIUDADELA","BUENOS AIRES","METROPOLITANA",18,"OMAR PRESAS",null,null,null,null,null,null,null,null,null,null,null,null,null,null,null,null,null,null,null,null,null,null,null,null,null,null,null,null,null,null,null,null,null,null,null,null,null,1529,"ACA CHOELE CHOEL","ACA","ACA","PATAGONIA","RUTA NACIONAL 22 KM 1028 (Ascendente) Y RUTA NACIONAL 250",8360,"CHOELE CHOEL","AVELLANEDA","RIO NEGRO","30500143297","Peralta, Gustavo","Maccari, Marcelo","Barreiro, Silvina",""]
[null,"CLAROMECO (CP: 7505)","7505","CLAROMECO","BUENOS AIRES","METROPOLITANA","123","CESAR RONCARI",null,null,null,null,null,null,null,null,null,null,null,null,null,null,null,null,null,null,null,null,null,null,null,null,null,null,null,null,null,null,null,null,null,null,null,null,null,1530,"JORGE SANTIAGO COGNIGNI Y JORGE","TERCEROS","Consignado","PATAGONIA","KENNEDY R N 22 Y ALTE BROWN",8360,"CHOELE CHOEL","AVELLANEDA","RIO NEGRO","30622735497","Peralta, Gustavo","Maccari, Marcelo","Barreiro, Silvina",""]
[null,"CLAYPOLE (CP: 1849)","1849","CLAYPOLE","BUENOS AIRES","METROPOLITANA",31,"PABLO CIMINARI",null,null,null,null,null,null,null,null,null,null,null,null,null,null,null,null,null,null,null,null,null,null,null,null,null,null,null,null,null,null,null,null,null,null,null,null,null,1532,"ACA CHOS MALAL","ACA","ACA","PATAGONIA","GRAL LAMADRID Y 25 DE MAYO",8353,"CHOS MALAL","CHOS MALAL","NEUQUEN","30500143297","Diacono, Juan Pablo","Maccari, Marcelo","Barreiro, Silvina",""]
[null,"CMDRO PY (CP: 6641)","6641","CMDRO PY","BUENOS AIRES","METROPOLITANA",18,"OMAR PRESAS",null,null,null,null,null,null,null,null,null,null,null,null,null,null,null,null,null,null,null,null,null,null,null,null,null,null,null,null,null,null,null,null,null,null,null,null,null,1533,"ORDO#EZ S.R.L","TERCEROS","Consignado","PATAGONIA","GRAL PAZ Y MITRE",8353,"CHOS MALAL","CHOS MALAL","NEUQUEN","30714406716","Diacono, Juan Pablo","Maccari, Marcelo","Barreiro, Silvina",""]
[null,"CNEL MALDONADO (CP: 8000)","8000","CNEL MALDONADO","BUENOS AIRES","METROPOLITANA",130,"CESAR RONCARI",null,null,null,null,null,null,null,null,null,null,null,null,null,null,null,null,null,null,null,null,null,null,null,null,null,null,null,null,null,null,null,null,null,null,null,null,null,1535,"SERVICIOS CIPOLLETI SRL","TERCEROS","Consignado","PATAGONIA","RUTA NACIONAL 151 KM (Ascendente) Y AVENIDA SAN LORENZO",8303,"CINCO SALTOS","GRAL ROCA","RIO NEGRO","30672747836","Vincent, Adrián ","Maccari, Marcelo","Barreiro, Silvina",""]
[null,"CNEL MOM (CP: 6628)","6628","CNEL MOM","BUENOS AIRES","METROPOLITANA","123","CESAR RONCARI",null,null,null,null,null,null,null,null,null,null,null,null,null,null,null,null,null,null,null,null,null,null,null,null,null,null,null,null,null,null,null,null,null,null,null,null,null,1536,"ACA CIPOLLETTI","ACA","ACA","PATAGONIA","AVENIDA LUIS TOSCHI E ING CESAR CIPOLLETTI",8324,"CIPOLLETTI","GRAL ROCA","RIO NEGRO","30500143297","Vincent, Adrián ","Maccari, Marcelo","Barreiro, Silvina",""]
[null,"CNEL RODOLFO BUNGE (CP: 7020)","7020","CNEL RODOLFO BUNGE","BUENOS AIRES","METROPOLITANA","123","CESAR RONCARI",null,null,null,null,null,null,null,null,null,null,null,null,null,null,null,null,null,null,null,null,null,null,null,null,null,null,null,null,null,null,null,null,null,null,null,null,null,1538,"ELOSEGUI HNOS SA","TERCEROS","Consignado","PATAGONIA","AVENIDA GRAL FERNANDEZ ORO Y ESPA#A",8324,"CIPOLLETTI","GRAL ROCA","RIO NEGRO","30526702170","Vincent, Adrián ","Maccari, Marcelo","Barreiro, Silvina",""]
[null,"CNEL SEGUI (CP: 6628)","6628","CNEL SEGUI","BUENOS AIRES","METROPOLITANA","123","CESAR RONCARI",null,null,null,null,null,null,null,null,null,null,null,null,null,null,null,null,null,null,null,null,null,null,null,null,null,null,null,null,null,null,null,null,null,null,null,null,null,1539,"SERVICIOS CIPOLLETTI SRL","TERCEROS","Consignado","PATAGONIA","AVENIDA LISANDRO DE LA TORRE Y GRAL PACHECO",8324,"CIPOLLETTI","GRAL ROCA","RIO NEGRO","30672747836","Vincent, Adrián ","Maccari, Marcelo","Barreiro, Silvina",""]
[null,"CNEL. VIDAL (CP: 7174)","7174","CNEL. VIDAL","BUENOS AIRES","METROPOLITANA","123","CESAR RONCARI",null,null,null,null,null,null,null,null,null,null,null,null,null,null,null,null,null,null,null,null,null,null,null,null,null,null,null,null,null,null,null,null,null,null,null,null,null,1541,"OSVALDO A. VILLAREAL E HIJOS S.A.","TERCEROS","Consignado","PATAGONIA","AVENIDA L N ALEM 1046",8324,"CIPOLLETTI","GRAL ROCA","RIO NEGRO","30714331112","Vincent, Adrián ","Maccari, Marcelo","Barreiro, Silvina",""]
[null,"CNEL.CHARLONE (CP: 6223)","6223","CNEL.CHARLONE","BUENOS AIRES","METROPOLITANA","123","CESAR RONCARI",null,null,null,null,null,null,null,null,null,null,null,null,null,null,null,null,null,null,null,null,null,null,null,null,null,null,null,null,null,null,null,null,null,null,null,null,null,1544,"ACA COLONIA 25 DE MAYO","ACA","ACA","PATAGONIA","RUTA NACIONAL 151 KM 161 (Ascendente)","8201B","COLONIA 25 DE MAYO","PUELEN","LA PAMPA","30500143297","Vincent, Adrián ","Maccari, Marcelo","Barreiro, Silvina",""]
[null,"CNEL.DORREGO (CP: 8150)","8150","CNEL.DORREGO","BUENOS AIRES","METROPOLITANA","123","CESAR RONCARI",null,null,null,null,null,null,null,null,null,null,null,null,null,null,null,null,null,null,null,null,null,null,null,null,null,null,null,null,null,null,null,null,null,null,null,null,null,1551,"SUR ATLANTIC OIL SA","TERCEROS","Consignado","PATAGONIA","RUTA NACIONAL 3 KM 2404 (Ascendente) Y ACCESO PIEDRABUENA","9303A","CTE LUIS PIEDRA BUENA","CORPEN AIKE","SANTA CRUZ","33673686759","Sire, Juan","Peletay, Walter","Barreiro, Silvina",""]
[null,"CNEL.GRANADA (CP: 6062)","6062","CNEL.GRANADA","BUENOS AIRES","METROPOLITANA",18,"OMAR PRESAS",null,null,null,null,null,null,null,null,null,null,null,null,null,null,null,null,null,null,null,null,null,null,null,null,null,null,null,null,null,null,null,null,null,null,null,null,null,1552,"MARTINEZ DEBORA NATALIA","TERCEROS","Consignado","PATAGONIA","BELGRANO Y ROQUE SAENZ PE#A",9303,"CTE LUIS PIEDRA BUENA","CORPEN AIKE","SANTA CRUZ","27269255868","Sire, Juan","Peletay, Walter","Barreiro, Silvina",""]
[null,"CNEL.PRINGLES (CP: 7530)","7530","CNEL.PRINGLES","BUENOS AIRES","METROPOLITANA","123","CESAR RONCARI",null,null,null,null,null,null,null,null,null,null,null,null,null,null,null,null,null,null,null,null,null,null,null,null,null,null,null,null,null,null,null,null,null,null,null,null,null,1554,"OPESSA ACA COMODORO RIVADAVIA","OPESSA","Consignado","PATAGONIA","ALVEAR Y DORREGO",9000,"COMOD.RIVADAVIA","ESCALANTE","CHUBUT","30678774495","Masciotra, Horacio","Peletay, Walter","Barreiro, Silvina","Sinatra, Saul"]
[null,"CNEL.SUAREZ (CP: 7540)","7540","CNEL.SUAREZ","BUENOS AIRES","METROPOLITANA","123","CESAR RONCARI",null,null,null,null,null,null,null,null,null,null,null,null,null,null,null,null,null,null,null,null,null,null,null,null,null,null,null,null,null,null,null,null,null,null,null,null,null,1555,"BELVEDERE SA","TERCEROS","Consignado","PATAGONIA","RUTA NACIONAL 3 KM 1845 (Ascendente) Y M RIAD",9000,"COMOD.RIVADAVIA","ESCALANTE","CHUBUT","30691996375","Masciotra, Horacio","Peletay, Walter","Barreiro, Silvina",""]
[null,"COCHRANE (CP: 8118)","8118","COCHRANE","BUENOS AIRES","METROPOLITANA",130,"CESAR RONCARI",null,null,null,null,null,null,null,null,null,null,null,null,null,null,null,null,null,null,null,null,null,null,null,null,null,null,null,null,null,null,null,null,null,null,null,null,null,1556,"JOSE MARIA RODRIGO Y CIA SA","TERCEROS","Consignado","PATAGONIA","AVENIDA HIPOLITO YRIGOYEN Y PELLEGRINI",9000,"COMOD.RIVADAVIA","ESCALANTE","CHUBUT","30533332273","Masciotra, Horacio","Peletay, Walter","Barreiro, Silvina",""]
[null,"COLON (CP: 2720)","2720","COLON","BUENOS AIRES","METROPOLITANA","29","JOSE ANDRES MONDINO",null,null,null,null,null,null,null,null,null,null,null,null,null,null,null,null,null,null,null,null,null,null,null,null,null,null,null,null,null,null,null,null,null,null,null,null,null,1557,"OTAMENDI Y COMPA#ÍA SRL","TERCEROS","Consignado","PATAGONIA","AVENIDA LIBERTADOR Y QUINTANA",9000,"COMOD.RIVADAVIA","ESCALANTE","CHUBUT","30545080172","Masciotra, Horacio","Peletay, Walter","Barreiro, Silvina",""]
[null,"COLONIA FERRARI (CP: 7172)","7172","COLONIA FERRARI","BUENOS AIRES","METROPOLITANA","123","CESAR RONCARI",null,null,null,null,null,null,null,null,null,null,null,null,null,null,null,null,null,null,null,null,null,null,null,null,null,null,null,null,null,null,null,null,null,null,null,null,null,1558,"NEUMATICOS Y COMBUSTIBLES EUREKA SRL","TERCEROS","Consignado","PATAGONIA","RUTA NACIONAL 3 KM (Descendente)",9000,"COMOD.RIVADAVIA","ESCALANTE","CHUBUT","30635918353","Masciotra, Horacio","Peletay, Walter","Barreiro, Silvina",""]
[null,"COLONIA LA MERCED (CP: 8105)","8105","COLONIA LA MERCED","BUENOS AIRES","METROPOLITANA",130,"CESAR RONCARI",null,null,null,null,null,null,null,null,null,null,null,null,null,null,null,null,null,null,null,null,null,null,null,null,null,null,null,null,null,null,null,null,null,null,null,null,null,1559,"PETROPAT SRL","TERCEROS","Consignado","PATAGONIA","AVENIDA JOSE INGENIEROS 380",9000,"COMOD.RIVADAVIA","ESCALANTE","CHUBUT","30708074787","Masciotra, Horacio","Peletay, Walter","Barreiro, Silvina",""]
[null,"COLONIA LAPIN (CP: 8185)","8185","COLONIA LAPIN","BUENOS AIRES","METROPOLITANA","123","CESAR RONCARI",null,null,null,null,null,null,null,null,null,null,null,null,null,null,null,null,null,null,null,null,null,null,null,null,null,null,null,null,null,null,null,null,null,null,null,null,null,1560,"COMBUSTIBLES Y SERVICIOS 13 DE DICIEMBRE","TERCEROS","Consignado","PATAGONIA","TUCUMAN 515",9000,"COMOD.RIVADAVIA","ESCALANTE","CHUBUT","30714420417","Masciotra, Horacio","Peletay, Walter","Barreiro, Silvina",""]
[null,"COLONIA MAURICIO (CP: 6531)","6531","COLONIA MAURICIO","BUENOS AIRES","METROPOLITANA",31,"PABLO CIMINARI",null,null,null,null,null,null,null,null,null,null,null,null,null,null,null,null,null,null,null,null,null,null,null,null,null,null,null,null,null,null,null,null,null,null,null,null,null,1561,"PASTORINO MARCELO HORACIO","TERCEROS","Reventa","PAMPEANA","AVENIDA SAN MARTIN 313 (EX CALLE 8 Y 11)",7511,"COPETONAS","TRES ARROYOS","BUENOS AIRES","23166061989","Aramburu, Diego","Gerino, Ignacio","Barrera Casal, Facundo",""]
[null,"COLONIA SAN MIGUEL ARCAN (CP: 7403)","7403","COLONIA SAN MIGUEL ARCAN","BUENOS AIRES","METROPOLITANA","123","CESAR RONCARI",null,null,null,null,null,null,null,null,null,null,null,null,null,null,null,null,null,null,null,null,null,null,null,null,null,null,null,null,null,null,null,null,null,null,null,null,null,1563,"SUCESORES DE MANUEL CASTELL SRL","TERCEROS","Consignado","PAMPEANA","RUTA NACIONAL 3 KM 593 (Ascendente)",8150,"CNEL.DORREGO","CNEL DORREGO","BUENOS AIRES","30630135245","Aramburu, Diego","Gerino, Ignacio","Barrera Casal, Facundo",""]
[null,"COLONIA SANTA MARIA (CP: 6535)","6535","COLONIA SANTA MARIA","BUENOS AIRES","METROPOLITANA",31,"PABLO CIMINARI",null,null,null,null,null,null,null,null,null,null,null,null,null,null,null,null,null,null,null,null,null,null,null,null,null,null,null,null,null,null,null,null,null,null,null,null,null,1564,"BULUC LAMAT SRL","TERCEROS","Reventa","PAMPEANA","AVENIDA RICARDO FUERTES 1204",8150,"CNEL.DORREGO","CNEL DORREGO","BUENOS AIRES","30714230758","Aramburu, Diego","Gerino, Ignacio","Barrera Casal, Facundo",""]
[null,"COLONIA SERE (CP: 6459)","6459","COLONIA SERE","BUENOS AIRES","METROPOLITANA","123","CESAR RONCARI",null,null,null,null,null,null,null,null,null,null,null,null,null,null,null,null,null,null,null,null,null,null,null,null,null,null,null,null,null,null,null,null,null,null,null,null,null,1568,"PETROPRINGLES SA","TERCEROS","Consignado","PAMPEANA","RUTA PROVINCIAL 85 KM 108 (Ascendente)",7530,"CNEL.PRINGLES","CNEL PRINGLES","BUENOS AIRES","30644595613","Perez, Pablo Alejandro","Fernandez, Mariano","Barrera Casal, Facundo",""]
[null,"COMA.NIC.OTAMENDI (CP: 7603)","7603","COMA.NIC.OTAMENDI","BUENOS AIRES","METROPOLITANA","123","CESAR RONCARI",null,null,null,null,null,null,null,null,null,null,null,null,null,null,null,null,null,null,null,null,null,null,null,null,null,null,null,null,null,null,null,null,null,null,null,null,null,1570,"COOPERATIVA PARA EL TRANSPORTE AUTOMOTOR LTD","TERCEROS","Consignado","PAMPEANA","SAN MARTIN Y PERU",7540,"CNEL.SUAREZ","CNEL SUAREZ","BUENOS AIRES","30530341131","Perez, Pablo Alejandro","Fernandez, Mariano","Barrera Casal, Facundo",""]
[null,"CONESA (CP: 2907)","2907","CONESA","BUENOS AIRES","METROPOLITANA","29","JOSE ANDRES MONDINO",null,null,null,null,null,null,null,null,null,null,null,null,null,null,null,null,null,null,null,null,null,null,null,null,null,null,null,null,null,null,null,null,null,null,null,null,null,1571,"EL MASTIL SH DE ANASAGASTI","TERCEROS","Consignado","PAMPEANA","AVENIDA CASSEY 10 Y GARIBALDI",7540,"CNEL.SUAREZ","CNEL SUAREZ","BUENOS AIRES","30621359572","Perez, Pablo Alejandro","Fernandez, Mariano","Barrera Casal, Facundo",""]
[null,"COPETONAS (CP: 7511)","7511","COPETONAS","BUENOS AIRES","METROPOLITANA","123","CESAR RONCARI",null,null,null,null,null,null,null,null,null,null,null,null,null,null,null,null,null,null,null,null,null,null,null,null,null,null,null,null,null,null,null,null,null,null,null,null,null,1575,"QUARIN Y CIA SRL","TERCEROS","Consignado","PAMPEANA","MANUEL TAPIA Y RIVADAVIA","6231A","TRES ALGARROBOS","CARLOS TEJEDOR","BUENOS AIRES","30529915108","Tempone, Irene ","Gerino, Ignacio","Barrera Casal, Facundo",""]
[null,"CORBETT (CP: 6507)","6507","CORBETT","BUENOS AIRES","METROPOLITANA",31,"PABLO CIMINARI",null,null,null,null,null,null,null,null,null,null,null,null,null,null,null,null,null,null,null,null,null,null,null,null,null,null,null,null,null,null,null,null,null,null,null,null,null,1577,"BASES SA","TERCEROS","Consignado","PATAGONIA","RUTA NACIONAL 22 KM 1463 (Descendente)",8322,"CUTRAL-CO","CONFLUENCIA","NEUQUEN","30588295385","Diacono, Juan Pablo","Maccari, Marcelo","Barreiro, Silvina",""]
[null,"CORONEL MARTINEZ DE HOZ (CP: 6533)","6533","CORONEL MARTINEZ DE HOZ","BUENOS AIRES","METROPOLITANA",31,"PABLO CIMINARI",null,null,null,null,null,null,null,null,null,null,null,null,null,null,null,null,null,null,null,null,null,null,null,null,null,null,null,null,null,null,null,null,null,null,null,null,null,1578,"BASES SA","TERCEROS","Consignado","PATAGONIA","OLASCOAGA Y MENDOZA",8322,"CUTRAL-CO","CONFLUENCIA","NEUQUEN","30588295385","Diacono, Juan Pablo","Maccari, Marcelo","Barreiro, Silvina",""]
[null,"CORTI (CP: 8118)","8118","CORTI","BUENOS AIRES","METROPOLITANA",130,"CESAR RONCARI",null,null,null,null,null,null,null,null,null,null,null,null,null,null,null,null,null,null,null,null,null,null,null,null,null,null,null,null,null,null,null,null,null,null,null,null,null,1581,"COOPERATIVA AGROPECUARIA DE DARREGUEIRA LTDA","TERCEROS","Consignado","PAMPEANA","HIPOLITO YRIGOYEN Y CONGRESO",8183,"DARREGUEIRA","PUAN","BUENOS AIRES","30517867264","Perez, Pablo Alejandro","Fernandez, Mariano","Barrera Casal, Facundo",""]
[null,"CORTINES (CP: 6712)","6712","CORTINES","BUENOS AIRES","METROPOLITANA","29","JOSE ANDRES MONDINO",null,null,null,null,null,null,null,null,null,null,null,null,null,null,null,null,null,null,null,null,null,null,null,null,null,null,null,null,null,null,null,null,null,null,null,null,null,1585,"E/S PIERCE DE JUSTINA C","TERCEROS","Consignado","PATAGONIA","RAUL DIAZ Y ESCALANTE",9107,"DOLAVON","GAIMAN","CHUBUT","30591709565","Scolari, Dario","Peletay, Walter","Barreiro, Silvina",""]
[null,"CRUCECITA (CP: 1870)","1870","CRUCECITA","BUENOS AIRES","METROPOLITANA",31,"PABLO CIMINARI",null,null,null,null,null,null,null,null,null,null,null,null,null,null,null,null,null,null,null,null,null,null,null,null,null,null,null,null,null,null,null,null,null,null,null,null,null,1586,"ACA DOLORES","ACA","ACA","PAMPEANA","RUTA PROVINCIAL 2 KM ()",7100,"DOLORES","DOLORES","BUENOS AIRES","30500143297","Del Dago, Gabriel","Gerino, Ignacio","Barrera Casal, Facundo",""]
[null,"CTE ESPORA (CP: 8107)","8107","CTE ESPORA","BUENOS AIRES","METROPOLITANA",130,"CESAR RONCARI",null,null,null,null,null,null,null,null,null,null,null,null,null,null,null,null,null,null,null,null,null,null,null,null,null,null,null,null,null,null,null,null,null,null,null,null,null,1590,"COMBUSTIBLES DEL SALADO SA","TERCEROS","Consignado","PAMPEANA","BUENOS AIRES 803 Y RAMOS MEJIA",7100,"DOLORES","DOLORES","BUENOS AIRES","30712684107","Del Dago, Gabriel","Gerino, Ignacio","Barrera Casal, Facundo",""]
[null,"CUCHA CUCHA (CP: 6746)","6746","CUCHA CUCHA","BUENOS AIRES","METROPOLITANA","29","JOSE ANDRES MONDINO",null,null,null,null,null,null,null,null,null,null,null,null,null,null,null,null,null,null,null,null,null,null,null,null,null,null,null,null,null,null,null,null,null,null,null,null,null,1592,"LOREN SERVIS SA","TERCEROS","Reventa","PAMPEANA","AVENIDA MIGUEL SARALEGUI Y RUGIERO",6505,"DUDIGNAC","9 DE JULIO","BUENOS AIRES","30542638199","Astaburuaga, Jose Martin ","Gerino, Ignacio","Barrera Casal, Facundo",""]
[null,"CUCULLU (CP: 6723)","6723","CUCULLU","BUENOS AIRES","METROPOLITANA","29","JOSE ANDRES MONDINO",null,null,null,null,null,null,null,null,null,null,null,null,null,null,null,null,null,null,null,null,null,null,null,null,null,null,null,null,null,null,null,null,null,null,null,null,null,1593,"CEYMA COMBUSTIBLES S.R.L","TERCEROS","Consignado","PAMPEANA","RUTA NACIONAL 35 KM (Ascendente) Y ACCESO",6380,"EDUARDO CASTEX","CONHELO","LA PAMPA","30711122296","Storm, Fernando","Fernandez, Mariano","Barrera Casal, Facundo",""]
[null,"CUENCA (CP: 6231)","6231","CUENCA","BUENOS AIRES","METROPOLITANA","123","CESAR RONCARI",null,null,null,null,null,null,null,null,null,null,null,null,null,null,null,null,null,null,null,null,null,null,null,null,null,null,null,null,null,null,null,null,null,null,null,null,null,1594,"SEFCHEK MIGUEL ANGEL","TERCEROS","Consignado","PAMPEANA","DOMINGO FAUSTINO SARMIENTO Y ZEVALLOS",6380,"EDUARDO CASTEX","CONHELO","LA PAMPA","30624411486","Storm, Fernando","Fernandez, Mariano","Barrera Casal, Facundo",""]
[null,"CURARU (CP: 6451)","6451","CURARU","BUENOS AIRES","METROPOLITANA","123","CESAR RONCARI",null,null,null,null,null,null,null,null,null,null,null,null,null,null,null,null,null,null,null,null,null,null,null,null,null,null,null,null,null,null,null,null,null,null,null,null,null,1595,"ACA EL BOLSON","ACA","ACA","PATAGONIA","AVENIDA SAN MARTIN Y BELGRANO",8430,"EL BOLSON","9 DE JULIO","RIO NEGRO","30500143297","Otero, Sebastián","Maccari, Marcelo","Barreiro, Silvina",""]
[null,"DAIREAUX (CP: 6555)","6555","DAIREAUX","BUENOS AIRES","METROPOLITANA","123","CESAR RONCARI",null,null,null,null,null,null,null,null,null,null,null,null,null,null,null,null,null,null,null,null,null,null,null,null,null,null,null,null,null,null,null,null,null,null,null,null,null,1596,"JALIL JUAN MANZUR","TERCEROS","Consignado","PATAGONIA","GOBERNADOR CASTELLO Y BALCARCE S/N°",8430,"EL BOLSON","9 DE JULIO","RIO NEGRO","20035445278","Otero, Sebastián","Maccari, Marcelo","Barreiro, Silvina",""]
[null,"DARREGUEIRA (CP: 8183)","8183","DARREGUEIRA","BUENOS AIRES","METROPOLITANA","123","CESAR RONCARI",null,null,null,null,null,null,null,null,null,null,null,null,null,null,null,null,null,null,null,null,null,null,null,null,null,null,null,null,null,null,null,null,null,null,null,null,null,1597,"PI#EYRO MIGUEL A E HIJOS SRL","TERCEROS","Consignado","PATAGONIA","RUTA NACIONAL 258 KM (Ascendente) Y RODRIGUEZ PE#A",8430,"EL BOLSON","9 DE JULIO","RIO NEGRO","30645317226","Otero, Sebastián","Maccari, Marcelo","Barreiro, Silvina",""]
[null,"DE LA GARMA (CP: 7515)","7515","DE LA GARMA","BUENOS AIRES","METROPOLITANA","123","CESAR RONCARI",null,null,null,null,null,null,null,null,null,null,null,null,null,null,null,null,null,null,null,null,null,null,null,null,null,null,null,null,null,null,null,null,null,null,null,null,null,1598,"PI#EYRO MIGUEL A E HIJOS SRL","TERCEROS","Consignado","PATAGONIA","RUTA NACIONAL 258 KM (Ascendente) Y CALLEJON VECINAL",9211,"EL HOYO","CUSHAMEN","CHUBUT","30645317226","Otero, Sebastián","Maccari, Marcelo","Barreiro, Silvina",""]
[null,"DEL CARRIL (CP: 7265)","7265","DEL CARRIL","BUENOS AIRES","METROPOLITANA","123","CESAR RONCARI",null,null,null,null,null,null,null,null,null,null,null,null,null,null,null,null,null,null,null,null,null,null,null,null,null,null,null,null,null,null,null,null,null,null,null,null,null,1601,"TERANO S.A.","TERCEROS","Consignado","BUENOS AIRES","BRASIL Y BOLIVIA",6073,"EL TRIUNFO","LINCOLN","BUENOS AIRES","33714465169","Mahon, Nicolas","Brena, Marcelo","Barruti, Francisco",""]
[null,"DEL VALLE (CP: 6509)","6509","DEL VALLE","BUENOS AIRES","METROPOLITANA",31,"PABLO CIMINARI",null,null,null,null,null,null,null,null,null,null,null,null,null,null,null,null,null,null,null,null,null,null,null,null,null,null,null,null,null,null,null,null,null,null,null,null,null,1605,"ACA ESQUEL","ACA","ACA","PATAGONIA","25 DE MAYO Y AMEGHINO",9200,"ESQUEL","FUTALEUFU","CHUBUT","30500143297","Otero, Sebastián","Maccari, Marcelo","Barreiro, Silvina",""]
[null,"DEL VISO (CP: 1669)","1669","DEL VISO","BUENOS AIRES","METROPOLITANA",29,"JOSE ANDRES MONDINO",null,null,null,null,null,null,null,null,null,null,null,null,null,null,null,null,null,null,null,null,null,null,null,null,null,null,null,null,null,null,null,null,null,null,null,null,null,1607,"PAREDES S.R.L.","TERCEROS","Consignado","PATAGONIA","RIVADAVIA Y SARMIENTO",9200,"ESQUEL","FUTALEUFU","CHUBUT","33528348209","Otero, Sebastián","Maccari, Marcelo","Barreiro, Silvina",""]
[null,"DELFIN HUERGO (CP: 8185)","8185","DELFIN HUERGO","BUENOS AIRES","METROPOLITANA","123","CESAR RONCARI",null,null,null,null,null,null,null,null,null,null,null,null,null,null,null,null,null,null,null,null,null,null,null,null,null,null,null,null,null,null,null,null,null,null,null,null,null,1609,"EL GRIEGO SRL","TERCEROS","Consignado","PATAGONIA","RUTA NACIONAL 3 KM 2240 (Ascendente) Y BELGRANO S/N",9019,"FITZ ROY","DESEADO","SANTA CRUZ","30709927260","Sire, Juan","Peletay, Walter","Barreiro, Silvina",""]
[null,"DELGADO (CP: 6007)","6007","DELGADO","BUENOS AIRES","METROPOLITANA",18,"OMAR PRESAS",null,null,null,null,null,null,null,null,null,null,null,null,null,null,null,null,null,null,null,null,null,null,null,null,null,null,null,null,null,null,null,null,null,null,null,null,null,1611,"NUEVO MADERO SRL","TERCEROS","Consignado","PAMPEANA","RUTA NACIONAL 5 KM 383 (Ascendente)",6472,"FRANCISCO MADERO","PEHUAJO","BUENOS AIRES","33712113419","Tempone, Irene ","Gerino, Ignacio","Barrera Casal, Facundo",""]
[null,"DELTA (CP: 1621)","1621","DELTA","BUENOS AIRES","METROPOLITANA","29","JOSE ANDRES MONDINO",null,null,null,null,null,null,null,null,null,null,null,null,null,null,null,null,null,null,null,null,null,null,null,null,null,null,null,null,null,null,null,null,null,null,null,null,null,1612,"DUKI SRL","TERCEROS","Consignado","PATAGONIA","AVENIDA GOB EUGENIO TELLO Y 9 DE JULIO",9105,"GAIMAN","GAIMAN","CHUBUT","30714167517","Scolari, Dario","Peletay, Walter","Barreiro, Silvina",""]
[null,"DENNEHY (CP: 6516)","6516","DENNEHY","BUENOS AIRES","METROPOLITANA",31,"PABLO CIMINARI",null,null,null,null,null,null,null,null,null,null,null,null,null,null,null,null,null,null,null,null,null,null,null,null,null,null,null,null,null,null,null,null,null,null,null,null,null,1614,"ACA GARAYALDE","ACA","ACA","PATAGONIA","RUTA NACIONAL 3 KM 1660 (Ascendente)",9007,"GARAYALDE","FLORENTINO AMEGHINO","CHUBUT","30500143297","Masciotra, Horacio","Peletay, Walter","Barreiro, Silvina",""]
[null,"DOCK SUD (CP: 1871)","1871","DOCK SUD","BUENOS AIRES","METROPOLITANA",31,"PABLO CIMINARI",null,null,null,null,null,null,null,null,null,null,null,null,null,null,null,null,null,null,null,null,null,null,null,null,null,null,null,null,null,null,null,null,null,null,null,null,null,1620,"ARATA AUTOMOTORES SCA","TERCEROS","Consignado","BUENOS AIRES","RUTA PROVINCIAL 65 KM (Ascendente) Y AVENIDA DEL CENTENARIO",6005,"GRAL.ARENALES","GRAL ARENALES","BUENOS AIRES","30560999379","Mahon, Nicolas","Brena, Marcelo","Barruti, Francisco",""]
[null,"DOLORES (CP: 7100)","7100","DOLORES","BUENOS AIRES","METROPOLITANA","123","CESAR RONCARI",null,null,null,null,null,null,null,null,null,null,null,null,null,null,null,null,null,null,null,null,null,null,null,null,null,null,null,null,null,null,null,null,null,null,null,null,null,1624,"ESTACION YPF CENTRO CONESA SRL","TERCEROS","Consignado","PATAGONIA","AVENIDA SAN MARTIN Y SARMIENTO",8503,"GRAL.CONESA","CONESA","RIO NEGRO","30648566073","Peralta, Gustavo","Maccari, Marcelo","Barreiro, Silvina",""]
[null,"DON TORCUATO (CP: 1611)","1611","DON TORCUATO","BUENOS AIRES","METROPOLITANA","29","JOSE ANDRES MONDINO",null,null,null,null,null,null,null,null,null,null,null,null,null,null,null,null,null,null,null,null,null,null,null,null,null,null,null,null,null,null,null,null,null,null,null,null,null,1625,"PETROSUR SRL","TERCEROS","Consignado","PATAGONIA","PRESIDENTE GRAL J A ROCA Y BELGRANO","8336A","GRL. GODOY","GRAL ROCA","RIO NEGRO","30697845581","Vincent, Adrián ","Maccari, Marcelo","Barreiro, Silvina",""]
[null,"DONSELAR (CP: 1980)","1980","DONSELAR","BUENOS AIRES","METROPOLITANA",31,"PABLO CIMINARI",null,null,null,null,null,null,null,null,null,null,null,null,null,null,null,null,null,null,null,null,null,null,null,null,null,null,null,null,null,null,null,null,null,null,null,null,null,1626,"GUIDO COMBUSTIBLES S.A.","TERCEROS","Consignado","PAMPEANA","RUTA NACIONAL 2 KM 249.500 (Ascendente)",7118,"GRAL.GUIDO","MAR CHIQUITA","BUENOS AIRES","30715385399","Del Dago, Gabriel","Gerino, Ignacio","Barrera Casal, Facundo",""]
[null,"DORBIGNY (CP: 7541)","7541","DORBIGNY","BUENOS AIRES","METROPOLITANA","123","CESAR RONCARI",null,null,null,null,null,null,null,null,null,null,null,null,null,null,null,null,null,null,null,null,null,null,null,null,null,null,null,null,null,null,null,null,null,null,null,null,null,1631,"COMBUSTIBLES DEL SALADO SA","TERCEROS","Consignado","PAMPEANA","RIVADAVIA Y AVELLANEDA",7163,"GRAL.MADARIAGA","GRAL JUAN MADARIAGA","BUENOS AIRES","30712684107","Del Dago, Gabriel","Gerino, Ignacio","Barrera Casal, Facundo",""]
[null,"DOYHENARD (CP: 1986)","1986","DOYHENARD","BUENOS AIRES","METROPOLITANA",31,"PABLO CIMINARI",null,null,null,null,null,null,null,null,null,null,null,null,null,null,null,null,null,null,null,null,null,null,null,null,null,null,null,null,null,null,null,null,null,null,null,null,null,1635,"PETROSURCO SA","TERCEROS","Consignado","PAMPEANA","CALLE 20 (BELGRANO) Y CALLE 11 (ESPA#A)",6360,"GRAL.PICO","MARACO","LA PAMPA","30615341130","Storm, Fernando","Fernandez, Mariano","Barrera Casal, Facundo",""]
[null,{"$f":"CONCATENATE(D643,\" (CP: \",C643,\")\")","v":"DOYLE (CP: 2935)"},"2935","DOYLE","BUENOS AIRES","METROPOLITANA","29","JOSE ANDRES MONDINO",null,null,null,null,null,null,null,null,null,null,null,null,null,null,null,null,null,null,null,null,null,null,null,null,null,null,null,null,null,null,null,null,null,null,null,null,null,1636,"MAFFIA JORGE LUIS","TERCEROS","Consignado","PAMPEANA","ANCALO Y GENERAL VILLEGAS",6050,"GRAL.PINTO","GRAL PINTO","BUENOS AIRES","20078499010","Tempone, Irene ","Gerino, Ignacio","Barrera Casal, Facundo",""]
[null,"DUDIGNAC (CP: 6505)","6505","DUDIGNAC","BUENOS AIRES","METROPOLITANA",31,"PABLO CIMINARI",null,null,null,null,null,null,null,null,null,null,null,null,null,null,null,null,null,null,null,null,null,null,null,null,null,null,null,null,null,null,null,null,null,null,null,null,null,1639,"PAREDI DANIEL ALBERTO","TERCEROS","Consignado","PAMPEANA","SAN MARTIN Y RUTA NAC 2",7172,"GRAL.PIRAN","MAR CHIQUITA","BUENOS AIRES","20114042545","Del Dago, Gabriel","Gerino, Ignacio","Barrera Casal, Facundo",""]
[null,"DUFAUR (CP: 8164)","8164","DUFAUR","BUENOS AIRES","METROPOLITANA","123","CESAR RONCARI",null,null,null,null,null,null,null,null,null,null,null,null,null,null,null,null,null,null,null,null,null,null,null,null,null,null,null,null,null,null,null,null,null,null,null,null,null,1641,"OPESSA ACA GENERAL ROCA","OPESSA","Consignado","PATAGONIA","AVENIDA ROCA 20 Y BOLIVIA",8332,"GRAL.ROCA","GRAL ROCA","RIO NEGRO","30678774495","Vincent, Adrián ","Maccari, Marcelo","Barreiro, Silvina","Sinatra, Saul"]
[null,"E.ECHEVERRIA (CP: 1839)","1839","E.ECHEVERRIA","BUENOS AIRES","METROPOLITANA",31,"PABLO CIMINARI",null,null,null,null,null,null,null,null,null,null,null,null,null,null,null,null,null,null,null,null,null,null,null,null,null,null,null,null,null,null,null,null,null,null,null,null,null,1642,"JORGE PIRRI Y CIA SRL (EN FORMACION)","TERCEROS","Consignado","PATAGONIA","TUCUMAN 1585 SAN JUAN",8332,"GRAL.ROCA","GRAL ROCA","RIO NEGRO","30710128584","Vincent, Adrián ","Maccari, Marcelo","Barreiro, Silvina",""]
[null,"EL ARBOLITO (CP: 2721)","2721","EL ARBOLITO","BUENOS AIRES","METROPOLITANA","29","JOSE ANDRES MONDINO",null,null,null,null,null,null,null,null,null,null,null,null,null,null,null,null,null,null,null,null,null,null,null,null,null,null,null,null,null,null,null,null,null,null,null,null,null,1643,"RIO NEGRO COMBUSTIBLES SRL E/FOR","TERCEROS","Consignado","PATAGONIA","ALSINA E ISLAS MALVINAS",8332,"GRAL.ROCA","GRAL ROCA","RIO NEGRO","30710128614","Vincent, Adrián ","Maccari, Marcelo","Barreiro, Silvina",""]
[null,"EL CARMEN (CP: 1923)","1923","EL CARMEN","BUENOS AIRES","METROPOLITANA",31,"PABLO CIMINARI",null,null,null,null,null,null,null,null,null,null,null,null,null,null,null,null,null,null,null,null,null,null,null,null,null,null,null,null,null,null,null,null,null,null,null,null,null,1645,"GAVIOT MAURICIO Y JESSER HUGO","TERCEROS","Consignado","PAMPEANA","AVENIDA COLON Y ACCESO",8206,"GRAL.SAN MARTIN","HUCAL","LA PAMPA","33708596529","Perez, Pablo Alejandro","Fernandez, Mariano","Barrera Casal, Facundo",""]
[null,"EL JABALI (CP: 6531)","6531","EL JABALI","BUENOS AIRES","METROPOLITANA",31,"PABLO CIMINARI",null,null,null,null,null,null,null,null,null,null,null,null,null,null,null,null,null,null,null,null,null,null,null,null,null,null,null,null,null,null,null,null,null,null,null,null,null,1647,"EUGENIO DEFAGO SAC","TERCEROS","Consignado","LITORAL SUR","RUTA NACIONAL 95 KM 777 (Ascendente) Y RUTA NACIONAL 98",3060,"TOSTADO","9 DE JULIO","SANTA FE","30581275710","Vergara, Marcelo","Gomez, Cristian","A definir",""]
[null,"EL JAGUEL (CP: 1842)","1842","EL JAGUEL","BUENOS AIRES","METROPOLITANA",31,"PABLO CIMINARI",null,null,null,null,null,null,null,null,null,null,null,null,null,null,null,null,null,null,null,null,null,null,null,null,null,null,null,null,null,null,null,null,null,null,null,null,null,1648,"OPESSA ACA VILLEGAS","OPESSA","Consignado","PAMPEANA","RUTA NACIONAL 188 KM (Ascendente) Y RUTA NAC 33",6230,"GRAL.VILLEGA","GRAL VILLEGAS","BUENOS AIRES","30678774495","Tempone, Irene ","Gerino, Ignacio","Barrera Casal, Facundo","Ferrando, Damián Andres"]
[null,"EL PALOMAR (CP: 1684)","1684","EL PALOMAR","BUENOS AIRES","METROPOLITANA",18,"OMAR PRESAS",null,null,null,null,null,null,null,null,null,null,null,null,null,null,null,null,null,null,null,null,null,null,null,null,null,null,null,null,null,null,null,null,null,null,null,null,null,1650,"REYES & GRIER SRL","TERCEROS","Consignado","PATAGONIA","JULIO ARGENTINO ROCA Y 28 DE FEBRERO",9223,"GOB.COSTA","TEHUELCHES","CHUBUT","30712594302","Otero, Sebastián","Maccari, Marcelo","Barreiro, Silvina",""]
[null,"EL PARAISO (CP: 2916)","2916","EL PARAISO","BUENOS AIRES","METROPOLITANA","29","JOSE ANDRES MONDINO",null,null,null,null,null,null,null,null,null,null,null,null,null,null,null,null,null,null,null,null,null,null,null,null,null,null,null,null,null,null,null,null,null,null,null,null,null,1656,"COOPERATIVA AGROPECUARIA EL PROGRESO DE HENDERSON LTDA","TERCEROS","Consignado","PAMPEANA","FLORIDA Y SARMIENTO",6465,"HENDERSON","HIPOLITO YRIGOYEN","BUENOS AIRES","30507913411","Tempone, Irene ","Gerino, Ignacio","Barrera Casal, Facundo",""]
[null,"EL PATO (CP: 1893)","1893","EL PATO","BUENOS AIRES","METROPOLITANA",31,"PABLO CIMINARI",null,null,null,null,null,null,null,null,null,null,null,null,null,null,null,null,null,null,null,null,null,null,null,null,null,null,null,null,null,null,null,null,null,null,null,null,null,1657,"ZITO Y PRIOLA SRL","TERCEROS","Consignado","PAMPEANA","RUTA NACIONAL 226 KM 284 (Ascendente)",7318,"HINOJO","OLAVARRIA","BUENOS AIRES","30711820279","Aramburu, Diego","Gerino, Ignacio","Barrera Casal, Facundo",""]
[null,"EL PERDIDO (CP: 8156)","8156","EL PERDIDO","BUENOS AIRES","METROPOLITANA","123","CESAR RONCARI",null,null,null,null,null,null,null,null,null,null,null,null,null,null,null,null,null,null,null,null,null,null,null,null,null,null,null,null,null,null,null,null,null,null,null,null,null,1658,"GERARDO EMILIO AGOSTINO","TERCEROS","Consignado","PAMPEANA","AVENIDA 5 S/N°",7318,"HINOJO","OLAVARRIA","BUENOS AIRES","20148323268","Aramburu, Diego","Gerino, Ignacio","Barrera Casal, Facundo",""]
[null,"EL PESCADO (CP: 1907)","1907","EL PESCADO","BUENOS AIRES","METROPOLITANA",31,"PABLO CIMINARI",null,null,null,null,null,null,null,null,null,null,null,null,null,null,null,null,null,null,null,null,null,null,null,null,null,null,null,null,null,null,null,null,null,null,null,null,null,1662,"MATIAS CALVO SACI","TERCEROS","Consignado","PATAGONIA","AVENIDA LIBERTADOR GRAL SAN MARTIN Y HANSEN SELER",8418,"ING.JACOBACCI","25 DE MAYO","RIO NEGRO","30540569122","Peralta, Gustavo","Maccari, Marcelo","Barreiro, Silvina",""]
[null,"EL PORVENIR (CP: 6550)","6550","EL PORVENIR","BUENOS AIRES","METROPOLITANA","123","CESAR RONCARI",null,null,null,null,null,null,null,null,null,null,null,null,null,null,null,null,null,null,null,null,null,null,null,null,null,null,null,null,null,null,null,null,null,null,null,null,null,1665,"GRUPO NORTE SRL","TERCEROS","Consignado","PAMPEANA","AVENIDA SARMIENTO Y FRAY CAYETANO RODRIGUEZ",6221,"INT.ALVEAR","CHAPALEUFU","LA PAMPA","30671637689","Storm, Fernando","Fernandez, Mariano","Barrera Casal, Facundo",""]
[null,"EL SOCORRO (CP: 2715)","2715","EL SOCORRO","BUENOS AIRES","METROPOLITANA","29","JOSE ANDRES MONDINO",null,null,null,null,null,null,null,null,null,null,null,null,null,null,null,null,null,null,null,null,null,null,null,null,null,null,null,null,null,null,null,null,null,null,null,null,null,1666,"SANTILLAN OMAR Y PATRICIA","TERCEROS","Consignado","PAMPEANA","RUTA PROVINCIAL 30 KM 24 (Ascendente) Y ACCESO IRAOLA",7009,"IRAOLA","TANDIL","BUENOS AIRES","30711358753","Di Santo, Julio","Fernandez, Mariano","Barrera Casal, Facundo",""]
[null,"EL TALAR (CP: 1618)","1618","EL TALAR","BUENOS AIRES","METROPOLITANA","29","JOSE ANDRES MONDINO",null,null,null,null,null,null,null,null,null,null,null,null,null,null,null,null,null,null,null,null,null,null,null,null,null,null,null,null,null,null,null,null,null,null,null,null,null,1668,"COSTANTINI Y CIA SA","TERCEROS","Consignado","BUENOS AIRES","RUTA NACIONAL 7 KM 353 (Descendente)",6042,"IRIARTE","GRAL PINTO","BUENOS AIRES","30530311909","Mahon, Nicolas","Brena, Marcelo","Barruti, Francisco",""]
[null,"EL TEJAR (CP: 6515)","6515","EL TEJAR","BUENOS AIRES","METROPOLITANA",31,"PABLO CIMINARI",null,null,null,null,null,null,null,null,null,null,null,null,null,null,null,null,null,null,null,null,null,null,null,null,null,null,null,null,null,null,null,null,null,null,null,null,null,1669,"MIGUEL ANGEL DALMAS","TERCEROS","Consignado","PAMPEANA","PADRE BUODO Y CENTENO",8208,"JACINTO ARAUZ","HUCAL","LA PAMPA","20132106275","Perez, Pablo Alejandro","Fernandez, Mariano","Barrera Casal, Facundo",""]
[null,"EL TRIUNFO (CP: 6073)","6073","EL TRIUNFO","BUENOS AIRES","METROPOLITANA",18,"OMAR PRESAS",null,null,null,null,null,null,null,null,null,null,null,null,null,null,null,null,null,null,null,null,null,null,null,null,null,null,null,null,null,null,null,null,null,null,null,null,null,1676,"OPESSA ACA JUNIN","OPESSA","Consignado","BUENOS AIRES","GRAL. CORNELIO SAAVEDRA Y LEBEHNSON",6000,"JUNIN","JUNIN","BUENOS AIRES","30678774495","Mahon, Nicolas","Brena, Marcelo","Barruti, Francisco","Ferrando, Damián Andres"]
[null,"ELORDI (CP: 6242)","6242","ELORDI","BUENOS AIRES","METROPOLITANA","123","CESAR RONCARI",null,null,null,null,null,null,null,null,null,null,null,null,null,null,null,null,null,null,null,null,null,null,null,null,null,null,null,null,null,null,null,null,null,null,null,null,null,1677,"ECO SERVICIOS ALCIATI SA","TERCEROS","Consignado","BUENOS AIRES","BENITO DE MIGUEL 799",6000,"JUNIN","JUNIN","BUENOS AIRES","30712240233","Mahon, Nicolas","Brena, Marcelo","Barruti, Francisco",""]
[null,"ENERGIA (CP: 7641)","7641","ENERGIA","BUENOS AIRES","METROPOLITANA","123","CESAR RONCARI",null,null,null,null,null,null,null,null,null,null,null,null,null,null,null,null,null,null,null,null,null,null,null,null,null,null,null,null,null,null,null,null,null,null,null,null,null,1678,"AMADO S DI MARCO SA","TERCEROS","Consignado","BUENOS AIRES","RIVADAVIA Y J MU#IZ",6000,"JUNIN","JUNIN","BUENOS AIRES","30665620545","Mahon, Nicolas","Brena, Marcelo","Barruti, Francisco",""]
[null,"ENSENADA (CP: 1925)","1925","ENSENADA","BUENOS AIRES","METROPOLITANA",31,"PABLO CIMINARI",null,null,null,null,null,null,null,null,null,null,null,null,null,null,null,null,null,null,null,null,null,null,null,null,null,null,null,null,null,null,null,null,null,null,null,null,null,1681,"SANTA RITA SOCIEDAD COLECTIVA","TERCEROS","Consignado","BUENOS AIRES","AVENIDA REPUBLICA Y SUIZA",6000,"JUNIN","JUNIN","BUENOS AIRES","30707015426","Mahon, Nicolas","Brena, Marcelo","Barruti, Francisco",""]
[null,"EPUMER (CP: 6443)","6443","EPUMER","BUENOS AIRES","METROPOLITANA","123","CESAR RONCARI",null,null,null,null,null,null,null,null,null,null,null,null,null,null,null,null,null,null,null,null,null,null,null,null,null,null,null,null,null,null,null,null,null,null,null,null,null,1684,"FORTIN HUILICHES SRL","TERCEROS","Consignado","PATAGONIA","RUTA NACIONAL 234 KM (Descendente) Y NECOCHEA",8371,"JUNIN D.LOS ANDES","HUILICHES","NEUQUEN","30608151857","Diacono, Juan Pablo","Maccari, Marcelo","Barreiro, Silvina",""]
[null,"EREZCANO (CP: 2903)","2903","EREZCANO","BUENOS AIRES","METROPOLITANA","29","JOSE ANDRES MONDINO",null,null,null,null,null,null,null,null,null,null,null,null,null,null,null,null,null,null,null,null,null,null,null,null,null,null,null,null,null,null,null,null,null,null,null,null,null,1686,"OPESSA LA AGRARIA","OPESSA","Consignado","BUENOS AIRES","RUTA NACIONAL 7 KM 246 (Descendente)",6000,"LA AGRARIA","JUNIN","BUENOS AIRES","30678774495","Mahon, Nicolas","Brena, Marcelo","Barruti, Francisco","Ferrando, Damián Andres"]
[null,"ERICE (CP: 8189)","8189","ERICE","BUENOS AIRES","METROPOLITANA",130,"CESAR RONCARI",null,null,null,null,null,null,null,null,null,null,null,null,null,null,null,null,null,null,null,null,null,null,null,null,null,null,null,null,null,null,null,null,null,null,null,null,null,1688,"ANGELI NESTOR MARIO","TERCEROS","Consignado","PAMPEANA","AVENIDA 26 750 Y CALLE 35",7637,"LA DULCE","NECOCHEA","BUENOS AIRES","20112181688","Di Santo, Julio","Fernandez, Mariano","Barrera Casal, Facundo",""]
[null,"ERNESTINA (CP: 6665)","6665","ERNESTINA","BUENOS AIRES","METROPOLITANA",18,"OMAR PRESAS"]
[null,"ESCOBAR (CP: 1625)","1625","ESCOBAR","BUENOS AIRES","METROPOLITANA","29","JOSE ANDRES MONDINO",null,null,null,null,null,null,null,null,null,null,null,null,null,null,null,null,null,null,null,null,null,null,null,null,null,null,null,null,null,null,null,null,null,null,null,null,null,1689,"COMBUSTIBLES LA SALADA SA","TERCEROS","Consignado","PAMPEANA","RUTA PROVINCIAL 86 KM 52 (Ascendente) Y RUTA 85",7637,"LA DULCE","NECOCHEA","BUENOS AIRES","30715628925","Di Santo, Julio","Fernandez, Mariano","Barrera Casal, Facundo",""]
[null,"ESCUELA NAVAL MILITAR (CP: 1927)","1927","ESCUELA NAVAL MILITAR","BUENOS AIRES","METROPOLITANA",31,"PABLO CIMINARI",null,null,null,null,null,null,null,null,null,null,null,null,null,null,null,null,null,null,null,null,null,null,null,null,null,null,null,null,null,null,null,null,null,null,null,null,null,1690,"ANA MARIA DRISALDI","TERCEROS","Reventa","PATAGONIA","RUTA NACIONAL 40 KM (Ascendente) PARAJE LA EZPERANZA",9401,"LA ESPERANZA","GÜER AIKE","SANTA CRUZ","27054388581","Potes, Claudio Fernando","Peletay, Walter","Barreiro, Silvina",""]
[null,"ESPARTILLAR (CP: 8171)","8171","ESPARTILLAR","BUENOS AIRES","METROPOLITANA","123","CESAR RONCARI",null,null,null,null,null,null,null,null,null,null,null,null,null,null,null,null,null,null,null,null,null,null,null,null,null,null,null,null,null,null,null,null,null,null,null,null,null,1694,"LAGUNA ALSINA SRL","TERCEROS","Reventa","PAMPEANA","SAN MARTIN Y ROCA",6439,"LAGUNA ALSINA","GUAMINI","BUENOS AIRES","30563930221","Perez, Pablo Alejandro","Fernandez, Mariano","Barrera Casal, Facundo",""]
[null,"ESPIGAS (CP: 6561)","6561","ESPIGAS","BUENOS AIRES","METROPOLITANA","123","CESAR RONCARI",null,null,null,null,null,null,null,null,null,null,null,null,null,null,null,null,null,null,null,null,null,null,null,null,null,null,null,null,null,null,null,null,null,null,null,null,null,1697,"NOBREGA ELISA ALCIRA","TERCEROS","Consignado","PAMPEANA","AVENIDA PEDRO PEREYRA Y SANCHOLUZ",7414,"LAPRIDA","LAPRIDA","BUENOS AIRES","27135428707","Perez, Pablo Alejandro","Fernandez, Mariano","Barrera Casal, Facundo",""]
[null,"ESPORA (CP: 6601)","6601","ESPORA","BUENOS AIRES","METROPOLITANA",18,"OMAR PRESAS",null,null,null,null,null,null,null,null,null,null,null,null,null,null,null,null,null,null,null,null,null,null,null,null,null,null,null,null,null,null,null,null,null,null,null,null,null,1702,"OPESSA LAS FLORES","OPESSA","Consignado","PAMPEANA","RUTA NACIONAL 3 KM 187.300 (Ascendente) Y AVENIDA MANUEL VENANCIO PAZ",7200,"LAS FLORES","LAS FLORES","BUENOS AIRES","30678774495","Astaburuaga, Jose Martin ","Gerino, Ignacio","Barrera Casal, Facundo","Urruspil, Ezequiel"]
[null,"ESTEBAN A GASCON (CP: 8185)","8185","ESTEBAN A GASCON","BUENOS AIRES","METROPOLITANA","123","CESAR RONCARI",null,null,null,null,null,null,null,null,null,null,null,null,null,null,null,null,null,null,null,null,null,null,null,null,null,null,null,null,null,null,null,null,null,null,null,null,null,1704,"OTAMENDI Y COMPA#ÍA SRL","TERCEROS","Consignado","PATAGONIA","RUTA PROVINCIAL 43 KM (Ascendente) Y ACCESO ESTE",9017,"LAS HERAS","DESEADO","SANTA CRUZ","30545080172","Sire, Juan","Peletay, Walter","Barreiro, Silvina",""]
[null,"ESTEBAN A. GASCON (CP: 8185)","8185","ESTEBAN A. GASCON","BUENOS AIRES","METROPOLITANA","123","CESAR RONCARI",null,null,null,null,null,null,null,null,null,null,null,null,null,null,null,null,null,null,null,null,null,null,null,null,null,null,null,null,null,null,null,null,null,null,null,null,null,1705,"PETRO LAS LAJAS SRL","TERCEROS","Consignado","PATAGONIA","RUTA NACIONAL 22 KM (Descendente) Y RUTA NAC 40 S",8347,"LAS LAJAS","PICUNCHES","NEUQUEN","30645824306","Diacono, Juan Pablo","Maccari, Marcelo","Barreiro, Silvina",""]
[null,"ESTELA (CP: 8127)","8127","ESTELA","BUENOS AIRES","METROPOLITANA",130,"CESAR RONCARI",null,null,null,null,null,null,null,null,null,null,null,null,null,null,null,null,null,null,null,null,null,null,null,null,null,null,null,null,null,null,null,null,null,null,null,null,null,1708,"ACA LINCOLN","ACA","ACA","PAMPEANA","AVENIDA MASSEY Y RAWSON",6070,"LINCOLN","LINCOLN","BUENOS AIRES","30500143297","Tempone, Irene ","Gerino, Ignacio","Barrera Casal, Facundo",""]
[null,"EXALTACION DE LA CRUZ (CP: 2812)","2812","EXALTACION DE LA CRUZ","BUENOS AIRES","METROPOLITANA","29","JOSE ANDRES MONDINO",null,null,null,null,null,null,null,null,null,null,null,null,null,null,null,null,null,null,null,null,null,null,null,null,null,null,null,null,null,null,null,null,null,null,null,null,null,1709,"ROTONDA LINCOLN SA","TERCEROS","Consignado","PAMPEANA","RUTA NACIONAL 188 KM 218.500 (Descendente) Y ACCESO H IRIGOYEN",6070,"LINCOLN","LINCOLN","BUENOS AIRES","30711815917","Tempone, Irene ","Gerino, Ignacio","Barrera Casal, Facundo",""]
[null,"EZEIZA (CP: 1804)","1804","EZEIZA","BUENOS AIRES","METROPOLITANA",31,"PABLO CIMINARI",null,null,null,null,null,null,null,null,null,null,null,null,null,null,null,null,null,null,null,null,null,null,null,null,null,null,null,null,null,null,null,null,null,null,null,null,null,1710,"ALZA JUAN FRANCISCO","TERCEROS","Consignado","PAMPEANA","AVENIDA DOMINGO F SARMIENTO Y JUAN B JUSTO",7635,"LOBERIA","LOBERIA","BUENOS AIRES","20083715406","Di Santo, Julio","Fernandez, Mariano","Barrera Casal, Facundo",""]
[null,"EZPELETA (CP: 1882)","1882","EZPELETA","BUENOS AIRES","METROPOLITANA",31,"PABLO CIMINARI",null,null,null,null,null,null,null,null,null,null,null,null,null,null,null,null,null,null,null,null,null,null,null,null,null,null,null,null,null,null,null,null,null,null,null,null,null,1714,"COOP AGROPECUARIA EMBAJADOR MARTINI LTDA","TERCEROS","Consignado","PAMPEANA","BOULEVARD SAN MARTIN Y GRITO DE ALCORTA",6203,"EMBAJADOR MARTINI","REALICO","LA PAMPA","30533615909","Storm, Fernando","Fernandez, Mariano","Barrera Casal, Facundo",""]
[null,"FAIR (CP: 7153)","7153","FAIR","BUENOS AIRES","METROPOLITANA","123","CESAR RONCARI",null,null,null,null,null,null,null,null,null,null,null,null,null,null,null,null,null,null,null,null,null,null,null,null,null,null,null,null,null,null,null,null,null,null,null,null,null,1715,"HERNANDO HERMANOS SA","TERCEROS","Consignado","PAMPEANA","RUTA PROVINCIAL 51 KM 19.500 (Ascendente)",7403,"LOMA NEGRA","OLAVARRIA","BUENOS AIRES","30532124545","Aramburu, Diego","Gerino, Ignacio","Barrera Casal, Facundo",""]
[null,"FATIMA (CP: 1633)","1633","FATIMA","BUENOS AIRES","METROPOLITANA","29","JOSE ANDRES MONDINO",null,null,null,null,null,null,null,null,null,null,null,null,null,null,null,null,null,null,null,null,null,null,null,null,null,null,null,null,null,null,null,null,null,null,null,null,null,1717,"ACA LOS ALTARES","ACA","ACA","PATAGONIA","RUTA NACIONAL 25 KM 321 (Ascendente)",9207,"LOS ALTARES","LANGUI#EO","CHUBUT","30500143297","Scolari, Dario","Peletay, Walter","Barreiro, Silvina",""]
[null,"FAUZON (CP: 6500)","6500","FAUZON","BUENOS AIRES","METROPOLITANA",18,"OMAR PRESAS",null,null,null,null,null,null,null,null,null,null,null,null,null,null,null,null,null,null,null,null,null,null,null,null,null,null,null,null,null,null,null,null,null,null,null,null,null,1718,"GARCIA OSCAR GERMAN E HIJOS SRL","TERCEROS","Reventa","PATAGONIA","11 DE JULIO Y PALAVICINI",9041,"LOS ANTIGUOS","LAGO BUENOS AIRES","SANTA CRUZ","30709337250","Sire, Juan","Peletay, Walter","Barreiro, Silvina",""]
[null,"FCIO.VARELA (CP: 1888)","1888","FCIO.VARELA","BUENOS AIRES","METROPOLITANA",31,"PABLO CIMINARI",null,null,null,null,null,null,null,null,null,null,null,null,null,null,null,null,null,null,null,null,null,null,null,null,null,null,null,null,null,null,null,null,null,null,null,null,null,1719,"ACA LOS MENUCOS","ACA","ACA","PATAGONIA","RUTA NACIONAL 23 KM 269 (Descendente) Y RUTA PROVINCIAL 310",8424,"LOS MENUCOS (RIO NEGRO)","25 DE MAYO","RIO NEGRO","30500143297","Peralta, Gustavo","Maccari, Marcelo","Barreiro, Silvina",""]
[null,"FCIO.VARELA (CP: 1989)","1989","FCIO.VARELA","BUENOS AIRES","METROPOLITANA",31,"PABLO CIMINARI",null,null,null,null,null,null,null,null,null,null,null,null,null,null,null,null,null,null,null,null,null,null,null,null,null,null,null,null,null,null,null,null,null,null,null,null,null,1721,"CASA ALARCIA SACIFIAG","TERCEROS","Consignado","PAMPEANA","RUTA PROVINCIAL 18 KM (Ascendente) Y RUTA PROV 1",6307,"MACACHIN","ATREUCO","LA PAMPA","30530489945","Perez, Pablo Alejandro","Fernandez, Mariano","Barrera Casal, Facundo",""]
[null,"FCO.ALVAREZ (CP: 1746)","1746","FCO.ALVAREZ","BUENOS AIRES","METROPOLITANA",18,"OMAR PRESAS",null,null,null,null,null,null,null,null,null,null,null,null,null,null,null,null,null,null,null,null,null,null,null,null,null,null,null,null,null,null,null,null,null,null,null,null,null,1724,"SANTAMARIA ABEL ROBERTO","TERCEROS","Consignado","PAMPEANA","ALSINA Y LAVALLE",7160,"MAIPU","MAIPU","BUENOS AIRES","20087037682","Del Dago, Gabriel","Gerino, Ignacio","Barrera Casal, Facundo",""]
[null,"FELIPE SOLA (CP: 8129)","8129","FELIPE SOLA","BUENOS AIRES","METROPOLITANA",130,"CESAR RONCARI",null,null,null,null,null,null,null,null,null,null,null,null,null,null,null,null,null,null,null,null,null,null,null,null,null,null,null,null,null,null,null,null,null,null,null,null,null,1725,"ZGAIB DANIEL OSCAR","TERCEROS","Consignado","PATAGONIA","RUTA NACIONAL 23 KM 340 (Descendente)",8422,"MAQUINCHAO","25 DE MAYO","RIO NEGRO","20171179662","Peralta, Gustavo","Maccari, Marcelo","Barreiro, Silvina",""]
[null,"FERRE (CP: 6003)","6003","FERRE","BUENOS AIRES","METROPOLITANA",18,"OMAR PRESAS",null,null,null,null,null,null,null,null,null,null,null,null,null,null,null,null,null,null,null,null,null,null,null,null,null,null,null,null,null,null,null,null,null,null,null,null,null,1727,"OPESSA MAR DE AJO","OPESSA","Consignado","PAMPEANA","AVENIDA LIBERTADOR GRAL SAN MARTIN 1425",7109,"MAR DE AJO","LA COSTA","BUENOS AIRES","30678774495","Del Dago, Gabriel","Gerino, Ignacio","Barrera Casal, Facundo","Urruspil, Ezequiel"]
[null,"FERRE (CP: 6027)","6027","FERRE","BUENOS AIRES","METROPOLITANA",18,"OMAR PRESAS",null,null,null,null,null,null,null,null,null,null,null,null,null,null,null,null,null,null,null,null,null,null,null,null,null,null,null,null,null,null,null,null,null,null,null,null,null,1728,"OPESSA ALBERTI","OPESSA","Consignado","PAMPEANA","ALBERTI 2128 Y BUENOS AIRES",7600,"MAR DEL PLATA","GRAL PUEYRREDON","BUENOS AIRES","30678774495","Astaburuaga, Jose Martin ","Gerino, Ignacio","Barrera Casal, Facundo","Urruspil, Ezequiel"]
[null,"FLORIDA (CP: 1602)","1602","FLORIDA","BUENOS AIRES","METROPOLITANA","29","JOSE ANDRES MONDINO",null,null,null,null,null,null,null,null,null,null,null,null,null,null,null,null,null,null,null,null,null,null,null,null,null,null,null,null,null,null,null,null,null,null,null,null,null,1729,"ACA MAR DEL PLATA COLON","ACA","ACA","PAMPEANA","AVENIDA CRISTOBAL COLON ENTRE SANTIAGO DEL ESTERO Y SANTA FE",7600,"MAR DEL PLATA","GRAL PUEYRREDON","BUENOS AIRES","30500143297","Urrutia, Javier","Gerino, Ignacio","Barrera Casal, Facundo",""]
[null,"FONTEZUELA (CP: 2700)","2700","FONTEZUELA","BUENOS AIRES","METROPOLITANA","29","JOSE ANDRES MONDINO",null,null,null,null,null,null,null,null,null,null,null,null,null,null,null,null,null,null,null,null,null,null,null,null,null,null,null,null,null,null,null,null,null,null,null,null,null,1730,"ACA MAR DEL PLATA INDEPENDENCIA","ACA","ACA","PAMPEANA","AVENIDA INDEPENDENCIA Y QUINTANA",7600,"MAR DEL PLATA","GRAL PUEYRREDON","BUENOS AIRES","30500143297","Urrutia, Javier","Gerino, Ignacio","Barrera Casal, Facundo",""]
[null,"FORTIN OLAVARRIA (CP: 6403)","6403","FORTIN OLAVARRIA","BUENOS AIRES","METROPOLITANA","123","CESAR RONCARI",null,null,null,null,null,null,null,null,null,null,null,null,null,null,null,null,null,null,null,null,null,null,null,null,null,null,null,null,null,null,null,null,null,null,null,null,null,1732,"ACA MAR DEL PLATA BROWN","ACA","ACA","PAMPEANA","ALMIRANTE BROWN Y SANTA FE",7600,"MAR DEL PLATA","GRAL PUEYRREDON","BUENOS AIRES","30500143297","Urrutia, Javier","Gerino, Ignacio","Barrera Casal, Facundo",""]
[null,"FORTIN REPUBLICA (PJE) (CP: 6105)","6105","FORTIN REPUBLICA (PJE)","BUENOS AIRES","METROPOLITANA","123","CESAR RONCARI",null,null,null,null,null,null,null,null,null,null,null,null,null,null,null,null,null,null,null,null,null,null,null,null,null,null,null,null,null,null,null,null,null,null,null,null,null,1734,"BASSO HNOS SACIFA","TERCEROS","Consignado","PAMPEANA","AVENIDA DR JUAN BAUTISTA JUSTO Y TUCUMAN",7600,"MAR DEL PLATA","GRAL PUEYRREDON","BUENOS AIRES","30559088923","Urrutia, Javier","Gerino, Ignacio","Barrera Casal, Facundo",""]
[null,"FORTIN TIBURCIO (CP: 6001)","6001","FORTIN TIBURCIO","BUENOS AIRES","METROPOLITANA",18,"OMAR PRESAS",null,null,null,null,null,null,null,null,null,null,null,null,null,null,null,null,null,null,null,null,null,null,null,null,null,null,null,null,null,null,null,null,null,null,null,null,null,1735,"BASSO HNOS SACIFA","TERCEROS","Consignado","PAMPEANA","AVENIDA CNEL M MARTINEZ DE HOZ Y ELCANO",7600,"MAR DEL PLATA","GRAL PUEYRREDON","BUENOS AIRES","30559088923","Urrutia, Javier","Gerino, Ignacio","Barrera Casal, Facundo",""]
[null,"FRANCISCO MADERO (CP: 6472)","6472","FRANCISCO MADERO","BUENOS AIRES","METROPOLITANA","123","CESAR RONCARI",null,null,null,null,null,null,null,null,null,null,null,null,null,null,null,null,null,null,null,null,null,null,null,null,null,null,null,null,null,null,null,null,null,null,null,null,null,1736,"COPPARONI SA","TERCEROS","Consignado","PAMPEANA","RUTA PROVINCIAL 88 KM 16.200 (Ascendente)",7601,"BATAN (BARRIO)","GRAL PUEYRREDON","BUENOS AIRES","30676351481","Urrutia, Javier","Gerino, Ignacio","Barrera Casal, Facundo",""]
[null,"FRANCISCO MURATURE (CP: 6341)","6341","FRANCISCO MURATURE","BUENOS AIRES","METROPOLITANA","123","CESAR RONCARI",null,null,null,null,null,null,null,null,null,null,null,null,null,null,null,null,null,null,null,null,null,null,null,null,null,null,null,null,null,null,null,null,null,null,null,null,null,1737,"COMBUSTIBLES RAUL ALONSO SA","TERCEROS","Consignado","PAMPEANA","AVENIDA CRISTOBAL COLON Y OLAZABAL",7600,"MAR DEL PLATA","GRAL PUEYRREDON","BUENOS AIRES","30707881719","Urrutia, Javier","Gerino, Ignacio","Barrera Casal, Facundo",""]
[null,"FRENCH (CP: 6516)","6516","FRENCH","BUENOS AIRES","METROPOLITANA",31,"PABLO CIMINARI",null,null,null,null,null,null,null,null,null,null,null,null,null,null,null,null,null,null,null,null,null,null,null,null,null,null,null,null,null,null,null,null,null,null,null,null,null,1740,"IMHOFF SRL","TERCEROS","Consignado","MEDITERRANEA","RUTA NACIONAL 38 KM (Ascendente) Y RUTA PROVINCIAL 55",5158,"BIALET MASSE","PUNILLA","CORDOBA","30708330600","Saul, Diego Martin","Parolin, Mauricio Elvio","Banegas, Walter",""]
[null,"G.MANCILLA (CP: 1911)","1911","G.MANCILLA","BUENOS AIRES","METROPOLITANA",31,"PABLO CIMINARI",null,null,null,null,null,null,null,null,null,null,null,null,null,null,null,null,null,null,null,null,null,null,null,null,null,null,null,null,null,null,null,null,null,null,null,null,null,1741,"CIRO MAR SOCIEDAD ANONIMA","TERCEROS","Consignado","PAMPEANA","AVENIDA CRISTOBAL COLON Y CHAMPAGNAT",7600,"MAR DEL PLATA","GRAL PUEYRREDON","BUENOS AIRES","30596357233","Urrutia, Javier","Gerino, Ignacio","Barrera Casal, Facundo",""]
[null,"GALO LLORENTE (CP: 6513)","6513","GALO LLORENTE","BUENOS AIRES","METROPOLITANA",31,"PABLO CIMINARI",null,null,null,null,null,null,null,null,null,null,null,null,null,null,null,null,null,null,null,null,null,null,null,null,null,null,null,null,null,null,null,null,null,null,null,null,null,1742,"EL PINO SRL","TERCEROS","Consignado","PAMPEANA","AVENIDA LURO Y ERREA (CALLE 228)",7600,"MAR DEL PLATA","GRAL PUEYRREDON","BUENOS AIRES","33707099599","Urrutia, Javier","Gerino, Ignacio","Barrera Casal, Facundo",""]
[null,"GARDEY (CP: 7003)","7003","GARDEY","BUENOS AIRES","METROPOLITANA","123","CESAR RONCARI",null,null,null,null,null,null,null,null,null,null,null,null,null,null,null,null,null,null,null,null,null,null,null,null,null,null,null,null,null,null,null,null,null,null,null,null,null,1754,"COMBUSTIBLES LA PERLA S.A.","TERCEROS","Consignado","PAMPEANA","AVENIDA AVDA. LURO 3399",7600,"MAR DEL PLATA","GRAL PUEYRREDON","BUENOS AIRES","30714336610","Urrutia, Javier","Gerino, Ignacio","Barrera Casal, Facundo",""]
[null,"GARIN (CP: 1619)","1619","GARIN","BUENOS AIRES","METROPOLITANA","29","JOSE ANDRES MONDINO",null,null,null,null,null,null,null,null,null,null,null,null,null,null,null,null,null,null,null,null,null,null,null,null,null,null,null,null,null,null,null,null,null,null,null,null,null,1756,"LA CAMINERA SA","TERCEROS","Consignado","PAMPEANA","RUTA NACIONAL 2 KM 399 (Descendente)",7600,"MAR DEL PLATA","GRAL PUEYRREDON","BUENOS AIRES","30623236338","Urrutia, Javier","Gerino, Ignacio","Barrera Casal, Facundo",""]
[null,"GARRE (CP: 6411)","6411","GARRE","BUENOS AIRES","METROPOLITANA","123","CESAR RONCARI",null,null,null,null,null,null,null,null,null,null,null,null,null,null,null,null,null,null,null,null,null,null,null,null,null,null,null,null,null,null,null,null,null,null,null,null,null,1762,"NUEVOS RUMBOS SRL","TERCEROS","Consignado","PAMPEANA","RUTA NACIONAL 2 KM (Ascendente) Y AVENIDA CONSTITUCION",7600,"MAR DEL PLATA","GRAL PUEYRREDON","BUENOS AIRES","30582727216","Urrutia, Javier","Gerino, Ignacio","Barrera Casal, Facundo",""]
[null,"GARRO (CP: 8103)","8103","GARRO","BUENOS AIRES","METROPOLITANA",130,"CESAR RONCARI",null,null,null,null,null,null,null,null,null,null,null,null,null,null,null,null,null,null,null,null,null,null,null,null,null,null,null,null,null,null,null,null,null,null,null,null,null,1775,"REALI HERMANOS SC","TERCEROS","Consignado","PAMPEANA","RUTA NACIONAL 22 KM 733 (Descendente)",8132,"MEDANOS","VILLARI#O","BUENOS AIRES","30518706256","Lindo Poisson, Ruben Ariel","Fernandez, Mariano","Barrera Casal, Facundo",""]
[null,"GDOR.CASTRO (CP: 2946)","2946","GDOR.CASTRO","BUENOS AIRES","METROPOLITANA","29","JOSE ANDRES MONDINO",null,null,null,null,null,null,null,null,null,null,null,null,null,null,null,null,null,null,null,null,null,null,null,null,null,null,null,null,null,null,null,null,null,null,null,null,null,1777,"TRIMAG SA","TERCEROS","Consignado","PAMPEANA","MALVINAS ARGENTINAS Y BELGRANO",6301,"MIGUEL RIGLOS","ATREUCO","LA PAMPA","30680830696","Perez, Pablo Alejandro","Fernandez, Mariano","Barrera Casal, Facundo",""]
[null,"GENERAL ROJO (CP: 2905)","2905","GENERAL ROJO","BUENOS AIRES","METROPOLITANA","29","JOSE ANDRES MONDINO",null,null,null,null,null,null,null,null,null,null,null,null,null,null,null,null,null,null,null,null,null,null,null,null,null,null,null,null,null,null,null,null,null,null,null,null,null,1779,"ACA MIRAMAR","ACA","ACA","PAMPEANA","DIAGONAL FORTUNATO DE LA PLAZA 1701 Y CALLE 13",7607,"MIRAMAR","GRAL ALVARADO","BUENOS AIRES","30500143297","Urrutia, Javier","Gerino, Ignacio","Barrera Casal, Facundo",""]
[null,"GERENTE CILLEY (CP: 6507)","6507","GERENTE CILLEY","BUENOS AIRES","METROPOLITANA",31,"PABLO CIMINARI",null,null,null,null,null,null,null,null,null,null,null,null,null,null,null,null,null,null,null,null,null,null,null,null,null,null,null,null,null,null,null,null,null,null,null,null,null,1785,"PETROTANDIL SACIEI","TERCEROS","Consignado","PAMPEANA","RUTA NACIONAL 227 KM (Descendente) Y ACCESO NAPALEOFU","7007B","NAPALEOFU","BALCARCE","BUENOS AIRES","30535230842","Di Santo, Julio","Fernandez, Mariano","Barrera Casal, Facundo",""]
[null,"GERLI (CP: 1870)","1870","GERLI","BUENOS AIRES","METROPOLITANA",31,"PABLO CIMINARI",null,null,null,null,null,null,null,null,null,null,null,null,null,null,null,null,null,null,null,null,null,null,null,null,null,null,null,null,null,null,null,null,null,null,null,null,null,1786,"ACA NECOCHEA","ACA","ACA","PAMPEANA","AVENIDA 59 2073 Y CALLE 48",7630,"NECOCHEA","NECOCHEA","BUENOS AIRES","30500143297","Di Santo, Julio","Fernandez, Mariano","Barrera Casal, Facundo",""]
[null,"GERMANIA (CP: 6053)","6053","GERMANIA","BUENOS AIRES","METROPOLITANA",18,"OMAR PRESAS",null,null,null,null,null,null,null,null,null,null,null,null,null,null,null,null,null,null,null,null,null,null,null,null,null,null,null,null,null,null,null,null,null,null,null,null,null,1789,"CABARO SRL","TERCEROS","Consignado","METROPOLITANA","DARDO ROCHA 299 Y 9 DE JULIO",1876,"BERNAL","QUILMES","BUENOS AIRES","30707426329","Berardi, Juan Carlos","Acosta, Diego","Gottlieb, Patricio",""]
[null,{"$f":"CONCATENATE(D707,\" (CP: \",C707,\")\")","v":"GLEW (CP: 1856)"},"1856","GLEW","BUENOS AIRES","METROPOLITANA",31,"PABLO CIMINARI",null,null,null,null,null,null,null,null,null,null,null,null,null,null,null,null,null,null,null,null,null,null,null,null,null,null,null,null,null,null,null,null,null,null,null,null,null,1792,"COMBU SRL","TERCEROS","Consignado","PAMPEANA","CALLE 79 399 Y CALLE 10",7630,"NECOCHEA","NECOCHEA","BUENOS AIRES","30715292277","Di Santo, Julio","Fernandez, Mariano","Barrera Casal, Facundo",""]
[null,"GOB ARIAS (CP: 6531)","6531","GOB ARIAS","BUENOS AIRES","METROPOLITANA",31,"PABLO CIMINARI",null,null,null,null,null,null,null,null,null,null,null,null,null,null,null,null,null,null,null,null,null,null,null,null,null,null,null,null,null,null,null,null,null,null,null,null,null,1793,"ACA NEUQUEN","ACA","ACA","PATAGONIA","BOULEVARD 25 DE MAYO Y RIVADAVIA",8300,"NEUQUEN","CONFLUENCIA","NEUQUEN","30500143297","Linares, Roberto","Maccari, Marcelo","Barreiro, Silvina",""]
[null,"GOB OBLIGADO (CP: 1981)","1981","GOB OBLIGADO","BUENOS AIRES","METROPOLITANA",31,"PABLO CIMINARI",null,null,null,null,null,null,null,null,null,null,null,null,null,null,null,null,null,null,null,null,null,null,null,null,null,null,null,null,null,null,null,null,null,null,null,null,null,1798,"NEUQUEN PETRO OESTE SRL","TERCEROS","Consignado","PATAGONIA","PTE ARTURO HUMBERTO ILLIA E ISLAS MALVINAS",8300,"NEUQUEN","CONFLUENCIA","NEUQUEN","30646766369","Linares, Roberto","Maccari, Marcelo","Barreiro, Silvina",""]
[null,"GOB UDAONDO (CP: 7221)","7221","GOB UDAONDO","BUENOS AIRES","METROPOLITANA",31,"PABLO CIMINARI",null,null,null,null,null,null,null,null,null,null,null,null,null,null,null,null,null,null,null,null,null,null,null,null,null,null,null,null,null,null,null,null,null,null,null,null,null,1800,"NEUQUEN PETRO OESTE SRL","TERCEROS","Consignado","PATAGONIA","GRAL MANUEL BELGRANO Y COLLON CURA",8300,"NEUQUEN","CONFLUENCIA","NEUQUEN","30646766369","Linares, Roberto","Maccari, Marcelo","Barreiro, Silvina",""]
[null,"GOB UGARTE (CP: 6621)","6621","GOB UGARTE","BUENOS AIRES","METROPOLITANA",18,"OMAR PRESAS",null,null,null,null,null,null,null,null,null,null,null,null,null,null,null,null,null,null,null,null,null,null,null,null,null,null,null,null,null,null,null,null,null,null,null,null,null,1801,"RUTA 22 SA","TERCEROS","Consignado","PATAGONIA","EUGENIO PERTICONE Y BAHIA BLANCA",8300,"NEUQUEN","CONFLUENCIA","NEUQUEN","30598639155","Linares, Roberto","Maccari, Marcelo","Barreiro, Silvina",""]
[null,"GOMEZ (CP: 1983)","1983","GOMEZ","BUENOS AIRES","METROPOLITANA",31,"PABLO CIMINARI",null,null,null,null,null,null,null,null,null,null,null,null,null,null,null,null,null,null,null,null,null,null,null,null,null,null,null,null,null,null,null,null,null,null,null,null,null,1802,"RUTA 22 SA","TERCEROS","Consignado","PATAGONIA","GRAL JOSE DE SAN MARTIN Y JUJUY",8300,"NEUQUEN","CONFLUENCIA","NEUQUEN","30598639155","Linares, Roberto","Maccari, Marcelo","Barreiro, Silvina",""]
[null,"GOMEZ DE LA VEGA (CP: 1983)","1983","GOMEZ DE LA VEGA","BUENOS AIRES","METROPOLITANA",31,"PABLO CIMINARI",null,null,null,null,null,null,null,null,null,null,null,null,null,null,null,null,null,null,null,null,null,null,null,null,null,null,null,null,null,null,null,null,null,null,null,null,null,1803,"RUTA 22 SA","TERCEROS","Consignado","PATAGONIA","GRAL MANUEL BELGRANO Y GOB DENIS",8300,"NEUQUEN","CONFLUENCIA","NEUQUEN","30598639155","Linares, Roberto","Maccari, Marcelo","Barreiro, Silvina",""]
[null,"GONNET, MANUEL B. (CP: 1897)","1897","GONNET, MANUEL B.","BUENOS AIRES","METROPOLITANA",31,"PABLO CIMINARI",null,null,null,null,null,null,null,null,null,null,null,null,null,null,null,null,null,null,null,null,null,null,null,null,null,null,null,null,null,null,null,null,null,null,null,null,null,1804,"DEL PARQUE SRL","TERCEROS","Consignado","PATAGONIA","RUTA NACIONAL 7 KM (Ascendente) (PARQUE INDUSTRIAL ESTE)",8300,"NEUQUEN","CONFLUENCIA","NEUQUEN","30714308900","Linares, Roberto","Maccari, Marcelo","Barreiro, Silvina",""]
[null,"GONZALEZ CATAN (CP: 1759)","1759","GONZALEZ CATAN","BUENOS AIRES","METROPOLITANA",18,"OMAR PRESAS",null,null,null,null,null,null,null,null,null,null,null,null,null,null,null,null,null,null,null,null,null,null,null,null,null,null,null,null,null,null,null,null,null,null,null,null,null,1805,"ACA 9 DE JULIO","ACA","ACA","PAMPEANA","RUTA NACIONAL 5 KM 264.700 (Descendente)",6500,"9 DE JULIO","9 DE JULIO","BUENOS AIRES","30500143297","Astaburuaga, Jose Martin ","Gerino, Ignacio","Barrera Casal, Facundo",""]
[null,"GONZALEZ MORENO (CP: 6239)","6239","GONZALEZ MORENO","BUENOS AIRES","METROPOLITANA","123","CESAR RONCARI",null,null,null,null,null,null,null,null,null,null,null,null,null,null,null,null,null,null,null,null,null,null,null,null,null,null,null,null,null,null,null,null,null,null,null,null,null,1806,"PETROGUAZZ","TERCEROS","Consignado","PAMPEANA","RUTA NACIONAL 5 KM 263 (Ascendente)",6500,"9 DE JULIO","9 DE JULIO","BUENOS AIRES","30707835938","Astaburuaga, Jose Martin ","Gerino, Ignacio","Barrera Casal, Facundo",""]
[null,"GORCHS (CP: 7226)","7226","GORCHS","BUENOS AIRES","METROPOLITANA",31,"PABLO CIMINARI",null,null,null,null,null,null,null,null,null,null,null,null,null,null,null,null,null,null,null,null,null,null,null,null,null,null,null,null,null,null,null,null,null,null,null,null,null,1807,"PETROGUAZZ S.A.","TERCEROS","Consignado","PAMPEANA","AVENIDA MITRE Y AVENIDA AGUSTIN ALVAREZ",6500,"9 DE JULIO","9 DE JULIO","BUENOS AIRES","30707835938","Astaburuaga, Jose Martin ","Gerino, Ignacio","Barrera Casal, Facundo",""]
[null,"GOYENA (CP: 8175)","8175","GOYENA","BUENOS AIRES","METROPOLITANA","123","CESAR RONCARI",null,null,null,null,null,null,null,null,null,null,null,null,null,null,null,null,null,null,null,null,null,null,null,null,null,null,null,null,null,null,null,null,null,null,null,null,null,1809,"RIVAS NU#EZ SRL","TERCEROS","Consignado","PAMPEANA","AVENIDA BARTOLOME MITRE Y CORRIENTES",6500,"9 DE JULIO","9 DE JULIO","BUENOS AIRES","30714692298","Astaburuaga, Jose Martin ","Gerino, Ignacio","Barrera Casal, Facundo",""]
[null,"GRAL DANIEL CERRI (CP: 8105)","8105","GRAL DANIEL CERRI","BUENOS AIRES","METROPOLITANA",130,"CESAR RONCARI",null,null,null,null,null,null,null,null,null,null,null,null,null,null,null,null,null,null,null,null,null,null,null,null,null,null,null,null,null,null,null,null,null,null,null,null,null,1810,"PETROGUAZZ S.A.","TERCEROS","Consignado","PAMPEANA","RUTA PROVINCIAL 65 KM 100 (Ascendente) Y EVA PERON",6500,"9 DE JULIO","9 DE JULIO","BUENOS AIRES","30707835938","Astaburuaga, Jose Martin ","Gerino, Ignacio","Barrera Casal, Facundo",""]
[null,"GRAL HERAS (CP: 1737)","1737","GRAL HERAS","BUENOS AIRES","METROPOLITANA",18,"OMAR PRESAS",null,null,null,null,null,null,null,null,null,null,null,null,null,null,null,null,null,null,null,null,null,null,null,null,null,null,null,null,null,null,null,null,null,null,null,null,null,1813,"ABRIGO HERNANDO SRL","TERCEROS","Consignado","PAMPEANA","MARIANO MORENO Y DORREGO",7400,"OLAVARRIA","OLAVARRIA","BUENOS AIRES","30708168129","Aramburu, Diego","Gerino, Ignacio","Barrera Casal, Facundo",""]
[null,"GRAL O'BRIEN (CP: 6646)","6646","GRAL O'BRIEN","BUENOS AIRES","METROPOLITANA",18,"OMAR PRESAS",null,null,null,null,null,null,null,null,null,null,null,null,null,null,null,null,null,null,null,null,null,null,null,null,null,null,null,null,null,null,null,null,null,null,null,null,null,1817,"OPESSA ACA OLAVARRIA","OPESSA","Consignado","PAMPEANA","AVENIDA ARISTOBULO DEL VALLE Y PELLEGRINI",7400,"OLAVARRIA","OLAVARRIA","BUENOS AIRES","30678774495","Aramburu, Diego","Gerino, Ignacio","Barrera Casal, Facundo","Urruspil, Ezequiel"]
[null,"GRAL. RODRIGUEZ (CP: 1748)","1748","GRAL. RODRIGUEZ","BUENOS AIRES","METROPOLITANA",29,"JOSE ANDRES MONDINO",null,null,null,null,null,null,null,null,null,null,null,null,null,null,null,null,null,null,null,null,null,null,null,null,null,null,null,null,null,null,null,null,null,null,null,null,null,1820,"MUÑECAS HEBERTO","TERCEROS","Consignado","PATAGONIA","ROCHDALE Y VINTER",8332,"GRAL.ROCA","GRAL ROCA","RIO NEGRO","20073014086","Vincent, Adrián ","Maccari, Marcelo","Barreiro, Silvina",""]
[null,"GRAL.ALVEAR (CP: 7263)","7263","GRAL.ALVEAR","BUENOS AIRES","METROPOLITANA","123","CESAR RONCARI",null,null,null,null,null,null,null,null,null,null,null,null,null,null,null,null,null,null,null,null,null,null,null,null,null,null,null,null,null,null,null,null,null,null,null,null,null,1821,"GRUPO NORTE SRL","TERCEROS","Consignado","PAMPEANA","RUTA NACIONAL 35 KM (Ascendente) Y RUTA NACIONAL 152",6300,"PARAJE PADRE BUODO","UTRACAN","LA PAMPA","30671637689","Storm, Fernando","Fernandez, Mariano","Barrera Casal, Facundo",""]
[null,"GRAL.ARENALES (CP: 6005)","6005","GRAL.ARENALES","BUENOS AIRES","METROPOLITANA",18,"OMAR PRESAS",null,null,null,null,null,null,null,null,null,null,null,null,null,null,null,null,null,null,null,null,null,null,null,null,null,null,null,null,null,null,null,null,null,null,null,null,null,1828,"ARANDA JUAN LEONARDO","TERCEROS","Reventa","PAMPEANA","CALLE 5 Y CALLE 28",8145,"PEDRO LURO","VILLARI#O","BUENOS AIRES","23067691229","Lindo Poisson, Ruben Ariel","Fernandez, Mariano","Barrera Casal, Facundo",""]
[null,"GRAL.BELGRANO (CP: 7223)","7223","GRAL.BELGRANO","BUENOS AIRES","METROPOLITANA",31,"PABLO CIMINARI",null,null,null,null,null,null,null,null,null,null,null,null,null,null,null,null,null,null,null,null,null,null,null,null,null,null,null,null,null,null,null,null,null,null,null,null,null,1830,"HOLAMA SA","TERCEROS","Consignado","PAMPEANA","AVENIDA GRAL SAN MARTIN Y SPANO",6450,"PEHUAJO","PEHUAJO","BUENOS AIRES","30571424637","Tempone, Irene ","Gerino, Ignacio","Barrera Casal, Facundo",""]
[null,"GRAL.GUIDO (CP: 7118)","7118","GRAL.GUIDO","BUENOS AIRES","METROPOLITANA","123","CESAR RONCARI",null,null,null,null,null,null,null,null,null,null,null,null,null,null,null,null,null,null,null,null,null,null,null,null,null,null,null,null,null,null,null,null,null,null,null,null,null,1831,"MARONO A Y MORONO MARIO A SH","TERCEROS","Consignado","PAMPEANA","JUAN MARIA GUTIERREZ Y ALSINA",6450,"PEHUAJO","PEHUAJO","BUENOS AIRES","30584757554","Tempone, Irene ","Gerino, Ignacio","Barrera Casal, Facundo",""]
[null,"GRAL.LAMADRID (CP: 7406)","7406","GRAL.LAMADRID","BUENOS AIRES","METROPOLITANA","123","CESAR RONCARI",null,null,null,null,null,null,null,null,null,null,null,null,null,null,null,null,null,null,null,null,null,null,null,null,null,null,null,null,null,null,null,null,null,null,null,null,null,1832,"NUEVA SIMCA SACIFAIM","TERCEROS","Consignado","PAMPEANA","AVENIDA MITRE Y ZANNI",6450,"PEHUAJO","PEHUAJO","BUENOS AIRES","30522700661","Tempone, Irene ","Gerino, Ignacio","Barrera Casal, Facundo",""]
[null,"GRAL.LAS HERAS (CP: 1741)","1741","GRAL.LAS HERAS","BUENOS AIRES","METROPOLITANA",18,"OMAR PRESAS",null,null,null,null,null,null,null,null,null,null,null,null,null,null,null,null,null,null,null,null,null,null,null,null,null,null,null,null,null,null,null,null,null,null,null,null,null,1834,"GALAN BULIT MARIA CRISTINA","TERCEROS","Consignado","PAMPEANA","RUTA NACIONAL 5 KM 496 (Ascendente) Y ACCESO",6346,"PELLEGRINI","PELLEGRINI","BUENOS AIRES","27139293857","Tempone, Irene ","Gerino, Ignacio","Barrera Casal, Facundo",""]
[null,"GRAL.LAVALLE (CP: 7103)","7103","GRAL.LAVALLE","BUENOS AIRES","METROPOLITANA","123","CESAR RONCARI",null,null,null,null,null,null,null,null,null,null,null,null,null,null,null,null,null,null,null,null,null,null,null,null,null,null,null,null,null,null,null,null,null,null,null,null,null,1836,"GARCIA VITALI HNOS SRL","TERCEROS","Reventa","PATAGONIA","9 DE JULIO Y RIVADAVIA",9040,"PERITO MORENO","LAGO BUENOS AIRES","SANTA CRUZ","30708890916","Sire, Juan","Peletay, Walter","Barreiro, Silvina",""]
[null,"GRAL.MADARIAGA (CP: 7163)","7163","GRAL.MADARIAGA","BUENOS AIRES","METROPOLITANA","123","CESAR RONCARI",null,null,null,null,null,null,null,null,null,null,null,null,null,null,null,null,null,null,null,null,null,null,null,null,null,null,null,null,null,null,null,null,null,null,null,null,null,1838,"VERMAZ SRL","TERCEROS","Consignado","PATAGONIA","25 DE MAYO Y GOBERNADOR GREGORES",9015,"PICO TRUNCADO","DESEADO","SANTA CRUZ","30673749190","Sire, Juan","Peletay, Walter","Barreiro, Silvina",""]
[null,"GRAL.PACHECO (CP: 1617)","1617","GRAL.PACHECO","BUENOS AIRES","METROPOLITANA","29","JOSE ANDRES MONDINO",null,null,null,null,null,null,null,null,null,null,null,null,null,null,null,null,null,null,null,null,null,null,null,null,null,null,null,null,null,null,null,null,null,null,null,null,null,1840,"OPESSA ACA PIEDRA DEL AGUILA","OPESSA","Consignado","PATAGONIA","RUTA NACIONAL 237 KM 1446 (Ascendente)",8231,"PIEDRA DEL AGUILA","COLLON CURA","NEUQUEN","30678774495","Otero, Sebastián","Maccari, Marcelo","Barreiro, Silvina","Sinatra, Saul"]
[null,"GRAL.PINTO (CP: 6050)","6050","GRAL.PINTO","BUENOS AIRES","METROPOLITANA",18,"OMAR PRESAS",null,null,null,null,null,null,null,null,null,null,null,null,null,null,null,null,null,null,null,null,null,null,null,null,null,null,null,null,null,null,null,null,null,null,null,null,null,1841,"VERMAZ SRL","TERCEROS","Consignado","PATAGONIA","AVENIDA GRAL SIMON BOLIVAR Y SAN MARTIN",9017,"LAS HERAS","DESEADO","SANTA CRUZ","30673749190","Sire, Juan","Peletay, Walter","Barreiro, Silvina",""]
[null,"GRAL.PIRAN (CP: 7172)","7172","GRAL.PIRAN","BUENOS AIRES","METROPOLITANA","123","CESAR RONCARI",null,null,null,null,null,null,null,null,null,null,null,null,null,null,null,null,null,null,null,null,null,null,null,null,null,null,null,null,null,null,null,null,null,null,null,null,null,1846,"SBARBATTI, FELICE Y MAGNO SA","TERCEROS","Consignado","PAMPEANA","RUTA NACIONAL 33 KM (Ascendente)",8170,"PIGUE","SAAVEDRA","BUENOS AIRES","30709409391","Perez, Pablo Alejandro","Fernandez, Mariano","Barrera Casal, Facundo",""]
[null,"GRAL.VIAMONTE (CP: 6015)","6015","GRAL.VIAMONTE","BUENOS AIRES","METROPOLITANA","29","JOSE ANDRES MONDINO",null,null,null,null,null,null,null,null,null,null,null,null,null,null,null,null,null,null,null,null,null,null,null,null,null,null,null,null,null,null,null,null,null,null,null,null,null,1847,"OPESSA ACA PINAMAR","OPESSA","Consignado","PAMPEANA","JASON Y JUPITER",7167,"PINAMAR","PINAMAR","BUENOS AIRES","30678774495","Del Dago, Gabriel","Gerino, Ignacio","Barrera Casal, Facundo","Urruspil, Ezequiel"]
[null,"GRAL.VILLEGA (CP: 6230)","6230","GRAL.VILLEGA","BUENOS AIRES","METROPOLITANA","123","CESAR RONCARI",null,null,null,null,null,null,null,null,null,null,null,null,null,null,null,null,null,null,null,null,null,null,null,null,null,null,null,null,null,null,null,null,null,null,null,null,null,1850,"BASES SA","TERCEROS","Consignado","PATAGONIA","AVENIDA SAN MARTIN",8318,"PLAZA HUINCUL","CONFLUENCIA","NEUQUEN","30588295385","Diacono, Juan Pablo","Maccari, Marcelo","Barreiro, Silvina",""]
[null,"GRAN BUENOS AIRES (CP: 99998)","99998","GRAN BUENOS AIRES","BUENOS AIRES","LOS VALLES","","",null,null,null,null,null,null,null,null,null,null,null,null,null,null,null,null,null,null,null,null,null,null,null,null,null,null,null,null,null,null,null,null,null,null,null,null,null,1851,"EL TRIANGULO SRL","TERCEROS","Consignado","PATAGONIA","BUENOS AIRES 201",8316,"PLOTTIER","CONFLUENCIA","NEUQUEN","30672652665","Linares, Roberto","Maccari, Marcelo","Barreiro, Silvina",""]
[null,"GRAND BOURG (CP: 1615)","1615","GRAND BOURG","BUENOS AIRES","METROPOLITANA","29","JOSE ANDRES MONDINO",null,null,null,null,null,null,null,null,null,null,null,null,null,null,null,null,null,null,null,null,null,null,null,null,null,null,null,null,null,null,null,null,null,null,null,null,null,1854,"OPESSA ACA PUERTO MADRYN","OPESSA","Consignado","PATAGONIA","MARCOS A ZAR 25 Y AVENIDA IRIGOYEN",9120,"PUERTO MADRYN","BIEDMA","CHUBUT","30678774495","Peralta, Gustavo","Maccari, Marcelo","Barreiro, Silvina","Sinatra, Saul"]
[null,"GRUNBEIN (CP: 8101)","8101","GRUNBEIN","BUENOS AIRES","METROPOLITANA",130,"CESAR RONCARI",null,null,null,null,null,null,null,null,null,null,null,null,null,null,null,null,null,null,null,null,null,null,null,null,null,null,null,null,null,null,null,null,null,null,null,null,null,1855,"ZANET SA","TERCEROS","Consignado","PATAGONIA","RUTA NACIONAL 3 KM (Ascendente)",9120,"PUERTO MADRYN","BIEDMA","CHUBUT","30712010009","Scolari, Dario","Peletay, Walter","Barreiro, Silvina",""]
[null,"GUAMINI (CP: 6435)","6435","GUAMINI","BUENOS AIRES","METROPOLITANA","123","CESAR RONCARI",null,null,null,null,null,null,null,null,null,null,null,null,null,null,null,null,null,null,null,null,null,null,null,null,null,null,null,null,null,null,null,null,null,null,null,null,null,1859,"ACA PUERTO PIRAMIDES","ACA","ACA","PATAGONIA","RUTA PROVINCIAL 2 KM 773 (Descendente)","9121A","PUERTO PIRAMIDES","BIEDMA","CHUBUT","30500143297","Scolari, Dario","Peletay, Walter","Barreiro, Silvina",""]
[null,"GUANACOS (CP: 6476)","6476","GUANACOS","BUENOS AIRES","METROPOLITANA","123","CESAR RONCARI",null,null,null,null,null,null,null,null,null,null,null,null,null,null,null,null,null,null,null,null,null,null,null,null,null,null,null,null,null,null,null,null,null,null,null,null,null,1860,"EL ALAMO S.R.L","TERCEROS","Consignado","PATAGONIA","AVENIDA CMDTE LUIS PIEDRABUENA Y SAN MARTIN",9310,"SAN JULIAN","MAGALLANES","SANTA CRUZ","30673537614","Sire, Juan","Peletay, Walter","Barreiro, Silvina",""]
[null,"GUERNICA (CP: 1862)","1862","GUERNICA","BUENOS AIRES","METROPOLITANA",31,"PABLO CIMINARI",null,null,null,null,null,null,null,null,null,null,null,null,null,null,null,null,null,null,null,null,null,null,null,null,null,null,null,null,null,null,null,null,null,null,null,null,null,1861,"CANAL DE BEAGLE SRL","TERCEROS","Consignado","PATAGONIA","AVENIDA ROCA Y CALLE 6",9300,"PUERTO SANTA CRUZ","CORPEN AIKE","SANTA CRUZ","30638317792","Sire, Juan","Peletay, Walter","Barreiro, Silvina",""]
[null,"GUERRICO (CP: 2717)","2717","GUERRICO","BUENOS AIRES","METROPOLITANA","29","JOSE ANDRES MONDINO",null,null,null,null,null,null,null,null,null,null,null,null,null,null,null,null,null,null,null,null,null,null,null,null,null,null,null,null,null,null,null,null,null,null,null,null,null,1862,"OPESSA ACA PUNTA ALTA","OPESSA","Consignado","PAMPEANA","ROSALES 21 Y COLON",8109,"PUNTA ALTA","CNEL DE MARINA L ROSALES","BUENOS AIRES","30678774495","Lindo Poisson, Ruben Ariel","Fernandez, Mariano","Barrera Casal, Facundo","Sinatra, Saul"]
[null,"GUILLERMO E HUDSON (CP: 1885)","1885","GUILLERMO E HUDSON","BUENOS AIRES","METROPOLITANA",31,"PABLO CIMINARI",null,null,null,null,null,null,null,null,null,null,null,null,null,null,null,null,null,null,null,null,null,null,null,null,null,null,null,null,null,null,null,null,null,null,null,null,null,1869,"VIENTOS DEL SUR SRL","TERCEROS","Consignado","PATAGONIA","ALTE BROWN Y FRAGATA SARMIENTO",9001,"RADA TILLY","ESCALANTE","CHUBUT","30643644858","Masciotra, Horacio","Peletay, Walter","Barreiro, Silvina",""]
[null,"HAEDO (CP: 1706)","1706","HAEDO","BUENOS AIRES","METROPOLITANA",18,"OMAR PRESAS",null,null,null,null,null,null,null,null,null,null,null,null,null,null,null,null,null,null,null,null,null,null,null,null,null,null,null,null,null,null,null,null,null,null,null,null,null,1872,"DUMON Y CIA SRL","TERCEROS","Consignado","PAMPEANA","AVENIDA GENERAL SAN MARTIN Y CASTELLI",7203,"RAUCH","RAUCH","BUENOS AIRES","30526472531","Del Dago, Gabriel","Gerino, Ignacio","Barrera Casal, Facundo",""]
[null,"HALE (CP: 6511)","6511","HALE","BUENOS AIRES","METROPOLITANA",31,"PABLO CIMINARI",null,null,null,null,null,null,null,null,null,null,null,null,null,null,null,null,null,null,null,null,null,null,null,null,null,null,null,null,null,null,null,null,null,null,null,null,null,1874,"DUMON Y CIA SRL","TERCEROS","Consignado","PAMPEANA","RUTA PROVINCIAL 30 KM (Descendente) Y DARDO ROCHA",7203,"RAUCH","RAUCH","BUENOS AIRES","30526472531","Del Dago, Gabriel","Gerino, Ignacio","Barrera Casal, Facundo",""]
[null,"HAM (CP: 6005)","6005","HAM","BUENOS AIRES","METROPOLITANA",18,"OMAR PRESAS",null,null,null,null,null,null,null,null,null,null,null,null,null,null,null,null,null,null,null,null,null,null,null,null,null,null,null,null,null,null,null,null,null,null,null,null,null,1876,"PAMPACER SA","TERCEROS","Consignado","PAMPEANA","PARAGUAY Y 2 DE MARZO",6200,"REALICO","REALICO","LA PAMPA","33654649559","Storm, Fernando","Fernandez, Mariano","Barrera Casal, Facundo",""]
[null,"HEAVY (CP: 6723)","6723","HEAVY","BUENOS AIRES","METROPOLITANA","29","JOSE ANDRES MONDINO",null,null,null,null,null,null,null,null,null,null,null,null,null,null,null,null,null,null,null,null,null,null,null,null,null,null,null,null,null,null,null,null,null,null,null,null,null,1877,"LG RINCON SRL","TERCEROS","Consignado","PATAGONIA","MOSCONI Y BUENOS AIRES",8319,"RINCON D.L.SAUCES","CONFLUENCIA","NEUQUEN","30709194611","Vincent, Adrián ","Maccari, Marcelo","Barreiro, Silvina",""]
[null,"HENDERSON (CP: 6465)","6465","HENDERSON","BUENOS AIRES","METROPOLITANA","123","CESAR RONCARI",null,null,null,null,null,null,null,null,null,null,null,null,null,null,null,null,null,null,null,null,null,null,null,null,null,null,null,null,null,null,null,null,null,null,null,null,null,1880,"LUIS ALONSO Y CIA CASA AZNARES","TERCEROS","Consignado","PATAGONIA","RUTA NACIONAL 22 KM 857 (Ascendente) Y ACCESO",8138,"RIO COLORADO","PICHI MAHUIDA","RIO NEGRO","30525753693","Peralta, Gustavo","Maccari, Marcelo","Barreiro, Silvina",""]
[null,"HILARIO ASCASUBI (CP: 8142)","8142","HILARIO ASCASUBI","BUENOS AIRES","METROPOLITANA",130,"CESAR RONCARI",null,null,null,null,null,null,null,null,null,null,null,null,null,null,null,null,null,null,null,null,null,null,null,null,null,null,null,null,null,null,null,null,null,null,null,null,null,1881,"ANGEL DE DIOS E HIJOS SA","TERCEROS","Consignado","PATAGONIA","PERITO MORENO Y ROCA",9400,"RIO GALLEGOS","GÜER AIKE","SANTA CRUZ","30562407177","Potes, Claudio Fernando","Peletay, Walter","Barreiro, Silvina",""]
[null,"HINOJO (CP: 7318)","7318","HINOJO","BUENOS AIRES","METROPOLITANA","123","CESAR RONCARI",null,null,null,null,null,null,null,null,null,null,null,null,null,null,null,null,null,null,null,null,null,null,null,null,null,null,null,null,null,null,null,null,null,null,null,null,null,1882,"LAS OLAS SRL","TERCEROS","Consignado","PATAGONIA","AVENIDA SAN MARTIN Y BUENOS AIRES",9400,"RIO GALLEGOS","GÜER AIKE","SANTA CRUZ","33710555619","Potes, Claudio Fernando","Peletay, Walter","Barreiro, Silvina",""]
[null,"HORTENSIA (CP: 6537)","6537","HORTENSIA","BUENOS AIRES","METROPOLITANA",31,"PABLO CIMINARI",null,null,null,null,null,null,null,null,null,null,null,null,null,null,null,null,null,null,null,null,null,null,null,null,null,null,null,null,null,null,null,null,null,null,null,null,null,1883,"SAN CRISTOBAL S.A.","TERCEROS","Consignado","PATAGONIA","ZAPIOLA Y ENTRE RIOS",9400,"RIO GALLEGOS","GÜER AIKE","SANTA CRUZ","30594858618","Potes, Claudio Fernando","Peletay, Walter","Barreiro, Silvina",""]
[null,"HUANGUELEN (CP: 7545)","7545","HUANGUELEN","BUENOS AIRES","METROPOLITANA","123","CESAR RONCARI",null,null,null,null,null,null,null,null,null,null,null,null,null,null,null,null,null,null,null,null,null,null,null,null,null,null,null,null,null,null,null,null,null,null,null,null,null,1884,"SAN CRISTOBAL SA","TERCEROS","Consignado","PATAGONIA","A J BARCK Y RUTA NACIONAL 3",9400,"RIO GALLEGOS","GÜER AIKE","SANTA CRUZ","30594858618","Potes, Claudio Fernando","Peletay, Walter","Barreiro, Silvina",""]
[null,"HUETEL (CP: 6511)","6511","HUETEL","BUENOS AIRES","METROPOLITANA",31,"PABLO CIMINARI",null,null,null,null,null,null,null,null,null,null,null,null,null,null,null,null,null,null,null,null,null,null,null,null,null,null,null,null,null,null,null,null,null,null,null,null,null,1885,"GUMERCINDO PACHECO SRL","TERCEROS","Consignado","PATAGONIA","AVENIDA GOB GREGORES Y LINIERS",9400,"RIO GALLEGOS","GÜER AIKE","SANTA CRUZ","30660226288","Potes, Claudio Fernando","Peletay, Walter","Barreiro, Silvina",""]
[null,"HURLINGHAM (CP: 1686)","1686","HURLINGHAM","BUENOS AIRES","METROPOLITANA",18,"OMAR PRESAS",null,null,null,null,null,null,null,null,null,null,null,null,null,null,null,null,null,null,null,null,null,null,null,null,null,null,null,null,null,null,null,null,null,null,null,null,null,1886,"AUTOSUR RIO GRANDE SA","TERCEROS","Consignado","PATAGONIA","ISLAS MALVINAS 830 Y CATAMARCA",9420,"RIO GRANDE","RIO GRANDE","TIERRA DEL FUEGO","30547067637","Potes, Claudio Fernando","Peletay, Walter","Barreiro, Silvina",""]
[null,"INDIO RICO (CP: 7501)","7501","INDIO RICO","BUENOS AIRES","METROPOLITANA","123","CESAR RONCARI",null,null,null,null,null,null,null,null,null,null,null,null,null,null,null,null,null,null,null,null,null,null,null,null,null,null,null,null,null,null,null,null,null,null,null,null,null,1887,"AUTOSUR RIO GRANDE SA","TERCEROS","Consignado","PATAGONIA","AVENIDA SAN MARTIN 519 Y RIVADAVIA",9420,"RIO GRANDE","RIO GRANDE","TIERRA DEL FUEGO","30547067637","Potes, Claudio Fernando","Peletay, Walter","Barreiro, Silvina",""]
[null,"INES INDART (CP: 2747)","2747","INES INDART","BUENOS AIRES","METROPOLITANA","29","JOSE ANDRES MONDINO",null,null,null,null,null,null,null,null,null,null,null,null,null,null,null,null,null,null,null,null,null,null,null,null,null,null,null,null,null,null,null,null,null,null,null,null,null,1888,"AUTOSUR RIO GRANDE SA","TERCEROS","Consignado","PATAGONIA","ELCANO 850 Y BELGRANO 1888",9420,"RIO GRANDE","RIO GRANDE","TIERRA DEL FUEGO","30547067637","Potes, Claudio Fernando","Peletay, Walter","Barreiro, Silvina",""]
[null,"ING JUAN ALLAN (CP: 1891)","1891","ING JUAN ALLAN","BUENOS AIRES","METROPOLITANA",31,"PABLO CIMINARI",null,null,null,null,null,null,null,null,null,null,null,null,null,null,null,null,null,null,null,null,null,null,null,null,null,null,null,null,null,null,null,null,null,null,null,null,null,1890,"FORCAS SRL","TERCEROS","Consignado","PATAGONIA","GRAL SAN MARTIN Y ROCA",9030,"RIO MAYO","RIO SENGUER","CHUBUT","30613328781","Masciotra, Horacio","Peletay, Walter","Barreiro, Silvina",""]
[null,"ING ROMULO OTAMENDI (CP: 2802)","2802","ING ROMULO OTAMENDI","BUENOS AIRES","METROPOLITANA","29","JOSE ANDRES MONDINO",null,null,null,null,null,null,null,null,null,null,null,null,null,null,null,null,null,null,null,null,null,null,null,null,null,null,null,null,null,null,null,null,null,null,null,null,null,1891,"GARCIA LILIAN BEATRIZ, GARCIA ANA MARIA, GAUTO ARGUELLO FULVIA LIDUVINA SH","TERCEROS","Consignado","PATAGONIA","TENIENTE A DEL CASTILLO E IRIGOYEN",9407,"RIO TURBIO","GÜER AIKE","SANTA CRUZ","30708282398","Potes, Claudio Fernando","Peletay, Walter","Barreiro, Silvina",""]
[null,"ING WHITE (CP: 8103)","8103","ING WHITE","BUENOS AIRES","METROPOLITANA",130,"CESAR RONCARI",null,null,null,null,null,null,null,null,null,null,null,null,null,null,null,null,null,null,null,null,null,null,null,null,null,null,null,null,null,null,null,null,null,null,null,null,null,1894,"DAMATO DE AYAIL ILDA Y DAMATO ENOL SH","TERCEROS","Reventa","PAMPEANA","RIVADAVIA Y AMEGHINO",6075,"ROBERTS","LINCOLN","BUENOS AIRES","30629121362","Tempone, Irene ","Gerino, Ignacio","Barrera Casal, Facundo",""]
[null,"ING. ADOLFO SOURDEAUX (CP: 1612)","1612","ING. ADOLFO SOURDEAUX","BUENOS AIRES","METROPOLITANA","29","JOSE ANDRES MONDINO",null,null,null,null,null,null,null,null,null,null,null,null,null,null,null,null,null,null,null,null,null,null,null,null,null,null,null,null,null,null,null,null,null,null,null,null,null,1897,"PETROCELA SA","TERCEROS","Consignado","BUENOS AIRES","RUTA NACIONAL 188 KM 110.300 (Descendente) Y ACCESO PRINCIPAL A ROJAS",2705,"ROJAS","ROJAS","BUENOS AIRES","30697445613","Mahon, Nicolas","Brena, Marcelo","Barruti, Francisco",""]
[null,"ING.TH0MPS0N (CP: 6337)","6337","ING.TH0MPS0N","BUENOS AIRES","METROPOLITANA","123","CESAR RONCARI",null,null,null,null,null,null,null,null,null,null,null,null,null,null,null,null,null,null,null,null,null,null,null,null,null,null,null,null,null,null,null,null,null,null,null,null,null,1901,"JORGE O FERREIRO SRL","TERCEROS","Consignado","PAMPEANA","ITALIA Y UNZUE",6339,"SALLIQUELO","SALLIQUELO","BUENOS AIRES","30664669125","Perez, Pablo Alejandro","Fernandez, Mariano","Barrera Casal, Facundo",""]
[null,"INGENIERO BUDGE (CP: 1773)","1773","INGENIERO BUDGE","BUENOS AIRES","METROPOLITANA",18,"OMAR PRESAS",null,null,null,null,null,null,null,null,null,null,null,null,null,null,null,null,null,null,null,null,null,null,null,null,null,null,null,null,null,null,null,null,null,null,null,null,null,1903,"LA 251 SRL","TERCEROS","Consignado","PATAGONIA","RUTA NACIONAL 3 KM (Ascendente) Y RUTA NAC 251",8520,"SAN ANTONIO OESTE","SAN ANTONIO","RIO NEGRO","30660535256","Peralta, Gustavo","Maccari, Marcelo","Barreiro, Silvina",""]
[null,"INGENIERO MASCHWITZ (CP: 1623)","1623","INGENIERO MASCHWITZ","BUENOS AIRES","METROPOLITANA","29","JOSE ANDRES MONDINO",null,null,null,null,null,null,null,null,null,null,null,null,null,null,null,null,null,null,null,null,null,null,null,null,null,null,null,null,null,null,null,null,null,null,null,null,null,1908,"OPESSA ACA BARILOCHE","OPESSA","Consignado","PATAGONIA","AVENIDA 12 DE OCTUBRE Y OTTO GOEDECKE",8400,"BARILOCHE","BARILOCHE","RIO NEGRO","30678774495","Otero, Sebastián","Maccari, Marcelo","Barreiro, Silvina","Sinatra, Saul"]
[null,"IRALA (CP: 6013)","6013","IRALA","BUENOS AIRES","METROPOLITANA","29","JOSE ANDRES MONDINO",null,null,null,null,null,null,null,null,null,null,null,null,null,null,null,null,null,null,null,null,null,null,null,null,null,null,null,null,null,null,null,null,null,null,null,null,null,1909,"EL REENCUENTRO SRL","TERCEROS","Consignado","PATAGONIA","AVENIDA DE LOS PIONEROS 883 KM.1",8400,"BARILOCHE","BARILOCHE","RIO NEGRO","30715140485","Otero, Sebastián","Maccari, Marcelo","Barreiro, Silvina",""]
[null,"IRAOLA (CP: 7009)","7009","IRAOLA","BUENOS AIRES","METROPOLITANA","123","CESAR RONCARI",null,null,null,null,null,null,null,null,null,null,null,null,null,null,null,null,null,null,null,null,null,null,null,null,null,null,null,null,null,null,null,null,null,null,null,null,null,1910,"OPESSA BARILOCHE","OPESSA","Consignado","PATAGONIA","MORENO 19 Y MORALES",8400,"BARILOCHE","BARILOCHE","RIO NEGRO","30678774495","Otero, Sebastián","Maccari, Marcelo","Barreiro, Silvina","Sinatra, Saul"]
[null,"IRENEO PORTELA (CP: 2943)","2943","IRENEO PORTELA","BUENOS AIRES","METROPOLITANA","29","JOSE ANDRES MONDINO",null,null,null,null,null,null,null,null,null,null,null,null,null,null,null,null,null,null,null,null,null,null,null,null,null,null,null,null,null,null,null,null,null,null,null,null,null,1913,"CHITCHIAN SA","TERCEROS","Consignado","PATAGONIA","AVENIDA BUSTILLOS Y MICHAY",8400,"BARILOCHE","BARILOCHE","RIO NEGRO","30594832783","Otero, Sebastián","Maccari, Marcelo","Barreiro, Silvina",""]
[null,"IRIARTE (CP: 6042)","6042","IRIARTE","BUENOS AIRES","METROPOLITANA",18,"OMAR PRESAS",null,null,null,null,null,null,null,null,null,null,null,null,null,null,null,null,null,null,null,null,null,null,null,null,null,null,null,null,null,null,null,null,null,null,null,null,null,1917,"ACA SAN CAYETANO","ACA","ACA","PAMPEANA","RUTA PROVINCIAL 75 KM (Ascendente) Y INDEPENDENCIA",7521,"SAN CAYETANO","SAN CAYETANO","BUENOS AIRES","30500143297","Aramburu, Diego","Gerino, Ignacio","Barrera Casal, Facundo",""]
[null,"ISIDRO CASANOVA (CP: 1765)","1765","ISIDRO CASANOVA","BUENOS AIRES","METROPOLITANA",18,"OMAR PRESAS",null,null,null,null,null,null,null,null,null,null,null,null,null,null,null,null,null,null,null,null,null,null,null,null,null,null,null,null,null,null,null,null,null,null,null,null,null,1919,"ACA SAN CLEMENTE DEL TUYU","ACA","ACA","PAMPEANA","CALLE 18 Y CALLE 19",7105,"SAN C.DEL TUYU","LA COSTA","BUENOS AIRES","30500143297","Del Dago, Gabriel","Gerino, Ignacio","Barrera Casal, Facundo",""]
[null,"ISLA PAULINO (CP: 1923)","1923","ISLA PAULINO","BUENOS AIRES","METROPOLITANA",31,"PABLO CIMINARI",null,null,null,null,null,null,null,null,null,null,null,null,null,null,null,null,null,null,null,null,null,null,null,null,null,null,null,null,null,null,null,null,null,null,null,null,null,1920,"PEREZ CARMEN BEATRIZ","TERCEROS","Consignado","PAMPEANA","AVENIDA TALAS DEL TUYU Y CALLE 72",7105,"SAN C.DEL TUYU","LA COSTA","BUENOS AIRES","27045087579","Del Dago, Gabriel","Gerino, Ignacio","Barrera Casal, Facundo",""]
[null,"ISLAS (CP: 6667)","6667","ISLAS","BUENOS AIRES","METROPOLITANA",18,"OMAR PRESAS",null,null,null,null,null,null,null,null,null,null,null,null,null,null,null,null,null,null,null,null,null,null,null,null,null,null,null,null,null,null,null,null,null,null,null,null,null,1923,"ACA SAN MARTIN DE LOS ANDES","ACA","ACA","PATAGONIA","AVENIDA KOESSLER 2175",8370,"SAN MARTIN DE LOS ANDES","LACAR","NEUQUEN","30500143297","Diacono, Juan Pablo","Maccari, Marcelo","Barreiro, Silvina",""]
[null,{"$f":"CONCATENATE(D771,\" (CP: \",C771,\")\")","v":"ITUZAINGO (CP: 1714)"},"1714","ITUZAINGO","BUENOS AIRES","METROPOLITANA",18,"OMAR PRESAS",null,null,null,null,null,null,null,null,null,null,null,null,null,null,null,null,null,null,null,null,null,null,null,null,null,null,null,null,null,null,null,null,null,null,null,null,null,1924,"LA VEGA SA","TERCEROS","Consignado","PATAGONIA","RUTA NACIONAL 234 KM (Ascendente) Y AVENIDA SAN MARTIN",8370,"SAN MARTIN DE LOS ANDES","LACAR","NEUQUEN","30631308909","Diacono, Juan Pablo","Maccari, Marcelo","Barreiro, Silvina",""]
[null,"JAUREGUI (CP: 6706)","6706","JAUREGUI","BUENOS AIRES","METROPOLITANA","29","JOSE ANDRES MONDINO",null,null,null,null,null,null,null,null,null,null,null,null,null,null,null,null,null,null,null,null,null,null,null,null,null,null,null,null,null,null,null,null,null,null,null,null,null,1925,"OPESSA SAN MARTIN DE LOS ANDES","OPESSA","Consignado","PATAGONIA","AVENIDA KOESSLER Y CURRUHUINCA",8370,"SAN MARTIN DE LOS ANDES","LACAR","NEUQUEN","30678774495","Otero, Sebastián","Maccari, Marcelo","Barreiro, Silvina","Sinatra, Saul"]
[null,"JEPPENER (CP: 1986)","1986","JEPPENER","BUENOS AIRES","METROPOLITANA",31,"PABLO CIMINARI",null,null,null,null,null,null,null,null,null,null,null,null,null,null,null,null,null,null,null,null,null,null,null,null,null,null,null,null,null,null,null,null,null,null,null,null,null,1926,"ACA SAN SEBASTIAN","ACA","ACA","PATAGONIA","RUTA NACIONAL 3 KM (Ascendente) Y COMP. I","9420A","SAN SEBASTIAN","RIO GRANDE","TIERRA DEL FUEGO","30500143297","Potes, Claudio Fernando","Peletay, Walter","Barreiro, Silvina",""]
[null,"JOSE A.GUISASOLA (CP: 8156)","8156","JOSE A.GUISASOLA","BUENOS AIRES","METROPOLITANA","123","CESAR RONCARI",null,null,null,null,null,null,null,null,null,null,null,null,null,null,null,null,null,null,null,null,null,null,null,null,null,null,null,null,null,null,null,null,null,null,null,null,null,1927,"ACA SANTA CLARA DEL MAR","ACA","ACA","PAMPEANA","ATLANTIDA Y CHIPRE",7609,"STA.CLARA DEL MAR","MAR CHIQUITA","BUENOS AIRES","30500143297","Urrutia, Javier","Gerino, Ignacio","Barrera Casal, Facundo",""]
[null,"JOSE C.PAZ (CP: 1665)","1665","JOSE C.PAZ","BUENOS AIRES","METROPOLITANA","29","JOSE ANDRES MONDINO",null,null,null,null,null,null,null,null,null,null,null,null,null,null,null,null,null,null,null,null,null,null,null,null,null,null,null,null,null,null,null,null,null,null,null,null,null,1930,"OPESSA ACA SANTA ROSA","OPESSA","Consignado","PAMPEANA","AVENIDA SAN MARTIN Y CORONEL GIL",6300,"SANTA ROSA","LA PAMPA CAPITAL","LA PAMPA","30678774495","Storm, Fernando","Fernandez, Mariano","Barrera Casal, Facundo","Abrahamsohn, Claudio"]
[null,"JOSE FERRARI (CP: 1905)","1905","JOSE FERRARI","BUENOS AIRES","METROPOLITANA",31,"PABLO CIMINARI",null,null,null,null,null,null,null,null,null,null,null,null,null,null,null,null,null,null,null,null,null,null,null,null,null,null,null,null,null,null,null,null,null,null,null,null,null,1931,"ACA SANTA ROSA","ACA","ACA","PAMPEANA","RUTA NACIONAL 35 KM (Descendente)",6300,"SANTA ROSA","LA PAMPA CAPITAL","LA PAMPA","30500143297","Storm, Fernando","Fernandez, Mariano","Barrera Casal, Facundo",""]
[null,"JOSE INGENIEROS (CP: 1702)","1702","JOSE INGENIEROS","BUENOS AIRES","METROPOLITANA",18,"OMAR PRESAS",null,null,null,null,null,null,null,null,null,null,null,null,null,null,null,null,null,null,null,null,null,null,null,null,null,null,null,null,null,null,null,null,null,null,null,null,null,1932,"CARLOS GADEA E HIJOS SA","TERCEROS","Consignado","PAMPEANA","BARTOLOME MITRE Y LEANDRO N ALEM",6300,"SANTA ROSA","LA PAMPA CAPITAL","LA PAMPA","30530468131","Storm, Fernando","Fernandez, Mariano","Barrera Casal, Facundo",""]
[null,"JOSE INGENIEROS (CP: 1778)","1778","JOSE INGENIEROS","BUENOS AIRES","METROPOLITANA",18,"OMAR PRESAS",null,null,null,null,null,null,null,null,null,null,null,null,null,null,null,null,null,null,null,null,null,null,null,null,null,null,null,null,null,null,null,null,null,null,null,null,null,1933,"CARLOS GADEA E HIJOS SA","TERCEROS","Consignado","PAMPEANA","RUTA NACIONAL 5 KM 606 (Ascendente)",6300,"SANTA ROSA","LA PAMPA CAPITAL","LA PAMPA","30530468131","Storm, Fernando","Fernandez, Mariano","Barrera Casal, Facundo",""]
[null,"JOSE LEON SUAREZ (CP: 1655)","1655","JOSE LEON SUAREZ","BUENOS AIRES","METROPOLITANA",18,"OMAR PRESAS",null,null,null,null,null,null,null,null,null,null,null,null,null,null,null,null,null,null,null,null,null,null,null,null,null,null,null,null,null,null,null,null,null,null,null,null,null,1934,"GRUPO NORTE SRL","TERCEROS","Consignado","PAMPEANA","AVENIDA RAUL B DIAZ Y 1° DE MAYO",6300,"SANTA ROSA","LA PAMPA CAPITAL","LA PAMPA","30671637689","Storm, Fernando","Fernandez, Mariano","Barrera Casal, Facundo",""]
[null,"JOSE MARMOL (CP: 1846)","1846","JOSE MARMOL","BUENOS AIRES","METROPOLITANA",31,"PABLO CIMINARI",null,null,null,null,null,null,null,null,null,null,null,null,null,null,null,null,null,null,null,null,null,null,null,null,null,null,null,null,null,null,null,null,null,null,null,null,null,1935,"PETROCAPITAL SRL","TERCEROS","Consignado","PAMPEANA","RUTA NACIONAL 35 KM 328.500 (Descendente)",6300,"SANTA ROSA","LA PAMPA CAPITAL","LA PAMPA","30671677397","Storm, Fernando","Fernandez, Mariano","Barrera Casal, Facundo",""]
[null,"JUAN BAUT.ALBERDI (CP: 6034)","6034","JUAN BAUT.ALBERDI","BUENOS AIRES","METROPOLITANA",18,"OMAR PRESAS",null,null,null,null,null,null,null,null,null,null,null,null,null,null,null,null,null,null,null,null,null,null,null,null,null,null,null,null,null,null,null,null,null,null,null,null,null,1936,"PETROLURO SA","TERCEROS","Consignado","PAMPEANA","ENTRE RIOS Y AVENIDA AGUSTIN SPINETTO",6300,"SANTA ROSA","LA PAMPA CAPITAL","LA PAMPA","30551620855","Storm, Fernando","Fernandez, Mariano","Barrera Casal, Facundo",""]
[null,"JUAN E BARRA (CP: 7517)","7517","JUAN E BARRA","BUENOS AIRES","METROPOLITANA","123","CESAR RONCARI",null,null,null,null,null,null,null,null,null,null,null,null,null,null,null,null,null,null,null,null,null,null,null,null,null,null,null,null,null,null,null,null,null,null,null,null,null,1937,"GRUPO NORTE SRL","TERCEROS","Consignado","PAMPEANA","RUTA NACIONAL 35 KM (Ascendente)",6300,"SANTA ROSA","LA PAMPA CAPITAL","LA PAMPA","30671637689","Storm, Fernando","Fernandez, Mariano","Barrera Casal, Facundo",""]
[null,"JUAN F IBARRA (CP: 6551)","6551","JUAN F IBARRA","BUENOS AIRES","METROPOLITANA","123","CESAR RONCARI",null,null,null,null,null,null,null,null,null,null,null,null,null,null,null,null,null,null,null,null,null,null,null,null,null,null,null,null,null,null,null,null,null,null,null,null,null,1938,"FREIDENBERG LEONARDO","TERCEROS","Consignado","PAMPEANA","AVENIDA 32 Y RUTA 11 - INTERBALNEARIA","7107A","SANTA TERESITA","LA COSTA","BUENOS AIRES","20042839338","Del Dago, Gabriel","Gerino, Ignacio","Barrera Casal, Facundo",""]
[null,"JUAN G. PUJOL (CP: 2909)","2909","JUAN G. PUJOL","BUENOS AIRES","METROPOLITANA","29","JOSE ANDRES MONDINO",null,null,null,null,null,null,null,null,null,null,null,null,null,null,null,null,null,null,null,null,null,null,null,null,null,null,null,null,null,null,null,null,null,null,null,null,null,1941,"ACA SARMIENTO","ACA","ACA","PATAGONIA","RUTA PROVINCIAL 20 KM 144 (Ascendente)",9020,"SARMIENTO","ESCALANTE","CHUBUT","30500143297","Masciotra, Horacio","Peletay, Walter","Barreiro, Silvina",""]
[null,"JUAN JOSE PASO (CP: 6474)","6474","JUAN JOSE PASO","BUENOS AIRES","METROPOLITANA","123","CESAR RONCARI",null,null,null,null,null,null,null,null,null,null,null,null,null,null,null,null,null,null,null,null,null,null,null,null,null,null,null,null,null,null,null,null,null,null,null,null,null,1944,"LLADO GASTON PABLO","TERCEROS","Consignado","PAMPEANA","SAN MARTIN Y SARMIENTO",8168,"SIE.D.L.VENTANA","TORNQUIST","BUENOS AIRES","20223085793","Perez, Pablo Alejandro","Fernandez, Mariano","Barrera Casal, Facundo",""]
[null,"JUAN MARIA GUTIERREZ (CP: 1890)","1890","JUAN MARIA GUTIERREZ","BUENOS AIRES","METROPOLITANA",31,"PABLO CIMINARI",null,null,null,null,null,null,null,null,null,null,null,null,null,null,null,null,null,null,null,null,null,null,null,null,null,null,null,null,null,null,null,null,null,null,null,null,null,1945,"ACA SIERRA GRANDE","ACA","ACA","PATAGONIA","RUTA NACIONAL 3 KM 1268 (Ascendente)",8532,"SIERRA GRANDE","#ORQUINCO","RIO NEGRO","30500143297","Scolari, Dario","Peletay, Walter","Barreiro, Silvina",""]
[null,"JUAN N.FERNANDEZ (CP: 7011)","7011","JUAN N.FERNANDEZ","BUENOS AIRES","METROPOLITANA","123","CESAR RONCARI",null,null,null,null,null,null,null,null,null,null,null,null,null,null,null,null,null,null,null,null,null,null,null,null,null,null,null,null,null,null,null,null,null,null,null,null,null,1947,"ZITO Y PRIOLA SRL","TERCEROS","Consignado","PAMPEANA","CALLE 10 Y CALLE 50","7403A","SIERRAS BAYAS","OLAVARRIA","BUENOS AIRES","30711820279","Aramburu, Diego","Gerino, Ignacio","Barrera Casal, Facundo",""]
[null,"JUNIN (CP: 6000)","6000","JUNIN","BUENOS AIRES","METROPOLITANA","29","JOSE ANDRES MONDINO",null,null,null,null,null,null,null,null,null,null,null,null,null,null,null,null,null,null,null,null,null,null,null,null,null,null,null,null,null,null,null,null,null,null,null,null,null,1950,"ACA TANDIL","ACA","ACA","PAMPEANA","GRAL MANUEL BELGRANO Y RODRIGUEZ",7000,"TANDIL","TANDIL","BUENOS AIRES","30500143297","Di Santo, Julio","Fernandez, Mariano","Barrera Casal, Facundo",""]
[null,"KILOMETRO 404 (CP: 7005)","7005","KILOMETRO 404","BUENOS AIRES","METROPOLITANA","123","CESAR RONCARI",null,null,null,null,null,null,null,null,null,null,null,null,null,null,null,null,null,null,null,null,null,null,null,null,null,null,null,null,null,null,null,null,null,null,null,null,null,1951,"PETROTANDIL SACIEI","TERCEROS","Consignado","PAMPEANA","AVENIDA ARISTOBULO DEL VALLE Y FIGUEROA",7000,"TANDIL","TANDIL","BUENOS AIRES","30535230842","Di Santo, Julio","Fernandez, Mariano","Barrera Casal, Facundo",""]
[null,"KILOMETRO 8 (CP: 8122)","8122","KILOMETRO 8","BUENOS AIRES","METROPOLITANA",130,"CESAR RONCARI",null,null,null,null,null,null,null,null,null,null,null,null,null,null,null,null,null,null,null,null,null,null,null,null,null,null,null,null,null,null,null,null,null,null,null,null,null,1955,"PETROGAS TANDIL SA","TERCEROS","Consignado","PAMPEANA","RUTA NACIONAL 226 KM 165.500 (Ascendente) Y LAS MALVINAS",7000,"TANDIL","TANDIL","BUENOS AIRES","30642146501","Di Santo, Julio","Fernandez, Mariano","Barrera Casal, Facundo",""]
[null,"L. DE MARILO (CP: 1744)","1744","L. DE MARILO","BUENOS AIRES","METROPOLITANA",18,"OMAR PRESAS",null,null,null,null,null,null,null,null,null,null,null,null,null,null,null,null,null,null,null,null,null,null,null,null,null,null,null,null,null,null,null,null,null,null,null,null,null,1956,"OPESSA TANDIL II","OPESSA","Consignado","PAMPEANA","AVENIDA DR NICOLAS AVELLANEDA Y BOLIVAR",7000,"TANDIL","TANDIL","BUENOS AIRES","30678774495","Di Santo, Julio","Fernandez, Mariano","Barrera Casal, Facundo","Urruspil, Ezequiel"]
[null,"L.N.ALEM (CP: 6032)","6032","L.N.ALEM","BUENOS AIRES","METROPOLITANA",18,"OMAR PRESAS",null,null,null,null,null,null,null,null,null,null,null,null,null,null,null,null,null,null,null,null,null,null,null,null,null,null,null,null,null,null,null,null,null,null,null,null,null,1958,"PETROESTE DE ESTIVIL Y CIA SH","TERCEROS","Consignado","PAMPEANA","AVENIDA L N ALEM Y FLORIDA",8000,"BAHIA BLANCA","BAHIA BLANCA","BUENOS AIRES","30707006575","Lindo Poisson, Ruben Ariel","Fernandez, Mariano","Barrera Casal, Facundo",""]
[null,"LA AGRARIA (CP: 6000)","6000","LA AGRARIA","BUENOS AIRES","METROPOLITANA","29","JOSE ANDRES MONDINO",null,null,null,null,null,null,null,null,null,null,null,null,null,null,null,null,null,null,null,null,null,null,null,null,null,null,null,null,null,null,null,null,null,null,null,null,null,1961,"ZARATE EDUARDO JOSE","TERCEROS","Consignado","PAMPEANA","RUTA NACIONAL 51 KM 270 (Descendente)",7303,"TAPALQUE","TAPALQUE","BUENOS AIRES","20166266328","Astaburuaga, Jose Martin ","Gerino, Ignacio","Barrera Casal, Facundo",""]
[null,"LA AURORA (CP: 6513)","6513","LA AURORA","BUENOS AIRES","METROPOLITANA",31,"PABLO CIMINARI",null,null,null,null,null,null,null,null,null,null,null,null,null,null,null,null,null,null,null,null,null,null,null,null,null,null,null,null,null,null,null,null,null,null,null,null,null,1962,"MATEO JOSE LUIS","TERCEROS","Consignado","PATAGONIA","SOLDADO AUSTIN Y GUEMES S/N°",9201,"TEKCA","LANGUI#EO","CHUBUT","20076155268","Otero, Sebastián","Maccari, Marcelo","Barreiro, Silvina",""]
[null,"LA AZUCENA (CP: 7005)","7005","LA AZUCENA","BUENOS AIRES","METROPOLITANA","123","CESAR RONCARI",null,null,null,null,null,null,null,null,null,null,null,null,null,null,null,null,null,null,null,null,null,null,null,null,null,null,null,null,null,null,null,null,null,null,null,null,null,1963,"PETRO-TOAY SA","TERCEROS","Consignado","PAMPEANA","AVENIDA PERON Y AVENIDA DEL TRABAJO",6303,"TOAY","TOAY","LA PAMPA","30711067287","Storm, Fernando","Fernandez, Mariano","Barrera Casal, Facundo",""]
[null,"LA COLINA (CP: 7408)","7408","LA COLINA","BUENOS AIRES","METROPOLITANA","123","CESAR RONCARI",null,null,null,null,null,null,null,null,null,null,null,null,null,null,null,null,null,null,null,null,null,null,null,null,null,null,null,null,null,null,null,null,null,null,null,null,null,1965,"SCHAFFNER CARLOS ALBERTO Y NESTOR RUBEN","TERCEROS","Consignado","PAMPEANA","AVENIDA 9 DE JULIO Y MORENO",8160,"TORNQUIST","TORNQUIST","BUENOS AIRES","30708320664","Perez, Pablo Alejandro","Fernandez, Mariano","Barrera Casal, Facundo",""]
[null,"LA CONSTANCIA (CP: 7153)","7153","LA CONSTANCIA","BUENOS AIRES","METROPOLITANA","123","CESAR RONCARI",null,null,null,null,null,null,null,null,null,null,null,null,null,null,null,null,null,null,null,null,null,null,null,null,null,null,null,null,null,null,null,null,null,null,null,null,null,1968,"LAFECOM SRL","TERCEROS","Consignado","BUENOS AIRES","AVENIDA ANTARTIDA ARGENTINA 7191",1757,"LA FERRERE","LA MATANZA","BUENOS AIRES","30687091295","Marincolo, Fernando","Emanuel, Adrian Fabio","Barruti, Francisco",""]
[null,"LA DORITA (CP: 6538)","6538","LA DORITA","BUENOS AIRES","METROPOLITANA",31,"PABLO CIMINARI",null,null,null,null,null,null,null,null,null,null,null,null,null,null,null,null,null,null,null,null,null,null,null,null,null,null,null,null,null,null,null,null,null,null,null,null,null,1970,"ACA TRELEW","ACA","ACA","PATAGONIA","AVENIDA FONTANA Y SAN MARTIN",9100,"TRELEW","RAWSON","CHUBUT","30500143297","Scolari, Dario","Peletay, Walter","Barreiro, Silvina",""]
[null,"LA DULCE (CP: 7637)","7637","LA DULCE","BUENOS AIRES","METROPOLITANA","123","CESAR RONCARI",null,null,null,null,null,null,null,null,null,null,null,null,null,null,null,null,null,null,null,null,null,null,null,null,null,null,null,null,null,null,null,null,null,null,null,null,null,1971,"PETROTRELEW SA","TERCEROS","Consignado","PATAGONIA","25 DE MAYO 501 Y A P BELL",9100,"TRELEW","RAWSON","CHUBUT","30708081961","Scolari, Dario","Peletay, Walter","Barreiro, Silvina",""]
[null,"LA EMILIA (CP: 2901)","2901","LA EMILIA","BUENOS AIRES","METROPOLITANA","29","JOSE ANDRES MONDINO",null,null,null,null,null,null,null,null,null,null,null,null,null,null,null,null,null,null,null,null,null,null,null,null,null,null,null,null,null,null,null,null,null,null,null,null,null,1972,"PETROTRELEW SA","TERCEROS","Consignado","PATAGONIA","AVENIDA CDAD DE LA PLATA Y GUEMES",9100,"TRELEW","RAWSON","CHUBUT","30708081961","Scolari, Dario","Peletay, Walter","Barreiro, Silvina",""]
[null,"LA ESPERANZA ROSAS LAS F (CP: 7205)","7205","LA ESPERANZA ROSAS LAS F","BUENOS AIRES","METROPOLITANA","123","CESAR RONCARI",null,null,null,null,null,null,null,null,null,null,null,null,null,null,null,null,null,null,null,null,null,null,null,null,null,null,null,null,null,null,null,null,null,null,null,null,null,1973,"ESTACION DE SERVICIO ESA SRL","TERCEROS","Consignado","PATAGONIA","RIVADAVIA 560 E INMIGRANTES",9100,"TRELEW","RAWSON","CHUBUT","30596361397","Scolari, Dario","Peletay, Walter","Barreiro, Silvina",""]
[null,"LA FERRERE (CP: 1757)","1757","LA FERRERE","BUENOS AIRES","METROPOLITANA",18,"OMAR PRESAS",null,null,null,null,null,null,null,null,null,null,null,null,null,null,null,null,null,null,null,null,null,null,null,null,null,null,null,null,null,null,null,null,null,null,null,null,null,1975,"OPESSA TRELEW","OPESSA","Consignado","PATAGONIA","AVENIDA HIPOLITO YRIGOYEN Y MARIA HUMPHREYS",9100,"TRELEW","RAWSON","CHUBUT","30678774495","Peralta, Gustavo","Maccari, Marcelo","Barreiro, Silvina","Sinatra, Saul"]
[null,"LA LIMPIA (CP: 6645)","6645","LA LIMPIA","BUENOS AIRES","METROPOLITANA",18,"OMAR PRESAS",null,null,null,null,null,null,null,null,null,null,null,null,null,null,null,null,null,null,null,null,null,null,null,null,null,null,null,null,null,null,null,null,null,null,null,null,null,1979,"OPESSA ACA TRENQUE LAUQUEN","OPESSA","Consignado","PAMPEANA","RUTA NACIONAL 5 KM 451 (Ascendente) Y RUTA NAC 33",6400,"TRENQUE LAUQUEN","TRENQUE LAUQUEN","BUENOS AIRES","30678774495","Tempone, Irene ","Gerino, Ignacio","Barrera Casal, Facundo","Ferrando, Damián Andres"]
[null,"LA LUCILA (CP: 1636)","1636","LA LUCILA","BUENOS AIRES","METROPOLITANA","29","JOSE ANDRES MONDINO",null,null,null,null,null,null,null,null,null,null,null,null,null,null,null,null,null,null,null,null,null,null,null,null,null,null,null,null,null,null,null,null,null,null,null,null,null,1980,"DON PACO COMBUSTIBLES SRL","TERCEROS","Consignado","PAMPEANA","ROCA Y ORO",6400,"TRENQUE LAUQUEN","TRENQUE LAUQUEN","BUENOS AIRES","30711075050","Tempone, Irene ","Gerino, Ignacio","Barrera Casal, Facundo",""]
[null,"LA LUISA (CP: 2752)","2752","LA LUISA","BUENOS AIRES","METROPOLITANA","29","JOSE ANDRES MONDINO",null,null,null,null,null,null,null,null,null,null,null,null,null,null,null,null,null,null,null,null,null,null,null,null,null,null,null,null,null,null,null,null,null,null,null,null,null,1981,"OPESSA ACA OPELAUQUEN","OPESSA","Consignado","PAMPEANA","RUTA NACIONAL 5 KM 446 (Descendente)",6400,"TRENQUE LAUQUEN","TRENQUE LAUQUEN","BUENOS AIRES","30678774495","Tempone, Irene ","Gerino, Ignacio","Barrera Casal, Facundo","Ferrando, Damián Andres"]
[null,"LA LUISA (CP: 2754)","2754","LA LUISA","BUENOS AIRES","METROPOLITANA","29","JOSE ANDRES MONDINO",null,null,null,null,null,null,null,null,null,null,null,null,null,null,null,null,null,null,null,null,null,null,null,null,null,null,null,null,null,null,null,null,null,null,null,null,null,1982,"PETROGUAZZ SA","TERCEROS","Consignado","PAMPEANA","SAN MARTIN Y MITRE",6400,"TRENQUE LAUQUEN","TRENQUE LAUQUEN","BUENOS AIRES","30707835938","Tempone, Irene ","Gerino, Ignacio","Barrera Casal, Facundo",""]
[null,"LA NIÑA (CP: 6513)","6513","LA NIÑA","BUENOS AIRES","METROPOLITANA",31,"PABLO CIMINARI",null,null,null,null,null,null,null,null,null,null,null,null,null,null,null,null,null,null,null,null,null,null,null,null,null,null,null,null,null,null,null,null,null,null,null,null,null,1984,"OPESSA ACA LAVALLE","OPESSA","Consignado","PAMPEANA","COLON Y LAVALLE",7500,"TRES ARROYOS","TRES ARROYOS","BUENOS AIRES","30678774495","Aramburu, Diego","Gerino, Ignacio","Barrera Casal, Facundo","Urruspil, Ezequiel"]
[null,"LA NORIA (CP: 1814)","1814","LA NORIA","BUENOS AIRES","METROPOLITANA",31,"PABLO CIMINARI",null,null,null,null,null,null,null,null,null,null,null,null,null,null,null,null,null,null,null,null,null,null,null,null,null,null,null,null,null,null,null,null,null,null,null,null,null,1993,"ZANDEGIACOMI EDUARDO EMILIO","TERCEROS","Consignado","PAMPEANA","AVENIDA BERNARDINO RIVADAVIA 675",6553,"URDAMPILLETA","BOLIVAR","BUENOS AIRES","20052497621","Aramburu, Diego","Gerino, Ignacio","Barrera Casal, Facundo",""]
[null,"LA PALA (CP: 6341)","6341","LA PALA","BUENOS AIRES","METROPOLITANA","123","CESAR RONCARI",null,null,null,null,null,null,null,null,null,null,null,null,null,null,null,null,null,null,null,null,null,null,null,null,null,null,null,null,null,null,null,null,null,null,null,null,null,1995,"ACA USHUAIA","ACA","ACA","PATAGONIA","AVENIDA MALVINAS ARGENTINAS ENTRE JAINEN Y ONACHAGA",9410,"USHUAIA","USHUAIA","TIERRA DEL FUEGO","30500143297","Potes, Claudio Fernando","Peletay, Walter","Barreiro, Silvina",""]
[null,"LA PASTORA (CP: 7001)","7001","LA PASTORA","BUENOS AIRES","METROPOLITANA","123","CESAR RONCARI",null,null,null,null,null,null,null,null,null,null,null,null,null,null,null,null,null,null,null,null,null,null,null,null,null,null,null,null,null,null,null,null,null,null,null,null,null,1996,"MATEO KARELOVICH E HIJOS SRL","TERCEROS","Consignado","PATAGONIA","MAIPU 760",9410,"USHUAIA","USHUAIA","TIERRA DEL FUEGO","30571226908","Potes, Claudio Fernando","Peletay, Walter","Barreiro, Silvina",""]
[null,"LA PAZ (CP: 7245)","7245","LA PAZ","BUENOS AIRES","METROPOLITANA",31,"PABLO CIMINARI",null,null,null,null,null,null,null,null,null,null,null,null,null,null,null,null,null,null,null,null,null,null,null,null,null,null,null,null,null,null,null,null,null,null,null,null,null,1998,"DI CLERICO HECTOR ARMANDO","TERCEROS","Consignado","PATAGONIA","REMEDIOS DE ESCALADA Y CHICLANA",8536,"VALCHETA","VALCHETA","RIO NEGRO","20073944091","Peralta, Gustavo","Maccari, Marcelo","Barreiro, Silvina",""]
[null,"LA PLATA (CP: 1900)","1900","LA PLATA","BUENOS AIRES","METROPOLITANA",31,"PABLO CIMINARI",null,null,null,null,null,null,null,null,null,null,null,null,null,null,null,null,null,null,null,null,null,null,null,null,null,null,null,null,null,null,null,null,null,null,null,null,null,1999,"LOS TEPUES SA","TERCEROS","Consignado","PAMPEANA","TOMAS ESPORA 3099",7167,"VALERIA DEL MAR","PINAMAR","BUENOS AIRES","30631931479","Del Dago, Gabriel","Gerino, Ignacio","Barrera Casal, Facundo",""]
[null,"LA REJA (CP: 1744)","1744","LA REJA","BUENOS AIRES","METROPOLITANA",18,"OMAR PRESAS",null,null,null,null,null,null,null,null,null,null,null,null,null,null,null,null,null,null,null,null,null,null,null,null,null,null,null,null,null,null,null,null,null,null,null,null,null,2001,"ALMA SOCIEDAD ANONIMA","TERCEROS","Consignado","PATAGONIA","RUTA NACIONAL 40 KM (Ascendente) Y 12 DE OCTUBRE",9407,"28 DE NOVIEM","GÜER AIKE","SANTA CRUZ","30642986437","Potes, Claudio Fernando","Peletay, Walter","Barreiro, Silvina",""]
[null,"LA SOFIA (CP: 6535)","6535","LA SOFIA","BUENOS AIRES","METROPOLITANA",31,"PABLO CIMINARI",null,null,null,null,null,null,null,null,null,null,null,null,null,null,null,null,null,null,null,null,null,null,null,null,null,null,null,null,null,null,null,null,null,null,null,null,null,2004,"ESTACION DE SERVICIO GENERAL VICTORICA SA","TERCEROS","Consignado","PAMPEANA","CALLE 15 Y CALLE 32",6319,"VICTORICA","LOVENTUE","LA PAMPA","30649657323","Storm, Fernando","Fernandez, Mariano","Barrera Casal, Facundo",""]
[null,"LA TABLADA (CP: 1776)","1776","LA TABLADA","BUENOS AIRES","METROPOLITANA",18,"OMAR PRESAS",null,null,null,null,null,null,null,null,null,null,null,null,null,null,null,null,null,null,null,null,null,null,null,null,null,null,null,null,null,null,null,null,null,null,null,null,null,2005,"ACA VIEDMA","ACA","ACA","PATAGONIA","RUTA NACIONAL 3 KM 962.200 (Ascendente)",8500,"VIEDMA","ADOLFO ALSINA","RIO NEGRO","30500143297","Peralta, Gustavo","Maccari, Marcelo","Barreiro, Silvina",""]
[null,"LA VIOLETA (CP: 2751)","2751","LA VIOLETA","BUENOS AIRES","METROPOLITANA","29","JOSE ANDRES MONDINO",null,null,null,null,null,null,null,null,null,null,null,null,null,null,null,null,null,null,null,null,null,null,null,null,null,null,null,null,null,null,null,null,null,null,null,null,null,2010,"ACA VILLA GESELL","ACA","ACA","PAMPEANA","AVENIDA 3 Y PASEO 112",7165,"VILLA GESELL","VILLA GESELL","BUENOS AIRES","30500143297","Del Dago, Gabriel","Gerino, Ignacio","Barrera Casal, Facundo",""]
[null,"LA VITICOLA (CP: 8122)","8122","LA VITICOLA","BUENOS AIRES","METROPOLITANA",130,"CESAR RONCARI",null,null,null,null,null,null,null,null,null,null,null,null,null,null,null,null,null,null,null,null,null,null,null,null,null,null,null,null,null,null,null,null,null,null,null,null,null,2011,"OPESSA VILLA GESELL","OPESSA","Consignado","PAMPEANA","AVENIDA BUENOS AIRES Y BLVD GESELL",7165,"VILLA GESELL","VILLA GESELL","BUENOS AIRES","30678774495","Del Dago, Gabriel","Gerino, Ignacio","Barrera Casal, Facundo","Urruspil, Ezequiel"]
[null,"LAGO EPECUEN (CP: 6431)","6431","LAGO EPECUEN","BUENOS AIRES","METROPOLITANA","123","CESAR RONCARI",null,null,null,null,null,null,null,null,null,null,null,null,null,null,null,null,null,null,null,null,null,null,null,null,null,null,null,null,null,null,null,null,null,null,null,null,null,2012,"ACA VILLA LA ANGOSTURA","ACA","ACA","PATAGONIA","AVENIDA ARRAYANES 8 Y NAHUEL HUAPI",8407,"VILLA L.ANGOSTURA","LOS LAGOS","NEUQUEN","30500143297","Otero, Sebastián","Maccari, Marcelo","Barreiro, Silvina",""]
[null,"LAGUNA ALSINA (CP: 6439)","6439","LAGUNA ALSINA","BUENOS AIRES","METROPOLITANA","123","CESAR RONCARI",null,null,null,null,null,null,null,null,null,null,null,null,null,null,null,null,null,null,null,null,null,null,null,null,null,null,null,null,null,null,null,null,null,null,null,null,null,2013,"BIANCUCCI JORGE EDUARDO","TERCEROS","Consignado","PATAGONIA","AVENIDA 7 LAGOS Y CHOS MALAL",8407,"VILLA L.ANGOSTURA","LOS LAGOS","NEUQUEN","20114979946","Otero, Sebastián","Maccari, Marcelo","Barreiro, Silvina",""]
[null,"LANGUEYU (CP: 7151)","7151","LANGUEYU","BUENOS AIRES","METROPOLITANA","123","CESAR RONCARI",null,null,null,null,null,null,null,null,null,null,null,null,null,null,null,null,null,null,null,null,null,null,null,null,null,null,null,null,null,null,null,null,null,null,null,null,null,2014,"ACA VILLA MASCARDI","ACA","ACA","PATAGONIA","RUTA PROVINCIAL 258 KM 33 (Descendente)",8401,"LAGO MASCARDI","BARILOCHE","RIO NEGRO","30500143297","Otero, Sebastián","Maccari, Marcelo","Barreiro, Silvina",""]
[null,"LANUS (CP: 1824)","1824","LANUS","BUENOS AIRES","METROPOLITANA",31,"PABLO CIMINARI",null,null,null,null,null,null,null,null,null,null,null,null,null,null,null,null,null,null,null,null,null,null,null,null,null,null,null,null,null,null,null,null,null,null,null,null,null,2016,"RIO SALADO SRL","TERCEROS","Consignado","PATAGONIA","AVENIDA ITALIA Y GENERAL PAZ",8336,"VILLA REGINA","GRAL ROCA","RIO NEGRO","33708577389","Vincent, Adrián ","Maccari, Marcelo","Barreiro, Silvina",""]
[null,"LANUS OESTE (CP: 1624)","1624","LANUS OESTE","BUENOS AIRES","METROPOLITANA",31,"PABLO CIMINARI",null,null,null,null,null,null,null,null,null,null,null,null,null,null,null,null,null,null,null,null,null,null,null,null,null,null,null,null,null,null,null,null,null,null,null,null,null,2017,"FOCHEZATTO EDUARDO ALBERTO","TERCEROS","Consignado","PAMPEANA","RUTA NACIONAL 3 KM (Ascendente)",8512,"VILLALONGA","PATAGONES","BUENOS AIRES","20103228019","Lindo Poisson, Ruben Ariel","Fernandez, Mariano","Barrera Casal, Facundo",""]
[null,"LANUS OESTE (CP: 1824)","1824","LANUS OESTE","BUENOS AIRES","METROPOLITANA",31,"PABLO CIMINARI",null,null,null,null,null,null,null,null,null,null,null,null,null,null,null,null,null,null,null,null,null,null,null,null,null,null,null,null,null,null,null,null,null,null,null,null,null,2019,"EL CRUCE SRL","TERCEROS","Consignado","PAMPEANA","RUTA NACIONAL 35 KM 371 (Ascendente) Y ACCESO A WINIFREDA",6313,"WINIFREDA","CONHELO","LA PAMPA","30714556378","Storm, Fernando","Fernandez, Mariano","Barrera Casal, Facundo",""]
[null,"LAPLACETTE (CP: 6013)","6013","LAPLACETTE","BUENOS AIRES","METROPOLITANA",18,"OMAR PRESAS",null,null,null,null,null,null,null,null,null,null,null,null,null,null,null,null,null,null,null,null,null,null,null,null,null,null,null,null,null,null,null,null,null,null,null,null,null,2020,"ACA ZAPALA","ACA","ACA","PATAGONIA","RUTA NACIONAL 22 KM 1399 (Descendente)",8340,"ZAPALA","ZAPALA","NEUQUEN","30500143297","Diacono, Juan Pablo","Maccari, Marcelo","Barreiro, Silvina",""]
[null,"LAPRIDA (CP: 7414)","7414","LAPRIDA","BUENOS AIRES","METROPOLITANA","123","CESAR RONCARI",null,null,null,null,null,null,null,null,null,null,null,null,null,null,null,null,null,null,null,null,null,null,null,null,null,null,null,null,null,null,null,null,null,null,null,null,null,2021,"PETROZAPALA SACN E I","TERCEROS","Consignado","PATAGONIA","PADRE LUIS MONTI Y TRANNACK",8340,"ZAPALA","ZAPALA","NEUQUEN","30518971308","Diacono, Juan Pablo","Maccari, Marcelo","Barreiro, Silvina",""]
[null,"LARREA (CP: 6634)","6634","LARREA","BUENOS AIRES","METROPOLITANA",18,"OMAR PRESAS",null,null,null,null,null,null,null,null,null,null,null,null,null,null,null,null,null,null,null,null,null,null,null,null,null,null,null,null,null,null,null,null,null,null,null,null,null,2024,"ACA RIO GALLEGOS","ACA","ACA","PATAGONIA","AVENIDA SAN MARTIN Y ORKEKE",9400,"RIO GALLEGOS","GÜER AIKE","SANTA CRUZ","30500143297","Potes, Claudio Fernando","Peletay, Walter","Barreiro, Silvina",""]
[null,"LARTIGAU (CP: 7531)","7531","LARTIGAU","BUENOS AIRES","METROPOLITANA","123","CESAR RONCARI",null,null,null,null,null,null,null,null,null,null,null,null,null,null,null,null,null,null,null,null,null,null,null,null,null,null,null,null,null,null,null,null,null,null,null,null,null,2029,"JENSPECK SRL","TERCEROS","Consignado","PAMPEANA","AUTOPISTA 228 KM 2.500 (Ascendente)",7630,"NECOCHEA","NECOCHEA","BUENOS AIRES","30709590649","Di Santo, Julio","Fernandez, Mariano","Barrera Casal, Facundo",""]
[null,"LAS ARMAS (CP: 7172)","7172","LAS ARMAS","BUENOS AIRES","METROPOLITANA","123","CESAR RONCARI",null,null,null,null,null,null,null,null,null,null,null,null,null,null,null,null,null,null,null,null,null,null,null,null,null,null,null,null,null,null,null,null,null,null,null,null,null,2030,"EL TRIANGULO SRL","TERCEROS","Consignado","PATAGONIA","SANTA FE NORTE Y RIVADAVIA",8316,"PLOTTIER","CONFLUENCIA","NEUQUEN","30672652665","Linares, Roberto","Maccari, Marcelo","Barreiro, Silvina",""]
[null,"LAS ARMAS (CP: 7172)","7172","LAS ARMAS","BUENOS AIRES","METROPOLITANA","123","CESAR RONCARI",null,null,null,null,null,null,null,null,null,null,null,null,null,null,null,null,null,null,null,null,null,null,null,null,null,null,null,null,null,null,null,null,null,null,null,null,null,2031,"GNC SIGMA SRL","TERCEROS","Consignado","VALLES","AVENIDA GENERAL SAVIO Y MONTEAGUDO 2000",4600,"S.S.DE JUJUY","DR MANUEL BELGRANO","JUJUY","30660848289","Stoll, Maximiliano","Naval, Carlos","Astegiano, Flavio",""]
[null,"LAS FLORES (CP: 7200)","7200","LAS FLORES","BUENOS AIRES","METROPOLITANA","123","CESAR RONCARI",null,null,null,null,null,null,null,null,null,null,null,null,null,null,null,null,null,null,null,null,null,null,null,null,null,null,null,null,null,null,null,null,null,null,null,null,null,2032,"MANZI SRL","TERCEROS","Consignado","MEDITERRANEA","AVENIDA COLON 4272",5003,"CORDOBA","CORDOBA CAPITAL","CORDOBA","30619131548","Villagra, Luis ","Parolin, Mauricio Elvio","Banegas, Walter",""]
[null,"LAS ROSAS (CP: 6533)","6533","LAS ROSAS","BUENOS AIRES","METROPOLITANA",31,"PABLO CIMINARI",null,null,null,null,null,null,null,null,null,null,null,null,null,null,null,null,null,null,null,null,null,null,null,null,null,null,null,null,null,null,null,null,null,null,null,null,null,2039,"OPESSA TEJEDOR","OPESSA","Consignado","PAMPEANA","AVENIDA CONSTITUCION Y CARLOS TEJEDOR",7600,"MAR DEL PLATA","GRAL PUEYRREDON","BUENOS AIRES","30678774495","Urrutia, Javier","Gerino, Ignacio","Barrera Casal, Facundo","Urruspil, Ezequiel"]
[null,"LAS TONINAS (CP: 7106)","7106","LAS TONINAS","BUENOS AIRES","METROPOLITANA","123","CESAR RONCARI",null,null,null,null,null,null,null,null,null,null,null,null,null,null,null,null,null,null,null,null,null,null,null,null,null,null,null,null,null,null,null,null,null,null,null,null,null,2042,"JORGE LUIS MAFFIA","TERCEROS","Consignado","PAMPEANA","RUTA PROVINCIAL 188 KM 255 (Descendente) Y ACCESO A GENERAL PINTO",6050,"GRAL.PINTO","GRAL PINTO","BUENOS AIRES","20078499010","Tempone, Irene ","Gerino, Ignacio","Barrera Casal, Facundo",""]
[null,"LAS TOSCA (CP: 6453)","6453","LAS TOSCA","BUENOS AIRES","METROPOLITANA","123","CESAR RONCARI",null,null,null,null,null,null,null,null,null,null,null,null,null,null,null,null,null,null,null,null,null,null,null,null,null,null,null,null,null,null,null,null,null,null,null,null,null,2043,"AGROAMERICA SACIFA","TERCEROS","Consignado","PAMPEANA","MORENO 147 ENTRE MAIPÚ Y PELLEGRINI",6237,"RIVADAVIA","RIVADAVIA","BUENOS AIRES","30536717907","Tempone, Irene ","Gerino, Ignacio","Barrera Casal, Facundo",""]
[null,"LAZZARINO (CP: 7300)","7300","LAZZARINO","BUENOS AIRES","METROPOLITANA","123","CESAR RONCARI",null,null,null,null,null,null,null,null,null,null,null,null,null,null,null,null,null,null,null,null,null,null,null,null,null,null,null,null,null,null,null,null,null,null,null,null,null,2044,"GARCIA WALTER ALBERTO","TERCEROS","Consignado","PAMPEANA","ACCESO INDEPENDENCIA Y ACCESO NORTE",6237,"RIVADAVIA","RIVADAVIA","BUENOS AIRES","20115143884","Tempone, Irene ","Gerino, Ignacio","Barrera Casal, Facundo",""]
[null,{"$f":"CONCATENATE(D835,\" (CP: \",C835,\")\")","v":"LEON (CP: 4616)"},"4616","LEON","BUENOS AIRES","METROPOLITANA",31,"PABLO CIMINARI",null,null,null,null,null,null,null,null,null,null,null,null,null,null,null,null,null,null,null,null,null,null,null,null,null,null,null,null,null,null,null,null,null,null,null,null,null,2045,"PETROSURCO SA","TERCEROS","Consignado","PAMPEANA","CALLE 32 Y CALLE 15",6360,"GRAL.PICO","MARACO","LA PAMPA","30615341130","Storm, Fernando","Fernandez, Mariano","Barrera Casal, Facundo",""]
[null,"LEUBUCO (CP: 6338)","6338","LEUBUCO","BUENOS AIRES","METROPOLITANA","123","CESAR RONCARI",null,null,null,null,null,null,null,null,null,null,null,null,null,null,null,null,null,null,null,null,null,null,null,null,null,null,null,null,null,null,null,null,null,null,null,null,null,2047,"COMBUSTIBLES NUEVO CUYO SRL","TERCEROS","Consignado","AREA DEL SOL","COMANDANTE CABOT OESTE 623",5400,"SAN JUAN","SAN JUAN CAPITAL","SAN JUAN","30691865386","Jimenez, Jorge Alberto","Cacciola, Federico","Chiavassa, César Miguel",""]
[null,"LEZAMA (CP: 7116)","7116","LEZAMA","BUENOS AIRES","METROPOLITANA","123","CESAR RONCARI",null,null,null,null,null,null,null,null,null,null,null,null,null,null,null,null,null,null,null,null,null,null,null,null,null,null,null,null,null,null,null,null,null,null,null,null,null,2052,"OPESSA SAN FRANCISCO","OPESSA","Consignado","MEDITERRANEA","RUTA NACIONAL 19 KM (Ascendente) Y RUTA NAC. 158",2400,"S.FRANCISCO","SAN JUSTO","CORDOBA","30678774495","Fernandez, Cecilia","Parolin, Mauricio Elvio","Banegas, Walter","Lujan, Gabriela"]
[null,"LIBANO (CP: 7407)","7407","LIBANO","BUENOS AIRES","METROPOLITANA","123","CESAR RONCARI",null,null,null,null,null,null,null,null,null,null,null,null,null,null,null,null,null,null,null,null,null,null,null,null,null,null,null,null,null,null,null,null,null,null,null,null,null,2053,"EDELKO SRL","TERCEROS","Consignado","MEDITERRANEA","AGUSTIN GARZON 2717",5000,"CORDOBA","CORDOBA CAPITAL","CORDOBA","30711118639","Villagra, Luis ","Parolin, Mauricio Elvio","Banegas, Walter",""]
[null,"LIBERTAD (CP: 1716)","1716","LIBERTAD","BUENOS AIRES","METROPOLITANA",18,"OMAR PRESAS",null,null,null,null,null,null,null,null,null,null,null,null,null,null,null,null,null,null,null,null,null,null,null,null,null,null,null,null,null,null,null,null,null,null,null,null,null,2054,"ECHANIZ HNOS SA","TERCEROS","Consignado","MEDITERRANEA","DE LOS ALEMANES 4282",5017,"CORDOBA","CORDOBA CAPITAL","CORDOBA","30668473241","Giuggia, Hugo ","Parolin, Mauricio Elvio","Banegas, Walter",""]
[null,"LICENCIA.MATIENZO (CP: 7007)","7007","LICENCIA.MATIENZO","BUENOS AIRES","METROPOLITANA","123","CESAR RONCARI",null,null,null,null,null,null,null,null,null,null,null,null,null,null,null,null,null,null,null,null,null,null,null,null,null,null,null,null,null,null,null,null,null,null,null,null,null,2056,"SALGAS SA","TERCEROS","Consignado","METROPOLITANA","AVENIDA BRIG GRAL JUAN MANUEL DE ROSAS 4884",1650,"SAN MARTIN","SAN MARTIN","BUENOS AIRES","30662479191","Gatt, Gaston","Bouzon, Gustavo","Gottlieb, Patricio",""]
[null,"LIMA (CP: 2806)","2806","LIMA","BUENOS AIRES","METROPOLITANA","29","JOSE ANDRES MONDINO",null,null,null,null,null,null,null,null,null,null,null,null,null,null,null,null,null,null,null,null,null,null,null,null,null,null,null,null,null,null,null,null,null,null,null,null,null,2059,"PLAZA LAVALLE SRL","TERCEROS","Reventa","MEDITERRANEA","DIEGO DE TORRES 895",5000,"CORDOBA","CORDOBA CAPITAL","CORDOBA","33712102409","Villagra, Luis ","Parolin, Mauricio Elvio","Banegas, Walter",""]
[null,"LINCOLN (CP: 6070)","6070","LINCOLN","BUENOS AIRES","METROPOLITANA","29","JOSE ANDRES MONDINO",null,null,null,null,null,null,null,null,null,null,null,null,null,null,null,null,null,null,null,null,null,null,null,null,null,null,null,null,null,null,null,null,null,null,null,null,null,2060,"OPESSA CORDOBA PLANAS","OPESSA","Consignado","MEDITERRANEA","AVENIDA RAFAEL NU#EZ 4014 Y PLANAS",5009,"CORDOBA","CORDOBA CAPITAL","CORDOBA","30678774495","Alizzi, Silvina","Parolin, Mauricio Elvio","Banegas, Walter","Lujan, Gabriela"]
[null,"LISANDRO OLMOS ECHEVERRY (CP: 1901)","1901","LISANDRO OLMOS ECHEVERRY","BUENOS AIRES","METROPOLITANA",31,"PABLO CIMINARI",null,null,null,null,null,null,null,null,null,null,null,null,null,null,null,null,null,null,null,null,null,null,null,null,null,null,null,null,null,null,null,null,null,null,null,null,null,2061,"EL MARQUES SA","TERCEROS","Consignado","MEDITERRANEA","AVENIDA MONSE#OR PABLO CABRERA 4650 CELIZ DE QUIROGA",5000,"CORDOBA","CORDOBA CAPITAL","CORDOBA","30597924441","Alizzi, Silvina","Parolin, Mauricio Elvio","Banegas, Walter",""]
[null,"LLAVALLOL (CP: 1836)","1836","LLAVALLOL","BUENOS AIRES","METROPOLITANA",31,"PABLO CIMINARI",null,null,null,null,null,null,null,null,null,null,null,null,null,null,null,null,null,null,null,null,null,null,null,null,null,null,null,null,null,null,null,null,null,null,null,null,null,2063,"OPESSA COLONIA ELIA","OPESSA","Consignado","LITORAL SUR","RUTA NACIONAL 14 KM 100 (Ascendente)",3261,"COLONIA ELIAS","URUGUAY","ENTRE RIOS","30678774495","Martinez Ruhl, Jose Huberto","Gomez, Cristian","A definir","Duran, Oscar"]
[null,"LOBERIA (CP: 7635)","7635","LOBERIA","BUENOS AIRES","METROPOLITANA","123","CESAR RONCARI",null,null,null,null,null,null,null,null,null,null,null,null,null,null,null,null,null,null,null,null,null,null,null,null,null,null,null,null,null,null,null,null,null,null,null,null,null,2064,"OPESSA FIGHIERA ESTE","OPESSA","Consignado","LITORAL SUR","AUTOPISTA P E ARAMBURU KM 256 (Ascendente)",2126,"FIGHIERA","ROSARIO","SANTA FE","30678774495","Donato, Sebastian","Gomez, Cristian","A definir","Talani, Cristian"]
[null,"LOBOS (CP: 7240)","7240","LOBOS","BUENOS AIRES","METROPOLITANA",31,"PABLO CIMINARI",null,null,null,null,null,null,null,null,null,null,null,null,null,null,null,null,null,null,null,null,null,null,null,null,null,null,null,null,null,null,null,null,null,null,null,null,null,2072,"JUAN MONDINO E HIJOS SA","TERCEROS","Consignado","MEDITERRANEA","AVENIDA DONATO ALVAREZ 8600 Y HUIRIN",5000,"CORDOBA","CORDOBA CAPITAL","CORDOBA","33707818439","Alizzi, Silvina","Parolin, Mauricio Elvio","Banegas, Walter",""]
[null,"LOBOS (CP: 7241)","7241","LOBOS","BUENOS AIRES","METROPOLITANA",31,"PABLO CIMINARI",null,null,null,null,null,null,null,null,null,null,null,null,null,null,null,null,null,null,null,null,null,null,null,null,null,null,null,null,null,null,null,null,null,null,null,null,null,2074,"OIL PETRO SALSIPUEDES SRL","TERCEROS","Consignado","MEDITERRANEA","SAN MARTIN 124",5113,"SALSIPUEDES","COLON","CORDOBA","30707975225","Alizzi, Silvina","Parolin, Mauricio Elvio","Banegas, Walter",""]
[null,"LOMA HERMOSA (CP: 1657)","1657","LOMA HERMOSA","BUENOS AIRES","METROPOLITANA",18,"OMAR PRESAS",null,null,null,null,null,null,null,null,null,null,null,null,null,null,null,null,null,null,null,null,null,null,null,null,null,null,null,null,null,null,null,null,null,null,null,null,null,2077,"MALVASIO PICAT SA","TERCEROS","Reventa","MEDITERRANEA","PASEO DEL HUERTO Y GENERAL CABRERA",5220,"JESUS MARIA","COLON","CORDOBA","30711832625","Alizzi, Silvina","Parolin, Mauricio Elvio","Banegas, Walter",""]
[null,"LOMA NEGRA (CP: 7403)","7403","LOMA NEGRA","BUENOS AIRES","METROPOLITANA","123","CESAR RONCARI",null,null,null,null,null,null,null,null,null,null,null,null,null,null,null,null,null,null,null,null,null,null,null,null,null,null,null,null,null,null,null,null,null,null,null,null,null,2080,"OPESSA VILLA MERCEDES","OPESSA","Consignado","AREA DEL SOL","RUTA NACIONAL 7 KM 696.500 (Ascendente)",5730,"VILLA MERCEDES","GRAL PEDERNERA","SAN LUIS","30678774495","Franco, Marcelo Oscar","Cacciola, Federico","Chiavassa, César Miguel","Abrahamsohn, Claudio"]
[null,"LOMA PARAGUAYA (CP: 8122)","8122","LOMA PARAGUAYA","BUENOS AIRES","METROPOLITANA",130,"CESAR RONCARI",null,null,null,null,null,null,null,null,null,null,null,null,null,null,null,null,null,null,null,null,null,null,null,null,null,null,null,null,null,null,null,null,null,null,null,null,null,2082,"REPARKER CORDOBA SA","TERCEROS","Consignado","MEDITERRANEA","AVENIDA JUAN B JUSTO 4530",5000,"CORDOBA","CORDOBA CAPITAL","CORDOBA","30708847700","Alizzi, Silvina","Parolin, Mauricio Elvio","Banegas, Walter",""]
[null,"LOMAS DE ZAMORA (CP: 1832)","1832","LOMAS DE ZAMORA","BUENOS AIRES","METROPOLITANA",31,"PABLO CIMINARI",null,null,null,null,null,null,null,null,null,null,null,null,null,null,null,null,null,null,null,null,null,null,null,null,null,null,null,null,null,null,null,null,null,null,null,null,null,2084,"REYNOSO SA","TERCEROS","Consignado","MEDITERRANEA","AVENIDA LAS MALVINAS 2595",5012,"CORDOBA","CORDOBA CAPITAL","CORDOBA","30714707848","Alizzi, Silvina","Parolin, Mauricio Elvio","Banegas, Walter",""]
[null,"LOMAS DEL MIRADOR (CP: 1752)","1752","LOMAS DEL MIRADOR","BUENOS AIRES","METROPOLITANA",18,"OMAR PRESAS",null,null,null,null,null,null,null,null,null,null,null,null,null,null,null,null,null,null,null,null,null,null,null,null,null,null,null,null,null,null,null,null,null,null,null,null,null,2085,"RUTA 55 SA","TERCEROS","Consignado","MEDITERRANEA","AVENIDA LOS PARAISOS Y RUTA 55",5151,"LA CALERA","COLON","CORDOBA","30714655708","Villagra, Luis ","Parolin, Mauricio Elvio","Banegas, Walter",""]
[null,"LONGCHAMPS (CP: 1854)","1854","LONGCHAMPS","BUENOS AIRES","METROPOLITANA",31,"PABLO CIMINARI",null,null,null,null,null,null,null,null,null,null,null,null,null,null,null,null,null,null,null,null,null,null,null,null,null,null,null,null,null,null,null,null,null,null,null,null,null,2091,"MANUEL SILVESTRI","TERCEROS","Consignado","MEDITERRANEA","AVENIDA SAN MARTIN 3590 Y 10 DE JULIO",5223,"COLONIA CAROYA","COLON","CORDOBA","20027184767","Alizzi, Silvina","Parolin, Mauricio Elvio","Banegas, Walter",""]
[null,"LOPEZ (CP: 7021)","7021","LOPEZ","BUENOS AIRES","METROPOLITANA","123","CESAR RONCARI",null,null,null,null,null,null,null,null,null,null,null,null,null,null,null,null,null,null,null,null,null,null,null,null,null,null,null,null,null,null,null,null,null,null,null,null,null,2092,"K Y M SA","TERCEROS","Consignado","VALLES","RUTA NACIONAL 34 KM 1348.500 (Ascendente)",4550,"EMBARCACION","GRAL JOSE DE SAN MARTIN","SALTA","33639073829","Marcori, Maximiliano","Naval, Carlos","Astegiano, Flavio",""]
[null,"LOS CARDALES (CP: 2814)","2814","LOS CARDALES","BUENOS AIRES","METROPOLITANA","29","JOSE ANDRES MONDINO",null,null,null,null,null,null,null,null,null,null,null,null,null,null,null,null,null,null,null,null,null,null,null,null,null,null,null,null,null,null,null,null,null,null,null,null,null,2094,"TRECONT SA","TERCEROS","Consignado","MEDITERRANEA","RUTA NACIONAL 9 KM (Ascendente) Y CORRIENTES",5220,"JESUS MARIA","COLON","CORDOBA","30704577393","Alizzi, Silvina","Parolin, Mauricio Elvio","Banegas, Walter",""]
[null,"LOS GAUCHOS (CP: 6343)","6343","LOS GAUCHOS","BUENOS AIRES","METROPOLITANA","123","CESAR RONCARI",null,null,null,null,null,null,null,null,null,null,null,null,null,null,null,null,null,null,null,null,null,null,null,null,null,null,null,null,null,null,null,null,null,null,null,null,null,2099,"ACA ASCOCHINGA","ACA","ACA","MEDITERRANEA","RUTA PROVINCIAL 66 KM (Ascendente) Y AERONAUT S/N°",5117,"ASCOCHINGA","COLON","CORDOBA","30500143297","Saul, Diego Martin","Parolin, Mauricio Elvio","Banegas, Walter",""]
[null,"LOS PINOS (CP: 7412)","7412","LOS PINOS","BUENOS AIRES","METROPOLITANA","123","CESAR RONCARI",null,null,null,null,null,null,null,null,null,null,null,null,null,null,null,null,null,null,null,null,null,null,null,null,null,null,null,null,null,null,null,null,null,null,null,null,null,2100,"ACA SABATTINI","ACA","ACA","MEDITERRANEA","AVENIDA SABATTINI Y ACCESO RUTA NACIONAL N° 9",5000,"CORDOBA","CORDOBA CAPITAL","CORDOBA","30500143297","Villagra, Luis ","Parolin, Mauricio Elvio","Banegas, Walter",""]
[null,"LOS POLVORINES (CP: 1613)","1613","LOS POLVORINES","BUENOS AIRES","METROPOLITANA","29","JOSE ANDRES MONDINO",null,null,null,null,null,null,null,null,null,null,null,null,null,null,null,null,null,null,null,null,null,null,null,null,null,null,null,null,null,null,null,null,null,null,null,null,null,2101,"OPESSA CORDOBA ARGUELLO","OPESSA","Consignado","MEDITERRANEA","AVENIDA RECTA MARTINOLI Y TICHO BRAHE",5147,"ARGUELLO","CORDOBA CAPITAL","CORDOBA","30678774495","Alizzi, Silvina","Parolin, Mauricio Elvio","Banegas, Walter","Lujan, Gabriela"]
[null,"LOS TALAS (CP: 1923)","1923","LOS TALAS","BUENOS AIRES","METROPOLITANA",31,"PABLO CIMINARI",null,null,null,null,null,null,null,null,null,null,null,null,null,null,null,null,null,null,null,null,null,null,null,null,null,null,null,null,null,null,null,null,null,null,null,null,null,2102,"OPESSA CORDOBA LA CORDILLERA","OPESSA","Consignado","MEDITERRANEA","AVENIDA DE LA CORDILLERA 3947 Y SPILIMBERGO",5000,"CORDOBA","CORDOBA CAPITAL","CORDOBA","30678774495","Alizzi, Silvina","Parolin, Mauricio Elvio","Banegas, Walter","Lujan, Gabriela"]
[null,"LOS TOLDOS (CP: 6015)","6015","LOS TOLDOS","BUENOS AIRES","METROPOLITANA","29","JOSE ANDRES MONDINO",null,null,null,null,null,null,null,null,null,null,null,null,null,null,null,null,null,null,null,null,null,null,null,null,null,null,null,null,null,null,null,null,null,null,null,null,null,2103,"GONZALO ALAMINO Y ANGELA MARI SH","TERCEROS","Consignado","MEDITERRANEA","AVENIDA COLON 4989",5003,"CORDOBA","CORDOBA CAPITAL","CORDOBA","30707809732","Villagra, Luis ","Parolin, Mauricio Elvio","Banegas, Walter",""]
[null,"LUCAS MONTEVERDE (CP: 6661)","6661","LUCAS MONTEVERDE","BUENOS AIRES","METROPOLITANA",18,"OMAR PRESAS",null,null,null,null,null,null,null,null,null,null,null,null,null,null,null,null,null,null,null,null,null,null,null,null,null,null,null,null,null,null,null,null,null,null,null,null,null,2104,"BORNORONI HNOS SRL","TERCEROS","Consignado","MEDITERRANEA","AVENIDA PUEYRREDON 2376 Y VIEYTES",5000,"CORDOBA","CORDOBA CAPITAL","CORDOBA","33707975909","Villagra, Luis ","Parolin, Mauricio Elvio","Banegas, Walter",""]
[null,"LUIS GUILLON (CP: 1838)","1838","LUIS GUILLON","BUENOS AIRES","METROPOLITANA",31,"PABLO CIMINARI",null,null,null,null,null,null,null,null,null,null,null,null,null,null,null,null,null,null,null,null,null,null,null,null,null,null,null,null,null,null,null,null,null,null,null,null,null,2109,"CRUCERO DE ALTA GRACIA SA","TERCEROS","Consignado","MEDITERRANEA","RUTA PROVINCIAL 5 KM (Descendente) Y AVENIDA LIBERTADOR SAN MARTIN",5186,"ALTA GRACIA","SANTA MARIA","CORDOBA","30645878007","Saul, Diego Martin","Parolin, Mauricio Elvio","Banegas, Walter",""]
[null,"LUJAN (CP: 6700)","6700","LUJAN","BUENOS AIRES","METROPOLITANA",18,"OMAR PRESAS",null,null,null,null,null,null,null,null,null,null,null,null,null,null,null,null,null,null,null,null,null,null,null,null,null,null,null,null,null,null,null,null,null,null,null,null,null,2110,"OPESSA VILLA CABRERA","OPESSA","Consignado","MEDITERRANEA","AVENIDA OCTAVIO PINTO Y AVENIDA CARAFFA",5000,"CORDOBA","CORDOBA CAPITAL","CORDOBA","30678774495","Alizzi, Silvina","Parolin, Mauricio Elvio","Banegas, Walter","Lujan, Gabriela"]
[null,"LUJAN (CP: 6712)","6712","LUJAN","BUENOS AIRES","METROPOLITANA","29","JOSE ANDRES MONDINO",null,null,null,null,null,null,null,null,null,null,null,null,null,null,null,null,null,null,null,null,null,null,null,null,null,null,null,null,null,null,null,null,null,null,null,null,null,2111,"FRAPPA Y MOINE SRL","TERCEROS","Consignado","MEDITERRANEA","SAN MARTIN Y NU#EZ",5121,"DESPEÑADEROS","SANTA MARIA","CORDOBA","33565897719","Villagra, Luis ","Parolin, Mauricio Elvio","Banegas, Walter",""]
[null,"MAGDALA (CP: 6451)","6451","MAGDALA","BUENOS AIRES","METROPOLITANA","123","CESAR RONCARI",null,null,null,null,null,null,null,null,null,null,null,null,null,null,null,null,null,null,null,null,null,null,null,null,null,null,null,null,null,null,null,null,null,null,null,null,null,2112,"HUGO JOSE FRAPPA Y RAMON ANTONIO MOINE SRL","TERCEROS","Consignado","MEDITERRANEA","RUTA NACIONAL 36 KM 49.500 (Descendente)",5121,"DESPEÑADEROS","SANTA MARIA","CORDOBA","33565897719","Villagra, Luis ","Parolin, Mauricio Elvio","Banegas, Walter",""]
[null,"MAGDALENA (CP: 1913)","1913","MAGDALENA","BUENOS AIRES","METROPOLITANA",31,"PABLO CIMINARI",null,null,null,null,null,null,null,null,null,null,null,null,null,null,null,null,null,null,null,null,null,null,null,null,null,null,null,null,null,null,null,null,null,null,null,null,null,2114,"ESTACION DE SERVICIO LAS FLORES SRL","TERCEROS","Consignado","MEDITERRANEA","AVENIDA VELEZ SARSFIELD 3474",5016,"CORDOBA","CORDOBA CAPITAL","CORDOBA","30685401467","Villagra, Luis ","Parolin, Mauricio Elvio","Banegas, Walter",""]
[null,"MAIPU (CP: 7160)","7160","MAIPU","BUENOS AIRES","METROPOLITANA","123","CESAR RONCARI",null,null,null,null,null,null,null,null,null,null,null,null,null,null,null,null,null,null,null,null,null,null,null,null,null,null,null,null,null,null,null,null,null,null,null,null,null,2119,"OPESSA VILLA GRAL BELGRANO","OPESSA","Consignado","MEDITERRANEA","RUTA PROVINCIAL 5 KM (Ascendente) Y CHAMPAQUI",5194,"VILLA G.BELGRANO","CALAMUCHITA","CORDOBA","30678774495","Saul, Diego Martin","Parolin, Mauricio Elvio","Banegas, Walter","Lujan, Gabriela"]
[null,"MALVINAS ARGENTINAS (CP: 1846)","1846","MALVINAS ARGENTINAS","BUENOS AIRES","METROPOLITANA",31,"PABLO CIMINARI",null,null,null,null,null,null,null,null,null,null,null,null,null,null,null,null,null,null,null,null,null,null,null,null,null,null,null,null,null,null,null,null,null,null,null,null,null,2122,"VIEJA ESTACION SA","TERCEROS","Consignado","MEDITERRANEA","AVENIDA VELEZ SARSFIELD 6500",5017,"CORDOBA","CORDOBA CAPITAL","CORDOBA","30712090541","Villagra, Luis ","Parolin, Mauricio Elvio","Banegas, Walter",""]
[null,"MAMAGUITA (CP: 6661)","6661","MAMAGUITA","BUENOS AIRES","METROPOLITANA",18,"OMAR PRESAS",null,null,null,null,null,null,null,null,null,null,null,null,null,null,null,null,null,null,null,null,null,null,null,null,null,null,null,null,null,null,null,null,null,null,null,null,null,2127,"MMAG SRL","TERCEROS","Consignado","MEDITERRANEA","PRES GRAL J A ROCA Y RIO NEGRO",5010,"CORDOBA","CORDOBA CAPITAL","CORDOBA","33708448309","Villagra, Luis ","Parolin, Mauricio Elvio","Banegas, Walter",""]
[null,"MANUEL B GONNET (CP: 6513)","6513","MANUEL B GONNET","BUENOS AIRES","METROPOLITANA",31,"PABLO CIMINARI",null,null,null,null,null,null,null,null,null,null,null,null,null,null,null,null,null,null,null,null,null,null,null,null,null,null,null,null,null,null,null,null,null,null,null,null,null,2130,"RUSEN SA","TERCEROS","Consignado","MEDITERRANEA","AVENIDA PUEYRREDON Y ARTIGAS",5000,"CORDOBA","CORDOBA CAPITAL","CORDOBA","30710543654","Villagra, Luis ","Parolin, Mauricio Elvio","Banegas, Walter",""]
[null,"MANUEL OCAMPO (CP: 2713)","2713","MANUEL OCAMPO","BUENOS AIRES","METROPOLITANA","29","JOSE ANDRES MONDINO",null,null,null,null,null,null,null,null,null,null,null,null,null,null,null,null,null,null,null,null,null,null,null,null,null,null,null,null,null,null,null,null,null,null,null,null,null,2131,"LUCIANO MOZZON","TERCEROS","Consignado","MEDITERRANEA","JUAN DOMINGO PERON",5856,"EMBALSE","CALAMUCHITA","CORDOBA","20937792787","Saul, Diego Martin","Parolin, Mauricio Elvio","Banegas, Walter",""]
[null,"MAQUINISTA SAVIO (CP: 1619)","1619","MAQUINISTA SAVIO","BUENOS AIRES","METROPOLITANA","29","JOSE ANDRES MONDINO",null,null,null,null,null,null,null,null,null,null,null,null,null,null,null,null,null,null,null,null,null,null,null,null,null,null,null,null,null,null,null,null,null,null,null,null,null,2134,"VALPARAISO S.A.","TERCEROS","Consignado","MEDITERRANEA","AVENIDA VALPARAISO 2812",5016,"CORDOBA","CORDOBA CAPITAL","CORDOBA","30712504168","Villagra, Luis ","Parolin, Mauricio Elvio","Banegas, Walter",""]
[null,"MAR CHIQUITA (CP: 7174)","7174","MAR CHIQUITA","BUENOS AIRES","METROPOLITANA","123","CESAR RONCARI",null,null,null,null,null,null,null,null,null,null,null,null,null,null,null,null,null,null,null,null,null,null,null,null,null,null,null,null,null,null,null,null,null,null,null,null,null,2137,"COMBSYS SRL","TERCEROS","Consignado","MEDITERRANEA","MONSE#OR PABLO CABRERA Y CORDOBA",5000,"CORDOBA","CORDOBA CAPITAL","CORDOBA","30711281475","Alizzi, Silvina","Parolin, Mauricio Elvio","Banegas, Walter",""]
[null,"MAR DE AJO (CP: 7109)","7109","MAR DE AJO","BUENOS AIRES","METROPOLITANA","123","CESAR RONCARI",null,null,null,null,null,null,null,null,null,null,null,null,null,null,null,null,null,null,null,null,null,null,null,null,null,null,null,null,null,null,null,null,null,null,null,null,null,2144,"ACA CORDOBA CENTRO","ACA","ACA","MEDITERRANEA","AVENIDA GENERAL JOSE MARIA PAZ 499 Y HUMBERTO PRIMO",5000,"CORDOBA","CORDOBA CAPITAL","CORDOBA","30500143297","Villagra, Luis ","Parolin, Mauricio Elvio","Banegas, Walter",""]
[null,"MAR DEL PLATA (CP: 7600)","7600","MAR DEL PLATA","BUENOS AIRES","METROPOLITANA","123","CESAR RONCARI",null,null,null,null,null,null,null,null,null,null,null,null,null,null,null,null,null,null,null,null,null,null,null,null,null,null,null,null,null,null,null,null,null,null,null,null,null,2145,"ACA VILLA DEL DIQUE","ACA","ACA","MEDITERRANEA","RUTA NACIONAL 36 KM 723 (Ascendente)",5862,"V.DEL DIQUE","CALAMUCHITA","CORDOBA","30500143297","Saul, Diego Martin","Parolin, Mauricio Elvio","Banegas, Walter",""]
[null,"MAR DEL PLATA (CP: 7604)","7604","MAR DEL PLATA","BUENOS AIRES","METROPOLITANA","123","CESAR RONCARI",null,null,null,null,null,null,null,null,null,null,null,null,null,null,null,null,null,null,null,null,null,null,null,null,null,null,null,null,null,null,null,null,null,null,null,null,null,2147,"LUICO SA","TERCEROS","Consignado","MEDITERRANEA","AVENIDA DOMINGO F SARMIENTO 270",5127,"RIO PRIMERO","RIO PRIMERO","CORDOBA","30711379947","Fernandez, Cecilia","Parolin, Mauricio Elvio","Banegas, Walter",""]
[null,"MAR DEL SUD (CP: 7607)","7607","MAR DEL SUD","BUENOS AIRES","METROPOLITANA","123","CESAR RONCARI",null,null,null,null,null,null,null,null,null,null,null,null,null,null,null,null,null,null,null,null,null,null,null,null,null,null,null,null,null,null,null,null,null,null,null,null,null,2148,"BEDRO Y ROBERTO BARCENA","TERCEROS","Consignado","MEDITERRANEA","RUTA NACIONAL 9 KM (Ascendente) Y BOULEVARD SAN JUAN",5960,"RIO SEGUNDO","RIO SEGUNDO","CORDOBA","30581527469","Fraire, Lucas","Parolin, Mauricio Elvio","Banegas, Walter",""]
[null,"MAR DEL TUYU (CP: 7107)","7107","MAR DEL TUYU","BUENOS AIRES","METROPOLITANA","123","CESAR RONCARI",null,null,null,null,null,null,null,null,null,null,null,null,null,null,null,null,null,null,null,null,null,null,null,null,null,null,null,null,null,null,null,null,null,null,null,null,null,2151,"OSCAR BRUERA Y CIA SRL","TERCEROS","Consignado","MEDITERRANEA","TUCUMAN Y 25 DE MAYO",2415,"PORTEÑA","CORDOBA CAPITAL","CORDOBA","30707845917","Fernandez, Cecilia","Parolin, Mauricio Elvio","Banegas, Walter",""]
[null,"MARCOS PAZ (CP: 1727)","1727","MARCOS PAZ","BUENOS AIRES","METROPOLITANA",18,"OMAR PRESAS",null,null,null,null,null,null,null,null,null,null,null,null,null,null,null,null,null,null,null,null,null,null,null,null,null,null,null,null,null,null,null,null,null,null,null,null,null,2152,"CATTANEO HNOS SRL","TERCEROS","Consignado","MEDITERRANEA","AVENIDA DR MANUEL BELGRANO",5125,"MONTE CRISTO","RIO PRIMERO","CORDOBA","30540735197","Fernandez, Cecilia","Parolin, Mauricio Elvio","Banegas, Walter",""]
[null,"MARIANO ACOSTA (CP: 1723)","1723","MARIANO ACOSTA","BUENOS AIRES","METROPOLITANA",18,"OMAR PRESAS",null,null,null,null,null,null,null,null,null,null,null,null,null,null,null,null,null,null,null,null,null,null,null,null,null,null,null,null,null,null,null,null,null,null,null,null,null,2153,"CATTANEO HNOS SRL","TERCEROS","Consignado","MEDITERRANEA","RUTA PROVINCIAL 19 KM 313 (Ascendente)",5125,"MONTE CRISTO","RIO PRIMERO","CORDOBA","30540735197","Fernandez, Cecilia","Parolin, Mauricio Elvio","Banegas, Walter",""]
[null,"MARIANO H ALFONZO (CP: 2718)","2718","MARIANO H ALFONZO","BUENOS AIRES","METROPOLITANA","29","JOSE ANDRES MONDINO",null,null,null,null,null,null,null,null,null,null,null,null,null,null,null,null,null,null,null,null,null,null,null,null,null,null,null,null,null,null,null,null,null,null,null,null,null,2155,"CASA BENJAMIN SARTORI SRL","TERCEROS","Consignado","MEDITERRANEA","BOULEVARD BVD. DR. BELGRANO 1377",2421,"MORTEROS","SAN JUSTO","CORDOBA","30535360843","Fernandez, Cecilia","Parolin, Mauricio Elvio","Banegas, Walter",""]
[null,"MARIANO ROLDAN (CP: 7517)","7517","MARIANO ROLDAN","BUENOS AIRES","METROPOLITANA","123","CESAR RONCARI",null,null,null,null,null,null,null,null,null,null,null,null,null,null,null,null,null,null,null,null,null,null,null,null,null,null,null,null,null,null,null,null,null,null,null,null,null,2157,"OSCAR CHIANTORE SRL","TERCEROS","Consignado","MEDITERRANEA","RUTA NACIONAL 17 KM 176 (Descendente)",5137,"LA PARA","RIO PRIMERO","CORDOBA","33711478049","Fernandez, Cecilia","Parolin, Mauricio Elvio","Banegas, Walter",""]
[null,"MARIANO UNZUE (CP: 6551)","6551","MARIANO UNZUE","BUENOS AIRES","METROPOLITANA","123","CESAR RONCARI",null,null,null,null,null,null,null,null,null,null,null,null,null,null,null,null,null,null,null,null,null,null,null,null,null,null,null,null,null,null,null,null,null,null,null,null,null,2163,"NELIO RAUL PIGNATTA Y CIA S.A.","TERCEROS","Consignado","MEDITERRANEA","SAN MARTIN 1208",5986,"ONCATIVO","RIO SEGUNDO","CORDOBA","33558718779","Giuggia, Hugo ","Parolin, Mauricio Elvio","Banegas, Walter",""]
[null,"MARTIN BERRAHONDO (CP: 6667)","6667","MARTIN BERRAHONDO","BUENOS AIRES","METROPOLITANA",18,"OMAR PRESAS",null,null,null,null,null,null,null,null,null,null,null,null,null,null,null,null,null,null,null,null,null,null,null,null,null,null,null,null,null,null,null,null,null,null,null,null,null,2164,"DECAFIP SRL","TERCEROS","Consignado","MEDITERRANEA","RUTA NACIONAL 158 KM (Descendente) Y RUTA PROVINCIAL 13",5940,"LAS VARILLAS","SAN JUSTO","CORDOBA","30530197413","Fernandez, Cecilia","Parolin, Mauricio Elvio","Banegas, Walter",""]
[null,"MARTIN CORONADO (CP: 1682)","1682","MARTIN CORONADO","BUENOS AIRES","METROPOLITANA",18,"OMAR PRESAS",null,null,null,null,null,null,null,null,null,null,null,null,null,null,null,null,null,null,null,null,null,null,null,null,null,null,null,null,null,null,null,null,null,null,null,null,null,2167,"OSVALDO FANTINI Y CIA SRL","TERCEROS","Consignado","MEDITERRANEA","TENIENTE ALESSO 585",5133,"S.ROSA DE RIO 1","RIO PRIMERO","CORDOBA","33573553689","Fernandez, Cecilia","Parolin, Mauricio Elvio","Banegas, Walter",""]
[null,"MARTIN FIERRO (CP: 7311)","7311","MARTIN FIERRO","BUENOS AIRES","METROPOLITANA","123","CESAR RONCARI",null,null,null,null,null,null,null,null,null,null,null,null,null,null,null,null,null,null,null,null,null,null,null,null,null,null,null,null,null,null,null,null,null,null,null,null,null,2170,"LOI SRL","TERCEROS","Consignado","MEDITERRANEA","AVENIDA 9 DE JULIO",2400,"S.FRANCISCO","SAN JUSTO","CORDOBA","33708708769","Fernandez, Cecilia","Parolin, Mauricio Elvio","Banegas, Walter",""]
[null,"MARTINEZ (CP: 1640)","1640","MARTINEZ","BUENOS AIRES","METROPOLITANA","29","JOSE ANDRES MONDINO",null,null,null,null,null,null,null,null,null,null,null,null,null,null,null,null,null,null,null,null,null,null,null,null,null,null,null,null,null,null,null,null,null,null,null,null,null,2178,"SILVINO FELIX LENARDON","TERCEROS","Consignado","MEDITERRANEA","AVENIDA DR LAMELAS",5943,"S M LASPIUR","SAN JUSTO","CORDOBA","20083593505","Fernandez, Cecilia","Parolin, Mauricio Elvio","Banegas, Walter",""]
[null,"MATHEU (CP: 1627)","1627","MATHEU","BUENOS AIRES","METROPOLITANA","29","JOSE ANDRES MONDINO",null,null,null,null,null,null,null,null,null,null,null,null,null,null,null,null,null,null,null,null,null,null,null,null,null,null,null,null,null,null,null,null,null,null,null,null,null,2180,"FONTI DE MARTINATTO NILDA NILA Y OTROS SH","TERCEROS","Consignado","MEDITERRANEA","BOULEVARD FULVIO SALVADOR PAGANI",2434,"ARROYITO","SAN JUSTO","CORDOBA","30707087486","Fernandez, Cecilia","Parolin, Mauricio Elvio","Banegas, Walter",""]
[null,"MAURICIO HIRSCH (CP: 6531)","6531","MAURICIO HIRSCH","BUENOS AIRES","METROPOLITANA",31,"PABLO CIMINARI",null,null,null,null,null,null,null,null,null,null,null,null,null,null,null,null,null,null,null,null,null,null,null,null,null,null,null,null,null,null,null,null,null,null,null,null,null,2182,"JORGE OMAR MINETTI E HIJOS SRL","TERCEROS","Consignado","MEDITERRANEA","RUTA NACIONAL 13 KM (Ascendente) Y CARCANO",5201,"CALCHIN","RIO SEGUNDO","CORDOBA","30710589883","Fernandez, Cecilia","Parolin, Mauricio Elvio","Banegas, Walter",""]
[null,"MAXIMO FERNANDEZ (CP: 6645)","6645","MAXIMO FERNANDEZ","BUENOS AIRES","METROPOLITANA",18,"OMAR PRESAS",null,null,null,null,null,null,null,null,null,null,null,null,null,null,null,null,null,null,null,null,null,null,null,null,null,null,null,null,null,null,null,null,null,null,null,null,null,2184,"NELIO RAUL PIGNATTA Y CIA SA","TERCEROS","Consignado","MEDITERRANEA","RUTA NACIONAL 9 KM 662 (Descendente)",5972,"PILAR","RIO SEGUNDO","CORDOBA","33558718779","Giuggia, Hugo ","Parolin, Mauricio Elvio","Banegas, Walter",""]
[null,"MAXIMO PAZ (CP: 1812)","1812","MAXIMO PAZ","BUENOS AIRES","METROPOLITANA",31,"PABLO CIMINARI",null,null,null,null,null,null,null,null,null,null,null,null,null,null,null,null,null,null,null,null,null,null,null,null,null,null,null,null,null,null,null,null,null,null,null,null,null,2185,"POSSETTO HERMANOS Y CIA SRL","TERCEROS","Consignado","MEDITERRANEA","BOULEVARD SAN MARTIN 222",2419,"BRINKMANN","SAN JUSTO","CORDOBA","30568005313","Fernandez, Cecilia","Parolin, Mauricio Elvio","Banegas, Walter",""]
[null,"MAYOR BURATOVICH (CP: 8146)","8146","MAYOR BURATOVICH","BUENOS AIRES","METROPOLITANA",130,"CESAR RONCARI",null,null,null,null,null,null,null,null,null,null,null,null,null,null,null,null,null,null,null,null,null,null,null,null,null,null,null,null,null,null,null,null,null,null,null,null,null,2188,"PINAR SACIAI Y S","TERCEROS","Consignado","MEDITERRANEA","RUTA NACIONAL 13 KM (Descendente) Y G DEL BARCO",5963,"VILLA DEL ROSARIO","RIO SEGUNDO","CORDOBA","33569436929","Fernandez, Cecilia","Parolin, Mauricio Elvio","Banegas, Walter",""]
[null,"MAZA (CP: 6343)","6343","MAZA","BUENOS AIRES","METROPOLITANA","123","CESAR RONCARI",null,null,null,null,null,null,null,null,null,null,null,null,null,null,null,null,null,null,null,null,null,null,null,null,null,null,null,null,null,null,null,null,null,null,null,null,null,2189,"LA CUARTA SA","TERCEROS","Consignado","MEDITERRANEA","AUTOPISTA CORDOBA (RUTA NACIONAL 9) KM 655 (Ascendente) Y VILLA MARIA",5960,"RIO SEGUNDO","RIO SEGUNDO","CORDOBA","33698461069","Giuggia, Hugo ","Parolin, Mauricio Elvio","Banegas, Walter",""]
[null,"MECHITA (CP: 6648)","6648","MECHITA","BUENOS AIRES","METROPOLITANA",18,"OMAR PRESAS",null,null,null,null,null,null,null,null,null,null,null,null,null,null,null,null,null,null,null,null,null,null,null,null,null,null,null,null,null,null,null,null,null,null,null,null,null,2193,"ROBERTO S SANCHEZ E HIJOS SRL","TERCEROS","Consignado","MEDITERRANEA","PRESIDENTE HIPÓLITO YRIGOYEN S/N°",5974,"LAGUNA LARGA","RIO SEGUNDO","CORDOBA","30709001945","Fraire, Lucas","Parolin, Mauricio Elvio","Banegas, Walter",""]
[null,"MECHONGUE (CP: 7605)","7605","MECHONGUE","BUENOS AIRES","METROPOLITANA","123","CESAR RONCARI",null,null,null,null,null,null,null,null,null,null,null,null,null,null,null,null,null,null,null,null,null,null,null,null,null,null,null,null,null,null,null,null,null,null,null,null,null,2196,"ARIEL JOSE STRUMIA","TERCEROS","Consignado","MEDITERRANEA","BELGRANO Y ALEM",5125,"PIQUILLIN","RIO PRIMERO","CORDOBA","20239024875","Fernandez, Cecilia","Parolin, Mauricio Elvio","Banegas, Walter",""]
[null,"MEDANOS (CP: 8132)","8132","MEDANOS","BUENOS AIRES","METROPOLITANA",130,"CESAR RONCARI",null,null,null,null,null,null,null,null,null,null,null,null,null,null,null,null,null,null,null,null,null,null,null,null,null,null,null,null,null,null,null,null,null,null,null,null,null,2198,"LUICO S.A.","TERCEROS","Consignado","MEDITERRANEA","AVENIDA DEL LIBERTADOR Y DANTE ALIGHIERI",2400,"S.FRANCISCO","SAN JUSTO","CORDOBA","30711379947","Fernandez, Cecilia","Parolin, Mauricio Elvio","Banegas, Walter",""]
[null,"MELCHOR ROMERO (CP: 1903)","1903","MELCHOR ROMERO","BUENOS AIRES","METROPOLITANA",31,"PABLO CIMINARI",null,null,null,null,null,null,null,null,null,null,null,null,null,null,null,null,null,null,null,null,null,null,null,null,null,null,null,null,null,null,null,null,null,null,null,null,null,2203,"ACA SAN FRANCISCO","ACA","ACA","MEDITERRANEA","AVENIDA ROSARIO DE SANTA FE (INTERPROVINCIAL)",2400,"S.FRANCISCO","SAN JUSTO","CORDOBA","30500143297","Fernandez, Cecilia","Parolin, Mauricio Elvio","Banegas, Walter",""]
[null,"MERCADO CENTRAL (CP: 1771)","1771","MERCADO CENTRAL","BUENOS AIRES","METROPOLITANA",18,"OMAR PRESAS",null,null,null,null,null,null,null,null,null,null,null,null,null,null,null,null,null,null,null,null,null,null,null,null,null,null,null,null,null,null,null,null,null,null,null,null,null,2204,"BEST Y BEST SRL","TERCEROS","Consignado","PATAGONIA","AVENIDA AMEGHINO Y AVDA FONTANA",9200,"ESQUEL","FUTALEUFU","CHUBUT","30670362317","Otero, Sebastián","Maccari, Marcelo","Barreiro, Silvina",""]
[null,{"$f":"CONCATENATE(D899,\" (CP: \",C899,\")\")","v":"MERCEDES (CP: 6600)"},"6600","MERCEDES","BUENOS AIRES","METROPOLITANA",18,"OMAR PRESAS",null,null,null,null,null,null,null,null,null,null,null,null,null,null,null,null,null,null,null,null,null,null,null,null,null,null,null,null,null,null,null,null,null,null,null,null,null,2206,"COOP AGR UNION DE JUST POSEE LTD","TERCEROS","Consignado","MEDITERRANEA","RUTA PROVINCIAL 3 KM (Ascendente) Y RUTA PROVINCIAL 6",2553,"JUSTINIANO POSSE","UNION","CORDOBA","30511534492","Giuggia, Hugo ","Parolin, Mauricio Elvio","Banegas, Walter",""]
[null,"MERLO (CP: 1722)","1722","MERLO","BUENOS AIRES","METROPOLITANA",18,"OMAR PRESAS",null,null,null,null,null,null,null,null,null,null,null,null,null,null,null,null,null,null,null,null,null,null,null,null,null,null,null,null,null,null,null,null,null,null,null,null,null,2208,"MIGUEL JOSE BALDOVINO","TERCEROS","Consignado","MEDITERRANEA","RUTA NACIONAL 8 KM 455 (Descendente)",2650,"CANALS","UNION","CORDOBA","20080771461","Giuggia, Hugo ","Parolin, Mauricio Elvio","Banegas, Walter",""]
[null,"MICA.CASCALLARES (CP: 7507)","7507","MICA.CASCALLARES","BUENOS AIRES","METROPOLITANA","123","CESAR RONCARI",null,null,null,null,null,null,null,null,null,null,null,null,null,null,null,null,null,null,null,null,null,null,null,null,null,null,null,null,null,null,null,null,null,null,null,null,null,2209,"ECHANIZ HNOS SA","TERCEROS","Consignado","MEDITERRANEA","RUTA PROVINCIAL 11 KM (Ascendente) Y ACCESO",2659,"MONTE MAIZ","MARCOS JUAREZ","CORDOBA","30668473241","Giuggia, Hugo ","Parolin, Mauricio Elvio","Banegas, Walter",""]
[null,"MINISTRO RIVADAVIA (CP: 1852)","1852","MINISTRO RIVADAVIA","BUENOS AIRES","METROPOLITANA",31,"PABLO CIMINARI",null,null,null,null,null,null,null,null,null,null,null,null,null,null,null,null,null,null,null,null,null,null,null,null,null,null,null,null,null,null,null,null,null,null,null,null,null,2210,"LA TORRE SRL","TERCEROS","Consignado","MEDITERRANEA","LARDIZABAL Y URQUIZA",2580,"MARCOS JUAREZ","MARCOS JUAREZ","CORDOBA","30639088800","Giuggia, Hugo ","Parolin, Mauricio Elvio","Banegas, Walter",""]
[null,"MIRAMAR (CP: 7607)","7607","MIRAMAR","BUENOS AIRES","METROPOLITANA","123","CESAR RONCARI",null,null,null,null,null,null,null,null,null,null,null,null,null,null,null,null,null,null,null,null,null,null,null,null,null,null,null,null,null,null,null,null,null,null,null,null,null,2211,"BRUNETTI GUSTAVO ADELQUI","TERCEROS","Consignado","MEDITERRANEA","AVENIDA GRAL SAN MARTIN Y LUIS REYBET",2189,"CRUZ ALTA","MARCOS JUAREZ","CORDOBA","20176456729","Giuggia, Hugo ","Parolin, Mauricio Elvio","Banegas, Walter",""]
[null,"MIRAMONTE (CP: 7214)","7214","MIRAMONTE","BUENOS AIRES","METROPOLITANA","123","CESAR RONCARI",null,null,null,null,null,null,null,null,null,null,null,null,null,null,null,null,null,null,null,null,null,null,null,null,null,null,null,null,null,null,null,null,null,null,null,null,null,2213,"COOPERATIVA AGRICOLA GANADERA DE MONTE BUEY LTD","TERCEROS","Consignado","MEDITERRANEA","CHACABUCO Y MITRE",2589,"MONTE BUEY","MARCOS JUAREZ","CORDOBA","30531122115","Giuggia, Hugo ","Parolin, Mauricio Elvio","Banegas, Walter",""]
[null,"MOCTEZUMA (CP: 6531)","6531","MOCTEZUMA","BUENOS AIRES","METROPOLITANA",31,"PABLO CIMINARI",null,null,null,null,null,null,null,null,null,null,null,null,null,null,null,null,null,null,null,null,null,null,null,null,null,null,null,null,null,null,null,null,null,null,null,null,null,2220,"ECHANIZ HNOS SA","TERCEROS","Consignado","MEDITERRANEA","JOSE MARIA ALDAO Y ISLAS MALVINAS",2585,"CAMILO ALDAO","MARCOS JUAREZ","CORDOBA","30668473241","Giuggia, Hugo ","Parolin, Mauricio Elvio","Banegas, Walter",""]
[null,"MONES CAZON (CP: 6469)","6469","MONES CAZON","BUENOS AIRES","METROPOLITANA","123","CESAR RONCARI",null,null,null,null,null,null,null,null,null,null,null,null,null,null,null,null,null,null,null,null,null,null,null,null,null,null,null,null,null,null,null,null,null,null,null,null,null,2221,"LAMBERTUCCI DAMIAN Y GERMAN","TERCEROS","Consignado","MEDITERRANEA","GRAL PAZ Y PUEYRREDON",2580,"MARCOS JUAREZ","MARCOS JUAREZ","CORDOBA","30709283959","Giuggia, Hugo ","Parolin, Mauricio Elvio","Banegas, Walter",""]
[null,"MONTE CHINGOLO (CP: 1825)","1825","MONTE CHINGOLO","BUENOS AIRES","METROPOLITANA",31,"PABLO CIMINARI",null,null,null,null,null,null,null,null,null,null,null,null,null,null,null,null,null,null,null,null,null,null,null,null,null,null,null,null,null,null,null,null,null,null,null,null,null,2227,"FERRUCCI ARMANDO FEDERICO","TERCEROS","Consignado","MEDITERRANEA","SAN MARTIN Y IRIGOYEN",2550,"BELL VILLE","UNION","CORDOBA","20125335684","Fraire, Lucas","Parolin, Mauricio Elvio","Banegas, Walter",""]
[null,"MONTE GRANDE (CP: 1842)","1842","MONTE GRANDE","BUENOS AIRES","METROPOLITANA",31,"PABLO CIMINARI",null,null,null,null,null,null,null,null,null,null,null,null,null,null,null,null,null,null,null,null,null,null,null,null,null,null,null,null,null,null,null,null,null,null,null,null,null,2229,"FISORE DANIEL ARTEMIO","TERCEROS","Consignado","MEDITERRANEA","CORDOBA Y BELGRANO",2645,"CORRAL DE BUSTOS","MARCOS JUAREZ","CORDOBA","20127247669","Giuggia, Hugo ","Parolin, Mauricio Elvio","Banegas, Walter",""]
[null,"MONTE HERMOSO (CP: 8153)","8153","MONTE HERMOSO","BUENOS AIRES","METROPOLITANA","123","CESAR RONCARI",null,null,null,null,null,null,null,null,null,null,null,null,null,null,null,null,null,null,null,null,null,null,null,null,null,null,null,null,null,null,null,null,null,null,null,null,null,2232,"LA BALLESTA SRL","TERCEROS","Consignado","MEDITERRANEA","RUTA NACIONAL 9 KM 530 (Descendente) Y CONGRESALES DE TUCUMAN",2572,"BALLESTEROS","UNION","CORDOBA","30710951949","Fraire, Lucas","Parolin, Mauricio Elvio","Banegas, Walter",""]
[null,"MOQUEHUA (CP: 6625)","6625","MOQUEHUA","BUENOS AIRES","METROPOLITANA","123","CESAR RONCARI",null,null,null,null,null,null,null,null,null,null,null,null,null,null,null,null,null,null,null,null,null,null,null,null,null,null,null,null,null,null,null,null,null,null,null,null,null,2235,"CAON SRL","TERCEROS","Consignado","MEDITERRANEA","BELGRANO",2550,"BELL VILLE","UNION","CORDOBA","30707518320","Fraire, Lucas","Parolin, Mauricio Elvio","Banegas, Walter",""]
[null,"MOREA (CP: 6507)","6507","MOREA","BUENOS AIRES","METROPOLITANA",31,"PABLO CIMINARI",null,null,null,null,null,null,null,null,null,null,null,null,null,null,null,null,null,null,null,null,null,null,null,null,null,null,null,null,null,null,null,null,null,null,null,null,null,2237,"GUSTAVO MARTINI SRL","TERCEROS","Consignado","MEDITERRANEA","RUTA NACIONAL 9 KM (Ascendente) Y TUCUMAN",2580,"MARCOS JUAREZ","MARCOS JUAREZ","CORDOBA","30712491678","Giuggia, Hugo ","Parolin, Mauricio Elvio","Banegas, Walter",""]
[null,"MORENO (CP: 1744)","1744","MORENO","BUENOS AIRES","METROPOLITANA",18,"OMAR PRESAS",null,null,null,null,null,null,null,null,null,null,null,null,null,null,null,null,null,null,null,null,null,null,null,null,null,null,null,null,null,null,null,null,null,null,null,null,null,2239,"HORACIO JAVIER NAVALL","TERCEROS","Consignado","MEDITERRANEA","AVENIDA RIO DE LA PLATA Y SAN LUIS",2627,"GUATIMOZIN","MARCOS JUAREZ","CORDOBA","20143019161","Giuggia, Hugo ","Parolin, Mauricio Elvio","Banegas, Walter",""]
[null,"MORON (CP: 1708)","1708","MORON","BUENOS AIRES","METROPOLITANA",18,"OMAR PRESAS",null,null,null,null,null,null,null,null,null,null,null,null,null,null,null,null,null,null,null,null,null,null,null,null,null,null,null,null,null,null,null,null,null,null,null,null,null,2242,"ECHANIZ HNOS SA","TERCEROS","Consignado","MEDITERRANEA","AVENIDA ARMADA ARGENTINA 57",2645,"CORRAL DE BUSTOS","MARCOS JUAREZ","CORDOBA","30668473241","Giuggia, Hugo ","Parolin, Mauricio Elvio","Banegas, Walter",""]
[null,"MORSE (CP: 6013)","6013","MORSE","BUENOS AIRES","METROPOLITANA","29","JOSE ANDRES MONDINO",null,null,null,null,null,null,null,null,null,null,null,null,null,null,null,null,null,null,null,null,null,null,null,null,null,null,null,null,null,null,null,null,null,null,null,null,null,2243,"ESER RIVADAVIA SRL","TERCEROS","Consignado","MEDITERRANEA","RIVADAVIA Y 25 DE MAYO",2583,"GRAL.BALDISSERA","MARCOS JUAREZ","CORDOBA","30709697702","Giuggia, Hugo ","Parolin, Mauricio Elvio","Banegas, Walter",""]
[null,"MOSCONI (CP: 6667)","6667","MOSCONI","BUENOS AIRES","METROPOLITANA",18,"OMAR PRESAS",null,null,null,null,null,null,null,null,null,null,null,null,null,null,null,null,null,null,null,null,null,null,null,null,null,null,null,null,null,null,null,null,null,null,null,null,null,2245,"SUC DE ADELQUI A P TUBELLO","TERCEROS","Consignado","MEDITERRANEA","AVENIDA ARGENTINA Y SAENZ PE¡A",2679,"PASCANAS","UNION","CORDOBA","30587104349","Giuggia, Hugo ","Parolin, Mauricio Elvio","Banegas, Walter",""]
[null,"MULCAHY (CP: 6501)","6501","MULCAHY","BUENOS AIRES","METROPOLITANA",31,"PABLO CIMINARI",null,null,null,null,null,null,null,null,null,null,null,null,null,null,null,null,null,null,null,null,null,null,null,null,null,null,null,null,null,null,null,null,null,null,null,null,null,2248,"ECHANIZ HNOS","TERCEROS","Consignado","MEDITERRANEA","RUTA NACIONAL 9 KM 444 (Ascendente)",2580,"MARCOS JUAREZ","MARCOS JUAREZ","CORDOBA","30668473241","Giuggia, Hugo ","Parolin, Mauricio Elvio","Banegas, Walter",""]
[null,"MUNRO (CP: 1605)","1605","MUNRO","BUENOS AIRES","METROPOLITANA",18,"OMAR PRESAS",null,null,null,null,null,null,null,null,null,null,null,null,null,null,null,null,null,null,null,null,null,null,null,null,null,null,null,null,null,null,null,null,null,null,null,null,null,2249,"SILVIA INES VERNA","TERCEROS","Consignado","MEDITERRANEA","AVENIDA CORDOBA Y BUENOS AIRES","2651A","PUEBLO ITALIANO","UNION","CORDOBA","27143726792","Ojeda,  David ","Parolin, Mauricio Elvio","Banegas, Walter",""]
[null,"MUÑIZ (CP: 1663)","1663","MUÑIZ","BUENOS AIRES","METROPOLITANA",18,"OMAR PRESAS",null,null,null,null,null,null,null,null,null,null,null,null,null,null,null,null,null,null,null,null,null,null,null,null,null,null,null,null,null,null,null,null,null,null,null,null,null,2251,"DOMINGO LORENZO VANNI","TERCEROS","Consignado","MEDITERRANEA","RUTA NACIONAL 8 KM 410 (Ascendente)",2624,"ARIAS","MARCOS JUAREZ","CORDOBA","20064408705","Giuggia, Hugo ","Parolin, Mauricio Elvio","Banegas, Walter",""]
[null,"NAPALEOFU (CP: 7007)","7007","NAPALEOFU","BUENOS AIRES","METROPOLITANA","123","CESAR RONCARI",null,null,null,null,null,null,null,null,null,null,null,null,null,null,null,null,null,null,null,null,null,null,null,null,null,null,null,null,null,null,null,null,null,null,null,null,null,2254,"ACA CANALS","ACA","ACA","MEDITERRANEA","RUTA NACIONAL 8 KM 455 (Ascendente)",2650,"CANALS","UNION","CORDOBA","30500143297","Giuggia, Hugo ","Parolin, Mauricio Elvio","Banegas, Walter",""]
[null,"NAPOSTA (CP: 8122)","8122","NAPOSTA","BUENOS AIRES","METROPOLITANA",130,"CESAR RONCARI",null,null,null,null,null,null,null,null,null,null,null,null,null,null,null,null,null,null,null,null,null,null,null,null,null,null,null,null,null,null,null,null,null,null,null,null,null,2255,"AMERICO STUYCK SRL","TERCEROS","Consignado","MEDITERRANEA","LAS HERAS Y LINIERS",5929,"HERNANDO","TERCERO ARRIBA","CORDOBA","30519130145","Fraire, Lucas","Parolin, Mauricio Elvio","Banegas, Walter",""]
[null,"NAVARRO (CP: 6605)","6605","NAVARRO","BUENOS AIRES","METROPOLITANA",18,"OMAR PRESAS",null,null,null,null,null,null,null,null,null,null,null,null,null,null,null,null,null,null,null,null,null,null,null,null,null,null,null,null,null,null,null,null,null,null,null,null,null,2258,"BARALE HNOS SA","TERCEROS","Consignado","MEDITERRANEA","AVENIDA GRAL MANUEL N SAVIO 2200",5850,"RIO TERCERO","TERCERO ARRIBA","CORDOBA","30543035064","Fraire, Lucas","Parolin, Mauricio Elvio","Banegas, Walter",""]
[null,"NECOCHEA (CP: 7630)","7630","NECOCHEA","BUENOS AIRES","METROPOLITANA","123","CESAR RONCARI",null,null,null,null,null,null,null,null,null,null,null,null,null,null,null,null,null,null,null,null,null,null,null,null,null,null,null,null,null,null,null,null,null,null,null,null,null,2263,"CASA CATTANI SRL","TERCEROS","Consignado","MEDITERRANEA","AVENIDA PRESIDENTE HIPOLITO YRIGOYEN 379",2670,"LA CARLOTA","JUAREZ CELMAN","CORDOBA","30529653669","Giuggia, Hugo ","Parolin, Mauricio Elvio","Banegas, Walter",""]
[null,"NIEVES (CP: 7316)","7316","NIEVES","BUENOS AIRES","METROPOLITANA","123","CESAR RONCARI",null,null,null,null,null,null,null,null,null,null,null,null,null,null,null,null,null,null,null,null,null,null,null,null,null,null,null,null,null,null,null,null,null,null,null,null,null,2266,"VALENTIN ATILIO Y MIGUEL CAON SH","TERCEROS","Consignado","MEDITERRANEA","MARCELO T DE ALVEAR 829",5900,"VILLA MARIA","GRAL SAN MARTIN","CORDOBA","30601920243","Fraire, Lucas","Parolin, Mauricio Elvio","Banegas, Walter",""]
[null,"NORBERTO DE LA RIESTRA (CP: 6663)","6663","NORBERTO DE LA RIESTRA","BUENOS AIRES","METROPOLITANA",18,"OMAR PRESAS",null,null,null,null,null,null,null,null,null,null,null,null,null,null,null,null,null,null,null,null,null,null,null,null,null,null,null,null,null,null,null,null,null,null,null,null,null,2271,"GUARESCHI Y ASOCIADOS SH","TERCEROS","Consignado","MEDITERRANEA","AVENIDA 9 DE SETIEMBRE 39",5850,"RIO TERCERO","TERCERO ARRIBA","CORDOBA","33669376109","Fraire, Lucas","Parolin, Mauricio Elvio","Banegas, Walter",""]
[null,"NORUMBEGA (CP: 6501)","6501","NORUMBEGA","BUENOS AIRES","METROPOLITANA",31,"PABLO CIMINARI",null,null,null,null,null,null,null,null,null,null,null,null,null,null,null,null,null,null,null,null,null,null,null,null,null,null,null,null,null,null,null,null,null,null,null,null,null,2272,"REINERI SEBASTIAN J Y OTROS SH","TERCEROS","Consignado","MEDITERRANEA","JUAN PABLO II Y 25 DE MAYO (EX BS AS 2270)",5923,"GRAL.DEHEZA","JUAREZ CELMAN","CORDOBA","30707887997","Fraire, Lucas","Parolin, Mauricio Elvio","Banegas, Walter",""]
[null,"O HIGGINS (CP: 6748)","6748","O HIGGINS","BUENOS AIRES","METROPOLITANA","29","JOSE ANDRES MONDINO",null,null,null,null,null,null,null,null,null,null,null,null,null,null,null,null,null,null,null,null,null,null,null,null,null,null,null,null,null,null,null,null,null,null,null,null,null,2274,"ACTIS SA","TERCEROS","Consignado","MEDITERRANEA","SAN MARTIN Y TUCUMAN",5809,"GRAL.CABRERA","JUAREZ CELMAN","CORDOBA","30526484920","Fraire, Lucas","Parolin, Mauricio Elvio","Banegas, Walter",""]
[null,"OLASCOAGA (CP: 6652)","6652","OLASCOAGA","BUENOS AIRES","METROPOLITANA",18,"OMAR PRESAS",null,null,null,null,null,null,null,null,null,null,null,null,null,null,null,null,null,null,null,null,null,null,null,null,null,null,null,null,null,null,null,null,null,null,null,null,null,2275,"HERMES Y WALTER GUARESCHI SH","TERCEROS","Consignado","MEDITERRANEA","AVENIDA AV. AMERICA 272",5935,"VILLA ASCASUBI","TERCERO ARRIBA","CORDOBA","30572667479","Fraire, Lucas","Parolin, Mauricio Elvio","Banegas, Walter",""]
[null,"OLAVARRIA (CP: 7400)","7400","OLAVARRIA","BUENOS AIRES","METROPOLITANA","123","CESAR RONCARI",null,null,null,null,null,null,null,null,null,null,null,null,null,null,null,null,null,null,null,null,null,null,null,null,null,null,null,null,null,null,null,null,null,null,null,null,null,2283,"MOSELLO NATALIO EN HIJOS SH","TERCEROS","Consignado","MEDITERRANEA","GRAL SAN MARTIN Y RUTA PACIAL N¼ 4","5901A","AUSONIA","GRAL SAN MARTIN","CORDOBA","30707759735","Giuggia, Hugo ","Parolin, Mauricio Elvio","Banegas, Walter",""]
[null,"OLIDEN (CP: 1981)","1981","OLIDEN","BUENOS AIRES","METROPOLITANA",31,"PABLO CIMINARI",null,null,null,null,null,null,null,null,null,null,null,null,null,null,null,null,null,null,null,null,null,null,null,null,null,null,null,null,null,null,null,null,null,null,null,null,null,2284,"DUEL SRL","TERCEROS","Consignado","MEDITERRANEA","RUTA NACIONAL 8 KM 500 (Descendente)",2670,"LA CARLOTA","JUAREZ CELMAN","CORDOBA","30693186230","Giuggia, Hugo ","Parolin, Mauricio Elvio","Banegas, Walter",""]
[null,"OLIVERA (CP: 6608)","6608","OLIVERA","BUENOS AIRES","METROPOLITANA",18,"OMAR PRESAS",null,null,null,null,null,null,null,null,null,null,null,null,null,null,null,null,null,null,null,null,null,null,null,null,null,null,null,null,null,null,null,null,null,null,null,null,null,2286,"DEMATOR SA","TERCEROS","Consignado","MEDITERRANEA","BOULEVARD GENERAL ROCA Y RUTA NAC 158",5921,"LAS PERDICES","TERCERO ARRIBA","CORDOBA","30668681456","Fraire, Lucas","Parolin, Mauricio Elvio","Banegas, Walter",""]
[null,"OLIVOS (CP: 1636)","1636","OLIVOS","BUENOS AIRES","METROPOLITANA","29","JOSE ANDRES MONDINO",null,null,null,null,null,null,null,null,null,null,null,null,null,null,null,null,null,null,null,null,null,null,null,null,null,null,null,null,null,null,null,null,null,null,null,null,null,2288,"NORMANDO FRANCISCO MONDINO","TERCEROS","Consignado","MEDITERRANEA","RUTA NACIONAL 9 KM 577 (Ascendente)",5936,"TIO PUJIO","GRAL SAN MARTIN","CORDOBA","20065966760","Fraire, Lucas","Parolin, Mauricio Elvio","Banegas, Walter",""]
[null,"OMBUCTA (CP: 8142)","8142","OMBUCTA","BUENOS AIRES","METROPOLITANA",130,"CESAR RONCARI",null,null,null,null,null,null,null,null,null,null,null,null,null,null,null,null,null,null,null,null,null,null,null,null,null,null,null,null,null,null,null,null,null,null,null,null,null,2291,"OPESSA MATE DE LUNA II","OPESSA","Consignado","VALLES","AVENIDA FERNANDO MATE DE LUNA Y AVENIDA COLON",4000,"S.M.TUCUMAN","TUCUMAN CAPITAL","TUCUMAN","30678774495","Abboud, Marco","Naval, Carlos","Astegiano, Flavio","Ruiz, Pablo Camilo"]
[null,"OPEN DOOR (CP: 6708)","6708","OPEN DOOR","BUENOS AIRES","METROPOLITANA","29","JOSE ANDRES MONDINO",null,null,null,null,null,null,null,null,null,null,null,null,null,null,null,null,null,null,null,null,null,null,null,null,null,null,null,null,null,null,null,null,null,null,null,null,null,2293,"JORGE MIGUEL ANGEL GRÖTSCHL","TERCEROS","Consignado","MEDITERRANEA","AVENIDA FUERZA AEREA Y ARTURO ILLIA",5850,"RIO TERCERO","TERCERO ARRIBA","CORDOBA","20145864624","Fraire, Lucas","Parolin, Mauricio Elvio","Banegas, Walter",""]
[null,"ORDOQUI (CP: 6537)","6537","ORDOQUI","BUENOS AIRES","METROPOLITANA",31,"PABLO CIMINARI",null,null,null,null,null,null,null,null,null,null,null,null,null,null,null,null,null,null,null,null,null,null,null,null,null,null,null,null,null,null,null,null,null,null,null,null,null,2299,"SANTA VICTORIA SRL","TERCEROS","Consignado","MEDITERRANEA","RUTA NACIONAL 158 KM (Ascendente) Y RUTA PROVINCIAL 2",5903,"VILLA NUEVA","GRAL SAN MARTIN","CORDOBA","30613196311","Fraire, Lucas","Parolin, Mauricio Elvio","Banegas, Walter",""]
[null,"ORENSE (CP: 7503)","7503","ORENSE","BUENOS AIRES","METROPOLITANA","123","CESAR RONCARI",null,null,null,null,null,null,null,null,null,null,null,null,null,null,null,null,null,null,null,null,null,null,null,null,null,null,null,null,null,null,null,null,null,null,null,null,null,2304,"ACA VILLA MARIA","ACA","ACA","MEDITERRANEA","ALVEAR Y SARMIENTO",5900,"VILLA MARIA","GRAL SAN MARTIN","CORDOBA","30500143297","Fraire, Lucas","Parolin, Mauricio Elvio","Banegas, Walter",""]
[null,"ORIENTE (CP: 7509)","7509","ORIENTE","BUENOS AIRES","METROPOLITANA","123","CESAR RONCARI",null,null,null,null,null,null,null,null,null,null,null,null,null,null,null,null,null,null,null,null,null,null,null,null,null,null,null,null,null,null,null,null,null,null,null,null,null,2309,"BARALE Y GHIO SACIF","TERCEROS","Consignado","MEDITERRANEA","SARMIENTO 18",5280,"CRUZ DEL EJE","CRUZ DEL EJE","CORDOBA","30530385597","Saul, Diego Martin","Parolin, Mauricio Elvio","Banegas, Walter",""]
[null,"ORTIZ DE ROZAS (CP: 6660)","6660","ORTIZ DE ROZAS","BUENOS AIRES","METROPOLITANA",18,"OMAR PRESAS",null,null,null,null,null,null,null,null,null,null,null,null,null,null,null,null,null,null,null,null,null,null,null,null,null,null,null,null,null,null,null,null,null,null,null,null,null,2310,"BARALE Y GHIO SACIF","TERCEROS","Consignado","MEDITERRANEA","CASEROS 150",5284,"VILLA DE SOTO","CRUZ DEL EJE","CORDOBA","30530385597","Saul, Diego Martin","Parolin, Mauricio Elvio","Banegas, Walter",""]
[null,"OTAMENDI-ING.ROMULO (CP: 2802)","2802","OTAMENDI-ING.ROMULO","BUENOS AIRES","METROPOLITANA","29","JOSE ANDRES MONDINO",null,null,null,null,null,null,null,null,null,null,null,null,null,null,null,null,null,null,null,null,null,null,null,null,null,null,null,null,null,null,null,null,null,null,null,null,null,2312,"PEDRO ROGELIO BENITEZ","TERCEROS","Reventa","MEDITERRANEA","SARMIENTO Y EULOGIO CUELLO",5879,"LA PAZ","SAN JAVIER","CORDOBA","20082762788","Saul, Diego Martin","Parolin, Mauricio Elvio","Banegas, Walter",""]
[null,"PABLO ACOSTA (CP: 7301)","7301","PABLO ACOSTA","BUENOS AIRES","METROPOLITANA","123","CESAR RONCARI",null,null,null,null,null,null,null,null,null,null,null,null,null,null,null,null,null,null,null,null,null,null,null,null,null,null,null,null,null,null,null,null,null,null,null,null,null,2313,"CARLOMAGNO SRL","TERCEROS","Consignado","MEDITERRANEA","SAN MARTIN Y CARCANO",5889,"MINA CLAVERO","SAN ALBERTO","CORDOBA","33531235059","Saul, Diego Martin","Parolin, Mauricio Elvio","Banegas, Walter",""]
[null,"PABLO NOGUES (CP: 1613)","1613","PABLO NOGUES","BUENOS AIRES","METROPOLITANA","29","JOSE ANDRES MONDINO",null,null,null,null,null,null,null,null,null,null,null,null,null,null,null,null,null,null,null,null,null,null,null,null,null,null,null,null,null,null,null,null,null,null,null,null,null,2314,"CURA BROCHERO SRL","TERCEROS","Consignado","MEDITERRANEA","AVENIDA BELGRANO Y RUTA 15",5891,"VIL.CURA BROCHERO","SAN ALBERTO","CORDOBA","30669268528","Saul, Diego Martin","Parolin, Mauricio Elvio","Banegas, Walter",""]
[null,"PABLO NOGUES (CP: 1749)","1749","PABLO NOGUES","BUENOS AIRES","METROPOLITANA",29,"JOSE ANDRES MONDINO",null,null,null,null,null,null,null,null,null,null,null,null,null,null,null,null,null,null,null,null,null,null,null,null,null,null,null,null,null,null,null,null,null,null,null,null,null,2316,"LUIS A CARRIZO Y CIA SRL","TERCEROS","Consignado","MEDITERRANEA","RUTA NACIONAL 60 KM 851 (Descendente)",5214,"QUILINO","ISCHILIN","CORDOBA","30627062490","Alizzi, Silvina","Parolin, Mauricio Elvio","Banegas, Walter",""]
[null,"PABLO PODESTA (CP: 1657)","1657","PABLO PODESTA","BUENOS AIRES","METROPOLITANA",18,"OMAR PRESAS",null,null,null,null,null,null,null,null,null,null,null,null,null,null,null,null,null,null,null,null,null,null,null,null,null,null,null,null,null,null,null,null,null,null,null,null,null,2321,"VILLAFUELL SA","TERCEROS","Consignado","MEDITERRANEA","AVENIDA CARCANO 140",5152,"VILLA CARLOS PAZ","PUNILLA","CORDOBA","30708621001","Saul, Diego Martin","Parolin, Mauricio Elvio","Banegas, Walter",""]
[null,"PALANTELEN (CP: 6640)","6640","PALANTELEN","BUENOS AIRES","METROPOLITANA",18,"OMAR PRESAS",null,null,null,null,null,null,null,null,null,null,null,null,null,null,null,null,null,null,null,null,null,null,null,null,null,null,null,null,null,null,null,null,null,null,null,null,null,2323,"ROBERTO FIORANI E HIJOS SCC","TERCEROS","Consignado","MEDITERRANEA","AVENIDA EVA PERON Y RUTA NACIONAL 38",5280,"CRUZ DEL EJE","CRUZ DEL EJE","CORDOBA","30538510064","Saul, Diego Martin","Parolin, Mauricio Elvio","Banegas, Walter",""]
[null,"PALO BLANCO (CP: 1923)","1923","PALO BLANCO","BUENOS AIRES","METROPOLITANA",31,"PABLO CIMINARI",null,null,null,null,null,null,null,null,null,null,null,null,null,null,null,null,null,null,null,null,null,null,null,null,null,null,null,null,null,null,null,null,null,null,null,null,null,2326,"GABRIELLI MARIANO Y GABRIELLI E SH","TERCEROS","Consignado","MEDITERRANEA","BOULEVARD FLORES",5176,"VILLA GIARDINO","PUNILLA","CORDOBA","33678683049","Saul, Diego Martin","Parolin, Mauricio Elvio","Banegas, Walter",""]
[null,"PARADA ROBLES (CP: 6703)","6703","PARADA ROBLES","BUENOS AIRES","METROPOLITANA","29","JOSE ANDRES MONDINO",null,null,null,null,null,null,null,null,null,null,null,null,null,null,null,null,null,null,null,null,null,null,null,null,null,null,null,null,null,null,null,null,null,null,null,null,null,2332,"ARMANDO MARCUZZI SRL","TERCEROS","Consignado","MEDITERRANEA","URUGUAY 695 Y OLCHASUR",5152,"VILLA CARLOS PAZ","PUNILLA","CORDOBA","30553646584","Saul, Diego Martin","Parolin, Mauricio Elvio","Banegas, Walter",""]
[null,"PARAJE EL CARRETERO (CP: 7641)","7641","PARAJE EL CARRETERO","BUENOS AIRES","METROPOLITANA",130,"CESAR RONCARI",null,null,null,null,null,null,null,null,null,null,null,null,null,null,null,null,null,null,null,null,null,null,null,null,null,null,null,null,null,null,null,null,null,null,null,null,null,2334,"MARTINATTI RAUL ALBERTO","TERCEROS","Consignado","MEDITERRANEA","SAN MARTIN 93 Y JURAMENTO",5168,"VALLE HERMOSO","PUNILLA","CORDOBA","20130080392","Saul, Diego Martin","Parolin, Mauricio Elvio","Banegas, Walter",""]
[null,"PARAJE LA BRAVA (CP: 7620)","7620","PARAJE LA BRAVA","BUENOS AIRES","METROPOLITANA","123","CESAR RONCARI",null,null,null,null,null,null,null,null,null,null,null,null,null,null,null,null,null,null,null,null,null,null,null,null,null,null,null,null,null,null,null,null,null,null,null,null,null,2337,"PUESTO VIEJO SRL","TERCEROS","Consignado","MEDITERRANEA","AVENIDA LIBERTADOR 625",5887,"NONO","SAN ALBERTO","CORDOBA","30612280904","Saul, Diego Martin","Parolin, Mauricio Elvio","Banegas, Walter",""]
[null,"PARDO (CP: 7212)","7212","PARDO","BUENOS AIRES","METROPOLITANA","123","CESAR RONCARI",null,null,null,null,null,null,null,null,null,null,null,null,null,null,null,null,null,null,null,null,null,null,null,null,null,null,null,null,null,null,null,null,null,null,null,null,null,2338,"LUICO SA","TERCEROS","Consignado","MEDITERRANEA","RUTA NACIONAL 9 KM 803 (Descendente)",5238,"LAS PE#AS","TOTORAL","CORDOBA","30711379947","Fernandez, Cecilia","Parolin, Mauricio Elvio","Banegas, Walter",""]
[null,"PARISH (CP: 7316)","7316","PARISH","BUENOS AIRES","METROPOLITANA","123","CESAR RONCARI",null,null,null,null,null,null,null,null,null,null,null,null,null,null,null,null,null,null,null,null,null,null,null,null,null,null,null,null,null,null,null,null,null,null,null,null,null,2340,"RIBAS EDUARDO RAMON","TERCEROS","Reventa","MEDITERRANEA","AVENIDA MANUEL BELGRANO Y SIERRAS GRANDES","5295A","VILLA LAS ROSAS","SAN JAVIER","CORDOBA","20069044493","Saul, Diego Martin","Parolin, Mauricio Elvio","Banegas, Walter",""]
[null,"PARQUE GAONA (CP: 1744)","1744","PARQUE GAONA","BUENOS AIRES","METROPOLITANA",18,"OMAR PRESAS",null,null,null,null,null,null,null,null,null,null,null,null,null,null,null,null,null,null,null,null,null,null,null,null,null,null,null,null,null,null,null,null,null,null,null,null,null,2347,"ACA LA FALDA","ACA","ACA","MEDITERRANEA","AVENIDA EDEN Y ESPA#A",5172,"LA FALDA","PUNILLA","CORDOBA","30500143297","Saul, Diego Martin","Parolin, Mauricio Elvio","Banegas, Walter",""]
[null,"PARQUE SAN MARTIN (CP: 1722)","1722","PARQUE SAN MARTIN","BUENOS AIRES","METROPOLITANA",18,"OMAR PRESAS",null,null,null,null,null,null,null,null,null,null,null,null,null,null,null,null,null,null,null,null,null,null,null,null,null,null,null,null,null,null,null,null,null,null,null,null,null,2348,"ACA VILLA CARLOS PAZ","ACA","ACA","MEDITERRANEA","SAN MARTIN Y MEDRANO",5152,"VILLA CARLOS PAZ","PUNILLA","CORDOBA","30500143297","Saul, Diego Martin","Parolin, Mauricio Elvio","Banegas, Walter",""]
[null,"PASMAN (CP: 7547)","7547","PASMAN","BUENOS AIRES","METROPOLITANA","123","CESAR RONCARI",null,null,null,null,null,null,null,null,null,null,null,null,null,null,null,null,null,null,null,null,null,null,null,null,null,null,null,null,null,null,null,null,null,null,null,null,null,2350,"ACEICOM SRL","TERCEROS","Consignado","MEDITERRANEA","25 DE MAYO Y CORDOBA",5848,"LAS ACEQUIAS","RIO CUARTO","CORDOBA","30522366885","Ojeda,  David ","Parolin, Mauricio Elvio","Banegas, Walter",""]
[null,"PASO DEL REY (CP: 1742)","1742","PASO DEL REY","BUENOS AIRES","METROPOLITANA",18,"OMAR PRESAS",null,null,null,null,null,null,null,null,null,null,null,null,null,null,null,null,null,null,null,null,null,null,null,null,null,null,null,null,null,null,null,null,null,null,null,null,null,2352,"EDUARDO ALBERTO ANGIOLINI","TERCEROS","Consignado","MEDITERRANEA","AVENIDA SAN MARTIN Y MITRE","6225A","HIPOLITO BOUCHARD","GRAL ROCA","CORDOBA","23065098369","Ojeda,  David ","Parolin, Mauricio Elvio","Banegas, Walter",""]
[null,"PASTEUR (CP: 6077)","6077","PASTEUR","BUENOS AIRES","METROPOLITANA",18,"OMAR PRESAS",null,null,null,null,null,null,null,null,null,null,null,null,null,null,null,null,null,null,null,null,null,null,null,null,null,null,null,null,null,null,null,null,null,null,null,null,null,2353,"MAIPU RIO SRL","TERCEROS","Consignado","MEDITERRANEA","GENERAL SAN MARTIN Y MAIPU",5800,"RIO CUARTO","RIO CUARTO","CORDOBA","30669095143","Ojeda,  David ","Parolin, Mauricio Elvio","Banegas, Walter",""]
[null,"PATRICIOS (CP: 6503)","6503","PATRICIOS","BUENOS AIRES","METROPOLITANA",31,"PABLO CIMINARI",null,null,null,null,null,null,null,null,null,null,null,null,null,null,null,null,null,null,null,null,null,null,null,null,null,null,null,null,null,null,null,null,null,null,null,null,null,2355,"BUSSO BETINA","TERCEROS","Consignado","MEDITERRANEA","CORDOBA Y 9 DE JULIO",6125,"SERRANO","PTE ROQUE SAENZ PE#A","CORDOBA","27248833489","Ojeda,  David ","Parolin, Mauricio Elvio","Banegas, Walter",""]
[null,"PAULA (CP: 6557)","6557","PAULA","BUENOS AIRES","METROPOLITANA","123","CESAR RONCARI",null,null,null,null,null,null,null,null,null,null,null,null,null,null,null,null,null,null,null,null,null,null,null,null,null,null,null,null,null,null,null,null,null,null,null,null,null,2356,"MARIA M B DE SOLDANO Y CIA SRL","TERCEROS","Reventa","MEDITERRANEA","RUTA NACIONAL 36 KM (Ascendente) Y PROVINCIAL 5",5817,"LA DORMIDA","RIO CUARTO","CORDOBA","30669063004","Fernandez, Cecilia","Parolin, Mauricio Elvio","Banegas, Walter",""]
[null,"PEDERNALES (CP: 6665)","6665","PEDERNALES","BUENOS AIRES","METROPOLITANA",18,"OMAR PRESAS",null,null,null,null,null,null,null,null,null,null,null,null,null,null,null,null,null,null,null,null,null,null,null,null,null,null,null,null,null,null,null,null,null,null,null,null,null,2357,"MARIA M B DE SOLDANO Y CIA SRL","TERCEROS","Consignado","MEDITERRANEA","RUTA NACIONAL 36 KM 678 (Descendente) Y VELEZ SARFIELD","5817A","BERROTARAN","RIO CUARTO","CORDOBA","30669063004","Fraire, Lucas","Parolin, Mauricio Elvio","Banegas, Walter",""]
[null,"PEDR0 LUR0 (CP: 8148)","8148","PEDR0 LUR0","BUENOS AIRES","METROPOLITANA",130,"CESAR RONCARI",null,null,null,null,null,null,null,null,null,null,null,null,null,null,null,null,null,null,null,null,null,null,null,null,null,null,null,null,null,null,null,null,null,null,null,null,null,2358,"SABY HNOS SRL","TERCEROS","Consignado","MEDITERRANEA","RUTA NACIONAL 158 KM 5 (Descendente)",5800,"RIO CUARTO","RIO CUARTO","CORDOBA","30707118675","Ojeda,  David ","Parolin, Mauricio Elvio","Banegas, Walter",""]
[null,"PEDRO LURO (CP: 8145)","8145","PEDRO LURO","BUENOS AIRES","METROPOLITANA",130,"CESAR RONCARI",null,null,null,null,null,null,null,null,null,null,null,null,null,null,null,null,null,null,null,null,null,null,null,null,null,null,null,null,null,null,null,null,null,null,null,null,null,2360,"PETROSAM SRL","TERCEROS","Consignado","MEDITERRANEA","RUTA NACIONAL 8 KM 856 (Ascendente)",5829,"SAMPACHO","RIO CUARTO","CORDOBA","30683939931","Ojeda,  David ","Parolin, Mauricio Elvio","Banegas, Walter",""]
[null,"PEDRO P LASALLE (CP: 7515)","7515","PEDRO P LASALLE","BUENOS AIRES","METROPOLITANA","123","CESAR RONCARI",null,null,null,null,null,null,null,null,null,null,null,null,null,null,null,null,null,null,null,null,null,null,null,null,null,null,null,null,null,null,null,null,null,null,null,null,null,2362,"OPESSA MATE DE LUNA I","OPESSA","Consignado","VALLES","AVENIDA MATE DE LUNA Y EJERCITO DEL NORTE",4000,"S.M.TUCUMAN","TUCUMAN CAPITAL","TUCUMAN","30678774495","Abboud, Marco","Naval, Carlos","Astegiano, Flavio","Ruiz, Pablo Camilo"]
[null,"PEHUAJO (CP: 6450)","6450","PEHUAJO","BUENOS AIRES","METROPOLITANA","123","CESAR RONCARI",null,null,null,null,null,null,null,null,null,null,null,null,null,null,null,null,null,null,null,null,null,null,null,null,null,null,null,null,null,null,null,null,null,null,null,null,null,2365,"EL PARQUE SCC","TERCEROS","Consignado","MEDITERRANEA","9 DE JULIO Y URQUIZA",5841,"SAN BASILIO","RIO CUARTO","CORDOBA","30621551716","Ojeda,  David ","Parolin, Mauricio Elvio","Banegas, Walter",""]
[null,"PEHUENCO (CP: 8109)","8109","PEHUENCO","BUENOS AIRES","METROPOLITANA",130,"CESAR RONCARI",null,null,null,null,null,null,null,null,null,null,null,null,null,null,null,null,null,null,null,null,null,null,null,null,null,null,null,null,null,null,null,null,null,null,null,null,null,2369,"LUIS ICARDI Y MARIO BREZZO SH","TERCEROS","Consignado","MEDITERRANEA","AVENIDA GENERAL SAN MARTIN Y SALTA",6271,"MATALDI","GRAL ROCA","CORDOBA","30634107521","Ojeda,  David ","Parolin, Mauricio Elvio","Banegas, Walter",""]
[null,{"$f":"CONCATENATE(D963,\" (CP: \",C963,\")\")","v":"PELICURA (CP: 8117)"},"8117","PELICURA","BUENOS AIRES","METROPOLITANA",130,"CESAR RONCARI",null,null,null,null,null,null,null,null,null,null,null,null,null,null,null,null,null,null,null,null,null,null,null,null,null,null,null,null,null,null,null,null,null,null,null,null,null,2373,"TRINIDAD PESCIALLO SA","TERCEROS","Consignado","MEDITERRANEA","AVENIDA GRAL SAN MARTIN Y L.N.ALEM",5843,"ADELIA MARIA","RIO CUARTO","CORDOBA","30698570012","Ojeda,  David ","Parolin, Mauricio Elvio","Banegas, Walter",""]
[null,"PELLEGRINI (CP: 6346)","6346","PELLEGRINI","BUENOS AIRES","METROPOLITANA","123","CESAR RONCARI",null,null,null,null,null,null,null,null,null,null,null,null,null,null,null,null,null,null,null,null,null,null,null,null,null,null,null,null,null,null,null,null,null,null,null,null,null,2379,"RICARDO RISATTI SACIF","TERCEROS","Consignado","MEDITERRANEA","RUTA NACIONAL 7 KM (Ascendente) Y ACCESO A LABOULAYE",6120,"LABOULAYE","PTE ROQUE SAENZ PE#A","CORDOBA","33525935189","Ojeda,  David ","Parolin, Mauricio Elvio","Banegas, Walter",""]
[null,"PEREYRA (CP: 1894)","1894","PEREYRA","BUENOS AIRES","METROPOLITANA",31,"PABLO CIMINARI",null,null,null,null,null,null,null,null,null,null,null,null,null,null,null,null,null,null,null,null,null,null,null,null,null,null,null,null,null,null,null,null,null,null,null,null,null,2383,"JORGE OSVALDO LIZZI","TERCEROS","Consignado","MEDITERRANEA","AVENIDA LIBERTADOR Y RUTA 30",5833,"ACHIRAS","RIO CUARTO","CORDOBA","20066582613","Ojeda,  David ","Parolin, Mauricio Elvio","Banegas, Walter",""]
[null,"PEREZ MILLAN (CP: 2933)","2933","PEREZ MILLAN","BUENOS AIRES","METROPOLITANA","29","JOSE ANDRES MONDINO",null,null,null,null,null,null,null,null,null,null,null,null,null,null,null,null,null,null,null,null,null,null,null,null,null,null,null,null,null,null,null,null,null,null,null,null,null,2384,"COOPERATIVA ELECTRICA Y AGUAS CORRIENTES DE GENERAL LEVALLE LTDA","TERCEROS","Consignado","MEDITERRANEA","URQUIZA Y UGARTE",6132,"GRAL.LEVALLE","PTE ROQUE SAENZ PE#A","CORDOBA","30545735217","Ojeda,  David ","Parolin, Mauricio Elvio","Banegas, Walter",""]
[null,"PERGAMINO (CP: 2700)","2700","PERGAMINO","BUENOS AIRES","METROPOLITANA","29","JOSE ANDRES MONDINO",null,null,null,null,null,null,null,null,null,null,null,null,null,null,null,null,null,null,null,null,null,null,null,null,null,null,null,null,null,null,null,null,null,null,null,null,null,2387,"TARTARA HERMANOS Y BAINOTTI SH","TERCEROS","Consignado","MEDITERRANEA","RUTA PROVINCIAL 24 KM (Descendente) Y SAN MARTIN",5841,"SAN BASILIO","RIO CUARTO","CORDOBA","30562903549","Ojeda,  David ","Parolin, Mauricio Elvio","Banegas, Walter",""]
[null,"PICHINCHA (CP: 6051)","6051","PICHINCHA","BUENOS AIRES","METROPOLITANA",18,"OMAR PRESAS",null,null,null,null,null,null,null,null,null,null,null,null,null,null,null,null,null,null,null,null,null,null,null,null,null,null,null,null,null,null,null,null,null,null,null,null,null,2391,"LAS SIERRAS SRL","TERCEROS","Consignado","MEDITERRANEA","RUTA NACIONAL 36 KM (Ascendente) Y ACCESO 005",5800,"RIO CUARTO","RIO CUARTO","CORDOBA","30707994874","Ojeda,  David ","Parolin, Mauricio Elvio","Banegas, Walter",""]
[null,"PIEDRITAS (CP: 6241)","6241","PIEDRITAS","BUENOS AIRES","METROPOLITANA","123","CESAR RONCARI",null,null,null,null,null,null,null,null,null,null,null,null,null,null,null,null,null,null,null,null,null,null,null,null,null,null,null,null,null,null,null,null,null,null,null,null,null,2393,"ACA RIO CUARTO","ACA","ACA","MEDITERRANEA","AVENIDA ESPA#A 280 Y P. ZANNI",5800,"RIO CUARTO","RIO CUARTO","CORDOBA","30500143297","Ojeda,  David ","Parolin, Mauricio Elvio","Banegas, Walter",""]
[null,"PIERES (CP: 7633)","7633","PIERES","BUENOS AIRES","METROPOLITANA","123","CESAR RONCARI",null,null,null,null,null,null,null,null,null,null,null,null,null,null,null,null,null,null,null,null,null,null,null,null,null,null,null,null,null,null,null,null,null,null,null,null,null,2394,"YADON OLGA ESTER","TERCEROS","Consignado","VALLES","RUTA NACIONAL 157 KM (Ascendente) Y RUTA NACIONAL 64",4234,"LAVALLE","GUASAYAN","SANTIAGO DEL ESTERO","27062461379","Abboud, Marco","Naval, Carlos","Astegiano, Flavio",""]
[null,"PIGUE (CP: 8170)","8170","PIGUE","BUENOS AIRES","METROPOLITANA","123","CESAR RONCARI",null,null,null,null,null,null,null,null,null,null,null,null,null,null,null,null,null,null,null,null,null,null,null,null,null,null,null,null,null,null,null,null,null,null,null,null,null,2395,"PETROFRIAS SRL","TERCEROS","Consignado","VALLES","RUTA NACIONAL 157 KM (Ascendente) Y PTE. DE LA PLAZA",4230,"FRIAS","CHOYA","SANTIAGO DEL ESTERO","30675063253","Abboud, Marco","Naval, Carlos","Astegiano, Flavio",""]
[null,"PILA (CP: 7116)","7116","PILA","BUENOS AIRES","METROPOLITANA","123","CESAR RONCARI",null,null,null,null,null,null,null,null,null,null,null,null,null,null,null,null,null,null,null,null,null,null,null,null,null,null,null,null,null,null,null,null,null,null,null,null,null,2397,"BIANCHI SRL","TERCEROS","Consignado","VALLES","AVENIDA GENERAL MANUEL BELGRANO SUD 1481 Y RODRIGUEZ",4200,"S.DEL ESTERO","SANTIAGO DEL ESTERO CAP","SANTIAGO DEL ESTERO","30522424583","Arevalo, Roque Fabian","Naval, Carlos","Astegiano, Flavio",""]
[null,"PILAR (CP: 1629)","1629","PILAR","BUENOS AIRES","METROPOLITANA","29","JOSE ANDRES MONDINO",null,null,null,null,null,null,null,null,null,null,null,null,null,null,null,null,null,null,null,null,null,null,null,null,null,null,null,null,null,null,null,null,null,null,null,null,null,2398,"PETROBAN SRL","TERCEROS","Consignado","VALLES","AVENIDA BELGRANO 602 Y MORENO",4300,"LA BANDA","BANDA","SANTIAGO DEL ESTERO","30707873457","Arevalo, Roque Fabian","Naval, Carlos","Astegiano, Flavio",""]
[null,"PINAMAR (CP: 7167)","7167","PINAMAR","BUENOS AIRES","METROPOLITANA","123","CESAR RONCARI",null,null,null,null,null,null,null,null,null,null,null,null,null,null,null,null,null,null,null,null,null,null,null,null,null,null,null,null,null,null,null,null,null,null,null,null,null,2401,"PETROSERVICE SRL","TERCEROS","Consignado","VALLES","RUTA NACIONAL 34 KM 682 (Descendente)",4322,"TUSCA POZO","ROBLES","SANTIAGO DEL ESTERO","30686658364","Arevalo, Roque Fabian","Naval, Carlos","Astegiano, Flavio",""]
[null,"PINZON (CP: 2703)","2703","PINZON","BUENOS AIRES","METROPOLITANA","29","JOSE ANDRES MONDINO",null,null,null,null,null,null,null,null,null,null,null,null,null,null,null,null,null,null,null,null,null,null,null,null,null,null,null,null,null,null,null,null,null,null,null,null,null,2404,"GUSMAR SA","TERCEROS","Reventa","VALLES","AVENIDA BELGRANO 645",4200,"S.DEL ESTERO","SANTIAGO DEL ESTERO CAP","SANTIAGO DEL ESTERO","30709369519","Arevalo, Roque Fabian","Naval, Carlos","Astegiano, Flavio",""]
[null,"PIÑEYRO (CP: 1870)","1870","PIÑEYRO","BUENOS AIRES","METROPOLITANA",31,"PABLO CIMINARI",null,null,null,null,null,null,null,null,null,null,null,null,null,null,null,null,null,null,null,null,null,null,null,null,null,null,null,null,null,null,null,null,null,null,null,null,null,2413,"OGNIO ANTONELLA","TERCEROS","Consignado","LITORAL NORTE","AVENIDA CAZADORES CORRENTINOS 3698 Y TACUARI",3400,"CORRIENTES","CORRIENTES CAPITAL","CORRIENTES","27328368817","Machuca, Rolando","Kokubu, Alberto","A definir",""]
[null,"PIPINAS (CP: 1921)","1921","PIPINAS","BUENOS AIRES","METROPOLITANA",31,"PABLO CIMINARI",null,null,null,null,null,null,null,null,null,null,null,null,null,null,null,null,null,null,null,null,null,null,null,null,null,null,null,null,null,null,null,null,null,null,null,null,null,2414,"BLOKE SA","TERCEROS","Consignado","VALLES","AVENIDA AGUIRRE SUR 1815 Y JAPON",4200,"S.DEL ESTERO","SANTIAGO DEL ESTERO CAP","SANTIAGO DEL ESTERO","33659778209","Arevalo, Roque Fabian","Naval, Carlos","Astegiano, Flavio",""]
[null,"PIROVANO (CP: 6551)","6551","PIROVANO","BUENOS AIRES","METROPOLITANA","123","CESAR RONCARI",null,null,null,null,null,null,null,null,null,null,null,null,null,null,null,null,null,null,null,null,null,null,null,null,null,null,null,null,null,null,null,null,null,null,null,null,null,2417,"JUTE SRL","TERCEROS","Consignado","VALLES","RUTA PROVINCIAL 6 KM (Ascendente) Y BUENOS AIRES",4350,"SUNCHO CORRAL","JUAN F IBARRA","SANTIAGO DEL ESTERO","30708311517","Arevalo, Roque Fabian","Naval, Carlos","Astegiano, Flavio",""]
[null,"PLA (CP: 6634)","6634","PLA","BUENOS AIRES","METROPOLITANA",18,"OMAR PRESAS",null,null,null,null,null,null,null,null,null,null,null,null,null,null,null,null,null,null,null,null,null,null,null,null,null,null,null,null,null,null,null,null,null,null,null,null,null,2418,"JUTE SRL","TERCEROS","Consignado","VALLES","RUTA NACIONAL 89 KM 380 (Descendente)",3740,"QUIMILI","MORENO","SANTIAGO DEL ESTERO","30708311517","Arevalo, Roque Fabian","Naval, Carlos","Astegiano, Flavio",""]
[null,"PLATANOS (CP: 1885)","1885","PLATANOS","BUENOS AIRES","METROPOLITANA",31,"PABLO CIMINARI",null,null,null,null,null,null,null,null,null,null,null,null,null,null,null,null,null,null,null,null,null,null,null,null,null,null,null,null,null,null,null,null,null,null,null,null,null,2420,"NORESTE SANTIAGUE#A SA","TERCEROS","Consignado","VALLES","RUTA PROVINCIAL 5 KM 186 (Ascendente)",3743,"TINTINA","ALBERDI","SANTIAGO DEL ESTERO","30580985439","Arevalo, Roque Fabian","Naval, Carlos","Astegiano, Flavio",""]
[null,"PLAY.SAN BERNARDO (CP: 7111)","7111","PLAY.SAN BERNARDO","BUENOS AIRES","METROPOLITANA","123","CESAR RONCARI",null,null,null,null,null,null,null,null,null,null,null,null,null,null,null,null,null,null,null,null,null,null,null,null,null,null,null,null,null,null,null,null,null,null,null,null,null,2424,"FABIAN ENRICO SRL","TERCEROS","Consignado","VALLES","REPUBLICA DEL LIBANO 602",4300,"LA BANDA","ATAMISQUI","SANTIAGO DEL ESTERO","30713034904","Arevalo, Roque Fabian","Naval, Carlos","Astegiano, Flavio",""]
[null,"PLAYA SERENA (CP: 7609)","7609","PLAYA SERENA","BUENOS AIRES","METROPOLITANA","123","CESAR RONCARI",null,null,null,null,null,null,null,null,null,null,null,null,null,null,null,null,null,null,null,null,null,null,null,null,null,null,null,null,null,null,null,null,null,null,null,null,null,2425,"PETROSAN SA","TERCEROS","Consignado","VALLES","AVENIDA LIBERTAD Y SANTA ROSA",4200,"S.DEL ESTERO","SANTIAGO DEL ESTERO CAP","SANTIAGO DEL ESTERO","30584175881","Arevalo, Roque Fabian","Naval, Carlos","Astegiano, Flavio",""]
[null,"POBLET (CP: 1905)","1905","POBLET","BUENOS AIRES","METROPOLITANA",31,"PABLO CIMINARI",null,null,null,null,null,null,null,null,null,null,null,null,null,null,null,null,null,null,null,null,null,null,null,null,null,null,null,null,null,null,null,null,null,null,null,null,null,2426,"U. AGRICOLA DE AVELLANEDA COOP. LDA.","TERCEROS","Consignado","VALLES","RUTA NACIONAL 98 KM (Descendente) Y FLORENTINO AMEGHINO",3064,"BANDERA","BELGRANO","SANTIAGO DEL ESTERO","30501912405","Arevalo, Roque Fabian","Naval, Carlos","Astegiano, Flavio",""]
[null,"POLVAREDAS (CP: 7267)","7267","POLVAREDAS","BUENOS AIRES","METROPOLITANA","123","CESAR RONCARI",null,null,null,null,null,null,null,null,null,null,null,null,null,null,null,null,null,null,null,null,null,null,null,null,null,null,null,null,null,null,null,null,null,null,null,null,null,2430,"MALENO SA","TERCEROS","Consignado","VALLES","RUTA NACIONAL 9 KM 1199 (Ascendente)",4220,"TERMAS DE RIO HONDO","RIO HONDO","SANTIAGO DEL ESTERO","30710226896","Abboud, Marco","Naval, Carlos","Astegiano, Flavio",""]
[null,"PONTEVEDRA (CP: 1761)","1761","PONTEVEDRA","BUENOS AIRES","METROPOLITANA",18,"OMAR PRESAS",null,null,null,null,null,null,null,null,null,null,null,null,null,null,null,null,null,null,null,null,null,null,null,null,null,null,null,null,null,null,null,null,null,null,null,null,null,2436,"MAS SINERGIA S.A.","TERCEROS","Consignado","VALLES","RUTA NACIONAL 34 KM 406 (Ascendente)",2354,"SELVA","RIVADAVIA","SANTIAGO DEL ESTERO","30714339202","Arevalo, Roque Fabian","Naval, Carlos","Astegiano, Flavio",""]
[null,"PORVENIR (CP: 6063)","6063","PORVENIR","BUENOS AIRES","METROPOLITANA",18,"OMAR PRESAS",null,null,null,null,null,null,null,null,null,null,null,null,null,null,null,null,null,null,null,null,null,null,null,null,null,null,null,null,null,null,null,null,null,null,null,null,null,2437,"DON JUAN SRL","TERCEROS","Consignado","VALLES","RUTA NACIONAL 9 KM (Ascendente) JUAN BAUTISTA ALBERDI",4220,"TERMAS DE RIO HONDO","RIO HONDO","SANTIAGO DEL ESTERO","30686639912","Abboud, Marco","Naval, Carlos","Astegiano, Flavio",""]
[null,"PTE QUINTANA (CP: 6621)","6621","PTE QUINTANA","BUENOS AIRES","METROPOLITANA",18,"OMAR PRESAS",null,null,null,null,null,null,null,null,null,null,null,null,null,null,null,null,null,null,null,null,null,null,null,null,null,null,null,null,null,null,null,null,null,null,null,null,null,2438,"MARTIN EDUARDO VALLE","TERCEROS","Reventa","VALLES","RUTA NACIONAL 92 KM () Y ACCESO A LOS TELARES",4321,"LOS TELARES","SALAVINA","SANTIAGO DEL ESTERO","20138057764","Arevalo, Roque Fabian","Naval, Carlos","Astegiano, Flavio",""]
[null,"PTE.DERQUI (CP: 1635)","1635","PTE.DERQUI","BUENOS AIRES","METROPOLITANA","29","JOSE ANDRES MONDINO",null,null,null,null,null,null,null,null,null,null,null,null,null,null,null,null,null,null,null,null,null,null,null,null,null,null,null,null,null,null,null,null,null,null,null,null,null,2439,"PETROFRIAS SRL","TERCEROS","Consignado","VALLES","AVENIDA SAN MARTIN Y JUJUY",4230,"FRIAS","CHOYA","SANTIAGO DEL ESTERO","30675063253","Abboud, Marco","Naval, Carlos","Astegiano, Flavio",""]
[null,"PUAN (CP: 8180)","8180","PUAN","BUENOS AIRES","METROPOLITANA","123","CESAR RONCARI",null,null,null,null,null,null,null,null,null,null,null,null,null,null,null,null,null,null,null,null,null,null,null,null,null,null,null,null,null,null,null,null,null,null,null,null,null,2440,"ELVIO YBA#EZ SRL","TERCEROS","Consignado","VALLES","AVENIDA 25 DE MAYO Y GOB BARRAZA",3760,"AÑATUYA","GRAL TABOADA","SANTIAGO DEL ESTERO","30715142356","Arevalo, Roque Fabian","Naval, Carlos","Astegiano, Flavio",""]
[null,"PUEBLITOS (CP: 6661)","6661","PUEBLITOS","BUENOS AIRES","METROPOLITANA",18,"OMAR PRESAS",null,null,null,null,null,null,null,null,null,null,null,null,null,null,null,null,null,null,null,null,null,null,null,null,null,null,null,null,null,null,null,null,null,null,null,null,null,2442,"ACA SANTIAGO DEL ESTERO","ACA","ACA","VALLES","AVENIDA BELGRANO SUR Y SAENZ PEðA",4200,"S.DEL ESTERO","SANTIAGO DEL ESTERO CAP","SANTIAGO DEL ESTERO","30500143297","Arevalo, Roque Fabian","Naval, Carlos","Astegiano, Flavio",""]
[null,"PUERTO BELGRANO (CP: 8111)","8111","PUERTO BELGRANO","BUENOS AIRES","METROPOLITANA",130,"CESAR RONCARI",null,null,null,null,null,null,null,null,null,null,null,null,null,null,null,null,null,null,null,null,null,null,null,null,null,null,null,null,null,null,null,null,null,null,null,null,null,2443,"ACA OJO DE AGUA","ACA","ACA","VALLES","RUTA NACIONAL 9 KM 929 (Ascendente)",5250,"OJO DE AGUA","OJO DE AGUA","SANTIAGO DEL ESTERO","30500143297","Arevalo, Roque Fabian","Naval, Carlos","Astegiano, Flavio",""]
[null,"PUERTO CUATREROS (CP: 8122)","8122","PUERTO CUATREROS","BUENOS AIRES","METROPOLITANA",130,"CESAR RONCARI",null,null,null,null,null,null,null,null,null,null,null,null,null,null,null,null,null,null,null,null,null,null,null,null,null,null,null,null,null,null,null,null,null,null,null,null,null,2444,"SUC AVILA FERNANDO J","TERCEROS","Consignado","VALLES","AVENIDA REP DEL LIBANO 1102 E ITALIA",4000,"S.M.TUCUMAN","TUCUMAN CAPITAL","TUCUMAN","20070294002","Abboud, Marco","Naval, Carlos","Astegiano, Flavio",""]
[null,"PUERTO GALVAN (CP: 8000)","8000","PUERTO GALVAN","BUENOS AIRES","METROPOLITANA",130,"CESAR RONCARI",null,null,null,null,null,null,null,null,null,null,null,null,null,null,null,null,null,null,null,null,null,null,null,null,null,null,null,null,null,null,null,null,null,null,null,null,null,2445,"FULL SERVICE SRL","TERCEROS","Consignado","VALLES","RUTA NACIONAL 38 KM (Ascendente) Y CORDOBA",4145,"RIO SECO","JUAN BAUTISTA ALBERDI","TUCUMAN","30708225149","Abboud, Marco","Naval, Carlos","Astegiano, Flavio",""]
[null,"PUERTO ROSALES (CP: 8111)","8111","PUERTO ROSALES","BUENOS AIRES","METROPOLITANA",130,"CESAR RONCARI",null,null,null,null,null,null,null,null,null,null,null,null,null,null,null,null,null,null,null,null,null,null,null,null,null,null,null,null,null,null,null,null,null,null,null,null,null,2446,"OPESSA TUCUMAN","OPESSA","Consignado","VALLES","B. ARAOZ Y W. POSE",4000,"S.M.TUCUMAN","TUCUMAN CAPITAL","TUCUMAN","30678774495","Abboud, Marco","Naval, Carlos","Astegiano, Flavio","Ruiz, Pablo Camilo"]
[null,"PUNTA ALTA (CP: 8109)","8109","PUNTA ALTA","BUENOS AIRES","METROPOLITANA",130,"CESAR RONCARI",null,null,null,null,null,null,null,null,null,null,null,null,null,null,null,null,null,null,null,null,null,null,null,null,null,null,null,null,null,null,null,null,null,null,null,null,null,2448,"MORABITO HNOS","TERCEROS","Consignado","BUENOS AIRES","AVENIDA DR H PUEYRREDON Y SARMIENTO",1629,"PILAR","PILAR","BUENOS AIRES","30662624736","Cullari, José","Brena, Marcelo","Barruti, Francisco",""]
[null,"PUNTA INDI0 (CP: 1917)","1917","PUNTA INDI0","BUENOS AIRES","METROPOLITANA",31,"PABLO CIMINARI",null,null,null,null,null,null,null,null,null,null,null,null,null,null,null,null,null,null,null,null,null,null,null,null,null,null,null,null,null,null,null,null,null,null,null,null,null,2450,"TIBURCIO SANZ SA","TERCEROS","Consignado","VALLES","AVENIDA SAN MARTIN GUATEMALA 0",4109,"BANDA D.RIO SALI","CRUZ ALTA","TUCUMAN","30707102418","Villafañe, Ramiro","Naval, Carlos","Astegiano, Flavio",""]
[null,"PUNTA LARA (CP: 1931)","1931","PUNTA LARA","BUENOS AIRES","METROPOLITANA",31,"PABLO CIMINARI",null,null,null,null,null,null,null,null,null,null,null,null,null,null,null,null,null,null,null,null,null,null,null,null,null,null,null,null,null,null,null,null,null,null,null,null,null,2454,"COMERCIAL DE PETROLEO","TERCEROS","Consignado","VALLES","24 DE SEPTIEMBRE Y SARMIENTO",4142,"MONTEROS","MONTEROS","TUCUMAN","33707236529","Villafañe, Ramiro","Naval, Carlos","Astegiano, Flavio",""]
[null,"QUENUMA (CP: 6335)","6335","QUENUMA","BUENOS AIRES","METROPOLITANA","123","CESAR RONCARI",null,null,null,null,null,null,null,null,null,null,null,null,null,null,null,null,null,null,null,null,null,null,null,null,null,null,null,null,null,null,null,null,null,null,null,null,null,2455,"ESTACION CENTRAL SRL","TERCEROS","Consignado","VALLES","BATALLA DE JUNIN 439",4000,"S.M.TUCUMAN","TUCUMAN CAPITAL","TUCUMAN","30710875835","Abboud, Marco","Naval, Carlos","Astegiano, Flavio",""]
[null,"QUEQUEN (CP: 7631)","7631","QUEQUEN","BUENOS AIRES","METROPOLITANA","123","CESAR RONCARI",null,null,null,null,null,null,null,null,null,null,null,null,null,null,null,null,null,null,null,null,null,null,null,null,null,null,null,null,null,null,null,null,null,null,null,null,null,2457,"EST DE SERV ACONQUIJA SRL","TERCEROS","Consignado","VALLES","AVENIDA ACONQUIJA ENTRE ARROYO Y ROCA",4107,"YERBA BUENA","TAFI DEL VALLE","TUCUMAN","30680014783","Villafañe, Ramiro","Naval, Carlos","Astegiano, Flavio",""]
[null,"QUILMES (CP: 1878)","1878","QUILMES","BUENOS AIRES","METROPOLITANA",31,"PABLO CIMINARI",null,null,null,null,null,null,null,null,null,null,null,null,null,null,null,null,null,null,null,null,null,null,null,null,null,null,null,null,null,null,null,null,null,null,null,null,null,2460,"OPESSA POSADAS FATIMA","OPESSA","Consignado","LITORAL NORTE","RUTA NACIONAL 12 KM 9 (Ascendente)",3300,"POSADAS","POSADAS","MISIONES","30678774495","Avalos, Ramón","Kokubu, Alberto","A definir","Duran, Oscar"]
[null,"QUILMES (CP: 1979)","1979","QUILMES","BUENOS AIRES","METROPOLITANA",31,"PABLO CIMINARI",null,null,null,null,null,null,null,null,null,null,null,null,null,null,null,null,null,null,null,null,null,null,null,null,null,null,null,null,null,null,null,null,null,null,null,null,null,2466,"HERRERA RUBEN NEDER","TERCEROS","Consignado","VALLES","RUTA NACIONAL 157 KM 100.500 (Descendente)",4176,"LAMADRID","GRANEROS","TUCUMAN","20070078792","Abboud, Marco","Naval, Carlos","Astegiano, Flavio",""]
[null,"QUILMES OESTE (CP: 1879)","1879","QUILMES OESTE","BUENOS AIRES","METROPOLITANA",31,"PABLO CIMINARI",null,null,null,null,null,null,null,null,null,null,null,null,null,null,null,null,null,null,null,null,null,null,null,null,null,null,null,null,null,null,null,null,null,null,null,null,null,2468,"FULL SERVICE SRL","TERCEROS","Consignado","VALLES","RUTA NACIONAL 9 KM 1285 (Ascendente)",4111,"PACARA PINTADO","CRUZ ALTA","TUCUMAN","30708225149","Villafañe, Ramiro","Naval, Carlos","Astegiano, Flavio",""]
[null,"RAFAEL CASTILLO (CP: 1755)","1755","RAFAEL CASTILLO","BUENOS AIRES","METROPOLITANA",18,"OMAR PRESAS",null,null,null,null,null,null,null,null,null,null,null,null,null,null,null,null,null,null,null,null,null,null,null,null,null,null,null,null,null,null,null,null,null,null,null,null,null,2481,"PETRONORTE SA","TERCEROS","Consignado","VALLES","SAN MARTIN 171",4109,"BANDA D.RIO SALI","CRUZ ALTA","TUCUMAN","30541604312","Villafañe, Ramiro","Naval, Carlos","Astegiano, Flavio",""]
[null,"RAFAEL OBLIGADO (CP: 6001)","6001","RAFAEL OBLIGADO","BUENOS AIRES","METROPOLITANA",18,"OMAR PRESAS",null,null,null,null,null,null,null,null,null,null,null,null,null,null,null,null,null,null,null,null,null,null,null,null,null,null,null,null,null,null,null,null,null,null,null,null,null,2484,"SERVICENTRO LOS VALLES SRL","TERCEROS","Consignado","VALLES","DIEGO ROJAS Y TUPAC AMARU",4137,"TAFI DEL VALLE","TAFI DEL VALLE","TUCUMAN","30691800802","Villafañe, Ramiro","Naval, Carlos","Astegiano, Flavio",""]
[null,"RAMON J NEILD (CP: 6533)","6533","RAMON J NEILD","BUENOS AIRES","METROPOLITANA",31,"PABLO CIMINARI",null,null,null,null,null,null,null,null,null,null,null,null,null,null,null,null,null,null,null,null,null,null,null,null,null,null,null,null,null,null,null,null,null,null,null,null,null,2498,"PETRONORTE SA","TERCEROS","Consignado","VALLES","25 DE MAYO Y CORRIENTES",4000,"S.M.TUCUMAN","TUCUMAN CAPITAL","TUCUMAN","30541604312","Abboud, Marco","Naval, Carlos","Astegiano, Flavio",""]
[null,"RAMON OTERO (CP: 7621)","7621","RAMON OTERO","BUENOS AIRES","METROPOLITANA","123","CESAR RONCARI",null,null,null,null,null,null,null,null,null,null,null,null,null,null,null,null,null,null,null,null,null,null,null,null,null,null,null,null,null,null,null,null,null,null,null,null,null,2499,"OPESSA TUCUMAN YERBA BUENA","OPESSA","Consignado","VALLES","AVENIDA ACONQUIJA 1784",4107,"YERBA BUENA","TUCUMAN CAPITAL","TUCUMAN","30678774495","Abboud, Marco","Naval, Carlos","Astegiano, Flavio","Ruiz, Pablo Camilo"]
[null,"RANCHOS (CP: 1987)","1987","RANCHOS","BUENOS AIRES","METROPOLITANA",31,"PABLO CIMINARI",null,null,null,null,null,null,null,null,null,null,null,null,null,null,null,null,null,null,null,null,null,null,null,null,null,null,null,null,null,null,null,null,null,null,null,null,null,2505,"DANOVIS SA","TERCEROS","Consignado","VALLES","AVENIDA FRANCISCO DE AGUIRRE",4000,"S.M.TUCUMAN","TUCUMAN CAPITAL","TUCUMAN","30702380339","Abboud, Marco","Naval, Carlos","Astegiano, Flavio",""]
[null,"RANELAGH (CP: 1886)","1886","RANELAGH","BUENOS AIRES","METROPOLITANA",31,"PABLO CIMINARI",null,null,null,null,null,null,null,null,null,null,null,null,null,null,null,null,null,null,null,null,null,null,null,null,null,null,null,null,null,null,null,null,null,null,null,null,null,2506,"ACA SAN MIGUEL DE TUCUMAN","ACA","ACA","VALLES","AVENIDA SALTA ENTRE GALLO Y MEXICO",4000,"S.M.TUCUMAN","TUCUMAN CAPITAL","TUCUMAN","30500143297","Abboud, Marco","Naval, Carlos","Astegiano, Flavio",""]
[null,"REMEDIOS DE ESCALADA (CP: 1826)","1826","REMEDIOS DE ESCALADA","BUENOS AIRES","METROPOLITANA",31,"PABLO CIMINARI",null,null,null,null,null,null,null,null,null,null,null,null,null,null,null,null,null,null,null,null,null,null,null,null,null,null,null,null,null,null,null,null,null,null,null,null,null,2511,"BUCCOLINI Y CIA SRL","TERCEROS","Consignado","VALLES","CARLOS PELLEGRINI 1007 Y VIDT",4400,"SALTA","SALTA CAPITAL","SALTA","30543354372","Corbella, Laura","Naval, Carlos","Astegiano, Flavio",""]
[null,"RESERVA CINTURON ECOLOGI (CP: 1870)","1870","RESERVA CINTURON ECOLOGI","BUENOS AIRES","METROPOLITANA",31,"PABLO CIMINARI",null,null,null,null,null,null,null,null,null,null,null,null,null,null,null,null,null,null,null,null,null,null,null,null,null,null,null,null,null,null,null,null,null,null,null,null,null,2513,"ESTACIÓN CAMPO SANTO SRL","TERCEROS","Consignado","VALLES","AVENIDA H IRIGOYEN Y SARMIENTO",4432,"CAMPO SANTO","GRAL GUEMES","SALTA","30707379908","Stoll, Maximiliano","Naval, Carlos","Astegiano, Flavio",""]
[null,"RINCON DE MILBERG (CP: 1648)","1648","RINCON DE MILBERG","BUENOS AIRES","METROPOLITANA","29","JOSE ANDRES MONDINO",null,null,null,null,null,null,null,null,null,null,null,null,null,null,null,null,null,null,null,null,null,null,null,null,null,null,null,null,null,null,null,null,null,null,null,null,null,2517,"E/S INDEPENDENCIA SRL","TERCEROS","Consignado","VALLES","AVENIDA INDEPENDENCIA Y RONDEAU",4400,"SALTA","SALTA CAPITAL","SALTA","30709437611","Corbella, Laura","Naval, Carlos","Astegiano, Flavio",""]
[null,"RINGUELET (CP: 1901)","1901","RINGUELET","BUENOS AIRES","METROPOLITANA",31,"PABLO CIMINARI",null,null,null,null,null,null,null,null,null,null,null,null,null,null,null,null,null,null,null,null,null,null,null,null,null,null,null,null,null,null,null,null,null,null,null,null,null,2520,"GEMINIS","TERCEROS","Consignado","VALLES","SAN MARTIN Y TENIENTE IBAÑEZ",4430,"GRAL GUEMES","GRAL GUEMES","SALTA","30690658263","Stoll, Maximiliano","Naval, Carlos","Astegiano, Flavio",""]
[null,"RIVADAVIA (CP: 6237)","6237","RIVADAVIA","BUENOS AIRES","METROPOLITANA","123","CESAR RONCARI",null,null,null,null,null,null,null,null,null,null,null,null,null,null,null,null,null,null,null,null,null,null,null,null,null,null,null,null,null,null,null,null,null,null,null,null,null,2523,"E/S EL CHANGO SRL","TERCEROS","Consignado","VALLES","AVENIDA PARAGUAY Y AVENIDA BELGICA",4400,"SALTA","SALTA CAPITAL","SALTA","30644226359","Corbella, Laura","Naval, Carlos","Astegiano, Flavio",""]
[null,"RIVADEO (CP: 8127)","8127","RIVADEO","BUENOS AIRES","METROPOLITANA",130,"CESAR RONCARI",null,null,null,null,null,null,null,null,null,null,null,null,null,null,null,null,null,null,null,null,null,null,null,null,null,null,null,null,null,null,null,null,null,null,null,null,null,2524,"E/S EL MILAGRO SRL","TERCEROS","Consignado","VALLES","AVENIDA HIPOLITO IRIGOYEN Y M BOERO",4421,"LA MERCED","CERRILLOS","SALTA","30646021320","Corbella, Laura","Naval, Carlos","Astegiano, Flavio",""]
[null,"ROBERTS (CP: 6075)","6075","ROBERTS","BUENOS AIRES","METROPOLITANA",18,"OMAR PRESAS",null,null,null,null,null,null,null,null,null,null,null,null,null,null,null,null,null,null,null,null,null,null,null,null,null,null,null,null,null,null,null,null,null,null,null,null,null,2528,"LUIS A CARRIZO Y CIA SRL","TERCEROS","Consignado","VALLES","RUTA NACIONAL 34 KM 1426 (Ascendente) Y RUTA 51",4430,"GRAL GUEMES","GRAL GUEMES","SALTA","30627062490","Marcori, Maximiliano","Naval, Carlos","Astegiano, Flavio",""]
[null,{"$f":"CONCATENATE(D1027,\" (CP: \",C1027,\")\")","v":"ROJAS (CP: 2705)"},"2705","ROJAS","BUENOS AIRES","METROPOLITANA","29","JOSE ANDRES MONDINO",null,null,null,null,null,null,null,null,null,null,null,null,null,null,null,null,null,null,null,null,null,null,null,null,null,null,null,null,null,null,null,null,null,null,null,null,null,2529,"EL JAGUEL SA","TERCEROS","Consignado","VALLES","RUTA NACIONAL 34 KM 1138 (Ascendente)",4430,"GRAL GUEMES","GRAL GUEMES","SALTA","30681254001","Stoll, Maximiliano","Naval, Carlos","Astegiano, Flavio",""]
[null,"S.ANDRES DE GILES (CP: 6720)","6720","S.ANDRES DE GILES","BUENOS AIRES","METROPOLITANA","29","JOSE ANDRES MONDINO",null,null,null,null,null,null,null,null,null,null,null,null,null,null,null,null,null,null,null,null,null,null,null,null,null,null,null,null,null,null,null,null,null,null,null,null,null,2532,"ESTACION DE SERV J V GONZALEZ SA","TERCEROS","Consignado","VALLES","RUTA NACIONAL 16 KM (Ascendente) Y CALLE SALTA",4448,"JOA.V.GONZALEZ","ANTA","SALTA","33533111209","Marcori, Maximiliano","Naval, Carlos","Astegiano, Flavio",""]
[null,"S.F.SOLANO (CP: 1881)","1881","S.F.SOLANO","BUENOS AIRES","METROPOLITANA",31,"PABLO CIMINARI",null,null,null,null,null,null,null,null,null,null,null,null,null,null,null,null,null,null,null,null,null,null,null,null,null,null,null,null,null,null,null,null,null,null,null,null,null,2533,"BENEDETTI SRL","TERCEROS","Consignado","PATAGONIA","AVENIDA LOS NOTROS Y RUTA PROVINCIAL 16",9211,"LAGO PUELO","CUSHAMEN","CHUBUT","30714456454","Otero, Sebastián","Maccari, Marcelo","Barreiro, Silvina",""]
[null,"SAENZ PEÑA (CP: 1674)","1674","SAENZ PEÑA","BUENOS AIRES","METROPOLITANA",18,"OMAR PRESAS",null,null,null,null,null,null,null,null,null,null,null,null,null,null,null,null,null,null,null,null,null,null,null,null,null,null,null,null,null,null,null,null,null,null,null,null,null,2537,"JACARANDA SA","TERCEROS","Consignado","VALLES","AVENIDA ENTRE RIOS Y JUNIN",4400,"SALTA","SALTA CAPITAL","SALTA","33611226689","Corbella, Laura","Naval, Carlos","Astegiano, Flavio",""]
[null,"SALADILLO (CP: 7260)","7260","SALADILLO","BUENOS AIRES","METROPOLITANA",31,"PABLO CIMINARI",null,null,null,null,null,null,null,null,null,null,null,null,null,null,null,null,null,null,null,null,null,null,null,null,null,null,null,null,null,null,null,null,null,null,null,null,null,2538,"NUEVA ESTACION DE SERVICIO BOLIVAR SRL","TERCEROS","Consignado","VALLES","GRAL BOLIVAR Y ESPA#A",4400,"SALTA","SALTA CAPITAL","SALTA","30710388411","Corbella, Laura","Naval, Carlos","Astegiano, Flavio",""]
[null,"SALLIQUELO (CP: 6339)","6339","SALLIQUELO","BUENOS AIRES","METROPOLITANA","123","CESAR RONCARI",null,null,null,null,null,null,null,null,null,null,null,null,null,null,null,null,null,null,null,null,null,null,null,null,null,null,null,null,null,null,null,null,null,null,null,null,null,2547,"PETRASOL SRL","TERCEROS","Consignado","VALLES","AVENIDA H YRIGOYEN Y ARTIGAS",4400,"SALTA","SALTA CAPITAL","SALTA","30710137850","Corbella, Laura","Naval, Carlos","Astegiano, Flavio",""]
[null,"SALTO (CP: 2741)","2741","SALTO","BUENOS AIRES","METROPOLITANA","29","JOSE ANDRES MONDINO",null,null,null,null,null,null,null,null,null,null,null,null,null,null,null,null,null,null,null,null,null,null,null,null,null,null,null,null,null,null,null,null,null,null,null,null,null,2548,"PETROGAS SRL","TERCEROS","Consignado","VALLES","OLAVARRIA Y PASAJE METAN",4400,"SALTA","SALTA CAPITAL","SALTA","30625616359","Corbella, Laura","Naval, Carlos","Astegiano, Flavio",""]
[null,"SAMBOROMBON (CP: 1980)","1980","SAMBOROMBON","BUENOS AIRES","METROPOLITANA",31,"PABLO CIMINARI",null,null,null,null,null,null,null,null,null,null,null,null,null,null,null,null,null,null,null,null,null,null,null,null,null,null,null,null,null,null,null,null,null,null,null,null,null,2550,"ESTACION VISION SRL","TERCEROS","Consignado","VALLES","VICTORIANO DE LA PLAZA Y FRANCISCO ARIAS",4400,"SALTA","SALTA CAPITAL","SALTA","30708835559","Corbella, Laura","Naval, Carlos","Astegiano, Flavio",""]
[null,"SAMBOROMBON (CP: 1981)","1981","SAMBOROMBON","BUENOS AIRES","METROPOLITANA",31,"PABLO CIMINARI",null,null,null,null,null,null,null,null,null,null,null,null,null,null,null,null,null,null,null,null,null,null,null,null,null,null,null,null,null,null,null,null,null,null,null,null,null,2552,"SUCESORES DE ROBERTO SAMAN SRL","TERCEROS","Consignado","VALLES","GUEMES Y 25 DE MAYO",4423,"CHICOANA","CHICOANA","SALTA","30563516573","Corbella, Laura","Naval, Carlos","Astegiano, Flavio",""]
[null,"SAN ANDRES (CP: 1651)","1651","SAN ANDRES","BUENOS AIRES","METROPOLITANA",18,"OMAR PRESAS",null,null,null,null,null,null,null,null,null,null,null,null,null,null,null,null,null,null,null,null,null,null,null,null,null,null,null,null,null,null,null,null,null,null,null,null,null,2558,"ACA CACHI","ACA","ACA","VALLES","RUTA NACIONAL 40 KM 1237 (Descendente)",4417,"CACHI","CACHI","SALTA","30500143297","Corbella, Laura","Naval, Carlos","Astegiano, Flavio",""]
[null,"SAN ANT.DE PADUA (CP: 1718)","1718","SAN ANT.DE PADUA","BUENOS AIRES","METROPOLITANA",18,"OMAR PRESAS",null,null,null,null,null,null,null,null,null,null,null,null,null,null,null,null,null,null,null,null,null,null,null,null,null,null,null,null,null,null,null,null,null,null,null,null,null,2559,"ACA ROSARIO DE LA FRONTERA","ACA","ACA","VALLES","SARMIENTO (EX RUTA 9) Y BELGRANO",4190,"ROSARIO DE LA FRONTERA","ROSARIO DE LA FRONTERA","SALTA","30500143297","Marcori, Maximiliano","Naval, Carlos","Astegiano, Flavio",""]
[null,"SAN ENRIQUE (CP: 6661)","6661","SAN ENRIQUE","BUENOS AIRES","METROPOLITANA",18,"OMAR PRESAS",null,null,null,null,null,null,null,null,null,null,null,null,null,null,null,null,null,null,null,null,null,null,null,null,null,null,null,null,null,null,null,null,null,null,null,null,null,2563,"OPESSA RICCHIERI CAPITAL","OPESSA","Consignado","METROPOLITANA","AUTOPISTA TTE GRAL PABLO RICCHIERI KM 36.250 (Descendente)",1770,"TAPIALES","LA MATANZA","BUENOS AIRES","30678774495","Endrinal, Johana","Acosta, Diego","Gottlieb, Patricio","Herlein, Carolina"]
[null,"SAN FERNANDO (CP: 1646)","1646","SAN FERNANDO","BUENOS AIRES","METROPOLITANA","29","JOSE ANDRES MONDINO",null,null,null,null,null,null,null,null,null,null,null,null,null,null,null,null,null,null,null,null,null,null,null,null,null,null,null,null,null,null,null,null,null,null,null,null,null,2564,"K Y M SA","TERCEROS","Consignado","VALLES","RUTA NACIONAL 34 KM 1409 (Descendente) Y ACCESO",4552,"CNEL.CORNEJO","GRAL JOSE DE SAN MARTIN","SALTA","33639073829","Marcori, Maximiliano","Naval, Carlos","Astegiano, Flavio",""]
[null,"SAN FRANCISCO DE BELLOCQ (CP: 7505)","7505","SAN FRANCISCO DE BELLOCQ","BUENOS AIRES","METROPOLITANA","123","CESAR RONCARI",null,null,null,null,null,null,null,null,null,null,null,null,null,null,null,null,null,null,null,null,null,null,null,null,null,null,null,null,null,null,null,null,null,null,null,null,null,2566,"BLASCO CAROLINA MARIA MARCELA","TERCEROS","Consignado","VALLES","RUTA NACIONAL 9 KM 1784 (Ascendente) Y ACCESO",4624,"TILCARA","TILCARA","JUJUY","27147759253","Stoll, Maximiliano","Naval, Carlos","Astegiano, Flavio",""]
[null,"SAN FRANCISCO SOLANO (CP: 1881)","1881","SAN FRANCISCO SOLANO","BUENOS AIRES","METROPOLITANA",31,"PABLO CIMINARI",null,null,null,null,null,null,null,null,null,null,null,null,null,null,null,null,null,null,null,null,null,null,null,null,null,null,null,null,null,null,null,null,null,null,null,null,null,2568,"BERRUEZO JOSE ANTONIO","TERCEROS","Consignado","VALLES","RUTA PROVINCIAL 42 KM 37 (Descendente)",4608,"MONTERRICO","EL CARMEN","JUJUY","20081930725","Stoll, Maximiliano","Naval, Carlos","Astegiano, Flavio",""]
[null,"SAN ISIDRO (CP: 1642)","1642","SAN ISIDRO","BUENOS AIRES","METROPOLITANA","29","JOSE ANDRES MONDINO",null,null,null,null,null,null,null,null,null,null,null,null,null,null,null,null,null,null,null,null,null,null,null,null,null,null,null,null,null,null,null,null,null,null,null,null,null,2571,"CIA PETROLERA PALPALA SRL","TERCEROS","Consignado","VALLES","RUTA NACIONAL 66 KM 9 (Ascendente) Y ACCESO PALPALA",4612,"PALPALA","PALPALA","JUJUY","30594577341","Stoll, Maximiliano","Naval, Carlos","Astegiano, Flavio",""]
[null,"SAN JUSTO (CP: 1754)","1754","SAN JUSTO","BUENOS AIRES","METROPOLITANA",18,"OMAR PRESAS",null,null,null,null,null,null,null,null,null,null,null,null,null,null,null,null,null,null,null,null,null,null,null,null,null,null,null,null,null,null,null,null,null,null,null,null,null,2572,"CAYO CAILO LORENZA","TERCEROS","Consignado","VALLES","RUTA NACIONAL 34 KM 1193 (Descendente)",4500,"SAN PEDRO","SAN PEDRO","JUJUY","27923927870","Stoll, Maximiliano","Naval, Carlos","Astegiano, Flavio",""]
[null,"SAN MARTIN (CP: 1650)","1650","SAN MARTIN","BUENOS AIRES","METROPOLITANA",18,"OMAR PRESAS",null,null,null,null,null,null,null,null,null,null,null,null,null,null,null,null,null,null,null,null,null,null,null,null,null,null,null,null,null,null,null,null,null,null,null,null,null,2578,"MONTE LIBANO SA","TERCEROS","Consignado","VALLES","AVENIDA MAXIMO NOUGUES Y RUTA NACIONAL 50",4530,"S.RAMON D.N.ORAN","ORAN","SALTA","30529759858","Marcori, Maximiliano","Naval, Carlos","Astegiano, Flavio",""]
[null,"SAN MIGUEL (CP: 1663)","1663","SAN MIGUEL","BUENOS AIRES","METROPOLITANA",18,"OMAR PRESAS",null,null,null,null,null,null,null,null,null,null,null,null,null,null,null,null,null,null,null,null,null,null,null,null,null,null,null,null,null,null,null,null,null,null,null,null,null,2579,"LOMA SACI Y A","TERCEROS","Consignado","VALLES","RUTA NACIONAL 34 KM 1285 (Descendente) Y ACCESO EL BANANAL",4512,"EL BANANAL","LEDESMA","JUJUY","34519258759","Marcori, Maximiliano","Naval, Carlos","Astegiano, Flavio",""]
[null,"SAN NICOLAS (CP: 2150)","2150","SAN NICOLAS","BUENOS AIRES","METROPOLITANA","29","JOSE ANDRES MONDINO",null,null,null,null,null,null,null,null,null,null,null,null,null,null,null,null,null,null,null,null,null,null,null,null,null,null,null,null,null,null,null,null,null,null,null,null,null,2588,"MONTIEL FRANCISCO SACAFI","TERCEROS","Consignado","VALLES","RUTA NACIONAL 34 KM (Ascendente) Y BELGRANO",4512,"LIB. GRAL. SAN MARTIN","LEDESMA","JUJUY","33529369919","Marcori, Maximiliano","Naval, Carlos","Astegiano, Flavio",""]
[null,"SAN NICOLAS (CP: 2900)","2900","SAN NICOLAS","BUENOS AIRES","METROPOLITANA","29","JOSE ANDRES MONDINO",null,null,null,null,null,null,null,null,null,null,null,null,null,null,null,null,null,null,null,null,null,null,null,null,null,null,null,null,null,null,null,null,null,null,null,null,null,2589,"OPESSA JUJUY","OPESSA","Consignado","VALLES","GENERAL GÜEMES Y LAMADRID",4600,"S.S.DE JUJUY","DR MANUEL BELGRANO","JUJUY","30678774495","Stoll, Maximiliano","Naval, Carlos","Astegiano, Flavio","Ruiz, Pablo Camilo"]
[null,"SAN ROMAN (CP: 8154)","8154","SAN ROMAN","BUENOS AIRES","METROPOLITANA","123","CESAR RONCARI",null,null,null,null,null,null,null,null,null,null,null,null,null,null,null,null,null,null,null,null,null,null,null,null,null,null,null,null,null,null,null,null,null,null,null,null,null,2592,"MOSCOM SRL","TERCEROS","Consignado","VALLES","RUTA NACIONAL 34 KM 1425.500 (Descendente)",4562,"GRAL.ENR.MOSCONI","GRAL JOSE DE SAN MARTIN","SALTA","30714184969","Marcori, Maximiliano","Naval, Carlos","Astegiano, Flavio",""]
[null,"SAN SEBASTIAN (CP: 6623)","6623","SAN SEBASTIAN","BUENOS AIRES","METROPOLITANA",18,"OMAR PRESAS",null,null,null,null,null,null,null,null,null,null,null,null,null,null,null,null,null,null,null,null,null,null,null,null,null,null,null,null,null,null,null,null,null,null,null,null,null,2594,"FRIULI SRL","TERCEROS","Consignado","VALLES","AVENIDA ALTE BROWM Y CORRIENTES",4600,"S.S.DE JUJUY","DR MANUEL BELGRANO","JUJUY","30714762423","Stoll, Maximiliano","Naval, Carlos","Astegiano, Flavio",""]
[null,"SANTA COLOMA (CP: 2761)","2761","SANTA COLOMA","BUENOS AIRES","METROPOLITANA","29","JOSE ANDRES MONDINO",null,null,null,null,null,null,null,null,null,null,null,null,null,null,null,null,null,null,null,null,null,null,null,null,null,null,null,null,null,null,null,null,null,null,null,null,null,2598,"ACA HUMAHUACA","ACA","ACA","VALLES","BELGRANO Y ENTRE RIOS","4630A","HUMAHUACA","HUMAHUACA","JUJUY","30500143297","Stoll, Maximiliano","Naval, Carlos","Astegiano, Flavio",""]
[null,"SANTA ELEONORA (CP: 6241)","6241","SANTA ELEONORA","BUENOS AIRES","METROPOLITANA","123","CESAR RONCARI",null,null,null,null,null,null,null,null,null,null,null,null,null,null,null,null,null,null,null,null,null,null,null,null,null,null,null,null,null,null,null,null,null,null,null,null,null,2599,"ACA LA QUIACA","ACA","ACA","VALLES","RUTA NACIONAL 9 KM () Y 9 DE JULIO",4650,"LA QUIACA","YAVI","JUJUY","30500143297","Stoll, Maximiliano","Naval, Carlos","Astegiano, Flavio",""]
[null,"SANTA TRINIDAD (CP: 7541)","7541","SANTA TRINIDAD","BUENOS AIRES","METROPOLITANA","123","CESAR RONCARI",null,null,null,null,null,null,null,null,null,null,null,null,null,null,null,null,null,null,null,null,null,null,null,null,null,null,null,null,null,null,null,null,null,null,null,null,null,2602,"AGROMARE SRL","TERCEROS","Consignado","BUENOS AIRES","DIAGONAL DR MARIANO MORENO Y CALLE 29",1917,"VERONICA","PUNTA INDIO","BUENOS AIRES","30701648087","Fasan, Ricardo","Emanuel, Adrian Fabio","Barruti, Francisco",""]
[null,"SANTIAGO GARBARINI (CP: 6660)","6660","SANTIAGO GARBARINI","BUENOS AIRES","METROPOLITANA",18,"OMAR PRESAS",null,null,null,null,null,null,null,null,null,null,null,null,null,null,null,null,null,null,null,null,null,null,null,null,null,null,null,null,null,null,null,null,null,null,null,null,null,2604,"NAFPUR SA","TERCEROS","Consignado","METROPOLITANA","LARRAZABAL 3645 DELLEPIANE",1439,"CAPITAL FEDERAL","CAPITAL FEDERAL","CAPITAL FEDERAL","33608724279","Lupi, Guido","Acosta, Diego","Gottlieb, Patricio",""]
[null,"SANTOS LUGARES (CP: 1676)","1676","SANTOS LUGARES","BUENOS AIRES","METROPOLITANA",18,"OMAR PRESAS",null,null,null,null,null,null,null,null,null,null,null,null,null,null,null,null,null,null,null,null,null,null,null,null,null,null,null,null,null,null,null,null,null,null,null,null,null,2606,"MATIAS AMENGUAL SRL","TERCEROS","Consignado","VALLES","AVENIDA OCAMPO 815",4700,"CATAMARCA","CATAMARCA CAPITAL","CATAMARCA","30668133297","Parellada, Oscar","Naval, Carlos","Astegiano, Flavio",""]
[null,"SANTOS TESEI (CP: 1688)","1688","SANTOS TESEI","BUENOS AIRES","METROPOLITANA",18,"OMAR PRESAS",null,null,null,null,null,null,null,null,null,null,null,null,null,null,null,null,null,null,null,null,null,null,null,null,null,null,null,null,null,null,null,null,null,null,null,null,null,2607,"LEONARDO BRIGIDO Y CIA SRL","TERCEROS","Consignado","VALLES","AVENIDA PRES J D PERON Y C BARROS",5300,"LA RIOJA","LA RIOJA CAPITAL","LA RIOJA","30538618922","Parellada, Oscar","Naval, Carlos","Astegiano, Flavio",""]
[null,"SEVIGNE (CP: 7112)","7112","SEVIGNE","BUENOS AIRES","METROPOLITANA","123","CESAR RONCARI",null,null,null,null,null,null,null,null,null,null,null,null,null,null,null,null,null,null,null,null,null,null,null,null,null,null,null,null,null,null,null,null,null,null,null,null,null,2610,"HORACIO BRIGIDO Y CIA SRL","TERCEROS","Consignado","VALLES","MONTEAGUDO Y ALMONACIN",5300,"LA RIOJA","LA RIOJA CAPITAL","LA RIOJA","30692761908","Parellada, Oscar","Naval, Carlos","Astegiano, Flavio",""]
[null,"SHAW (CP: 7300)","7300","SHAW","BUENOS AIRES","METROPOLITANA","123","CESAR RONCARI",null,null,null,null,null,null,null,null,null,null,null,null,null,null,null,null,null,null,null,null,null,null,null,null,null,null,null,null,null,null,null,null,null,null,null,null,null,2611,"LIDER COMBUSTIBLES SA","TERCEROS","Consignado","LITORAL SUR","AVENIDA ALBERDI 1224 Y URQUIZA",2451,"SAN JORGE","SAN MARTIN","SANTA FE","30707642463","Colla, María de los Ángeles","Gomez, Cristian","A definir",""]
[null,"SIERRA CHICA (CP: 7401)","7401","SIERRA CHICA","BUENOS AIRES","METROPOLITANA","123","CESAR RONCARI",null,null,null,null,null,null,null,null,null,null,null,null,null,null,null,null,null,null,null,null,null,null,null,null,null,null,null,null,null,null,null,null,null,null,null,null,null,2626,"OPESSA LA RIOJA","OPESSA","Consignado","VALLES","AVENIDA RIVADAVIA Y BENJAMIN DE LA VEGA",5300,"LA RIOJA","LA RIOJA CAPITAL","LA RIOJA","30678774495","Parellada, Oscar","Naval, Carlos","Astegiano, Flavio","Ruiz, Pablo Camilo"]
[null,"SIERRA DE LOS PADRES (CP: 7601)","7601","SIERRA DE LOS PADRES","BUENOS AIRES","METROPOLITANA","123","CESAR RONCARI",null,null,null,null,null,null,null,null,null,null,null,null,null,null,null,null,null,null,null,null,null,null,null,null,null,null,null,null,null,null,null,null,null,null,null,null,null,2627,"LA PALMERA SRL","TERCEROS","Consignado","VALLES","RUTA NACIONAL 38 KM () Y RUTA NAC 150",5386,"PATQUIA","INDEPENDENCIA","LA RIOJA","30671840778","Parellada, Oscar","Naval, Carlos","Astegiano, Flavio",""]
[null,"SOLIS (CP: 2764)","2764","SOLIS","BUENOS AIRES","METROPOLITANA","29","JOSE ANDRES MONDINO",null,null,null,null,null,null,null,null,null,null,null,null,null,null,null,null,null,null,null,null,null,null,null,null,null,null,null,null,null,null,null,null,null,null,null,null,null,2632,"SAN MIGUEL SRL","TERCEROS","Reventa","VALLES","RUTA NACIONAL 75 KM 72 (Ascendente)",5301,"PINCHAS","CASTRO BARROS","LA RIOJA","30707749152","Parellada, Oscar","Naval, Carlos","Astegiano, Flavio",""]
[null,"SPURR (CP: 8103)","8103","SPURR","BUENOS AIRES","METROPOLITANA",130,"CESAR RONCARI",null,null,null,null,null,null,null,null,null,null,null,null,null,null,null,null,null,null,null,null,null,null,null,null,null,null,null,null,null,null,null,null,null,null,null,null,null,2636,"LUIS A CARRIZO Y CIA SRL","TERCEROS","Consignado","VALLES","ACCESO JOAQUIN V GONZALEZ 1",5360,"CHILECITO","CHILECITO","LA RIOJA","30627062490","Parellada, Oscar","Naval, Carlos","Astegiano, Flavio",""]
[null,"STA.REGINA (CP: 6105)","6105","STA.REGINA","BUENOS AIRES","METROPOLITANA","123","CESAR RONCARI",null,null,null,null,null,null,null,null,null,null,null,null,null,null,null,null,null,null,null,null,null,null,null,null,null,null,null,null,null,null,null,null,null,null,null,null,null,2638,"ACA CATAMARCA","ACA","ACA","VALLES","REPUBLICA 102",4700,"CATAMARCA","CATAMARCA CAPITAL","CATAMARCA","30500143297","Parellada, Oscar","Naval, Carlos","Astegiano, Flavio",""]
[null,{"$f":"CONCATENATE(D1091,\" (CP: \",C1091,\")\")","v":"STROEDER (CP: 8508)"},"8508","STROEDER","BUENOS AIRES","METROPOLITANA",130,"CESAR RONCARI",null,null,null,null,null,null,null,null,null,null,null,null,null,null,null,null,null,null,null,null,null,null,null,null,null,null,null,null,null,null,null,null,null,null,null,null,null,2639,"ACA HUALFIN","ACA","ACA","VALLES","RUTA NACIONAL 40 KM 883 (Descendente)",4751,"HUALFIN","BELEN","CATAMARCA","30500143297","Parellada, Oscar","Naval, Carlos","Astegiano, Flavio",""]
[null,"TABLADA (CP: 1766)","1766","TABLADA","BUENOS AIRES","METROPOLITANA",18,"OMAR PRESAS",null,null,null,null,null,null,null,null,null,null,null,null,null,null,null,null,null,null,null,null,null,null,null,null,null,null,null,null,null,null,null,null,null,null,null,null,null,2642,"ACA TINOGASTA","ACA","ACA","VALLES","RIVADAVIA Y MORENO",5340,"TINOGASTA","TINOGASTA","CATAMARCA","30500143297","Parellada, Oscar","Naval, Carlos","Astegiano, Flavio",""]
[null,"TANDIL (CP: 7000)","7000","TANDIL","BUENOS AIRES","METROPOLITANA","123","CESAR RONCARI",null,null,null,null,null,null,null,null,null,null,null,null,null,null,null,null,null,null,null,null,null,null,null,null,null,null,null,null,null,null,null,null,null,null,null,null,null,2643,"ACA ANILLACO","ACA","ACA","VALLES","AVENIDA CNEL N BARROS","5301A","ANILLACO","CASTRO BARROS","LA RIOJA","30500143297","Parellada, Oscar","Naval, Carlos","Astegiano, Flavio",""]
[null,"TAPALQUE (CP: 7307)","7307","TAPALQUE","BUENOS AIRES","METROPOLITANA","123","CESAR RONCARI",null,null,null,null,null,null,null,null,null,null,null,null,null,null,null,null,null,null,null,null,null,null,null,null,null,null,null,null,null,null,null,null,null,null,null,null,null,2645,"ACA FAMATINA","ACA","ACA","VALLES","RUTA NACIONAL 40 KM 624 (Descendente)",5365,"FAMATINA","FAMATINA","LA RIOJA","30500143297","Parellada, Oscar","Naval, Carlos","Astegiano, Flavio",""]
[null,"TAPIALES (CP: 1700)","1700","TAPIALES","BUENOS AIRES","METROPOLITANA",18,"OMAR PRESAS",null,null,null,null,null,null,null,null,null,null,null,null,null,null,null,null,null,null,null,null,null,null,null,null,null,null,null,null,null,null,null,null,null,null,null,null,null,2646,"ACA GOBERNADOR GORDILLO","ACA","ACA","VALLES","RUTA NACIONAL 38 KM 1017 (Ascendente)",5380,"GOBER.GORDILLO","FAMATINA","LA RIOJA","30500143297","Parellada, Oscar","Naval, Carlos","Astegiano, Flavio",""]
[null,"TEMPERLEY (CP: 1834)","1834","TEMPERLEY","BUENOS AIRES","METROPOLITANA",31,"PABLO CIMINARI",null,null,null,null,null,null,null,null,null,null,null,null,null,null,null,null,null,null,null,null,null,null,null,null,null,null,null,null,null,null,null,null,null,null,null,null,null,2660,"COMBUSTIBLES BARCELO SRL","TERCEROS","Consignado","AREA DEL SOL","MENDOZA Y SIVORI",5423,"RAWSON","RAWSON","SAN JUAN","33708332599","Jimenez, Jorge Alberto","Cacciola, Federico","Chiavassa, César Miguel",""]
[null,"THAMES (CP: 6343)","6343","THAMES","BUENOS AIRES","METROPOLITANA","123","CESAR RONCARI",null,null,null,null,null,null,null,null,null,null,null,null,null,null,null,null,null,null,null,null,null,null,null,null,null,null,null,null,null,null,null,null,null,null,null,null,null,2661,"DIAGONAL DON BOSCO SRL","TERCEROS","Consignado","AREA DEL SOL","AVENIDA RAWSON SUR Y DON BOSCO",5400,"SAN JUAN","SAN JUAN CAPITAL","SAN JUAN","30681708681","Jimenez, Jorge Alberto","Cacciola, Federico","Chiavassa, César Miguel",""]
[null,"TOLOSA (CP: 1900)","1900","TOLOSA","BUENOS AIRES","METROPOLITANA",31,"PABLO CIMINARI",null,null,null,null,null,null,null,null,null,null,null,null,null,null,null,null,null,null,null,null,null,null,null,null,null,null,null,null,null,null,null,null,null,null,null,null,null,2672,"VICTOR HUGO MALAISI","TERCEROS","Consignado","AREA DEL SOL","AVENIDA GUILLERMO RAWSON NORTE Y CALLE NUEVA",5400,"SAN JUAN","SAN JUAN CAPITAL","SAN JUAN","20079444732","Jimenez, Jorge Alberto","Cacciola, Federico","Chiavassa, César Miguel",""]
[null,"TORDILLO (CP: 7101)","7101","TORDILLO","BUENOS AIRES","METROPOLITANA","123","CESAR RONCARI",null,null,null,null,null,null,null,null,null,null,null,null,null,null,null,null,null,null,null,null,null,null,null,null,null,null,null,null,null,null,null,null,null,null,null,null,null,2674,"NEDER Y ROJO SRL","TERCEROS","Consignado","AREA DEL SOL","BALCARCE Y AVENIDA LIBERTADOR",5411,"SANTA LUCIA","SANTA LUCIA","SAN JUAN","30681685576","Jimenez, Jorge Alberto","Cacciola, Federico","Chiavassa, César Miguel",""]
[null,"TORRES (CP: 6703)","6703","TORRES","BUENOS AIRES","METROPOLITANA",18,"OMAR PRESAS",null,null,null,null,null,null,null,null,null,null,null,null,null,null,null,null,null,null,null,null,null,null,null,null,null,null,null,null,null,null,null,null,null,null,null,null,null,2678,"EESS RUIZ HERMANOS SRL","TERCEROS","Consignado","AREA DEL SOL","HIPOLITO YRIGOYEN 6727",5411,"SANTA LUCIA","SANTA LUCIA","SAN JUAN","30714215635","Jimenez, Jorge Alberto","Cacciola, Federico","Chiavassa, César Miguel",""]
[null,"TORTUGUITAS (CP: 1667)","1667","TORTUGUITAS","BUENOS AIRES","METROPOLITANA","29","JOSE ANDRES MONDINO",null,null,null,null,null,null,null,null,null,null,null,null,null,null,null,null,null,null,null,null,null,null,null,null,null,null,null,null,null,null,null,null,null,null,null,null,null,2679,"RATTA SRL","TERCEROS","Consignado","AREA DEL SOL","REPUBLICA DEL LIBANO 1678 Y RECUERDOS",5423,"RAWSON","RAWSON","SAN JUAN","30709961965","Jimenez, Jorge Alberto","Cacciola, Federico","Chiavassa, César Miguel",""]
[null,"TRES ARROYOS (CP: 7500)","7500","TRES ARROYOS","BUENOS AIRES","METROPOLITANA","123","CESAR RONCARI",null,null,null,null,null,null,null,null,null,null,null,null,null,null,null,null,null,null,null,null,null,null,null,null,null,null,null,null,null,null,null,null,null,null,null,null,null,2688,"EL SAUCE SRL","TERCEROS","Consignado","AREA DEL SOL","S DE ALBARRACIN N Y SARGENTO CABRAL",5400,"SAN JUAN","SAN JUAN CAPITAL","SAN JUAN","30708207914","Jimenez, Jorge Alberto","Cacciola, Federico","Chiavassa, César Miguel",""]
[null,"TRES LAGUNAS (CP: 6443)","6443","TRES LAGUNAS","BUENOS AIRES","METROPOLITANA","123","CESAR RONCARI",null,null,null,null,null,null,null,null,null,null,null,null,null,null,null,null,null,null,null,null,null,null,null,null,null,null,null,null,null,null,null,null,null,null,null,null,null,2691,"ACA ENCON","ACA","ACA","AREA DEL SOL","RUTA NACIONAL 20 KM 1015 (Descendente)",5421,"ENCON","25 DE MAYO","SAN JUAN","30500143297","Jimenez, Jorge Alberto","Cacciola, Federico","Chiavassa, César Miguel",""]
[null,"TRES PICOS (CP: 8162)","8162","TRES PICOS","BUENOS AIRES","METROPOLITANA","123","CESAR RONCARI",null,null,null,null,null,null,null,null,null,null,null,null,null,null,null,null,null,null,null,null,null,null,null,null,null,null,null,null,null,null,null,null,null,null,null,null,null,2693,"ACA SAN JUAN","ACA","ACA","AREA DEL SOL","GENERAL ACHA Y AVENIDA 9 DE JULIO",5400,"SAN JUAN","SAN JUAN CAPITAL","SAN JUAN","30500143297","Jimenez, Jorge Alberto","Cacciola, Federico","Chiavassa, César Miguel",""]
[null,"TRES SARGENTOS (CP: 6727)","6727","TRES SARGENTOS","BUENOS AIRES","METROPOLITANA","29","JOSE ANDRES MONDINO",null,null,null,null,null,null,null,null,null,null,null,null,null,null,null,null,null,null,null,null,null,null,null,null,null,null,null,null,null,null,null,null,null,null,null,null,null,2694,"OPESSA ACA SAN JUAN","OPESSA","Consignado","AREA DEL SOL","9 DE JULIO ESTE 802 Y RAWSON",5400,"SAN JUAN","SAN JUAN CAPITAL","SAN JUAN","30678774495","Jimenez, Jorge Alberto","Cacciola, Federico","Chiavassa, César Miguel","Ruiz, Pablo Camilo"]
[null,"TURDERA (CP: 1836)","1836","TURDERA","BUENOS AIRES","METROPOLITANA",31,"PABLO CIMINARI",null,null,null,null,null,null,null,null,null,null,null,null,null,null,null,null,null,null,null,null,null,null,null,null,null,null,null,null,null,null,null,null,null,null,null,null,null,2697,"OPESSA ACA USPALLATA","OPESSA","Consignado","AREA DEL SOL","RUTA NACIONAL 7 KM 1146.400 (Ascendente)",5545,"USPALLATA","TUPUNGATO","MENDOZA","30678774495","Farias, Daniel","Cacciola, Federico","Chiavassa, César Miguel","Abrahamsohn, Claudio"]
[null,"UDAQUIOLA (CP: 7151)","7151","UDAQUIOLA","BUENOS AIRES","METROPOLITANA","123","CESAR RONCARI",null,null,null,null,null,null,null,null,null,null,null,null,null,null,null,null,null,null,null,null,null,null,null,null,null,null,null,null,null,null,null,null,null,null,null,null,null,2698,"GUILLERMO TOMAS ATENCIO","TERCEROS","Consignado","AREA DEL SOL","TTE CNEL BELTRAN Y PELLEGRINI",5501,"G0D0Y CRUZ","GODOY CRUZ","MENDOZA","20085821521","Farias, Daniel","Cacciola, Federico","Chiavassa, César Miguel",""]
[null,"URIBELARREA (CP: 1815)","1815","URIBELARREA","BUENOS AIRES","METROPOLITANA",31,"PABLO CIMINARI",null,null,null,null,null,null,null,null,null,null,null,null,null,null,null,null,null,null,null,null,null,null,null,null,null,null,null,null,null,null,null,null,null,null,null,null,null,2701,"OPESSA MENDOZA QUINTA SECCION","OPESSA","Consignado","AREA DEL SOL","PASO DE LO ANDES 16 ENTRE MARIANO MORENO Y OLEGARIO ANDRADE",5500,"MENDOZA","MENDOZA CAPITAL","MENDOZA","30678774495","García, Marcos","Cacciola, Federico","Chiavassa, César Miguel","Abrahamsohn, Claudio"]
[null,"URQUIZA (CP: 2718)","2718","URQUIZA","BUENOS AIRES","METROPOLITANA","29","JOSE ANDRES MONDINO",null,null,null,null,null,null,null,null,null,null,null,null,null,null,null,null,null,null,null,null,null,null,null,null,null,null,null,null,null,null,null,null,null,null,null,null,null,2702,"ADROVER CARLOS ELIAS","TERCEROS","Consignado","AREA DEL SOL","PATRICIAS MENDOCINAS Y NECOCHEA",5500,"MENDOZA","MENDOZA CAPITAL","MENDOZA","20082829858","García, Marcos","Cacciola, Federico","Chiavassa, César Miguel",""]
[null,"VALERIA DEL MAR (CP: 7167)","7167","VALERIA DEL MAR","BUENOS AIRES","METROPOLITANA","123","CESAR RONCARI",null,null,null,null,null,null,null,null,null,null,null,null,null,null,null,null,null,null,null,null,null,null,null,null,null,null,null,null,null,null,null,null,null,null,null,null,null,2705,"O BRUGNOLI Y PINCHEIRA","TERCEROS","Consignado","AREA DEL SOL","AVENIDA GRAL SAN MARTIN SUR Y RIO PLOMO",5501,"G0D0Y CRUZ","GODOY CRUZ","MENDOZA","30630355083","Farias, Daniel","Cacciola, Federico","Chiavassa, César Miguel",""]
[null,"VALLIMANCA (CP: 6557)","6557","VALLIMANCA","BUENOS AIRES","METROPOLITANA","123","CESAR RONCARI",null,null,null,null,null,null,null,null,null,null,null,null,null,null,null,null,null,null,null,null,null,null,null,null,null,null,null,null,null,null,null,null,null,null,null,null,null,2707,"COMERCIAL MANITTA HNOS SRL","TERCEROS","Consignado","AREA DEL SOL","SAN MARTIN Y AZCUENAGA",5507,"LUJAN DE CUYO","LUJAN DE CUYO","MENDOZA","30543201967","Farias, Daniel","Cacciola, Federico","Chiavassa, César Miguel",""]
[null,"VELA (CP: 7003)","7003","VELA","BUENOS AIRES","METROPOLITANA","123","CESAR RONCARI",null,null,null,null,null,null,null,null,null,null,null,null,null,null,null,null,null,null,null,null,null,null,null,null,null,null,null,null,null,null,null,null,null,null,null,null,null,2712,"E/S GENERAL LAS HERAS SRL","TERCEROS","Consignado","AREA DEL SOL","PRES GRAL J A ROCA Y DR MORENO",5539,"LAS HERAS","LAS HERAS","MENDOZA","30543188855","García, Marcos","Cacciola, Federico","Chiavassa, César Miguel",""]
[null,"VERONICA (CP: 1917)","1917","VERONICA","BUENOS AIRES","METROPOLITANA",31,"PABLO CIMINARI",null,null,null,null,null,null,null,null,null,null,null,null,null,null,null,null,null,null,null,null,null,null,null,null,null,null,null,null,null,null,null,null,null,null,null,null,null,2716,"E/S GRAL SAN MARTIN SRL","TERCEROS","Consignado","AREA DEL SOL","MARCOS BURGOS Y DOCTOR MORENO",5539,"LAS HERAS","LAS HERAS","MENDOZA","33584914349","García, Marcos","Cacciola, Federico","Chiavassa, César Miguel",""]
[null,"VICENTE LOPEZ (CP: 1638)","1638","VICENTE LOPEZ","BUENOS AIRES","METROPOLITANA","29","JOSE ANDRES MONDINO",null,null,null,null,null,null,null,null,null,null,null,null,null,null,null,null,null,null,null,null,null,null,null,null,null,null,null,null,null,null,null,null,null,null,null,null,null,2722,"HEKAR SRL","TERCEROS","Consignado","AREA DEL SOL","ACCESO SUR 8051",5503,"CARRODILLA","LUJAN DE CUYO","MENDOZA","30660945152","Farias, Daniel","Cacciola, Federico","Chiavassa, César Miguel",""]
[null,"VICENTE PEREDA (CP: 7300)","7300","VICENTE PEREDA","BUENOS AIRES","METROPOLITANA","123","CESAR RONCARI",null,null,null,null,null,null,null,null,null,null,null,null,null,null,null,null,null,null,null,null,null,null,null,null,null,null,null,null,null,null,null,null,null,null,null,null,null,2724,"DINAMICA SA","TERCEROS","Consignado","AREA DEL SOL","SAN MARTIN Y A. BROWN",5507,"LUJAN DE CUYO","LUJAN DE CUYO","MENDOZA","30708777389","Farias, Daniel","Cacciola, Federico","Chiavassa, César Miguel",""]
[null,"VILLA ADELINA (CP: 1607)","1607","VILLA ADELINA","BUENOS AIRES","METROPOLITANA",18,"OMAR PRESAS",null,null,null,null,null,null,null,null,null,null,null,null,null,null,null,null,null,null,null,null,null,null,null,null,null,null,null,null,null,null,null,null,null,null,null,null,null,2728,"IGNIS SRL","TERCEROS","Consignado","AREA DEL SOL","AVENIDA GRAL SAN MARTIN Y CHACABUCO",5501,"G0D0Y CRUZ","GODOY CRUZ","MENDOZA","30708402784","Farias, Daniel","Cacciola, Federico","Chiavassa, César Miguel",""]
[null,"VILLA ARGÜELLO (CP: 1923)","1923","VILLA ARGÜELLO","BUENOS AIRES","METROPOLITANA",31,"PABLO CIMINARI",null,null,null,null,null,null,null,null,null,null,null,null,null,null,null,null,null,null,null,null,null,null,null,null,null,null,null,null,null,null,null,null,null,null,null,null,null,2730,"CLAUDIO FABIAN PAREDES","TERCEROS","Consignado","AREA DEL SOL","LISANDRO MOYANO Y CONGRESO",5539,"LAS HERAS","LAS HERAS","MENDOZA","20223167714","García, Marcos","Cacciola, Federico","Chiavassa, César Miguel",""]
[null,"VILLA BALLESTER (CP: 1653)","1653","VILLA BALLESTER","BUENOS AIRES","METROPOLITANA",18,"OMAR PRESAS",null,null,null,null,null,null,null,null,null,null,null,null,null,null,null,null,null,null,null,null,null,null,null,null,null,null,null,null,null,null,null,null,null,null,null,null,null,2734,"RUMAOS SA","TERCEROS","Consignado","AREA DEL SOL","SARMIENTO Y CERVANTES",5547,"GODOY CRUZ H","GODOY CRUZ","MENDOZA","33699581629","Farias, Daniel","Cacciola, Federico","Chiavassa, César Miguel",""]
[null,"VILLA BOSCH (CP: 1682)","1682","VILLA BOSCH","BUENOS AIRES","METROPOLITANA",18,"OMAR PRESAS",null,null,null,null,null,null,null,null,null,null,null,null,null,null,null,null,null,null,null,null,null,null,null,null,null,null,null,null,null,null,null,null,null,null,null,null,null,2737,"IGNIS SRL","TERCEROS","Consignado","AREA DEL SOL","VIAMONTE Y LARREA",5505,"CHACRAS DE CORIA","LUJAN DE CUYO","MENDOZA","30708402784","Farias, Daniel","Cacciola, Federico","Chiavassa, César Miguel",""]
[null,"VILLA CELINA (CP: 1772)","1772","VILLA CELINA","BUENOS AIRES","METROPOLITANA",18,"OMAR PRESAS",null,null,null,null,null,null,null,null,null,null,null,null,null,null,null,null,null,null,null,null,null,null,null,null,null,null,null,null,null,null,null,null,null,null,null,null,null,2744,"OPESSA ACA MENDOZA","OPESSA","Consignado","AREA DEL SOL","SAN MARTIN 958 Y AMIGORENA",5500,"MENDOZA","MENDOZA CAPITAL","MENDOZA","30678774495","García, Marcos","Cacciola, Federico","Chiavassa, César Miguel","Abrahamsohn, Claudio"]
[null,"VILLA DOLORES (CP: 1923)","1923","VILLA DOLORES","BUENOS AIRES","METROPOLITANA",31,"PABLO CIMINARI",null,null,null,null,null,null,null,null,null,null,null,null,null,null,null,null,null,null,null,null,null,null,null,null,null,null,null,null,null,null,null,null,null,null,null,null,null,2745,"YARAS SA","TERCEROS","Consignado","AREA DEL SOL","AVENIDA GENERAL MANUEL BELGRANO Y LA GLORIA",5561,"TUPUNGATO","TUPUNGATO","MENDOZA","30708189282","García, Pedro     ","Cacciola, Federico","Chiavassa, César Miguel",""]
[null,"VILLA EL CACIQUE (CP: 7005)","7005","VILLA EL CACIQUE","BUENOS AIRES","METROPOLITANA","123","CESAR RONCARI",null,null,null,null,null,null,null,null,null,null,null,null,null,null,null,null,null,null,null,null,null,null,null,null,null,null,null,null,null,null,null,null,null,null,null,null,null,2749,"A SALVADOR Y G CLOP SA","TERCEROS","Consignado","AREA DEL SOL","RUTA NACIONAL 143 KM (Ascendente) Y LOS CLAVELES",5603,"SALTO D.LAS ROSAS","SAN RAFAEL","MENDOZA","30707449442","García, Pedro     ","Cacciola, Federico","Chiavassa, César Miguel",""]
[null,"VILLA ELISA (CP: 1894)","1894","VILLA ELISA","BUENOS AIRES","METROPOLITANA",31,"PABLO CIMINARI",null,null,null,null,null,null,null,null,null,null,null,null,null,null,null,null,null,null,null,null,null,null,null,null,null,null,null,null,null,null,null,null,null,null,null,null,null,2750,"ATUEL NORTE SA","TERCEROS","Consignado","AREA DEL SOL","RUTA NACIONAL 143 KM 625 (Ascendente)",5622,"VILLA ATUEL","SAN RAFAEL","MENDOZA","30714243299","García, Pedro     ","Cacciola, Federico","Chiavassa, César Miguel",""]
[null,"VILLA ESTACION RAMALLO (CP: 2914)","2914","VILLA ESTACION RAMALLO","BUENOS AIRES","METROPOLITANA","29","JOSE ANDRES MONDINO",null,null,null,null,null,null,null,null,null,null,null,null,null,null,null,null,null,null,null,null,null,null,null,null,null,null,null,null,null,null,null,null,null,null,null,null,null,2762,"ALBERTO MORENO","TERCEROS","Consignado","AREA DEL SOL","RUTA PROVINCIAL 202 KM 1 (Descendente)",5623,"JAIME PRATS","SAN RAFAEL","MENDOZA","20080229810","García, Pedro     ","Cacciola, Federico","Chiavassa, César Miguel",""]
[null,"VILLA GESELL (CP: 7165)","7165","VILLA GESELL","BUENOS AIRES","METROPOLITANA","123","CESAR RONCARI",null,null,null,null,null,null,null,null,null,null,null,null,null,null,null,null,null,null,null,null,null,null,null,null,null,null,null,null,null,null,null,null,null,null,null,null,null,2769,"RUTA 188 SA","TERCEROS","Consignado","AREA DEL SOL","RUTA NACIONAL 188 KM (Ascendente) Y AVENIDA CIRCUNVALACION",5620,"GRAL.ALVEAR","GRAL ALVEAR","MENDOZA","30566121456","García, Pedro     ","Cacciola, Federico","Chiavassa, César Miguel",""]
[null,"VILLA HARDING GREEN (CP: 8101)","8101","VILLA HARDING GREEN","BUENOS AIRES","METROPOLITANA",130,"CESAR RONCARI",null,null,null,null,null,null,null,null,null,null,null,null,null,null,null,null,null,null,null,null,null,null,null,null,null,null,null,null,null,null,null,null,null,null,null,null,null,2773,"E/S SANOGUERA","TERCEROS","Consignado","AREA DEL SOL","ITALIA Y BUENOS AIRES",5609,"MONTE COMAN","SAN RAFAEL","MENDOZA","27106213351","García, Pedro     ","Cacciola, Federico","Chiavassa, César Miguel",""]
[null,{"$f":"CONCATENATE(D1155,\" (CP: \",C1155,\")\")","v":"VILLA INDEPENDENCIA (CP: 1923)"},"1923","VILLA INDEPENDENCIA","BUENOS AIRES","METROPOLITANA",31,"PABLO CIMINARI",null,null,null,null,null,null,null,null,null,null,null,null,null,null,null,null,null,null,null,null,null,null,null,null,null,null,null,null,null,null,null,null,null,null,null,null,null,2774,"SUC DE FELIPE SCHIAVONE","TERCEROS","Consignado","AREA DEL SOL","ING LANGE Y PIEROLA",5620,"GRAL.ALVEAR","GRAL ALVEAR","MENDOZA","20152575522","García, Pedro     ","Cacciola, Federico","Chiavassa, César Miguel",""]
[null,"VILLA LYNCH (CP: 6553)","6553","VILLA LYNCH","BUENOS AIRES","METROPOLITANA","123","CESAR RONCARI",null,null,null,null,null,null,null,null,null,null,null,null,null,null,null,null,null,null,null,null,null,null,null,null,null,null,null,null,null,null,null,null,null,null,null,null,null,2780,"GERK Y CIA SA","TERCEROS","Consignado","AREA DEL SOL","RUTA NACIONAL 40 KM (Ascendente) Y ARGENTINA",5560,"TUNUYAN","TUNUYAN","MENDOZA","30708532572","García, Pedro     ","Cacciola, Federico","Chiavassa, César Miguel",""]
[null,"VILLA MADERO (CP: 1768)","1768","VILLA MADERO","BUENOS AIRES","METROPOLITANA",18,"OMAR PRESAS",null,null,null,null,null,null,null,null,null,null,null,null,null,null,null,null,null,null,null,null,null,null,null,null,null,null,null,null,null,null,null,null,null,null,null,null,null,2782,"OPESSA SARMIENTO","OPESSA","Consignado","AREA DEL SOL","AVENIDA EL LIBERTADOR Y SARMIENTO",5600,"SAN RAFAEL","SAN RAFAEL","MENDOZA","30678774495","García, Pedro     ","Cacciola, Federico","Chiavassa, César Miguel","Abrahamsohn, Claudio"]
[null,"VILLA MAYO (CP: 1614)","1614","VILLA MAYO","BUENOS AIRES","METROPOLITANA","29","JOSE ANDRES MONDINO",null,null,null,null,null,null,null,null,null,null,null,null,null,null,null,null,null,null,null,null,null,null,null,null,null,null,null,null,null,null,null,null,null,null,null,null,null,2786,"ENIO CHAPINI SA","TERCEROS","Consignado","AREA DEL SOL","DR TOMAS GODOY CRUZ Y DIEGO MARQUEZ",5519,"CORONEL DORREGO","GUAYMALLEN","MENDOZA","30533553245","García, Marcos","Cacciola, Federico","Chiavassa, César Miguel",""]
[null,"VILLA MAZA (CP: 6343)","6343","VILLA MAZA","BUENOS AIRES","METROPOLITANA","123","CESAR RONCARI",null,null,null,null,null,null,null,null,null,null,null,null,null,null,null,null,null,null,null,null,null,null,null,null,null,null,null,null,null,null,null,null,null,null,null,null,null,2787,"ASTIE DIESEL SA","TERCEROS","Consignado","AREA DEL SOL","RUTA PROVINCIAL RUTA PROV. 50 KM 4584 (Ascendente)",5529,"RODEO DEL MEDIO","MAIPU","MENDOZA","30714287695","Beccari, Mario","Cacciola, Federico","Chiavassa, César Miguel",""]
[null,"VILLA OLGA (CP: 8000)","8000","VILLA OLGA","BUENOS AIRES","METROPOLITANA",130,"CESAR RONCARI",null,null,null,null,null,null,null,null,null,null,null,null,null,null,null,null,null,null,null,null,null,null,null,null,null,null,null,null,null,null,null,null,null,null,null,null,null,2789,"ALI EL MUSRII","TERCEROS","Reventa","AREA DEL SOL","JUSTO ESTRADA Y CALLE PUBLICA",5579,"LA CENTRAL RIVAD.","RIVADAVIA","MENDOZA","20068786275","Beccari, Mario","Cacciola, Federico","Chiavassa, César Miguel",""]
[null,"VILLA PORTEÑA (CP: 1923)","1923","VILLA PORTEÑA","BUENOS AIRES","METROPOLITANA",31,"PABLO CIMINARI",null,null,null,null,null,null,null,null,null,null,null,null,null,null,null,null,null,null,null,null,null,null,null,null,null,null,null,null,null,null,null,null,null,null,null,null,null,2790,"ALLUB HNOS SRL","TERCEROS","Consignado","AREA DEL SOL","L N ALEM 6",5584,"PALMIRA","SAN MARTIN","MENDOZA","30527651332","Beccari, Mario","Cacciola, Federico","Chiavassa, César Miguel",""]
[null,"VILLA ROSA - PILAR (CP: 1631)","1631","VILLA ROSA - PILAR","BUENOS AIRES","METROPOLITANA","29","JOSE ANDRES MONDINO",null,null,null,null,null,null,null,null,null,null,null,null,null,null,null,null,null,null,null,null,null,null,null,null,null,null,null,null,null,null,null,null,null,null,null,null,null,2797,"CLOP ERACLIO RICARDO","TERCEROS","Consignado","AREA DEL SOL","RUTA NACIONAL ACCESO ESTE KM (Ascendente) Y AGUSTIN ALVAREZ",5531,"FRAY LUIS BELTRAN","MAIPU","MENDOZA","20068614555","Beccari, Mario","Cacciola, Federico","Chiavassa, César Miguel",""]
[null,"VILLA RUIZ (CP: 6720)","6720","VILLA RUIZ","BUENOS AIRES","METROPOLITANA","29","JOSE ANDRES MONDINO",null,null,null,null,null,null,null,null,null,null,null,null,null,null,null,null,null,null,null,null,null,null,null,null,null,null,null,null,null,null,null,null,null,null,null,null,null,2800,"RUMAOS SA","TERCEROS","Consignado","AREA DEL SOL","BANDERA DE LOS ANDES Y PELLEGRINI","5519B","SAN JOSE","GUAYMALLEN","MENDOZA","33699581629","García, Marcos","Cacciola, Federico","Chiavassa, César Miguel",""]
[null,"VILLA SAN PEDRO (CP: 7203)","7203","VILLA SAN PEDRO","BUENOS AIRES","METROPOLITANA","123","CESAR RONCARI",null,null,null,null,null,null,null,null,null,null,null,null,null,null,null,null,null,null,null,null,null,null,null,null,null,null,null,null,null,null,null,null,null,null,null,null,null,2805,"SUHAIMAN GOMEZ YAMILA Y OTROS SH","TERCEROS","Consignado","AREA DEL SOL","AVENIDA LIBERTADOR 2200",5584,"PALMIRA","SAN MARTIN","MENDOZA","30712526145","Beccari, Mario","Cacciola, Federico","Chiavassa, César Miguel",""]
[null,"VILLA SANZ (CP: 6511)","6511","VILLA SANZ","BUENOS AIRES","METROPOLITANA",31,"PABLO CIMINARI",null,null,null,null,null,null,null,null,null,null,null,null,null,null,null,null,null,null,null,null,null,null,null,null,null,null,null,null,null,null,null,null,null,null,null,null,null,2808,"ALLUB HNOS SRL","TERCEROS","Consignado","AREA DEL SOL","RUTA NACIONAL 7 KM 941 (Descendente)",5592,"LA DORMIDA","SANTA ROSA","MENDOZA","30527651332","Beccari, Mario","Cacciola, Federico","Chiavassa, César Miguel",""]
[null,"VILLALONGA (CP: 8512)","8512","VILLALONGA","BUENOS AIRES","METROPOLITANA",130,"CESAR RONCARI",null,null,null,null,null,null,null,null,null,null,null,null,null,null,null,null,null,null,null,null,null,null,null,null,null,null,null,null,null,null,null,null,null,null,null,null,null,2812,"MASETTO HNOS NAZARENO Y OTROS","TERCEROS","Consignado","AREA DEL SOL","JOSE ALBERTO OZAMIS Y PALMA",5515,"MAIPU","MAIPU","MENDOZA","30707819703","Farias, Daniel","Cacciola, Federico","Chiavassa, César Miguel",""]
[null,"VIÑA (CP: 2754)","2754","VIÑA","BUENOS AIRES","METROPOLITANA","29","JOSE ANDRES MONDINO",null,null,null,null,null,null,null,null,null,null,null,null,null,null,null,null,null,null,null,null,null,null,null,null,null,null,null,null,null,null,null,null,null,null,null,null,null,2813,"SIXTO Y ARMANDO MORELLO SA","TERCEROS","Consignado","AREA DEL SOL","RUTA PROVINCIAL 62 KM (Ascendente) Y 67",5577,"RIVADAVIA","RIVADAVIA","MENDOZA","30708509554","Beccari, Mario","Cacciola, Federico","Chiavassa, César Miguel",""]
[null,"VIVORATA (CP: 7612)","7612","VIVORATA","BUENOS AIRES","METROPOLITANA","123","CESAR RONCARI",null,null,null,null,null,null,null,null,null,null,null,null,null,null,null,null,null,null,null,null,null,null,null,null,null,null,null,null,null,null,null,null,null,null,null,null,null,2818,"ANTONIO PIACENTINI","TERCEROS","Consignado","AREA DEL SOL","MANZANARES","5589A","TRES PORTEÑAS","SAN MARTIN","MENDOZA","20068825130","Beccari, Mario","Cacciola, Federico","Chiavassa, César Miguel",""]
[null,"WARNES (CP: 6646)","6646","WARNES","BUENOS AIRES","METROPOLITANA",18,"OMAR PRESAS",null,null,null,null,null,null,null,null,null,null,null,null,null,null,null,null,null,null,null,null,null,null,null,null,null,null,null,null,null,null,null,null,null,null,null,null,null,2819,"LUIS G POZOBON E HIJOS SRL","TERCEROS","Consignado","AREA DEL SOL","MAZA Y 6 DE SEPTIEMBRE",5515,"MAIPU","MAIPU","MENDOZA","30623714418","Farias, Daniel","Cacciola, Federico","Chiavassa, César Miguel",""]
[null,"ZELAYA (CP: 1627)","1627","ZELAYA","BUENOS AIRES","METROPOLITANA","29","JOSE ANDRES MONDINO",null,null,null,null,null,null,null,null,null,null,null,null,null,null,null,null,null,null,null,null,null,null,null,null,null,null,null,null,null,null,null,null,null,null,null,null,null,2825,"SANCHEZ ARTURO CANDIDO","TERCEROS","Consignado","AREA DEL SOL","BALCARCE Y MITRE",5570,"SAN MARTIN","SAN MARTIN","MENDOZA","20068471428","Beccari, Mario","Cacciola, Federico","Chiavassa, César Miguel",""]
[null,"ZONA RURAL (CP: 1923)","1923","ZONA RURAL","BUENOS AIRES","METROPOLITANA",31,"PABLO CIMINARI",null,null,null,null,null,null,null,null,null,null,null,null,null,null,null,null,null,null,null,null,null,null,null,null,null,null,null,null,null,null,null,null,null,null,null,null,null,2826,"COSTA SERVIS SA","TERCEROS","Consignado","AREA DEL SOL","BELGRANO 675",5535,"COSTA DE ARAUJO","LAVALLE","MENDOZA","30714282197","García, Marcos","Cacciola, Federico","Chiavassa, César Miguel",""]
[null,"ANDALGALA (CP: 5740)","5740","ANDALGALA","CATAMARCA","LOS VALLES","24","DANIEL ECHEVERRIA",null,null,null,null,null,null,null,null,null,null,null,null,null,null,null,null,null,null,null,null,null,null,null,null,null,null,null,null,null,null,null,null,null,null,null,null,null,2832,"SUCESION DE ELOY GUERRERO","TERCEROS","Consignado","AREA DEL SOL","RUTA PROVINCIAL 50 KM () Y CALLE MOISES SERRAVDILLA",5582,"ING. GIAGNONI","SAN MARTIN","MENDOZA","30634830487","Beccari, Mario","Cacciola, Federico","Chiavassa, César Miguel",""]
[null,"ANTOFAGASTA DE LA SIERRA (CP: 4705)","4705","ANTOFAGASTA DE LA SIERRA","CATAMARCA","LOS VALLES","24","DANIEL ECHEVERRIA",null,null,null,null,null,null,null,null,null,null,null,null,null,null,null,null,null,null,null,null,null,null,null,null,null,null,null,null,null,null,null,null,null,null,null,null,null,2833,"GUERRERO ISABEL CHACON DE GUERRERO","TERCEROS","Consignado","AREA DEL SOL","RUTA NACIONAL 7 KM (Ascendente) Y CALLE GUTIERREZ","5582A","ALTO VERDE","SAN MARTIN","MENDOZA","30634830487","Beccari, Mario","Cacciola, Federico","Chiavassa, César Miguel",""]
[null,"CAPAYAN (CP: 4726)","4726","CAPAYAN","CATAMARCA","LOS VALLES","24","DANIEL ECHEVERRIA",null,null,null,null,null,null,null,null,null,null,null,null,null,null,null,null,null,null,null,null,null,null,null,null,null,null,null,null,null,null,null,null,null,null,null,null,null,2839,"ACA LA PAZ","ACA","ACA","AREA DEL SOL","25 DE MAYO 293",5590,"LA PAZ","LA PAZ","MENDOZA","30500143297","Beccari, Mario","Cacciola, Federico","Chiavassa, César Miguel",""]
[null,"CATAMARCA (CP: 4700)","4700","CATAMARCA","CATAMARCA","LOS VALLES","24","DANIEL ECHEVERRIA",null,null,null,null,null,null,null,null,null,null,null,null,null,null,null,null,null,null,null,null,null,null,null,null,null,null,null,null,null,null,null,null,null,null,null,null,null,2840,"ACA C S MENDOZA","ACA","ACA","AREA DEL SOL","VIDELA Y BANDERA DE LOS ANDES",5519,"SAN JOSE","GUAYMALLEN","MENDOZA","30500143297","García, Marcos","Cacciola, Federico","Chiavassa, César Miguel",""]
[null,"DPTO.AMBATO (CP: 4715)","4715","DPTO.AMBATO","CATAMARCA","LOS VALLES","24","DANIEL ECHEVERRIA",null,null,null,null,null,null,null,null,null,null,null,null,null,null,null,null,null,null,null,null,null,null,null,null,null,null,null,null,null,null,null,null,null,null,null,null,null,2846,"COMBUSTIBLES Y SERVICIOS EL CRUCE S.A.","TERCEROS","Consignado","AREA DEL SOL","RUTA NACIONAL 7 KM (Descendente) Y RUTA NAC. 148",5730,"VILLA MERCEDES","GRAL PEDERNERA","SAN LUIS","30714298093","Franco, Marcelo Oscar","Cacciola, Federico","Chiavassa, César Miguel",""]
[null,"EL ALAMITO (CP: 4743)","4743","EL ALAMITO","CATAMARCA","LOS VALLES","24","DANIEL ECHEVERRIA",null,null,null,null,null,null,null,null,null,null,null,null,null,null,null,null,null,null,null,null,null,null,null,null,null,null,null,null,null,null,null,null,null,null,null,null,null,2847,"BARBIERI HNOS SA","TERCEROS","Consignado","AREA DEL SOL","AVENIDA CORDOBA Y SARMIENTO",5773,"TILISARAO","CHACABUCO","SAN LUIS","30698395245","Franco, Marcelo Oscar","Cacciola, Federico","Chiavassa, César Miguel",""]
[null,"EL TRAPICHE (CP: 4139)","4139","EL TRAPICHE","CATAMARCA","LOS VALLES","24","DANIEL ECHEVERRIA",null,null,null,null,null,null,null,null,null,null,null,null,null,null,null,null,null,null,null,null,null,null,null,null,null,null,null,null,null,null,null,null,null,null,null,null,null,2849,"CHADA JOSE SALVADOR","TERCEROS","Consignado","AREA DEL SOL","AVENIDA LAFINUR BOLIVAR",5700,"SAN LUIS","SAN LUIS CAPITAL","SAN LUIS","20068119449","Franco, Marcelo Oscar","Cacciola, Federico","Chiavassa, César Miguel",""]
[null,"FARALLON NEGRO (CP: 4751)","4751","FARALLON NEGRO","CATAMARCA","LOS VALLES","24","DANIEL ECHEVERRIA",null,null,null,null,null,null,null,null,null,null,null,null,null,null,null,null,null,null,null,null,null,null,null,null,null,null,null,null,null,null,null,null,null,null,null,null,null,2850,"CARLETTI HERMANOS SRL","TERCEROS","Consignado","AREA DEL SOL","RUTA NACIONAL 7 KM 783.500 (Ascendente) Y RUTA NACIONAL 147",5700,"SAN LUIS","SAN LUIS CAPITAL","SAN LUIS","30561039379","Franco, Marcelo Oscar","Cacciola, Federico","Chiavassa, César Miguel",""]
[null,"HUILLAPIMA (CP: 4726)","4726","HUILLAPIMA","CATAMARCA","LOS VALLES","24","DANIEL ECHEVERRIA",null,null,null,null,null,null,null,null,null,null,null,null,null,null,null,null,null,null,null,null,null,null,null,null,null,null,null,null,null,null,null,null,null,null,null,null,null,2853,"FRIAS OSVALDO RUBEN","TERCEROS","Consignado","AREA DEL SOL","AVIADOR ORIGONE Y GENERAL PAZ",5730,"VILLA MERCEDES","GRAL PEDERNERA","SAN LUIS","20052663556","Franco, Marcelo Oscar","Cacciola, Federico","Chiavassa, César Miguel",""]
[null,"LA MERCED (CP: 4718)","4718","LA MERCED","CATAMARCA","LOS VALLES","24","DANIEL ECHEVERRIA",null,null,null,null,null,null,null,null,null,null,null,null,null,null,null,null,null,null,null,null,null,null,null,null,null,null,null,null,null,null,null,null,null,null,null,null,null,2854,"CRUZ ATALIVA FERNANDEZ","TERCEROS","Consignado","AREA DEL SOL","RUTA NACIONAL 188 KM (Ascendente) Y AVENIDA DIASSA",6216,"UNION","GOB DUPUY","SAN LUIS","20068159106","Franco, Marcelo Oscar","Cacciola, Federico","Chiavassa, César Miguel",""]
[null,"LOS VARELAS (CP: 4711)","4711","LOS VARELAS","CATAMARCA","LOS VALLES","24","DANIEL ECHEVERRIA",null,null,null,null,null,null,null,null,null,null,null,null,null,null,null,null,null,null,null,null,null,null,null,null,null,null,null,null,null,null,null,null,null,null,null,null,null,2862,"PELA HERMANOS SRL","TERCEROS","Consignado","AREA DEL SOL","CAIDOS EN MALVINAS E Y SARMIENTO S N",5700,"SAN LUIS","SAN LUIS CAPITAL","SAN LUIS","30518254967","Franco, Marcelo Oscar","Cacciola, Federico","Chiavassa, César Miguel",""]
[null,"MIN.LA ALUMBRERA (CP: 4741)","4741","MIN.LA ALUMBRERA","CATAMARCA","LOS VALLES","24","DANIEL ECHEVERRIA",null,null,null,null,null,null,null,null,null,null,null,null,null,null,null,null,null,null,null,null,null,null,null,null,null,null,null,null,null,null,null,null,null,null,null,null,null,2864,"RASSO HNOS SH","TERCEROS","Consignado","AREA DEL SOL","AVENIDA BELGRANO Y GRACIARENA",5750,"LA TOMA","CNEL PRINGLES","SAN LUIS","30590225165","Franco, Marcelo Oscar","Cacciola, Federico","Chiavassa, César Miguel",""]
[null,"SAN ANT.DE LA PAZ (CP: 5264)","5264","SAN ANT.DE LA PAZ","CATAMARCA","LOS VALLES","24","DANIEL ECHEVERRIA",null,null,null,null,null,null,null,null,null,null,null,null,null,null,null,null,null,null,null,null,null,null,null,null,null,null,null,null,null,null,null,null,null,null,null,null,null,2872,"LAS ACACIAS SRL","TERCEROS","Consignado","AREA DEL SOL","POETA ESTEBAN AGUERO Y SOBREMONTE",5881,"MERLO","CHACABUCO","SAN LUIS","30708217197","Franco, Marcelo Oscar","Cacciola, Federico","Chiavassa, César Miguel",""]
[null,"SAN MARTIN (CP: 5263)","5263","SAN MARTIN","CATAMARCA","LOS VALLES","24","DANIEL ECHEVERRIA",null,null,null,null,null,null,null,null,null,null,null,null,null,null,null,null,null,null,null,null,null,null,null,null,null,null,null,null,null,null,null,null,null,null,null,null,null,2875,"VEINTICINCO DE MAYO SRL","TERCEROS","Consignado","AREA DEL SOL","BETBEDER Y AVENIDA 25 DE MAYO",5730,"VILLA MERCEDES","GRAL PEDERNERA","SAN LUIS","30563429875","Franco, Marcelo Oscar","Cacciola, Federico","Chiavassa, César Miguel",""]
[null,"STA.MARIA (CP: 4139)","4139","STA.MARIA","CATAMARCA","LOS VALLES","24","DANIEL ECHEVERRIA",null,null,null,null,null,null,null,null,null,null,null,null,null,null,null,null,null,null,null,null,null,null,null,null,null,null,null,null,null,null,null,null,null,null,null,null,null,2877,"ACA SAN LUIS","ACA","ACA","AREA DEL SOL","AVENIDA PRES ARTURO H ILLIA Y CONSTITUCION",5700,"SAN LUIS","SAN LUIS CAPITAL","SAN LUIS","30500143297","Franco, Marcelo Oscar","Cacciola, Federico","Chiavassa, César Miguel",""]
[null,"SUMALAO (CP: 4705)","4705","SUMALAO","CATAMARCA","LOS VALLES","24","DANIEL ECHEVERRIA",null,null,null,null,null,null,null,null,null,null,null,null,null,null,null,null,null,null,null,null,null,null,null,null,null,null,null,null,null,null,null,null,null,null,null,null,null,2878,"ACA VILLA MERCEDES","ACA","ACA","AREA DEL SOL","AVENIDA 25 DE MAYO Y LANDABURU",5730,"VILLA MERCEDES","GRAL PEDERNERA","SAN LUIS","30500143297","Franco, Marcelo Oscar","Cacciola, Federico","Chiavassa, César Miguel",""]
[null,"YAQUICHO (CP: 4729)","4729","YAQUICHO","CATAMARCA","LOS VALLES","24","DANIEL ECHEVERRIA",null,null,null,null,null,null,null,null,null,null,null,null,null,null,null,null,null,null,null,null,null,null,null,null,null,null,null,null,null,null,null,null,null,null,null,null,null,2884,"SERVICOM SCC","TERCEROS","Consignado","LITORAL NORTE","TRINIDAD GONZALEZ 805",3600,"FORMOSA","FORMOSA","FORMOSA","30671421902","Mendoza, Gonzalo","Kokubu, Alberto","A definir",""]
[null,"ANTEQUERAS (CP: 3505)","3505","ANTEQUERAS","CHACO","NOROESTE","48","MIGUEL BERNERI",null,null,null,null,null,null,null,null,null,null,null,null,null,null,null,null,null,null,null,null,null,null,null,null,null,null,null,null,null,null,null,null,null,null,null,null,null,2887,"ESTACION DE SERVICIO EDARGUS SRL","TERCEROS","Consignado","LITORAL SUR","AVENIDA CARLOS PELLEGRINI Y PERU",2000,"ROSARIO","ROSARIO","SANTA FE","30701486931","Donato, Sebastian","Gomez, Cristian","A definir",""]
[null,{"$f":"CONCATENATE(D1219,\" (CP: \",C1219,\")\")","v":"BASAIL (CP: 3516)"},"3516","BASAIL","CHACO","NOROESTE","48","MIGUEL BERNERI",null,null,null,null,null,null,null,null,null,null,null,null,null,null,null,null,null,null,null,null,null,null,null,null,null,null,null,null,null,null,null,null,null,null,null,null,null,2898,"COMBUSTIBLES SAN PEDRO","TERCEROS","Consignado","LITORAL NORTE","AVENIDA PANTALEON GOMEZ Y GONZALEZ LELON",3600,"FORMOSA","FORMOSA","FORMOSA","30671419444","Mendoza, Gonzalo","Kokubu, Alberto","A definir",""]
[null,"C0RZUELA (CP: 3718)","3718","C0RZUELA","CHACO","NOROESTE","48","MIGUEL BERNERI",null,null,null,null,null,null,null,null,null,null,null,null,null,null,null,null,null,null,null,null,null,null,null,null,null,null,null,null,null,null,null,null,null,null,null,null,null,2901,"MERCASOFA SA","TERCEROS","Consignado","MEDITERRANEA","DR RICARDO BALBIN Y CALLE DE LA SEMILLERIA",5012,"CORDOBA","CORDOBA CAPITAL","CORDOBA","30698873562","Fernandez, Cecilia","Parolin, Mauricio Elvio","Banegas, Walter",""]
[null,"CHARATA (CP: 3730)","3730","CHARATA","CHACO","NOROESTE","48","MIGUEL BERNERI",null,null,null,null,null,null,null,null,null,null,null,null,null,null,null,null,null,null,null,null,null,null,null,null,null,null,null,null,null,null,null,null,null,null,null,null,null,2903,"OPESSA ACA GALARZA","OPESSA","Consignado","LITORAL SUR","GALARZA 1773 Y 9 DE JULIO",3260,"CONC.DEL URUGUAY","URUGUAY","ENTRE RIOS","30678774495","Martinez Ruhl, Jose Huberto","Gomez, Cristian","A definir","Duran, Oscar"]
[null,"COLONIA BAJI HONDO (CP: 3700)","3700","COLONIA BAJI HONDO","CHACO","NOROESTE","48","MIGUEL BERNERI",null,null,null,null,null,null,null,null,null,null,null,null,null,null,null,null,null,null,null,null,null,null,null,null,null,null,null,null,null,null,null,null,null,null,null,null,null,2904,"OPESSA BR ZARATE","OPESSA","Consignado","BUENOS AIRES","RUTA NACIONAL 193 KM 3 (Descendente)",2800,"ZARATE","ZARATE","BUENOS AIRES","30678774495","Cullari, José","Brena, Marcelo","Barruti, Francisco","Ferrando, Damián Andres"]
[null,"COLONIAS UNIDAS (CP: 3515)","3515","COLONIAS UNIDAS","CHACO","NOROESTE","48","MIGUEL BERNERI",null,null,null,null,null,null,null,null,null,null,null,null,null,null,null,null,null,null,null,null,null,null,null,null,null,null,null,null,null,null,null,null,null,null,null,null,null,2908,"OPESSA SALADILLO","OPESSA","Consignado","PAMPEANA","RUTA NACIONAL 205 KM 182 (Descendente) Y FROCHAM",7260,"SALADILLO","SALADILLO","BUENOS AIRES","30678774495","Astaburuaga, Jose Martin ","Gerino, Ignacio","Barrera Casal, Facundo","Urruspil, Ezequiel"]
[null,"COMANTE. FERNANDEZ-CHACO (CP: 3700)","3700","COMANTE. FERNANDEZ-CHACO","CHACO","NOROESTE","48","MIGUEL BERNERI",null,null,null,null,null,null,null,null,null,null,null,null,null,null,null,null,null,null,null,null,null,null,null,null,null,null,null,null,null,null,null,null,null,null,null,null,null,2909,"COMBUSTIBLES DEL NORTE SA","TERCEROS","Consignado","VALLES","RUTA PROVINCIAL 5 KM (Ascendente) Y RUTA PROVINCIAL 30",4449,"LAS LAJITAS","ANTA","SALTA","30681284474","Marcori, Maximiliano","Naval, Carlos","Astegiano, Flavio",""]
[null,"EL RODEO (CP: 4715)","4715","EL RODEO","CHACO","NOROESTE","48","MIGUEL BERNERI",null,null,null,null,null,null,null,null,null,null,null,null,null,null,null,null,null,null,null,null,null,null,null,null,null,null,null,null,null,null,null,null,null,null,null,null,null,2913,"GRUPO NORTE SRL","TERCEROS","Consignado","PAMPEANA","AMEGHINO Y CHILE",6300,"SANTA ROSA","LA PAMPA CAPITAL","LA PAMPA","30671637689","Storm, Fernando","Fernandez, Mariano","Barrera Casal, Facundo",""]
[null,"FONTANA (CP: 3514)","3514","FONTANA","CHACO","NOROESTE","48","MIGUEL BERNERI",null,null,null,null,null,null,null,null,null,null,null,null,null,null,null,null,null,null,null,null,null,null,null,null,null,null,null,null,null,null,null,null,null,null,null,null,null,2914,"SERVICIOS PILMAYQUEN SRL","TERCEROS","Consignado","PAMPEANA","HIPOLITO YRIGOYEN Y PILMAIQUEN",8000,"BAHIA BLANCA","BAHIA BLANCA","BUENOS AIRES","30710650469","Lindo Poisson, Ruben Ariel","Fernandez, Mariano","Barrera Casal, Facundo",""]
[null,"GRAL.J.D.S.MARTIN (CP: 3509)","3509","GRAL.J.D.S.MARTIN","CHACO","NOROESTE","48","MIGUEL BERNERI",null,null,null,null,null,null,null,null,null,null,null,null,null,null,null,null,null,null,null,null,null,null,null,null,null,null,null,null,null,null,null,null,null,null,null,null,null,2917,"OPESSA RAFAELA","OPESSA","Consignado","LITORAL SUR","BOULEVARD ROCA Y ARENALES",2300,"RAFAELA","CASTELLANOS","SANTA FE","30678774495","Oyola, Rafael","Gomez, Cristian","A definir","Lujan, Gabriela"]
[null,"GRAL.PINEDO (CP: 3732)","3732","GRAL.PINEDO","CHACO","NOROESTE","48","MIGUEL BERNERI",null,null,null,null,null,null,null,null,null,null,null,null,null,null,null,null,null,null,null,null,null,null,null,null,null,null,null,null,null,null,null,null,null,null,null,null,null,2918,"OPESSA SAN ANTONIO","OPESSA","Consignado","LITORAL SUR","CATAMARCA 90 Y PELLEGRINI",3200,"CONCORDIA","CONCORDIA","ENTRE RIOS","30678774495","A definir","Gomez, Cristian","A definir","Duran, Oscar"]
[null,"LA CLOTILDE (CP: 3701)","3701","LA CLOTILDE","CHACO","NOROESTE","48","MIGUEL BERNERI",null,null,null,null,null,null,null,null,null,null,null,null,null,null,null,null,null,null,null,null,null,null,null,null,null,null,null,null,null,null,null,null,null,null,null,null,null,2920,"BIDARTE AMELIA RENEE","TERCEROS","Consignado","PAMPEANA","AVENIDA SAN MARTIN Y SGTO CABRAL",7214,"CACHARI","AZUL","BUENOS AIRES","27120230846","Di Santo, Julio","Fernandez, Mariano","Barrera Casal, Facundo",""]
[null,"LA ESCONDIDA (CP: 3514)","3514","LA ESCONDIDA","CHACO","NOROESTE","48","MIGUEL BERNERI",null,null,null,null,null,null,null,null,null,null,null,null,null,null,null,null,null,null,null,null,null,null,null,null,null,null,null,null,null,null,null,null,null,null,null,null,null,2921,"SARO SRL","TERCEROS","Consignado","PATAGONIA","AVENIDA DE LOS SHELKNAM'S Y RUTA NACIONAL 3","9420C","TOLHUIN-TIERRA DEL FUEGO","USHUAIA","TIERRA DEL FUEGO","30675802269","Potes, Claudio Fernando","Peletay, Walter","Barreiro, Silvina",""]
[null,"LA VERDE (CP: 3514)","3514","LA VERDE","CHACO","NOROESTE","48","MIGUEL BERNERI",null,null,null,null,null,null,null,null,null,null,null,null,null,null,null,null,null,null,null,null,null,null,null,null,null,null,null,null,null,null,null,null,null,null,null,null,null,2926,"LUEY GAS SA","TERCEROS","Consignado","BUENOS AIRES","AVENIDA CAMINO GENERAL BELGRANO Y CALLE 838",1881,"S.F.SOLANO","QUILMES","BUENOS AIRES","30693525825","Carrera, Sebastián","Emanuel, Adrian Fabio","Barruti, Francisco",""]
[null,"LAS BREÑAS (CP: 3722)","3722","LAS BREÑAS","CHACO","NOROESTE","48","MIGUEL BERNERI",null,null,null,null,null,null,null,null,null,null,null,null,null,null,null,null,null,null,null,null,null,null,null,null,null,null,null,null,null,null,null,null,null,null,null,null,null,2927,"OPESSA ADROGUE","OPESSA","Consignado","BUENOS AIRES","AVENIDA HIPOLITO YRIGOYEN Y GRAL FRIAS",1846,"ADROGUE","ALMTE BROWN","BUENOS AIRES","30678774495","Carrera, Sebastián","Emanuel, Adrian Fabio","Barruti, Francisco","Herlein, Carolina"]
[null,"LEONESA - CHACO (CP: 3518)","3518","LEONESA - CHACO","CHACO","NOROESTE","48","MIGUEL BERNERI",null,null,null,null,null,null,null,null,null,null,null,null,null,null,null,null,null,null,null,null,null,null,null,null,null,null,null,null,null,null,null,null,null,null,null,null,null,2930,"IACONO JUAN","TERCEROS","Consignado","BUENOS AIRES","AVENIDA REGIMIENTO DE PATRICIOS",1806,"TRISTAN SUAREZ","EZEIZA","BUENOS AIRES","20139793170","Marincolo, Fernando","Emanuel, Adrian Fabio","Barruti, Francisco",""]
[null,"MACHAGAY (CP: 3534)","3534","MACHAGAY","CHACO","NOROESTE","48","MIGUEL BERNERI",null,null,null,null,null,null,null,null,null,null,null,null,null,null,null,null,null,null,null,null,null,null,null,null,null,null,null,null,null,null,null,null,null,null,null,null,null,2931,"LAFECOM SRL","TERCEROS","Consignado","BUENOS AIRES","AVENIDA GRAL ROJO Y CALDERON DE LA BARCA",1757,"LA FERRERE","LA MATANZA","BUENOS AIRES","30687091295","Marincolo, Fernando","Emanuel, Adrian Fabio","Barruti, Francisco",""]
[null,"P.D.LA PLAZA (CP: 3536)","3536","P.D.LA PLAZA","CHACO","NOROESTE","48","MIGUEL BERNERI",null,null,null,null,null,null,null,null,null,null,null,null,null,null,null,null,null,null,null,null,null,null,null,null,null,null,null,null,null,null,null,null,null,null,null,null,null,2937,"BARALE SA","TERCEROS","GNC","MEDITERRANEA","ARTURO ILLIA 176 Y AVALOS",5850,"RIO TERCERO","TERCERO ARRIBA","CORDOBA",30543035064,"Fraire, Lucas","Parolin, Mauricio Elvio","Banegas, Walter",""]
[null,"PAMPA DEL INDIO (CP: 3531)","3531","PAMPA DEL INDIO","CHACO","NOROESTE","48","MIGUEL BERNERI",null,null,null,null,null,null,null,null,null,null,null,null,null,null,null,null,null,null,null,null,null,null,null,null,null,null,null,null,null,null,null,null,null,null,null,null,null,2938,"DA COSTA E HIJOS SA","TERCEROS","Consignado","BUENOS AIRES","RUTA NACIONAL 36 KM (Ascendente) Y BOMBERO ZENZABELLO",1888,"FCIO.VARELA","FLORENCIO VARELA","BUENOS AIRES","30658022349","Cabral, Carlos","Emanuel, Adrian Fabio","Barruti, Francisco",""]
[null,"PRESIDENCIA ROCA (CP: 3511)","3511","PRESIDENCIA ROCA","CHACO","NOROESTE","48","MIGUEL BERNERI",null,null,null,null,null,null,null,null,null,null,null,null,null,null,null,null,null,null,null,null,null,null,null,null,null,null,null,null,null,null,null,null,null,null,null,null,null,2956,"VILLA ALPINA SRL","TERCEROS","Consignado","LITORAL SUR","GÜEMES 385 Y AVENIDA SAN MARTIN",2345,"V.TRINIDAD","SAN CRISTOBAL","SANTA FE","33700367059","Vergara, Marcelo","Gomez, Cristian","A definir",""]
[null,"PTE.R.SAENZ PEÑA (CP: 3700)","3700","PTE.R.SAENZ PEÑA","CHACO","NOROESTE","48","MIGUEL BERNERI",null,null,null,null,null,null,null,null,null,null,null,null,null,null,null,null,null,null,null,null,null,null,null,null,null,null,null,null,null,null,null,null,null,null,null,null,null,2958,"REGI-GRUPO SA","TERCEROS","Consignado","VALLES","VELEZ SARFIELD Y RIVADAVIA",4152,"AGUILARES","CHICLIGASTA","TUCUMAN","30675311702","Villafañe, Ramiro","Naval, Carlos","Astegiano, Flavio",""]
[null,"PUERTO VILELAS (CP: 3503)","3503","PUERTO VILELAS","CHACO","NOROESTE","48","MIGUEL BERNERI",null,null,null,null,null,null,null,null,null,null,null,null,null,null,null,null,null,null,null,null,null,null,null,null,null,null,null,null,null,null,null,null,null,null,null,null,null,2965,"DA COSTA E HIJOS SA","TERCEROS","Consignado","BUENOS AIRES","RUTA NACIONAL 2 KM 37.500 (Ascendente) Y CALLE 1286",1888,"FCIO.VARELA","FLORENCIO VARELA","BUENOS AIRES","30658022349","Cabral, Carlos","Emanuel, Adrian Fabio","Barruti, Francisco",""]
[null,"QUITILIPI (CP: 3530)","3530","QUITILIPI","CHACO","NOROESTE","48","MIGUEL BERNERI",null,null,null,null,null,null,null,null,null,null,null,null,null,null,null,null,null,null,null,null,null,null,null,null,null,null,null,null,null,null,null,null,null,null,null,null,null,2967,"GALVAN REY SERGIO ALEJANDRO","TERCEROS","Consignado","VALLES","LOPEZ ENTRE PLANEZ Y MATIENZO",4146,"CONCEPCION","CHICLIGASTA","TUCUMAN","20225575380","Villafañe, Ramiro","Naval, Carlos","Astegiano, Flavio",""]
[null,"SAN BERNARDO (CP: 3701)","3701","SAN BERNARDO","CHACO","NOROESTE","48","MIGUEL BERNERI",null,null,null,null,null,null,null,null,null,null,null,null,null,null,null,null,null,null,null,null,null,null,null,null,null,null,null,null,null,null,null,null,null,null,null,null,null,2974,"VALLE FULL SRL","TERCEROS","Consignado","PATAGONIA","RUTA NACIONAL 250 KM 270.500 (Descendente) Y AVENIDA ESPA#A",8363,"LAMARQUE","PILCANIYEU","RIO NEGRO","30709464635","Peralta, Gustavo","Maccari, Marcelo","Barreiro, Silvina",""]
[null,"SAN FERNANDO (CP: 3518)","3518","SAN FERNANDO","CHACO","NOROESTE","48","MIGUEL BERNERI",null,null,null,null,null,null,null,null,null,null,null,null,null,null,null,null,null,null,null,null,null,null,null,null,null,null,null,null,null,null,null,null,null,null,null,null,null,2975,"COMBUSTIBLE BOMBAL S.A.","TERCEROS","Consignado","LITORAL SUR","RUTA PROVINCIAL 14 KM 79 (Ascendente)",2179,"BOMBAL","CONSTITUCION","SANTA FE","30712128808","Ahmad, Ricardo","Gomez, Cristian","A definir",""]
[null,"TACO POZO (CP: 3714)","3714","TACO POZO","CHACO","NOROESTE","48","MIGUEL BERNERI",null,null,null,null,null,null,null,null,null,null,null,null,null,null,null,null,null,null,null,null,null,null,null,null,null,null,null,null,null,null,null,null,null,null,null,null,null,2978,"CAAGUAZU GAS","TERCEROS","Consignado","METROPOLITANA","9 DE JULIO Y EVA PERON",1825,"MONTE CHINGOLO","LANUS","BUENOS AIRES","30701249891","Noval, Marcelo","Acosta, Diego","Gottlieb, Patricio",""]
[null,"TRES ISLETAS (CP: 3703)","3703","TRES ISLETAS","CHACO","NOROESTE","48","MIGUEL BERNERI",null,null,null,null,null,null,null,null,null,null,null,null,null,null,null,null,null,null,null,null,null,null,null,null,null,null,null,null,null,null,null,null,null,null,null,null,null,2979,"CUATRO BOCAS SRL","TERCEROS","Consignado","LITORAL NORTE","RUTA NACIONAL 12 KM (Ascendente) Y RUTA NAC 18",3420,"SALADAS","SALADAS","CORRIENTES","30701367193","Machuca, Rolando","Kokubu, Alberto","A definir",""]
[null,"ALDEA APELEG (CP: 9033)","9033","ALDEA APELEG","CHUBUT","PATAGONIA","26","SOLEDAD BARTOLOMEI",null,null,null,null,null,null,null,null,null,null,null,null,null,null,null,null,null,null,null,null,null,null,null,null,null,null,null,null,null,null,null,null,null,null,null,null,null,2984,"SERVICIOS PILAR II SA","TERCEROS","Consignado","BUENOS AIRES","AVENIDA V CASTRO Y FITZ ROY",1629,"PILAR","PILAR","BUENOS AIRES","33657319789","Cullari, José","Brena, Marcelo","Barruti, Francisco",""]
[null,"ALDEA BELEIRO (CP: 9037)","9037","ALDEA BELEIRO","CHUBUT","PATAGONIA","26","SOLEDAD BARTOLOMEI",null,null,null,null,null,null,null,null,null,null,null,null,null,null,null,null,null,null,null,null,null,null,null,null,null,null,null,null,null,null,null,null,null,null,null,null,null,2985,"OPESSA DEBENEDETTI ASCENDENTE","OPESSA","Consignado","METROPOLITANA","RUTA NACIONAL PANAMERICANA KM (Ascendente) Y ACCESO DEBENEDETTI",1636,"OLIVOS","VICENTE LOPEZ","BUENOS AIRES","30678774495","Leite, Jose","Bouzon, Gustavo","Gottlieb, Patricio","Santa Cruz, Wilde"]
[null,"ARROYO VERDE (CP: 8532)","8532","ARROYO VERDE","CHUBUT","PATAGONIA","26","SOLEDAD BARTOLOMEI",null,null,null,null,null,null,null,null,null,null,null,null,null,null,null,null,null,null,null,null,null,null,null,null,null,null,null,null,null,null,null,null,null,null,null,null,null,2989,"OPESSA RIO DE JANEIRO","OPESSA","Consignado","LITORAL SUR","AVENIDA SANTA FE 2460 Y RIO DE JANEIRO",2300,"RAFAELA","CASTELLANOS","SANTA FE","30678774495","Oyola, Rafael","Gomez, Cristian","A definir","Lujan, Gabriela"]
[null,"ARROYO VERDE (CP: 9123)","9123","ARROYO VERDE","CHUBUT","PATAGONIA","26","SOLEDAD BARTOLOMEI",null,null,null,null,null,null,null,null,null,null,null,null,null,null,null,null,null,null,null,null,null,null,null,null,null,null,null,null,null,null,null,null,null,null,null,null,null,2991,"OPESSA ACCESO OESTE LUJAN","OPESSA","Consignado","BUENOS AIRES","RUTA NACIONAL 7 KM 54.800 (Ascendente)",1748,"GRAL. RODRIGUEZ","GRAL RODRIGUEZ","BUENOS AIRES","30678774495","Luppoli, Hugo Martin","Brena, Marcelo","Barruti, Francisco","Ferrando, Damián Andres"]
[null,"BLANCUNTRE (CP: 9201)","9201","BLANCUNTRE","CHUBUT","PATAGONIA","26","SOLEDAD BARTOLOMEI",null,null,null,null,null,null,null,null,null,null,null,null,null,null,null,null,null,null,null,null,null,null,null,null,null,null,null,null,null,null,null,null,null,null,null,null,null,3001,"NORMA NIETO DE ROLDAN Y EDUARDO HIPOLITOROLDAN SH","TERCEROS","Consignado","VALLES","L MANSUETO DE LA FUENTE Y 20 DE MAYO",5310,"AIMOGASTA","ARAUCO","LA RIOJA","30625089685","Parellada, Oscar","Naval, Carlos","Astegiano, Flavio",""]
[null,"BUEN PASTO (CP: 9023)","9023","BUEN PASTO","CHUBUT","PATAGONIA","26","SOLEDAD BARTOLOMEI",null,null,null,null,null,null,null,null,null,null,null,null,null,null,null,null,null,null,null,null,null,null,null,null,null,null,null,null,null,null,null,null,null,null,null,null,null,3002,"OPESSA ACA MORON","OPESSA","Consignado","METROPOLITANA","AVENIDA BARTOLOME MITRE 1666 Y TOMAS GUIDO",1708,"MORON","MORON","BUENOS AIRES","30678774495","Sanchez, Luis","Bouzon, Gustavo","Gottlieb, Patricio","Gualeni, Andrea"]
[null,"CAPSA (CP: 9000)","9000","CAPSA","CHUBUT","PATAGONIA","26","SOLEDAD BARTOLOMEI",null,null,null,null,null,null,null,null,null,null,null,null,null,null,null,null,null,null,null,null,null,null,null,null,null,null,null,null,null,null,null,null,null,null,null,null,null,3007,"COMBUSTIBLES BOULEVARD 72 SRL","TERCEROS","Consignado","BUENOS AIRES","AVENIDA CIRCUNVALACION 72 Y CALLE 19",1900,"LA PLATA","LA PLATA","BUENOS AIRES","30691375508","Fasan, Ricardo","Emanuel, Adrian Fabio","Barruti, Francisco",""]
[null,"CENTRO RIO MAYO (CP: 9035)","9035","CENTRO RIO MAYO","CHUBUT","PATAGONIA","26","SOLEDAD BARTOLOMEI",null,null,null,null,null,null,null,null,null,null,null,null,null,null,null,null,null,null,null,null,null,null,null,null,null,null,null,null,null,null,null,null,null,null,null,null,null,3008,"KEH-COM SA","TERCEROS","Consignado","BUENOS AIRES","AVENIDA ROQUE SAENZ PE#A Y RUTA 51",2740,"ARRECIFES","BARTOLOME MITRE","BUENOS AIRES","30708068469","Olivetti, Diego","Brena, Marcelo","Barruti, Francisco",""]
[null,"CERRO NEGRO (CP: 9223)","9223","CERRO NEGRO","CHUBUT","PATAGONIA","26","SOLEDAD BARTOLOMEI",null,null,null,null,null,null,null,null,null,null,null,null,null,null,null,null,null,null,null,null,null,null,null,null,null,null,null,null,null,null,null,null,null,null,null,null,null,3010,"FONTI DE MARTINATTO N Y OTROS SH","TERCEROS","Consignado","MEDITERRANEA","RUTA NACIONAL 19 KM 216 (Ascendente)",2428,"EL FUERTECITO","SAN JUSTO","CORDOBA","30707087486","Fernandez, Cecilia","Parolin, Mauricio Elvio","Banegas, Walter",""]
[null,"CHOLILA (CP: 9217)","9217","CHOLILA","CHUBUT","PATAGONIA","26","SOLEDAD BARTOLOMEI",null,null,null,null,null,null,null,null,null,null,null,null,null,null,null,null,null,null,null,null,null,null,null,null,null,null,null,null,null,null,null,null,null,null,null,null,null,3011,"BERAZA Y CIA SRL","TERCEROS","Consignado","PAMPEANA","RUTA NACIONAL 5 KM 189.100 (Ascendente) Y ACCESO",6634,"ALBERTI","ALBERTI","BUENOS AIRES","30664463543","Astaburuaga, Jose Martin ","Gerino, Ignacio","Barrera Casal, Facundo",""]
[null,{"$f":"CONCATENATE(D1283,\" (CP: \",C1283,\")\")","v":"COMOD.RIVADAVIA (CP: 9000)"},"9000","COMOD.RIVADAVIA","CHUBUT","PATAGONIA","26","SOLEDAD BARTOLOMEI",null,null,null,null,null,null,null,null,null,null,null,null,null,null,null,null,null,null,null,null,null,null,null,null,null,null,null,null,null,null,null,null,null,null,null,null,null,3022,"OPESSA TURDERA","OPESSA","Consignado","BUENOS AIRES","AVENIDA ANTARTIDA ARGENTINA 696 Y FRIAS",1834,"TURDERA","LOMAS DE ZAMORA","BUENOS AIRES","30678774495","Marincolo, Fernando","Emanuel, Adrian Fabio","Barruti, Francisco","Herlein, Carolina"]
[null,"CORCOVADO (CP: 9201)","9201","CORCOVADO","CHUBUT","PATAGONIA","26","SOLEDAD BARTOLOMEI",null,null,null,null,null,null,null,null,null,null,null,null,null,null,null,null,null,null,null,null,null,null,null,null,null,null,null,null,null,null,null,null,null,null,null,null,null,3036,"GASMER S.A","TERCEROS","Consignado","METROPOLITANA","DR A ALSINA 820",1828,"BANFIELD","LOMAS DE ZAMORA","BUENOS AIRES","30711731012","Noval, Marcelo","Acosta, Diego","Gottlieb, Patricio",""]
[null,"DOCTOR RICARDO ROJAS (CP: 9035)","9035","DOCTOR RICARDO ROJAS","CHUBUT","PATAGONIA","26","SOLEDAD BARTOLOMEI",null,null,null,null,null,null,null,null,null,null,null,null,null,null,null,null,null,null,null,null,null,null,null,null,null,null,null,null,null,null,null,null,null,null,null,null,null,3048,"OPESSA OLIVERA","OPESSA","Consignado","METROPOLITANA","AVENIDA DIRECTORIO 4311 Y OLIVERA",1407,"CAPITAL FEDERAL","CAPITAL FEDERAL","CAPITAL FEDERAL","30678774495","Lupi, Guido","Acosta, Diego","Gottlieb, Patricio","Gualeni, Andrea"]
[null,"DOLAVON (CP: 9107)","9107","DOLAVON","CHUBUT","PATAGONIA","26","SOLEDAD BARTOLOMEI",null,null,null,null,null,null,null,null,null,null,null,null,null,null,null,null,null,null,null,null,null,null,null,null,null,null,null,null,null,null,null,null,null,null,null,null,null,3055,"GLP SA","TERCEROS","Consignado","BUENOS AIRES","BLAS PARERA Y KING",1714,"ITUZAINGO","MORON","BUENOS AIRES","30707158472","Isak, Fernando","Brena, Marcelo","Barruti, Francisco",""]
[null,"EL MAITEN (CP: 8431)","8431","EL MAITEN","CHUBUT","PATAGONIA","26","SOLEDAD BARTOLOMEI",null,null,null,null,null,null,null,null,null,null,null,null,null,null,null,null,null,null,null,null,null,null,null,null,null,null,null,null,null,null,null,null,null,null,null,null,null,3071,"OPESSA PASCO","OPESSA","Consignado","METROPOLITANA","AVENIDA TOMAS FLORES 2199 Y 92",1876,"BERNAL","QUILMES","BUENOS AIRES","30678774495","Berardi, Juan Carlos","Acosta, Diego","Gottlieb, Patricio","Herlein, Carolina"]
[null,"EL MAITEN (CP: 9210)","9210","EL MAITEN","CHUBUT","PATAGONIA","26","SOLEDAD BARTOLOMEI",null,null,null,null,null,null,null,null,null,null,null,null,null,null,null,null,null,null,null,null,null,null,null,null,null,null,null,null,null,null,null,null,null,null,null,null,null,3073,"OPESSA MELO","OPESSA","Consignado","METROPOLITANA","AVENIDA DEL LIBERTADOR Y MELO",1638,"VICENTE LOPEZ","VICENTE LOPEZ","BUENOS AIRES","30678774495","Leite, Jose","Bouzon, Gustavo","Gottlieb, Patricio","Santa Cruz, Wilde"]
[null,"EL SOMBRERO (CP: 9207)","9207","EL SOMBRERO","CHUBUT","PATAGONIA","26","SOLEDAD BARTOLOMEI",null,null,null,null,null,null,null,null,null,null,null,null,null,null,null,null,null,null,null,null,null,null,null,null,null,null,null,null,null,null,null,null,null,null,null,null,null,3087,"LIBERT LION SRL","TERCEROS","Consignado","METROPOLITANA","AVENIDA MARQUEZ 2169 Y LIBERTAD",1655,"JOSE LEON SUAREZ","SAN MARTIN","BUENOS AIRES","30715760475","Gatt, Gaston","Bouzon, Gustavo","Gottlieb, Patricio",""]
[null,"EL TORDILLO (CP: 9020)","9020","EL TORDILLO","CHUBUT","PATAGONIA","26","SOLEDAD BARTOLOMEI",null,null,null,null,null,null,null,null,null,null,null,null,null,null,null,null,null,null,null,null,null,null,null,null,null,null,null,null,null,null,null,null,null,null,null,null,null,3088,"OPESSA ITUZAINGO","OPESSA","Consignado","BUENOS AIRES","INT CARLOS RATTI 1720 Y MONROE",1714,"ITUZAINGO","MORON","BUENOS AIRES","30678774495","Isak, Fernando","Brena, Marcelo","Barruti, Francisco","Gualeni, Andrea"]
[null,"GAIMAN (CP: 9105)","9105","GAIMAN","CHUBUT","PATAGONIA","26","SOLEDAD BARTOLOMEI",null,null,null,null,null,null,null,null,null,null,null,null,null,null,null,null,null,null,null,null,null,null,null,null,null,null,null,null,null,null,null,null,null,null,null,null,null,3101,"OSVALDO FANTINI Y CIA SRL","TERCEROS","Consignado","MEDITERRANEA","BOULEVARD BELGRANO Y -ETO PE#A",5141,"BALNEARIA","SAN JUSTO","CORDOBA","33573553689","Fernandez, Cecilia","Parolin, Mauricio Elvio","Banegas, Walter",""]
[null,"GAN GAN (CP: 9121)","9121","GAN GAN","CHUBUT","PATAGONIA","26","SOLEDAD BARTOLOMEI",null,null,null,null,null,null,null,null,null,null,null,null,null,null,null,null,null,null,null,null,null,null,null,null,null,null,null,null,null,null,null,null,null,null,null,null,null,3105,"OPESSA YATAY","OPESSA","Consignado","METROPOLITANA","AVENIDA DIAZ VELEZ 4373 Y YATAY",1200,"CAPITAL FEDERAL","CAPITAL FEDERAL","CAPITAL FEDERAL","30678774495","Crespo, Sebastián","Acosta, Diego","Gottlieb, Patricio","Gualeni, Andrea"]
[null,"GASTRES (CP: 9121)","9121","GASTRES","CHUBUT","PATAGONIA","26","SOLEDAD BARTOLOMEI",null,null,null,null,null,null,null,null,null,null,null,null,null,null,null,null,null,null,null,null,null,null,null,null,null,null,null,null,null,null,null,null,null,null,null,null,null,3113,"GNC THAMES SA","TERCEROS","Consignado","METROPOLITANA","AUTOPISTA PANAMERICANA KM (Descendente) Y MAESTRO GRANADA",1609,"BOULOGNE","SAN ISIDRO","BUENOS AIRES","30641540842","López, Alejandro","Bouzon, Gustavo","Gottlieb, Patricio",""]
[null,"GOB.COSTA (CP: 9223)","9223","GOB.COSTA","CHUBUT","PATAGONIA","26","SOLEDAD BARTOLOMEI",null,null,null,null,null,null,null,null,null,null,null,null,null,null,null,null,null,null,null,null,null,null,null,null,null,null,null,null,null,null,null,null,null,null,null,null,null,3115,"AIMETTA SRL","TERCEROS","Consignado","MEDITERRANEA","AVENIDA GRAL MANUEL N SAVIO 1202 Y 2 DE ABRIL",5850,"RIO TERCERO","TERCERO ARRIBA","CORDOBA","30707176128","Fraire, Lucas","Parolin, Mauricio Elvio","Banegas, Walter",""]
[null,"JOSE D.SAN MARTIN (CP: 9220)","9220","JOSE D.SAN MARTIN","CHUBUT","PATAGONIA","26","SOLEDAD BARTOLOMEI",null,null,null,null,null,null,null,null,null,null,null,null,null,null,null,null,null,null,null,null,null,null,null,null,null,null,null,null,null,null,null,null,null,null,null,null,null,3130,"ECOMAT SA","TERCEROS","Consignado","AREA DEL SOL","AVENIDA BARTOLOME MITRE 1475",5519,"GUAYMALLEN","GUAYMALLEN","MENDOZA","30671965791","García, Marcos","Cacciola, Federico","Chiavassa, César Miguel",""]
[null,"LAGO BLANCO (CP: 9039)","9039","LAGO BLANCO","CHUBUT","PATAGONIA","26","SOLEDAD BARTOLOMEI",null,null,null,null,null,null,null,null,null,null,null,null,null,null,null,null,null,null,null,null,null,null,null,null,null,null,null,null,null,null,null,null,null,null,null,null,null,3132,"ESTACION 20 DE JULIO SA","TERCEROS","Consignado","BUENOS AIRES","PRESIDENTE PERON 1199",2900,"SAN NICOLAS","SAN NICOLAS","BUENOS AIRES","30708369914","Olivetti, Diego","Brena, Marcelo","Barruti, Francisco",""]
[null,"LAGUNITA SALADA (CP: 9121)","9121","LAGUNITA SALADA","CHUBUT","PATAGONIA","26","SOLEDAD BARTOLOMEI",null,null,null,null,null,null,null,null,null,null,null,null,null,null,null,null,null,null,null,null,null,null,null,null,null,null,null,null,null,null,null,null,null,null,null,null,null,3141,"IACONO JUAN","TERCEROS","Consignado","BUENOS AIRES","CJAL PEDRO SUAREZ Y GRAL M RODRIGUEZ",1842,"MONTE GRANDE","ESTEBAN ECHEVERRIA","BUENOS AIRES","20139793170","Marincolo, Fernando","Emanuel, Adrian Fabio","Barruti, Francisco",""]
[null,"LAS CHAPAS (CP: 9107)","9107","LAS CHAPAS","CHUBUT","PATAGONIA","26","SOLEDAD BARTOLOMEI",null,null,null,null,null,null,null,null,null,null,null,null,null,null,null,null,null,null,null,null,null,null,null,null,null,null,null,null,null,null,null,null,null,null,null,null,null,3143,"ALBERDI GAS SA","TERCEROS","Consignado","METROPOLITANA","AVENIDA ALBERDI ENTRE POLA Y FONROUGE",1440,"CAPITAL FEDERAL","CAPITAL FEDERAL","CAPITAL FEDERAL","30644320495","Lupi, Guido","Acosta, Diego","Gottlieb, Patricio",""]
[null,"LAS PLUMAS (CP: 9101)","9101","LAS PLUMAS","CHUBUT","PATAGONIA","26","SOLEDAD BARTOLOMEI",null,null,null,null,null,null,null,null,null,null,null,null,null,null,null,null,null,null,null,null,null,null,null,null,null,null,null,null,null,null,null,null,null,null,null,null,null,3150,"OPESSA FLORENCIO VARELA","OPESSA","Consignado","BUENOS AIRES","AVENIDA CALCHAQUI 5877 Y AVENIDA DEL TRABAJO",1888,"FCIO.VARELA","FLORENCIO VARELA","BUENOS AIRES","30678774495","Cabral, Carlos","Emanuel, Adrian Fabio","Barruti, Francisco","Herlein, Carolina"]
[null,"LAURITA (CP: 9227)","9227","LAURITA","CHUBUT","PATAGONIA","26","SOLEDAD BARTOLOMEI",null,null,null,null,null,null,null,null,null,null,null,null,null,null,null,null,null,null,null,null,null,null,null,null,null,null,null,null,null,null,null,null,null,null,null,null,null,3151,"DOC SA","TERCEROS","Consignado","BUENOS AIRES","DIAGONAL 73 Y CALLE 72",1900,"LA PLATA","LA PLATA","BUENOS AIRES","30677945822","Fasan, Ricardo","Emanuel, Adrian Fabio","Barruti, Francisco",""]
[null,"LOS ALTARES (CP: 9207)","9207","LOS ALTARES","CHUBUT","PATAGONIA","26","SOLEDAD BARTOLOMEI",null,null,null,null,null,null,null,null,null,null,null,null,null,null,null,null,null,null,null,null,null,null,null,null,null,null,null,null,null,null,null,null,null,null,null,null,null,3159,"OPESSA RETIRO TERMINAL","OPESSA","Consignado","METROPOLITANA","AVENIDA ANTARTIDA ARGENTINA Y CALLE 10",1104,"CAPITAL FEDERAL","CAPITAL FEDERAL","CAPITAL FEDERAL","30678774495","Crespo, Sebastián","Acosta, Diego","Gottlieb, Patricio","Gualeni, Andrea"]
[null,"MANANTIALES BHER (CP: 9005)","9005","MANANTIALES BHER","CHUBUT","PATAGONIA","26","SOLEDAD BARTOLOMEI",null,null,null,null,null,null,null,null,null,null,null,null,null,null,null,null,null,null,null,null,null,null,null,null,null,null,null,null,null,null,null,null,null,null,null,null,null,3160,"OPESSA PRINGLES","OPESSA","Consignado","METROPOLITANA","AVENIDA CORDOBA 4201 Y PRINGLES",1414,"CAPITAL FEDERAL","CAPITAL FEDERAL","CAPITAL FEDERAL","30678774495","López, Alejandro","Bouzon, Gustavo","Gottlieb, Patricio","Gualeni, Andrea"]
[null,"PASO DE INDIOS (CP: 9207)","9207","PASO DE INDIOS","CHUBUT","PATAGONIA","26","SOLEDAD BARTOLOMEI",null,null,null,null,null,null,null,null,null,null,null,null,null,null,null,null,null,null,null,null,null,null,null,null,null,null,null,null,null,null,null,null,null,null,null,null,null,3177,"EL EMPALME SRL","TERCEROS","Consignado","LITORAL SUR","ANTONIO SALELLAS Y AVDA JORGE NEWBERY",3100,"PARANA","PARANA","ENTRE RIOS","33615338449","Martino, Alejandra","Gomez, Cristian","A definir",""]
[null,"PASO DEL SAPO (CP: 9201)","9201","PASO DEL SAPO","CHUBUT","PATAGONIA","26","SOLEDAD BARTOLOMEI",null,null,null,null,null,null,null,null,null,null,null,null,null,null,null,null,null,null,null,null,null,null,null,null,null,null,null,null,null,null,null,null,null,null,null,null,null,3178,"HECTOR PEDRO MASSA","TERCEROS","Consignado","LITORAL SUR","BOULEVARD COLON Y P MORENO",2630,"FIRMAT","GRAL LOPEZ","SANTA FE","20061235788","Ahmad, Ricardo","Gomez, Cristian","A definir",""]
[null,"PUERTO PIRAMIDES (CP: 9121)","9121","PUERTO PIRAMIDES","CHUBUT","PATAGONIA","26","SOLEDAD BARTOLOMEI",null,null,null,null,null,null,null,null,null,null,null,null,null,null,null,null,null,null,null,null,null,null,null,null,null,null,null,null,null,null,null,null,null,null,null,null,null,3217,"AREST SA","TERCEROS","Consignado","BUENOS AIRES","CNO CENTENARIO Y CALLE 11",1896,"CITY BELL","LA PLATA","BUENOS AIRES","30665716941","Cabral, Carlos","Emanuel, Adrian Fabio","Barruti, Francisco",""]
[null,"RADA TILLY (CP: 9001)","9001","RADA TILLY","CHUBUT","PATAGONIA","26","SOLEDAD BARTOLOMEI",null,null,null,null,null,null,null,null,null,null,null,null,null,null,null,null,null,null,null,null,null,null,null,null,null,null,null,null,null,null,null,null,null,null,null,null,null,3219,"LUIGGI COMBUSTIBLES SRL","TERCEROS","Consignado","PAMPEANA","MAESTRO P SORAINE NORTE 17",6205,"ING.LUIGGI","REALICO","LA PAMPA","30715006509","Storm, Fernando","Fernandez, Mariano","Barrera Casal, Facundo",""]
[null,"RIO MAYO (CP: 9030)","9030","RIO MAYO","CHUBUT","PATAGONIA","26","SOLEDAD BARTOLOMEI",null,null,null,null,null,null,null,null,null,null,null,null,null,null,null,null,null,null,null,null,null,null,null,null,null,null,null,null,null,null,null,null,null,null,null,null,null,3223,"LEGUIZA LEANDRO JOSE LUIS","TERCEROS","Consignado","VALLES","RUTA NACIONAL 79 KM (Ascendente) Y RUTA PROVINCIAL 28",5383,"OLTA","FAMATINA","LA RIOJA","20332309065","Parellada, Oscar","Naval, Carlos","Astegiano, Flavio",""]
[null,"RIO PICO (CP: 9225)","9225","RIO PICO","CHUBUT","PATAGONIA","26","SOLEDAD BARTOLOMEI",null,null,null,null,null,null,null,null,null,null,null,null,null,null,null,null,null,null,null,null,null,null,null,null,null,null,null,null,null,null,null,null,null,null,null,null,null,3224,"PETROMADRID SA","TERCEROS","Consignado","MEDITERRANEA","AVENIDA MADRID Y LOS MATACOS",5000,"CORDOBA","CORDOBA CAPITAL","CORDOBA","33707366619","Villagra, Luis ","Parolin, Mauricio Elvio","Banegas, Walter",""]
[null,"TEKCA (CP: 9201)","9201","TEKCA","CHUBUT","PATAGONIA","26","SOLEDAD BARTOLOMEI",null,null,null,null,null,null,null,null,null,null,null,null,null,null,null,null,null,null,null,null,null,null,null,null,null,null,null,null,null,null,null,null,null,null,null,null,null,3227,"RAUL E ALONSO SRL","TERCEROS","Consignado","LITORAL NORTE","AVENIDA LOPEZ Y PLANES Y ROCAMORA",3300,"POSADAS","POSADAS","MISIONES","30710383436","Cendra, Luciano","Kokubu, Alberto","A definir",""]
[null,"TELSEN (CP: 9121)","9121","TELSEN","CHUBUT","PATAGONIA","26","SOLEDAD BARTOLOMEI",null,null,null,null,null,null,null,null,null,null,null,null,null,null,null,null,null,null,null,null,null,null,null,null,null,null,null,null,null,null,null,null,null,null,null,null,null,3228,"OPESSA JUMBO NEUQUEN","OPESSA","Consignado","PATAGONIA","JUAN JULIAN LASTRA Y SAAVEDRA",8300,"NEUQUEN","CONFLUENCIA","NEUQUEN","30678774495","Linares, Roberto","Maccari, Marcelo","Barreiro, Silvina","Sinatra, Saul"]
[null,"UZCUDUN (CP: 9007)","9007","UZCUDUN","CHUBUT","PATAGONIA","26","SOLEDAD BARTOLOMEI",null,null,null,null,null,null,null,null,null,null,null,null,null,null,null,null,null,null,null,null,null,null,null,null,null,null,null,null,null,null,null,null,null,null,null,null,null,3231,"MARIJO SA","TERCEROS","Consignado","MEDITERRANEA","AYACUCHO Y AVENIDA GODOY CRUZ",5800,"RIO CUARTO","RIO CUARTO","CORDOBA","30698548289","Ojeda,  David ","Parolin, Mauricio Elvio","Banegas, Walter",""]
[null,"VILLA FUTALAUFQUEN (CP: 9200)","9200","VILLA FUTALAUFQUEN","CHUBUT","PATAGONIA","26","SOLEDAD BARTOLOMEI",null,null,null,null,null,null,null,null,null,null,null,null,null,null,null,null,null,null,null,null,null,null,null,null,null,null,null,null,null,null,null,null,null,null,null,null,null,3232,"OPESSA ACA BERNAL","OPESSA","Consignado","METROPOLITANA","AVENIDA .APIOLA 26 Y SAN MARTIN",1876,"BERNAL","QUILMES","BUENOS AIRES","30678774495","Berardi, Juan Carlos","Acosta, Diego","Gottlieb, Patricio","Herlein, Carolina"]
[null,"ADELIA MARIA (CP: 5843)","5843","ADELIA MARIA","CORDOBA","MEDITERRANEA","24","DANIEL ECHEVERRIA",null,null,null,null,null,null,null,null,null,null,null,null,null,null,null,null,null,null,null,null,null,null,null,null,null,null,null,null,null,null,null,null,null,null,null,null,null,3235,"OPESSA ACA VILLA ALLENDE","OPESSA","Consignado","MEDITERRANEA","AVENIDA GOYCOCHEA 1169",5102,"VILLA ALLENDE","COLON","CORDOBA","30678774495","Alizzi, Silvina","Parolin, Mauricio Elvio","Banegas, Walter","Lujan, Gabriela"]
[null,"ALCIRA (CP: 5813)","5813","ALCIRA","CORDOBA","MEDITERRANEA","24","DANIEL ECHEVERRIA",null,null,null,null,null,null,null,null,null,null,null,null,null,null,null,null,null,null,null,null,null,null,null,null,null,null,null,null,null,null,null,null,null,null,null,null,null,3237,"BRAGAS SRL","TERCEROS","Consignado","PAMPEANA","ACCESO ELIZONDO Y COMBATE DE SAN LORENZO",6640,"BRAGADO","BRAGADO","BUENOS AIRES","30707173870","Astaburuaga, Jose Martin ","Gerino, Ignacio","Barrera Casal, Facundo",""]
[null,"ALICIA (CP: 5949)","5949","ALICIA","CORDOBA","MEDITERRANEA","24","DANIEL ECHEVERRIA",null,null,null,null,null,null,null,null,null,null,null,null,null,null,null,null,null,null,null,null,null,null,null,null,null,null,null,null,null,null,null,null,null,null,null,null,null,3242,"J&P SA","TERCEROS","Consignado","AREA DEL SOL","AVENIDA SAN MARTIN Y SANTIAGO R CAJAL N",5400,"SAN JUAN","SAN JUAN CAPITAL","SAN JUAN","30708417293","Jimenez, Jorge Alberto","Cacciola, Federico","Chiavassa, César Miguel",""]
[null,"ALMAFUERTE (CP: 5854)","5854","ALMAFUERTE","CORDOBA","MEDITERRANEA","24","DANIEL ECHEVERRIA",null,null,null,null,null,null,null,null,null,null,null,null,null,null,null,null,null,null,null,null,null,null,null,null,null,null,null,null,null,null,null,null,null,null,null,null,null,3244,"BLANCO Y ASOCIADOS SA","TERCEROS","Consignado","METROPOLITANA","ARDOINO 630",1704,"RAMOS MEJIA","LA MATANZA","BUENOS AIRES","30648444334","Endrinal, Johana","Acosta, Diego","Gottlieb, Patricio",""]
[null,"ALTO GRANDE (CP: 5893)","5893","ALTO GRANDE","CORDOBA","MEDITERRANEA","24","DANIEL ECHEVERRIA",null,null,null,null,null,null,null,null,null,null,null,null,null,null,null,null,null,null,null,null,null,null,null,null,null,null,null,null,null,null,null,null,null,null,null,null,null,3246,"LUCAM SA","TERCEROS","Consignado","MEDITERRANEA","LIBERTAD Y FRAY MAMERTO ESQUIU",5000,"CORDOBA","CORDOBA CAPITAL","CORDOBA","30614150633","Alizzi, Silvina","Parolin, Mauricio Elvio","Banegas, Walter",""]
[null,"ALTOS DE CHIPION (CP: 2417)","2417","ALTOS DE CHIPION","CORDOBA","MEDITERRANEA","24","DANIEL ECHEVERRIA",null,null,null,null,null,null,null,null,null,null,null,null,null,null,null,null,null,null,null,null,null,null,null,null,null,null,null,null,null,null,null,null,null,null,null,null,null,3247,"LUCAM SA","TERCEROS","Consignado","MEDITERRANEA","AVENIDA ARTURO CAPDEVILLA 3618",5000,"CORDOBA","CORDOBA CAPITAL","CORDOBA","30614150633","Alizzi, Silvina","Parolin, Mauricio Elvio","Banegas, Walter",""]
[null,{"$f":"CONCATENATE(D1347,\" (CP: \",C1347,\")\")","v":"ARROYITO (CP: 2434)"},"2434","ARROYITO","CORDOBA","MEDITERRANEA","24","DANIEL ECHEVERRIA",null,null,null,null,null,null,null,null,null,null,null,null,null,null,null,null,null,null,null,null,null,null,null,null,null,null,null,null,null,null,null,null,null,null,null,null,null,3254,"OPESSA AUSOL CAMPANA KM 72 DESCENDENTE","OPESSA","Consignado","BUENOS AIRES","RUTA NACIONAL PANAMERICANA KM 72 (Descendente)",2804,"CAMPANA","CAMPANA","BUENOS AIRES","30678774495","Cullari, José","Brena, Marcelo","Barruti, Francisco","Ferrando, Damián Andres"]
[null,"ARROYO ALGODON (CP: 5909)","5909","ARROYO ALGODON","CORDOBA","MEDITERRANEA","24","DANIEL ECHEVERRIA",null,null,null,null,null,null,null,null,null,null,null,null,null,null,null,null,null,null,null,null,null,null,null,null,null,null,null,null,null,null,null,null,null,null,null,null,null,3255,"SALVADOR SRL","TERCEROS","Consignado","AREA DEL SOL","URQUIZA Y ELPIDIO GONZALEZ",5521,"VILLA NUEVA","GUAYMALLEN","MENDOZA","30707634002","Beccari, Mario","Cacciola, Federico","Chiavassa, César Miguel",""]
[null,"ASCOCHINGA (CP: 5117)","5117","ASCOCHINGA","CORDOBA","MEDITERRANEA",17,"SILVIA BARBIERIS",null,null,null,null,null,null,null,null,null,null,null,null,null,null,null,null,null,null,null,null,null,null,null,null,null,null,null,null,null,null,null,null,null,null,null,null,null,3258,"FEBRENORT SA","TERCEROS","Reventa","METROPOLITANA","AVENIDA SAN MARTIN 1158 Y LUIS M. CAMPOS",1678,"CASEROS","TRES DE FEBRERO","BUENOS AIRES","30615253681","Sanchez, Luis","Bouzon, Gustavo","Gottlieb, Patricio",""]
[null,"AUSONIA (CP: 5901)","5901","AUSONIA","CORDOBA","MEDITERRANEA","24","DANIEL ECHEVERRIA",null,null,null,null,null,null,null,null,null,null,null,null,null,null,null,null,null,null,null,null,null,null,null,null,null,null,null,null,null,null,null,null,null,null,null,null,null,3260,"NICARAGUA SA","TERCEROS","Consignado","METROPOLITANA","NICARAGUA 66 Y AVENIDA MITRE",1872,"SARANDI","AVELLANEDA","BUENOS AIRES","30707446257","Berardi, Juan Carlos","Acosta, Diego","Gottlieb, Patricio",""]
[null,"BALNEARIA (CP: 5141)","5141","BALNEARIA","CORDOBA","MEDITERRANEA","24","DANIEL ECHEVERRIA",null,null,null,null,null,null,null,null,null,null,null,null,null,null,null,null,null,null,null,null,null,null,null,null,null,null,null,null,null,null,null,null,null,null,null,null,null,3264,"OPESSA ACA CORDOBA RAFAEL NU#EZ","OPESSA","Consignado","MEDITERRANEA","AVENIDA RAFAEL NU#EZ Y ECHENIQUE",5000,"CORDOBA","CORDOBA CAPITAL","CORDOBA","30678774495","Alizzi, Silvina","Parolin, Mauricio Elvio","Banegas, Walter","Lujan, Gabriela"]
[null,"BARRIO DEAN FUNES (CP: 5123)","5123","BARRIO DEAN FUNES","CORDOBA","MEDITERRANEA",17,"SILVIA BARBIERIS",null,null,null,null,null,null,null,null,null,null,null,null,null,null,null,null,null,null,null,null,null,null,null,null,null,null,null,null,null,null,null,null,null,null,null,null,null,3265,"PETRO ARGENTINA SRL","TERCEROS","Consignado","METROPOLITANA","BLAS PARERA 1 UGARTE",1636,"OLIVOS","VICENTE LOPEZ","BUENOS AIRES","30707841105","López, Alejandro","Bouzon, Gustavo","Gottlieb, Patricio",""]
[null,"BENGOLEA (CP: 5807)","5807","BENGOLEA","CORDOBA","MEDITERRANEA","24","DANIEL ECHEVERRIA",null,null,null,null,null,null,null,null,null,null,null,null,null,null,null,null,null,null,null,null,null,null,null,null,null,null,null,null,null,null,null,null,null,null,null,null,null,3268,"POZZO ARDIZZI SA","TERCEROS","Consignado","PATAGONIA","BERNAL Y DESCALZI",8504,"CARM.D.PATAGONES","PATAGONES","BUENOS AIRES","30708086831","Peralta, Gustavo","Maccari, Marcelo","Barreiro, Silvina",""]
[null,"BERROTARAN (CP: 5817)","5817","BERROTARAN","CORDOBA","MEDITERRANEA","24","DANIEL ECHEVERRIA",null,null,null,null,null,null,null,null,null,null,null,null,null,null,null,null,null,null,null,null,null,null,null,null,null,null,null,null,null,null,null,null,null,null,null,null,null,3270,"DGB SRL","TERCEROS","Consignado","MEDITERRANEA","ITUZAINGO Y DEAN FUNES",5870,"VILLA DOLORES","SAN JAVIER","CORDOBA","30707284257","Saul, Diego Martin","Parolin, Mauricio Elvio","Banegas, Walter",""]
[null,"BUEN RETIRO (CP: 5155)","5155","BUEN RETIRO","CORDOBA","MEDITERRANEA","24","DANIEL ECHEVERRIA",null,null,null,null,null,null,null,null,null,null,null,null,null,null,null,null,null,null,null,null,null,null,null,null,null,null,null,null,null,null,null,null,null,null,null,null,null,3273,"MARCOS SEBASTIAN CATALAN","TERCEROS","Consignado","PATAGONIA","RUTA NACIONAL 21 KM (Ascendente) Y E SALVADOR","8349A","LONCOPUE (NQ)","LONCOPUE","NEUQUEN","20179946131","Diacono, Juan Pablo","Maccari, Marcelo","Barreiro, Silvina",""]
[null,"BULNES (CP: 5845)","5845","BULNES","CORDOBA","MEDITERRANEA","24","DANIEL ECHEVERRIA",null,null,null,null,null,null,null,null,null,null,null,null,null,null,null,null,null,null,null,null,null,null,null,null,null,null,null,null,null,null,null,null,null,null,null,null,null,3276,"MENGIO SRL","TERCEROS","Consignado","PAMPEANA","AVENIDA F DE LA PLAZA 4898 GIANELLI",7600,"MAR DEL PLATA","GRAL PUEYRREDON","BUENOS AIRES","30701591166","Urrutia, Javier","Gerino, Ignacio","Barrera Casal, Facundo",""]
[null,"CALCHIN (CP: 5964)","5964","CALCHIN","CORDOBA","MEDITERRANEA","24","DANIEL ECHEVERRIA",null,null,null,null,null,null,null,null,null,null,null,null,null,null,null,null,null,null,null,null,null,null,null,null,null,null,null,null,null,null,null,null,null,null,null,null,null,3295,"GRUPO NORTE SRL","TERCEROS","Consignado","PAMPEANA","BALCARCE Y LAVALLE",8200,"GRAL.ACHA","UTRACAN","LA PAMPA","30671637689","Storm, Fernando","Fernandez, Mariano","Barrera Casal, Facundo",""]
[null,"CALCHIN OESTE (CP: 5981)","5981","CALCHIN OESTE","CORDOBA","MEDITERRANEA","24","DANIEL ECHEVERRIA",null,null,null,null,null,null,null,null,null,null,null,null,null,null,null,null,null,null,null,null,null,null,null,null,null,null,null,null,null,null,null,null,null,null,null,null,null,3296,"OPESSA ESPA#A","OPESSA","Consignado","LITORAL SUR","SANTA FE 1694 Y ESPAÑA",2000,"ROSARIO","ROSARIO","SANTA FE","30678774495","Donato, Sebastian","Gomez, Cristian","A definir","Talani, Cristian"]
[null,"CANALS (CP: 2650)","2650","CANALS","CORDOBA","MEDITERRANEA","24","DANIEL ECHEVERRIA",null,null,null,null,null,null,null,null,null,null,null,null,null,null,null,null,null,null,null,null,null,null,null,null,null,null,null,null,null,null,null,null,null,null,null,null,null,3299,"OPESSA AUTOPISTA NORTE","OPESSA","Consignado","METROPOLITANA","AUTOPISTA LA PLATA / BUENOS AIRES KM 13.500 (Ascendente)",1870,"AVELLANEDA","AVELLANEDA","BUENOS AIRES","30678774495","Berardi, Juan Carlos","Acosta, Diego","Gottlieb, Patricio","Herlein, Carolina"]
[null,"CANDELARIA SUD (CP: 5221)","5221","CANDELARIA SUD","CORDOBA","MEDITERRANEA","24","DANIEL ECHEVERRIA",null,null,null,null,null,null,null,null,null,null,null,null,null,null,null,null,null,null,null,null,null,null,null,null,null,null,null,null,null,null,null,null,null,null,null,null,null,3300,"OPESSA DOLORES","OPESSA","Consignado","PAMPEANA","RUTA NACIONAL 2 KM 202.300 (Ascendente)",7100,"DOLORES","DOLORES","BUENOS AIRES","30678774495","Del Dago, Gabriel","Gerino, Ignacio","Barrera Casal, Facundo","Urruspil, Ezequiel"]
[null,"CAÑADA DE LUQUES (CP: 5229)","5229","CAÑADA DE LUQUES","CORDOBA","MEDITERRANEA","24","DANIEL ECHEVERRIA",null,null,null,null,null,null,null,null,null,null,null,null,null,null,null,null,null,null,null,null,null,null,null,null,null,null,null,null,null,null,null,null,null,null,null,null,null,3307,"ALONSO CONSTANTINO RAUL","TERCEROS","Consignado","PAMPEANA","RUTA PROVINCIAL 88 KM (Ascendente) Y SOLIS",7600,"MAR DEL PLATA","GRAL PUEYRREDON","BUENOS AIRES","20109136167","Urrutia, Javier","Gerino, Ignacio","Barrera Casal, Facundo",""]
[null,"CAPILLA DEL MONTE (CP: 5184)","5184","CAPILLA DEL MONTE","CORDOBA","MEDITERRANEA",17,"SILVIA BARBIERIS",null,null,null,null,null,null,null,null,null,null,null,null,null,null,null,null,null,null,null,null,null,null,null,null,null,null,null,null,null,null,null,null,null,null,null,null,null,3308,"LUCENA TERESITA ENCARNACION","TERCEROS","Consignado","AREA DEL SOL","AVENIDA LIBERTADOR SAN MARTIN (O) 7286",5407,"MARQUESADO","RIVADAVIA","SAN JUAN","27101793392","Jimenez, Jorge Alberto","Cacciola, Federico","Chiavassa, César Miguel",""]
[null,"CARRILOBO (CP: 5915)","5915","CARRILOBO","CORDOBA","MEDITERRANEA","24","DANIEL ECHEVERRIA",null,null,null,null,null,null,null,null,null,null,null,null,null,null,null,null,null,null,null,null,null,null,null,null,null,null,null,null,null,null,null,null,null,null,null,null,null,3315,"GRUPO TICINO SRL","TERCEROS","Reventa","MEDITERRANEA","HIPOLITO YRIGOYEN Y SANTA FE",5927,"TICINO","GRAL SAN MARTIN","CORDOBA","30711088179","Fraire, Lucas","Parolin, Mauricio Elvio","Banegas, Walter",""]
[null,"CARRILOBO (CP: 5916)","5916","CARRILOBO","CORDOBA","MEDITERRANEA","24","DANIEL ECHEVERRIA",null,null,null,null,null,null,null,null,null,null,null,null,null,null,null,null,null,null,null,null,null,null,null,null,null,null,null,null,null,null,null,null,null,null,null,null,null,3318,"OPESSA NICARAGUA","OPESSA","Consignado","METROPOLITANA","AVENIDA J B JUSTO 1215 Y NICARAGUA",1414,"CAPITAL FEDERAL","CAPITAL FEDERAL","CAPITAL FEDERAL","30678774495","Outeda, Sergio Angel","Bouzon, Gustavo","Gottlieb, Patricio","Gualeni, Andrea"]
[null,"CHAJAN (CP: 5837)","5837","CHAJAN","CORDOBA","MEDITERRANEA","24","DANIEL ECHEVERRIA",null,null,null,null,null,null,null,null,null,null,null,null,null,null,null,null,null,null,null,null,null,null,null,null,null,null,null,null,null,null,null,null,null,null,null,null,null,3325,"RUBO SA","TERCEROS","Consignado","AREA DEL SOL","DIAGONAL SARMIENTO Y RUTA NACIONAL 20",5442,"CAUCETE","CAUCETE","SAN JUAN","30644294524","Jimenez, Jorge Alberto","Cacciola, Federico","Chiavassa, César Miguel",""]
[null,"CHALACEA (CP: 5229)","5229","CHALACEA","CORDOBA","MEDITERRANEA","24","DANIEL ECHEVERRIA",null,null,null,null,null,null,null,null,null,null,null,null,null,null,null,null,null,null,null,null,null,null,null,null,null,null,null,null,null,null,null,null,null,null,null,null,null,3326,"OPESSA AVELLANEDA VIAS","OPESSA","Consignado","METROPOLITANA","AVENIDA HIPOLITO YRIGOYEN 1067",1870,"AVELLANEDA","AVELLANEDA","BUENOS AIRES","30678774495","Berardi, Juan Carlos","Acosta, Diego","Gottlieb, Patricio","Herlein, Carolina"]
[null,"CHAZON (CP: 2675)","2675","CHAZON","CORDOBA","MEDITERRANEA","24","DANIEL ECHEVERRIA",null,null,null,null,null,null,null,null,null,null,null,null,null,null,null,null,null,null,null,null,null,null,null,null,null,null,null,null,null,null,null,null,null,null,null,null,null,3328,"ESER SA","TERCEROS","Consignado","MEDITERRANEA","AVENIDA SAN MARTIN Y GALILEO",5152,"VILLA CARLOS PAZ","PUNILLA","CORDOBA","33687623539","Villagra, Luis ","Parolin, Mauricio Elvio","Banegas, Walter",""]
[null,"CHILIBROSTE (CP: 2561)","2561","CHILIBROSTE","CORDOBA","MEDITERRANEA","24","DANIEL ECHEVERRIA",null,null,null,null,null,null,null,null,null,null,null,null,null,null,null,null,null,null,null,null,null,null,null,null,null,null,null,null,null,null,null,null,null,null,null,null,null,3329,"OPESSA AUSOL CAMPANA OESTE","OPESSA","Consignado","BUENOS AIRES","AUTOPISTA DEL SOL RAMAL CAMPANA (LADO A BS. AS.) KM 36.500 (Descendente)",1615,"GRAND BOURG","MALVINAS ARGENTINAS","BUENOS AIRES","30678774495","Cullari, José","Brena, Marcelo","Barruti, Francisco","Gualeni, Andrea"]
[null,"CNEL.BAIGORRIA (CP: 5811)","5811","CNEL.BAIGORRIA","CORDOBA","MEDITERRANEA","24","DANIEL ECHEVERRIA",null,null,null,null,null,null,null,null,null,null,null,null,null,null,null,null,null,null,null,null,null,null,null,null,null,null,null,null,null,null,null,null,null,null,null,null,null,3333,"ARAMENDI JUAN Y ARAMENDI RAMON","TERCEROS","Consignado","PAMPEANA","AVENIDA O´BRIEN 21 Y SAN EDUARDO",6646,"GRAL O'BRIEN","BRAGADO","BUENOS AIRES","20121757320","Astaburuaga, Jose Martin ","Gerino, Ignacio","Barrera Casal, Facundo",""]
[null,"CNEL.MOLDES (CP: 5847)","5847","CNEL.MOLDES","CORDOBA","MEDITERRANEA","24","DANIEL ECHEVERRIA",null,null,null,null,null,null,null,null,null,null,null,null,null,null,null,null,null,null,null,null,null,null,null,null,null,null,null,null,null,null,null,null,null,null,null,null,null,3334,"OPESSA TUCUMAN BULNES","OPESSA","Consignado","VALLES","AVENIDA BELGRANO Y BULNES",4000,"S.M.TUCUMAN","TUCUMAN CAPITAL","TUCUMAN","30678774495","Villafañe, Ramiro","Naval, Carlos","Astegiano, Flavio","Ruiz, Pablo Camilo"]
[null,"COL. ITURRASPE (CP: 2413)","2413","COL. ITURRASPE","CORDOBA","MEDITERRANEA","24","DANIEL ECHEVERRIA",null,null,null,null,null,null,null,null,null,null,null,null,null,null,null,null,null,null,null,null,null,null,null,null,null,null,null,null,null,null,null,null,null,null,null,null,null,3338,"OPESSA VENADO TUERTO","OPESSA","Consignado","LITORAL SUR","RUTA NACIONAL 8 KM (Ascendente) E H. YRIGOYEN",2600,"VENADO TUERTO","GRAL LOPEZ","SANTA FE","30678774495","Ahmad, Ricardo","Gomez, Cristian","A definir","Talani, Cristian"]
[null,"COL. MALBERTINA (CP: 2400)","2400","COL. MALBERTINA","CORDOBA","MEDITERRANEA","24","DANIEL ECHEVERRIA",null,null,null,null,null,null,null,null,null,null,null,null,null,null,null,null,null,null,null,null,null,null,null,null,null,null,null,null,null,null,null,null,null,null,null,null,null,3339,"OPESSA EL CRUCE","OPESSA","Consignado","BUENOS AIRES","RUTA NACIONAL 8 KM (Ascendente) Y 197",1665,"JOSE C.PAZ","MALVINAS ARGENTINAS","BUENOS AIRES","30678774495","Isak, Fernando","Brena, Marcelo","Barruti, Francisco","Gualeni, Andrea"]
[null,"COL.MARINA (CP: 2424)","2424","COL.MARINA","CORDOBA","MEDITERRANEA","24","DANIEL ECHEVERRIA",null,null,null,null,null,null,null,null,null,null,null,null,null,null,null,null,null,null,null,null,null,null,null,null,null,null,null,null,null,null,null,null,null,null,null,null,null,3341,"SAENZ PEÑA CENTER SA","TERCEROS","Consignado","LITORAL NORTE","C FERNANDEZ Y UCRANIA",3700,"PTE.R.SAENZ PEÑA","CMDTE FERNANDEZ","CHACO","30696736630","Titos, Marlene","Kokubu, Alberto","A definir",""]
[null,"COLAZO (CP: 5965)","5965","COLAZO","CORDOBA","MEDITERRANEA","24","DANIEL ECHEVERRIA",null,null,null,null,null,null,null,null,null,null,null,null,null,null,null,null,null,null,null,null,null,null,null,null,null,null,null,null,null,null,null,null,null,null,null,null,null,3342,"SERVICIOS EAR SRL","TERCEROS","Consignado","METROPOLITANA","EL CRISPIN Y MARTIN MIGUEL DE GUEMES",1778,"JOSE INGENIEROS","LA MATANZA","BUENOS AIRES","30686321866","Endrinal, Johana","Acosta, Diego","Gottlieb, Patricio",""]
[null,"COLONIA TIROLESA (CP: 5101)","5101","COLONIA TIROLESA","CORDOBA","MEDITERRANEA",17,"SILVIA BARBIERIS",null,null,null,null,null,null,null,null,null,null,null,null,null,null,null,null,null,null,null,null,null,null,null,null,null,null,null,null,null,null,null,null,null,null,null,null,null,5080,"GUARESCHI Y ASOCIADOS S.R.L.","TERCEROS","Consignado","MEDITERRANEA","RUTA NACIONAL 36 KM (Ascendente) Y L N ALEM",5854,"ALMAFUERTE","TERCERO ARRIBA","CORDOBA","33669376109","Fraire, Lucas","Parolin, Mauricio Elvio","Banegas, Walter",""]
[null,"CORDOBA (CP: 5000)","5000","CORDOBA","CORDOBA","MEDITERRANEA",17,"SILVIA BARBIERIS",null,null,null,null,null,null,null,null,null,null,null,null,null,null,null,null,null,null,null,null,null,null,null,null,null,null,null,null,null,null,null,null,null,null,null,null,null,6051,"EL ALAMO SRL","TERCEROS","Consignado","PATAGONIA","RUTA NACIONAL 3 KM 2235 (Ascendente)",9310,"SAN JULIAN","MAGALLANES","SANTA CRUZ","30673537614","Sire, Juan","Peletay, Walter","Barreiro, Silvina",""]
[null,"CORDOBA (CP: 5003)","5003","CORDOBA","CORDOBA","MEDITERRANEA",17,"SILVIA BARBIERIS",null,null,null,null,null,null,null,null,null,null,null,null,null,null,null,null,null,null,null,null,null,null,null,null,null,null,null,null,null,null,null,null,null,null,null,null,null,11140,"CENTRO COMBUSTIBLES SRL","TERCEROS","Consignado","LITORAL SUR","FISCHER 101 Y BOLIVIA",2508,"ARMSTRONG","BELGRANO","SANTA FE","30709385328","Colla, María de los Ángeles","Gomez, Cristian","A definir",""]
[null,"CORDOBA (CP: 5006)","5006","CORDOBA","CORDOBA","MEDITERRANEA",17,"SILVIA BARBIERIS",null,null,null,null,null,null,null,null,null,null,null,null,null,null,null,null,null,null,null,null,null,null,null,null,null,null,null,null,null,null,null,null,null,null,null,null,null,11588,"GNC MU#IZ SA","TERCEROS","Consignado","BUENOS AIRES","AVENIDA PRESIDENTE PERON Y PARDO",1663,"SAN MIGUEL","SAN MIGUEL","BUENOS AIRES","30653291260","Isak, Fernando","Brena, Marcelo","Barruti, Francisco",""]
[null,"CORDOBA (CP: 5012)","5012","CORDOBA","CORDOBA","MEDITERRANEA",17,"SILVIA BARBIERIS",null,null,null,null,null,null,null,null,null,null,null,null,null,null,null,null,null,null,null,null,null,null,null,null,null,null,null,null,null,null,null,null,null,null,null,null,null,11770,"WIND SA","TERCEROS","Consignado","AREA DEL SOL","AVENIDA SAN MARTIN Y ANDRADE",5539,"LAS HERAS","LAS HERAS","MENDOZA","30708964995","García, Marcos","Cacciola, Federico","Chiavassa, César Miguel",""]
[null,"CORDOBA (CP: 5013)","5013","CORDOBA","CORDOBA","MEDITERRANEA",17,"SILVIA BARBIERIS",null,null,null,null,null,null,null,null,null,null,null,null,null,null,null,null,null,null,null,null,null,null,null,null,null,null,null,null,null,null,null,null,null,null,null,null,null,11791,"ALLUB HNOS SRL","TERCEROS","Consignado","AREA DEL SOL","ALEM Y PIROVANO",5570,"SAN MARTIN","SAN MARTIN","MENDOZA","30527651332","Beccari, Mario","Cacciola, Federico","Chiavassa, César Miguel",""]
[null,"CORDOBA (CP: 5016)","5016","CORDOBA","CORDOBA","MEDITERRANEA",17,"SILVIA BARBIERIS",null,null,null,null,null,null,null,null,null,null,null,null,null,null,null,null,null,null,null,null,null,null,null,null,null,null,null,null,null,null,null,null,null,null,null,null,null,12219,"GNP SRL","TERCEROS","Consignado","LITORAL NORTE","CENTENARIO Y POSADAS",3302,"ITUZAINGO","ITUZAINGO","CORRIENTES","33708819919","Machuca, Rolando","Kokubu, Alberto","A definir",""]
[null,"CORDOBA (CP: 5017)","5017","CORDOBA","CORDOBA","MEDITERRANEA",17,"SILVIA BARBIERIS",null,null,null,null,null,null,null,null,null,null,null,null,null,null,null,null,null,null,null,null,null,null,null,null,null,null,null,null,null,null,null,null,null,null,null,null,null,13166,"LA EXELENCIA SRL","TERCEROS","Consignado","LITORAL SUR","RUTA NACIONAL 178 KM (Ascendente) E ITALIA",2520,"LAS ROSAS","BELGRANO","SANTA FE","30708084049","Colla, María de los Ángeles","Gomez, Cristian","A definir",""]
[null,{"$f":"CONCATENATE(D1411,\" (CP: \",C1411,\")\")","v":"CORRAL DE BUSTOS (CP: 2645)"},"2645","CORRAL DE BUSTOS","CORDOBA","MEDITERRANEA","24","DANIEL ECHEVERRIA",null,null,null,null,null,null,null,null,null,null,null,null,null,null,null,null,null,null,null,null,null,null,null,null,null,null,null,null,null,null,null,null,null,null,null,null,null,13357,"BARBOGAS 21 SRL","TERCEROS","Consignado","BUENOS AIRES","32 1330",1900,"LA PLATA","LA PLATA","BUENOS AIRES","30647321182","Fasan, Ricardo","Emanuel, Adrian Fabio","Barruti, Francisco",""]
[null,"CORRALITO (CP: 5853)","5853","CORRALITO","CORDOBA","MEDITERRANEA","24","DANIEL ECHEVERRIA",null,null,null,null,null,null,null,null,null,null,null,null,null,null,null,null,null,null,null,null,null,null,null,null,null,null,null,null,null,null,null,null,null,null,null,null,null,13449,"CENTRO PAMPEANA COMERCIAL SRL","TERCEROS","Consignado","BUENOS AIRES","RUTA NACIONAL 9 KM 211.500 (Ascendente)",2914,"VILLA ESTACION RAMALLO","RAMALLO","BUENOS AIRES","30709026530","Olivetti, Diego","Brena, Marcelo","Barruti, Francisco",""]
[null,"COSTA SACATE (CP: 5961)","5961","COSTA SACATE","CORDOBA","MEDITERRANEA",17,"SILVIA BARBIERIS",null,null,null,null,null,null,null,null,null,null,null,null,null,null,null,null,null,null,null,null,null,null,null,null,null,null,null,null,null,null,null,null,null,null,null,null,null,13581,"AM EMPRENDIMIENTOS","TERCEROS","Consignado","MEDITERRANEA","AVENIDA VELEZ SARSFIELD 596 Y SAN LUIS",5000,"CORDOBA","CORDOBA CAPITAL","CORDOBA","33708926669","Villagra, Luis ","Parolin, Mauricio Elvio","Banegas, Walter",""]
[null,"CRUZ ALTA (CP: 2189)","2189","CRUZ ALTA","CORDOBA","MEDITERRANEA","24","DANIEL ECHEVERRIA",null,null,null,null,null,null,null,null,null,null,null,null,null,null,null,null,null,null,null,null,null,null,null,null,null,null,null,null,null,null,null,null,null,null,null,null,null,14106,"PETROGAS TANDIL SA","TERCEROS","Consignado","PAMPEANA","AVENIDA ESPA#A 585 Y GENERAL RODRIGUEZ",7000,"TANDIL","TANDIL","BUENOS AIRES","30642146501","Di Santo, Julio","Fernandez, Mariano","Barrera Casal, Facundo",""]
[null,"DALMACIO VELEZ (CP: 5919)","5919","DALMACIO VELEZ","CORDOBA","MEDITERRANEA","24","DANIEL ECHEVERRIA",null,null,null,null,null,null,null,null,null,null,null,null,null,null,null,null,null,null,null,null,null,null,null,null,null,null,null,null,null,null,null,null,null,null,null,null,null,15063,"MERCEN SA","TERCEROS","Consignado","METROPOLITANA","AUTOPISTA CIRCUNVALACION KM (Ascendente) Y ACCESO AUTOPISTA RICCHIERI",17702,"TAPIALES","LA MATANZA","BUENOS AIRES","30710926111","Noval, Marcelo","Acosta, Diego","Gottlieb, Patricio",""]
[null,"DEAN FUNES (CP: 5200)","5200","DEAN FUNES","CORDOBA","MEDITERRANEA","24","DANIEL ECHEVERRIA",null,null,null,null,null,null,null,null,null,null,null,null,null,null,null,null,null,null,null,null,null,null,null,null,null,null,null,null,null,null,null,null,null,null,null,null,null,15243,"BARBERO HNOS SA","TERCEROS","Consignado","BUENOS AIRES","RUTA PROVINCIAL 41 KM 265 (Ascendente) ENTRE CALLE 215 Y CALLE 217",7223,"GRAL.BELGRANO","GRAL BELGRANO","BUENOS AIRES","30665074354","Rodriguez, Fernando","Emanuel, Adrian Fabio","Barruti, Francisco",""]
[null,"DEVOTO (CP: 2424)","2424","DEVOTO","CORDOBA","MEDITERRANEA","24","DANIEL ECHEVERRIA",null,null,null,null,null,null,null,null,null,null,null,null,null,null,null,null,null,null,null,null,null,null,null,null,null,null,null,null,null,null,null,null,null,null,null,null,null,15551,"ANGELA NESCI SRL","TERCEROS","Consignado","PATAGONIA","RUTA NACIONAL 22 KM (Ascendente) Y TEGUDCIGALPA",8300,"NEUQUEN","CONFLUENCIA","NEUQUEN","30708836822","Linares, Roberto","Maccari, Marcelo","Barreiro, Silvina",""]
[null,"DIEGO DE ROJAS - CORDOBA (CP: 5131)","5131","DIEGO DE ROJAS - CORDOBA","CORDOBA","MEDITERRANEA","24","DANIEL ECHEVERRIA",null,null,null,null,null,null,null,null,null,null,null,null,null,null,null,null,null,null,null,null,null,null,null,null,null,null,null,null,null,null,null,null,null,null,null,null,null,15552,"CARISTO HNOS","TERCEROS","Consignado","PATAGONIA","SAN MARTIN Y DRURY",8300,"NEUQUEN","CONFLUENCIA","NEUQUEN","30672725344","Linares, Roberto","Maccari, Marcelo","Barreiro, Silvina",""]
[null,"EL CARMEN GUIÑAZU (CP: 5145)","5145","EL CARMEN GUIÑAZU","CORDOBA","MEDITERRANEA","24","DANIEL ECHEVERRIA",null,null,null,null,null,null,null,null,null,null,null,null,null,null,null,null,null,null,null,null,null,null,null,null,null,null,null,null,null,null,null,null,null,null,null,null,null,15787,"LOLAPALUZA SA","TERCEROS","Consignado","METROPOLITANA","AVENIDA URUGUAY 3160 Y AV SUCRE",1643,"BECCAR","SAN ISIDRO","BUENOS AIRES","30712175148","Leite, Jose","Bouzon, Gustavo","Gottlieb, Patricio",""]
[null,"EL FORTIN (CP: 5951)","5951","EL FORTIN","CORDOBA","MEDITERRANEA","24","DANIEL ECHEVERRIA",null,null,null,null,null,null,null,null,null,null,null,null,null,null,null,null,null,null,null,null,null,null,null,null,null,null,null,null,null,null,null,null,null,null,null,null,null,15941,"E/S. DEL CERRO","TERCEROS","Reventa","MEDITERRANEA","RUTA NACIONAL 38 KM 82 (Ascendente)",5184,"CAPILLA DEL MONTE","PUNILLA","CORDOBA","30668563771","Saul, Diego Martin","Parolin, Mauricio Elvio","Banegas, Walter",""]
[null,"EL TIO (CP: 2432)","2432","EL TIO","CORDOBA","MEDITERRANEA","24","DANIEL ECHEVERRIA",null,null,null,null,null,null,null,null,null,null,null,null,null,null,null,null,null,null,null,null,null,null,null,null,null,null,null,null,null,null,null,null,null,null,null,null,null,16123,"FUENTEDE SRL","TERCEROS","Consignado","BUENOS AIRES","G CAMPOS Y PRINGLES E INT JUAN IRIGOIN",1663,"SAN MIGUEL","SAN MIGUEL","BUENOS AIRES","30709294896","Isak, Fernando","Brena, Marcelo","Barruti, Francisco",""]
[null,"ELENA (CP: 5815)","5815","ELENA","CORDOBA","MEDITERRANEA","24","DANIEL ECHEVERRIA",null,null,null,null,null,null,null,null,null,null,null,null,null,null,null,null,null,null,null,null,null,null,null,null,null,null,null,null,null,null,null,null,null,null,null,null,null,16137,"PABLO ZUCCO Y CIA SA","TERCEROS","Consignado","METROPOLITANA","CAMINO DE CINTURA (RUTA PROVINCIAL 4) 9226 Y AVENIDA DE LA RIBERA",1776,"9 DE ABRIL","ESTEBAN ECHEVERRIA","BUENOS AIRES","30699190558","Endrinal, Johana","Acosta, Diego","Gottlieb, Patricio",""]
[null,"EMBALSE (CP: 5856)","5856","EMBALSE","CORDOBA","MEDITERRANEA","24","DANIEL ECHEVERRIA",null,null,null,null,null,null,null,null,null,null,null,null,null,null,null,null,null,null,null,null,null,null,null,null,null,null,null,null,null,null,null,null,null,null,null,null,null,16165,"IACONO","TERCEROS","Consignado","METROPOLITANA","AVENIDA CENTENARIO Y COLOMBIA",1882,"EZPELETA","QUILMES","BUENOS AIRES","20163439515","Berardi, Juan Carlos","Acosta, Diego","Gottlieb, Patricio",""]
[null,"ESTACION CALCHIN (CP: 5969)","5969","ESTACION CALCHIN","CORDOBA","MEDITERRANEA","24","DANIEL ECHEVERRIA",null,null,null,null,null,null,null,null,null,null,null,null,null,null,null,null,null,null,null,null,null,null,null,null,null,null,null,null,null,null,null,null,null,null,null,null,null,16178,"LA QUINTA SRL","TERCEROS","Consignado","METROPOLITANA","AVENIDA AV MOSCONI 3289 Y CAMPANA",1419,"CAPITAL FEDERAL","CAPITAL FEDERAL","CAPITAL FEDERAL","30711439311","López, Alejandro","Bouzon, Gustavo","Gottlieb, Patricio",""]
[null,"FERREYRA (CP: 5123)","5123","FERREYRA","CORDOBA","MEDITERRANEA",17,"SILVIA BARBIERIS",null,null,null,null,null,null,null,null,null,null,null,null,null,null,null,null,null,null,null,null,null,null,null,null,null,null,null,null,null,null,null,null,null,null,null,null,null,21001,"TIBURCIO SANZ SA","TERCEROS","Consignado","VALLES","AUTOPISTA JUAN DOMINGO PERON KM 2 (Ascendente)",4178,"ALDERETES","CRUZ ALTA","TUCUMAN","30707102418","Villafañe, Ramiro","Naval, Carlos","Astegiano, Flavio",""]
[null,"FREYRE (CP: 2413)","2413","FREYRE","CORDOBA","MEDITERRANEA","24","DANIEL ECHEVERRIA",null,null,null,null,null,null,null,null,null,null,null,null,null,null,null,null,null,null,null,null,null,null,null,null,null,null,null,null,null,null,null,null,null,null,null,null,null,24697,"LUIS A CARRIZO Y CIA SRL","TERCEROS","Consignado","MEDITERRANEA","RUTA NACIONAL 9 KM 827 (Descendente)",5244,"SAN JOS.D.DORMIDA","TULUMBA","CORDOBA","30627062490","Alizzi, Silvina","Parolin, Mauricio Elvio","Banegas, Walter",""]
[null,"GRAL.CABRERA (CP: 5809)","5809","GRAL.CABRERA","CORDOBA","MEDITERRANEA","24","DANIEL ECHEVERRIA",null,null,null,null,null,null,null,null,null,null,null,null,null,null,null,null,null,null,null,null,null,null,null,null,null,null,null,null,null,null,null,null,null,null,null,null,null,29041,"MICA SA","TERCEROS","Consignado","PATAGONIA","RUTA NACIONAL 3 KM 1443 (Ascendente)",9100,"TRELEW","RAWSON","CHUBUT","30709550388","Scolari, Dario","Peletay, Walter","Barreiro, Silvina",""]
[null,"GRAL.DEHEZA (CP: 5923)","5923","GRAL.DEHEZA","CORDOBA","MEDITERRANEA","24","DANIEL ECHEVERRIA",null,null,null,null,null,null,null,null,null,null,null,null,null,null,null,null,null,null,null,null,null,null,null,null,null,null,null,null,null,null,null,null,null,null,null,null,null,29048,"PETROESTE S.A.","TERCEROS","Consignado","PAMPEANA","DON BOSCO 1820 Y BUENOS AIRES",8000,"BAHIA BLANCA","BAHIA BLANCA","BUENOS AIRES","30708969431","Lindo Poisson, Ruben Ariel","Fernandez, Mariano","Barrera Casal, Facundo",""]
[null,"GRAL.ROCA (CP: 2592)","2592","GRAL.ROCA","CORDOBA","MEDITERRANEA","24","DANIEL ECHEVERRIA",null,null,null,null,null,null,null,null,null,null,null,null,null,null,null,null,null,null,null,null,null,null,null,null,null,null,null,null,null,null,null,null,null,null,null,null,null,30221,"LAS FLORES GNC","TERCEROS","GNC","PAMPEANA","AVENIDA MANUEL VENANCIO PAZ 1410 Y LOS RESEROS",7200,"LAS FLORES","LAS FLORES","BUENOS AIRES",30708878940,"Astaburuaga, Jose Martin ","Gerino, Ignacio","Barrera Casal, Facundo",""]
[null,"GUATIMOZIN (CP: 2627)","2627","GUATIMOZIN","CORDOBA","MEDITERRANEA","24","DANIEL ECHEVERRIA",null,null,null,null,null,null,null,null,null,null,null,null,null,null,null,null,null,null,null,null,null,null,null,null,null,null,null,null,null,null,null,null,null,null,null,null,null,30235,"RAM OLAVARRIA SA","TERCEROS","Consignado","PAMPEANA","AVENIDA COLON Y AV.J.J.DE URQUIZA",7400,"OLAVARRIA","OLAVARRIA","BUENOS AIRES","33666611719","Astaburuaga, Jose Martin ","Gerino, Ignacio","Barrera Casal, Facundo",""]
[null,"HIPOLITO BOUCHARD (CP: 6225)","6225","HIPOLITO BOUCHARD","CORDOBA","MEDITERRANEA","24","DANIEL ECHEVERRIA",null,null,null,null,null,null,null,null,null,null,null,null,null,null,null,null,null,null,null,null,null,null,null,null,null,null,null,null,null,null,null,null,null,null,null,null,null,30394,"DEVENTER SAE","TERCEROS","Reventa","LITORAL SUR","ESPA#A 902 Y LA RIOJA",2000,"ROSARIO","ROSARIO","SANTA FE","30711331472","Donato, Sebastian","Gomez, Cristian","A definir",""]
[null,"HOLMBERG (CP: 5825)","5825","HOLMBERG","CORDOBA","MEDITERRANEA","24","DANIEL ECHEVERRIA",null,null,null,null,null,null,null,null,null,null,null,null,null,null,null,null,null,null,null,null,null,null,null,null,null,null,null,null,null,null,null,null,null,null,null,null,null,30429,"ABANILLAS SA","TERCEROS","Consignado","METROPOLITANA","AVENIDA SANTA FE Y LAS HERAS",1828,"BANFIELD","LOMAS DE ZAMORA","BUENOS AIRES","30707772278","Noval, Marcelo","Acosta, Diego","Gottlieb, Patricio",""]
[null,"HUERTA GRANDE (CP: 5174)","5174","HUERTA GRANDE","CORDOBA","MEDITERRANEA",17,"SILVIA BARBIERIS",null,null,null,null,null,null,null,null,null,null,null,null,null,null,null,null,null,null,null,null,null,null,null,null,null,null,null,null,null,null,null,null,null,null,null,null,null,30473,"INVERSORA MINORISTA SA (IMSA)","TERCEROS","Consignado","METROPOLITANA","COLECTORA AUTOPISTA RICCHIERI 2189 Y BOULOGNE SUR MER",1770,"TAPIALES","LA MATANZA","BUENOS AIRES","30699010983","Endrinal, Johana","Acosta, Diego","Gottlieb, Patricio",""]
[null,"HUINCA RENANCO (CP: 6270)","6270","HUINCA RENANCO","CORDOBA","MEDITERRANEA","24","DANIEL ECHEVERRIA",null,null,null,null,null,null,null,null,null,null,null,null,null,null,null,null,null,null,null,null,null,null,null,null,null,null,null,null,null,null,null,null,null,null,null,null,null,30474,"EL JUMEAL SRL","TERCEROS","Consignado","VALLES","AVENIDA ARTURO H ILLIA 1046 Y CALLE PUBLICA",4704,"CATAMARCA","CATAMARCA CAPITAL","CATAMARCA","30708228652","Parellada, Oscar","Naval, Carlos","Astegiano, Flavio",""]
[null,"ISLA VERDE (CP: 2661)","2661","ISLA VERDE","CORDOBA","MEDITERRANEA","24","DANIEL ECHEVERRIA",null,null,null,null,null,null,null,null,null,null,null,null,null,null,null,null,null,null,null,null,null,null,null,null,null,null,null,null,null,null,null,null,null,null,null,null,null,30495,"MU#OZ JOSE JESUS","TERCEROS","Consignado","AREA DEL SOL","RUTA PROVINCIAL 82 KM 1096 (Ascendente)",5549,"POTRERILLOS","LUJAN DE CUYO","MENDOZA","20127832804","Farias, Daniel","Cacciola, Federico","Chiavassa, César Miguel",""]
[null,"JAMES CRAIK (CP: 5984)","5984","JAMES CRAIK","CORDOBA","MEDITERRANEA","24","DANIEL ECHEVERRIA",null,null,null,null,null,null,null,null,null,null,null,null,null,null,null,null,null,null,null,null,null,null,null,null,null,null,null,null,null,null,null,null,null,null,null,null,null,30520,"DA COSTA E HIJOS","TERCEROS","Consignado","BUENOS AIRES","COLECTORA RUTA NACIONAL 2 Y CALLE N° 625",1893,"EL PATO","BERAZATEGUI","BUENOS AIRES","30658022349","Cabral, Carlos","Emanuel, Adrian Fabio","Barruti, Francisco",""]
[null,"JOVITA (CP: 6127)","6127","JOVITA","CORDOBA","MEDITERRANEA","24","DANIEL ECHEVERRIA",null,null,null,null,null,null,null,null,null,null,null,null,null,null,null,null,null,null,null,null,null,null,null,null,null,null,null,null,null,null,null,null,null,null,null,null,null,30524,"ARIES COMCO SRL","TERCEROS","Reventa","AREA DEL SOL","AVENIDA LIBERTADOR NORTE 713",5620,"GRAL.ALVEAR","GRAL ALVEAR","MENDOZA","30646850858","García, Pedro     ","Cacciola, Federico","Chiavassa, César Miguel",""]
[null,"JUAREZ CELMAN (CP: 5145)","5145","JUAREZ CELMAN","CORDOBA","MEDITERRANEA","24","DANIEL ECHEVERRIA",null,null,null,null,null,null,null,null,null,null,null,null,null,null,null,null,null,null,null,null,null,null,null,null,null,null,null,null,null,null,null,null,null,null,null,null,null,30536,"CONCORGAS SA","TERCEROS","Consignado","LITORAL SUR","EVA PERON 2249 ENTRE LIEBERMAN Y ARRUBARRENA",3200,"CONCORDIA","CONCORDIA","ENTRE RIOS","30711178615","A definir","Gomez, Cristian","A definir",""]
[null,"LA CALERA (CP: 5151)","5151","LA CALERA","CORDOBA","MEDITERRANEA",17,"SILVIA BARBIERIS",null,null,null,null,null,null,null,null,null,null,null,null,null,null,null,null,null,null,null,null,null,null,null,null,null,null,null,null,null,null,null,null,null,null,null,null,null,30571,"FLORIPO SA","TERCEROS","Consignado","BUENOS AIRES","COLECTORA PANAMERICANA BELGRANO",1611,"DON TORCUATO","TIGRE","BUENOS AIRES","30708549041","Isak, Fernando","Brena, Marcelo","Barruti, Francisco",""]
[null,"LA CARLOTA (CP: 2670)","2670","LA CARLOTA","CORDOBA","MEDITERRANEA","24","DANIEL ECHEVERRIA",null,null,null,null,null,null,null,null,null,null,null,null,null,null,null,null,null,null,null,null,null,null,null,null,null,null,null,null,null,null,null,null,null,null,null,null,null,30592,"CAPELLINO DOMINGO PEDRO","TERCEROS","Consignado","MEDITERRANEA","AVENIDA JUAN B JUSTO 5075",5000,"CORDOBA","CORDOBA CAPITAL","CORDOBA","20173838159","Alizzi, Silvina","Parolin, Mauricio Elvio","Banegas, Walter",""]
[null,"LA CESIRA (CP: 6101)","6101","LA CESIRA","CORDOBA","MEDITERRANEA","24","DANIEL ECHEVERRIA",null,null,null,null,null,null,null,null,null,null,null,null,null,null,null,null,null,null,null,null,null,null,null,null,null,null,null,null,null,null,null,null,null,null,null,null,null,30633,"ENERGY SUR SA","TERCEROS","Consignado","PATAGONIA","AVENIDA JUAN B JUSTO Y DORREGO",9120,"PUERTO MADRYN","BIEDMA","CHUBUT","30708536659","Scolari, Dario","Peletay, Walter","Barreiro, Silvina",""]
[null,"LA CRUZ (CP: 5859)","5859","LA CRUZ","CORDOBA","MEDITERRANEA","24","DANIEL ECHEVERRIA",null,null,null,null,null,null,null,null,null,null,null,null,null,null,null,null,null,null,null,null,null,null,null,null,null,null,null,null,null,null,null,null,null,null,null,null,null,30649,"ARGENTIMO SA","TERCEROS","Consignado","METROPOLITANA","AVENIDA MONSE#OR R BUFANO 6050 Y AV.CROVARA 4202 CROVARA",1776,"LA TABLADA","LA MATANZA","BUENOS AIRES","30707599630","Endrinal, Johana","Acosta, Diego","Gottlieb, Patricio",""]
[null,"LA FALDA (CP: 5172)","5172","LA FALDA","CORDOBA","MEDITERRANEA",17,"SILVIA BARBIERIS",null,null,null,null,null,null,null,null,null,null,null,null,null,null,null,null,null,null,null,null,null,null,null,null,null,null,null,null,null,null,null,null,null,null,null,null,null,30673,"ALLI VAMOS SA","TERCEROS","Consignado","BUENOS AIRES","RUTA PROVINCIAL 197 KM (Descendente) Y PICHINCHA",1665,"JOSE C.PAZ","MALVINAS ARGENTINAS","BUENOS AIRES","30694782821","Isak, Fernando","Brena, Marcelo","Barruti, Francisco",""]
[null,"LA FRANCIA (CP: 2426)","2426","LA FRANCIA","CORDOBA","MEDITERRANEA","24","DANIEL ECHEVERRIA",null,null,null,null,null,null,null,null,null,null,null,null,null,null,null,null,null,null,null,null,null,null,null,null,null,null,null,null,null,null,null,null,null,null,null,null,null,30721,"DANOVIS SA","TERCEROS","Consignado","VALLES","AVENIDA FRANCISCO DE AGUIRRE 597 Y MU#ECAS",4000,"S.M.TUCUMAN","TUCUMAN CAPITAL","TUCUMAN","30702380339","Abboud, Marco","Naval, Carlos","Astegiano, Flavio",""]
[null,"LA LAGUNA (CP: 5901)","5901","LA LAGUNA","CORDOBA","MEDITERRANEA","24","DANIEL ECHEVERRIA",null,null,null,null,null,null,null,null,null,null,null,null,null,null,null,null,null,null,null,null,null,null,null,null,null,null,null,null,null,null,null,null,null,null,null,null,null,30729,"OIL PETROL SALSIPUEDES SRL","TERCEROS","Consignado","MEDITERRANEA","RUTA PROVINCIAL E-53 KM 22 (Ascendente) Y ACCESO",5111,"RIO CEBALLOS","COLON","CORDOBA","30707975225","Alizzi, Silvina","Parolin, Mauricio Elvio","Banegas, Walter",""]
[null,"LA PAQUITA (CP: 2417)","2417","LA PAQUITA","CORDOBA","MEDITERRANEA","24","DANIEL ECHEVERRIA",null,null,null,null,null,null,null,null,null,null,null,null,null,null,null,null,null,null,null,null,null,null,null,null,null,null,null,null,null,null,null,null,null,null,null,null,null,30730,"ECO GAS SAN PEDRO SRL","TERCEROS","Consignado","VALLES","HIPOLITO YRIGOYEN 10",4500,"SAN PEDRO","SAN PEDRO","JUJUY","33708951159","Stoll, Maximiliano","Naval, Carlos","Astegiano, Flavio",""]
[null,{"$f":"CONCATENATE(D1475,\" (CP: \",C1475,\")\")","v":"LA PLAYOSA (CP: 5911)"},"5911","LA PLAYOSA","CORDOBA","MEDITERRANEA","24","DANIEL ECHEVERRIA",null,null,null,null,null,null,null,null,null,null,null,null,null,null,null,null,null,null,null,null,null,null,null,null,null,null,null,null,null,null,null,null,null,null,null,null,null,30740,"PETROALUMINE SRL","TERCEROS","Consignado","PATAGONIA","AVENIDA DE LOS LAGOS Y RUTA NACIONAL 23",8345,"ALUMINE","ALUMINE","NEUQUEN","30707394281","Diacono, Juan Pablo","Maccari, Marcelo","Barreiro, Silvina",""]
[null,"LA PLAZA (CP: 5207)","5207","LA PLAZA","CORDOBA","MEDITERRANEA","24","DANIEL ECHEVERRIA",null,null,null,null,null,null,null,null,null,null,null,null,null,null,null,null,null,null,null,null,null,null,null,null,null,null,null,null,null,null,null,null,null,null,null,null,null,30747,"GRUPO FIP SA","TERCEROS","GNC","METROPOLITANA","AVENIDA ROLON Y LAMADRID",1609,"BOULOGNE","SAN ISIDRO","BUENOS AIRES",30645806871,"Gatt, Gaston","Bouzon, Gustavo","Gottlieb, Patricio",""]
[null,"LABOULAYE (CP: 6120)","6120","LABOULAYE","CORDOBA","MEDITERRANEA","24","DANIEL ECHEVERRIA",null,null,null,null,null,null,null,null,null,null,null,null,null,null,null,null,null,null,null,null,null,null,null,null,null,null,null,null,null,null,null,null,null,null,null,null,null,30763,"GNC DE LA COSTA SRL","TERCEROS","GNC","BUENOS AIRES","BOULEVARD ALBERDI Y URQUIZA",2150,"SAN NICOLAS","SAN NICOLAS","BUENOS AIRES",30708948574,"Olivetti, Diego","Brena, Marcelo","Barruti, Francisco",""]
[null,"LAGUNA LARGA (CP: 5974)","5974","LAGUNA LARGA","CORDOBA","MEDITERRANEA","24","DANIEL ECHEVERRIA",null,null,null,null,null,null,null,null,null,null,null,null,null,null,null,null,null,null,null,null,null,null,null,null,null,null,null,null,null,null,null,null,null,null,null,null,null,30764,"ESTACION RAUL SRL","TERCEROS","Consignado","LITORAL SUR","RUTA NACIONAL 11 KM 320 (Ascendente)",2508,"CAP.BERMUDEZ","SAN LORENZO","SANTA FE","30520586683","Colla, María de los Ángeles","Gomez, Cristian","A definir",""]
[null,"LAS GRAMILLA (CP: 5135)","5135","LAS GRAMILLA","CORDOBA","MEDITERRANEA","24","DANIEL ECHEVERRIA",null,null,null,null,null,null,null,null,null,null,null,null,null,null,null,null,null,null,null,null,null,null,null,null,null,null,null,null,null,null,null,null,null,null,null,null,null,30768,"MASETTO HNOS","TERCEROS","Consignado","AREA DEL SOL","MAZA 400 Y RIVADAVIA",5515,"MAIPU","MAIPU","MENDOZA","30707819703","Farias, Daniel","Cacciola, Federico","Chiavassa, César Miguel",""]
[null,"LAS HIGUERAS (CP: 5805)","5805","LAS HIGUERAS","CORDOBA","MEDITERRANEA","24","DANIEL ECHEVERRIA",null,null,null,null,null,null,null,null,null,null,null,null,null,null,null,null,null,null,null,null,null,null,null,null,null,null,null,null,null,null,null,null,null,null,null,null,null,30770,"BIELVA SA","TERCEROS","Reventa","METROPOLITANA","AVENIDA COLOMBRES 1832 Y POSADAS",1832,"LOMAS DE ZAMORA","LOMAS DE ZAMORA","BUENOS AIRES",30710770472,"Noval, Marcelo","Acosta, Diego","Gottlieb, Patricio",""]
[null,"LAS JUNTURAS (CP: 5983)","5983","LAS JUNTURAS","CORDOBA","MEDITERRANEA","24","DANIEL ECHEVERRIA",null,null,null,null,null,null,null,null,null,null,null,null,null,null,null,null,null,null,null,null,null,null,null,null,null,null,null,null,null,null,null,null,null,null,null,null,null,30847,"MARIJO SA II","TERCEROS","Consignado","MEDITERRANEA","AVENIDA QUIRRICO PORRECA Y MU#IZ",5800,"RIO CUARTO","RIO CUARTO","CORDOBA","30698548289","Ojeda,  David ","Parolin, Mauricio Elvio","Banegas, Walter",""]
[null,"LAS MOJARRAS (CP: 5909)","5909","LAS MOJARRAS","CORDOBA","MEDITERRANEA","24","DANIEL ECHEVERRIA",null,null,null,null,null,null,null,null,null,null,null,null,null,null,null,null,null,null,null,null,null,null,null,null,null,null,null,null,null,null,null,null,null,null,null,null,null,30854,"POZZO ARDIZZI SA","TERCEROS","Consignado","PATAGONIA","PUEYRREDON 358",8500,"VIEDMA","ADOLFO ALSINA","RIO NEGRO","30708086831","Peralta, Gustavo","Maccari, Marcelo","Barreiro, Silvina",""]
[null,"LAS PEÑAS SUD (CP: 5819)","5819","LAS PEÑAS SUD","CORDOBA","MEDITERRANEA","24","DANIEL ECHEVERRIA",null,null,null,null,null,null,null,null,null,null,null,null,null,null,null,null,null,null,null,null,null,null,null,null,null,null,null,null,null,null,null,null,null,null,null,null,null,30857,"PACHECO COMBUSTIBLES SRL","TERCEROS","GNC","BUENOS AIRES","JOSE MARIA PAZ Y ANTARTIDA ARGENTINA",1617,"GRAL.PACHECO","TIGRE","BUENOS AIRES",30708353147,"Cullari, José","Brena, Marcelo","Barruti, Francisco",""]
[null,"LAS PERDICES (CP: 5921)","5921","LAS PERDICES","CORDOBA","MEDITERRANEA","24","DANIEL ECHEVERRIA",null,null,null,null,null,null,null,null,null,null,null,null,null,null,null,null,null,null,null,null,null,null,null,null,null,null,null,null,null,null,null,null,null,null,null,null,null,30859,"ACA PASO DE JAMA","ACA","ACA","VALLES","RUTA NACIONAL 52 KM 349 (Ascendente)",4641,"SUSQUES","SUSQUES","JUJUY","30500143297","Stoll, Maximiliano","Naval, Carlos","Astegiano, Flavio",""]
[null,"LAS VARILLAS (CP: 5940)","5940","LAS VARILLAS","CORDOBA","MEDITERRANEA","24","DANIEL ECHEVERRIA",null,null,null,null,null,null,null,null,null,null,null,null,null,null,null,null,null,null,null,null,null,null,null,null,null,null,null,null,null,null,null,null,null,null,null,null,null,30900,"MULTISERVICIOS LLAVALLOL SRL","TERCEROS","Consignado","BUENOS AIRES","AVENIDA ANTARTIDA ARGENTINA 1699 Y FLORIDA",1836,"LLAVALLOL","LOMAS DE ZAMORA","BUENOS AIRES","30708639059","Marincolo, Fernando","Emanuel, Adrian Fabio","Barruti, Francisco",""]
[null,"LEONES (CP: 2594)","2594","LEONES","CORDOBA","MEDITERRANEA","24","DANIEL ECHEVERRIA",null,null,null,null,null,null,null,null,null,null,null,null,null,null,null,null,null,null,null,null,null,null,null,null,null,null,null,null,null,null,null,null,null,null,null,null,null,30923,"TOBAGO SA","TERCEROS","Consignado","BUENOS AIRES","AVENIDA LACAZE 6593 Y DONATO ALVAREZ",1849,"CLAYPOLE","ALMTE BROWN","BUENOS AIRES","30709047767","Carrera, Sebastián","Emanuel, Adrian Fabio","Barruti, Francisco",""]
[null,"LOS CHARCOS (CP: 5280)","5280","LOS CHARCOS","CORDOBA","MEDITERRANEA","24","DANIEL ECHEVERRIA",null,null,null,null,null,null,null,null,null,null,null,null,null,null,null,null,null,null,null,null,null,null,null,null,null,null,null,null,null,null,null,null,null,null,null,null,null,30943,"OPESSA NORDELTA","OPESSA","Consignado","BUENOS AIRES","AVENIDA DE LOS LAGOS 330",1648,"TIGRE","TIGRE","BUENOS AIRES","30678774495","Isak, Fernando","Brena, Marcelo","Barruti, Francisco","Santa Cruz, Wilde"]
[null,"LOS CISNES (CP: 2684)","2684","LOS CISNES","CORDOBA","MEDITERRANEA","24","DANIEL ECHEVERRIA",null,null,null,null,null,null,null,null,null,null,null,null,null,null,null,null,null,null,null,null,null,null,null,null,null,null,null,null,null,null,null,null,null,null,null,null,null,30964,"MENDOZA FUNDACIONAL SA","TERCEROS","Consignado","AREA DEL SOL","AVENIDA GOBERNADOR VIDELA Y ARISTOBULO DEL VALLE",5519,"SAN JOSE","GUAYMALLEN","MENDOZA","30709186627","García, Marcos","Cacciola, Federico","Chiavassa, César Miguel",""]
[null,"LOS REARTES (CP: 5194)","5194","LOS REARTES","CORDOBA","MEDITERRANEA","24","DANIEL ECHEVERRIA",null,null,null,null,null,null,null,null,null,null,null,null,null,null,null,null,null,null,null,null,null,null,null,null,null,null,null,null,null,null,null,null,null,null,null,null,null,30976,"GRUPO FIP SA","TERCEROS","Reventa","METROPOLITANA","GRAL ARIAS 1506 Y MAIPU",1646,"SAN FERNANDO","SAN FERNANDO","BUENOS AIRES","30645806871","Leite, Jose","Bouzon, Gustavo","Gottlieb, Patricio",""]
[null,"LOS SURGENTES (CP: 2581)","2581","LOS SURGENTES","CORDOBA","MEDITERRANEA","24","DANIEL ECHEVERRIA",null,null,null,null,null,null,null,null,null,null,null,null,null,null,null,null,null,null,null,null,null,null,null,null,null,null,null,null,null,null,null,null,null,null,null,null,null,30977,"OPESSA DESAGUADERO","OPESSA","Consignado","AREA DEL SOL","RUTA NACIONAL 7 KM 862 (Ascendente)",5724,"DESAGUADERO","SAN LUIS CAPITAL","SAN LUIS","30678774495","Franco, Marcelo Oscar","Cacciola, Federico","Chiavassa, César Miguel","Abrahamsohn, Claudio"]
[null,"LUQUE (CP: 5967)","5967","LUQUE","CORDOBA","MEDITERRANEA","24","DANIEL ECHEVERRIA",null,null,null,null,null,null,null,null,null,null,null,null,null,null,null,null,null,null,null,null,null,null,null,null,null,null,null,null,null,null,null,null,null,null,null,null,null,30983,"PLATAFORMA URBANA SRL","TERCEROS","Consignado","PAMPEANA","RUTA PROVINCIAL 78 KM 1 (Ascendente)",8153,"MONTE HERMOSO","MONTE HERMOSO","BUENOS AIRES","30709030813","Lindo Poisson, Ruben Ariel","Fernandez, Mariano","Barrera Casal, Facundo",""]
[null,"LUXARDO (CP: 2411)","2411","LUXARDO","CORDOBA","MEDITERRANEA","24","DANIEL ECHEVERRIA",null,null,null,null,null,null,null,null,null,null,null,null,null,null,null,null,null,null,null,null,null,null,null,null,null,null,null,null,null,null,null,null,null,null,null,null,null,31010,"RUMAOS SA","TERCEROS","Consignado","AREA DEL SOL","RUTA NACIONAL RUTA NACIONAL 40 KM 23 (Descendente)","5509B","PERDRIEL","LUJAN DE CUYO","MENDOZA","33699581629","García, Marcos","Cacciola, Federico","Chiavassa, César Miguel",""]
[null,"MALAGUEÑO (CP: 5101)","5101","MALAGUEÑO","CORDOBA","MEDITERRANEA",17,"SILVIA BARBIERIS",null,null,null,null,null,null,null,null,null,null,null,null,null,null,null,null,null,null,null,null,null,null,null,null,null,null,null,null,null,null,null,null,null,null,null,null,null,31034,"ESMACOL S.A","TERCEROS","Consignado","LITORAL SUR","RUTA PROVINCIAL RUTA 10 KM 140.500 (Ascendente) Y ACCESO",2258,"S.C.B.VISTA","LAS COLONIAS","SANTA FE","30708001585","Oyola, Rafael","Gomez, Cristian","A definir",""]
[null,"MALENA (CP: 5839)","5839","MALENA","CORDOBA","MEDITERRANEA","24","DANIEL ECHEVERRIA",null,null,null,null,null,null,null,null,null,null,null,null,null,null,null,null,null,null,null,null,null,null,null,null,null,null,null,null,null,null,null,null,null,null,null,null,null,31035,"LUIS A CARRIZO Y CIA SRL","TERCEROS","Consignado","MEDITERRANEA","RUTA NACIONAL 60 KM 822 (Descendente)",5200,"DEAN FUNES","ISCHILIN","CORDOBA","30627062490","Alizzi, Silvina","Parolin, Mauricio Elvio","Banegas, Walter",""]
[null,"MARCOS JUAREZ (CP: 2580)","2580","MARCOS JUAREZ","CORDOBA","MEDITERRANEA","24","DANIEL ECHEVERRIA",null,null,null,null,null,null,null,null,null,null,null,null,null,null,null,null,null,null,null,null,null,null,null,null,null,null,null,null,null,null,null,null,null,null,null,null,null,31038,"ESTACION FERREYRA SRL","TERCEROS","Consignado","MEDITERRANEA","AVENIDA M.S DE LORIA 5085",5000,"CORDOBA","CORDOBA CAPITAL","CORDOBA","30714300128","Villagra, Luis ","Parolin, Mauricio Elvio","Banegas, Walter",""]
[null,"MARULL (CP: 5139)","5139","MARULL","CORDOBA","MEDITERRANEA","24","DANIEL ECHEVERRIA",null,null,null,null,null,null,null,null,null,null,null,null,null,null,null,null,null,null,null,null,null,null,null,null,null,null,null,null,null,null,null,null,null,null,null,null,null,31039,"OPESSA LEONES","OPESSA","Consignado","MEDITERRANEA","AUTOPISTA AUTOVIA ROSARIO - CORDOBA KM 448 (Ascendente)",2594,"LEONES","MARCOS JUAREZ","CORDOBA","30678774495","Giuggia, Hugo ","Parolin, Mauricio Elvio","Banegas, Walter","Lujan, Gabriela"]
[null,"MATORRALES (CP: 5965)","5965","MATORRALES","CORDOBA","MEDITERRANEA","24","DANIEL ECHEVERRIA",null,null,null,null,null,null,null,null,null,null,null,null,null,null,null,null,null,null,null,null,null,null,null,null,null,null,null,null,null,null,null,null,null,null,null,null,null,31047,"AUTOSUR RIO GRANDE","TERCEROS","Consignado","PATAGONIA","RUTA NACIONAL RUTA CIRCUNVALACION KM 8.900 (Descendente)",9420,"RIO GRANDE","RIO GRANDE","TIERRA DEL FUEGO","30547067637","Potes, Claudio Fernando","Peletay, Walter","Barreiro, Silvina",""]
[null,"MELO (CP: 6123)","6123","MELO","CORDOBA","MEDITERRANEA","24","DANIEL ECHEVERRIA",null,null,null,null,null,null,null,null,null,null,null,null,null,null,null,null,null,null,null,null,null,null,null,null,null,null,null,null,null,null,null,null,null,null,null,null,null,31048,"ANGELA NESCI SRL","TERCEROS","Consignado","PATAGONIA","RUTA PROVINCIAL 7 KM (Descendente) AV. DEL LIBERTADOR",8309,"CENTENARIO","CONFLUENCIA","NEUQUEN","30708836822","Linares, Roberto","Maccari, Marcelo","Barreiro, Silvina",""]
[null,"MINA CLAVERO (CP: 5889)","5889","MINA CLAVERO","CORDOBA","MEDITERRANEA","24","DANIEL ECHEVERRIA",null,null,null,null,null,null,null,null,null,null,null,null,null,null,null,null,null,null,null,null,null,null,null,null,null,null,null,null,null,null,null,null,null,null,null,null,null,31051,"MACO - BAPE SRL","TERCEROS","Consignado","LITORAL SUR","ACCESO ACCESO NORTE REP. DE ENTRE RIOS 3005 Y ESQ. BAZAN DE BUSTOS",3100,"PARANA","PARANA","ENTRE RIOS","30711288488","Martino, Alejandra","Gomez, Cristian","A definir",""]
[null,"MIRAMAR (CP: 5143)","5143","MIRAMAR","CORDOBA","MEDITERRANEA","24","DANIEL ECHEVERRIA",null,null,null,null,null,null,null,null,null,null,null,null,null,null,null,null,null,null,null,null,null,null,null,null,null,null,null,null,null,null,null,null,null,null,null,null,null,31053,"COLORADA TRECE SA","TERCEROS","Consignado","AREA DEL SOL","AVENIDA LA GLORIA 1813",5561,"TUPUNGATO","TUPUNGATO","MENDOZA","30711359431","García, Pedro     ","Cacciola, Federico","Chiavassa, César Miguel",""]
[null,"MONTE BUEY (CP: 2589)","2589","MONTE BUEY","CORDOBA","MEDITERRANEA","24","DANIEL ECHEVERRIA",null,null,null,null,null,null,null,null,null,null,null,null,null,null,null,null,null,null,null,null,null,null,null,null,null,null,null,null,null,null,null,null,null,null,null,null,null,31055,"TRI SOLE S.A.","TERCEROS","Consignado","LITORAL NORTE","AVENIDA GREGORIO POMAR DR RAUL ALFONSIN",null,"CORRIENTES","CORRIENTES CAPITAL","CORRIENTES","30714664928","Machuca, Rolando","Kokubu, Alberto","A definir",""]
[null,"MONTE CRISTO (CP: 5125)","5125","MONTE CRISTO","CORDOBA","MEDITERRANEA",17,"SILVIA BARBIERIS",null,null,null,null,null,null,null,null,null,null,null,null,null,null,null,null,null,null,null,null,null,null,null,null,null,null,null,null,null,null,null,null,null,null,null,null,null,31057,"LUMINUM SRL","TERCEROS","Consignado","LITORAL NORTE","AVENIDA SARMIENTO 1798",3500,"RESISTENCIA","SAN FERNANDO","CHACO","30714714984","Titos, Marlene","Kokubu, Alberto","A definir",""]
[null,"MONTE RALO (CP: 5119)","5119","MONTE RALO","CORDOBA","MEDITERRANEA","24","DANIEL ECHEVERRIA",null,null,null,null,null,null,null,null,null,null,null,null,null,null,null,null,null,null,null,null,null,null,null,null,null,null,null,null,null,null,null,null,null,null,null,null,null,31060,"SURTIDORES LOS NIETOS SRL","TERCEROS","Consignado","VALLES","AVENIDA GAUCHO DE GÜEMES ESQUINA CALLE CANAL",4400,"SALTA","SALTA CAPITAL","SALTA","30712241876","Corbella, Laura","Naval, Carlos","Astegiano, Flavio",""]
[null,"MORRISON (CP: 2568)","2568","MORRISON","CORDOBA","MEDITERRANEA","24","DANIEL ECHEVERRIA",null,null,null,null,null,null,null,null,null,null,null,null,null,null,null,null,null,null,null,null,null,null,null,null,null,null,null,null,null,null,null,null,null,null,null,null,null,31064,"DEARR S.R.L","TERCEROS","Consignado","PATAGONIA","DE LA ESTANCIA 2195",9410,"USHUAIA","USHUAIA","TIERRA DEL FUEGO","33714807949","Potes, Claudio Fernando","Peletay, Walter","Barreiro, Silvina",""]
[null,"NICOLAS BRUZONE (CP: 6271)","6271","NICOLAS BRUZONE","CORDOBA","MEDITERRANEA","24","DANIEL ECHEVERRIA",null,null,null,null,null,null,null,null,null,null,null,null,null,null,null,null,null,null,null,null,null,null,null,null,null,null,null,null,null,null,null,null,null,null,null,null,null,31068,"COMBUSTIBLES RUTA 26 II","TERCEROS","Consignado","BUENOS AIRES","AVENIDA DE LOS CONSTITUYENTES 3602 HENRY FORD",1617,"GRAL.PACHECO","TIGRE","BUENOS AIRES","30708251697","Cullari, José","Brena, Marcelo","Barruti, Francisco",""]
[null,"NOETINGER (CP: 2563)","2563","NOETINGER","CORDOBA","MEDITERRANEA","24","DANIEL ECHEVERRIA",null,null,null,null,null,null,null,null,null,null,null,null,null,null,null,null,null,null,null,null,null,null,null,null,null,null,null,null,null,null,null,null,null,null,null,null,null,31070,"BALDINI LIDIA AURORA","TERCEROS","Reventa","LITORAL SUR","COLECTORA ALMIRANTE BROWN 251 JOSE MI#O Y MONTE CASEROS",3185,"SAN JAIME DE LA FRONTERA","FEDERACION","ENTRE RIOS","27042738587","A definir","Gomez, Cristian","A definir",""]
[null,"OBISPO TREJO (CP: 5225)","5225","OBISPO TREJO","CORDOBA","MEDITERRANEA","24","DANIEL ECHEVERRIA",null,null,null,null,null,null,null,null,null,null,null,null,null,null,null,null,null,null,null,null,null,null,null,null,null,null,null,null,null,null,null,null,null,null,null,null,null,31077,"PETROARSA S.A.","TERCEROS","Consignado","VALLES","AVENIDA JUAN DOMINGO PERON 1600 THAMES Y GIVET",4107,"YERBA BUENA","TUCUMAN CAPITAL","TUCUMAN","30685694286","Villafañe, Ramiro","Naval, Carlos","Astegiano, Flavio",""]
[null,"OLAETA (CP: 5807)","5807","OLAETA","CORDOBA","MEDITERRANEA","24","DANIEL ECHEVERRIA",null,null,null,null,null,null,null,null,null,null,null,null,null,null,null,null,null,null,null,null,null,null,null,null,null,null,null,null,null,null,null,null,null,null,null,null,null,31078,"SOLANO S.A","TERCEROS","Consignado","VALLES","AVENIDA DR RAUL ALFONSIN COLECTORA CABO OSCAR QUIPILDOR",4103,"TAFI VIEJO","TAFI VIEJO","TUCUMAN","30714372153","Villafañe, Ramiro","Naval, Carlos","Astegiano, Flavio",""]
[null,"ONCATIVO (CP: 5986)","5986","ONCATIVO","CORDOBA","MEDITERRANEA","24","DANIEL ECHEVERRIA",null,null,null,null,null,null,null,null,null,null,null,null,null,null,null,null,null,null,null,null,null,null,null,null,null,null,null,null,null,null,null,null,null,null,null,null,null,31082,"ABANILLAS II","TERCEROS","Consignado","METROPOLITANA","AVENIDA SANTA FE 1005",1828,"BANFIELD","LOMAS DE ZAMORA","BUENOS AIRES","30707772278","Noval, Marcelo","Acosta, Diego","Gottlieb, Patricio",""]
[null,"ORDOÑEZ (CP: 2555)","2555","ORDOÑEZ","CORDOBA","MEDITERRANEA","24","DANIEL ECHEVERRIA",null,null,null,null,null,null,null,null,null,null,null,null,null,null,null,null,null,null,null,null,null,null,null,null,null,null,null,null,null,null,null,null,null,null,null,null,null,31088,"COMBUSTIBLES CANNING S.A.","TERCEROS","Consignado","BUENOS AIRES","RUTA PROVINCIAL 58 KM 10.500 (Descendente)",1862,"GUERNICA","PTE PERON","BUENOS AIRES","30715068733","Carrera, Sebastián","Emanuel, Adrian Fabio","Barruti, Francisco",""]
[null,{"$f":"CONCATENATE(D1539,\" (CP: \",C1539,\")\")","v":"PAMPAYASTA (CP: 5931)"},"5931","PAMPAYASTA","CORDOBA","MEDITERRANEA","24","DANIEL ECHEVERRIA",null,null,null,null,null,null,null,null,null,null,null,null,null,null,null,null,null,null,null,null,null,null,null,null,null,null,null,null,null,null,null,null,null,null,null,null,null,31093,"UMPY SRL","TERCEROS","Consignado","VALLES","AVENIDA MAXIMO VICTORIA | MAIPU NORTE 749 E/GIRASOLES Y LOS SAUCES",4700,"CATAMARCA","CATAMARCA CAPITAL","CATAMARCA","33709436509","Parellada, Oscar","Naval, Carlos","Astegiano, Flavio",""]
[null,"PARQUE SIQUIMAN (CP: 5158)","5158","PARQUE SIQUIMAN","CORDOBA","MEDITERRANEA",17,"SILVIA BARBIERIS",null,null,null,null,null,null,null,null,null,null,null,null,null,null,null,null,null,null,null,null,null,null,null,null,null,null,null,null,null,null,null,null,null,null,null,null,null,31094,"REPARKER CORDOBA SA","TERCEROS","-","MEDITERRANEA","AVENIDA R. ROJAS 7405 H.MARTINEZ",5006,"CORDOBA","CORDOBA CAPITAL","CORDOBA","30708847700","Alizzi, Silvina","Parolin, Mauricio Elvio","Banegas, Walter",""]
[null,"PASO DEL DURAZNO (CP: 5803)","5803","PASO DEL DURAZNO","CORDOBA","MEDITERRANEA","24","DANIEL ECHEVERRIA",null,null,null,null,null,null,null,null,null,null,null,null,null,null,null,null,null,null,null,null,null,null,null,null,null,null,null,null,null,null,null,null,null,null,null,null,null,31103,"YUNKA S.A.","TERCEROS","Consignado","LITORAL NORTE","AVENIDA NESTOR KIRCHNER 5500 Y SANTIAGO DEL ESTERO",3600,"FORMOSA",null,"FORMOSA","30709284262","Mendoza, Gonzalo","Kokubu, Alberto","A definir",""]
[null,"PASO VIEJO (CP: 5284)","5284","PASO VIEJO","CORDOBA","MEDITERRANEA","24","DANIEL ECHEVERRIA",null,null,null,null,null,null,null,null,null,null,null,null,null,null,null,null,null,null,null,null,null,null,null,null,null,null,null,null,null,null,null,null,null,null,null,null,null,31107,"FERRARO Y CIA SA","TERCEROS","Consignado","PAMPEANA","AVENIDA RIVADAVIA 785 Y CRUZ MARQUEZ",7200,"LAS FLORES","LAS FLORES","BUENOS AIRES","30709744093","Astaburuaga, Jose Martin ","Gerino, Ignacio","Barrera Casal, Facundo",""]
[null,"PIQUILLIN (CP: 5125)","5125","PIQUILLIN","CORDOBA","MEDITERRANEA",17,"SILVIA BARBIERIS",null,null,null,null,null,null,null,null,null,null,null,null,null,null,null,null,null,null,null,null,null,null,null,null,null,null,null,null,null,null,null,null,null,null,null,null,null,31112,"MARIJO SA","TERCEROS","Consignado","MEDITERRANEA","JUAN JOSE CASTELLI 1520 TRABAJO Y PREVISION",5800,"RIO CUARTO","RIO CUARTO","CORDOBA","30698548289","Ojeda,  David ","Parolin, Mauricio Elvio","Banegas, Walter",""]
[null,"PORTEÑA (CP: 2415)","2415","PORTEÑA","CORDOBA","MEDITERRANEA","24","DANIEL ECHEVERRIA",null,null,null,null,null,null,null,null,null,null,null,null,null,null,null,null,null,null,null,null,null,null,null,null,null,null,null,null,null,null,null,null,null,null,null,null,null,31113,"GNP SRL","TERCEROS","Consignado","LITORAL NORTE","RUTA NACIONAL 14 KM 714 (Descendente)",3342,"GOB.VIRASORO","SANTO TOME","CORRIENTES","33708819919","Avalos, Ramón","Kokubu, Alberto","A definir",""]
[null,"PUESTO PEDERNERA (CP: 5153)","5153","PUESTO PEDERNERA","CORDOBA","MEDITERRANEA","24","DANIEL ECHEVERRIA",null,null,null,null,null,null,null,null,null,null,null,null,null,null,null,null,null,null,null,null,null,null,null,null,null,null,null,null,null,null,null,null,null,null,null,null,null,31121,"NEUQUEN PETRO OESTE SRL","TERCEROS","Reventa","PATAGONIA","RUTA NACIONAL AU CIRCUNVALACION NEUQUEN / PLOTTIER KM 1458.500 (Descendente)",8316,"PLOTTIER","CONFLUENCIA","NEUQUEN","30646766369","Linares, Roberto","Maccari, Marcelo","Barreiro, Silvina",""]
[null,"QUEBRACHO HERRADO (CP: 2423)","2423","QUEBRACHO HERRADO","CORDOBA","MEDITERRANEA","24","DANIEL ECHEVERRIA",null,null,null,null,null,null,null,null,null,null,null,null,null,null,null,null,null,null,null,null,null,null,null,null,null,null,null,null,null,null,null,null,null,null,null,null,null,31124,"GNC QUILMES S.A.","TERCEROS","Consignado","METROPOLITANA","AVENIDA 12 DE OCTUBRE 1901 AV. LA PLATA",1879,"QUILMES OESTE","QUILMES","BUENOS AIRES","33708413939","Berardi, Juan Carlos","Acosta, Diego","Gottlieb, Patricio",""]
[null,"RAYO CORTADO (CP: 5246)","5246","RAYO CORTADO","CORDOBA","MEDITERRANEA","24","DANIEL ECHEVERRIA",null,null,null,null,null,null,null,null,null,null,null,null,null,null,null,null,null,null,null,null,null,null,null,null,null,null,null,null,null,null,null,null,null,null,null,null,null,31126,"HECTOR A. REGINA AUTOMOTORES SRL","TERCEROS","Consignado","LITORAL SUR","AVENIDA OVIDIO LAGOS 3595 SEGUI",2000,"ROSARIO","ROSARIO","SANTA FE","30708331593","Donato, Sebastian","Gomez, Cristian","A definir",""]
[null,"REDUCCION (CP: 5803)","5803","REDUCCION","CORDOBA","MEDITERRANEA","24","DANIEL ECHEVERRIA",null,null,null,null,null,null,null,null,null,null,null,null,null,null,null,null,null,null,null,null,null,null,null,null,null,null,null,null,null,null,null,null,null,null,null,null,null,31127,"CERVETTI S.A.","TERCEROS","Consignado","BUENOS AIRES","AVENIDA PTE. NESTOR C. KIRCHNER 7940",1812,"CARLOS SPEGAZZINI","EZEIZA","BUENOS AIRES","30709750220","Marincolo, Fernando","Emanuel, Adrian Fabio","Barruti, Francisco",""]
[null,"RIO DE LOS SAUCES (CP: 5821)","5821","RIO DE LOS SAUCES","CORDOBA","MEDITERRANEA","24","DANIEL ECHEVERRIA",null,null,null,null,null,null,null,null,null,null,null,null,null,null,null,null,null,null,null,null,null,null,null,null,null,null,null,null,null,null,null,null,null,null,null,null,null,31133,"VILLA REGINA SA","TERCEROS","Consignado","PAMPEANA","AVENIDA MARIO BRAVO Y JORGE NEWBERY",7600,"MAR DEL PLATA","GRAL PUEYRREDON","BUENOS AIRES","30692621049","Urrutia, Javier","Gerino, Ignacio","Barrera Casal, Facundo",""]
[null,"RIO PRIMERO (CP: 5127)","5127","RIO PRIMERO","CORDOBA","MEDITERRANEA",17,"SILVIA BARBIERIS",null,null,null,null,null,null,null,null,null,null,null,null,null,null,null,null,null,null,null,null,null,null,null,null,null,null,null,null,null,null,null,null,null,null,null,null,null,31134,"AM EMPRENDIMIENTOS SA","TERCEROS","Consignado","MEDITERRANEA","AVENIDA VALPARAISO 3960","CORDOBA","CORDOBA","CORDOBA CAPITAL","CORDOBA","33708926669","Fraire, Lucas","Parolin, Mauricio Elvio","Banegas, Walter",""]
[null,"RIO TERCERO (CP: 5850)","5850","RIO TERCERO","CORDOBA","MEDITERRANEA","24","DANIEL ECHEVERRIA",null,null,null,null,null,null,null,null,null,null,null,null,null,null,null,null,null,null,null,null,null,null,null,null,null,null,null,null,null,null,null,null,null,null,null,null,null,31146,"CUBA SA","TERCEROS","Consignado","BUENOS AIRES","AVENIDA PTE. JUAN D. PERON A. SAENZ",1614,"VILLA MAYO","MALVINAS ARGENTINAS","BUENOS AIRES","30683899387","Isak, Fernando","Brena, Marcelo","Barruti, Francisco",""]
[null,"ROSALES (CP: 6128)","6128","ROSALES","CORDOBA","MEDITERRANEA","24","DANIEL ECHEVERRIA",null,null,null,null,null,null,null,null,null,null,null,null,null,null,null,null,null,null,null,null,null,null,null,null,null,null,null,null,null,null,null,null,null,null,null,null,null,31151,"GRUPO LOS ABETOS SRL","TERCEROS","Consignado","PAMPEANA","AVENIDA COLON 3000 E/ RIO COLORADO Y RIO LIMAY",8109,"PUNTA ALTA","CNEL DE MARINA L ROSALES","BUENOS AIRES","30709459127","Lindo Poisson, Ruben Ariel","Fernandez, Mariano","Barrera Casal, Facundo",""]
[null,"S.FRANCISCO (CP: 2400)","2400","S.FRANCISCO","CORDOBA","MEDITERRANEA","24","DANIEL ECHEVERRIA",null,null,null,null,null,null,null,null,null,null,null,null,null,null,null,null,null,null,null,null,null,null,null,null,null,null,null,null,null,null,null,null,null,null,null,null,null,31154,"LA COSTERITA SRL","TERCEROS","Consignado","LITORAL SUR","RUTA PROVINCIAL RP1 KM 71.500 (Ascendente) RP2",3001,"CAYASTA","GARAY","SANTA FE","30709210358","Vergara, Marcelo","Gomez, Cristian","A definir",""]
[null,"S.PELLICO (CP: 5907)","5907","S.PELLICO","CORDOBA","MEDITERRANEA","24","DANIEL ECHEVERRIA",null,null,null,null,null,null,null,null,null,null,null,null,null,null,null,null,null,null,null,null,null,null,null,null,null,null,null,null,null,null,null,null,null,null,null,null,null,31156,"FULL SERVICE SRL","TERCEROS","Consignado","VALLES","RUTA NACIONAL 34 KM (Ascendente) Y RP130",4184,"POZO HONDO","JIMENEZ","SANTIAGO DEL ESTERO","30708225149","Arevalo, Roque Fabian","Naval, Carlos","Astegiano, Flavio",""]
[null,"SACANTA (CP: 5945)","5945","SACANTA","CORDOBA","MEDITERRANEA","24","DANIEL ECHEVERRIA",null,null,null,null,null,null,null,null,null,null,null,null,null,null,null,null,null,null,null,null,null,null,null,null,null,null,null,null,null,null,null,null,null,null,null,null,null,31161,"ESTACION FERREYRA SRL","TERCEROS","Consignado","MEDITERRANEA","AVENIDA O HIGGINS 4294 Y PEDRO CLAVERIA",5000,"CORDOBA","CORDOBA CAPITAL","CORDOBA","30714300128","Villagra, Luis ","Parolin, Mauricio Elvio","Banegas, Walter",""]
[null,"SAIRA (CP: 2525)","2525","SAIRA","CORDOBA","MEDITERRANEA","24","DANIEL ECHEVERRIA",null,null,null,null,null,null,null,null,null,null,null,null,null,null,null,null,null,null,null,null,null,null,null,null,null,null,null,null,null,null,null,null,null,null,null,null,null,31162,"YUNKA S.A.","TERCEROS","Consignado","LITORAL NORTE","AVENIDA E. MARADONA Y SEGUNDA",3600,"FORMOSA","FORMOSA","FORMOSA","30709284262","Mendoza, Gonzalo","Kokubu, Alberto","A definir",""]
[null,"SALDAN (CP: 5149)","5149","SALDAN","CORDOBA","MEDITERRANEA",17,"SILVIA BARBIERIS",null,null,null,null,null,null,null,null,null,null,null,null,null,null,null,null,null,null,null,null,null,null,null,null,null,null,null,null,null,null,null,null,null,null,null,null,null,31167,"RAUL E ALONSO SRL","TERCEROS","Consignado","LITORAL NORTE","AVENIDA COCOMAROLA Y AV. CABRERA",3300,"POSADAS","POSADAS","MISIONES","30710383436","Cendra, Luciano","Kokubu, Alberto","A definir",""]
[null,"SALSIPUEDES (CP: 5113)","5113","SALSIPUEDES","CORDOBA","MEDITERRANEA",17,"SILVIA BARBIERIS",null,null,null,null,null,null,null,null,null,null,null,null,null,null,null,null,null,null,null,null,null,null,null,null,null,null,null,null,null,null,null,null,null,null,null,null,null,31168,"SHIGA MOTORS S.A.","TERCEROS","-","BUENOS AIRES","COLECTORA PANAMERICANA RAMAL PILAR Y GUIDO",1629,"PILAR","PILAR","BUENOS AIRES",30715753541,"Cullari, José","Brena, Marcelo","Barruti, Francisco",""]
[null,"SAN BASILIO (CP: 5841)","5841","SAN BASILIO","CORDOBA","MEDITERRANEA","24","DANIEL ECHEVERRIA",null,null,null,null,null,null,null,null,null,null,null,null,null,null,null,null,null,null,null,null,null,null,null,null,null,null,null,null,null,null,null,null,null,null,null,null,null,31176,"YAGUARETE SRL","TERCEROS","Consignado","MEDITERRANEA","PRES. PERON Y ONOFRE MARIMON",5166,"COSQUIN","PUNILLA","CORDOBA","30708805099","Saul, Diego Martin","Parolin, Mauricio Elvio","Banegas, Walter",""]
[null,"SAN CARLOS MINAS (CP: 5291)","5291","SAN CARLOS MINAS","CORDOBA","MEDITERRANEA","24","DANIEL ECHEVERRIA",null,null,null,null,null,null,null,null,null,null,null,null,null,null,null,null,null,null,null,null,null,null,null,null,null,null,null,null,null,null,null,null,null,null,null,null,null,31179,"LA PAMPAGONIA SRL","TERCEROS","Consignado","PAMPEANA","COLECTORA RN 188 878 Y ACCESO",6200,"REALICO","REALICO","LA PAMPA","30715785567","Storm, Fernando","Fernandez, Mariano","Barrera Casal, Facundo",""]
[null,"SAN JAVIER (CP: 5875)","5875","SAN JAVIER","CORDOBA","MEDITERRANEA","24","DANIEL ECHEVERRIA",null,null,null,null,null,null,null,null,null,null,null,null,null,null,null,null,null,null,null,null,null,null,null,null,null,null,null,null,null,null,null,null,null,null,null,null,null,31183,"JB SERVICIOS Y COMBUSTIBLES SA","TERCEROS","-","METROPOLITANA","AVENIDA CROVARA Y CAMINO DE CINTURA",1766,"TABLADA","LA MATANZA","BUENOS AIRES",30709498106,"Endrinal, Johana","Acosta, Diego","Gottlieb, Patricio",""]
[null,"SAN JOS.D.DORMIDA (CP: 5244)","5244","SAN JOS.D.DORMIDA","CORDOBA","MEDITERRANEA","24","DANIEL ECHEVERRIA",null,null,null,null,null,null,null,null,null,null,null,null,null,null,null,null,null,null,null,null,null,null,null,null,null,null,null,null,null,null,null,null,null,null,null,null,null,31193,"GRAL. ROCA GNC SRL","TERCEROS","Consignado","MEDITERRANEA","AV. SAN MARTIN NORTE 1643",2592,"GRAL.ROCA","MARCOS JUAREZ","CORDOBA","30710390076","Giuggia, Hugo ","Parolin, Mauricio Elvio","Banegas, Walter",""]
[null,"SAN MARCOS SIERRA (CP: 5282)","5282","SAN MARCOS SIERRA","CORDOBA","MEDITERRANEA","24","DANIEL ECHEVERRIA",null,null,null,null,null,null,null,null,null,null,null,null,null,null,null,null,null,null,null,null,null,null,null,null,null,null,null,null,null,null,null,null,null,null,null,null,null,31198,"GRUPO BACO SRL","TERCEROS","Reventa","LITORAL NORTE","RUTA NACIONAL 86 KM (Descendente) Y AV. 25 DE MAYO",3613,"LAGUNA BLANCA","PILCOMAYO","FORMOSA","30715601253","Mendoza, Gonzalo","Kokubu, Alberto","A definir",""]
[null,"SAN MARCOS SUD (CP: 2566)","2566","SAN MARCOS SUD","CORDOBA","MEDITERRANEA","24","DANIEL ECHEVERRIA",null,null,null,null,null,null,null,null,null,null,null,null,null,null,null,null,null,null,null,null,null,null,null,null,null,null,null,null,null,null,null,null,null,null,null,null,null,32001,"ETOR","OPESSA","Mayorista","METROPOLITANA","AVENIDA ANTARTIDA ARGENTINA Y CALLE 10",1104,"CAPITAL FEDERAL","CAPITAL FEDERAL","CAPITAL FEDERAL",30546689979,"López, Alejandro","Bouzon, Gustavo","Gottlieb, Patricio","Gualeni, Andrea"]
[null,"SANTA ELENA (CP: 5246)","5246","SANTA ELENA","CORDOBA","MEDITERRANEA","24","DANIEL ECHEVERRIA",null,null,null,null,null,null,null,null,null,null,null,null,null,null,null,null,null,null,null,null,null,null,null,null,null,null,null,null,null,null,null,null,null,null,null,null,null,45001,"MAS EL HUECU","TERCEROS","Reventa","PATAGONIA","JOSE MANKE CAYUCAL S/N°",8349,"EL HUECU","#ORQUIN","NEUQUEN","30999292778","Diacono, Juan Pablo","Maccari, Marcelo","Barreiro, Silvina",""]
[null,"SANTA EUFEMIA (CP: 2671)","2671","SANTA EUFEMIA","CORDOBA","MEDITERRANEA","24","DANIEL ECHEVERRIA",null,null,null,null,null,null,null,null,null,null,null,null,null,null,null,null,null,null,null,null,null,null,null,null,null,null,null,null,null,null,null,null,null,null,null,null,null,45002,"MAS MENCUE","TERCEROS","Reventa","PATAGONIA","GENERAL DON JOSE DE SAN MARTIN ENTRE LUIS MENEZES Y HUGO GATICA",8417,"MENCUE","9 DE JULIO","RIO NEGRO","30672846303","Otero, Sebastián","Maccari, Marcelo","Barreiro, Silvina",""]
[null,"SEBASTIAN ELCANO (CP: 5231)","5231","SEBASTIAN ELCANO","CORDOBA","MEDITERRANEA","24","DANIEL ECHEVERRIA",null,null,null,null,null,null,null,null,null,null,null,null,null,null,null,null,null,null,null,null,null,null,null,null,null,null,null,null,null,null,null,null,null,null,null,null,null,45005,"MAS SANTA VICTORIA ESTE","TERCEROS","Reventa","VALLES","SALTA Y SAN MARTIN",4561,"STA VICTORIA-E-RIVADAVIA","RIVADAVIA","SALTA",30673053285,"Marcori, Maximiliano","Naval, Carlos","Astegiano, Flavio",""]
[null,"SERRANO (CP: 6125)","6125","SERRANO","CORDOBA","MEDITERRANEA","24","DANIEL ECHEVERRIA",null,null,null,null,null,null,null,null,null,null,null,null,null,null,null,null,null,null,null,null,null,null,null,null,null,null,null,null,null,null,null,null,null,null,null,null,null,45006,"MAS RIVADAVIA BANDA SUD","TERCEROS","Reventa","VALLES","S/N° Y RUTA PROVINCIAL 13",4535,"RIVADAVIA","RIVADAVIA","SALTA","30673094127","Marcori, Maximiliano","Naval, Carlos","Astegiano, Flavio",""]
[null,"STA. M. DE PUNILLA -CBA- (CP: 5164)","5164","STA. M. DE PUNILLA -CBA-","CORDOBA","MEDITERRANEA",17,"SILVIA BARBIERIS",null,null,null,null,null,null,null,null,null,null,null,null,null,null,null,null,null,null,null,null,null,null,null,null,null,null,null,null,null,null,null,null,null,null,null,null,null,45009,"MAS EL CHALTEN","TERCEROS","Reventa","PATAGONIA","RUTA PROVINCIAL 23 KM 9.800 (Ascendente)",9301,"EL CHALTEN","LAGO ARGENTINO","SANTA CRUZ","30709255157","Potes, Claudio Fernando","Peletay, Walter","Barreiro, Silvina",""]
[null,"SUCO (CP: 5837)","5837","SUCO","CORDOBA","MEDITERRANEA","24","DANIEL ECHEVERRIA",null,null,null,null,null,null,null,null,null,null,null,null,null,null,null,null,null,null,null,null,null,null,null,null,null,null,null,null,null,null,null,null,null,null,null,null,null,45010,"MAS IRUYA","TERCEROS","Reventa","VALLES","AVENIDA ISLAS MALVINAS BARRIO EL TAPIAL",4633,"IRUYA","IRUYA","SALTA",30673038960,"Stoll, Maximiliano","Naval, Carlos","Astegiano, Flavio",""]
[null,"TANINGA (CP: 5295)","5295","TANINGA","CORDOBA","MEDITERRANEA","24","DANIEL ECHEVERRIA",null,null,null,null,null,null,null,null,null,null,null,null,null,null,null,null,null,null,null,null,null,null,null,null,null,null,null,null,null,null,null,null,null,null,null,null,null,45012,"MAS LOS VARELAS","TERCEROS","Reventa","VALLES","RUTA PROVINCIAL LOS TALAS S/N - RUTA PROVINCIAL N°1 KM (Ascendente) LOS TALAS S/N - RUTA PROVINCIAL N°1",4711,"LOS TALAS","AMBATO","CATAMARCA","30668102901","Parellada, Oscar","Naval, Carlos","Astegiano, Flavio",""]
[null,"TANTI (CP: 5155)","5155","TANTI","CORDOBA","MEDITERRANEA",17,"SILVIA BARBIERIS",null,null,null,null,null,null,null,null,null,null,null,null,null,null,null,null,null,null,null,null,null,null,null,null,null,null,null,null,null,null,null,null,null,null,null,null,null,45013,"MAS EL ALTO","TERCEROS","Reventa","VALLES","SAN MARTIN S/N",4235,"EL ALTO","EL ALTO","CATAMARCA",33668043459,"Abboud, Marco","Naval, Carlos","Astegiano, Flavio",""]
[null,"TOLEDO (CP: 5123)","5123","TOLEDO","CORDOBA","MEDITERRANEA",17,"SILVIA BARBIERIS",null,null,null,null,null,null,null,null,null,null,null,null,null,null,null,null,null,null,null,null,null,null,null,null,null,null,null,null,null,null,null,null,null,null,null,null,null,99100,"PUENTE VANGUARDIA SA","TERCEROS","Mayorista","METROPOLITANA","LAVALLE 200 Y CARLOS PELLEGRINI",1648,"TIGRE","TIGRE","BUENOS AIRES",30698813659,"Leite, Jose","Bouzon, Gustavo","Gottlieb, Patricio",""]
[null,"TORO PUJIO (CP: 5139)","5139","TORO PUJIO","CORDOBA","MEDITERRANEA","24","DANIEL ECHEVERRIA"]
[null,{"$f":"CONCATENATE(D1603,\" (CP: \",C1603,\")\")","v":"UCACHA (CP: 2677)"},"2677","UCACHA","CORDOBA","MEDITERRANEA","24","DANIEL ECHEVERRIA"]
[null,"UNQUILLO (CP: 5109)","5109","UNQUILLO","CORDOBA","MEDITERRANEA",17,"SILVIA BARBIERIS"]
[null,"VALLE DORADO (CP: 5864)","5864","VALLE DORADO","CORDOBA","MEDITERRANEA","24","DANIEL ECHEVERRIA"]
[null,"VALLE HERMOSO (CP: 5168)","5168","VALLE HERMOSO","CORDOBA","MEDITERRANEA",17,"SILVIA BARBIERIS"]
[null,"VIAMONTE (CP: 2671)","2671","VIAMONTE","CORDOBA","MEDITERRANEA","24","DANIEL ECHEVERRIA"]
[null,"VICUÑA MACKENNA (CP: 6140)","6140","VICUÑA MACKENNA","CORDOBA","MEDITERRANEA","24","DANIEL ECHEVERRIA"]
[null,"VILLA ANIZACATE (CP: 5189)","5189","VILLA ANIZACATE","CORDOBA","MEDITERRANEA",17,"SILVIA BARBIERIS"]
[null,"VILLA ASCASUBI (CP: 5935)","5935","VILLA ASCASUBI","CORDOBA","MEDITERRANEA","24","DANIEL ECHEVERRIA"]
[null,"VILLA CARLOS PAZ (CP: 5152)","5152","VILLA CARLOS PAZ","CORDOBA","MEDITERRANEA",17,"SILVIA BARBIERIS"]
[null,"VILLA CIUDAD DE AMERICA (CP: 5189)","5189","VILLA CIUDAD DE AMERICA","CORDOBA","MEDITERRANEA",17,"SILVIA BARBIERIS"]
[null,"VILLA DE SOTO (CP: 5284)","5284","VILLA DE SOTO","CORDOBA","MEDITERRANEA","24","DANIEL ECHEVERRIA"]
[null,"VILLA DEL ROSARIO (CP: 5963)","5963","VILLA DEL ROSARIO","CORDOBA","MEDITERRANEA","24","DANIEL ECHEVERRIA"]
[null,"VILLA ESQUIU (CP: 5101)","5101","VILLA ESQUIU","CORDOBA","MEDITERRANEA","24","DANIEL ECHEVERRIA"]
[null,"VILLA FONTANA (CP: 5137)","5137","VILLA FONTANA","CORDOBA","MEDITERRANEA","24","DANIEL ECHEVERRIA"]
[null,"VILLA GIARDINO (CP: 5176)","5176","VILLA GIARDINO","CORDOBA","MEDITERRANEA",17,"SILVIA BARBIERIS"]
[null,"VILLA HUIDOBRO (CP: 6275)","6275","VILLA HUIDOBRO","CORDOBA","MEDITERRANEA","24","DANIEL ECHEVERRIA"]
[null,"VILLA MARIA (CP: 5900)","5900","VILLA MARIA","CORDOBA","MEDITERRANEA","24","DANIEL ECHEVERRIA"]
[null,"VILLA NUEVA (CP: 5903)","5903","VILLA NUEVA","CORDOBA","MEDITERRANEA","24","DANIEL ECHEVERRIA"]
[null,"VILLA RIO YCHO CRUZ (CP: 5153)","5153","VILLA RIO YCHO CRUZ","CORDOBA","MEDITERRANEA",17,"SILVIA BARBIERIS"]
[null,"VILLA ROSSI (CP: 6128)","6128","VILLA ROSSI","CORDOBA","MEDITERRANEA","24","DANIEL ECHEVERRIA"]
[null,"VILLA SARMIENTO (CP: 6273)","6273","VILLA SARMIENTO","CORDOBA","MEDITERRANEA","24","DANIEL ECHEVERRIA"]
[null,"VILLA VALERIA (CP: 6273)","6273","VILLA VALERIA","CORDOBA","MEDITERRANEA","24","DANIEL ECHEVERRIA"]
[null,"WENCES.ESCALANTE (CP: 2655)","2655","WENCES.ESCALANTE","CORDOBA","MEDITERRANEA","24","DANIEL ECHEVERRIA"]
[null,"YOCSIVA (CP: 5101)","5101","YOCSIVA","CORDOBA","MEDITERRANEA","24","DANIEL ECHEVERRIA"]
[null,"BONPLAND (CTES) (CP: 3234)","3234","BONPLAND (CTES)","CORRIENTES","NOROESTE","48","MIGUEL BERNERI"]
[null,"CAA CATI (CP: 3407)","3407","CAA CATI","CORRIENTES","NOROESTE","48","MIGUEL BERNERI"]
[null,"COLONIA LIEBIG'S (CP: 3358)","3358","COLONIA LIEBIG'S","CORRIENTES","NOROESTE","48","MIGUEL BERNERI"]
[null,"CONCEPCION (CP: 3344)","3344","CONCEPCION","CORRIENTES","NOROESTE","48","MIGUEL BERNERI"]
[null,"CUATRO BOCAS (CP: 3220)","3220","CUATRO BOCAS","CORRIENTES","NOROESTE","48","MIGUEL BERNERI"]
[null,"CURUZU CUATIA (CP: 3460)","3460","CURUZU CUATIA","CORRIENTES","NOROESTE","48","MIGUEL BERNERI"]
[null,"ESQUINA (CP: 3196)","3196","ESQUINA","CORRIENTES","NOROESTE","48","MIGUEL BERNERI"]
[null,"FELIPE YOFRE (CP: 3472)","3472","FELIPE YOFRE","CORRIENTES","NOROESTE","48","MIGUEL BERNERI"]
[null,"GOYA (CP: 3450)","3450","GOYA","CORRIENTES","NOROESTE","48","MIGUEL BERNERI"]
[null,"GUAYQUIRARO (CP: 3194)","3194","GUAYQUIRARO","CORRIENTES","NOROESTE","48","MIGUEL BERNERI"]
[null,"ITUZAINGO (CP: 3202)","3202","ITUZAINGO","CORRIENTES","NOROESTE","48","MIGUEL BERNERI"]
[null,"ITUZAINGO (CP: 3302)","3302","ITUZAINGO","CORRIENTES","NOROESTE","48","MIGUEL BERNERI"]
[null,{"$f":"CONCATENATE(D1667,\" (CP: \",C1667,\")\")","v":"LA CRUZ (CP: 3454)"},"3454","LA CRUZ","CORRIENTES","NOROESTE","48","MIGUEL BERNERI"]
[null,"LAVALLE (CP: 3343)","3343","LAVALLE","CORRIENTES","NOROESTE","48","MIGUEL BERNERI"]
[null,"MALVINAS (CP: 3199)","3199","MALVINAS","CORRIENTES","NOROESTE","48","MIGUEL BERNERI"]
[null,"MALVINAS SUD (CP: 3199)","3199","MALVINAS SUD","CORRIENTES","NOROESTE","48","MIGUEL BERNERI"]
[null,"MERCEDES (CP: 3470)","3470","MERCEDES","CORRIENTES","NOROESTE","48","MIGUEL BERNERI"]
[null,"MOCORETA (CP: 3226)","3226","MOCORETA","CORRIENTES","NOROESTE","48","MIGUEL BERNERI"]
[null,"PASO DE LA PATRIA (CP: 3409)","3409","PASO DE LA PATRIA","CORRIENTES","NOROESTE","48","MIGUEL BERNERI"]
[null,"PASO TALA (CP: 3461)","3461","PASO TALA","CORRIENTES","NOROESTE","48","MIGUEL BERNERI"]
[null,"PIEDRITAS (CP: 3226)","3226","PIEDRITAS","CORRIENTES","NOROESTE","48","MIGUEL BERNERI"]
[null,"SAENZ VALIENTE (CP: 3222)","3222","SAENZ VALIENTE","CORRIENTES","NOROESTE","48","MIGUEL BERNERI"]
[null,"SAN ANDRES (CP: 3226)","3226","SAN ANDRES","CORRIENTES","NOROESTE","48","MIGUEL BERNERI"]
[null,"SAN COSME (CP: 3412)","3412","SAN COSME","CORRIENTES","NOROESTE","48","MIGUEL BERNERI"]
[null,"SAN MIGUEL (CP: 3485)","3485","SAN MIGUEL","CORRIENTES","NOROESTE","48","MIGUEL BERNERI"]
[null,"SAN ROQUE (CP: 3448)","3448","SAN ROQUE","CORRIENTES","NOROESTE","48","MIGUEL BERNERI"]
[null,"SANTA ROSA (CP: 3421)","3421","SANTA ROSA","CORRIENTES","NOROESTE","48","MIGUEL BERNERI"]
[null,"SANTO TOME (CP: 3340)","3340","SANTO TOME","CORRIENTES","NOROESTE","48","MIGUEL BERNERI"]
[null,"TABAY (CP: 3421)","3421","TABAY","CORRIENTES","NOROESTE","48","MIGUEL BERNERI"]
[null,"TAPEBICUA -P.DE LOS LIB. (CP: 3232)","3232","TAPEBICUA -P.DE LOS LIB.","CORRIENTES","NOROESTE","48","MIGUEL BERNERI"]
[null,"YAPEYU (CP: 3231)","3231","YAPEYU","CORRIENTES","NOROESTE","48","MIGUEL BERNERI"]
[null,"ALCARAZ (CP: 3138)","3138","ALCARAZ","ENTRE_RIOS","DE LOS RIOS","5","GABRIEL LO NOSTRO"]
[null,"ALDEA SAN ANTONIO (CP: 2826)","2826","ALDEA SAN ANTONIO","ENTRE_RIOS","DE LOS RIOS","5","GABRIEL LO NOSTRO"]
[null,"ARANGUREN (CP: 3162)","3162","ARANGUREN","ENTRE_RIOS","DE LOS RIOS","5","GABRIEL LO NOSTRO"]
[null,"BOVRIL (CP: 3142)","3142","BOVRIL","ENTRE_RIOS","DE LOS RIOS","5","GABRIEL LO NOSTRO"]
[null,"CALABACILLAS (CP: 3203)","3203","CALABACILLAS","ENTRE_RIOS","DE LOS RIOS","5","GABRIEL LO NOSTRO"]
[null,"CARABALLO (CP: 3265)","3265","CARABALLO","ENTRE_RIOS","DE LOS RIOS","5","GABRIEL LO NOSTRO"]
[null,"CASEROS -ENTRE RIOS (CP: 3262)","3262","CASEROS -ENTRE RIOS","ENTRE_RIOS","DE LOS RIOS","5","GABRIEL LO NOSTRO"]
[null,"CHAJARI (CP: 3228)","3228","CHAJARI","ENTRE_RIOS","DE LOS RIOS","5","GABRIEL LO NOSTRO"]
[null,"COL. AYUI (CP: 3201)","3201","COL. AYUI","ENTRE_RIOS","DE LOS RIOS","5","GABRIEL LO NOSTRO"]
[null,"COLONIA 3 DE FEBRERO (CP: 3265)","3265","COLONIA 3 DE FEBRERO","ENTRE_RIOS","DE LOS RIOS","5","GABRIEL LO NOSTRO"]
[null,"COLONIA ALEMANA (CP: 3228)","3228","COLONIA ALEMANA","ENTRE_RIOS","DE LOS RIOS","5","GABRIEL LO NOSTRO"]
[null,"COLONIA AVIGDOR (CP: 3142)","3142","COLONIA AVIGDOR","ENTRE_RIOS","DE LOS RIOS","5","GABRIEL LO NOSTRO"]
[null,"COLONIA BRUGO (CP: 3125)","3125","COLONIA BRUGO","ENTRE_RIOS","DE LOS RIOS","5","GABRIEL LO NOSTRO"]
[null,"COLONIA EL CARMEN (CP: 3267)","3267","COLONIA EL CARMEN","ENTRE_RIOS","DE LOS RIOS","5","GABRIEL LO NOSTRO"]
[null,"COLONIA ELIAS (CP: 3261)","3261","COLONIA ELIAS","ENTRE_RIOS","DE LOS RIOS","5","GABRIEL LO NOSTRO"]
[null,"COLONIA LA MARTA (ER) (CP: 3185)","3185","COLONIA LA MARTA (ER)","ENTRE_RIOS","DE LOS RIOS","5","GABRIEL LO NOSTRO"]
[null,"COLONIA LA MORA (CP: 3216)","3216","COLONIA LA MORA","ENTRE_RIOS","DE LOS RIOS","5","GABRIEL LO NOSTRO"]
[null,{"$f":"CONCATENATE(D1731,\" (CP: \",C1731,\")\")","v":"COLONIA LA SUIZA (CP: 3265)"},"3265","COLONIA LA SUIZA","ENTRE_RIOS","DE LOS RIOS","5","GABRIEL LO NOSTRO"]
[null,"COLONIA LA SUIZA (CP: 3267)","3267","COLONIA LA SUIZA","ENTRE_RIOS","DE LOS RIOS","5","GABRIEL LO NOSTRO"]
[null,"COLONIA MARIA LUISA (CP: 3114)","3114","COLONIA MARIA LUISA","ENTRE_RIOS","DE LOS RIOS","5","GABRIEL LO NOSTRO"]
[null,"COLONIA NUEVA (CP: 3118)","3118","COLONIA NUEVA","ENTRE_RIOS","DE LOS RIOS","5","GABRIEL LO NOSTRO"]
[null,"COLONIA SAN IGNACIO (CP: 3267)","3267","COLONIA SAN IGNACIO","ENTRE_RIOS","DE LOS RIOS","5","GABRIEL LO NOSTRO"]
[null,"COLONIA SAN MIGUEL (CP: 3265)","3265","COLONIA SAN MIGUEL","ENTRE_RIOS","DE LOS RIOS","5","GABRIEL LO NOSTRO"]
[null,"COLONIA VAZQUEZ (CP: 3267)","3267","COLONIA VAZQUEZ","ENTRE_RIOS","DE LOS RIOS","5","GABRIEL LO NOSTRO"]
[null,"COLONIA WALTER MOSS (CP: 3216)","3216","COLONIA WALTER MOSS","ENTRE_RIOS","DE LOS RIOS","5","GABRIEL LO NOSTRO"]
[null,"CONCORDIA (CP: 3200)","3200","CONCORDIA","ENTRE_RIOS","DE LOS RIOS","5","GABRIEL LO NOSTRO"]
[null,"COSTA GRANDE (CP: 3101)","3101","COSTA GRANDE","ENTRE_RIOS","DE LOS RIOS","5","GABRIEL LO NOSTRO"]
[null,"CRESPO (CP: 3116)","3116","CRESPO","ENTRE_RIOS","DE LOS RIOS","5","GABRIEL LO NOSTRO"]
[null,"CRUSECITAS 7MA SECCION (CP: 3109)","3109","CRUSECITAS 7MA SECCION","ENTRE_RIOS","DE LOS RIOS","5","GABRIEL LO NOSTRO"]
[null,"DOMINGUEZ (CP: 3246)","3246","DOMINGUEZ","ENTRE_RIOS","DE LOS RIOS","5","GABRIEL LO NOSTRO"]
[null,"DON CRISTOBAL (ER) (CP: 3164)","3164","DON CRISTOBAL (ER)","ENTRE_RIOS","DE LOS RIOS","5","GABRIEL LO NOSTRO"]
[null,"DON CRISTOBAL-2A.SEC.-ER (CP: 3162)","3162","DON CRISTOBAL-2A.SEC.-ER","ENTRE_RIOS","DE LOS RIOS","5","GABRIEL LO NOSTRO"]
[null,"ECHAGÜE (CP: 2845)","2845","ECHAGÜE","ENTRE_RIOS","DE LOS RIOS","5","GABRIEL LO NOSTRO"]
[null,"EL PUEBLITO (CP: 3151)","3151","EL PUEBLITO","ENTRE_RIOS","DE LOS RIOS","5","GABRIEL LO NOSTRO"]
[null,"EL REDOMON (CP: 3212)","3212","EL REDOMON","ENTRE_RIOS","DE LOS RIOS","5","GABRIEL LO NOSTRO"]
[null,"ESTACAS (CP: 3191)","3191","ESTACAS","ENTRE_RIOS","DE LOS RIOS","5","GABRIEL LO NOSTRO"]
[null,"ESTACION SOLA (CP: 3176)","3176","ESTACION SOLA","ENTRE_RIOS","DE LOS RIOS","5","GABRIEL LO NOSTRO"]
[null,"FEDERACION (CP: 3206)","3206","FEDERACION","ENTRE_RIOS","DE LOS RIOS","5","GABRIEL LO NOSTRO"]
[null,"FEDERAL (CP: 3180)","3180","FEDERAL","ENTRE_RIOS","DE LOS RIOS","5","GABRIEL LO NOSTRO"]
[null,"GRAL.CAMPOS (CP: 3216)","3216","GRAL.CAMPOS","ENTRE_RIOS","DE LOS RIOS","5","GABRIEL LO NOSTRO"]
[null,"GRAL.GALARZA (CP: 2843)","2843","GRAL.GALARZA","ENTRE_RIOS","DE LOS RIOS","5","GABRIEL LO NOSTRO"]
[null,"GUALEGUAY (CP: 2840)","2840","GUALEGUAY","ENTRE_RIOS","DE LOS RIOS","5","GABRIEL LO NOSTRO"]
[null,"GUALEGUAYCHU (CP: 2820)","2820","GUALEGUAYCHU","ENTRE_RIOS","DE LOS RIOS","5","GABRIEL LO NOSTRO"]
[null,"HERNANDEZ (CP: 3156)","3156","HERNANDEZ","ENTRE_RIOS","DE LOS RIOS","5","GABRIEL LO NOSTRO"]
[null,"HERRERA (CP: 3272)","3272","HERRERA","ENTRE_RIOS","DE LOS RIOS","5","GABRIEL LO NOSTRO"]
[null,"IBICUY (CP: 2846)","2846","IBICUY","ENTRE_RIOS","DE LOS RIOS","5","GABRIEL LO NOSTRO"]
[null,"IRAZUSTA (CP: 2852)","2852","IRAZUSTA","ENTRE_RIOS","DE LOS RIOS","5","GABRIEL LO NOSTRO"]
[null,"JUBILEO (CP: 3254)","3254","JUBILEO","ENTRE_RIOS","DE LOS RIOS","5","GABRIEL LO NOSTRO"]
[null,"L.S.MARTIN (CP: 3103)","3103","L.S.MARTIN","ENTRE_RIOS","DE LOS RIOS","5","GABRIEL LO NOSTRO"]
[null,"LA CRIOLLA (CP: 3212)","3212","LA CRIOLLA","ENTRE_RIOS","DE LOS RIOS","5","GABRIEL LO NOSTRO"]
[null,"LA MARIA LUISA (CP: 3261)","3261","LA MARIA LUISA","ENTRE_RIOS","DE LOS RIOS","5","GABRIEL LO NOSTRO"]
[null,"LARROQUE (CP: 2854)","2854","LARROQUE","ENTRE_RIOS","DE LOS RIOS","5","GABRIEL LO NOSTRO"]
[null,"LAS DELICIAS (CP: 3114)","3114","LAS DELICIAS","ENTRE_RIOS","DE LOS RIOS","5","GABRIEL LO NOSTRO"]
[null,"LLESO OESTE (CP: 3190)","3190","LLESO OESTE","ENTRE_RIOS","DE LOS RIOS","5","GABRIEL LO NOSTRO"]
[null,"LOS CHARRUAS (CP: 3212)","3212","LOS CHARRUAS","ENTRE_RIOS","DE LOS RIOS","5","GABRIEL LO NOSTRO"]
[null,"LOS SAUCES (CP: 3216)","3216","LOS SAUCES","ENTRE_RIOS","DE LOS RIOS","5","GABRIEL LO NOSTRO"]
[null,"LUCAS GONZALEZ (CP: 3158)","3158","LUCAS GONZALEZ","ENTRE_RIOS","DE LOS RIOS","5","GABRIEL LO NOSTRO"]
[null,"MACIA (CP: 3177)","3177","MACIA","ENTRE_RIOS","DE LOS RIOS","5","GABRIEL LO NOSTRO"]
[null,"MANSILLA (CP: 2845)","2845","MANSILLA","ENTRE_RIOS","DE LOS RIOS","5","GABRIEL LO NOSTRO"]
[null,"MEDANOS (CP: 2848)","2848","MEDANOS","ENTRE_RIOS","DE LOS RIOS","5","GABRIEL LO NOSTRO"]
[null,"MOJONES NORTE (CP: 3241)","3241","MOJONES NORTE","ENTRE_RIOS","DE LOS RIOS","5","GABRIEL LO NOSTRO"]
[null,"MONTOYA-VICTORIA (CP: 3151)","3151","MONTOYA-VICTORIA","ENTRE_RIOS","DE LOS RIOS","5","GABRIEL LO NOSTRO"]
[null,"NOGOYA (CP: 3150)","3150","NOGOYA","ENTRE_RIOS","DE LOS RIOS","5","GABRIEL LO NOSTRO"]
[null,"ORO VERDE (CP: 3100)","3100","ORO VERDE","ENTRE_RIOS","DE LOS RIOS","5","GABRIEL LO NOSTRO"]
[null,"OSVALDO MAGNASCO (CP: 3212)","3212","OSVALDO MAGNASCO","ENTRE_RIOS","DE LOS RIOS","5","GABRIEL LO NOSTRO"]
[null,"PASO DE LA LAGUNA (CP: 3241)","3241","PASO DE LA LAGUNA","ENTRE_RIOS","DE LOS RIOS","5","GABRIEL LO NOSTRO"]
[null,"PASO DE LAS PIEDRAS (CP: 3118)","3118","PASO DE LAS PIEDRAS","ENTRE_RIOS","DE LOS RIOS","5","GABRIEL LO NOSTRO"]
[null,"PERDICES (CP: 2823)","2823","PERDICES","ENTRE_RIOS","DE LOS RIOS","5","GABRIEL LO NOSTRO"]
[null,"PILOTO AVILA (CP: 3190)","3190","PILOTO AVILA","ENTRE_RIOS","DE LOS RIOS","5","GABRIEL LO NOSTRO"]
[null,"PUEBLO CAZES (CP: 3269)","3269","PUEBLO CAZES","ENTRE_RIOS","DE LOS RIOS","5","GABRIEL LO NOSTRO"]
[null,"PUERTO CURTIEMBRE (CP: 3113)","3113","PUERTO CURTIEMBRE","ENTRE_RIOS","DE LOS RIOS","5","GABRIEL LO NOSTRO"]
[null,"RINCON DE NOGOYA (CP: 3155)","3155","RINCON DE NOGOYA","ENTRE_RIOS","DE LOS RIOS","5","GABRIEL LO NOSTRO"]
[null,"ROSARIO DEL TALA (CP: 3174)","3174","ROSARIO DEL TALA","ENTRE_RIOS","DE LOS RIOS","5","GABRIEL LO NOSTRO"]
[null,"SAN BENITO (ER) (CP: 3107)","3107","SAN BENITO (ER)","ENTRE_RIOS","DE LOS RIOS","5","GABRIEL LO NOSTRO"]
[null,"SAN GREGORIO (CP: 3203)","3203","SAN GREGORIO","ENTRE_RIOS","DE LOS RIOS","5","GABRIEL LO NOSTRO"]
[null,"SAN JOSE (CP: 3283)","3283","SAN JOSE","ENTRE_RIOS","DE LOS RIOS","5","GABRIEL LO NOSTRO"]
[null,"SAN MARTIN (CP: 3113)","3113","SAN MARTIN","ENTRE_RIOS","DE LOS RIOS","5","GABRIEL LO NOSTRO"]
[null,"SAN VICTOR (CP: 3191)","3191","SAN VICTOR","ENTRE_RIOS","DE LOS RIOS","5","GABRIEL LO NOSTRO"]
[null,"SANTA ANA (CP: 3208)","3208","SANTA ANA","ENTRE_RIOS","DE LOS RIOS","5","GABRIEL LO NOSTRO"]
[null,"SAUCE DE LUNA (CP: 3144)","3144","SAUCE DE LUNA","ENTRE_RIOS","DE LOS RIOS","5","GABRIEL LO NOSTRO"]
[null,"SAUCE PINTOS (CP: 3107)","3107","SAUCE PINTOS","ENTRE_RIOS","DE LOS RIOS","5","GABRIEL LO NOSTRO"]
[null,"SEGUI (CP: 3117)","3117","SEGUI","ENTRE_RIOS","DE LOS RIOS","5","GABRIEL LO NOSTRO"]
[null,"TABOSSI (CP: 3111)","3111","TABOSSI","ENTRE_RIOS","DE LOS RIOS","5","GABRIEL LO NOSTRO"]
[null,"URDINARRAIN (CP: 2826)","2826","URDINARRAIN","ENTRE_RIOS","DE LOS RIOS","5","GABRIEL LO NOSTRO"]
[null,"URQUIZA (04) (CP: 3248)","3248","URQUIZA (04)","ENTRE_RIOS","DE LOS RIOS","5","GABRIEL LO NOSTRO"]
[null,"VIALE (CP: 3109)","3109","VIALE","ENTRE_RIOS","DE LOS RIOS","5","GABRIEL LO NOSTRO"]
[null,"VICTORIA (CP: 3153)","3153","VICTORIA","ENTRE_RIOS","DE LOS RIOS","5","GABRIEL LO NOSTRO"]
[null,"VILLA DEL ROSARIO (CP: 3229)","3229","VILLA DEL ROSARIO","ENTRE_RIOS","DE LOS RIOS","5","GABRIEL LO NOSTRO"]
[null,"VILLA ELISA (CP: 3265)","3265","VILLA ELISA","ENTRE_RIOS","DE LOS RIOS","5","GABRIEL LO NOSTRO"]
[null,"VILLA PARANACITO (CP: 2823)","2823","VILLA PARANACITO","ENTRE_RIOS","DE LOS RIOS","5","GABRIEL LO NOSTRO"]
[null,"VILLA ZORRAQUIN (CP: 3201)","3201","VILLA ZORRAQUIN","ENTRE_RIOS","DE LOS RIOS","5","GABRIEL LO NOSTRO"]
[null,"VILLAGUAY (CP: 3246)","3246","VILLAGUAY","ENTRE_RIOS","DE LOS RIOS","5","GABRIEL LO NOSTRO"]
[null,"CLORINDA (CP: 3610)","3610","CLORINDA","FORMOSA","NOROESTE","48","MIGUEL BERNERI"]
[null,"COMANDANT.FONTANA (CP: 3620)","3620","COMANDANT.FONTANA","FORMOSA","NOROESTE","48","MIGUEL BERNERI"]
[null,"EL CHORRO (CP: 3636)","3636","EL CHORRO","FORMOSA","NOROESTE","48","MIGUEL BERNERI"]
[null,"EL ESPINILLO (CP: 3603)","3603","EL ESPINILLO","FORMOSA","NOROESTE","48","MIGUEL BERNERI"]
[null,"EL ESPINILLO (CP: 3615)","3615","EL ESPINILLO","FORMOSA","NOROESTE","48","MIGUEL BERNERI"]
[null,"FORMOSA (CP: 3600)","3600","FORMOSA","FORMOSA","NOROESTE","48","MIGUEL BERNERI"]
[null,"FORTIN MEDIA LUNA (CP: 3634)","3634","FORTIN MEDIA LUNA","FORMOSA","NOROESTE","48","MIGUEL BERNERI"]
[null,"GRAN GUARDIA (CP: 3604)","3604","GRAN GUARDIA","FORMOSA","NOROESTE","48","MIGUEL BERNERI"]
[null,"IBARRETA (CP: 3624)","3624","IBARRETA","FORMOSA","NOROESTE","48","MIGUEL BERNERI"]
[null,"JUAN G BAZAN (CP: 3632)","3632","JUAN G BAZAN","FORMOSA","NOROESTE","48","MIGUEL BERNERI"]
[null,"LAGUNA BLANCA (CP: 3613)","3613","LAGUNA BLANCA","FORMOSA","NOROESTE","48","MIGUEL BERNERI"]
[null,"LAS LOMITAS (CP: 3630)","3630","LAS LOMITAS","FORMOSA","NOROESTE","48","MIGUEL BERNERI"]
[null,"MAY.VICENTE E.VILLAFAÑE (CP: 3601)","3601","MAY.VICENTE E.VILLAFAÑE","FORMOSA","NOROESTE","48","MIGUEL BERNERI"]
[null,"PALMAR LARGO (CP: 3636)","3636","PALMAR LARGO","FORMOSA","NOROESTE","48","MIGUEL BERNERI"]
[null,"PALO SANTO (CP: 3608)","3608","PALO SANTO","FORMOSA","NOROESTE","48","MIGUEL BERNERI"]
[null,"POZO DEL TIGRE (CP: 3628)","3628","POZO DEL TIGRE","FORMOSA","NOROESTE","48","MIGUEL BERNERI"]
[null,"PUERTO PILCOMAYO (CP: 3611)","3611","PUERTO PILCOMAYO","FORMOSA","NOROESTE","48","MIGUEL BERNERI"]
[null,"RIACHO HE HE (CP: 3611)","3611","RIACHO HE HE","FORMOSA","NOROESTE","48","MIGUEL BERNERI"]
[null,"SAN FRANCISCO DE LAISHI (CP: 3601)","3601","SAN FRANCISCO DE LAISHI","FORMOSA","NOROESTE","48","MIGUEL BERNERI"]
[null,"VILLA GENERAL GÜEMES (CP: 3621)","3621","VILLA GENERAL GÜEMES","FORMOSA","NOROESTE","48","MIGUEL BERNERI"]
[null,"VILLA LUCERO (CP: 3611)","3611","VILLA LUCERO","FORMOSA","NOROESTE","48","MIGUEL BERNERI"]
[null,"ARCHIBARCA (CP: 4641)","4641","ARCHIBARCA","JUJUY","LOS VALLES","19","ALFREDO PLASTINE"]
[null,"CAIMANCITO (CP: 4516)","4516","CAIMANCITO","JUJUY","LOS VALLES","19","ALFREDO PLASTINE"]
[null,"CORANZULLI (CP: 4643)","4643","CORANZULLI","JUJUY","LOS VALLES","19","ALFREDO PLASTINE"]
[null,"EL AGUILAR (CP: 4634)","4634","EL AGUILAR","JUJUY","LOS VALLES","19","ALFREDO PLASTINE"]
[null,"EL PORVENIR (CP: 4405)","4405","EL PORVENIR","JUJUY","LOS VALLES","19","ALFREDO PLASTINE"]
[null,"EL TALAR (PCIA JUJUY) (CP: 4542)","4542","EL TALAR (PCIA JUJUY)","JUJUY","LOS VALLES","19","ALFREDO PLASTINE"]
[null,"HUMAHUACA (CP: 4630)","4630","HUMAHUACA","JUJUY","LOS VALLES","19","ALFREDO PLASTINE"]
[null,"ITURBE (CP: 4632)","4632","ITURBE","JUJUY","LOS VALLES","19","ALFREDO PLASTINE"]
[null,"LAS CAÑADAS (CP: 4606)","4606","LAS CAÑADAS","JUJUY","LOS VALLES","19","ALFREDO PLASTINE"]
[null,"LEDESMA (CP: 4508)","4508","LEDESMA","JUJUY","LOS VALLES","19","ALFREDO PLASTINE"]
[null,"LIB. GRAL. SAN MARTIN (CP: 4512)","4512","LIB. GRAL. SAN MARTIN","JUJUY","LOS VALLES","19","ALFREDO PLASTINE"]
[null,"LIPAN (CP: 4522)","4522","LIPAN","JUJUY","LOS VALLES","19","ALFREDO PLASTINE"]
[null,"OROS MAYO (CP: 4645)","4645","OROS MAYO","JUJUY","LOS VALLES","19","ALFREDO PLASTINE"]
[null,"OVARA (CP: 4630)","4630","OVARA","JUJUY","LOS VALLES","19","ALFREDO PLASTINE"]
[null,"PALMA SOLA (CP: 4501)","4501","PALMA SOLA","JUJUY","LOS VALLES","19","ALFREDO PLASTINE"]
[null,"PALPALA (CP: 4612)","4612","PALPALA","JUJUY","LOS VALLES","19","ALFREDO PLASTINE"]
[null,"PUESTO VIEJO (CP: 4606)","4606","PUESTO VIEJO","JUJUY","LOS VALLES","19","ALFREDO PLASTINE"]
[null,"PUMAHUASI (CP: 4644)","4644","PUMAHUASI","JUJUY","LOS VALLES","19","ALFREDO PLASTINE"]
[null,"S.S.DE JUJUY (CP: 4600)","4600","S.S.DE JUJUY","JUJUY","LOS VALLES","19","ALFREDO PLASTINE"]
[null,"SALADILLO (CP: 4522)","4522","SALADILLO","JUJUY","LOS VALLES","19","ALFREDO PLASTINE"]
[null,"SAN PEDRO (CP: 4500)","4500","SAN PEDRO","JUJUY","LOS VALLES","19","ALFREDO PLASTINE"]
[null,"SANTA CATALINA (CP: 4655)","4655","SANTA CATALINA","JUJUY","LOS VALLES","19","ALFREDO PLASTINE"]
[null,"SUNCHAL (CP: 4603)","4603","SUNCHAL","JUJUY","LOS VALLES","19","ALFREDO PLASTINE"]
[null,"SUSQUES (CP: 4641)","4641","SUSQUES","JUJUY","LOS VALLES","19","ALFREDO PLASTINE"]
[null,"TRES CRUCES (CP: 4634)","4634","TRES CRUCES","JUJUY","LOS VALLES","19","ALFREDO PLASTINE"]
[null,"TUMBAYA (CP: 4618)","4618","TUMBAYA","JUJUY","LOS VALLES","19","ALFREDO PLASTINE"]
[null,"YUTO (CP: 4518)","4518","YUTO","JUJUY","LOS VALLES","19","ALFREDO PLASTINE"]
[null,"ABRAMO (CP: 8212)","8212","ABRAMO","LA_PAMPA","PAMPEANA",130,"CESAR RONCARI"]
[null,"ALGAR.DEL AGUILA (CP: 6323)","6323","ALGAR.DEL AGUILA","LA_PAMPA","PAMPEANA",130,"CESAR RONCARI"]
[null,"ALPACHIRI (CP: 6309)","6309","ALPACHIRI","LA_PAMPA","PAMPEANA",130,"CESAR RONCARI"]
[null,"ATALIVA ROCA (CP: 6301)","6301","ATALIVA ROCA","LA_PAMPA","PAMPEANA",130,"CESAR RONCARI"]
[null,"BERNARDO LARROUDE (CP: 6220)","6220","BERNARDO LARROUDE","LA_PAMPA","PAMPEANA",130,"CESAR RONCARI"]
[null,"BERNASCONI (CP: 8212)","8212","BERNASCONI","LA_PAMPA","PAMPEANA",130,"CESAR RONCARI"]
[null,"CALEU CALEU (CP: 8134)","8134","CALEU CALEU","LA_PAMPA","PAMPEANA",130,"CESAR RONCARI"]
[null,"CHACHARRAMENDI (CP: 8201)","8201","CHACHARRAMENDI","LA_PAMPA","PAMPEANA",130,"CESAR RONCARI"]
[null,"CNEL.HILA.LAG0S (CP: 6228)","6228","CNEL.HILA.LAG0S","LA_PAMPA","PAMPEANA",130,"CESAR RONCARI"]
[null,"COLONIA SANTA TERESA (CP: 6311)","6311","COLONIA SANTA TERESA","LA_PAMPA","PAMPEANA",130,"CESAR RONCARI"]
[null,"CONHELO (CP: 6381)","6381","CONHELO","LA_PAMPA","PAMPEANA",130,"CESAR RONCARI"]
[null,"DORILA (CP: 6365)","6365","DORILA","LA_PAMPA","PAMPEANA",130,"CESAR RONCARI"]
[null,"EDUARDO CASTEX (CP: 6380)","6380","EDUARDO CASTEX","LA_PAMPA","PAMPEANA",130,"CESAR RONCARI"]
[null,"GRAL. M. CAMPOS (CP: 6309)","6309","GRAL. M. CAMPOS","LA_PAMPA","PAMPEANA",130,"CESAR RONCARI"]
[null,"GRAL.ACHA (CP: 8200)","8200","GRAL.ACHA","LA_PAMPA","PAMPEANA",130,"CESAR RONCARI"]
[null,"GRAL.SAN MARTIN (CP: 8206)","8206","GRAL.SAN MARTIN","LA_PAMPA","PAMPEANA",130,"CESAR RONCARI"]
[null,"GUATRACHE (CP: 6311)","6311","GUATRACHE","LA_PAMPA","PAMPEANA",130,"CESAR RONCARI"]
[null,"JACINTO ARAUZ (CP: 8208)","8208","JACINTO ARAUZ","LA_PAMPA","PAMPEANA",130,"CESAR RONCARI"]
[null,"JULIAN A.MANSILLA (CP: 8201)","8201","JULIAN A.MANSILLA","LA_PAMPA","PAMPEANA",130,"CESAR RONCARI"]
[null,"LA HUMADA (CP: 6323)","6323","LA HUMADA","LA_PAMPA","PAMPEANA",130,"CESAR RONCARI"]
[null,"LA MARUJA (CP: 6385)","6385","LA MARUJA","LA_PAMPA","PAMPEANA",130,"CESAR RONCARI"]
[null,"LONQUIMAY (CP: 6352)","6352","LONQUIMAY","LA_PAMPA","PAMPEANA",130,"CESAR RONCARI"]
[null,"MACACHIN (CP: 6307)","6307","MACACHIN","LA_PAMPA","PAMPEANA",130,"CESAR RONCARI"]
[null,"MIGUEL CANE -LA PAMPA (CP: 6331)","6331","MIGUEL CANE -LA PAMPA","LA_PAMPA","PAMPEANA",130,"CESAR RONCARI"]
[null,"MIGUEL RIGLOS (CP: 6301)","6301","MIGUEL RIGLOS","LA_PAMPA","PAMPEANA",130,"CESAR RONCARI"]
[null,"PARAJE PADRE BUODO (CP: 8200)","8200","PARAJE PADRE BUODO","LA_PAMPA","PAMPEANA",130,"CESAR RONCARI"]
[null,"PARERA (CP: 6213)","6213","PARERA","LA_PAMPA","PAMPEANA",130,"CESAR RONCARI"]
[null,"PUELEN (CP: 8201)","8201","PUELEN","LA_PAMPA","PAMPEANA",130,"CESAR RONCARI"]
[null,"QUEMU QUEMU (CP: 6333)","6333","QUEMU QUEMU","LA_PAMPA","PAMPEANA",130,"CESAR RONCARI"]
[null,"RANCUL (CP: 6214)","6214","RANCUL","LA_PAMPA","PAMPEANA",130,"CESAR RONCARI"]
[null,"REALICO (CP: 6200)","6200","REALICO","LA_PAMPA","PAMPEANA",130,"CESAR RONCARI"]
[null,"SANTA TERESA (CP: 6133)","6133","SANTA TERESA","LA_PAMPA","PAMPEANA",130,"CESAR RONCARI"]
[null,"SIMS0N (CP: 6212)","6212","SIMS0N","LA_PAMPA","PAMPEANA",130,"CESAR RONCARI"]
[null,"TOAY (CP: 6303)","6303","TOAY","LA_PAMPA","PAMPEANA",130,"CESAR RONCARI"]
[null,"TRENEL (CP: 6369)","6369","TRENEL","LA_PAMPA","PAMPEANA",130,"CESAR RONCARI"]
[null,"VERTIZ (CP: 6365)","6365","VERTIZ","LA_PAMPA","PAMPEANA",130,"CESAR RONCARI"]
[null,"VICTORICA (CP: 6319)","6319","VICTORICA","LA_PAMPA","PAMPEANA",130,"CESAR RONCARI"]
[null,"WINIFREDA (CP: 6313)","6313","WINIFREDA","LA_PAMPA","PAMPEANA",130,"CESAR RONCARI"]
[null,"ZONA RURAL DORILA (CP: 6365)","6365","ZONA RURAL DORILA","LA_PAMPA","PAMPEANA",130,"CESAR RONCARI"]
[null,"ALTO JAGUE (CP: 5359)","5359","ALTO JAGUE","LA_RIOJA","LOS VALLES","24","DANIEL ECHEVERRIA"]
[null,"AMANA (CP: 5386)","5386","AMANA","LA_RIOJA","LOS VALLES","24","DANIEL ECHEVERRIA"]
[null,"CHAMICAL (CP: 5380)","5380","CHAMICAL","LA_RIOJA","LOS VALLES","24","DANIEL ECHEVERRIA"]
[null,"CHAÑAR (CP: 5276)","5276","CHAÑAR","LA_RIOJA","LOS VALLES","24","DANIEL ECHEVERRIA"]
[null,"CHILECITO (CP: 5360)","5360","CHILECITO","LA_RIOJA","LOS VALLES","24","DANIEL ECHEVERRIA"]
[null,"EL PORTEZUELO (CP: 5385)","5385","EL PORTEZUELO","LA_RIOJA","LOS VALLES","24","DANIEL ECHEVERRIA"]
[null,"GUANDACOL (CP: 5353)","5353","GUANDACOL","LA_RIOJA","LOS VALLES","24","DANIEL ECHEVERRIA"]
[null,"LA RIOJA (CP: 5300)","5300","LA RIOJA","LA_RIOJA","LOS VALLES","24","DANIEL ECHEVERRIA"]
[null,"LOS CERRILLOS (CP: 5301)","5301","LOS CERRILLOS","LA_RIOJA","LOS VALLES","24","DANIEL ECHEVERRIA"]
[null,"MAZAN (CP: 5313)","5313","MAZAN","LA_RIOJA","LOS VALLES","24","DANIEL ECHEVERRIA"]
[null,"NONOGASTA (CP: 5372)","5372","NONOGASTA","LA_RIOJA","LOS VALLES","24","DANIEL ECHEVERRIA"]
[null,"OLTA (CP: 5383)","5383","OLTA","LA_RIOJA","LOS VALLES","24","DANIEL ECHEVERRIA"]
[null,"PINCHAS (CP: 5301)","5301","PINCHAS","LA_RIOJA","LOS VALLES","24","DANIEL ECHEVERRIA"]
[null,"PUERTO ALEGRE (CP: 5361)","5361","PUERTO ALEGRE","LA_RIOJA","LOS VALLES","24","DANIEL ECHEVERRIA"]
[null,"SANTA CRUZ (CP: 5361)","5361","SANTA CRUZ","LA_RIOJA","LOS VALLES","24","DANIEL ECHEVERRIA"]
[null,"SOÑOGASTA - SANAGASTA (CP: 5367)","5367","SOÑOGASTA - SANAGASTA","LA_RIOJA","LOS VALLES","24","DANIEL ECHEVERRIA"]
[null,"VILLA CASTELLI (CP: 5355)","5355","VILLA CASTELLI","LA_RIOJA","LOS VALLES","24","DANIEL ECHEVERRIA"]
[null,"VILLA SANAGASTA (CP: 5301)","5301","VILLA SANAGASTA","LA_RIOJA","LOS VALLES","24","DANIEL ECHEVERRIA"]
[null,"VILLA UNION (CP: 5350)","5350","VILLA UNION","LA_RIOJA","LOS VALLES","24","DANIEL ECHEVERRIA"]
[null,"VINCHINA (CP: 5357)","5357","VINCHINA","LA_RIOJA","LOS VALLES","24","DANIEL ECHEVERRIA"]
[null,"ALTO VERDE (CP: 5582)","5582","ALTO VERDE","MENDOZA","AREA DEL SOL","6","ALEJANDRO GOLDENTHAL"]
[null,"ATUEL SUD (CP: 5623)","5623","ATUEL SUD","MENDOZA","AREA DEL SOL","6","ALEJANDRO GOLDENTHAL"]
[null,"BERMEJO (CP: 5533)","5533","BERMEJO","MENDOZA","AREA DEL SOL","6","ALEJANDRO GOLDENTHAL"]
[null,"BOWEN (CP: 5634)","5634","BOWEN","MENDOZA","AREA DEL SOL","6","ALEJANDRO GOLDENTHAL"]
[null,"CAÑADA COLORADA (CP: 5613)","5613","CAÑADA COLORADA","MENDOZA","AREA DEL SOL","6","ALEJANDRO GOLDENTHAL"]
[null,"CAÑADA SECA (CP: 5603)","5603","CAÑADA SECA","MENDOZA","AREA DEL SOL","6","ALEJANDRO GOLDENTHAL"]
[null,"CAPDEVILLE (CP: 5543)","5543","CAPDEVILLE","MENDOZA","AREA DEL SOL","6","ALEJANDRO GOLDENTHAL"]
[null,"CARMENSA (CP: 5621)","5621","CARMENSA","MENDOZA","AREA DEL SOL","6","ALEJANDRO GOLDENTHAL"]
[null,"CHAPANAY (CP: 5589)","5589","CHAPANAY","MENDOZA","AREA DEL SOL","6","ALEJANDRO GOLDENTHAL"]
[null,"COCHICO (CP: 5621)","5621","COCHICO","MENDOZA","AREA DEL SOL","6","ALEJANDRO GOLDENTHAL"]
[null,"COLONIA 3 DE MAYO (CP: 5543)","5543","COLONIA 3 DE MAYO","MENDOZA","AREA DEL SOL","6","ALEJANDRO GOLDENTHAL"]
[null,"COLONIA ATUEL NORTE (CP: 5605)","5605","COLONIA ATUEL NORTE","MENDOZA","AREA DEL SOL","6","ALEJANDRO GOLDENTHAL"]
[null,"COLONIA SEGOVIA (CP: 5525)","5525","COLONIA SEGOVIA","MENDOZA","AREA DEL SOL","6","ALEJANDRO GOLDENTHAL"]
[null,"CONFLUENCIA - MZA (CP: 5613)","5613","CONFLUENCIA - MZA","MENDOZA","AREA DEL SOL","6","ALEJANDRO GOLDENTHAL"]
[null,"CORONEL DORREGO (CP: 5519)","5519","CORONEL DORREGO","MENDOZA","AREA DEL SOL","6","ALEJANDRO GOLDENTHAL"]
[null,"COSTA DE ARAUJO (CP: 5535)","5535","COSTA DE ARAUJO","MENDOZA","AREA DEL SOL","6","ALEJANDRO GOLDENTHAL"]
[null,"CUADRO NACIONAL (CP: 5607)","5607","CUADRO NACIONAL","MENDOZA","AREA DEL SOL","6","ALEJANDRO GOLDENTHAL"]
[null,"DESAGUADERO (CP: 5598)","5598","DESAGUADERO","MENDOZA","AREA DEL SOL","6","ALEJANDRO GOLDENTHAL"]
[null,"EL MIRADOR (CP: 5579)","5579","EL MIRADOR","MENDOZA","AREA DEL SOL","6","ALEJANDRO GOLDENTHAL"]
[null,"EL PORTON - MZA (CP: 5613)","5613","EL PORTON - MZA","MENDOZA","AREA DEL SOL","6","ALEJANDRO GOLDENTHAL"]
[null,"EL SOSNEADO (CP: 5611)","5611","EL SOSNEADO","MENDOZA","AREA DEL SOL","6","ALEJANDRO GOLDENTHAL"]
[null,"EUGENIO BUSTOS (CP: 5569)","5569","EUGENIO BUSTOS","MENDOZA","AREA DEL SOL","6","ALEJANDRO GOLDENTHAL"]
[null,"GODOY CRUZ H (CP: 5547)","5547","GODOY CRUZ H","MENDOZA","AREA DEL SOL","6","ALEJANDRO GOLDENTHAL"]
[null,"GOUEDGE (CP: 5603)","5603","GOUEDGE","MENDOZA","AREA DEL SOL","6","ALEJANDRO GOLDENTHAL"]
[null,"GRAL.GUTIERREZ (CP: 5511)","5511","GRAL.GUTIERREZ","MENDOZA","AREA DEL SOL","6","ALEJANDRO GOLDENTHAL"]
[null,"GUAYMALLEN (CP: 5519)","5519","GUAYMALLEN","MENDOZA","AREA DEL SOL","6","ALEJANDRO GOLDENTHAL"]
[null,"JAIME PRATS (CP: 5623)","5623","JAIME PRATS","MENDOZA","AREA DEL SOL","6","ALEJANDRO GOLDENTHAL"]
[null,"JOCOLI (CP: 5543)","5543","JOCOLI","MENDOZA","AREA DEL SOL","6","ALEJANDRO GOLDENTHAL"]
[null,"LA COLONIA (CP: 5570)","5570","LA COLONIA","MENDOZA","AREA DEL SOL","6","ALEJANDRO GOLDENTHAL"]
[null,"LA CONSULTA (CP: 5567)","5567","LA CONSULTA","MENDOZA","AREA DEL SOL","6","ALEJANDRO GOLDENTHAL"]
[null,"LA LIBERTAD (CP: 5579)","5579","LA LIBERTAD","MENDOZA","AREA DEL SOL","6","ALEJANDRO GOLDENTHAL"]
[null,"LA PAZ (CP: 5590)","5590","LA PAZ","MENDOZA","AREA DEL SOL","6","ALEJANDRO GOLDENTHAL"]
[null,"LAS CUEVAS (CP: 5557)","5557","LAS CUEVAS","MENDOZA","AREA DEL SOL","6","ALEJANDRO GOLDENTHAL"]
[null,"LAS HERAS (CP: 5539)","5539","LAS HERAS","MENDOZA","AREA DEL SOL","6","ALEJANDRO GOLDENTHAL"]
[null,"LAS PAREDES (CP: 5601)","5601","LAS PAREDES","MENDOZA","AREA DEL SOL","6","ALEJANDRO GOLDENTHAL"]
[null,"LAVALLE (CP: 5533)","5533","LAVALLE","MENDOZA","AREA DEL SOL","6","ALEJANDRO GOLDENTHAL"]
[null,"LOS CAMPAMENTOS (CP: 5577)","5577","LOS CAMPAMENTOS","MENDOZA","AREA DEL SOL","6","ALEJANDRO GOLDENTHAL"]
[null,"LOS CAVAOS (YAC.) (CP: 5611)","5611","LOS CAVAOS (YAC.)","MENDOZA","AREA DEL SOL","6","ALEJANDRO GOLDENTHAL"]
[null,"LUJAN DE CUYO (CP: 5507)","5507","LUJAN DE CUYO","MENDOZA","AREA DEL SOL","6","ALEJANDRO GOLDENTHAL"]
[null,"LUZURIAGA (CP: 5513)","5513","LUZURIAGA","MENDOZA","AREA DEL SOL","6","ALEJANDRO GOLDENTHAL"]
[null,"MALARGUE (YAC.) (CP: 5613)","5613","MALARGUE (YAC.)","MENDOZA","AREA DEL SOL","6","ALEJANDRO GOLDENTHAL"]
[null,"MEDRANO (CP: 5585)","5585","MEDRANO","MENDOZA","AREA DEL SOL","6","ALEJANDRO GOLDENTHAL"]
[null,"MONTE CASEROS (CP: 5571)","5571","MONTE CASEROS","MENDOZA","AREA DEL SOL","6","ALEJANDRO GOLDENTHAL"]
[null,"MONTE COMAN (CP: 5609)","5609","MONTE COMAN","MENDOZA","AREA DEL SOL","6","ALEJANDRO GOLDENTHAL"]
[null,"PANQUEUA (CP: 5539)","5539","PANQUEUA","MENDOZA","AREA DEL SOL","6","ALEJANDRO GOLDENTHAL"]
[null,"PARAJE EL MANZANO (CP: 5611)","5611","PARAJE EL MANZANO","MENDOZA","AREA DEL SOL","6","ALEJANDRO GOLDENTHAL"]
[null,"PHILLIPS (CP: 5579)","5579","PHILLIPS","MENDOZA","AREA DEL SOL","6","ALEJANDRO GOLDENTHAL"]
[null,"POLVAREDAS (CP: 5551)","5551","POLVAREDAS","MENDOZA","AREA DEL SOL","6","ALEJANDRO GOLDENTHAL"]
[null,"PUENTE DEL INCA (CP: 5555)","5555","PUENTE DEL INCA","MENDOZA","AREA DEL SOL","6","ALEJANDRO GOLDENTHAL"]
[null,"PUNTA DE VACA (CP: 5553)","5553","PUNTA DE VACA","MENDOZA","AREA DEL SOL","6","ALEJANDRO GOLDENTHAL"]
[null,"RIVADAVIA (CP: 5577)","5577","RIVADAVIA","MENDOZA","AREA DEL SOL","6","ALEJANDRO GOLDENTHAL"]
[null,"RODEO DE LA CRUZ (CP: 5525)","5525","RODEO DE LA CRUZ","MENDOZA","AREA DEL SOL","6","ALEJANDRO GOLDENTHAL"]
[null,"RUSSELL (CP: 5517)","5517","RUSSELL","MENDOZA","AREA DEL SOL","6","ALEJANDRO GOLDENTHAL"]
[null,"SALTO D.LAS ROSAS (CP: 5603)","5603","SALTO D.LAS ROSAS","MENDOZA","AREA DEL SOL","6","ALEJANDRO GOLDENTHAL"]
[null,"SAN MARTIN (CP: 5570)","5570","SAN MARTIN","MENDOZA","AREA DEL SOL","6","ALEJANDRO GOLDENTHAL"]
[null,"SAN RAFAEL (CP: 5600)","5600","SAN RAFAEL","MENDOZA","AREA DEL SOL","6","ALEJANDRO GOLDENTHAL"]
[null,"TRES ACEQUIAS (CP: 5585)","5585","TRES ACEQUIAS","MENDOZA","AREA DEL SOL","6","ALEJANDRO GOLDENTHAL"]
[null,"TRES PORTEÑAS (CP: 5589)","5589","TRES PORTEÑAS","MENDOZA","AREA DEL SOL","6","ALEJANDRO GOLDENTHAL"]
[null,"TUPUNGATO (YAC.) (CP: 5561)","5561","TUPUNGATO (YAC.)","MENDOZA","AREA DEL SOL","6","ALEJANDRO GOLDENTHAL"]
[null,"UGARTECHE (CP: 5509)","5509","UGARTECHE","MENDOZA","AREA DEL SOL","6","ALEJANDRO GOLDENTHAL"]
[null,"VALLE LAS LEÑAS (CP: 5612)","5612","VALLE LAS LEÑAS","MENDOZA","AREA DEL SOL","6","ALEJANDRO GOLDENTHAL"]
[null,"VILLA ATUEL (CP: 5622)","5622","VILLA ATUEL","MENDOZA","AREA DEL SOL","6","ALEJANDRO GOLDENTHAL"]
[null,"ZAPATA (CP: 5560)","5560","ZAPATA","MENDOZA","AREA DEL SOL","6","ALEJANDRO GOLDENTHAL"]
[null,"ALMIRANTE BROWN (CP: 3366)","3366","ALMIRANTE BROWN","MISIONES","NOROESTE",18,"OMAR PRESAS"]
[null,"AZARA (CP: 3351)","3351","AZARA","MISIONES","NOROESTE",18,"OMAR PRESAS"]
[null,"B.DE IRIGOYEN (CP: 3366)","3366","B.DE IRIGOYEN","MISIONES","NOROESTE",18,"OMAR PRESAS"]
[null,"BONPLAND NORTE -MISIONES (CP: 3318)","3318","BONPLAND NORTE -MISIONES","MISIONES","NOROESTE",18,"OMAR PRESAS"]
[null,"CAMPO GRANDE (CP: 3362)","3362","CAMPO GRANDE","MISIONES","NOROESTE",18,"OMAR PRESAS"]
[null,"CAPIOVISIÑO (CP: 3334)","3334","CAPIOVISIÑO","MISIONES","NOROESTE",18,"OMAR PRESAS"]
[null,"CERRO AZUL (CP: 3313)","3313","CERRO AZUL","MISIONES","NOROESTE",18,"OMAR PRESAS"]
[null,"COLONIA 25 DE MAYO (CP: 3363)","3363","COLONIA 25 DE MAYO","MISIONES","NOROESTE",18,"OMAR PRESAS"]
[null,"COLONIA WANDA (CP: 3376)","3376","COLONIA WANDA","MISIONES","NOROESTE",18,"OMAR PRESAS"]
[null,"CORPUS (CP: 3327)","3327","CORPUS","MISIONES","NOROESTE",18,"OMAR PRESAS"]
[null,"DOS DE MAYO (CP: 3364)","3364","DOS DE MAYO","MISIONES","NOROESTE",18,"OMAR PRESAS"]
[null,"ELDORADO (CP: 3380)","3380","ELDORADO","MISIONES","NOROESTE",18,"OMAR PRESAS"]
[null,"FRACRAN (CP: 3364)","3364","FRACRAN","MISIONES","NOROESTE",18,"OMAR PRESAS"]
[null,"GOB.ROCA (CP: 3324)","3324","GOB.ROCA","MISIONES","NOROESTE",18,"OMAR PRESAS"]
[null,"GUARANI (CP: 3361)","3361","GUARANI","MISIONES","NOROESTE",18,"OMAR PRESAS"]
[null,"JARDIN AMERICA (CP: 3328)","3328","JARDIN AMERICA","MISIONES","NOROESTE",18,"OMAR PRESAS"]
[null,"LEANDRO N. ALEM (CP: 3315)","3315","LEANDRO N. ALEM","MISIONES","NOROESTE",18,"OMAR PRESAS"]
[null,"MONTE CARLO (CP: 3384)","3384","MONTE CARLO","MISIONES","NOROESTE",18,"OMAR PRESAS"]
[null,"OBERA (CP: 3360)","3360","OBERA","MISIONES","NOROESTE",18,"OMAR PRESAS"]
[null,"POSADAS (CP: 3300)","3300","POSADAS","MISIONES","NOROESTE",18,"OMAR PRESAS"]
[null,"PUERTO ESPERANZA (CP: 3378)","3378","PUERTO ESPERANZA","MISIONES","NOROESTE",18,"OMAR PRESAS"]
[null,"PUERTO MINERAL (CP: 3332)","3332","PUERTO MINERAL","MISIONES","NOROESTE",18,"OMAR PRESAS"]
[null,"PUERTO PIRAY (CP: 3381)","3381","PUERTO PIRAY","MISIONES","NOROESTE",18,"OMAR PRESAS"]
[null,"SAN IGNACIO (CP: 3322)","3322","SAN IGNACIO","MISIONES","NOROESTE",18,"OMAR PRESAS"]
[null,"SAN JAVIER (CP: 3357)","3357","SAN JAVIER","MISIONES","NOROESTE",18,"OMAR PRESAS"]
[null,"SAN PEDRO (CP: 3364)","3364","SAN PEDRO","MISIONES","NOROESTE",18,"OMAR PRESAS"]
[null,"SAN VICENTE (CP: 3356)","3356","SAN VICENTE","MISIONES","NOROESTE",18,"OMAR PRESAS"]
[null,"SANTA RITA (CP: 3363)","3363","SANTA RITA","MISIONES","NOROESTE",18,"OMAR PRESAS"]
[null,"SANTO PIPO (CP: 3326)","3326","SANTO PIPO","MISIONES","NOROESTE",18,"OMAR PRESAS"]
[null,"AGUADA CHIVATO (CP: 8319)","8319","AGUADA CHIVATO","NEUQUEN","PATAGONIA","26","SOLEDAD BARTOLOMEI"]
[null,"AGUADA DEL CARRIZO (CP: 8313)","8313","AGUADA DEL CARRIZO","NEUQUEN","PATAGONIA","26","SOLEDAD BARTOLOMEI"]
[null,"ANDACOLLO (CP: 8353)","8353","ANDACOLLO","NEUQUEN","PATAGONIA","26","SOLEDAD BARTOLOMEI"]
[null,"AÑELO (CP: 8305)","8305","AÑELO","NEUQUEN","PATAGONIA","26","SOLEDAD BARTOLOMEI"]
[null,"ARROYITO CHALLACO (CP: 8313)","8313","ARROYITO CHALLACO","NEUQUEN","PATAGONIA","26","SOLEDAD BARTOLOMEI"]
[null,"BARDA NEGRA (CP: 8340)","8340","BARDA NEGRA","NEUQUEN","PATAGONIA","26","SOLEDAD BARTOLOMEI"]
[null,"BUTA CO (CP: 8353)","8353","BUTA CO","NEUQUEN","PATAGONIA","26","SOLEDAD BARTOLOMEI"]
[null,"BUTA RANQUIL - NEUQUEN (CP: 8358)","8358","BUTA RANQUIL - NEUQUEN","NEUQUEN","PATAGONIA","26","SOLEDAD BARTOLOMEI"]
[null,"CHALLACO (CP: 8318)","8318","CHALLACO","NEUQUEN","PATAGONIA","26","SOLEDAD BARTOLOMEI"]
[null,"CHIHUIDO DE LA SA. NEGRA (CP: 8319)","8319","CHIHUIDO DE LA SA. NEGRA","NEUQUEN","PATAGONIA","26","SOLEDAD BARTOLOMEI"]
[null,"CHOS MALAL (CP: 8353)","8353","CHOS MALAL","NEUQUEN","PATAGONIA","26","SOLEDAD BARTOLOMEI"]
[null,"CHURRIACA (CP: 8351)","8351","CHURRIACA","NEUQUEN","PATAGONIA","26","SOLEDAD BARTOLOMEI"]
[null,"CUTRAL-CO (CP: 8322)","8322","CUTRAL-CO","NEUQUEN","PATAGONIA","26","SOLEDAD BARTOLOMEI"]
[null,"EL CRUCE (CP: 8407)","8407","EL CRUCE","NEUQUEN","PATAGONIA","26","SOLEDAD BARTOLOMEI"]
[null,"EL PORTON - NQ (CP: 8358)","8358","EL PORTON - NQ","NEUQUEN","PATAGONIA","26","SOLEDAD BARTOLOMEI"]
[null,"EL SAUCE (CP: 8313)","8313","EL SAUCE","NEUQUEN","PATAGONIA","26","SOLEDAD BARTOLOMEI"]
[null,"HUALCUPEN (CP: 8349)","8349","HUALCUPEN","NEUQUEN","PATAGONIA","26","SOLEDAD BARTOLOMEI"]
[null,"HUANTRAICO (CP: 8358)","8358","HUANTRAICO","NEUQUEN","PATAGONIA","26","SOLEDAD BARTOLOMEI"]
[null,"LAS COLORADAS (CP: 8341)","8341","LAS COLORADAS","NEUQUEN","PATAGONIA","26","SOLEDAD BARTOLOMEI"]
[null,"LAS LAJAS (CP: 8347)","8347","LAS LAJAS","NEUQUEN","PATAGONIA","26","SOLEDAD BARTOLOMEI"]
[null,"LILEO (CP: 8353)","8353","LILEO","NEUQUEN","PATAGONIA","26","SOLEDAD BARTOLOMEI"]
[null,"LOMA DE LA YEGUA (CP: 8305)","8305","LOMA DE LA YEGUA","NEUQUEN","PATAGONIA","26","SOLEDAD BARTOLOMEI"]
[null,"NEUQUEN (CP: 8300)","8300","NEUQUEN","NEUQUEN","PATAGONIA","26","SOLEDAD BARTOLOMEI"]
[null,"NEUQUEN (CP: 8375)","8375","NEUQUEN","NEUQUEN","PATAGONIA","26","SOLEDAD BARTOLOMEI"]
[null,"PIEDRA DEL AGUILA (CP: 8315)","8315","PIEDRA DEL AGUILA","NEUQUEN","PATAGONIA","26","SOLEDAD BARTOLOMEI"]
[null,"PINCUN LEUFU (CP: 8313)","8313","PINCUN LEUFU","NEUQUEN","PATAGONIA","26","SOLEDAD BARTOLOMEI"]
[null,"PLAZA HUINCUL (CP: 8318)","8318","PLAZA HUINCUL","NEUQUEN","PATAGONIA","26","SOLEDAD BARTOLOMEI"]
[null,"PLOTTIER (CP: 8316)","8316","PLOTTIER","NEUQUEN","PATAGONIA","26","SOLEDAD BARTOLOMEI"]
[null,"RINCON D.L.SAUCES (CP: 8319)","8319","RINCON D.L.SAUCES","NEUQUEN","PATAGONIA","26","SOLEDAD BARTOLOMEI"]
[null,"SAN MARTIN DE LOS ANDES (CP: 8370)","8370","SAN MARTIN DE LOS ANDES","NEUQUEN","PATAGONIA","26","SOLEDAD BARTOLOMEI"]
[null,"SIERRA BARROSA (CP: 8305)","8305","SIERRA BARROSA","NEUQUEN","PATAGONIA","26","SOLEDAD BARTOLOMEI"]
[null,"SIERRA CHATA (CP: 8305)","8305","SIERRA CHATA","NEUQUEN","PATAGONIA","26","SOLEDAD BARTOLOMEI"]
[null,"TRAFUL (CP: 8403)","8403","TRAFUL","NEUQUEN","PATAGONIA","26","SOLEDAD BARTOLOMEI"]
[null,"TRES CHORROS (CP: 8354)","8354","TRES CHORROS","NEUQUEN","PATAGONIA","26","SOLEDAD BARTOLOMEI"]
[null,"VILLA L.ANGOSTURA (CP: 8407)","8407","VILLA L.ANGOSTURA","NEUQUEN","PATAGONIA","26","SOLEDAD BARTOLOMEI"]
[null,"VILLA PEHUENIA (CP: 8345)","8345","VILLA PEHUENIA","NEUQUEN","PATAGONIA","26","SOLEDAD BARTOLOMEI"]
[null,"9 DE JULIO (CP: 8534)","8534","9 DE JULIO","RIO_NEGRO","PATAGONIA","26","SOLEDAD BARTOLOMEI"]
[null,"AGUADA DE GUERRA (CP: 8424)","8424","AGUADA DE GUERRA","RIO_NEGRO","PATAGONIA","26","SOLEDAD BARTOLOMEI"]
[null,"ARROYO DE LA VENTANA (CP: 8521)","8521","ARROYO DE LA VENTANA","RIO_NEGRO","PATAGONIA","26","SOLEDAD BARTOLOMEI"]
[null,"ARROYO LOS BERROS (CP: 8521)","8521","ARROYO LOS BERROS","RIO_NEGRO","PATAGONIA","26","SOLEDAD BARTOLOMEI"]
[null,"CAMPO GRANDE (CP: 8305)","8305","CAMPO GRANDE","RIO_NEGRO","PATAGONIA","26","SOLEDAD BARTOLOMEI"]
[null,"CATRIEL (CP: 8307)","8307","CATRIEL","RIO_NEGRO","PATAGONIA","26","SOLEDAD BARTOLOMEI"]
[null,"CERRO DE LA POLICIA (CP: 8333)","8333","CERRO DE LA POLICIA","RIO_NEGRO","PATAGONIA","26","SOLEDAD BARTOLOMEI"]
[null,"CERVANTES (CP: 8326)","8326","CERVANTES","RIO_NEGRO","PATAGONIA","26","SOLEDAD BARTOLOMEI"]
[null,"CHIMPAY (CP: 8364)","8364","CHIMPAY","RIO_NEGRO","PATAGONIA","26","SOLEDAD BARTOLOMEI"]
[null,"CHOELE CHOEL (CP: 8360)","8360","CHOELE CHOEL","RIO_NEGRO","PATAGONIA","26","SOLEDAD BARTOLOMEI"]
[null,"CIPOLLETTI (CP: 8324)","8324","CIPOLLETTI","RIO_NEGRO","PATAGONIA","26","SOLEDAD BARTOLOMEI"]
[null,"CLEMENTE ONELLI (CP: 8416)","8416","CLEMENTE ONELLI","RIO_NEGRO","PATAGONIA","26","SOLEDAD BARTOLOMEI"]
[null,"CORONEL BELISLE (CP: 8364)","8364","CORONEL BELISLE","RIO_NEGRO","PATAGONIA","26","SOLEDAD BARTOLOMEI"]
[null,"DINA HUAPI (CP: 8402)","8402","DINA HUAPI","RIO_NEGRO","PATAGONIA","26","SOLEDAD BARTOLOMEI"]
[null,"EL CUY (CP: 8333)","8333","EL CUY","RIO_NEGRO","PATAGONIA","26","SOLEDAD BARTOLOMEI"]
[null,"EL MEDANITO (CP: 8307)","8307","EL MEDANITO","RIO_NEGRO","PATAGONIA","26","SOLEDAD BARTOLOMEI"]
[null,"GRAL.CONESA (CP: 8503)","8503","GRAL.CONESA","RIO_NEGRO","PATAGONIA","26","SOLEDAD BARTOLOMEI"]
[null,"GRAL.FERNANDEZ ORO (CP: 8324)","8324","GRAL.FERNANDEZ ORO","RIO_NEGRO","PATAGONIA","26","SOLEDAD BARTOLOMEI"]
[null,"GUARDIA MITRE (CP: 8505)","8505","GUARDIA MITRE","RIO_NEGRO","PATAGONIA","26","SOLEDAD BARTOLOMEI"]
[null,"ING.HUERGO (CP: 8334)","8334","ING.HUERGO","RIO_NEGRO","PATAGONIA","26","SOLEDAD BARTOLOMEI"]
[null,"KILOMETRO 54 (CP: 8305)","8305","KILOMETRO 54","RIO_NEGRO","PATAGONIA","26","SOLEDAD BARTOLOMEI"]
[null,"LA ESCONDIDA (CP: 8307)","8307","LA ESCONDIDA","RIO_NEGRO","PATAGONIA","26","SOLEDAD BARTOLOMEI"]
[null,"LAGUNA BLANCA (CP: 8417)","8417","LAGUNA BLANCA","RIO_NEGRO","PATAGONIA","26","SOLEDAD BARTOLOMEI"]
[null,"LAMARQUE (CP: 8363)","8363","LAMARQUE","RIO_NEGRO","PATAGONIA","26","SOLEDAD BARTOLOMEI"]
[null,"LOS MENUCOS (RIO NEGRO) (CP: 8424)","8424","LOS MENUCOS (RIO NEGRO)","RIO_NEGRO","PATAGONIA","26","SOLEDAD BARTOLOMEI"]
[null,"LUIS BELTRAN (CP: 8361)","8361","LUIS BELTRAN","RIO_NEGRO","PATAGONIA","26","SOLEDAD BARTOLOMEI"]
[null,"MENCUE (CP: 8417)","8417","MENCUE","RIO_NEGRO","PATAGONIA","26","SOLEDAD BARTOLOMEI"]
[null,"MINISTRO RAMOS MEXIA (CP: 8534)","8534","MINISTRO RAMOS MEXIA","RIO_NEGRO","PATAGONIA","26","SOLEDAD BARTOLOMEI"]
[null,"ÑIRIHUAU (CP: 8400)","8400","ÑIRIHUAU","RIO_NEGRO","PATAGONIA","26","SOLEDAD BARTOLOMEI"]
[null,"ÑORQUINCO (CP: 8415)","8415","ÑORQUINCO","RIO_NEGRO","PATAGONIA","26","SOLEDAD BARTOLOMEI"]
[null,"PASO FLORES (CP: 8403)","8403","PASO FLORES","RIO_NEGRO","PATAGONIA","26","SOLEDAD BARTOLOMEI"]
[null,"PASO LIMAY (CP: 8403)","8403","PASO LIMAY","RIO_NEGRO","PATAGONIA","26","SOLEDAD BARTOLOMEI"]
[null,"PICHIMAHUIDA (CP: 8138)","8138","PICHIMAHUIDA","RIO_NEGRO","PATAGONIA","26","SOLEDAD BARTOLOMEI"]
[null,"PIEDRA CLAVADA (CP: 8536)","8536","PIEDRA CLAVADA","RIO_NEGRO","PATAGONIA","26","SOLEDAD BARTOLOMEI"]
[null,"POMONA (CP: 8363)","8363","POMONA","RIO_NEGRO","PATAGONIA","26","SOLEDAD BARTOLOMEI"]
[null,"PTO SAN ANTONIO ESTE (CP: 8521)","8521","PTO SAN ANTONIO ESTE","RIO_NEGRO","PATAGONIA","26","SOLEDAD BARTOLOMEI"]
[null,"SALINA BAJO DEL GUALICHO (CP: 8520)","8520","SALINA BAJO DEL GUALICHO","RIO_NEGRO","PATAGONIA","26","SOLEDAD BARTOLOMEI"]
[null,"SAN ANTONIO OESTE (CP: 8520)","8520","SAN ANTONIO OESTE","RIO_NEGRO","PATAGONIA","26","SOLEDAD BARTOLOMEI"]
[null,"SIERRA GRANDE (CP: 8532)","8532","SIERRA GRANDE","RIO_NEGRO","PATAGONIA","26","SOLEDAD BARTOLOMEI"]
[null,"SIERRA PAILEMAN (CP: 8521)","8521","SIERRA PAILEMAN","RIO_NEGRO","PATAGONIA","26","SOLEDAD BARTOLOMEI"]
[null,"VILLA REGINA (CP: 8336)","8336","VILLA REGINA","RIO_NEGRO","PATAGONIA","26","SOLEDAD BARTOLOMEI"]
[null,"ZORRILLA,BENJAMIN (CP: 8360)","8360","ZORRILLA,BENJAMIN","RIO_NEGRO","PATAGONIA","26","SOLEDAD BARTOLOMEI"]
[null,"AGUAS BLANCAS (CP: 4531)","4531","AGUAS BLANCAS","SALTA","LOS VALLES","19","ALFREDO PLASTINE"]
[null,"ALTO DE LA SIERRA (CP: 4561)","4561","ALTO DE LA SIERRA","SALTA","LOS VALLES","19","ALFREDO PLASTINE"]
[null,"CACHI (CP: 4417)","4417","CACHI","SALTA","LOS VALLES","19","ALFREDO PLASTINE"]
[null,"CAFAYATE (CP: 4427)","4427","CAFAYATE","SALTA","LOS VALLES","19","ALFREDO PLASTINE"]
[null,"CAMPO DURAN (CP: 4566)","4566","CAMPO DURAN","SALTA","LOS VALLES","19","ALFREDO PLASTINE"]
[null,"CAMPO QUIJANO (CP: 4407)","4407","CAMPO QUIJANO","SALTA","LOS VALLES","19","ALFREDO PLASTINE"]
[null,"CAPITAN JUAN PAGE (CP: 4554)","4554","CAPITAN JUAN PAGE","SALTA","LOS VALLES","19","ALFREDO PLASTINE"]
[null,"CERRILL0S (CP: 4403)","4403","CERRILL0S","SALTA","LOS VALLES","19","ALFREDO PLASTINE"]
[null,"CHORROARIN (CP: 4446)","4446","CHORROARIN","SALTA","LOS VALLES","19","ALFREDO PLASTINE"]
[null,"CNEL.CORNEJO (CP: 4552)","4552","CNEL.CORNEJO","SALTA","LOS VALLES","19","ALFREDO PLASTINE"]
[null,"COPO QUILE (CP: 4193)","4193","COPO QUILE","SALTA","LOS VALLES","19","ALFREDO PLASTINE"]
[null,"CORONEL MOLDES (CP: 4421)","4421","CORONEL MOLDES","SALTA","LOS VALLES","19","ALFREDO PLASTINE"]
[null,"EL GALPON (CP: 4444)","4444","EL GALPON","SALTA","LOS VALLES","19","ALFREDO PLASTINE"]
[null,"EL QUEBRACHAL (CP: 4452)","4452","EL QUEBRACHAL","SALTA","LOS VALLES","19","ALFREDO PLASTINE"]
[null,"EL TABACAL (CP: 4533)","4533","EL TABACAL","SALTA","LOS VALLES","19","ALFREDO PLASTINE"]
[null,"EMBARCACION (CP: 4550)","4550","EMBARCACION","SALTA","LOS VALLES","19","ALFREDO PLASTINE"]
[null,"GRAL.ENR.MOSCONI (CP: 4562)","4562","GRAL.ENR.MOSCONI","SALTA","LOS VALLES","19","ALFREDO PLASTINE"]
[null,"HIPOLITO YRIGOYEN (CP: 4533)","4533","HIPOLITO YRIGOYEN","SALTA","LOS VALLES","19","ALFREDO PLASTINE"]
[null,"ISLA DE CAñAS (CP: 4531)","4531","ISLA DE CAñAS","SALTA","LOS VALLES","19","ALFREDO PLASTINE"]
[null,"JOA.V.GONZALEZ (CP: 4448)","4448","JOA.V.GONZALEZ","SALTA","LOS VALLES","19","ALFREDO PLASTINE"]
[null,"LA FLORIDA (CP: 4425)","4425","LA FLORIDA","SALTA","LOS VALLES","19","ALFREDO PLASTINE"]
[null,"LA MERCED (CP: 4421)","4421","LA MERCED","SALTA","LOS VALLES","19","ALFREDO PLASTINE"]
[null,"LA UNION (CP: 4535)","4535","LA UNION","SALTA","LOS VALLES","19","ALFREDO PLASTINE"]
[null,"LA VIÑA (CP: 4425)","4425","LA VIÑA","SALTA","LOS VALLES","19","ALFREDO PLASTINE"]
[null,"LAS LAJITAS (CP: 4449)","4449","LAS LAJITAS","SALTA","LOS VALLES","19","ALFREDO PLASTINE"]
[null,"LAS LAJITAS (CP: 4449)","4449","LAS LAJITAS","SALTA","LOS VALLES","19","ALFREDO PLASTINE"]
[null,"LUMBRERAS (CP: 4434)","4434","LUMBRERAS","SALTA","LOS VALLES","19","ALFREDO PLASTINE"]
[null,"MACAPILLO (CP: 4452)","4452","MACAPILLO","SALTA","LOS VALLES","19","ALFREDO PLASTINE"]
[null,"METAN VIEJO (CP: 4441)","4441","METAN VIEJO","SALTA","LOS VALLES","19","ALFREDO PLASTINE"]
[null,"MINA PINCALAYO (CP: 4411)","4411","MINA PINCALAYO","SALTA","LOS VALLES","19","ALFREDO PLASTINE"]
[null,"MORILLO (CP: 4554)","4554","MORILLO","SALTA","LOS VALLES","19","ALFREDO PLASTINE"]
[null,"NAZARENO (CP: 4651)","4651","NAZARENO","SALTA","LOS VALLES","19","ALFREDO PLASTINE"]
[null,"OLACAPATO (CP: 4413)","4413","OLACAPATO","SALTA","LOS VALLES","19","ALFREDO PLASTINE"]
[null,"PASCALLA (CP: 4651)","4651","PASCALLA","SALTA","LOS VALLES","19","ALFREDO PLASTINE"]
[null,"PIQUETE CABADO (CP: 4449)","4449","PIQUETE CABADO","SALTA","LOS VALLES","19","ALFREDO PLASTINE"]
[null,"PUENTE DE PLATA (CP: 4193)","4193","PUENTE DE PLATA","SALTA","LOS VALLES","19","ALFREDO PLASTINE"]
[null,"ROSARIO DE LA FRONTERA (CP: 4190)","4190","ROSARIO DE LA FRONTERA","SALTA","LOS VALLES","19","ALFREDO PLASTINE"]
[null,"ROSARIO DE LERMA (CP: 4405)","4405","ROSARIO DE LERMA","SALTA","LOS VALLES","19","ALFREDO PLASTINE"]
[null,"S.ROSA D LOS PASTOS GDES (CP: 4411)","4411","S.ROSA D LOS PASTOS GDES","SALTA","LOS VALLES","19","ALFREDO PLASTINE"]
[null,"SALAR DE POCITOS (CP: 4413)","4413","SALAR DE POCITOS","SALTA","LOS VALLES","19","ALFREDO PLASTINE"]
[null,"SAN AGUSTIN (CP: 4421)","4421","SAN AGUSTIN","SALTA","LOS VALLES","19","ALFREDO PLASTINE"]
[null,"SAN ANT.D.COBRES (CP: 4411)","4411","SAN ANT.D.COBRES","SALTA","LOS VALLES","19","ALFREDO PLASTINE"]
[null,"SAN LORENZO - SALTA - (CP: 4198)","4198","SAN LORENZO - SALTA -","SALTA","LOS VALLES","19","ALFREDO PLASTINE"]
[null,"SAN LORENZO (CP: 4193)","4193","SAN LORENZO","SALTA","LOS VALLES","19","ALFREDO PLASTINE"]
[null,"STA VICTORIA - S.MARTIN (CP: 4550)","4550","STA VICTORIA - S.MARTIN","SALTA","LOS VALLES","19","ALFREDO PLASTINE"]
[null,"STA VICTORIA-E-RIVADAVIA (CP: 4561)","4561","STA VICTORIA-E-RIVADAVIA","SALTA","LOS VALLES","19","ALFREDO PLASTINE"]
[null,"TARTAGAL (CP: 4560)","4560","TARTAGAL","SALTA","LOS VALLES","19","ALFREDO PLASTINE"]
[null,"TOLAR GRANDE (CP: 4413)","4413","TOLAR GRANDE","SALTA","LOS VALLES","19","ALFREDO PLASTINE"]
[null,"ALBARDON (CP: 5419)","5419","ALBARDON","SAN_JUAN","AREA DEL SOL","6","ALEJANDRO GOLDENTHAL"]
[null,"ALGARROBO VERDE (CP: 5443)","5443","ALGARROBO VERDE","SAN_JUAN","AREA DEL SOL","6","ALEJANDRO GOLDENTHAL"]
[null,"BARREAL (CP: 5405)","5405","BARREAL","SAN_JUAN","AREA DEL SOL","6","ALEJANDRO GOLDENTHAL"]
[null,"BARRIO RAWSON (CP: 5425)","5425","BARRIO RAWSON","SAN_JUAN","AREA DEL SOL","6","ALEJANDRO GOLDENTHAL"]
[null,"CAUCETE (CP: 5442)","5442","CAUCETE","SAN_JUAN","AREA DEL SOL","6","ALEJANDRO GOLDENTHAL"]
[null,"CHIMBAS (CP: 5413)","5413","CHIMBAS","SAN_JUAN","AREA DEL SOL","6","ALEJANDRO GOLDENTHAL"]
[null,"HUACO (CP: 5463)","5463","HUACO","SAN_JUAN","AREA DEL SOL","6","ALEJANDRO GOLDENTHAL"]
[null,"IGLESIA (CP: 5467)","5467","IGLESIA","SAN_JUAN","AREA DEL SOL","6","ALEJANDRO GOLDENTHAL"]
[null,"LAS CASUARINAS (CP: 5443)","5443","LAS CASUARINAS","SAN_JUAN","AREA DEL SOL","6","ALEJANDRO GOLDENTHAL"]
[null,"LAS FLORES (CP: 5467)","5467","LAS FLORES","SAN_JUAN","AREA DEL SOL","6","ALEJANDRO GOLDENTHAL"]
[null,"MARQUESADO (CP: 5407)","5407","MARQUESADO","SAN_JUAN","AREA DEL SOL","6","ALEJANDRO GOLDENTHAL"]
[null,"MEDANO DE ORO (CP: 5421)","5421","MEDANO DE ORO","SAN_JUAN","AREA DEL SOL","6","ALEJANDRO GOLDENTHAL"]
[null,"NUEVE DE JULIO (CP: 5417)","5417","NUEVE DE JULIO","SAN_JUAN","AREA DEL SOL","6","ALEJANDRO GOLDENTHAL"]
[null,"POCITO (CP: 5429)","5429","POCITO","SAN_JUAN","AREA DEL SOL","6","ALEJANDRO GOLDENTHAL"]
[null,"RIVADAVIA (CP: 5400)","5400","RIVADAVIA","SAN_JUAN","AREA DEL SOL","6","ALEJANDRO GOLDENTHAL"]
[null,"RODEO (CP: 5465)","5465","RODEO","SAN_JUAN","AREA DEL SOL","6","ALEJANDRO GOLDENTHAL"]
[null,"SAN JUAN (CP: 5402)","5402","SAN JUAN","SAN_JUAN","AREA DEL SOL","6","ALEJANDRO GOLDENTHAL"]
[null,"SAN MARTIN (CP: 5439)","5439","SAN MARTIN","SAN_JUAN","AREA DEL SOL","6","ALEJANDRO GOLDENTHAL"]
[null,"TRINIDAD (CP: 5400)","5400","TRINIDAD","SAN_JUAN","AREA DEL SOL","6","ALEJANDRO GOLDENTHAL"]
[null,"TUDCUM (CP: 5467)","5467","TUDCUM","SAN_JUAN","AREA DEL SOL","6","ALEJANDRO GOLDENTHAL"]
[null,"VALLECITO (CP: 5443)","5443","VALLECITO","SAN_JUAN","AREA DEL SOL","6","ALEJANDRO GOLDENTHAL"]
[null,"VILLA ABERASTAIN (CP: 5427)","5427","VILLA ABERASTAIN","SAN_JUAN","AREA DEL SOL","6","ALEJANDRO GOLDENTHAL"]
[null,"VILLA MEDIA AGUA (CP: 5401)","5401","VILLA MEDIA AGUA","SAN_JUAN","AREA DEL SOL","6","ALEJANDRO GOLDENTHAL"]
[null,"ARIZONA (CP: 6389)","6389","ARIZONA","SAN_LUIS","AREA DEL SOL","6","ALEJANDRO GOLDENTHAL"]
[null,"BEAZLEY (CP: 5720)","5720","BEAZLEY","SAN_LUIS","AREA DEL SOL","6","ALEJANDRO GOLDENTHAL"]
[null,"BEAZLEY (CP: 5721)","5721","BEAZLEY","SAN_LUIS","AREA DEL SOL","6","ALEJANDRO GOLDENTHAL"]
[null,"BUENA ESPERANZA (CP: 6277)","6277","BUENA ESPERANZA","SAN_LUIS","AREA DEL SOL","6","ALEJANDRO GOLDENTHAL"]
[null,"CANDELARIA (CP: 5713)","5713","CANDELARIA","SAN_LUIS","AREA DEL SOL","6","ALEJANDRO GOLDENTHAL"]
[null,"FRAGA (CP: 5736)","5736","FRAGA","SAN_LUIS","AREA DEL SOL","6","ALEJANDRO GOLDENTHAL"]
[null,"H.YRIGOYEN (NOGOLI) (CP: 5703)","5703","H.YRIGOYEN (NOGOLI)","SAN_LUIS","AREA DEL SOL","6","ALEJANDRO GOLDENTHAL"]
[null,"JUAN JORBA (CP: 5731)","5731","JUAN JORBA","SAN_LUIS","AREA DEL SOL","6","ALEJANDRO GOLDENTHAL"]
[null,"JUAN LLERENA (CP: 5735)","5735","JUAN LLERENA","SAN_LUIS","AREA DEL SOL","6","ALEJANDRO GOLDENTHAL"]
[null,"JUSTO DARACT (CP: 5738)","5738","JUSTO DARACT","SAN_LUIS","AREA DEL SOL","6","ALEJANDRO GOLDENTHAL"]
[null,"LA CUMBRE (CP: 5700)","5700","LA CUMBRE","SAN_LUIS","AREA DEL SOL","6","ALEJANDRO GOLDENTHAL"]
[null,"LA IRENE (CP: 5721)","5721","LA IRENE","SAN_LUIS","AREA DEL SOL","6","ALEJANDRO GOLDENTHAL"]
[null,"LA PUNILLA -GRAL.PEDERN. (CP: 5831)","5831","LA PUNILLA -GRAL.PEDERN.","SAN_LUIS","AREA DEL SOL","6","ALEJANDRO GOLDENTHAL"]
[null,"LIBERT.GRAL.SAN MARTIN (CP: 5755)","5755","LIBERT.GRAL.SAN MARTIN","SAN_LUIS","AREA DEL SOL","6","ALEJANDRO GOLDENTHAL"]
[null,"LOS PUQUIOS (CP: 5701)","5701","LOS PUQUIOS","SAN_LUIS","AREA DEL SOL","6","ALEJANDRO GOLDENTHAL"]
[null,"NAHUEL MAPA (CP: 6279)","6279","NAHUEL MAPA","SAN_LUIS","AREA DEL SOL","6","ALEJANDRO GOLDENTHAL"]
[null,"NASCHEL (CP: 5759)","5759","NASCHEL","SAN_LUIS","AREA DEL SOL","6","ALEJANDRO GOLDENTHAL"]
[null,"NUEVA GALIA (CP: 6216)","6216","NUEVA GALIA","SAN_LUIS","AREA DEL SOL","6","ALEJANDRO GOLDENTHAL"]
[null,"PARAJE LA CALERA -S.LUIS (CP: 5719)","5719","PARAJE LA CALERA -S.LUIS","SAN_LUIS","AREA DEL SOL","6","ALEJANDRO GOLDENTHAL"]
[null,"QUINES (CP: 5711)","5711","QUINES","SAN_LUIS","AREA DEL SOL","6","ALEJANDRO GOLDENTHAL"]
[null,"SALADILLO (CP: 5751)","5751","SALADILLO","SAN_LUIS","AREA DEL SOL","6","ALEJANDRO GOLDENTHAL"]
[null,"SAN ANTONIO (D.BELGRANO) (CP: 5719)","5719","SAN ANTONIO (D.BELGRANO)","SAN_LUIS","AREA DEL SOL","6","ALEJANDRO GOLDENTHAL"]
[null,"SAN FRANCISCO (CP: 5705)","5705","SAN FRANCISCO","SAN_LUIS","AREA DEL SOL","6","ALEJANDRO GOLDENTHAL"]
[null,"TILISARAO (CP: 5773)","5773","TILISARAO","SAN_LUIS","AREA DEL SOL","6","ALEJANDRO GOLDENTHAL"]
[null,"TILISARAO (CP: 5775)","5775","TILISARAO","SAN_LUIS","AREA DEL SOL","6","ALEJANDRO GOLDENTHAL"]
[null,"TRAPICHE (CP: 5701)","5701","TRAPICHE","SAN_LUIS","AREA DEL SOL","6","ALEJANDRO GOLDENTHAL"]
[null,"UNION (CP: 6216)","6216","UNION","SAN_LUIS","AREA DEL SOL","6","ALEJANDRO GOLDENTHAL"]
[null,"VILLA MERCEDES (CP: 5730)","5730","VILLA MERCEDES","SAN_LUIS","AREA DEL SOL","6","ALEJANDRO GOLDENTHAL"]
[null,"VILLA REYNOLDS (CP: 5733)","5733","VILLA REYNOLDS","SAN_LUIS","AREA DEL SOL","6","ALEJANDRO GOLDENTHAL"]
[null,"BAJO CARACOLES (CP: 9315)","9315","BAJO CARACOLES","SANTA_CRUZ","PATAGONIA","26","SOLEDAD BARTOLOMEI"]
[null,"CALAFATE (CP: 9405)","9405","CALAFATE","SANTA_CRUZ","PATAGONIA","26","SOLEDAD BARTOLOMEI"]
[null,"CAÑADON SECO (CP: 9013)","9013","CAÑADON SECO","SANTA_CRUZ","PATAGONIA","26","SOLEDAD BARTOLOMEI"]
[null,"CORPEN AIKEN (CP: 9303)","9303","CORPEN AIKEN","SANTA_CRUZ","PATAGONIA","26","SOLEDAD BARTOLOMEI"]
[null,"EL HUEMUL (CP: 9013)","9013","EL HUEMUL","SANTA_CRUZ","PATAGONIA","26","SOLEDAD BARTOLOMEI"]
[null,"FITZ ROY (CP: 9019)","9019","FITZ ROY","SANTA_CRUZ","PATAGONIA","26","SOLEDAD BARTOLOMEI"]
[null,"GOB. GREGORES (CP: 9311)","9311","GOB. GREGORES","SANTA_CRUZ","PATAGONIA","26","SOLEDAD BARTOLOMEI"]
[null,"JARAMILLO (CP: 9053)","9053","JARAMILLO","SANTA_CRUZ","PATAGONIA","26","SOLEDAD BARTOLOMEI"]
[null,"LAGO POSADAS (CP: 9315)","9315","LAGO POSADAS","SANTA_CRUZ","PATAGONIA","26","SOLEDAD BARTOLOMEI"]
[null,"LAS HERAS (CP: 9017)","9017","LAS HERAS","SANTA_CRUZ","PATAGONIA","26","SOLEDAD BARTOLOMEI"]
[null,"LOS PERALES (CP: 9017)","9017","LOS PERALES","SANTA_CRUZ","PATAGONIA","26","SOLEDAD BARTOLOMEI"]
[null,"PERITO MORENO (CP: 9040)","9040","PERITO MORENO","SANTA_CRUZ","PATAGONIA","26","SOLEDAD BARTOLOMEI"]
[null,"PIEDRA CLAVADA-L.HERAS (CP: 9017)","9017","PIEDRA CLAVADA-L.HERAS","SANTA_CRUZ","PATAGONIA","26","SOLEDAD BARTOLOMEI"]
[null,"PUERTO DESEADO (CP: 9050)","9050","PUERTO DESEADO","SANTA_CRUZ","PATAGONIA","26","SOLEDAD BARTOLOMEI"]
[null,"PUNTA BANDERAS (CP: 9405)","9405","PUNTA BANDERAS","SANTA_CRUZ","PATAGONIA","26","SOLEDAD BARTOLOMEI"]
[null,"PUNTA LOYOLA (CP: 9400)","9400","PUNTA LOYOLA","SANTA_CRUZ","PATAGONIA","26","SOLEDAD BARTOLOMEI"]
[null,"RIO TURBIO (CP: 9407)","9407","RIO TURBIO","SANTA_CRUZ","PATAGONIA","26","SOLEDAD BARTOLOMEI"]
[null,"RIO TURBIO (CP: 9409)","9409","RIO TURBIO","SANTA_CRUZ","PATAGONIA","26","SOLEDAD BARTOLOMEI"]
[null,"TAPI AIKE (CP: 9420)","9420","TAPI AIKE","SANTA_CRUZ","PATAGONIA","26","SOLEDAD BARTOLOMEI"]
[null,"TELLIER (CP: 9050)","9050","TELLIER","SANTA_CRUZ","PATAGONIA","26","SOLEDAD BARTOLOMEI"]
[null,"TRES LAGOS (CP: 9301)","9301","TRES LAGOS","SANTA_CRUZ","PATAGONIA","26","SOLEDAD BARTOLOMEI"]
[null,"AARON CASTELLANOS (CP: 6106)","6106","AARON CASTELLANOS","SANTA_FE","DE LOS RIOS","5","GABRIEL LO NOSTRO"]
[null,"ALBARELLOS (CP: 2101)","2101","ALBARELLOS","SANTA_FE","DE LOS RIOS","5","GABRIEL LO NOSTRO"]
[null,"ALCORTA (CP: 2117)","2117","ALCORTA","SANTA_FE","DE LOS RIOS","5","GABRIEL LO NOSTRO"]
[null,"ALEJANDRA (CP: 3051)","3051","ALEJANDRA","SANTA_FE","DE LOS RIOS","48","MIGUEL BERNERI"]
[null,"ALVAREZ (CP: 2107)","2107","ALVAREZ","SANTA_FE","DE LOS RIOS","5","GABRIEL LO NOSTRO"]
[null,"AMENABAR (CP: 6103)","6103","AMENABAR","SANTA_FE","DE LOS RIOS","5","GABRIEL LO NOSTRO"]
[null,"ANDINO - SAN LORENZO- (CP: 2214)","2214","ANDINO - SAN LORENZO-","SANTA_FE","DE LOS RIOS","5","GABRIEL LO NOSTRO"]
[null,"AREQUITO (CP: 2183)","2183","AREQUITO","SANTA_FE","DE LOS RIOS","5","GABRIEL LO NOSTRO"]
[null,"ARIJON (CP: 2242)","2242","ARIJON","SANTA_FE","DE LOS RIOS","48","MIGUEL BERNERI"]
[null,"AROCENA (CP: 2242)","2242","AROCENA","SANTA_FE","DE LOS RIOS","48","MIGUEL BERNERI"]
[null,"ARROYO CEIVAL (CP: 3575)","3575","ARROYO CEIVAL","SANTA_FE","DE LOS RIOS","48","MIGUEL BERNERI"]
[null,"ARRUFO (CP: 2344)","2344","ARRUFO","SANTA_FE","DE LOS RIOS","48","MIGUEL BERNERI"]
[null,"ARTEAGA (CP: 2187)","2187","ARTEAGA","SANTA_FE","DE LOS RIOS","5","GABRIEL LO NOSTRO"]
[null,"BARRANCAS (CP: 2246)","2246","BARRANCAS","SANTA_FE","DE LOS RIOS","48","MIGUEL BERNERI"]
[null,"BDO.IRIGOYEN (CP: 2248)","2248","BDO.IRIGOYEN","SANTA_FE","DE LOS RIOS","48","MIGUEL BERNERI"]
[null,"BIGAND (CP: 2177)","2177","BIGAND","SANTA_FE","DE LOS RIOS","5","GABRIEL LO NOSTRO"]
[null,"BOMBAL (CP: 2179)","2179","BOMBAL","SANTA_FE","DE LOS RIOS","5","GABRIEL LO NOSTRO"]
[null,"BUSTIZA - SANTA FE - (CP: 2501)","2501","BUSTIZA - SANTA FE -","SANTA_FE","DE LOS RIOS","48","MIGUEL BERNERI"]
[null,"CACIQUE AREAKAIKIN (CP: 3041)","3041","CACIQUE AREAKAIKIN","SANTA_FE","DE LOS RIOS","48","MIGUEL BERNERI"]
[null,"CAMPO ANDINO (CP: 3021)","3021","CAMPO ANDINO","SANTA_FE","DE LOS RIOS","48","MIGUEL BERNERI"]
[null,"CAMPO CRESPO (CP: 3001)","3001","CAMPO CRESPO","SANTA_FE","DE LOS RIOS","48","MIGUEL BERNERI"]
[null,"CANDIOTI (CP: 3018)","3018","CANDIOTI","SANTA_FE","DE LOS RIOS","48","MIGUEL BERNERI"]
[null,"CAÑADA DE GOMEZ (CP: 2500)","2500","CAÑADA DE GOMEZ","SANTA_FE","DE LOS RIOS","48","MIGUEL BERNERI"]
[null,"CAP.BERMUDEZ (CP: 2154)","2154","CAP.BERMUDEZ","SANTA_FE","DE LOS RIOS","5","GABRIEL LO NOSTRO"]
[null,"CARCARAÑA (CP: 2138)","2138","CARCARAÑA","SANTA_FE","DE LOS RIOS","5","GABRIEL LO NOSTRO"]
[null,"CARMEN (CP: 2618)","2618","CARMEN","SANTA_FE","DE LOS RIOS","5","GABRIEL LO NOSTRO"]
[null,"CARMEN DEL SAUCE (CP: 2109)","2109","CARMEN DEL SAUCE","SANTA_FE","DE LOS RIOS","5","GABRIEL LO NOSTRO"]
[null,"CASALEGNO (CP: 2248)","2248","CASALEGNO","SANTA_FE","DE LOS RIOS","48","MIGUEL BERNERI"]
[null,"CASAS (CP: 2148)","2148","CASAS","SANTA_FE","DE LOS RIOS","48","MIGUEL BERNERI"]
[null,"CAVOUR (CP: 3081)","3081","CAVOUR","SANTA_FE","DE LOS RIOS","48","MIGUEL BERNERI"]
[null,{"$f":"CONCATENATE(D2627,\" (CP: \",C2627,\")\")","v":"CAYASTA (CP: 3001)"},"3001","CAYASTA","SANTA_FE","DE LOS RIOS","48","MIGUEL BERNERI"]
[null,"CDA.DEL UCLE (CP: 2635)","2635","CDA.DEL UCLE","SANTA_FE","DE LOS RIOS","5","GABRIEL LO NOSTRO"]
[null,"CENTENO (CP: 2148)","2148","CENTENO","SANTA_FE","DE LOS RIOS","48","MIGUEL BERNERI"]
[null,"CHAÑAR LADEADO (CP: 2643)","2643","CHAÑAR LADEADO","SANTA_FE","DE LOS RIOS","5","GABRIEL LO NOSTRO"]
[null,"CHAPUY-STA.FE (CP: 2603)","2603","CHAPUY-STA.FE","SANTA_FE","DE LOS RIOS","5","GABRIEL LO NOSTRO"]
[null,"CHRISTOPHERSEN (CP: 6039)","6039","CHRISTOPHERSEN","SANTA_FE","DE LOS RIOS","5","GABRIEL LO NOSTRO"]
[null,"CLASON (CP: 2146)","2146","CLASON","SANTA_FE","DE LOS RIOS","48","MIGUEL BERNERI"]
[null,"CNEL.BOGADO (CP: 2103)","2103","CNEL.BOGADO","SANTA_FE","DE LOS RIOS","5","GABRIEL LO NOSTRO"]
[null,"COL.BELGRANO (CP: 2257)","2257","COL.BELGRANO","SANTA_FE","DE LOS RIOS","48","MIGUEL BERNERI"]
[null,"COLASTINE (CP: 3001)","3001","COLASTINE","SANTA_FE","DE LOS RIOS","48","MIGUEL BERNERI"]
[null,"COLON.ALDAO (CP: 2317)","2317","COLON.ALDAO","SANTA_FE","DE LOS RIOS","48","MIGUEL BERNERI"]
[null,"COLONIA LA PENCA (CP: 3045)","3045","COLONIA LA PENCA","SANTA_FE","DE LOS RIOS","48","MIGUEL BERNERI"]
[null,"COLONIA MARGARITA (CP: 2443)","2443","COLONIA MARGARITA","SANTA_FE","DE LOS RIOS","48","MIGUEL BERNERI"]
[null,"COLONIA MASCIAS (CP: 3048)","3048","COLONIA MASCIAS","SANTA_FE","DE LOS RIOS","48","MIGUEL BERNERI"]
[null,"COLONIA MASCIAS-STA.FE- (CP: 3101)","3101","COLONIA MASCIAS-STA.FE-","SANTA_FE","DE LOS RIOS","5","GABRIEL LO NOSTRO"]
[null,"COLONIA ROSA (CP: 2347)","2347","COLONIA ROSA","SANTA_FE","DE LOS RIOS","48","MIGUEL BERNERI"]
[null,"COLONIA SILVA (CP: 3043)","3043","COLONIA SILVA","SANTA_FE","DE LOS RIOS","48","MIGUEL BERNERI"]
[null,"CORONEL DOMINGUEZ (CP: 2105)","2105","CORONEL DOMINGUEZ","SANTA_FE","DE LOS RIOS","5","GABRIEL LO NOSTRO"]
[null,"CORONEL DOMINGUEZ (CP: 2115)","2115","CORONEL DOMINGUEZ","SANTA_FE","DE LOS RIOS","5","GABRIEL LO NOSTRO"]
[null,"CUATRO ESQUINAS (CP: 2639)","2639","CUATRO ESQUINAS","SANTA_FE","DE LOS RIOS","5","GABRIEL LO NOSTRO"]
[null,"CURUPAITY (CP: 2342)","2342","CURUPAITY","SANTA_FE","DE LOS RIOS","48","MIGUEL BERNERI"]
[null,"DIEGO DE ALVEAR (CP: 6036)","6036","DIEGO DE ALVEAR","SANTA_FE","DE LOS RIOS","5","GABRIEL LO NOSTRO"]
[null,"EL ARAZA (CP: 3563)","3563","EL ARAZA","SANTA_FE","DE LOS RIOS","48","MIGUEL BERNERI"]
[null,"EL NOCHERO (CP: 3061)","3061","EL NOCHERO","SANTA_FE","DE LOS RIOS","48","MIGUEL BERNERI"]
[null,"EL RABON -SANTA FE- (CP: 3592)","3592","EL RABON -SANTA FE-","SANTA_FE","DE LOS RIOS","48","MIGUEL BERNERI"]
[null,"ELISA (CP: 3029)","3029","ELISA","SANTA_FE","DE LOS RIOS","48","MIGUEL BERNERI"]
[null,"ELORTONDO (CP: 2732)","2732","ELORTONDO","SANTA_FE","DE LOS RIOS","5","GABRIEL LO NOSTRO"]
[null,"EMILIA (CP: 3036)","3036","EMILIA","SANTA_FE","DE LOS RIOS","48","MIGUEL BERNERI"]
[null,"EMPAL.V.CONSTIT. (CP: 2918)","2918","EMPAL.V.CONSTIT.","SANTA_FE","DE LOS RIOS","5","GABRIEL LO NOSTRO"]
[null,"ESPERANZA (CP: 3080)","3080","ESPERANZA","SANTA_FE","DE LOS RIOS","48","MIGUEL BERNERI"]
[null,"ESTRADA (CP: 2403)","2403","ESTRADA","SANTA_FE","DE LOS RIOS","48","MIGUEL BERNERI"]
[null,"FELICIA (CP: 3087)","3087","FELICIA","SANTA_FE","DE LOS RIOS","48","MIGUEL BERNERI"]
[null,"FIGHIERA (CP: 2126)","2126","FIGHIERA","SANTA_FE","DE LOS RIOS","5","GABRIEL LO NOSTRO"]
[null,"FLOR DE ORO (CP: 3575)","3575","FLOR DE ORO","SANTA_FE","DE LOS RIOS","48","MIGUEL BERNERI"]
[null,"FLORENCIA (CP: 3516)","3516","FLORENCIA","SANTA_FE","DE LOS RIOS","48","MIGUEL BERNERI"]
[null,"FRONTERA (CP: 2438)","2438","FRONTERA","SANTA_FE","DE LOS RIOS","48","MIGUEL BERNERI"]
[null,{"$f":"CONCATENATE(D2691,\" (CP: \",C2691,\")\")","v":"FUENTES (CP: 2123)"},"2123","FUENTES","SANTA_FE","DE LOS RIOS","48","MIGUEL BERNERI"]
[null,"GALVEZ (CP: 2252)","2252","GALVEZ","SANTA_FE","DE LOS RIOS","48","MIGUEL BERNERI"]
[null,"GATO COLORADO (CP: 3541)","3541","GATO COLORADO","SANTA_FE","DE LOS RIOS","48","MIGUEL BERNERI"]
[null,"GODEKEN (CP: 2639)","2639","GODEKEN","SANTA_FE","DE LOS RIOS","5","GABRIEL LO NOSTRO"]
[null,"GODEKEN (CP: 2640)","2640","GODEKEN","SANTA_FE","DE LOS RIOS","5","GABRIEL LO NOSTRO"]
[null,"GRAL. LAGOS (CP: 2126)","2126","GRAL. LAGOS","SANTA_FE","DE LOS RIOS","5","GABRIEL LO NOSTRO"]
[null,"GRAL.GELLY (CP: 2701)","2701","GRAL.GELLY","SANTA_FE","DE LOS RIOS","5","GABRIEL LO NOSTRO"]
[null,"GRUTLY (CP: 3083)","3083","GRUTLY","SANTA_FE","DE LOS RIOS","48","MIGUEL BERNERI"]
[null,"GUADALUPE NORTE (CP: 3574)","3574","GUADALUPE NORTE","SANTA_FE","DE LOS RIOS","48","MIGUEL BERNERI"]
[null,"HERSILIA (CP: 2352)","2352","HERSILIA","SANTA_FE","DE LOS RIOS","48","MIGUEL BERNERI"]
[null,"HUANQUEROS - STA. FE (CP: 3076)","3076","HUANQUEROS - STA. FE","SANTA_FE","DE LOS RIOS","48","MIGUEL BERNERI"]
[null,"HUMBOLDT (CP: 3081)","3081","HUMBOLDT","SANTA_FE","DE LOS RIOS","48","MIGUEL BERNERI"]
[null,"IBERLUCEA (CP: 2142)","2142","IBERLUCEA","SANTA_FE","DE LOS RIOS","5","GABRIEL LO NOSTRO"]
[null,"JOSEFINA (CP: 2403)","2403","JOSEFINA","SANTA_FE","DE LOS RIOS","48","MIGUEL BERNERI"]
[null,"JUAN B. MOLINA (CP: 2103)","2103","JUAN B. MOLINA","SANTA_FE","DE LOS RIOS","5","GABRIEL LO NOSTRO"]
[null,"LA CAROLINA (CP: 2105)","2105","LA CAROLINA","SANTA_FE","DE LOS RIOS","5","GABRIEL LO NOSTRO"]
[null,"LA CRIOLLA (CP: 3052)","3052","LA CRIOLLA","SANTA_FE","DE LOS RIOS","48","MIGUEL BERNERI"]
[null,"LA LOLA (CP: 3567)","3567","LA LOLA","SANTA_FE","DE LOS RIOS","48","MIGUEL BERNERI"]
[null,"LA PELADA (CP: 3027)","3027","LA PELADA","SANTA_FE","DE LOS RIOS","48","MIGUEL BERNERI"]
[null,"LA SARITA (CP: 3563)","3563","LA SARITA","SANTA_FE","DE LOS RIOS","48","MIGUEL BERNERI"]
[null,"LABORDEBOIS (CP: 2726)","2726","LABORDEBOIS","SANTA_FE","DE LOS RIOS","5","GABRIEL LO NOSTRO"]
[null,"LANTERI (CP: 3575)","3575","LANTERI","SANTA_FE","DE LOS RIOS","48","MIGUEL BERNERI"]
[null,"LARRECHEA (CP: 2241)","2241","LARRECHEA","SANTA_FE","DE LOS RIOS","48","MIGUEL BERNERI"]
[null,"LAS PAREJAS (CP: 2505)","2505","LAS PAREJAS","SANTA_FE","DE LOS RIOS","5","GABRIEL LO NOSTRO"]
[null,"LAS PETACAS (CP: 2441)","2441","LAS PETACAS","SANTA_FE","DE LOS RIOS","48","MIGUEL BERNERI"]
[null,"LAS ROSAS (CP: 2530)","2530","LAS ROSAS","SANTA_FE","DE LOS RIOS","5","GABRIEL LO NOSTRO"]
[null,"LAS TOSCAS (CP: 3586)","3586","LAS TOSCAS","SANTA_FE","DE LOS RIOS","48","MIGUEL BERNERI"]
[null,"LOGROÑO - STA. FE (CP: 3066)","3066","LOGROÑO - STA. FE","SANTA_FE","DE LOS RIOS","48","MIGUEL BERNERI"]
[null,"LOMA ALTA (CP: 2253)","2253","LOMA ALTA","SANTA_FE","DE LOS RIOS","48","MIGUEL BERNERI"]
[null,"LOS AMORES (CP: 3551)","3551","LOS AMORES","SANTA_FE","DE LOS RIOS","48","MIGUEL BERNERI"]
[null,"LOS CARDOS (CP: 2533)","2533","LOS CARDOS","SANTA_FE","DE LOS RIOS","5","GABRIEL LO NOSTRO"]
[null,"LOS MOLINOS (CP: 2181)","2181","LOS MOLINOS","SANTA_FE","DE LOS RIOS","5","GABRIEL LO NOSTRO"]
[null,"LOS NOGALES (CP: 2183)","2183","LOS NOGALES","SANTA_FE","DE LOS RIOS","5","GABRIEL LO NOSTRO"]
[null,"LUCIO V. LOPEZ (CP: 2142)","2142","LUCIO V. LOPEZ","SANTA_FE","DE LOS RIOS","5","GABRIEL LO NOSTRO"]
[null,"LUIS PALACIOS (CP: 2142)","2142","LUIS PALACIOS","SANTA_FE","DE LOS RIOS","5","GABRIEL LO NOSTRO"]
[null,"MALABRIGO (CP: 3572)","3572","MALABRIGO","SANTA_FE","DE LOS RIOS","48","MIGUEL BERNERI"]
[null,{"$f":"CONCATENATE(D2755,\" (CP: \",C2755,\")\")","v":"MANUCHO (CP: 3026)"},"3026","MANUCHO","SANTA_FE","DE LOS RIOS","48","MIGUEL BERNERI"]
[null,"MARIA EUGENIA (CP: 3072)","3072","MARIA EUGENIA","SANTA_FE","DE LOS RIOS","48","MIGUEL BERNERI"]
[null,"MARIA JUANA (CP: 2445)","2445","MARIA JUANA","SANTA_FE","DE LOS RIOS","48","MIGUEL BERNERI"]
[null,"MARIA TERESA (CP: 2609)","2609","MARIA TERESA","SANTA_FE","DE LOS RIOS","5","GABRIEL LO NOSTRO"]
[null,"MATILDE (CP: 3013)","3013","MATILDE","SANTA_FE","DE LOS RIOS","48","MIGUEL BERNERI"]
[null,"MAXIMO PAZ (CP: 2115)","2115","MAXIMO PAZ","SANTA_FE","DE LOS RIOS","5","GABRIEL LO NOSTRO"]
[null,"MELINCUE (CP: 2728)","2728","MELINCUE","SANTA_FE","DE LOS RIOS","5","GABRIEL LO NOSTRO"]
[null,"MONTE FLORES (CP: 2101)","2101","MONTE FLORES","SANTA_FE","DE LOS RIOS","5","GABRIEL LO NOSTRO"]
[null,"MONTE VERA (CP: 3014)","3014","MONTE VERA","SANTA_FE","DE LOS RIOS","48","MIGUEL BERNERI"]
[null,"N.BRUZONE (CP: 2085)","2085","N.BRUZONE","SANTA_FE","DE LOS RIOS","5","GABRIEL LO NOSTRO"]
[null,"NELSON (CP: 3032)","3032","NELSON","SANTA_FE","DE LOS RIOS","48","MIGUEL BERNERI"]
[null,"NUEVA ITALIA-SANTA FE (CP: 3074)","3074","NUEVA ITALIA-SANTA FE","SANTA_FE","DE LOS RIOS","48","MIGUEL BERNERI"]
[null,"NUEVO TORINO (CP: 3087)","3087","NUEVO TORINO","SANTA_FE","DE LOS RIOS","48","MIGUEL BERNERI"]
[null,"PALACIOS (CP: 2326)","2326","PALACIOS","SANTA_FE","DE LOS RIOS","48","MIGUEL BERNERI"]
[null,"PARAJE LOS JACINTOS (CP: 3051)","3051","PARAJE LOS JACINTOS","SANTA_FE","DE LOS RIOS","48","MIGUEL BERNERI"]
[null,"PEDRO GOMEZ CELLO (CP: 3054)","3054","PEDRO GOMEZ CELLO","SANTA_FE","DE LOS RIOS","48","MIGUEL BERNERI"]
[null,"PEREZ (CP: 2121)","2121","PEREZ","SANTA_FE","DE LOS RIOS","5","GABRIEL LO NOSTRO"]
[null,"PEYRANO (CP: 2113)","2113","PEYRANO","SANTA_FE","DE LOS RIOS","5","GABRIEL LO NOSTRO"]
[null,"PIAMONTE (CP: 2529)","2529","PIAMONTE","SANTA_FE","DE LOS RIOS","5","GABRIEL LO NOSTRO"]
[null,"PILAR (CP: 3085)","3085","PILAR","SANTA_FE","DE LOS RIOS","48","MIGUEL BERNERI"]
[null,"PIÑERO (CP: 2119)","2119","PIÑERO","SANTA_FE","DE LOS RIOS","5","GABRIEL LO NOSTRO"]
[null,"POZO BORRADO (CP: 3061)","3061","POZO BORRADO","SANTA_FE","DE LOS RIOS","48","MIGUEL BERNERI"]
[null,"PRESIDENTE ROCA (CP: 2301)","2301","PRESIDENTE ROCA","SANTA_FE","DE LOS RIOS","48","MIGUEL BERNERI"]
[null,"PROGRESO (CP: 3023)","3023","PROGRESO","SANTA_FE","DE LOS RIOS","48","MIGUEL BERNERI"]
[null,"PTO GENERAL SAN MARTIN (CP: 2202)","2202","PTO GENERAL SAN MARTIN","SANTA_FE","DE LOS RIOS","5","GABRIEL LO NOSTRO"]
[null,"PTO.GRAL.S.MARTIN (CP: 2202)","2202","PTO.GRAL.S.MARTIN","SANTA_FE","DE LOS RIOS","5","GABRIEL LO NOSTRO"]
[null,"PUEBLO ESHER (CP: 2216)","2216","PUEBLO ESHER","SANTA_FE","DE LOS RIOS","5","GABRIEL LO NOSTRO"]
[null,"PUEBLO ESTHER (CP: 2126)","2126","PUEBLO ESTHER","SANTA_FE","DE LOS RIOS","48","MIGUEL BERNERI"]
[null,"PUEBLO MUÑOZ (CP: 2119)","2119","PUEBLO MUÑOZ","SANTA_FE","DE LOS RIOS","5","GABRIEL LO NOSTRO"]
[null,"PUEBLO RAMONA (CP: 2301)","2301","PUEBLO RAMONA","SANTA_FE","DE LOS RIOS","48","MIGUEL BERNERI"]
[null,"PUERTO GABOTO (CP: 2208)","2208","PUERTO GABOTO","SANTA_FE","DE LOS RIOS","5","GABRIEL LO NOSTRO"]
[null,"PUJATO (CP: 2123)","2123","PUJATO","SANTA_FE","DE LOS RIOS","48","MIGUEL BERNERI"]
[null,"RAFAELA (CP: 2300)","2300","RAFAELA","SANTA_FE","DE LOS RIOS","48","MIGUEL BERNERI"]
[null,"RAMAYON (CP: 3042)","3042","RAMAYON","SANTA_FE","DE LOS RIOS","48","MIGUEL BERNERI"]
[null,"RECONQUISTA (CP: 3560)","3560","RECONQUISTA","SANTA_FE","DE LOS RIOS","48","MIGUEL BERNERI"]
[null,"RECREO (CP: 3018)","3018","RECREO","SANTA_FE","DE LOS RIOS","48","MIGUEL BERNERI"]
[null,"RICARDONE (CP: 2201)","2201","RICARDONE","SANTA_FE","DE LOS RIOS","5","GABRIEL LO NOSTRO"]
[null,"ROLDAN (CP: 2134)","2134","ROLDAN","SANTA_FE","DE LOS RIOS","5","GABRIEL LO NOSTRO"]
[null,"ROMANG (CP: 3555)","3555","ROMANG","SANTA_FE","DE LOS RIOS","48","MIGUEL BERNERI"]
[null,"ROSARIO (CP: 2000)","2000","ROSARIO","SANTA_FE","DE LOS RIOS","5","GABRIEL LO NOSTRO"]
[null,"RUEDA (CP: 2921)","2921","RUEDA","SANTA_FE","DE LOS RIOS","5","GABRIEL LO NOSTRO"]
[null,"RUFINO (CP: 6100)","6100","RUFINO","SANTA_FE","DE LOS RIOS","5","GABRIEL LO NOSTRO"]
[null,"RUNCIMAN (CP: 2611)","2611","RUNCIMAN","SANTA_FE","DE LOS RIOS","5","GABRIEL LO NOSTRO"]
[null,"S.C.B.VISTA (CP: 2258)","2258","S.C.B.VISTA","SANTA_FE","DE LOS RIOS","48","MIGUEL BERNERI"]
[null,"S.GUILLERMO (CP: 2347)","2347","S.GUILLERMO","SANTA_FE","DE LOS RIOS","48","MIGUEL BERNERI"]
[null,"S.J.ESQUINA (CP: 2185)","2185","S.J.ESQUINA","SANTA_FE","DE LOS RIOS","5","GABRIEL LO NOSTRO"]
[null,"S.JERONIMO NORTE (CP: 3011)","3011","S.JERONIMO NORTE","SANTA_FE","DE LOS RIOS","48","MIGUEL BERNERI"]
[null,"S.JERONIMO SUD (CP: 2136)","2136","S.JERONIMO SUD","SANTA_FE","DE LOS RIOS","5","GABRIEL LO NOSTRO"]
[null,"SA PEREYRA (CP: 2318)","2318","SA PEREYRA","SANTA_FE","DE LOS RIOS","48","MIGUEL BERNERI"]
[null,"SA PEREYRA (CP: 3011)","3011","SA PEREYRA","SANTA_FE","DE LOS RIOS","48","MIGUEL BERNERI"]
[null,"SALADERO CABRAL (CP: 3001)","3001","SALADERO CABRAL","SANTA_FE","DE LOS RIOS","48","MIGUEL BERNERI"]
[null,"SALTO GRANDE (CP: 2142)","2142","SALTO GRANDE","SANTA_FE","DE LOS RIOS","5","GABRIEL LO NOSTRO"]
[null,{"$f":"CONCATENATE(D2819,\" (CP: \",C2819,\")\")","v":"SAN AGUSTIN (CP: 3017)"},"3017","SAN AGUSTIN","SANTA_FE","DE LOS RIOS","48","MIGUEL BERNERI"]
[null,"SAN ANTONIO (CP: 2301)","2301","SAN ANTONIO","SANTA_FE","DE LOS RIOS","48","MIGUEL BERNERI"]
[null,"SAN CARLOS CENTRO (CP: 3013)","3013","SAN CARLOS CENTRO","SANTA_FE","DE LOS RIOS","48","MIGUEL BERNERI"]
[null,"SAN CARLOS NORTE (CP: 3009)","3009","SAN CARLOS NORTE","SANTA_FE","DE LOS RIOS","48","MIGUEL BERNERI"]
[null,"SAN CARLOS NORTE (CP: 3009)","3009","SAN CARLOS NORTE","SANTA_FE","DE LOS RIOS","48","MIGUEL BERNERI"]
[null,"SAN CARLOS SUD (CP: 3013)","3013","SAN CARLOS SUD","SANTA_FE","DE LOS RIOS","48","MIGUEL BERNERI"]
[null,"SAN CRISTOBAL (CP: 3070)","3070","SAN CRISTOBAL","SANTA_FE","DE LOS RIOS","48","MIGUEL BERNERI"]
[null,"SAN EDUARDO (CP: 2615)","2615","SAN EDUARDO","SANTA_FE","DE LOS RIOS","5","GABRIEL LO NOSTRO"]
[null,"SAN FABIAN (CP: 2242)","2242","SAN FABIAN","SANTA_FE","DE LOS RIOS","48","MIGUEL BERNERI"]
[null,"SAN GENARO (CP: 2146)","2146","SAN GENARO","SANTA_FE","DE LOS RIOS","48","MIGUEL BERNERI"]
[null,"SAN GENARO NORTE (CP: 2147)","2147","SAN GENARO NORTE","SANTA_FE","DE LOS RIOS","48","MIGUEL BERNERI"]
[null,"SAN GERONIMO DEL SAUCE (CP: 3009)","3009","SAN GERONIMO DEL SAUCE","SANTA_FE","DE LOS RIOS","48","MIGUEL BERNERI"]
[null,"SAN GREGORIO (CP: 2613)","2613","SAN GREGORIO","SANTA_FE","DE LOS RIOS","5","GABRIEL LO NOSTRO"]
[null,"SAN JAVIER (CP: 3005)","3005","SAN JAVIER","SANTA_FE","DE LOS RIOS","48","MIGUEL BERNERI"]
[null,"SAN JOAQUIN (CP: 3001)","3001","SAN JOAQUIN","SANTA_FE","DE LOS RIOS","48","MIGUEL BERNERI"]
[null,"SAN JOAQUIN (CP: 3005)","3005","SAN JOAQUIN","SANTA_FE","DE LOS RIOS","48","MIGUEL BERNERI"]
[null,"SAN JORGE (CP: 2451)","2451","SAN JORGE","SANTA_FE","DE LOS RIOS","48","MIGUEL BERNERI"]
[null,"SAN JOSE DEL RINCON (CP: 3001)","3001","SAN JOSE DEL RINCON","SANTA_FE","DE LOS RIOS","48","MIGUEL BERNERI"]
[null,"SAN JUSTO (CP: 3040)","3040","SAN JUSTO","SANTA_FE","DE LOS RIOS","48","MIGUEL BERNERI"]
[null,"SAN LORENZO (CP: 2200)","2200","SAN LORENZO","SANTA_FE","DE LOS RIOS","5","GABRIEL LO NOSTRO"]
[null,"SAN M.D.L.ESCOBAS (CP: 2449)","2449","SAN M.D.L.ESCOBAS","SANTA_FE","DE LOS RIOS","48","MIGUEL BERNERI"]
[null,"SAN MARIANO (CP: 3011)","3011","SAN MARIANO","SANTA_FE","DE LOS RIOS","48","MIGUEL BERNERI"]
[null,"SAN VICENTE (CP: 2447)","2447","SAN VICENTE","SANTA_FE","DE LOS RIOS","48","MIGUEL BERNERI"]
[null,"SANCTI SPIRITU (CP: 2617)","2617","SANCTI SPIRITU","SANTA_FE","DE LOS RIOS","5","GABRIEL LO NOSTRO"]
[null,"SANFORD (CP: 2161)","2161","SANFORD","SANTA_FE","DE LOS RIOS","5","GABRIEL LO NOSTRO"]
[null,"SANFORD (CP: 2173)","2173","SANFORD","SANTA_FE","DE LOS RIOS","5","GABRIEL LO NOSTRO"]
[null,"SANTA EMILIA (CP: 2725)","2725","SANTA EMILIA","SANTA_FE","DE LOS RIOS","5","GABRIEL LO NOSTRO"]
[null,"SANTA FE (CP: 3000)","3000","SANTA FE","SANTA_FE","DE LOS RIOS","48","MIGUEL BERNERI"]
[null,"SANTA ISABEL (CP: 2605)","2605","SANTA ISABEL","SANTA_FE","DE LOS RIOS","5","GABRIEL LO NOSTRO"]
[null,"SANTA MARGARITA (CP: 3061)","3061","SANTA MARGARITA","SANTA_FE","DE LOS RIOS","48","MIGUEL BERNERI"]
[null,"SANTA ROSA (CP: 3001)","3001","SANTA ROSA","SANTA_FE","DE LOS RIOS","48","MIGUEL BERNERI"]
[null,"SANTA ROSA DE CALCHINES (CP: 3001)","3001","SANTA ROSA DE CALCHINES","SANTA_FE","DE LOS RIOS","48","MIGUEL BERNERI"]
[null,"SANTA TERESA (CP: 2111)","2111","SANTA TERESA","SANTA_FE","DE LOS RIOS","5","GABRIEL LO NOSTRO"]
[null,"SANTO DOMINGO (CP: 3025)","3025","SANTO DOMINGO","SANTA_FE","DE LOS RIOS","48","MIGUEL BERNERI"]
[null,"SANTO TOME (CP: 3016)","3016","SANTO TOME","SANTA_FE","DE LOS RIOS","48","MIGUEL BERNERI"]
[null,"SANTURCE (CP: 3074)","3074","SANTURCE","SANTA_FE","DE LOS RIOS","48","MIGUEL BERNERI"]
[null,"SARGENTO CABRAL (CP: 2105)","2105","SARGENTO CABRAL","SANTA_FE","DE LOS RIOS","5","GABRIEL LO NOSTRO"]
[null,"SARMIENTO (CP: 3023)","3023","SARMIENTO","SANTA_FE","DE LOS RIOS","48","MIGUEL BERNERI"]
[null,"SARMIENTO (CP: 3024)","3024","SARMIENTO","SANTA_FE","DE LOS RIOS","48","MIGUEL BERNERI"]
[null,"SASTRE (CP: 2440)","2440","SASTRE","SANTA_FE","DE LOS RIOS","48","MIGUEL BERNERI"]
[null,"SAUCE VIEJO (CP: 3017)","3017","SAUCE VIEJO","SANTA_FE","DE LOS RIOS","48","MIGUEL BERNERI"]
[null,"SERODINO (CP: 2216)","2216","SERODINO","SANTA_FE","DE LOS RIOS","5","GABRIEL LO NOSTRO"]
[null,"SOLDINI (CP: 2107)","2107","SOLDINI","SANTA_FE","DE LOS RIOS","5","GABRIEL LO NOSTRO"]
[null,"SOLEDAD (CP: 3025)","3025","SOLEDAD","SANTA_FE","DE LOS RIOS","48","MIGUEL BERNERI"]
[null,"STA.CLARA DE SAGUIER (CP: 2405)","2405","STA.CLARA DE SAGUIER","SANTA_FE","DE LOS RIOS","48","MIGUEL BERNERI"]
[null,"SUARDI (CP: 2349)","2349","SUARDI","SANTA_FE","DE LOS RIOS","48","MIGUEL BERNERI"]
[null,"SUNCHALES (CP: 2322)","2322","SUNCHALES","SANTA_FE","DE LOS RIOS","48","MIGUEL BERNERI"]
[null,"SUSANA (CP: 2301)","2301","SUSANA","SANTA_FE","DE LOS RIOS","48","MIGUEL BERNERI"]
[null,"TACUARENDI (CP: 3587)","3587","TACUARENDI","SANTA_FE","DE LOS RIOS","48","MIGUEL BERNERI"]
[null,"TACURAL (CP: 2324)","2324","TACURAL","SANTA_FE","DE LOS RIOS","48","MIGUEL BERNERI"]
[null,"TEODELINA (CP: 6009)","6009","TEODELINA","SANTA_FE","DE LOS RIOS","5","GABRIEL LO NOSTRO"]
[null,"THEOBALD (CP: 2922)","2922","THEOBALD","SANTA_FE","DE LOS RIOS","5","GABRIEL LO NOSTRO"]
[null,"TIMBUES (CP: 2204)","2204","TIMBUES","SANTA_FE","DE LOS RIOS","5","GABRIEL LO NOSTRO"]
[null,"TOBA (CP: 3551)","3551","TOBA","SANTA_FE","DE LOS RIOS","48","MIGUEL BERNERI"]
[null,"TORTUGAS (CP: 2512)","2512","TORTUGAS","SANTA_FE","DE LOS RIOS","5","GABRIEL LO NOSTRO"]
[null,"TOSTADO (CP: 3060)","3060","TOSTADO","SANTA_FE","DE LOS RIOS","48","MIGUEL BERNERI"]
[null,"TOTORAS (CP: 2144)","2144","TOTORAS","SANTA_FE","DE LOS RIOS","48","MIGUEL BERNERI"]
[null,"TRAIL (CP: 2456)","2456","TRAIL","SANTA_FE","DE LOS RIOS","48","MIGUEL BERNERI"]
[null,"URANGA (CP: 2105)","2105","URANGA","SANTA_FE","DE LOS RIOS","5","GABRIEL LO NOSTRO"]
[null,"V.MUGUETA (CP: 2175)","2175","V.MUGUETA","SANTA_FE","DE LOS RIOS","5","GABRIEL LO NOSTRO"]
[null,"V.TRINIDAD (CP: 2345)","2345","V.TRINIDAD","SANTA_FE","DE LOS RIOS","48","MIGUEL BERNERI"]
[null,"VENADO TUERTO (CP: 2600)","2600","VENADO TUERTO","SANTA_FE","DE LOS RIOS","5","GABRIEL LO NOSTRO"]
[null,"VENADO TUERTO (CP: 2601)","2601","VENADO TUERTO","SANTA_FE","DE LOS RIOS","5","GABRIEL LO NOSTRO"]
[null,"VERA (CP: 3550)","3550","VERA","SANTA_FE","DE LOS RIOS","48","MIGUEL BERNERI"]
[null,{"$f":"CONCATENATE(D2883,\" (CP: \",C2883,\")\")","v":"VERA MUJICA (CP: 3040)"},"3040","VERA MUJICA","SANTA_FE","DE LOS RIOS","48","MIGUEL BERNERI"]
[null,"VERA Y PINTADO (CP: 3054)","3054","VERA Y PINTADO","SANTA_FE","DE LOS RIOS","48","MIGUEL BERNERI"]
[null,"VIDELA (CP: 3048)","3048","VIDELA","SANTA_FE","DE LOS RIOS","48","MIGUEL BERNERI"]
[null,"VILLA CAÑAS (CP: 2607)","2607","VILLA CAÑAS","SANTA_FE","DE LOS RIOS","5","GABRIEL LO NOSTRO"]
[null,"VILLA CONSTITUCION (CP: 2919)","2919","VILLA CONSTITUCION","SANTA_FE","DE LOS RIOS","5","GABRIEL LO NOSTRO"]
[null,"VILLA ELOISA (CP: 2503)","2503","VILLA ELOISA","SANTA_FE","DE LOS RIOS","5","GABRIEL LO NOSTRO"]
[null,"VILLA GOB.GALVEZ (CP: 2124)","2124","VILLA GOB.GALVEZ","SANTA_FE","DE LOS RIOS","5","GABRIEL LO NOSTRO"]
[null,"VILLA LA RIBERA (CP: 2204)","2204","VILLA LA RIBERA","SANTA_FE","DE LOS RIOS","5","GABRIEL LO NOSTRO"]
[null,"VILLA MINETTI (CP: 3061)","3061","VILLA MINETTI","SANTA_FE","DE LOS RIOS","48","MIGUEL BERNERI"]
[null,"VILLA OCAMPO (CP: 3580)","3580","VILLA OCAMPO","SANTA_FE","DE LOS RIOS","48","MIGUEL BERNERI"]
[null,"VILLA SARALEGUI (CP: 3046)","3046","VILLA SARALEGUI","SANTA_FE","DE LOS RIOS","48","MIGUEL BERNERI"]
[null,"VILLADA (CP: 2173)","2173","VILLADA","SANTA_FE","DE LOS RIOS","5","GABRIEL LO NOSTRO"]
[null,"WHEELWRIGHT (CP: 2722)","2722","WHEELWRIGHT","SANTA_FE","DE LOS RIOS","5","GABRIEL LO NOSTRO"]
[null,"ZAVALLA (CP: 2123)","2123","ZAVALLA","SANTA_FE","DE LOS RIOS","48","MIGUEL BERNERI"]
[null,"ZAVALLA (CP: 2125)","2125","ZAVALLA","SANTA_FE","DE LOS RIOS","48","MIGUEL BERNERI"]
[null,"ZENON PEREYRA (CP: 2409)","2409","ZENON PEREYRA","SANTA_FE","DE LOS RIOS","48","MIGUEL BERNERI"]
[null,"AÑATUYA (CP: 3760)","3760","AÑATUYA","SANTIAGO_DEL_ESTERO","LOS VALLES","19","ALFREDO PLASTINE"]
[null,"BANDERA (CP: 3064)","3064","BANDERA","SANTIAGO_DEL_ESTERO","LOS VALLES","19","ALFREDO PLASTINE"]
[null,"BELTRAN DEPTO ROBLES (CP: 4308)","4308","BELTRAN DEPTO ROBLES","SANTIAGO_DEL_ESTERO","LOS VALLES","19","ALFREDO PLASTINE"]
[null,"BELTRAN LORETO (CP: 4205)","4205","BELTRAN LORETO","SANTIAGO_DEL_ESTERO","LOS VALLES","19","ALFREDO PLASTINE"]
[null,"CAMPO GALLO (CP: 3747)","3747","CAMPO GALLO","SANTIAGO_DEL_ESTERO","LOS VALLES","19","ALFREDO PLASTINE"]
[null,"CLODOMIRA (CP: 4338)","4338","CLODOMIRA","SANTIAGO_DEL_ESTERO","LOS VALLES","19","ALFREDO PLASTINE"]
[null,"COLONIA ALPINA (CP: 2341)","2341","COLONIA ALPINA","SANTIAGO_DEL_ESTERO","LOS VALLES","19","ALFREDO PLASTINE"]
[null,"COLONIA DORA (CP: 4332)","4332","COLONIA DORA","SANTIAGO_DEL_ESTERO","LOS VALLES","19","ALFREDO PLASTINE"]
[null,"COLONIA EL SIMBOLAR (CP: 4354)","4354","COLONIA EL SIMBOLAR","SANTIAGO_DEL_ESTERO","LOS VALLES","19","ALFREDO PLASTINE"]
[null,"CORONEL RICO (CP: 3712)","3712","CORONEL RICO","SANTIAGO_DEL_ESTERO","LOS VALLES","19","ALFREDO PLASTINE"]
[null,"CUATRO BOCAS (CP: 3061)","3061","CUATRO BOCAS","SANTIAGO_DEL_ESTERO","LOS VALLES","19","ALFREDO PLASTINE"]
[null,"EL BOBADAL- SGO.DEL EST. (CP: 4187)","4187","EL BOBADAL- SGO.DEL EST.","SANTIAGO_DEL_ESTERO","LOS VALLES","19","ALFREDO PLASTINE"]
[null,"EL COLORADO (CP: 3741)","3741","EL COLORADO","SANTIAGO_DEL_ESTERO","LOS VALLES","19","ALFREDO PLASTINE"]
[null,"EL CUADRADO (CP: 3765)","3765","EL CUADRADO","SANTIAGO_DEL_ESTERO","LOS VALLES","19","ALFREDO PLASTINE"]
[null,"EL PALOMAR -DPTO.GIMEN. (CP: 4186)","4186","EL PALOMAR -DPTO.GIMEN.","SANTIAGO_DEL_ESTERO","LOS VALLES","19","ALFREDO PLASTINE"]
[null,"EL PUESTITO (CP: 4238)","4238","EL PUESTITO","SANTIAGO_DEL_ESTERO","LOS VALLES","19","ALFREDO PLASTINE"]
[null,"EL SIMBOLAR (CP: 4238)","4238","EL SIMBOLAR","SANTIAGO_DEL_ESTERO","LOS VALLES","19","ALFREDO PLASTINE"]
[null,"FERNANDEZ (CP: 4322)","4322","FERNANDEZ","SANTIAGO_DEL_ESTERO","LOS VALLES","19","ALFREDO PLASTINE"]
[null,"FORRES (CP: 4312)","4312","FORRES","SANTIAGO_DEL_ESTERO","LOS VALLES","19","ALFREDO PLASTINE"]
[null,"FRIAS (CP: 4230)","4230","FRIAS","SANTIAGO_DEL_ESTERO","LOS VALLES","19","ALFREDO PLASTINE"]
[null,"GARZA (CP: 4324)","4324","GARZA","SANTIAGO_DEL_ESTERO","LOS VALLES","19","ALFREDO PLASTINE"]
[null,"GUARDIA ESCOLTA (CP: 3062)","3062","GUARDIA ESCOLTA","SANTIAGO_DEL_ESTERO","LOS VALLES","19","ALFREDO PLASTINE"]
[null,"HERRRERA (CP: 4328)","4328","HERRRERA","SANTIAGO_DEL_ESTERO","LOS VALLES","19","ALFREDO PLASTINE"]
[null,"LA BANDA (CP: 4300)","4300","LA BANDA","SANTIAGO_DEL_ESTERO","LOS VALLES","19","ALFREDO PLASTINE"]
[null,"LA CAÑADA (CP: 4354)","4354","LA CAÑADA","SANTIAGO_DEL_ESTERO","LOS VALLES","19","ALFREDO PLASTINE"]
[null,"LA INVERNADA (CP: 4353)","4353","LA INVERNADA","SANTIAGO_DEL_ESTERO","LOS VALLES","19","ALFREDO PLASTINE"]
[null,"LA PALOMA (CP: 3736)","3736","LA PALOMA","SANTIAGO_DEL_ESTERO","LOS VALLES","19","ALFREDO PLASTINE"]
[null,"LAVALLE (CP: 4234)","4234","LAVALLE","SANTIAGO_DEL_ESTERO","LOS VALLES","19","ALFREDO PLASTINE"]
[null,"LORETO (CP: 4208)","4208","LORETO","SANTIAGO_DEL_ESTERO","LOS VALLES","19","ALFREDO PLASTINE"]
[null,"LOS CERRILLOS -CHOYA (CP: 4233)","4233","LOS CERRILLOS -CHOYA","SANTIAGO_DEL_ESTERO","LOS VALLES","19","ALFREDO PLASTINE"]
[null,"LOS JURIES (CP: 3763)","3763","LOS JURIES","SANTIAGO_DEL_ESTERO","LOS VALLES","19","ALFREDO PLASTINE"]
[null,"LOS JURIES (CP: 3773)","3773","LOS JURIES","SANTIAGO_DEL_ESTERO","LOS VALLES","19","ALFREDO PLASTINE"]
[null,"LOS TELARES (CP: 4321)","4321","LOS TELARES","SANTIAGO_DEL_ESTERO","LOS VALLES","19","ALFREDO PLASTINE"]
[null,"MAL PASO ICAÑO (CP: 4334)","4334","MAL PASO ICAÑO","SANTIAGO_DEL_ESTERO","LOS VALLES","19","ALFREDO PLASTINE"]
[null,"MAL PASO SALAVINA (CP: 4319)","4319","MAL PASO SALAVINA","SANTIAGO_DEL_ESTERO","LOS VALLES","19","ALFREDO PLASTINE"]
[null,"MALBRAN (CP: 2354)","2354","MALBRAN","SANTIAGO_DEL_ESTERO","LOS VALLES","19","ALFREDO PLASTINE"]
[null,"MONTE QUEMADO (CP: 3714)","3714","MONTE QUEMADO","SANTIAGO_DEL_ESTERO","LOS VALLES","19","ALFREDO PLASTINE"]
[null,"NUEVA ESPERANZA COPO (CP: 3714)","3714","NUEVA ESPERANZA COPO","SANTIAGO_DEL_ESTERO","LOS VALLES","19","ALFREDO PLASTINE"]
[null,"NUEVA ESPERANZA PELLEGRI (CP: 4197)","4197","NUEVA ESPERANZA PELLEGRI","SANTIAGO_DEL_ESTERO","LOS VALLES","19","ALFREDO PLASTINE"]
[null,"NUEVA FRANCIA -SILIPICA (CP: 4206)","4206","NUEVA FRANCIA -SILIPICA","SANTIAGO_DEL_ESTERO","LOS VALLES","19","ALFREDO PLASTINE"]
[null,"OJO DE AGUA (CP: 5250)","5250","OJO DE AGUA","SANTIAGO_DEL_ESTERO","LOS VALLES","19","ALFREDO PLASTINE"]
[null,"OTUMPA (CP: 3741)","3741","OTUMPA","SANTIAGO_DEL_ESTERO","LOS VALLES","19","ALFREDO PLASTINE"]
[null,"PAMPA DE LOS GUANACOS (CP: 3712)","3712","PAMPA DE LOS GUANACOS","SANTIAGO_DEL_ESTERO","LOS VALLES","19","ALFREDO PLASTINE"]
[null,"PASO DE OSCARES (CP: 5257)","5257","PASO DE OSCARES","SANTIAGO_DEL_ESTERO","LOS VALLES","19","ALFREDO PLASTINE"]
[null,"PINTO (CP: 2356)","2356","PINTO","SANTIAGO_DEL_ESTERO","LOS VALLES","19","ALFREDO PLASTINE"]
[null,"POZO DEL TOBA (CP: 3741)","3741","POZO DEL TOBA","SANTIAGO_DEL_ESTERO","LOS VALLES","19","ALFREDO PLASTINE"]
[null,"POZO DULCE (CP: 3062)","3062","POZO DULCE","SANTIAGO_DEL_ESTERO","LOS VALLES","19","ALFREDO PLASTINE"]
[null,"POZO HONDO (CP: 4184)","4184","POZO HONDO","SANTIAGO_DEL_ESTERO","LOS VALLES","19","ALFREDO PLASTINE"]
[null,{"$f":"CONCATENATE(D2947,\" (CP: \",C2947,\")\")","v":"QUIMILI (CP: 3740)"},"3740","QUIMILI","SANTIAGO_DEL_ESTERO","LOS VALLES","19","ALFREDO PLASTINE"]
[null,"REAL SAYANA (CP: 4334)","4334","REAL SAYANA","SANTIAGO_DEL_ESTERO","LOS VALLES","19","ALFREDO PLASTINE"]
[null,"RIO SALADILLO (CP: 5250)","5250","RIO SALADILLO","SANTIAGO_DEL_ESTERO","LOS VALLES","19","ALFREDO PLASTINE"]
[null,"ROVERSI (CP: 3736)","3736","ROVERSI","SANTIAGO_DEL_ESTERO","LOS VALLES","19","ALFREDO PLASTINE"]
[null,"S.DEL ESTERO (CP: 4200)","4200","S.DEL ESTERO","SANTIAGO_DEL_ESTERO","LOS VALLES","19","ALFREDO PLASTINE"]
[null,"SACHAYOJ-SGO.DEL ESTERO (CP: 3712)","3712","SACHAYOJ-SGO.DEL ESTERO","SANTIAGO_DEL_ESTERO","LOS VALLES","19","ALFREDO PLASTINE"]
[null,"SAN MARCOS (CP: 4324)","4324","SAN MARCOS","SANTIAGO_DEL_ESTERO","LOS VALLES","19","ALFREDO PLASTINE"]
[null,"SAN MARCOS-MAL PASO (CP: 4200)","4200","SAN MARCOS-MAL PASO","SANTIAGO_DEL_ESTERO","LOS VALLES","19","ALFREDO PLASTINE"]
[null,"SANTA CATALINA (CP: 4203)","4203","SANTA CATALINA","SANTIAGO_DEL_ESTERO","LOS VALLES","19","ALFREDO PLASTINE"]
[null,"SELVA (CP: 2354)","2354","SELVA","SANTIAGO_DEL_ESTERO","LOS VALLES","19","ALFREDO PLASTINE"]
[null,"SUMAMPA (CP: 5253)","5253","SUMAMPA","SANTIAGO_DEL_ESTERO","LOS VALLES","19","ALFREDO PLASTINE"]
[null,"SUNCHO CORRAL (CP: 4350)","4350","SUNCHO CORRAL","SANTIAGO_DEL_ESTERO","LOS VALLES","19","ALFREDO PLASTINE"]
[null,"TABOADA (CP: 4324)","4324","TABOADA","SANTIAGO_DEL_ESTERO","LOS VALLES","19","ALFREDO PLASTINE"]
[null,"TERMAS DE RIO HONDO (CP: 4220)","4220","TERMAS DE RIO HONDO","SANTIAGO_DEL_ESTERO","LOS VALLES","19","ALFREDO PLASTINE"]
[null,"TINTINA (CP: 3743)","3743","TINTINA","SANTIAGO_DEL_ESTERO","LOS VALLES","19","ALFREDO PLASTINE"]
[null,"TUSCA POZO (CP: 4322)","4322","TUSCA POZO","SANTIAGO_DEL_ESTERO","LOS VALLES","19","ALFREDO PLASTINE"]
[null,"YUCHAN (CP: 4351)","4351","YUCHAN","SANTIAGO_DEL_ESTERO","LOS VALLES","19","ALFREDO PLASTINE"]
[null,"ASERRADEROS -USHUAIA- (CP: 9410)","9410","ASERRADEROS -USHUAIA-","TIERRA_DEL_FUEGO","PATAGONIA","26","SOLEDAD BARTOLOMEI"]
[null,"HOSTERIA KAIKEN (CP: 9420)","9420","HOSTERIA KAIKEN","TIERRA_DEL_FUEGO","PATAGONIA","26","SOLEDAD BARTOLOMEI"]
[null,"RANCHO HAMBRE (CP: 9410)","9410","RANCHO HAMBRE","TIERRA_DEL_FUEGO","PATAGONIA","26","SOLEDAD BARTOLOMEI"]
[null,"RIO GRANDE (CP: 9420)","9420","RIO GRANDE","TIERRA_DEL_FUEGO","PATAGONIA","26","SOLEDAD BARTOLOMEI"]
[null,"SAN SEBASTIAN (CP: 9420)","9420","SAN SEBASTIAN","TIERRA_DEL_FUEGO","PATAGONIA","26","SOLEDAD BARTOLOMEI"]
[null,"TOLHUIN-TIERRA DEL FUEGO (CP: 9420)","9420","TOLHUIN-TIERRA DEL FUEGO","TIERRA_DEL_FUEGO","PATAGONIA","26","SOLEDAD BARTOLOMEI"]
[null,"USHUAIA (CP: 9410)","9410","USHUAIA","TIERRA_DEL_FUEGO","PATAGONIA","26","SOLEDAD BARTOLOMEI"]
[null,"USHUAIA PARQUE (CP: 9410)","9410","USHUAIA PARQUE","TIERRA_DEL_FUEGO","PATAGONIA","26","SOLEDAD BARTOLOMEI"]
[null,"YAC.ZONA BRONZOVICH (CP: 9410)","9410","YAC.ZONA BRONZOVICH","TIERRA_DEL_FUEGO","PATAGONIA","26","SOLEDAD BARTOLOMEI"]
[null,"ACHERAL (CP: 4134)","4134","ACHERAL","TUCUMAN","LOS VALLES","19","ALFREDO PLASTINE"]
[null,"AGUA DULCE (CP: 4115)","4115","AGUA DULCE","TUCUMAN","LOS VALLES","19","ALFREDO PLASTINE"]
[null,"AGUILARES (CP: 4152)","4152","AGUILARES","TUCUMAN","LOS VALLES","19","ALFREDO PLASTINE"]
[null,"ALDERETES (CP: 4178)","4178","ALDERETES","TUCUMAN","LOS VALLES","19","ALFREDO PLASTINE"]
[null,"ALPACHIRI (CP: 4149)","4149","ALPACHIRI","TUCUMAN","LOS VALLES","19","ALFREDO PLASTINE"]
[null,"AMAICHE DEL VALLE (CP: 4137)","4137","AMAICHE DEL VALLE","TUCUMAN","LOS VALLES","19","ALFREDO PLASTINE"]
[null,"ARAOZ (CP: 4178)","4178","ARAOZ","TUCUMAN","LOS VALLES","19","ALFREDO PLASTINE"]
[null,"BANDA D.RIO SALI (CP: 4109)","4109","BANDA D.RIO SALI","TUCUMAN","LOS VALLES","19","ALFREDO PLASTINE"]
[null,"BELLA VISTA (CP: 4168)","4168","BELLA VISTA","TUCUMAN","LOS VALLES","19","ALFREDO PLASTINE"]
[null,"BENJAMIN ARAOZ (CP: 4119)","4119","BENJAMIN ARAOZ","TUCUMAN","LOS VALLES","19","ALFREDO PLASTINE"]
[null,"BENJAMIN PAZ (CP: 4122)","4122","BENJAMIN PAZ","TUCUMAN","LOS VALLES","19","ALFREDO PLASTINE"]
[null,"BURRUYACU (CP: 4119)","4119","BURRUYACU","TUCUMAN","LOS VALLES","19","ALFREDO PLASTINE"]
[null,"CEVIL POZO (CP: 4178)","4178","CEVIL POZO","TUCUMAN","LOS VALLES","19","ALFREDO PLASTINE"]
[null,"CEVIL REDONDO (CP: 4105)","4105","CEVIL REDONDO","TUCUMAN","LOS VALLES","19","ALFREDO PLASTINE"]
[null,"COLOMBRES (CP: 4189)","4189","COLOMBRES","TUCUMAN","LOS VALLES","19","ALFREDO PLASTINE"]
[null,"CONCEPCION (CP: 4146)","4146","CONCEPCION","TUCUMAN","LOS VALLES","19","ALFREDO PLASTINE"]
[null,"EL COLMENAL (CP: 4101)","4101","EL COLMENAL","TUCUMAN","LOS VALLES","19","ALFREDO PLASTINE"]
[null,"FAMAILLA (CP: 4132)","4132","FAMAILLA","TUCUMAN","LOS VALLES","19","ALFREDO PLASTINE"]
[null,"GOB.GARMENDIA (CP: 4187)","4187","GOB.GARMENDIA","TUCUMAN","LOS VALLES","19","ALFREDO PLASTINE"]
[null,"INGENIO SANTA LUCIA (CP: 4135)","4135","INGENIO SANTA LUCIA","TUCUMAN","LOS VALLES","19","ALFREDO PLASTINE"]
[null,"JUAN BAUTISTA ALBERDI (CP: 4158)","4158","JUAN BAUTISTA ALBERDI","TUCUMAN","LOS VALLES","19","ALFREDO PLASTINE"]
[null,"LA COCHA (CP: 4162)","4162","LA COCHA","TUCUMAN","LOS VALLES","19","ALFREDO PLASTINE"]
[null,"LA RAMADA DE ABAJO (CP: 4119)","4119","LA RAMADA DE ABAJO","TUCUMAN","LOS VALLES","19","ALFREDO PLASTINE"]
[null,"LAMADRID (CP: 4176)","4176","LAMADRID","TUCUMAN","LOS VALLES","19","ALFREDO PLASTINE"]
[null,"LAS CEJAS (CP: 4186)","4186","LAS CEJAS","TUCUMAN","LOS VALLES","19","ALFREDO PLASTINE"]
[null,"LAS TALITAS (CP: 4101)","4101","LAS TALITAS","TUCUMAN","LOS VALLES","19","ALFREDO PLASTINE"]
[null,"LEALES (CP: 4113)","4113","LEALES","TUCUMAN","LOS VALLES","19","ALFREDO PLASTINE"]
[null,"LEON ROUGES (CP: 4143)","4143","LEON ROUGES","TUCUMAN","LOS VALLES","19","ALFREDO PLASTINE"]
[null,"LOS GUTIERREZ (CP: 4178)","4178","LOS GUTIERREZ","TUCUMAN","LOS VALLES","19","ALFREDO PLASTINE"]
[null,"LOS NOGALES (CP: 4001)","4001","LOS NOGALES","TUCUMAN","LOS VALLES","19","ALFREDO PLASTINE"]
[null,"LOS NOGALES (CP: 4101)","4101","LOS NOGALES","TUCUMAN","LOS VALLES","19","ALFREDO PLASTINE"]
[null,"LOS RALOS (CP: 4182)","4182","LOS RALOS","TUCUMAN","LOS VALLES","19","ALFREDO PLASTINE"]
[null,"LOS TIMBOS (CP: 4147)","4147","LOS TIMBOS","TUCUMAN","LOS VALLES","19","ALFREDO PLASTINE"]
[null,"LULES (CP: 4128)","4128","LULES","TUCUMAN","LOS VALLES","19","ALFREDO PLASTINE"]
[null,"MACOMITA (CP: 4117)","4117","MACOMITA","TUCUMAN","LOS VALLES","19","ALFREDO PLASTINE"]
[null,"MANANTIAL (CP: 4105)","4105","MANANTIAL","TUCUMAN","LOS VALLES","19","ALFREDO PLASTINE"]
[null,"MIXTA (CP: 4115)","4115","MIXTA","TUCUMAN","LOS VALLES","19","ALFREDO PLASTINE"]
[null,"MONTE AGUDO (CP: 4174)","4174","MONTE AGUDO","TUCUMAN","LOS VALLES","19","ALFREDO PLASTINE"]
[null,{"$f":"CONCATENATE(D3011,\" (CP: \",C3011,\")\")","v":"MONTEROS (CP: 4142)"},"4142","MONTEROS","TUCUMAN","LOS VALLES","19","ALFREDO PLASTINE"]
[null,"OHUANTA (CP: 4105)","4105","OHUANTA","TUCUMAN","LOS VALLES","19","ALFREDO PLASTINE"]
[null,"PACARA PINTADO (CP: 4111)","4111","PACARA PINTADO","TUCUMAN","LOS VALLES","19","ALFREDO PLASTINE"]
[null,"QUILMES (CP: 4111)","4111","QUILMES","TUCUMAN","LOS VALLES","19","ALFREDO PLASTINE"]
[null,"RANCHILLOS (CP: 4178)","4178","RANCHILLOS","TUCUMAN","LOS VALLES","19","ALFREDO PLASTINE"]
[null,"RIO CHICO (CP: 4153)","4153","RIO CHICO","TUCUMAN","LOS VALLES","19","ALFREDO PLASTINE"]
[null,"RIO SECO (CP: 4145)","4145","RIO SECO","TUCUMAN","LOS VALLES","19","ALFREDO PLASTINE"]
[null,"S.M.TUCUMAN (CP: 4000)","4000","S.M.TUCUMAN","TUCUMAN","LOS VALLES","19","ALFREDO PLASTINE"]
[null,"SAN ANDRES (CP: 4111)","4111","SAN ANDRES","TUCUMAN","LOS VALLES","19","ALFREDO PLASTINE"]
[null,"SAN FELIPE (CP: 4105)","4105","SAN FELIPE","TUCUMAN","LOS VALLES","19","ALFREDO PLASTINE"]
[null,"SAN PABLO (CP: 4129)","4129","SAN PABLO","TUCUMAN","LOS VALLES","19","ALFREDO PLASTINE"]
[null,"SIMOCA (CP: 4172)","4172","SIMOCA","TUCUMAN","LOS VALLES","19","ALFREDO PLASTINE"]
[null,"TACO RALO (CP: 4240)","4240","TACO RALO","TUCUMAN","LOS VALLES","19","ALFREDO PLASTINE"]
[null,"TAFI DEL VALLE (CP: 4137)","4137","TAFI DEL VALLE","TUCUMAN","LOS VALLES","19","ALFREDO PLASTINE"]
[null,"TAFI VIEJO (CP: 4103)","4103","TAFI VIEJO","TUCUMAN","LOS VALLES","19","ALFREDO PLASTINE"]
[null,"TICUCHO (CP: 4122)","4122","TICUCHO","TUCUMAN","LOS VALLES","19","ALFREDO PLASTINE"]
[null,"TRANCAS (CP: 4124)","4124","TRANCAS","TUCUMAN","LOS VALLES","19","ALFREDO PLASTINE"]
[null,{"$f":"CONCATENATE(D3028,\" (CP: \",C3028,\")\")","v":"V. MADERO (CP: 4002)"},"4002","V. MADERO","TUCUMAN","LOS VALLES","19","ALFREDO PLASTINE"]
[null,"VILLA LA TRINIDA (CP: 4151)","4151","VILLA LA TRINIDA","TUCUMAN","LOS VALLES","19","ALFREDO PLASTINE"]
[null,"VILLA MARIANO MORENO (CP: 4101)","4101","VILLA MARIANO MORENO","TUCUMAN","LOS VALLES","19","ALFREDO PLASTINE"]
[null,{"$f":"CONCATENATE(D3031,\" (CP: \",C3031,\")\")","v":"YERBA BUENA (CP: 4107)"},"4107","YERBA BUENA","TUCUMAN","LOS VALLES","19","ALFREDO PLASTINE"]

{"sheet":"Parámetros_Provincias","index":10,"n_rows":3124,"n_cols":8,"rows_kept":3124,"cut":false,"hidden":true,"merged":[[3063,1,3063,7],[2100,1,2100,7],[2217,1,2217,7],[2273,1,2273,7],[2342,1,2342,7],[2419,1,2419,7],[2509,1,2509,7],[2554,1,2554,7],[2610,1,2610,7],[2651,1,2651,7],[2981,1,2981,7],[3050,1,3050,7],[2060,1,2060,7],[1,1,1,7],[436,1,436,7],[1191,1,1191,7],[1226,1,1226,7],[1279,1,1279,7],[1353,1,1353,7],[1666,1,1666,7],[1726,1,1726,7],[1894,1,1894,7],[1935,1,1935,7],[1988,1,1988,7]]}
[]
[null,"CABA"]
[null,"Conctenado","CodigoPostal","Localidad","Provincia","Region","NRO AGENTE","NOMBRE"]
[null,"CAPITAL FEDERAL (CP: 1000)","1000","CAPITAL FEDERAL","CAPITAL FEDERAL","METROPOLITANA",31,"PABLO CIMINARI"]
[null,"CAPITAL FEDERAL (CP: 1001)","1001","CAPITAL FEDERAL","CAPITAL FEDERAL","METROPOLITANA",31,"PABLO CIMINARI"]
[null,"CAPITAL FEDERAL (CP: 1002)","1002","CAPITAL FEDERAL","CAPITAL FEDERAL","METROPOLITANA",31,"PABLO CIMINARI"]
[null,"CAPITAL FEDERAL (CP: 1003)","1003","CAPITAL FEDERAL","CAPITAL FEDERAL","METROPOLITANA",31,"PABLO CIMINARI"]
[null,"CAPITAL FEDERAL (CP: 1004)","1004","CAPITAL FEDERAL","CAPITAL FEDERAL","METROPOLITANA",31,"PABLO CIMINARI"]
[null,"CAPITAL FEDERAL (CP: 1005)","1005","CAPITAL FEDERAL","CAPITAL FEDERAL","METROPOLITANA",31,"PABLO CIMINARI"]
[null,"CAPITAL FEDERAL (CP: 1006)","1006","CAPITAL FEDERAL","CAPITAL FEDERAL","METROPOLITANA",31,"PABLO CIMINARI"]
[null,"CAPITAL FEDERAL (CP: 1007)","1007","CAPITAL FEDERAL","CAPITAL FEDERAL","METROPOLITANA",31,"PABLO CIMINARI"]
[null,"CAPITAL FEDERAL (CP: 1008)","1008","CAPITAL FEDERAL","CAPITAL FEDERAL","METROPOLITANA",31,"PABLO CIMINARI"]
[null,"CAPITAL FEDERAL (CP: 1009)","1009","CAPITAL FEDERAL","CAPITAL FEDERAL","METROPOLITANA",31,"PABLO CIMINARI"]
[null,"CAPITAL FEDERAL (CP: 1010)","1010","CAPITAL FEDERAL","CAPITAL FEDERAL","METROPOLITANA",31,"PABLO CIMINARI"]
[null,"CAPITAL FEDERAL (CP: 1011)","1011","CAPITAL FEDERAL","CAPITAL FEDERAL","METROPOLITANA",31,"PABLO CIMINARI"]
[null,"CAPITAL FEDERAL (CP: 1012)","1012","CAPITAL FEDERAL","CAPITAL FEDERAL","METROPOLITANA",31,"PABLO CIMINARI"]
[null,"CAPITAL FEDERAL (CP: 1013)","1013","CAPITAL FEDERAL","CAPITAL FEDERAL","METROPOLITANA",31,"PABLO CIMINARI"]
[null,"CAPITAL FEDERAL (CP: 1014)","1014","CAPITAL FEDERAL","CAPITAL FEDERAL","METROPOLITANA",31,"PABLO CIMINARI"]
[null,"CAPITAL FEDERAL (CP: 1015)","1015","CAPITAL FEDERAL","CAPITAL FEDERAL","METROPOLITANA",31,"PABLO CIMINARI"]
[null,"CAPITAL FEDERAL (CP: 1016)","1016","CAPITAL FEDERAL","CAPITAL FEDERAL","METROPOLITANA",31,"PABLO CIMINARI"]
[null,"CAPITAL FEDERAL (CP: 1017)","1017","CAPITAL FEDERAL","CAPITAL FEDERAL","METROPOLITANA",31,"PABLO CIMINARI"]
[null,"CAPITAL FEDERAL (CP: 1018)","1018","CAPITAL FEDERAL","CAPITAL FEDERAL","METROPOLITANA",31,"PABLO CIMINARI"]
[null,"CAPITAL FEDERAL (CP: 1019)","1019","CAPITAL FEDERAL","CAPITAL FEDERAL","METROPOLITANA",31,"PABLO CIMINARI"]
[null,"CAPITAL FEDERAL (CP: 1020)","1020","CAPITAL FEDERAL","CAPITAL FEDERAL","METROPOLITANA",31,"PABLO CIMINARI"]
[null,"CAPITAL FEDERAL (CP: 1021)","1021","CAPITAL FEDERAL","CAPITAL FEDERAL","METROPOLITANA",31,"PABLO CIMINARI"]
[null,"CAPITAL FEDERAL (CP: 1022)","1022","CAPITAL FEDERAL","CAPITAL FEDERAL","METROPOLITANA",31,"PABLO CIMINARI"]
[null,"CAPITAL FEDERAL (CP: 1023)","1023","CAPITAL FEDERAL","CAPITAL FEDERAL","METROPOLITANA",31,"PABLO CIMINARI"]
[null,"CAPITAL FEDERAL (CP: 1024)","1024","CAPITAL FEDERAL","CAPITAL FEDERAL","METROPOLITANA",31,"PABLO CIMINARI"]
[null,"CAPITAL FEDERAL (CP: 1025)","1025","CAPITAL FEDERAL","CAPITAL FEDERAL","METROPOLITANA",31,"PABLO CIMINARI"]
[null,"CAPITAL FEDERAL (CP: 1026)","1026","CAPITAL FEDERAL","CAPITAL FEDERAL","METROPOLITANA",31,"PABLO CIMINARI"]
[null,"CAPITAL FEDERAL (CP: 1027)","1027","CAPITAL FEDERAL","CAPITAL FEDERAL","METROPOLITANA",31,"PABLO CIMINARI"]
[null,"CAPITAL FEDERAL (CP: 1028)","1028","CAPITAL FEDERAL","CAPITAL FEDERAL","METROPOLITANA",31,"PABLO CIMINARI"]
[null,"CAPITAL FEDERAL (CP: 1029)","1029","CAPITAL FEDERAL","CAPITAL FEDERAL","METROPOLITANA",31,"PABLO CIMINARI"]
[null,"CAPITAL FEDERAL (CP: 1030)","1030","CAPITAL FEDERAL","CAPITAL FEDERAL","METROPOLITANA",31,"PABLO CIMINARI"]
[null,"CAPITAL FEDERAL (CP: 1031)","1031","CAPITAL FEDERAL","CAPITAL FEDERAL","METROPOLITANA",31,"PABLO CIMINARI"]
[null,"CAPITAL FEDERAL (CP: 1032)","1032","CAPITAL FEDERAL","CAPITAL FEDERAL","METROPOLITANA",31,"PABLO CIMINARI"]
[null,"CAPITAL FEDERAL (CP: 1033)","1033","CAPITAL FEDERAL","CAPITAL FEDERAL","METROPOLITANA",31,"PABLO CIMINARI"]
[null,"CAPITAL FEDERAL (CP: 1034)","1034","CAPITAL FEDERAL","CAPITAL FEDERAL","METROPOLITANA",31,"PABLO CIMINARI"]
[null,"CAPITAL FEDERAL (CP: 1035)","1035","CAPITAL FEDERAL","CAPITAL FEDERAL","METROPOLITANA",31,"PABLO CIMINARI"]
[null,"CAPITAL FEDERAL (CP: 1036)","1036","CAPITAL FEDERAL","CAPITAL FEDERAL","METROPOLITANA",31,"PABLO CIMINARI"]
[null,"CAPITAL FEDERAL (CP: 1037)","1037","CAPITAL FEDERAL","CAPITAL FEDERAL","METROPOLITANA",31,"PABLO CIMINARI"]
[null,"CAPITAL FEDERAL (CP: 1038)","1038","CAPITAL FEDERAL","CAPITAL FEDERAL","METROPOLITANA",31,"PABLO CIMINARI"]
[null,"CAPITAL FEDERAL (CP: 1039)","1039","CAPITAL FEDERAL","CAPITAL FEDERAL","METROPOLITANA",31,"PABLO CIMINARI"]
[null,"CAPITAL FEDERAL (CP: 1040)","1040","CAPITAL FEDERAL","CAPITAL FEDERAL","METROPOLITANA",31,"PABLO CIMINARI"]
[null,"CAPITAL FEDERAL (CP: 1041)","1041","CAPITAL FEDERAL","CAPITAL FEDERAL","METROPOLITANA",31,"PABLO CIMINARI"]
[null,"CAPITAL FEDERAL (CP: 1042)","1042","CAPITAL FEDERAL","CAPITAL FEDERAL","METROPOLITANA",31,"PABLO CIMINARI"]
[null,"CAPITAL FEDERAL (CP: 1043)","1043","CAPITAL FEDERAL","CAPITAL FEDERAL","METROPOLITANA",31,"PABLO CIMINARI"]
[null,"CAPITAL FEDERAL (CP: 1044)","1044","CAPITAL FEDERAL","CAPITAL FEDERAL","METROPOLITANA",31,"PABLO CIMINARI"]
[null,"CAPITAL FEDERAL (CP: 1045)","1045","CAPITAL FEDERAL","CAPITAL FEDERAL","METROPOLITANA",31,"PABLO CIMINARI"]
[null,"CAPITAL FEDERAL (CP: 1046)","1046","CAPITAL FEDERAL","CAPITAL FEDERAL","METROPOLITANA",31,"PABLO CIMINARI"]
[null,"CAPITAL FEDERAL (CP: 1047)","1047","CAPITAL FEDERAL","CAPITAL FEDERAL","METROPOLITANA",31,"PABLO CIMINARI"]
[null,"CAPITAL FEDERAL (CP: 1048)","1048","CAPITAL FEDERAL","CAPITAL FEDERAL","METROPOLITANA",31,"PABLO CIMINARI"]
[null,"CAPITAL FEDERAL (CP: 1049)","1049","CAPITAL FEDERAL","CAPITAL FEDERAL","METROPOLITANA",31,"PABLO CIMINARI"]
[null,"CAPITAL FEDERAL (CP: 1050)","1050","CAPITAL FEDERAL","CAPITAL FEDERAL","METROPOLITANA",31,"PABLO CIMINARI"]
[null,"CAPITAL FEDERAL (CP: 1051)","1051","CAPITAL FEDERAL","CAPITAL FEDERAL","METROPOLITANA",31,"PABLO CIMINARI"]
[null,"CAPITAL FEDERAL (CP: 1052)","1052","CAPITAL FEDERAL","CAPITAL FEDERAL","METROPOLITANA",31,"PABLO CIMINARI"]
[null,"CAPITAL FEDERAL (CP: 1053)","1053","CAPITAL FEDERAL","CAPITAL FEDERAL","METROPOLITANA",31,"PABLO CIMINARI"]
[null,"CAPITAL FEDERAL (CP: 1054)","1054","CAPITAL FEDERAL","CAPITAL FEDERAL","METROPOLITANA",31,"PABLO CIMINARI"]
[null,"CAPITAL FEDERAL (CP: 1055)","1055","CAPITAL FEDERAL","CAPITAL FEDERAL","METROPOLITANA",31,"PABLO CIMINARI"]
[null,"CAPITAL FEDERAL (CP: 1056)","1056","CAPITAL FEDERAL","CAPITAL FEDERAL","METROPOLITANA",31,"PABLO CIMINARI"]
[null,"CAPITAL FEDERAL (CP: 1057)","1057","CAPITAL FEDERAL","CAPITAL FEDERAL","METROPOLITANA",31,"PABLO CIMINARI"]
[null,"CAPITAL FEDERAL (CP: 1058)","1058","CAPITAL FEDERAL","CAPITAL FEDERAL","METROPOLITANA",31,"PABLO CIMINARI"]
[null,"CAPITAL FEDERAL (CP: 1059)","1059","CAPITAL FEDERAL","CAPITAL FEDERAL","METROPOLITANA",31,"PABLO CIMINARI"]
[null,"CAPITAL FEDERAL (CP: 1060)","1060","CAPITAL FEDERAL","CAPITAL FEDERAL","METROPOLITANA",31,"PABLO CIMINARI"]
[null,"CAPITAL FEDERAL (CP: 1061)","1061","CAPITAL FEDERAL","CAPITAL FEDERAL","METROPOLITANA",31,"PABLO CIMINARI"]
[null,"CAPITAL FEDERAL (CP: 1062)","1062","CAPITAL FEDERAL","CAPITAL FEDERAL","METROPOLITANA",31,"PABLO CIMINARI"]
[null,"CAPITAL FEDERAL (CP: 1063)","1063","CAPITAL FEDERAL","CAPITAL FEDERAL","METROPOLITANA",31,"PABLO CIMINARI"]
[null,"CAPITAL FEDERAL (CP: 1064)","1064","CAPITAL FEDERAL","CAPITAL FEDERAL","METROPOLITANA",31,"PABLO CIMINARI"]
[null,"CAPITAL FEDERAL (CP: 1065)","1065","CAPITAL FEDERAL","CAPITAL FEDERAL","METROPOLITANA",31,"PABLO CIMINARI"]
[null,"CAPITAL FEDERAL (CP: 1066)","1066","CAPITAL FEDERAL","CAPITAL FEDERAL","METROPOLITANA",31,"PABLO CIMINARI"]
[null,"CAPITAL FEDERAL (CP: 1067)","1067","CAPITAL FEDERAL","CAPITAL FEDERAL","METROPOLITANA",31,"PABLO CIMINARI"]
[null,"CAPITAL FEDERAL (CP: 1068)","1068","CAPITAL FEDERAL","CAPITAL FEDERAL","METROPOLITANA",31,"PABLO CIMINARI"]
[null,"CAPITAL FEDERAL (CP: 1069)","1069","CAPITAL FEDERAL","CAPITAL FEDERAL","METROPOLITANA",31,"PABLO CIMINARI"]
[null,"CAPITAL FEDERAL (CP: 1070)","1070","CAPITAL FEDERAL","CAPITAL FEDERAL","METROPOLITANA",31,"PABLO CIMINARI"]
[null,"CAPITAL FEDERAL (CP: 1071)","1071","CAPITAL FEDERAL","CAPITAL FEDERAL","METROPOLITANA",31,"PABLO CIMINARI"]
[null,"CAPITAL FEDERAL (CP: 1072)","1072","CAPITAL FEDERAL","CAPITAL FEDERAL","METROPOLITANA",31,"PABLO CIMINARI"]
[null,"CAPITAL FEDERAL (CP: 1073)","1073","CAPITAL FEDERAL","CAPITAL FEDERAL","METROPOLITANA",31,"PABLO CIMINARI"]
[null,"CAPITAL FEDERAL (CP: 1074)","1074","CAPITAL FEDERAL","CAPITAL FEDERAL","METROPOLITANA",31,"PABLO CIMINARI"]
[null,"CAPITAL FEDERAL (CP: 1075)","1075","CAPITAL FEDERAL","CAPITAL FEDERAL","METROPOLITANA",31,"PABLO CIMINARI"]
[null,"CAPITAL FEDERAL (CP: 1076)","1076","CAPITAL FEDERAL","CAPITAL FEDERAL","METROPOLITANA",31,"PABLO CIMINARI"]
[null,"CAPITAL FEDERAL (CP: 1077)","1077","CAPITAL FEDERAL","CAPITAL FEDERAL","METROPOLITANA",31,"PABLO CIMINARI"]
[null,"CAPITAL FEDERAL (CP: 1078)","1078","CAPITAL FEDERAL","CAPITAL FEDERAL","METROPOLITANA",31,"PABLO CIMINARI"]
[null,"CAPITAL FEDERAL (CP: 1079)","1079","CAPITAL FEDERAL","CAPITAL FEDERAL","METROPOLITANA",31,"PABLO CIMINARI"]
[null,"CAPITAL FEDERAL (CP: 1080)","1080","CAPITAL FEDERAL","CAPITAL FEDERAL","METROPOLITANA",31,"PABLO CIMINARI"]
[null,"CAPITAL FEDERAL (CP: 1081)","1081","CAPITAL FEDERAL","CAPITAL FEDERAL","METROPOLITANA",31,"PABLO CIMINARI"]
[null,"CAPITAL FEDERAL (CP: 1082)","1082","CAPITAL FEDERAL","CAPITAL FEDERAL","METROPOLITANA",31,"PABLO CIMINARI"]
[null,"CAPITAL FEDERAL (CP: 1083)","1083","CAPITAL FEDERAL","CAPITAL FEDERAL","METROPOLITANA",31,"PABLO CIMINARI"]
[null,"CAPITAL FEDERAL (CP: 1084)","1084","CAPITAL FEDERAL","CAPITAL FEDERAL","METROPOLITANA",31,"PABLO CIMINARI"]
[null,"CAPITAL FEDERAL (CP: 1085)","1085","CAPITAL FEDERAL","CAPITAL FEDERAL","METROPOLITANA",31,"PABLO CIMINARI"]
[null,"CAPITAL FEDERAL (CP: 1086)","1086","CAPITAL FEDERAL","CAPITAL FEDERAL","METROPOLITANA",31,"PABLO CIMINARI"]
[null,"CAPITAL FEDERAL (CP: 1087)","1087","CAPITAL FEDERAL","CAPITAL FEDERAL","METROPOLITANA",31,"PABLO CIMINARI"]
[null,"CAPITAL FEDERAL (CP: 1088)","1088","CAPITAL FEDERAL","CAPITAL FEDERAL","METROPOLITANA",31,"PABLO CIMINARI"]
[null,"CAPITAL FEDERAL (CP: 1089)","1089","CAPITAL FEDERAL","CAPITAL FEDERAL","METROPOLITANA",31,"PABLO CIMINARI"]
[null,"CAPITAL FEDERAL (CP: 1090)","1090","CAPITAL FEDERAL","CAPITAL FEDERAL","METROPOLITANA",31,"PABLO CIMINARI"]
[null,"CAPITAL FEDERAL (CP: 1091)","1091","CAPITAL FEDERAL","CAPITAL FEDERAL","METROPOLITANA",31,"PABLO CIMINARI"]
[null,"CAPITAL FEDERAL (CP: 1092)","1092","CAPITAL FEDERAL","CAPITAL FEDERAL","METROPOLITANA",31,"PABLO CIMINARI"]
[null,"CAPITAL FEDERAL (CP: 1093)","1093","CAPITAL FEDERAL","CAPITAL FEDERAL","METROPOLITANA",31,"PABLO CIMINARI"]
[null,"CAPITAL FEDERAL (CP: 1094)","1094","CAPITAL FEDERAL","CAPITAL FEDERAL","METROPOLITANA",31,"PABLO CIMINARI"]
[null,"CAPITAL FEDERAL (CP: 1095)","1095","CAPITAL FEDERAL","CAPITAL FEDERAL","METROPOLITANA",31,"PABLO CIMINARI"]
[null,"CAPITAL FEDERAL (CP: 1096)","1096","CAPITAL FEDERAL","CAPITAL FEDERAL","METROPOLITANA",31,"PABLO CIMINARI"]
[null,"CAPITAL FEDERAL (CP: 1097)","1097","CAPITAL FEDERAL","CAPITAL FEDERAL","METROPOLITANA",31,"PABLO CIMINARI"]
[null,"CAPITAL FEDERAL (CP: 1098)","1098","CAPITAL FEDERAL","CAPITAL FEDERAL","METROPOLITANA",31,"PABLO CIMINARI"]
[null,"CAPITAL FEDERAL (CP: 1099)","1099","CAPITAL FEDERAL","CAPITAL FEDERAL","METROPOLITANA",31,"PABLO CIMINARI"]
[null,"CAPITAL FEDERAL (CP: 1100)","1100","CAPITAL FEDERAL","CAPITAL FEDERAL","METROPOLITANA",31,"PABLO CIMINARI"]
[null,"CAPITAL FEDERAL (CP: 1101)","1101","CAPITAL FEDERAL","CAPITAL FEDERAL","METROPOLITANA",31,"PABLO CIMINARI"]
[null,"CAPITAL FEDERAL (CP: 1102)","1102","CAPITAL FEDERAL","CAPITAL FEDERAL","METROPOLITANA",31,"PABLO CIMINARI"]
[null,"CAPITAL FEDERAL (CP: 1103)","1103","CAPITAL FEDERAL","CAPITAL FEDERAL","METROPOLITANA",31,"PABLO CIMINARI"]
[null,"CAPITAL FEDERAL (CP: 1104)","1104","CAPITAL FEDERAL","CAPITAL FEDERAL","METROPOLITANA",31,"PABLO CIMINARI"]
[null,"CAPITAL FEDERAL (CP: 1105)","1105","CAPITAL FEDERAL","CAPITAL FEDERAL","METROPOLITANA",31,"PABLO CIMINARI"]
[null,"CAPITAL FEDERAL (CP: 1106)","1106","CAPITAL FEDERAL","CAPITAL FEDERAL","METROPOLITANA",31,"PABLO CIMINARI"]
[null,"CAPITAL FEDERAL (CP: 1107)","1107","CAPITAL FEDERAL","CAPITAL FEDERAL","METROPOLITANA",31,"PABLO CIMINARI"]
[null,"CAPITAL FEDERAL (CP: 1109)","1109","CAPITAL FEDERAL","CAPITAL FEDERAL","METROPOLITANA",31,"PABLO CIMINARI"]
[null,"CAPITAL FEDERAL (CP: 1110)","1110","CAPITAL FEDERAL","CAPITAL FEDERAL","METROPOLITANA",31,"PABLO CIMINARI"]
[null,"CAPITAL FEDERAL (CP: 1111)","1111","CAPITAL FEDERAL","CAPITAL FEDERAL","METROPOLITANA",31,"PABLO CIMINARI"]
[null,"CAPITAL FEDERAL (CP: 1112)","1112","CAPITAL FEDERAL","CAPITAL FEDERAL","METROPOLITANA",31,"PABLO CIMINARI"]
[null,"CAPITAL FEDERAL (CP: 1113)","1113","CAPITAL FEDERAL","CAPITAL FEDERAL","METROPOLITANA",31,"PABLO CIMINARI"]
[null,"CAPITAL FEDERAL (CP: 1114)","1114","CAPITAL FEDERAL","CAPITAL FEDERAL","METROPOLITANA",31,"PABLO CIMINARI"]
[null,"CAPITAL FEDERAL (CP: 1115)","1115","CAPITAL FEDERAL","CAPITAL FEDERAL","METROPOLITANA",31,"PABLO CIMINARI"]
[null,"CAPITAL FEDERAL (CP: 1116)","1116","CAPITAL FEDERAL","CAPITAL FEDERAL","METROPOLITANA",31,"PABLO CIMINARI"]
[null,"CAPITAL FEDERAL (CP: 1117)","1117","CAPITAL FEDERAL","CAPITAL FEDERAL","METROPOLITANA",31,"PABLO CIMINARI"]
[null,"CAPITAL FEDERAL (CP: 1118)","1118","CAPITAL FEDERAL","CAPITAL FEDERAL","METROPOLITANA",31,"PABLO CIMINARI"]
[null,"CAPITAL FEDERAL (CP: 1119)","1119","CAPITAL FEDERAL","CAPITAL FEDERAL","METROPOLITANA",31,"PABLO CIMINARI"]
[null,"CAPITAL FEDERAL (CP: 1120)","1120","CAPITAL FEDERAL","CAPITAL FEDERAL","METROPOLITANA",31,"PABLO CIMINARI"]
[null,"CAPITAL FEDERAL (CP: 1121)","1121","CAPITAL FEDERAL","CAPITAL FEDERAL","METROPOLITANA",31,"PABLO CIMINARI"]
[null,"CAPITAL FEDERAL (CP: 1122)","1122","CAPITAL FEDERAL","CAPITAL FEDERAL","METROPOLITANA",31,"PABLO CIMINARI"]
[null,"CAPITAL FEDERAL (CP: 1123)","1123","CAPITAL FEDERAL","CAPITAL FEDERAL","METROPOLITANA",31,"PABLO CIMINARI"]
[null,"CAPITAL FEDERAL (CP: 1124)","1124","CAPITAL FEDERAL","CAPITAL FEDERAL","METROPOLITANA",31,"PABLO CIMINARI"]
[null,"CAPITAL FEDERAL (CP: 1125)","1125","CAPITAL FEDERAL","CAPITAL FEDERAL","METROPOLITANA",31,"PABLO CIMINARI"]
[null,"CAPITAL FEDERAL (CP: 1126)","1126","CAPITAL FEDERAL","CAPITAL FEDERAL","METROPOLITANA",31,"PABLO CIMINARI"]
[null,"CAPITAL FEDERAL (CP: 1127)","1127","CAPITAL FEDERAL","CAPITAL FEDERAL","METROPOLITANA",31,"PABLO CIMINARI"]
[null,"CAPITAL FEDERAL (CP: 1128)","1128","CAPITAL FEDERAL","CAPITAL FEDERAL","METROPOLITANA",31,"PABLO CIMINARI"]
[null,"CAPITAL FEDERAL (CP: 1129)","1129","CAPITAL FEDERAL","CAPITAL FEDERAL","METROPOLITANA",31,"PABLO CIMINARI"]
[null,"CAPITAL FEDERAL (CP: 1130)","1130","CAPITAL FEDERAL","CAPITAL FEDERAL","METROPOLITANA",31,"PABLO CIMINARI"]
[null,"CAPITAL FEDERAL (CP: 1133)","1133","CAPITAL FEDERAL","CAPITAL FEDERAL","METROPOLITANA",31,"PABLO CIMINARI"]
[null,"CAPITAL FEDERAL (CP: 1134)","1134","CAPITAL FEDERAL","CAPITAL FEDERAL","METROPOLITANA",31,"PABLO CIMINARI"]
[null,"CAPITAL FEDERAL (CP: 1135)","1135","CAPITAL FEDERAL","CAPITAL FEDERAL","METROPOLITANA",31,"PABLO CIMINARI"]
[null,"CAPITAL FEDERAL (CP: 1136)","1136","CAPITAL FEDERAL","CAPITAL FEDERAL","METROPOLITANA",31,"PABLO CIMINARI"]
[null,"CAPITAL FEDERAL (CP: 1137)","1137","CAPITAL FEDERAL","CAPITAL FEDERAL","METROPOLITANA",31,"PABLO CIMINARI"]
[null,"CAPITAL FEDERAL (CP: 1138)","1138","CAPITAL FEDERAL","CAPITAL FEDERAL","METROPOLITANA",31,"PABLO CIMINARI"]
[null,"CAPITAL FEDERAL (CP: 1139)","1139","CAPITAL FEDERAL","CAPITAL FEDERAL","METROPOLITANA",31,"PABLO CIMINARI"]
[null,"CAPITAL FEDERAL (CP: 1140)","1140","CAPITAL FEDERAL","CAPITAL FEDERAL","METROPOLITANA",31,"PABLO CIMINARI"]
[null,"CAPITAL FEDERAL (CP: 1141)","1141","CAPITAL FEDERAL","CAPITAL FEDERAL","METROPOLITANA",31,"PABLO CIMINARI"]
[null,"CAPITAL FEDERAL (CP: 1143)","1143","CAPITAL FEDERAL","CAPITAL FEDERAL","METROPOLITANA",31,"PABLO CIMINARI"]
[null,"CAPITAL FEDERAL (CP: 1144)","1144","CAPITAL FEDERAL","CAPITAL FEDERAL","METROPOLITANA",31,"PABLO CIMINARI"]
[null,"CAPITAL FEDERAL (CP: 1147)","1147","CAPITAL FEDERAL","CAPITAL FEDERAL","METROPOLITANA",31,"PABLO CIMINARI"]
[null,"CAPITAL FEDERAL (CP: 1148)","1148","CAPITAL FEDERAL","CAPITAL FEDERAL","METROPOLITANA",31,"PABLO CIMINARI"]
[null,"CAPITAL FEDERAL (CP: 1150)","1150","CAPITAL FEDERAL","CAPITAL FEDERAL","METROPOLITANA",31,"PABLO CIMINARI"]
[null,"CAPITAL FEDERAL (CP: 1151)","1151","CAPITAL FEDERAL","CAPITAL FEDERAL","METROPOLITANA",31,"PABLO CIMINARI"]
[null,"CAPITAL FEDERAL (CP: 1152)","1152","CAPITAL FEDERAL","CAPITAL FEDERAL","METROPOLITANA",31,"PABLO CIMINARI"]
[null,"CAPITAL FEDERAL (CP: 1153)","1153","CAPITAL FEDERAL","CAPITAL FEDERAL","METROPOLITANA",31,"PABLO CIMINARI"]
[null,"CAPITAL FEDERAL (CP: 1154)","1154","CAPITAL FEDERAL","CAPITAL FEDERAL","METROPOLITANA",31,"PABLO CIMINARI"]
[null,"CAPITAL FEDERAL (CP: 1155)","1155","CAPITAL FEDERAL","CAPITAL FEDERAL","METROPOLITANA",31,"PABLO CIMINARI"]
[null,"CAPITAL FEDERAL (CP: 1156)","1156","CAPITAL FEDERAL","CAPITAL FEDERAL","METROPOLITANA",31,"PABLO CIMINARI"]
[null,"CAPITAL FEDERAL (CP: 1157)","1157","CAPITAL FEDERAL","CAPITAL FEDERAL","METROPOLITANA",31,"PABLO CIMINARI"]
[null,"CAPITAL FEDERAL (CP: 1158)","1158","CAPITAL FEDERAL","CAPITAL FEDERAL","METROPOLITANA",31,"PABLO CIMINARI"]
[null,"CAPITAL FEDERAL (CP: 1159)","1159","CAPITAL FEDERAL","CAPITAL FEDERAL","METROPOLITANA",31,"PABLO CIMINARI"]
[null,"CAPITAL FEDERAL (CP: 1160)","1160","CAPITAL FEDERAL","CAPITAL FEDERAL","METROPOLITANA",31,"PABLO CIMINARI"]
[null,"CAPITAL FEDERAL (CP: 1161)","1161","CAPITAL FEDERAL","CAPITAL FEDERAL","METROPOLITANA",31,"PABLO CIMINARI"]
[null,"CAPITAL FEDERAL (CP: 1162)","1162","CAPITAL FEDERAL","CAPITAL FEDERAL","METROPOLITANA",31,"PABLO CIMINARI"]
[null,"CAPITAL FEDERAL (CP: 1163)","1163","CAPITAL FEDERAL","CAPITAL FEDERAL","METROPOLITANA",31,"PABLO CIMINARI"]
[null,"CAPITAL FEDERAL (CP: 1164)","1164","CAPITAL FEDERAL","CAPITAL FEDERAL","METROPOLITANA",31,"PABLO CIMINARI"]
[null,"CAPITAL FEDERAL (CP: 1165)","1165","CAPITAL FEDERAL","CAPITAL FEDERAL","METROPOLITANA",31,"PABLO CIMINARI"]
[null,"CAPITAL FEDERAL (CP: 1166)","1166","CAPITAL FEDERAL","CAPITAL FEDERAL","METROPOLITANA",31,"PABLO CIMINARI"]
[null,"CAPITAL FEDERAL (CP: 1167)","1167","CAPITAL FEDERAL","CAPITAL FEDERAL","METROPOLITANA",31,"PABLO CIMINARI"]
[null,"CAPITAL FEDERAL (CP: 1168)","1168","CAPITAL FEDERAL","CAPITAL FEDERAL","METROPOLITANA",31,"PABLO CIMINARI"]
[null,"CAPITAL FEDERAL (CP: 1169)","1169","CAPITAL FEDERAL","CAPITAL FEDERAL","METROPOLITANA",31,"PABLO CIMINARI"]
[null,"CAPITAL FEDERAL (CP: 1170)","1170","CAPITAL FEDERAL","CAPITAL FEDERAL","METROPOLITANA",31,"PABLO CIMINARI"]
[null,"CAPITAL FEDERAL (CP: 1171)","1171","CAPITAL FEDERAL","CAPITAL FEDERAL","METROPOLITANA",18,"OMAR PRESAS"]
[null,"CAPITAL FEDERAL (CP: 1172)","1172","CAPITAL FEDERAL","CAPITAL FEDERAL","METROPOLITANA",18,"OMAR PRESAS"]
[null,"CAPITAL FEDERAL (CP: 1173)","1173","CAPITAL FEDERAL","CAPITAL FEDERAL","METROPOLITANA",18,"OMAR PRESAS"]
[null,"CAPITAL FEDERAL (CP: 1174)","1174","CAPITAL FEDERAL","CAPITAL FEDERAL","METROPOLITANA",18,"OMAR PRESAS"]
[null,"CAPITAL FEDERAL (CP: 1175)","1175","CAPITAL FEDERAL","CAPITAL FEDERAL","METROPOLITANA",18,"OMAR PRESAS"]
[null,"CAPITAL FEDERAL (CP: 1176)","1176","CAPITAL FEDERAL","CAPITAL FEDERAL","METROPOLITANA",18,"OMAR PRESAS"]
[null,"CAPITAL FEDERAL (CP: 1177)","1177","CAPITAL FEDERAL","CAPITAL FEDERAL","METROPOLITANA",18,"OMAR PRESAS"]
[null,"CAPITAL FEDERAL (CP: 1178)","1178","CAPITAL FEDERAL","CAPITAL FEDERAL","METROPOLITANA",18,"OMAR PRESAS"]
[null,"CAPITAL FEDERAL (CP: 1179)","1179","CAPITAL FEDERAL","CAPITAL FEDERAL","METROPOLITANA",18,"OMAR PRESAS"]
[null,"CAPITAL FEDERAL (CP: 1180)","1180","CAPITAL FEDERAL","CAPITAL FEDERAL","METROPOLITANA",18,"OMAR PRESAS"]
[null,"CAPITAL FEDERAL (CP: 1181)","1181","CAPITAL FEDERAL","CAPITAL FEDERAL","METROPOLITANA",18,"OMAR PRESAS"]
[null,"CAPITAL FEDERAL (CP: 1182)","1182","CAPITAL FEDERAL","CAPITAL FEDERAL","METROPOLITANA",18,"OMAR PRESAS"]
[null,"CAPITAL FEDERAL (CP: 1183)","1183","CAPITAL FEDERAL","CAPITAL FEDERAL","METROPOLITANA",18,"OMAR PRESAS"]
[null,"CAPITAL FEDERAL (CP: 1184)","1184","CAPITAL FEDERAL","CAPITAL FEDERAL","METROPOLITANA",18,"OMAR PRESAS"]
[null,"CAPITAL FEDERAL (CP: 1185)","1185","CAPITAL FEDERAL","CAPITAL FEDERAL","METROPOLITANA",18,"OMAR PRESAS"]
[null,"CAPITAL FEDERAL (CP: 1186)","1186","CAPITAL FEDERAL","CAPITAL FEDERAL","METROPOLITANA",18,"OMAR PRESAS"]
[null,"CAPITAL FEDERAL (CP: 1187)","1187","CAPITAL FEDERAL","CAPITAL FEDERAL","METROPOLITANA",18,"OMAR PRESAS"]
[null,"CAPITAL FEDERAL (CP: 1188)","1188","CAPITAL FEDERAL","CAPITAL FEDERAL","METROPOLITANA",18,"OMAR PRESAS"]
[null,"CAPITAL FEDERAL (CP: 1189)","1189","CAPITAL FEDERAL","CAPITAL FEDERAL","METROPOLITANA",18,"OMAR PRESAS"]
[null,"CAPITAL FEDERAL (CP: 1190)","1190","CAPITAL FEDERAL","CAPITAL FEDERAL","METROPOLITANA",18,"OMAR PRESAS"]
[null,"CAPITAL FEDERAL (CP: 1191)","1191","CAPITAL FEDERAL","CAPITAL FEDERAL","METROPOLITANA",18,"OMAR PRESAS"]
[null,"CAPITAL FEDERAL (CP: 1192)","1192","CAPITAL FEDERAL","CAPITAL FEDERAL","METROPOLITANA",18,"OMAR PRESAS"]
[null,"CAPITAL FEDERAL (CP: 1193)","1193","CAPITAL FEDERAL","CAPITAL FEDERAL","METROPOLITANA",18,"OMAR PRESAS"]
[null,"CAPITAL FEDERAL (CP: 1194)","1194","CAPITAL FEDERAL","CAPITAL FEDERAL","METROPOLITANA",18,"OMAR PRESAS"]
[null,"CAPITAL FEDERAL (CP: 1195)","1195","CAPITAL FEDERAL","CAPITAL FEDERAL","METROPOLITANA",18,"OMAR PRESAS"]
[null,"CAPITAL FEDERAL (CP: 1196)","1196","CAPITAL FEDERAL","CAPITAL FEDERAL","METROPOLITANA",18,"OMAR PRESAS"]
[null,"CAPITAL FEDERAL (CP: 1197)","1197","CAPITAL FEDERAL","CAPITAL FEDERAL","METROPOLITANA",18,"OMAR PRESAS"]
[null,"CAPITAL FEDERAL (CP: 1198)","1198","CAPITAL FEDERAL","CAPITAL FEDERAL","METROPOLITANA",18,"OMAR PRESAS"]
[null,"CAPITAL FEDERAL (CP: 1199)","1199","CAPITAL FEDERAL","CAPITAL FEDERAL","METROPOLITANA",18,"OMAR PRESAS"]
[null,"CAPITAL FEDERAL (CP: 1200)","1200","CAPITAL FEDERAL","CAPITAL FEDERAL","METROPOLITANA",18,"OMAR PRESAS"]
[null,"CAPITAL FEDERAL (CP: 1201)","1201","CAPITAL FEDERAL","CAPITAL FEDERAL","METROPOLITANA",18,"OMAR PRESAS"]
[null,"CAPITAL FEDERAL (CP: 1202)","1202","CAPITAL FEDERAL","CAPITAL FEDERAL","METROPOLITANA",18,"OMAR PRESAS"]
[null,"CAPITAL FEDERAL (CP: 1203)","1203","CAPITAL FEDERAL","CAPITAL FEDERAL","METROPOLITANA",18,"OMAR PRESAS"]
[null,"CAPITAL FEDERAL (CP: 1204)","1204","CAPITAL FEDERAL","CAPITAL FEDERAL","METROPOLITANA",18,"OMAR PRESAS"]
[null,"CAPITAL FEDERAL (CP: 1205)","1205","CAPITAL FEDERAL","CAPITAL FEDERAL","METROPOLITANA",18,"OMAR PRESAS"]
[null,"CAPITAL FEDERAL (CP: 1206)","1206","CAPITAL FEDERAL","CAPITAL FEDERAL","METROPOLITANA",18,"OMAR PRESAS"]
[null,"CAPITAL FEDERAL (CP: 1207)","1207","CAPITAL FEDERAL","CAPITAL FEDERAL","METROPOLITANA",18,"OMAR PRESAS"]
[null,"CAPITAL FEDERAL (CP: 1208)","1208","CAPITAL FEDERAL","CAPITAL FEDERAL","METROPOLITANA",18,"OMAR PRESAS"]
[null,"CAPITAL FEDERAL (CP: 1209)","1209","CAPITAL FEDERAL","CAPITAL FEDERAL","METROPOLITANA",18,"OMAR PRESAS"]
[null,"CAPITAL FEDERAL (CP: 1210)","1210","CAPITAL FEDERAL","CAPITAL FEDERAL","METROPOLITANA",18,"OMAR PRESAS"]
[null,"CAPITAL FEDERAL (CP: 1211)","1211","CAPITAL FEDERAL","CAPITAL FEDERAL","METROPOLITANA",18,"OMAR PRESAS"]
[null,"CAPITAL FEDERAL (CP: 1212)","1212","CAPITAL FEDERAL","CAPITAL FEDERAL","METROPOLITANA",18,"OMAR PRESAS"]
[null,"CAPITAL FEDERAL (CP: 1213)","1213","CAPITAL FEDERAL","CAPITAL FEDERAL","METROPOLITANA",18,"OMAR PRESAS"]
[null,"CAPITAL FEDERAL (CP: 1214)","1214","CAPITAL FEDERAL","CAPITAL FEDERAL","METROPOLITANA",18,"OMAR PRESAS"]
[null,"CAPITAL FEDERAL (CP: 1215)","1215","CAPITAL FEDERAL","CAPITAL FEDERAL","METROPOLITANA",18,"OMAR PRESAS"]
[null,"CAPITAL FEDERAL (CP: 1216)","1216","CAPITAL FEDERAL","CAPITAL FEDERAL","METROPOLITANA",18,"OMAR PRESAS"]
[null,"CAPITAL FEDERAL (CP: 1217)","1217","CAPITAL FEDERAL","CAPITAL FEDERAL","METROPOLITANA",18,"OMAR PRESAS"]
[null,"CAPITAL FEDERAL (CP: 1218)","1218","CAPITAL FEDERAL","CAPITAL FEDERAL","METROPOLITANA",18,"OMAR PRESAS"]
[null,"CAPITAL FEDERAL (CP: 1219)","1219","CAPITAL FEDERAL","CAPITAL FEDERAL","METROPOLITANA",18,"OMAR PRESAS"]
[null,"CAPITAL FEDERAL (CP: 1220)","1220","CAPITAL FEDERAL","CAPITAL FEDERAL","METROPOLITANA",18,"OMAR PRESAS"]
[null,"CAPITAL FEDERAL (CP: 1221)","1221","CAPITAL FEDERAL","CAPITAL FEDERAL","METROPOLITANA",18,"OMAR PRESAS"]
[null,"CAPITAL FEDERAL (CP: 1222)","1222","CAPITAL FEDERAL","CAPITAL FEDERAL","METROPOLITANA",18,"OMAR PRESAS"]
[null,"CAPITAL FEDERAL (CP: 1223)","1223","CAPITAL FEDERAL","CAPITAL FEDERAL","METROPOLITANA",18,"OMAR PRESAS"]
[null,"CAPITAL FEDERAL (CP: 1224)","1224","CAPITAL FEDERAL","CAPITAL FEDERAL","METROPOLITANA",18,"OMAR PRESAS"]
[null,"CAPITAL FEDERAL (CP: 1225)","1225","CAPITAL FEDERAL","CAPITAL FEDERAL","METROPOLITANA",18,"OMAR PRESAS"]
[null,"CAPITAL FEDERAL (CP: 1226)","1226","CAPITAL FEDERAL","CAPITAL FEDERAL","METROPOLITANA",18,"OMAR PRESAS"]
[null,"CAPITAL FEDERAL (CP: 1227)","1227","CAPITAL FEDERAL","CAPITAL FEDERAL","METROPOLITANA",18,"OMAR PRESAS"]
[null,"CAPITAL FEDERAL (CP: 1228)","1228","CAPITAL FEDERAL","CAPITAL FEDERAL","METROPOLITANA",18,"OMAR PRESAS"]
[null,"CAPITAL FEDERAL (CP: 1229)","1229","CAPITAL FEDERAL","CAPITAL FEDERAL","METROPOLITANA",18,"OMAR PRESAS"]
[null,"CAPITAL FEDERAL (CP: 1230)","1230","CAPITAL FEDERAL","CAPITAL FEDERAL","METROPOLITANA",18,"OMAR PRESAS"]
[null,"CAPITAL FEDERAL (CP: 1231)","1231","CAPITAL FEDERAL","CAPITAL FEDERAL","METROPOLITANA",18,"OMAR PRESAS"]
[null,"CAPITAL FEDERAL (CP: 1232)","1232","CAPITAL FEDERAL","CAPITAL FEDERAL","METROPOLITANA",18,"OMAR PRESAS"]
[null,"CAPITAL FEDERAL (CP: 1233)","1233","CAPITAL FEDERAL","CAPITAL FEDERAL","METROPOLITANA",18,"OMAR PRESAS"]
[null,"CAPITAL FEDERAL (CP: 1234)","1234","CAPITAL FEDERAL","CAPITAL FEDERAL","METROPOLITANA",18,"OMAR PRESAS"]
[null,"CAPITAL FEDERAL (CP: 1235)","1235","CAPITAL FEDERAL","CAPITAL FEDERAL","METROPOLITANA",18,"OMAR PRESAS"]
[null,"CAPITAL FEDERAL (CP: 1236)","1236","CAPITAL FEDERAL","CAPITAL FEDERAL","METROPOLITANA",18,"OMAR PRESAS"]
[null,"CAPITAL FEDERAL (CP: 1237)","1237","CAPITAL FEDERAL","CAPITAL FEDERAL","METROPOLITANA",18,"OMAR PRESAS"]
[null,"CAPITAL FEDERAL (CP: 1238)","1238","CAPITAL FEDERAL","CAPITAL FEDERAL","METROPOLITANA",18,"OMAR PRESAS"]
[null,"CAPITAL FEDERAL (CP: 1239)","1239","CAPITAL FEDERAL","CAPITAL FEDERAL","METROPOLITANA",18,"OMAR PRESAS"]
[null,"CAPITAL FEDERAL (CP: 1240)","1240","CAPITAL FEDERAL","CAPITAL FEDERAL","METROPOLITANA",31,"PABLO CIMINARI"]
[null,"CAPITAL FEDERAL (CP: 1241)","1241","CAPITAL FEDERAL","CAPITAL FEDERAL","METROPOLITANA",31,"PABLO CIMINARI"]
[null,"CAPITAL FEDERAL (CP: 1242)","1242","CAPITAL FEDERAL","CAPITAL FEDERAL","METROPOLITANA",31,"PABLO CIMINARI"]
[null,"CAPITAL FEDERAL (CP: 1243)","1243","CAPITAL FEDERAL","CAPITAL FEDERAL","METROPOLITANA",31,"PABLO CIMINARI"]
[null,"CAPITAL FEDERAL (CP: 1245)","1245","CAPITAL FEDERAL","CAPITAL FEDERAL","METROPOLITANA",31,"PABLO CIMINARI"]
[null,"CAPITAL FEDERAL (CP: 1246)","1246","CAPITAL FEDERAL","CAPITAL FEDERAL","METROPOLITANA",31,"PABLO CIMINARI"]
[null,"CAPITAL FEDERAL (CP: 1247)","1247","CAPITAL FEDERAL","CAPITAL FEDERAL","METROPOLITANA",31,"PABLO CIMINARI"]
[null,"CAPITAL FEDERAL (CP: 1248)","1248","CAPITAL FEDERAL","CAPITAL FEDERAL","METROPOLITANA",31,"PABLO CIMINARI"]
[null,"CAPITAL FEDERAL (CP: 1249)","1249","CAPITAL FEDERAL","CAPITAL FEDERAL","METROPOLITANA",31,"PABLO CIMINARI"]
[null,"CAPITAL FEDERAL (CP: 1250)","1250","CAPITAL FEDERAL","CAPITAL FEDERAL","METROPOLITANA",31,"PABLO CIMINARI"]
[null,"CAPITAL FEDERAL (CP: 1251)","1251","CAPITAL FEDERAL","CAPITAL FEDERAL","METROPOLITANA",31,"PABLO CIMINARI"]
[null,"CAPITAL FEDERAL (CP: 1252)","1252","CAPITAL FEDERAL","CAPITAL FEDERAL","METROPOLITANA",31,"PABLO CIMINARI"]
[null,"CAPITAL FEDERAL (CP: 1253)","1253","CAPITAL FEDERAL","CAPITAL FEDERAL","METROPOLITANA",31,"PABLO CIMINARI"]
[null,"CAPITAL FEDERAL (CP: 1254)","1254","CAPITAL FEDERAL","CAPITAL FEDERAL","METROPOLITANA",31,"PABLO CIMINARI"]
[null,"CAPITAL FEDERAL (CP: 1255)","1255","CAPITAL FEDERAL","CAPITAL FEDERAL","METROPOLITANA",31,"PABLO CIMINARI"]
[null,"CAPITAL FEDERAL (CP: 1256)","1256","CAPITAL FEDERAL","CAPITAL FEDERAL","METROPOLITANA",31,"PABLO CIMINARI"]
[null,"CAPITAL FEDERAL (CP: 1257)","1257","CAPITAL FEDERAL","CAPITAL FEDERAL","METROPOLITANA",31,"PABLO CIMINARI"]
[null,"CAPITAL FEDERAL (CP: 1258)","1258","CAPITAL FEDERAL","CAPITAL FEDERAL","METROPOLITANA",18,"OMAR PRESAS"]
[null,"CAPITAL FEDERAL (CP: 1259)","1259","CAPITAL FEDERAL","CAPITAL FEDERAL","METROPOLITANA",18,"OMAR PRESAS"]
[null,"CAPITAL FEDERAL (CP: 1260)","1260","CAPITAL FEDERAL","CAPITAL FEDERAL","METROPOLITANA",18,"OMAR PRESAS"]
[null,"CAPITAL FEDERAL (CP: 1261)","1261","CAPITAL FEDERAL","CAPITAL FEDERAL","METROPOLITANA",18,"OMAR PRESAS"]
[null,"CAPITAL FEDERAL (CP: 1262)","1262","CAPITAL FEDERAL","CAPITAL FEDERAL","METROPOLITANA",18,"OMAR PRESAS"]
[null,"CAPITAL FEDERAL (CP: 1263)","1263","CAPITAL FEDERAL","CAPITAL FEDERAL","METROPOLITANA",18,"OMAR PRESAS"]
[null,"CAPITAL FEDERAL (CP: 1264)","1264","CAPITAL FEDERAL","CAPITAL FEDERAL","METROPOLITANA",18,"OMAR PRESAS"]
[null,"CAPITAL FEDERAL (CP: 1265)","1265","CAPITAL FEDERAL","CAPITAL FEDERAL","METROPOLITANA",18,"OMAR PRESAS"]
[null,"CAPITAL FEDERAL (CP: 1266)","1266","CAPITAL FEDERAL","CAPITAL FEDERAL","METROPOLITANA",18,"OMAR PRESAS"]
[null,"CAPITAL FEDERAL (CP: 1267)","1267","CAPITAL FEDERAL","CAPITAL FEDERAL","METROPOLITANA",18,"OMAR PRESAS"]
[null,"CAPITAL FEDERAL (CP: 1268)","1268","CAPITAL FEDERAL","CAPITAL FEDERAL","METROPOLITANA",18,"OMAR PRESAS"]
[null,"CAPITAL FEDERAL (CP: 1269)","1269","CAPITAL FEDERAL","CAPITAL FEDERAL","METROPOLITANA",18,"OMAR PRESAS"]
[null,"CAPITAL FEDERAL (CP: 1270)","1270","CAPITAL FEDERAL","CAPITAL FEDERAL","METROPOLITANA",18,"OMAR PRESAS"]
[null,"CAPITAL FEDERAL (CP: 1271)","1271","CAPITAL FEDERAL","CAPITAL FEDERAL","METROPOLITANA",18,"OMAR PRESAS"]
[null,"CAPITAL FEDERAL (CP: 1272)","1272","CAPITAL FEDERAL","CAPITAL FEDERAL","METROPOLITANA",18,"OMAR PRESAS"]
[null,"CAPITAL FEDERAL (CP: 1273)","1273","CAPITAL FEDERAL","CAPITAL FEDERAL","METROPOLITANA",18,"OMAR PRESAS"]
[null,"CAPITAL FEDERAL (CP: 1274)","1274","CAPITAL FEDERAL","CAPITAL FEDERAL","METROPOLITANA",18,"OMAR PRESAS"]
[null,"CAPITAL FEDERAL (CP: 1275)","1275","CAPITAL FEDERAL","CAPITAL FEDERAL","METROPOLITANA",18,"OMAR PRESAS"]
[null,"CAPITAL FEDERAL (CP: 1276)","1276","CAPITAL FEDERAL","CAPITAL FEDERAL","METROPOLITANA",18,"OMAR PRESAS"]
[null,"CAPITAL FEDERAL (CP: 1277)","1277","CAPITAL FEDERAL","CAPITAL FEDERAL","METROPOLITANA",18,"OMAR PRESAS"]
[null,"CAPITAL FEDERAL (CP: 1278)","1278","CAPITAL FEDERAL","CAPITAL FEDERAL","METROPOLITANA",18,"OMAR PRESAS"]
[null,"CAPITAL FEDERAL (CP: 1279)","1279","CAPITAL FEDERAL","CAPITAL FEDERAL","METROPOLITANA",18,"OMAR PRESAS"]
[null,"CAPITAL FEDERAL (CP: 1280)","1280","CAPITAL FEDERAL","CAPITAL FEDERAL","METROPOLITANA",18,"OMAR PRESAS"]
[null,"CAPITAL FEDERAL (CP: 1281)","1281","CAPITAL FEDERAL","CAPITAL FEDERAL","METROPOLITANA",18,"OMAR PRESAS"]
[null,"CAPITAL FEDERAL (CP: 1282)","1282","CAPITAL FEDERAL","CAPITAL FEDERAL","METROPOLITANA",18,"OMAR PRESAS"]
[null,"CAPITAL FEDERAL (CP: 1283)","1283","CAPITAL FEDERAL","CAPITAL FEDERAL","METROPOLITANA",18,"OMAR PRESAS"]
[null,"CAPITAL FEDERAL (CP: 1284)","1284","CAPITAL FEDERAL","CAPITAL FEDERAL","METROPOLITANA",18,"OMAR PRESAS"]
[null,"CAPITAL FEDERAL (CP: 1285)","1285","CAPITAL FEDERAL","CAPITAL FEDERAL","METROPOLITANA",18,"OMAR PRESAS"]
[null,"CAPITAL FEDERAL (CP: 1286)","1286","CAPITAL FEDERAL","CAPITAL FEDERAL","METROPOLITANA",18,"OMAR PRESAS"]
[null,"CAPITAL FEDERAL (CP: 1287)","1287","CAPITAL FEDERAL","CAPITAL FEDERAL","METROPOLITANA",18,"OMAR PRESAS"]
[null,"CAPITAL FEDERAL (CP: 1288)","1288","CAPITAL FEDERAL","CAPITAL FEDERAL","METROPOLITANA",18,"OMAR PRESAS"]
[null,"CAPITAL FEDERAL (CP: 1289)","1289","CAPITAL FEDERAL","CAPITAL FEDERAL","METROPOLITANA",18,"OMAR PRESAS"]
[null,"CAPITAL FEDERAL (CP: 1290)","1290","CAPITAL FEDERAL","CAPITAL FEDERAL","METROPOLITANA",18,"OMAR PRESAS"]
[null,"CAPITAL FEDERAL (CP: 1291)","1291","CAPITAL FEDERAL","CAPITAL FEDERAL","METROPOLITANA",18,"OMAR PRESAS"]
[null,"CAPITAL FEDERAL (CP: 1292)","1292","CAPITAL FEDERAL","CAPITAL FEDERAL","METROPOLITANA",18,"OMAR PRESAS"]
[null,"CAPITAL FEDERAL (CP: 1293)","1293","CAPITAL FEDERAL","CAPITAL FEDERAL","METROPOLITANA",18,"OMAR PRESAS"]
[null,"CAPITAL FEDERAL (CP: 1294)","1294","CAPITAL FEDERAL","CAPITAL FEDERAL","METROPOLITANA",18,"OMAR PRESAS"]
[null,"CAPITAL FEDERAL (CP: 1295)","1295","CAPITAL FEDERAL","CAPITAL FEDERAL","METROPOLITANA",18,"OMAR PRESAS"]
[null,"CAPITAL FEDERAL (CP: 1296)","1296","CAPITAL FEDERAL","CAPITAL FEDERAL","METROPOLITANA",18,"OMAR PRESAS"]
[null,"CAPITAL FEDERAL (CP: 1300)","1300","CAPITAL FEDERAL","CAPITAL FEDERAL","METROPOLITANA",31,"PABLO CIMINARI"]
[null,"CAPITAL FEDERAL (CP: 1301)","1301","CAPITAL FEDERAL","CAPITAL FEDERAL","METROPOLITANA",31,"PABLO CIMINARI"]
[null,"CAPITAL FEDERAL (CP: 1302)","1302","CAPITAL FEDERAL","CAPITAL FEDERAL","METROPOLITANA",31,"PABLO CIMINARI"]
[null,"CAPITAL FEDERAL (CP: 1303)","1303","CAPITAL FEDERAL","CAPITAL FEDERAL","METROPOLITANA",31,"PABLO CIMINARI"]
[null,"CAPITAL FEDERAL (CP: 1304)","1304","CAPITAL FEDERAL","CAPITAL FEDERAL","METROPOLITANA",31,"PABLO CIMINARI"]
[null,"CAPITAL FEDERAL (CP: 1305)","1305","CAPITAL FEDERAL","CAPITAL FEDERAL","METROPOLITANA",31,"PABLO CIMINARI"]
[null,"CAPITAL FEDERAL (CP: 1306)","1306","CAPITAL FEDERAL","CAPITAL FEDERAL","METROPOLITANA",31,"PABLO CIMINARI"]
[null,"CAPITAL FEDERAL (CP: 1307)","1307","CAPITAL FEDERAL","CAPITAL FEDERAL","METROPOLITANA",31,"PABLO CIMINARI"]
[null,"CAPITAL FEDERAL (CP: 1308)","1308","CAPITAL FEDERAL","CAPITAL FEDERAL","METROPOLITANA",31,"PABLO CIMINARI"]
[null,"CAPITAL FEDERAL (CP: 1309)","1309","CAPITAL FEDERAL","CAPITAL FEDERAL","METROPOLITANA",31,"PABLO CIMINARI"]
[null,"CAPITAL FEDERAL (CP: 1310)","1310","CAPITAL FEDERAL","CAPITAL FEDERAL","METROPOLITANA",31,"PABLO CIMINARI"]
[null,"CAPITAL FEDERAL (CP: 1311)","1311","CAPITAL FEDERAL","CAPITAL FEDERAL","METROPOLITANA",31,"PABLO CIMINARI"]
[null,"CAPITAL FEDERAL (CP: 1312)","1312","CAPITAL FEDERAL","CAPITAL FEDERAL","METROPOLITANA",31,"PABLO CIMINARI"]
[null,"CAPITAL FEDERAL (CP: 1313)","1313","CAPITAL FEDERAL","CAPITAL FEDERAL","METROPOLITANA",31,"PABLO CIMINARI"]
[null,"CAPITAL FEDERAL (CP: 1314)","1314","CAPITAL FEDERAL","CAPITAL FEDERAL","METROPOLITANA",31,"PABLO CIMINARI"]
[null,"CAPITAL FEDERAL (CP: 1315)","1315","CAPITAL FEDERAL","CAPITAL FEDERAL","METROPOLITANA",31,"PABLO CIMINARI"]
[null,"CAPITAL FEDERAL (CP: 1316)","1316","CAPITAL FEDERAL","CAPITAL FEDERAL","METROPOLITANA",31,"PABLO CIMINARI"]
[null,"CAPITAL FEDERAL (CP: 1317)","1317","CAPITAL FEDERAL","CAPITAL FEDERAL","METROPOLITANA",31,"PABLO CIMINARI"]
[null,"CAPITAL FEDERAL (CP: 1318)","1318","CAPITAL FEDERAL","CAPITAL FEDERAL","METROPOLITANA",31,"PABLO CIMINARI"]
[null,"CAPITAL FEDERAL (CP: 1319)","1319","CAPITAL FEDERAL","CAPITAL FEDERAL","METROPOLITANA",31,"PABLO CIMINARI"]
[null,"CAPITAL FEDERAL (CP: 1320)","1320","CAPITAL FEDERAL","CAPITAL FEDERAL","METROPOLITANA",31,"PABLO CIMINARI"]
[null,"CAPITAL FEDERAL (CP: 1321)","1321","CAPITAL FEDERAL","CAPITAL FEDERAL","METROPOLITANA",31,"PABLO CIMINARI"]
[null,"CAPITAL FEDERAL (CP: 1322)","1322","CAPITAL FEDERAL","CAPITAL FEDERAL","METROPOLITANA",31,"PABLO CIMINARI"]
[null,"CAPITAL FEDERAL (CP: 1323)","1323","CAPITAL FEDERAL","CAPITAL FEDERAL","METROPOLITANA",31,"PABLO CIMINARI"]
[null,"CAPITAL FEDERAL (CP: 1324)","1324","CAPITAL FEDERAL","CAPITAL FEDERAL","METROPOLITANA",31,"PABLO CIMINARI"]
[null,"CAPITAL FEDERAL (CP: 1325)","1325","CAPITAL FEDERAL","CAPITAL FEDERAL","METROPOLITANA",31,"PABLO CIMINARI"]
[null,"CAPITAL FEDERAL (CP: 1326)","1326","CAPITAL FEDERAL","CAPITAL FEDERAL","METROPOLITANA",31,"PABLO CIMINARI"]
[null,"CAPITAL FEDERAL (CP: 1327)","1327","CAPITAL FEDERAL","CAPITAL FEDERAL","METROPOLITANA",31,"PABLO CIMINARI"]
[null,"CAPITAL FEDERAL (CP: 1328)","1328","CAPITAL FEDERAL","CAPITAL FEDERAL","METROPOLITANA",31,"PABLO CIMINARI"]
[null,"CAPITAL FEDERAL (CP: 1329)","1329","CAPITAL FEDERAL","CAPITAL FEDERAL","METROPOLITANA",31,"PABLO CIMINARI"]
[null,"CAPITAL FEDERAL (CP: 1330)","1330","CAPITAL FEDERAL","CAPITAL FEDERAL","METROPOLITANA",31,"PABLO CIMINARI"]
[null,"CAPITAL FEDERAL (CP: 1331)","1331","CAPITAL FEDERAL","CAPITAL FEDERAL","METROPOLITANA",31,"PABLO CIMINARI"]
[null,"CAPITAL FEDERAL (CP: 1332)","1332","CAPITAL FEDERAL","CAPITAL FEDERAL","METROPOLITANA",31,"PABLO CIMINARI"]
[null,"CAPITAL FEDERAL (CP: 1333)","1333","CAPITAL FEDERAL","CAPITAL FEDERAL","METROPOLITANA",31,"PABLO CIMINARI"]
[null,"CAPITAL FEDERAL (CP: 1334)","1334","CAPITAL FEDERAL","CAPITAL FEDERAL","METROPOLITANA",31,"PABLO CIMINARI"]
[null,"CAPITAL FEDERAL (CP: 1335)","1335","CAPITAL FEDERAL","CAPITAL FEDERAL","METROPOLITANA",31,"PABLO CIMINARI"]
[null,"CAPITAL FEDERAL (CP: 1336)","1336","CAPITAL FEDERAL","CAPITAL FEDERAL","METROPOLITANA",31,"PABLO CIMINARI"]
[null,"CAPITAL FEDERAL (CP: 1337)","1337","CAPITAL FEDERAL","CAPITAL FEDERAL","METROPOLITANA",31,"PABLO CIMINARI"]
[null,"CAPITAL FEDERAL (CP: 1338)","1338","CAPITAL FEDERAL","CAPITAL FEDERAL","METROPOLITANA",31,"PABLO CIMINARI"]
[null,"CAPITAL FEDERAL (CP: 1339)","1339","CAPITAL FEDERAL","CAPITAL FEDERAL","METROPOLITANA",31,"PABLO CIMINARI"]
[null,"CAPITAL FEDERAL (CP: 1340)","1340","CAPITAL FEDERAL","CAPITAL FEDERAL","METROPOLITANA",31,"PABLO CIMINARI"]
[null,"CAPITAL FEDERAL (CP: 1341)","1341","CAPITAL FEDERAL","CAPITAL FEDERAL","METROPOLITANA",31,"PABLO CIMINARI"]
[null,"CAPITAL FEDERAL (CP: 1342)","1342","CAPITAL FEDERAL","CAPITAL FEDERAL","METROPOLITANA",31,"PABLO CIMINARI"]
[null,"CAPITAL FEDERAL (CP: 1343)","1343","CAPITAL FEDERAL","CAPITAL FEDERAL","METROPOLITANA",31,"PABLO CIMINARI"]
[null,"CAPITAL FEDERAL (CP: 1344)","1344","CAPITAL FEDERAL","CAPITAL FEDERAL","METROPOLITANA",31,"PABLO CIMINARI"]
[null,"CAPITAL FEDERAL (CP: 1345)","1345","CAPITAL FEDERAL","CAPITAL FEDERAL","METROPOLITANA",31,"PABLO CIMINARI"]
[null,"CAPITAL FEDERAL (CP: 1346)","1346","CAPITAL FEDERAL","CAPITAL FEDERAL","METROPOLITANA",31,"PABLO CIMINARI"]
[null,"CAPITAL FEDERAL (CP: 1347)","1347","CAPITAL FEDERAL","CAPITAL FEDERAL","METROPOLITANA",31,"PABLO CIMINARI"]
[null,"CAPITAL FEDERAL (CP: 1348)","1348","CAPITAL FEDERAL","CAPITAL FEDERAL","METROPOLITANA",31,"PABLO CIMINARI"]
[null,"CAPITAL FEDERAL (CP: 1349)","1349","CAPITAL FEDERAL","CAPITAL FEDERAL","METROPOLITANA",31,"PABLO CIMINARI"]
[null,"CAPITAL FEDERAL (CP: 1350)","1350","CAPITAL FEDERAL","CAPITAL FEDERAL","METROPOLITANA",31,"PABLO CIMINARI"]
[null,"CAPITAL FEDERAL (CP: 1351)","1351","CAPITAL FEDERAL","CAPITAL FEDERAL","METROPOLITANA",31,"PABLO CIMINARI"]
[null,"CAPITAL FEDERAL (CP: 1352)","1352","CAPITAL FEDERAL","CAPITAL FEDERAL","METROPOLITANA",31,"PABLO CIMINARI"]
[null,"CAPITAL FEDERAL (CP: 1353)","1353","CAPITAL FEDERAL","CAPITAL FEDERAL","METROPOLITANA",31,"PABLO CIMINARI"]
[null,"CAPITAL FEDERAL (CP: 1354)","1354","CAPITAL FEDERAL","CAPITAL FEDERAL","METROPOLITANA",31,"PABLO CIMINARI"]
[null,"CAPITAL FEDERAL (CP: 1355)","1355","CAPITAL FEDERAL","CAPITAL FEDERAL","METROPOLITANA",31,"PABLO CIMINARI"]
[null,"CAPITAL FEDERAL (CP: 1356)","1356","CAPITAL FEDERAL","CAPITAL FEDERAL","METROPOLITANA",31,"PABLO CIMINARI"]
[null,"CAPITAL FEDERAL (CP: 1357)","1357","CAPITAL FEDERAL","CAPITAL FEDERAL","METROPOLITANA",31,"PABLO CIMINARI"]
[null,"CAPITAL FEDERAL (CP: 1358)","1358","CAPITAL FEDERAL","CAPITAL FEDERAL","METROPOLITANA",31,"PABLO CIMINARI"]
[null,"CAPITAL FEDERAL (CP: 1359)","1359","CAPITAL FEDERAL","CAPITAL FEDERAL","METROPOLITANA",31,"PABLO CIMINARI"]
[null,"CAPITAL FEDERAL (CP: 1360)","1360","CAPITAL FEDERAL","CAPITAL FEDERAL","METROPOLITANA",31,"PABLO CIMINARI"]
[null,"CAPITAL FEDERAL (CP: 1361)","1361","CAPITAL FEDERAL","CAPITAL FEDERAL","METROPOLITANA",31,"PABLO CIMINARI"]
[null,"CAPITAL FEDERAL (CP: 1362)","1362","CAPITAL FEDERAL","CAPITAL FEDERAL","METROPOLITANA",31,"PABLO CIMINARI"]
[null,"CAPITAL FEDERAL (CP: 1363)","1363","CAPITAL FEDERAL","CAPITAL FEDERAL","METROPOLITANA",31,"PABLO CIMINARI"]
[null,"CAPITAL FEDERAL (CP: 1364)","1364","CAPITAL FEDERAL","CAPITAL FEDERAL","METROPOLITANA",31,"PABLO CIMINARI"]
[null,"CAPITAL FEDERAL (CP: 1365)","1365","CAPITAL FEDERAL","CAPITAL FEDERAL","METROPOLITANA",31,"PABLO CIMINARI"]
[null,"CAPITAL FEDERAL (CP: 1366)","1366","CAPITAL FEDERAL","CAPITAL FEDERAL","METROPOLITANA",31,"PABLO CIMINARI"]
[null,"CAPITAL FEDERAL (CP: 1367)","1367","CAPITAL FEDERAL","CAPITAL FEDERAL","METROPOLITANA",31,"PABLO CIMINARI"]
[null,"CAPITAL FEDERAL (CP: 1368)","1368","CAPITAL FEDERAL","CAPITAL FEDERAL","METROPOLITANA",31,"PABLO CIMINARI"]
[null,"CAPITAL FEDERAL (CP: 1369)","1369","CAPITAL FEDERAL","CAPITAL FEDERAL","METROPOLITANA",31,"PABLO CIMINARI"]
[null,"CAPITAL FEDERAL (CP: 1370)","1370","CAPITAL FEDERAL","CAPITAL FEDERAL","METROPOLITANA",31,"PABLO CIMINARI"]
[null,"CAPITAL FEDERAL (CP: 1371)","1371","CAPITAL FEDERAL","CAPITAL FEDERAL","METROPOLITANA",31,"PABLO CIMINARI"]
[null,"CAPITAL FEDERAL (CP: 1372)","1372","CAPITAL FEDERAL","CAPITAL FEDERAL","METROPOLITANA",31,"PABLO CIMINARI"]
[null,"CAPITAL FEDERAL (CP: 1373)","1373","CAPITAL FEDERAL","CAPITAL FEDERAL","METROPOLITANA",31,"PABLO CIMINARI"]
[null,"CAPITAL FEDERAL (CP: 1374)","1374","CAPITAL FEDERAL","CAPITAL FEDERAL","METROPOLITANA",31,"PABLO CIMINARI"]
[null,"CAPITAL FEDERAL (CP: 1375)","1375","CAPITAL FEDERAL","CAPITAL FEDERAL","METROPOLITANA",31,"PABLO CIMINARI"]
[null,"CAPITAL FEDERAL (CP: 1376)","1376","CAPITAL FEDERAL","CAPITAL FEDERAL","METROPOLITANA",31,"PABLO CIMINARI"]
[null,"CAPITAL FEDERAL (CP: 1377)","1377","CAPITAL FEDERAL","CAPITAL FEDERAL","METROPOLITANA",31,"PABLO CIMINARI"]
[null,"CAPITAL FEDERAL (CP: 1378)","1378","CAPITAL FEDERAL","CAPITAL FEDERAL","METROPOLITANA",31,"PABLO CIMINARI"]
[null,"CAPITAL FEDERAL (CP: 1379)","1379","CAPITAL FEDERAL","CAPITAL FEDERAL","METROPOLITANA",31,"PABLO CIMINARI"]
[null,"CAPITAL FEDERAL (CP: 1380)","1380","CAPITAL FEDERAL","CAPITAL FEDERAL","METROPOLITANA",31,"PABLO CIMINARI"]
[null,"CAPITAL FEDERAL (CP: 1381)","1381","CAPITAL FEDERAL","CAPITAL FEDERAL","METROPOLITANA",31,"PABLO CIMINARI"]
[null,"CAPITAL FEDERAL (CP: 1382)","1382","CAPITAL FEDERAL","CAPITAL FEDERAL","METROPOLITANA",31,"PABLO CIMINARI"]
[null,"CAPITAL FEDERAL (CP: 1383)","1383","CAPITAL FEDERAL","CAPITAL FEDERAL","METROPOLITANA",31,"PABLO CIMINARI"]
[null,"CAPITAL FEDERAL (CP: 1384)","1384","CAPITAL FEDERAL","CAPITAL FEDERAL","METROPOLITANA",31,"PABLO CIMINARI"]
[null,"CAPITAL FEDERAL (CP: 1385)","1385","CAPITAL FEDERAL","CAPITAL FEDERAL","METROPOLITANA",31,"PABLO CIMINARI"]
[null,"CAPITAL FEDERAL (CP: 1386)","1386","CAPITAL FEDERAL","CAPITAL FEDERAL","METROPOLITANA",31,"PABLO CIMINARI"]
[null,"CAPITAL FEDERAL (CP: 1387)","1387","CAPITAL FEDERAL","CAPITAL FEDERAL","METROPOLITANA",31,"PABLO CIMINARI"]
[null,"CAPITAL FEDERAL (CP: 1388)","1388","CAPITAL FEDERAL","CAPITAL FEDERAL","METROPOLITANA",31,"PABLO CIMINARI"]
[null,"CAPITAL FEDERAL (CP: 1389)","1389","CAPITAL FEDERAL","CAPITAL FEDERAL","METROPOLITANA",31,"PABLO CIMINARI"]
[null,"CAPITAL FEDERAL (CP: 1390)","1390","CAPITAL FEDERAL","CAPITAL FEDERAL","METROPOLITANA",31,"PABLO CIMINARI"]
[null,"CAPITAL FEDERAL (CP: 1391)","1391","CAPITAL FEDERAL","CAPITAL FEDERAL","METROPOLITANA",31,"PABLO CIMINARI"]
[null,"CAPITAL FEDERAL (CP: 1392)","1392","CAPITAL FEDERAL","CAPITAL FEDERAL","METROPOLITANA",31,"PABLO CIMINARI"]
[null,"CAPITAL FEDERAL (CP: 1393)","1393","CAPITAL FEDERAL","CAPITAL FEDERAL","METROPOLITANA",31,"PABLO CIMINARI"]
[null,"CAPITAL FEDERAL (CP: 1394)","1394","CAPITAL FEDERAL","CAPITAL FEDERAL","METROPOLITANA",31,"PABLO CIMINARI"]
[null,"CAPITAL FEDERAL (CP: 1395)","1395","CAPITAL FEDERAL","CAPITAL FEDERAL","METROPOLITANA",31,"PABLO CIMINARI"]
[null,"CAPITAL FEDERAL (CP: 1396)","1396","CAPITAL FEDERAL","CAPITAL FEDERAL","METROPOLITANA",31,"PABLO CIMINARI"]
[null,"CAPITAL FEDERAL (CP: 1397)","1397","CAPITAL FEDERAL","CAPITAL FEDERAL","METROPOLITANA",31,"PABLO CIMINARI"]
[null,"CAPITAL FEDERAL (CP: 1398)","1398","CAPITAL FEDERAL","CAPITAL FEDERAL","METROPOLITANA",31,"PABLO CIMINARI"]
[null,"CAPITAL FEDERAL (CP: 1399)","1399","CAPITAL FEDERAL","CAPITAL FEDERAL","METROPOLITANA",31,"PABLO CIMINARI"]
[null,"CAPITAL FEDERAL (CP: 1400)","1400","CAPITAL FEDERAL","CAPITAL FEDERAL","METROPOLITANA",18,"OMAR PRESAS"]
[null,"CAPITAL FEDERAL (CP: 1401)","1401","CAPITAL FEDERAL","CAPITAL FEDERAL","METROPOLITANA",18,"OMAR PRESAS"]
[null,"CAPITAL FEDERAL (CP: 1405)","1405","CAPITAL FEDERAL","CAPITAL FEDERAL","METROPOLITANA",18,"OMAR PRESAS"]
[null,"CAPITAL FEDERAL (CP: 1406)","1406","CAPITAL FEDERAL","CAPITAL FEDERAL","METROPOLITANA",18,"OMAR PRESAS"]
[null,"CAPITAL FEDERAL (CP: 1407)","1407","CAPITAL FEDERAL","CAPITAL FEDERAL","METROPOLITANA",18,"OMAR PRESAS"]
[null,"CAPITAL FEDERAL (CP: 1408)","1408","CAPITAL FEDERAL","CAPITAL FEDERAL","METROPOLITANA",18,"OMAR PRESAS"]
[null,"CAPITAL FEDERAL (CP: 1413)","1413","CAPITAL FEDERAL","CAPITAL FEDERAL","METROPOLITANA",18,"OMAR PRESAS"]
[null,"CAPITAL FEDERAL (CP: 1414)","1414","CAPITAL FEDERAL","CAPITAL FEDERAL","METROPOLITANA",29,"JOSE MESSALA"]
[null,"CAPITAL FEDERAL (CP: 1416)","1416","CAPITAL FEDERAL","CAPITAL FEDERAL","METROPOLITANA",29,"JOSE MESSALA"]
[null,"CAPITAL FEDERAL (CP: 1417)","1417","CAPITAL FEDERAL","CAPITAL FEDERAL","METROPOLITANA",18,"OMAR PRESAS"]
[null,"CAPITAL FEDERAL (CP: 1418)","1418","CAPITAL FEDERAL","CAPITAL FEDERAL","METROPOLITANA",18,"OMAR PRESAS"]
[null,"CAPITAL FEDERAL (CP: 1419)","1419","CAPITAL FEDERAL","CAPITAL FEDERAL","METROPOLITANA",18,"OMAR PRESAS"]
[null,"CAPITAL FEDERAL (CP: 1422)","1422","CAPITAL FEDERAL","CAPITAL FEDERAL","METROPOLITANA",18,"OMAR PRESAS"]
[null,"CAPITAL FEDERAL (CP: 1424)","1424","CAPITAL FEDERAL","CAPITAL FEDERAL","METROPOLITANA",18,"OMAR PRESAS"]
[null,"CAPITAL FEDERAL (CP: 1425)","1425","CAPITAL FEDERAL","CAPITAL FEDERAL","METROPOLITANA",29,"JOSE MESSALA"]
[null,"CAPITAL FEDERAL (CP: 1426)","1426","CAPITAL FEDERAL","CAPITAL FEDERAL","METROPOLITANA",29,"JOSE MESSALA"]
[null,"CAPITAL FEDERAL (CP: 1427)","1427","CAPITAL FEDERAL","CAPITAL FEDERAL","METROPOLITANA",29,"JOSE MESSALA"]
[null,"CAPITAL FEDERAL (CP: 1428)","1428","CAPITAL FEDERAL","CAPITAL FEDERAL","METROPOLITANA",29,"JOSE MESSALA"]
[null,"CAPITAL FEDERAL (CP: 1429)","1429","CAPITAL FEDERAL","CAPITAL FEDERAL","METROPOLITANA",29,"JOSE MESSALA"]
[null,"CAPITAL FEDERAL (CP: 1430)","1430","CAPITAL FEDERAL","CAPITAL FEDERAL","METROPOLITANA",29,"JOSE MESSALA"]
[null,"CAPITAL FEDERAL (CP: 1431)","1431","CAPITAL FEDERAL","CAPITAL FEDERAL","METROPOLITANA",29,"JOSE MESSALA"]
[null,"CAPITAL FEDERAL (CP: 1432)","1432","CAPITAL FEDERAL","CAPITAL FEDERAL","METROPOLITANA",18,"OMAR PRESAS"]
[null,"CAPITAL FEDERAL (CP: 1434)","1434","CAPITAL FEDERAL","CAPITAL FEDERAL","METROPOLITANA",18,"OMAR PRESAS"]
[null,"CAPITAL FEDERAL (CP: 1435)","1435","CAPITAL FEDERAL","CAPITAL FEDERAL","METROPOLITANA",18,"OMAR PRESAS"]
[null,"CAPITAL FEDERAL (CP: 1437)","1437","CAPITAL FEDERAL","CAPITAL FEDERAL","METROPOLITANA",29,"JOSE MESSALA"]
[null,"CAPITAL FEDERAL (CP: 1439)","1439","CAPITAL FEDERAL","CAPITAL FEDERAL","METROPOLITANA",18,"OMAR PRESAS"]
[null,"CAPITAL FEDERAL (CP: 1440)","1440","CAPITAL FEDERAL","CAPITAL FEDERAL","METROPOLITANA",18,"OMAR PRESAS"]
[null,"CAPITAL FEDERAL (CP: 1442)","1442","CAPITAL FEDERAL","CAPITAL FEDERAL","METROPOLITANA",18,"OMAR PRESAS"]
[null,"CAPITAL FEDERAL (CP: 1458)","1458","CAPITAL FEDERAL","CAPITAL FEDERAL","METROPOLITANA",18,"OMAR PRESAS"]
[null,"CAPITAL FEDERAL (CP: 1460)","1460","CAPITAL FEDERAL","CAPITAL FEDERAL","METROPOLITANA",18,"OMAR PRESAS"]
[null,"CAPITAL FEDERAL (CP: 1525)","1525","CAPITAL FEDERAL","CAPITAL FEDERAL","METROPOLITANA",18,"OMAR PRESAS"]
[null,"CAPITAL FEDERAL (CP: 1546)","1546","CAPITAL FEDERAL","CAPITAL FEDERAL","METROPOLITANA",18,"OMAR PRESAS"]
[null,"CAPITAL FEDERAL (CP: 1552)","1552","CAPITAL FEDERAL","CAPITAL FEDERAL","METROPOLITANA",18,"OMAR PRESAS"]
[null,"CAPITAL FEDERAL (CP: 1574)","1574","CAPITAL FEDERAL","CAPITAL FEDERAL","METROPOLITANA",18,"OMAR PRESAS"]
[null,"CAPITAL FEDERAL (CP: 1592)","1592","CAPITAL FEDERAL","CAPITAL FEDERAL","METROPOLITANA",18,"OMAR PRESAS"]
[null,"CAPITAL FEDERAL (CP: 1598)","1598","CAPITAL FEDERAL","CAPITAL FEDERAL","METROPOLITANA",18,"OMAR PRESAS"]
[null,"CAPITAL FEDERAL (CP: 1599)","1599","CAPITAL FEDERAL","CAPITAL FEDERAL","METROPOLITANA",18,"OMAR PRESAS"]
[null,"CAPITAL FEDERAL (CP: 1600)","1600","CAPITAL FEDERAL","CAPITAL FEDERAL","METROPOLITANA","29","JOSE MESSALA"]
[null,"CAPITAL FEDERAL (CP: 1670)","1670","CAPITAL FEDERAL","CAPITAL FEDERAL","METROPOLITANA","29","JOSE MESSALA"]
[null,"CAPITAL FEDERAL (CP: 1694)","1694","CAPITAL FEDERAL","CAPITAL FEDERAL","METROPOLITANA",18,"OMAR PRESAS"]
[null,"CAPITAL FEDERAL (CP: 1801)","1801","CAPITAL FEDERAL","CAPITAL FEDERAL","METROPOLITANA",31,"PABLO CIMINARI"]
[null,"CAPITAL FEDERAL (CP: 99999)","99999","CAPITAL FEDERAL","CAPITAL FEDERAL","LOS VALLES","22","OMAR PRESAS"]
[]
[]
[null,"BUENOS AIRES"]
[null,"CONCATENADO","CodigoPostal","Localidad","Provincia","Region","NRO AGENTE","NOMBRE"]
[null,"12 DE OCTUBRE (CP: 6501)","6501","12 DE OCTUBRE","BUENOS AIRES","METROPOLITANA",18,"OMAR PRESAS"]
[null,"16 DE JULIO (CP: 7313)","7313","16 DE JULIO","BUENOS AIRES","METROPOLITANA","123","CESAR RONCARI"]
[null,"17 DE AG0ST0 (CP: 8129)","8129","17 DE AG0ST0","BUENOS AIRES","METROPOLITANA",130,"GONZALO ROZADO"]
[null,"25 DE MAYO (CP: 6660)","6660","25 DE MAYO","BUENOS AIRES","METROPOLITANA",18,"OMAR PRESAS"]
[null,"30 DE AGOSTO (CP: 6405)","6405","30 DE AGOSTO","BUENOS AIRES","METROPOLITANA","123","CESAR RONCARI"]
[null,"9 DE ABRIL (CP: 1776)","1776","9 DE ABRIL","BUENOS AIRES","METROPOLITANA",18,"OMAR PRESAS"]
[null,"9 DE JULIO (CP: 6500)","6500","9 DE JULIO","BUENOS AIRES","METROPOLITANA",18,"OMAR PRESAS"]
[null,"A.ETCHEVERRY (CP: 1901)","1901","A.ETCHEVERRY","BUENOS AIRES","METROPOLITANA","31","PABLO CIMINARI"]
[null,"ABASTO (CP: 1903)","1903","ABASTO","BUENOS AIRES","METROPOLITANA","31","PABLO CIMINARI"]
[null,"ABBOTT (CP: 7228)","7228","ABBOTT","BUENOS AIRES","METROPOLITANA",31,"PABLO CIMINARI"]
[null,"ACASUSSO (CP: 1641)","1641","ACASUSSO","BUENOS AIRES","METROPOLITANA","29","JOSE MESSALA"]
[null,"ACEVEDO (CP: 2717)","2717","ACEVEDO","BUENOS AIRES","METROPOLITANA","29","JOSE MESSALA"]
[null,"ACHUPALLAS (CP: 6627)","6627","ACHUPALLAS","BUENOS AIRES","METROPOLITANA","123","CESAR RONCARI"]
[null,"ADOLFO GONZALES CHAVES (CP: 7513)","7513","ADOLFO GONZALES CHAVES","BUENOS AIRES","METROPOLITANA","123","CESAR RONCARI"]
[null,"ADROGUE (CP: 1846)","1846","ADROGUE","BUENOS AIRES","METROPOLITANA",31,"PABLO CIMINARI"]
[null,"AEROPUERTO EZEIZA (CP: 1802)","1802","AEROPUERTO EZEIZA","BUENOS AIRES","METROPOLITANA",31,"PABLO CIMINARI"]
[null,"AGUARA (CP: 8105)","8105","AGUARA","BUENOS AIRES","METROPOLITANA",130,"GONZALO ROZADO"]
[null,"AGUSTINA (CP: 6001)","6001","AGUSTINA","BUENOS AIRES","METROPOLITANA","23","OMAR PRESAS"]
[null,"ALBERTI (CP: 6634)","6634","ALBERTI","BUENOS AIRES","METROPOLITANA",18,"OMAR PRESAS"]
[null,"ALDEA ROMANA (CP: 8101)","8101","ALDEA ROMANA","BUENOS AIRES","METROPOLITANA",130,"GONZALO ROZADO"]
[null,"ALDO BONZI (CP: 1770)","1770","ALDO BONZI","BUENOS AIRES","METROPOLITANA",18,"OMAR PRESAS"]
[null,"ALEJANDRO KORN (CP: 1864)","1864","ALEJANDRO KORN","BUENOS AIRES","METROPOLITANA",31,"PABLO CIMINARI"]
[null,"ALEJANDRO PETION (CP: 1808)","1808","ALEJANDRO PETION","BUENOS AIRES","METROPOLITANA",31,"PABLO CIMINARI"]
[null,"ALFEREZ SAN MARTIN (CP: 8117)","8117","ALFEREZ SAN MARTIN","BUENOS AIRES","METROPOLITANA",130,"GONZALO ROZADO"]
[null,"ALFREDO DEMARCHI (CP: 6533)","6533","ALFREDO DEMARCHI","BUENOS AIRES","METROPOLITANA",30,"PABLO CIMINARI"]
[null,"ALFREDO FORTABAT (CP: 7005)","7005","ALFREDO FORTABAT","BUENOS AIRES","METROPOLITANA","123","CESAR RONCARI"]
[null,"ALGARROBO (CP: 8136)","8136","ALGARROBO","BUENOS AIRES","METROPOLITANA",130,"GONZALO ROZADO"]
[null,"ALIANZA (CP: 7007)","7007","ALIANZA","BUENOS AIRES","METROPOLITANA","123","CESAR RONCARI"]
[null,"ALMTE BROWN (CP: 1846)","1846","ALMTE BROWN","BUENOS AIRES","METROPOLITANA",31,"PABLO CIMINARI"]
[null,"ALSINA (CP: 2938)","2938","ALSINA","BUENOS AIRES","METROPOLITANA","29","JOSE MESSALA"]
[null,"ALTAMIRANO (CP: 1986)","1986","ALTAMIRANO","BUENOS AIRES","METROPOLITANA","31","PABLO CIMINARI"]
[null,"ALVAREZ JONTE (CP: 1921)","1921","ALVAREZ JONTE","BUENOS AIRES","METROPOLITANA","31","PABLO CIMINARI"]
[null,"ALZAGA (CP: 7513)","7513","ALZAGA","BUENOS AIRES","METROPOLITANA","123","CESAR RONCARI"]
[null,"AMALIA (CP: 6516)","6516","AMALIA","BUENOS AIRES","METROPOLITANA",30,"PABLO CIMINARI"]
[null,"AMEGHINO (CP: 6064)","6064","AMEGHINO","BUENOS AIRES","METROPOLITANA","23","OMAR PRESAS"]
[null,"AMERICA (CP: 6237)","6237","AMERICA","BUENOS AIRES","METROPOLITANA","123","CESAR RONCARI"]
[null,"ANDANT-DAIREAUX (CP: 6555)","6555","ANDANT-DAIREAUX","BUENOS AIRES","METROPOLITANA","123","CESAR RONCARI"]
[null,"ANDERSON (CP: 6621)","6621","ANDERSON","BUENOS AIRES","METROPOLITANA",18,"OMAR PRESAS"]
[null,"ANTONIO CARBONI (CP: 7243)","7243","ANTONIO CARBONI","BUENOS AIRES","METROPOLITANA",31,"PABLO CIMINARI"]
[null,"APARICIO (CP: 8158)","8158","APARICIO","BUENOS AIRES","METROPOLITANA","123","CESAR RONCARI"]
[null,"ARANA (CP: 1909)","1909","ARANA","BUENOS AIRES","METROPOLITANA","31","PABLO CIMINARI"]
[null,"ARANO (CP: 6443)","6443","ARANO","BUENOS AIRES","METROPOLITANA","123","CESAR RONCARI"]
[null,"ARAUJO (CP: 6643)","6643","ARAUJO","BUENOS AIRES","METROPOLITANA",18,"OMAR PRESAS"]
[null,"ARBOLEDAS (CP: 6557)","6557","ARBOLEDAS","BUENOS AIRES","METROPOLITANA","123","CESAR RONCARI"]
[null,"ARENAZA (CP: 6075)","6075","ARENAZA","BUENOS AIRES","METROPOLITANA","23","OMAR PRESAS"]
[null,"ARIEL (CP: 7301)","7301","ARIEL","BUENOS AIRES","METROPOLITANA","123","CESAR RONCARI"]
[null,"ARRECIFES (CP: 2740)","2740","ARRECIFES","BUENOS AIRES","METROPOLITANA","29","JOSE MESSALA"]
[null,"ARRIBEÑOS (CP: 6007)","6007","ARRIBEÑOS","BUENOS AIRES","METROPOLITANA","23","OMAR PRESAS"]
[null,"ARROYO CORTO (CP: 8172)","8172","ARROYO CORTO","BUENOS AIRES","METROPOLITANA","123","CESAR RONCARI"]
[null,"ARROYO DULCE (CP: 2743)","2743","ARROYO DULCE","BUENOS AIRES","METROPOLITANA","29","JOSE MESSALA"]
[null,"ARROYO LOS HUESOS (CP: 7301)","7301","ARROYO LOS HUESOS","BUENOS AIRES","METROPOLITANA","123","CESAR RONCARI"]
[null,"ARROYO VENADO (CP: 6437)","6437","ARROYO VENADO","BUENOS AIRES","METROPOLITANA","123","CESAR RONCARI"]
[null,"ARTURO VATTEONE (CP: 6433)","6433","ARTURO VATTEONE","BUENOS AIRES","METROPOLITANA","123","CESAR RONCARI"]
[null,"ASAMBLEA (CP: 6640)","6640","ASAMBLEA","BUENOS AIRES","METROPOLITANA",18,"OMAR PRESAS"]
[null,"ASCENSION (CP: 6003)","6003","ASCENSION","BUENOS AIRES","METROPOLITANA","23","OMAR PRESAS"]
[null,"AVELLANEDA (CP: 1870)","1870","AVELLANEDA","BUENOS AIRES","METROPOLITANA",31,"PABLO CIMINARI"]
[null,"AVESTRUZ (CP: 8183)","8183","AVESTRUZ","BUENOS AIRES","METROPOLITANA","123","CESAR RONCARI"]
[null,"AYACUCHO (CP: 7150)","7150","AYACUCHO","BUENOS AIRES","METROPOLITANA","123","CESAR RONCARI"]
[null,"AYACUCHO (CP: 7151)","7151","AYACUCHO","BUENOS AIRES","METROPOLITANA","123","CESAR RONCARI"]
[null,"AZOPARDO (CP: 8181)","8181","AZOPARDO","BUENOS AIRES","METROPOLITANA","123","CESAR RONCARI"]
[null,"AZUL (CP: 7300)","7300","AZUL","BUENOS AIRES","METROPOLITANA","123","CESAR RONCARI"]
[null,"BACACAY (CP: 6516)","6516","BACACAY","BUENOS AIRES","METROPOLITANA",30,"PABLO CIMINARI"]
[null,"BAHIA BLANCA (CP: 8000)","8000","BAHIA BLANCA","BUENOS AIRES","METROPOLITANA",130,"GONZALO ROZADO"]
[null,"BAIGORRITA (CP: 6013)","6013","BAIGORRITA","BUENOS AIRES","METROPOLITANA","29","JOSE MESSALA"]
[null,"BAJO HONDO (CP: 8115)","8115","BAJO HONDO","BUENOS AIRES","METROPOLITANA",130,"GONZALO ROZADO"]
[null,"BALCARCE (CP: 7620)","7620","BALCARCE","BUENOS AIRES","METROPOLITANA","123","CESAR RONCARI"]
[null,"BANDERALO (CP: 6244)","6244","BANDERALO","BUENOS AIRES","METROPOLITANA","123","CESAR RONCARI"]
[null,"BANFIELD (CP: 1820)","1820","BANFIELD","BUENOS AIRES","METROPOLITANA",31,"PABLO CIMINARI"]
[null,"BANFIELD (CP: 1828)","1828","BANFIELD","BUENOS AIRES","METROPOLITANA",31,"PABLO CIMINARI"]
[null,"BARADERO (CP: 2942)","2942","BARADERO","BUENOS AIRES","METROPOLITANA","29","JOSE MESSALA"]
[null,"BARKER (CP: 7005)","7005","BARKER","BUENOS AIRES","METROPOLITANA","123","CESAR RONCARI"]
[null,"BARRIO D.ANTONIO (CP: 2914)","2914","BARRIO D.ANTONIO","BUENOS AIRES","METROPOLITANA","29","JOSE MESSALA"]
[null,"BARRIO PARQUE PELUFFO (CP: 1708)","1708","BARRIO PARQUE PELUFFO","BUENOS AIRES","METROPOLITANA",18,"OMAR PRESAS"]
[null,"BARRIO SAN JOSE (CP: 1846)","1846","BARRIO SAN JOSE","BUENOS AIRES","METROPOLITANA",31,"PABLO CIMINARI"]
[null,"BASE AERONAVAL PTA.INDIO (CP: 1919)","1919","BASE AERONAVAL PTA.INDIO","BUENOS AIRES","METROPOLITANA","31","PABLO CIMINARI"]
[null,"BATAN (BARRIO) (CP: 7601)","7601","BATAN (BARRIO)","BUENOS AIRES","METROPOLITANA","123","CESAR RONCARI"]
[null,"BATERIAS (CP: 8113)","8113","BATERIAS","BUENOS AIRES","METROPOLITANA",130,"GONZALO ROZADO"]
[null,"BAUDRIX (CP: 6643)","6643","BAUDRIX","BUENOS AIRES","METROPOLITANA",18,"OMAR PRESAS"]
[null,"BAYAUCA-PROV. DE BS. AS. (CP: 6068)","6068","BAYAUCA-PROV. DE BS. AS.","BUENOS AIRES","METROPOLITANA","23","OMAR PRESAS"]
[null,"BAYAUCA-PROV. DE BS. AS. (CP: 6078)","6078","BAYAUCA-PROV. DE BS. AS.","BUENOS AIRES","METROPOLITANA","123","CESAR RONCARI"]
[null,"BECCAR (CP: 1643)","1643","BECCAR","BUENOS AIRES","METROPOLITANA","29","JOSE MESSALA"]
[null,"BELLA VISTA (CP: 1661)","1661","BELLA VISTA","BUENOS AIRES","METROPOLITANA",18,"OMAR PRESAS"]
[null,"BELLOCO (CP: 6535)","6535","BELLOCO","BUENOS AIRES","METROPOLITANA",30,"PABLO CIMINARI"]
[null,"BENAVIDEZ (CP: 1621)","1621","BENAVIDEZ","BUENOS AIRES","METROPOLITANA","29","JOSE MESSALA"]
[null,"BENITEZ (CP: 6632)","6632","BENITEZ","BUENOS AIRES","METROPOLITANA","123","CESAR RONCARI"]
[null,"BENITO JUAREZ (CP: 7020)","7020","BENITO JUAREZ","BUENOS AIRES","METROPOLITANA","123","CESAR RONCARI"]
[null,"BERAZATEGUI (CP: 1884)","1884","BERAZATEGUI","BUENOS AIRES","METROPOLITANA","31","PABLO CIMINARI"]
[null,"BERAZATEGUI (CP: 5957)","5957","BERAZATEGUI","BUENOS AIRES","METROPOLITANA","31","PABLO CIMINARI"]
[null,"BERAZATEGUI OESTE (CP: 1884)","1884","BERAZATEGUI OESTE","BUENOS AIRES","METROPOLITANA","31","PABLO CIMINARI"]
[null,"BERISSO (CP: 1923)","1923","BERISSO","BUENOS AIRES","METROPOLITANA","31","PABLO CIMINARI"]
[null,"BERNAL (CP: 1876)","1876","BERNAL","BUENOS AIRES","METROPOLITANA","31","PABLO CIMINARI"]
[null,"BERUTTI (CP: 6424)","6424","BERUTTI","BUENOS AIRES","METROPOLITANA","123","CESAR RONCARI"]
[null,"BLANDENGUES (CP: 6032)","6032","BLANDENGUES","BUENOS AIRES","METROPOLITANA","23","OMAR PRESAS"]
[null,"BLAQUIER (CP: 6065)","6065","BLAQUIER","BUENOS AIRES","METROPOLITANA","23","OMAR PRESAS"]
[null,"BLAS DURAÑONA (CP: 6661)","6661","BLAS DURAÑONA","BUENOS AIRES","METROPOLITANA",18,"OMAR PRESAS"]
[null,"BO BCO PCIA (CP: 1923)","1923","BO BCO PCIA","BUENOS AIRES","METROPOLITANA","31","PABLO CIMINARI"]
[null,"BO UNIVERSITARIO (CP: 1923)","1923","BO UNIVERSITARIO","BUENOS AIRES","METROPOLITANA","31","PABLO CIMINARI"]
[null,"BOLIVAR (CP: 6550)","6550","BOLIVAR","BUENOS AIRES","METROPOLITANA","123","CESAR RONCARI"]
[null,"BONIFACIO (CP: 6439)","6439","BONIFACIO","BUENOS AIRES","METROPOLITANA","123","CESAR RONCARI"]
[null,"BORDENAVE (CP: 8187)","8187","BORDENAVE","BUENOS AIRES","METROPOLITANA",130,"GONZALO ROZADO"]
[null,"BORDEU (CP: 8000)","8000","BORDEU","BUENOS AIRES","METROPOLITANA",130,"GONZALO ROZADO"]
[null,"BOSCH (CP: 7620)","7620","BOSCH","BUENOS AIRES","METROPOLITANA","123","CESAR RONCARI"]
[null,"BOSQUES (CP: 1889)","1889","BOSQUES","BUENOS AIRES","METROPOLITANA","31","PABLO CIMINARI"]
[null,"BOULOGNE (CP: 1609)","1609","BOULOGNE","BUENOS AIRES","METROPOLITANA","29","JOSE MESSALA"]
[null,"BRAGADO (CP: 6640)","6640","BRAGADO","BUENOS AIRES","METROPOLITANA",18,"OMAR PRESAS"]
[null,"BRANDSEN (CP: 1980)","1980","BRANDSEN","BUENOS AIRES","METROPOLITANA","31","PABLO CIMINARI"]
[null,"BUNGE (CP: 6241)","6241","BUNGE","BUENOS AIRES","METROPOLITANA","123","CESAR RONCARI"]
[null,"BURZACO (CP: 1852)","1852","BURZACO","BUENOS AIRES","METROPOLITANA",31,"PABLO CIMINARI"]
[null,"BURZACO (CP: 1853)","1853","BURZACO","BUENOS AIRES","METROPOLITANA",31,"PABLO CIMINARI"]
[null,"CABILDO (CP: 8118)","8118","CABILDO","BUENOS AIRES","METROPOLITANA",130,"GONZALO ROZADO"]
[null,"CACHARI (CP: 7214)","7214","CACHARI","BUENOS AIRES","METROPOLITANA","123","CESAR RONCARI"]
[null,"CAMBACERES (CP: 6516)","6516","CAMBACERES","BUENOS AIRES","METROPOLITANA",30,"PABLO CIMINARI"]
[null,"CAMET (CP: 7612)","7612","CAMET","BUENOS AIRES","METROPOLITANA","123","CESAR RONCARI"]
[null,"CAMPANA (CP: 2804)","2804","CAMPANA","BUENOS AIRES","METROPOLITANA","29","JOSE MESSALA"]
[null,"CAMPO DE MAYO (CP: 1659)","1659","CAMPO DE MAYO","BUENOS AIRES","METROPOLITANA",18,"OMAR PRESAS"]
[null,"CAMPO SALLES (CP: 2903)","2903","CAMPO SALLES","BUENOS AIRES","METROPOLITANA","29","JOSE MESSALA"]
[null,"CAMPODONICO (CP: 7305)","7305","CAMPODONICO","BUENOS AIRES","METROPOLITANA","123","CESAR RONCARI"]
[null,"CANGALLO (CP: 7153)","7153","CANGALLO","BUENOS AIRES","METROPOLITANA","123","CESAR RONCARI"]
[null,"CANNING (CP: 1804)","1804","CANNING","BUENOS AIRES","METROPOLITANA",31,"PABLO CIMINARI"]
[null,"CANNING (CP: 3842)","3842","CANNING","BUENOS AIRES","METROPOLITANA","31","PABLO CIMINARI"]
[null,"CANONIGO GORRITI (CP: 8185)","8185","CANONIGO GORRITI","BUENOS AIRES","METROPOLITANA","123","CESAR RONCARI"]
[null,"CAÑADA MARIANO (CP: 8183)","8183","CAÑADA MARIANO","BUENOS AIRES","METROPOLITANA","123","CESAR RONCARI"]
[null,"CAÑADA SECA (CP: 6105)","6105","CAÑADA SECA","BUENOS AIRES","METROPOLITANA","123","CESAR RONCARI"]
[null,"CAÑUELAS (CP: 1814)","1814","CAÑUELAS","BUENOS AIRES","METROPOLITANA",31,"PABLO CIMINARI"]
[null,"CAP SARMIENTO (CP: 2752)","2752","CAP SARMIENTO","BUENOS AIRES","METROPOLITANA","29","JOSE MESSALA"]
[null,"CAPILLA DEL SEÑOR (CP: 2812)","2812","CAPILLA DEL SEÑOR","BUENOS AIRES","METROPOLITANA","29","JOSE MESSALA"]
[null,"CARABELAS (CP: 2703)","2703","CARABELAS","BUENOS AIRES","METROPOLITANA","29","JOSE MESSALA"]
[null,"CARAPACHAY (CP: 1606)","1606","CARAPACHAY","BUENOS AIRES","METROPOLITANA",18,"OMAR PRESAS"]
[null,"CARDENAL CAGLIER0 (CP: 8506)","8506","CARDENAL CAGLIER0","BUENOS AIRES","METROPOLITANA",130,"GONZALO ROZADO"]
[null,"CARHUE (CP: 6430)","6430","CARHUE","BUENOS AIRES","METROPOLITANA","123","CESAR RONCARI"]
[null,"CARILO (CP: 7167)","7167","CARILO","BUENOS AIRES","METROPOLITANA","123","CESAR RONCARI"]
[null,"CARLOS CASARES (CP: 6530)","6530","CARLOS CASARES","BUENOS AIRES","METROPOLITANA",30,"PABLO CIMINARI"]
[null,"CARLOS MARIA NAON (CP: 6515)","6515","CARLOS MARIA NAON","BUENOS AIRES","METROPOLITANA",30,"PABLO CIMINARI"]
[null,"CARLOS SPEGAZZINI (CP: 1812)","1812","CARLOS SPEGAZZINI","BUENOS AIRES","METROPOLITANA",31,"PABLO CIMINARI"]
[null,"CARLOS TEJEDOR (CP: 6455)","6455","CARLOS TEJEDOR","BUENOS AIRES","METROPOLITANA","123","CESAR RONCARI"]
[null,"CARLOS TOMAS SOURIGUES (CP: 1886)","1886","CARLOS TOMAS SOURIGUES","BUENOS AIRES","METROPOLITANA","31","PABLO CIMINARI"]
[null,"CARM.D.PATAGONES (CP: 8504)","8504","CARM.D.PATAGONES","BUENOS AIRES","METROPOLITANA",130,"GONZALO ROZADO"]
[null,"CARMEN DE ARECO (CP: 6725)","6725","CARMEN DE ARECO","BUENOS AIRES","METROPOLITANA","29","JOSE MESSALA"]
[null,"CASALINS (CP: 7225)","7225","CASALINS","BUENOS AIRES","METROPOLITANA",31,"PABLO CIMINARI"]
[null,"CASBAS (CP: 6417)","6417","CASBAS","BUENOS AIRES","METROPOLITANA","123","CESAR RONCARI"]
[null,"CASEROS (CP: 1675)","1675","CASEROS","BUENOS AIRES","METROPOLITANA",18,"OMAR PRESAS"]
[null,"CASEROS (CP: 1678)","1678","CASEROS","BUENOS AIRES","METROPOLITANA",18,"OMAR PRESAS"]
[null,"CASEROS (CP: 1679)","1679","CASEROS","BUENOS AIRES","METROPOLITANA",18,"OMAR PRESAS"]
[null,"CASTELAR (CP: 1712)","1712","CASTELAR","BUENOS AIRES","METROPOLITANA",18,"OMAR PRESAS"]
[null,"CASTELLI (CP: 7114)","7114","CASTELLI","BUENOS AIRES","METROPOLITANA","123","CESAR RONCARI"]
[null,"CASTILLA (CP: 6616)","6616","CASTILLA","BUENOS AIRES","METROPOLITANA",18,"OMAR PRESAS"]
[null,"CENTENARIO (CP: 6535)","6535","CENTENARIO","BUENOS AIRES","METROPOLITANA",30,"PABLO CIMINARI"]
[null,"CHACABUCO (CP: 1740)","1740","CHACABUCO","BUENOS AIRES","METROPOLITANA",29,"JOSE MESSALA"]
[null,"CHACABUCO (CP: 6740)","6740","CHACABUCO","BUENOS AIRES","METROPOLITANA","29","JOSE MESSALA"]
[null,"CHACABUCO (CP: 6746)","6746","CHACABUCO","BUENOS AIRES","METROPOLITANA","29","JOSE MESSALA"]
[null,"CHAPADMALAL (CP: 7605)","7605","CHAPADMALAL","BUENOS AIRES","METROPOLITANA","123","CESAR RONCARI"]
[null,"CHASCOMUS (CP: 7130)","7130","CHASCOMUS","BUENOS AIRES","METROPOLITANA","123","CESAR RONCARI"]
[null,"CHASICO (CP: 8117)","8117","CHASICO","BUENOS AIRES","METROPOLITANA",130,"GONZALO ROZADO"]
[null,"CHILLAR (CP: 7311)","7311","CHILLAR","BUENOS AIRES","METROPOLITANA","123","CESAR RONCARI"]
[null,"CHIVILCOY (CP: 6620)","6620","CHIVILCOY","BUENOS AIRES","METROPOLITANA",18,"OMAR PRESAS"]
[null,"CITY BELL (CP: 1896)","1896","CITY BELL","BUENOS AIRES","METROPOLITANA","31","PABLO CIMINARI"]
[null,"CIUDAD EVITA -LA MATANZA (CP: 1778)","1778","CIUDAD EVITA -LA MATANZA","BUENOS AIRES","METROPOLITANA",18,"OMAR PRESAS"]
[null,"CIUDADELA (CP: 1702)","1702","CIUDADELA","BUENOS AIRES","METROPOLITANA",18,"OMAR PRESAS"]
[null,"CLAROMECO (CP: 7505)","7505","CLAROMECO","BUENOS AIRES","METROPOLITANA","123","CESAR RONCARI"]
[null,"CLAYPOLE (CP: 1849)","1849","CLAYPOLE","BUENOS AIRES","METROPOLITANA",31,"PABLO CIMINARI"]
[null,"CMDRO PY (CP: 6641)","6641","CMDRO PY","BUENOS AIRES","METROPOLITANA",18,"OMAR PRESAS"]
[null,"CNEL MALDONADO (CP: 8000)","8000","CNEL MALDONADO","BUENOS AIRES","METROPOLITANA",130,"GONZALO ROZADO"]
[null,"CNEL MOM (CP: 6628)","6628","CNEL MOM","BUENOS AIRES","METROPOLITANA","123","CESAR RONCARI"]
[null,"CNEL RODOLFO BUNGE (CP: 7020)","7020","CNEL RODOLFO BUNGE","BUENOS AIRES","METROPOLITANA","123","CESAR RONCARI"]
[null,"CNEL SEGUI (CP: 6628)","6628","CNEL SEGUI","BUENOS AIRES","METROPOLITANA","123","CESAR RONCARI"]
[null,"CNEL. VIDAL (CP: 7174)","7174","CNEL. VIDAL","BUENOS AIRES","METROPOLITANA","123","CESAR RONCARI"]
[null,"CNEL.CHARLONE (CP: 6223)","6223","CNEL.CHARLONE","BUENOS AIRES","METROPOLITANA","123","CESAR RONCARI"]
[null,"CNEL.DORREGO (CP: 8150)","8150","CNEL.DORREGO","BUENOS AIRES","METROPOLITANA","123","CESAR RONCARI"]
[null,"CNEL.GRANADA (CP: 6062)","6062","CNEL.GRANADA","BUENOS AIRES","METROPOLITANA","23","OMAR PRESAS"]
[null,"CNEL.PRINGLES (CP: 7530)","7530","CNEL.PRINGLES","BUENOS AIRES","METROPOLITANA","123","CESAR RONCARI"]
[null,"CNEL.SUAREZ (CP: 7540)","7540","CNEL.SUAREZ","BUENOS AIRES","METROPOLITANA","123","CESAR RONCARI"]
[null,"COCHRANE (CP: 8118)","8118","COCHRANE","BUENOS AIRES","METROPOLITANA",130,"GONZALO ROZADO"]
[null,"COLON (CP: 2720)","2720","COLON","BUENOS AIRES","METROPOLITANA","29","JOSE MESSALA"]
[null,"COLONIA FERRARI (CP: 7172)","7172","COLONIA FERRARI","BUENOS AIRES","METROPOLITANA","123","CESAR RONCARI"]
[null,"COLONIA LA MERCED (CP: 8105)","8105","COLONIA LA MERCED","BUENOS AIRES","METROPOLITANA",130,"GONZALO ROZADO"]
[null,"COLONIA LAPIN (CP: 8185)","8185","COLONIA LAPIN","BUENOS AIRES","METROPOLITANA","123","CESAR RONCARI"]
[null,"COLONIA MAURICIO (CP: 6531)","6531","COLONIA MAURICIO","BUENOS AIRES","METROPOLITANA",30,"PABLO CIMINARI"]
[null,"COLONIA SAN MIGUEL ARCAN (CP: 7403)","7403","COLONIA SAN MIGUEL ARCAN","BUENOS AIRES","METROPOLITANA","123","CESAR RONCARI"]
[null,"COLONIA SANTA MARIA (CP: 6535)","6535","COLONIA SANTA MARIA","BUENOS AIRES","METROPOLITANA",30,"PABLO CIMINARI"]
[null,"COLONIA SERE (CP: 6459)","6459","COLONIA SERE","BUENOS AIRES","METROPOLITANA","123","CESAR RONCARI"]
[null,"COMA.NIC.OTAMENDI (CP: 7603)","7603","COMA.NIC.OTAMENDI","BUENOS AIRES","METROPOLITANA","123","CESAR RONCARI"]
[null,"CONESA (CP: 2907)","2907","CONESA","BUENOS AIRES","METROPOLITANA","29","JOSE MESSALA"]
[null,"COPETONAS (CP: 7511)","7511","COPETONAS","BUENOS AIRES","METROPOLITANA","123","CESAR RONCARI"]
[null,"CORBETT (CP: 6507)","6507","CORBETT","BUENOS AIRES","METROPOLITANA",30,"PABLO CIMINARI"]
[null,"CORONEL MARTINEZ DE HOZ (CP: 6533)","6533","CORONEL MARTINEZ DE HOZ","BUENOS AIRES","METROPOLITANA",30,"PABLO CIMINARI"]
[null,"CORTI (CP: 8118)","8118","CORTI","BUENOS AIRES","METROPOLITANA",130,"GONZALO ROZADO"]
[null,"CORTINES (CP: 6712)","6712","CORTINES","BUENOS AIRES","METROPOLITANA","29","JOSE MESSALA"]
[null,"CRUCECITA (CP: 1870)","1870","CRUCECITA","BUENOS AIRES","METROPOLITANA",31,"PABLO CIMINARI"]
[null,"CTE ESPORA (CP: 8107)","8107","CTE ESPORA","BUENOS AIRES","METROPOLITANA",130,"GONZALO ROZADO"]
[null,"CUCHA CUCHA (CP: 6746)","6746","CUCHA CUCHA","BUENOS AIRES","METROPOLITANA","29","JOSE MESSALA"]
[null,"CUCULLU (CP: 6723)","6723","CUCULLU","BUENOS AIRES","METROPOLITANA","29","JOSE MESSALA"]
[null,"CUENCA (CP: 6231)","6231","CUENCA","BUENOS AIRES","METROPOLITANA","123","CESAR RONCARI"]
[null,"CURARU (CP: 6451)","6451","CURARU","BUENOS AIRES","METROPOLITANA","123","CESAR RONCARI"]
[null,"DAIREAUX (CP: 6555)","6555","DAIREAUX","BUENOS AIRES","METROPOLITANA","123","CESAR RONCARI"]
[null,"DARREGUEIRA (CP: 8183)","8183","DARREGUEIRA","BUENOS AIRES","METROPOLITANA","123","CESAR RONCARI"]
[null,"DE LA GARMA (CP: 7515)","7515","DE LA GARMA","BUENOS AIRES","METROPOLITANA","123","CESAR RONCARI"]
[null,"DEL CARRIL (CP: 7265)","7265","DEL CARRIL","BUENOS AIRES","METROPOLITANA","123","CESAR RONCARI"]
[null,"DEL VALLE (CP: 6509)","6509","DEL VALLE","BUENOS AIRES","METROPOLITANA",30,"PABLO CIMINARI"]
[null,"DEL VISO (CP: 1669)","1669","DEL VISO","BUENOS AIRES","METROPOLITANA","1","JOSE MESSALA"]
[null,"DELFIN HUERGO (CP: 8185)","8185","DELFIN HUERGO","BUENOS AIRES","METROPOLITANA","123","CESAR RONCARI"]
[null,"DELGADO (CP: 6007)","6007","DELGADO","BUENOS AIRES","METROPOLITANA","23","OMAR PRESAS"]
[null,"DELTA (CP: 1621)","1621","DELTA","BUENOS AIRES","METROPOLITANA","29","JOSE MESSALA"]
[null,"DENNEHY (CP: 6516)","6516","DENNEHY","BUENOS AIRES","METROPOLITANA",30,"PABLO CIMINARI"]
[null,"DOCK SUD (CP: 1871)","1871","DOCK SUD","BUENOS AIRES","METROPOLITANA",31,"PABLO CIMINARI"]
[null,"DOLORES (CP: 7100)","7100","DOLORES","BUENOS AIRES","METROPOLITANA","123","CESAR RONCARI"]
[null,"DON TORCUATO (CP: 1611)","1611","DON TORCUATO","BUENOS AIRES","METROPOLITANA","29","JOSE MESSALA"]
[null,"DONSELAR (CP: 1980)","1980","DONSELAR","BUENOS AIRES","METROPOLITANA","31","PABLO CIMINARI"]
[null,"DORBIGNY (CP: 7541)","7541","DORBIGNY","BUENOS AIRES","METROPOLITANA","123","CESAR RONCARI"]
[null,"DOYHENARD (CP: 1986)","1986","DOYHENARD","BUENOS AIRES","METROPOLITANA","31","PABLO CIMINARI"]
[null,"DOYLE (CP: 2935)","2935","DOYLE","BUENOS AIRES","METROPOLITANA","29","JOSE MESSALA"]
[null,"DUDIGNAC (CP: 6505)","6505","DUDIGNAC","BUENOS AIRES","METROPOLITANA",30,"PABLO CIMINARI"]
[null,"DUFAUR (CP: 8164)","8164","DUFAUR","BUENOS AIRES","METROPOLITANA","123","CESAR RONCARI"]
[null,"E.ECHEVERRIA (CP: 1839)","1839","E.ECHEVERRIA","BUENOS AIRES","METROPOLITANA",31,"PABLO CIMINARI"]
[null,"EL ARBOLITO (CP: 2721)","2721","EL ARBOLITO","BUENOS AIRES","METROPOLITANA","29","JOSE MESSALA"]
[null,"EL CARMEN (CP: 1923)","1923","EL CARMEN","BUENOS AIRES","METROPOLITANA","31","PABLO CIMINARI"]
[null,"EL JABALI (CP: 6531)","6531","EL JABALI","BUENOS AIRES","METROPOLITANA",30,"PABLO CIMINARI"]
[null,"EL JAGUEL (CP: 1842)","1842","EL JAGUEL","BUENOS AIRES","METROPOLITANA",31,"PABLO CIMINARI"]
[null,"EL PALOMAR (CP: 1684)","1684","EL PALOMAR","BUENOS AIRES","METROPOLITANA",18,"OMAR PRESAS"]
[null,"EL PARAISO (CP: 2916)","2916","EL PARAISO","BUENOS AIRES","METROPOLITANA","29","JOSE MESSALA"]
[null,"EL PATO (CP: 1893)","1893","EL PATO","BUENOS AIRES","METROPOLITANA","31","PABLO CIMINARI"]
[null,"EL PERDIDO (CP: 8156)","8156","EL PERDIDO","BUENOS AIRES","METROPOLITANA","123","CESAR RONCARI"]
[null,"EL PESCADO (CP: 1907)","1907","EL PESCADO","BUENOS AIRES","METROPOLITANA","31","PABLO CIMINARI"]
[null,"EL PORVENIR (CP: 6550)","6550","EL PORVENIR","BUENOS AIRES","METROPOLITANA","123","CESAR RONCARI"]
[null,"EL SOCORRO (CP: 2715)","2715","EL SOCORRO","BUENOS AIRES","METROPOLITANA","29","JOSE MESSALA"]
[null,"EL TALAR (CP: 1618)","1618","EL TALAR","BUENOS AIRES","METROPOLITANA","29","JOSE MESSALA"]
[null,"EL TEJAR (CP: 6515)","6515","EL TEJAR","BUENOS AIRES","METROPOLITANA",30,"PABLO CIMINARI"]
[null,"EL TRIUNFO (CP: 6073)","6073","EL TRIUNFO","BUENOS AIRES","METROPOLITANA","23","OMAR PRESAS"]
[null,"ELORDI (CP: 6242)","6242","ELORDI","BUENOS AIRES","METROPOLITANA","123","CESAR RONCARI"]
[null,"ENERGIA (CP: 7641)","7641","ENERGIA","BUENOS AIRES","METROPOLITANA","123","CESAR RONCARI"]
[null,"ENSENADA (CP: 1925)","1925","ENSENADA","BUENOS AIRES","METROPOLITANA","31","PABLO CIMINARI"]
[null,"EPUMER (CP: 6443)","6443","EPUMER","BUENOS AIRES","METROPOLITANA","123","CESAR RONCARI"]
[null,"EREZCANO (CP: 2903)","2903","EREZCANO","BUENOS AIRES","METROPOLITANA","29","JOSE MESSALA"]
[null,"ERICE (CP: 8189)","8189","ERICE","BUENOS AIRES","METROPOLITANA",130,"GONZALO ROZADO"]
[null,"ERNESTINA (CP: 6665)","6665","ERNESTINA","BUENOS AIRES","METROPOLITANA",18,"OMAR PRESAS"]
[null,"ESCOBAR (CP: 1625)","1625","ESCOBAR","BUENOS AIRES","METROPOLITANA","29","JOSE MESSALA"]
[null,"ESCUELA NAVAL MILITAR (CP: 1927)","1927","ESCUELA NAVAL MILITAR","BUENOS AIRES","METROPOLITANA","31","PABLO CIMINARI"]
[null,"ESPARTILLAR (CP: 8171)","8171","ESPARTILLAR","BUENOS AIRES","METROPOLITANA","123","CESAR RONCARI"]
[null,"ESPIGAS (CP: 6561)","6561","ESPIGAS","BUENOS AIRES","METROPOLITANA","123","CESAR RONCARI"]
[null,"ESPORA (CP: 6601)","6601","ESPORA","BUENOS AIRES","METROPOLITANA",18,"OMAR PRESAS"]
[null,"ESTEBAN A GASCON (CP: 8185)","8185","ESTEBAN A GASCON","BUENOS AIRES","METROPOLITANA","123","CESAR RONCARI"]
[null,"ESTEBAN A. GASCON (CP: 8185)","8185","ESTEBAN A. GASCON","BUENOS AIRES","METROPOLITANA","123","CESAR RONCARI"]
[null,"ESTELA (CP: 8127)","8127","ESTELA","BUENOS AIRES","METROPOLITANA",130,"GONZALO ROZADO"]
[null,"EXALTACION DE LA CRUZ (CP: 2812)","2812","EXALTACION DE LA CRUZ","BUENOS AIRES","METROPOLITANA","29","JOSE MESSALA"]
[null,"EZEIZA (CP: 1804)","1804","EZEIZA","BUENOS AIRES","METROPOLITANA",31,"PABLO CIMINARI"]
[null,"EZPELETA (CP: 1882)","1882","EZPELETA","BUENOS AIRES","METROPOLITANA","31","PABLO CIMINARI"]
[null,"FAIR (CP: 7153)","7153","FAIR","BUENOS AIRES","METROPOLITANA","123","CESAR RONCARI"]
[null,"FATIMA (CP: 1633)","1633","FATIMA","BUENOS AIRES","METROPOLITANA","29","JOSE MESSALA"]
[null,"FAUZON (CP: 6500)","6500","FAUZON","BUENOS AIRES","METROPOLITANA",18,"OMAR PRESAS"]
[null,"FCIO.VARELA (CP: 1888)","1888","FCIO.VARELA","BUENOS AIRES","METROPOLITANA","31","PABLO CIMINARI"]
[null,"FCIO.VARELA (CP: 1989)","1989","FCIO.VARELA","BUENOS AIRES","METROPOLITANA","31","PABLO CIMINARI"]
[null,"FCO.ALVAREZ (CP: 1746)","1746","FCO.ALVAREZ","BUENOS AIRES","METROPOLITANA",18,"OMAR PRESAS"]
[null,"FELIPE SOLA (CP: 8129)","8129","FELIPE SOLA","BUENOS AIRES","METROPOLITANA",130,"GONZALO ROZADO"]
[null,"FERRE (CP: 6003)","6003","FERRE","BUENOS AIRES","METROPOLITANA","23","OMAR PRESAS"]
[null,"FERRE (CP: 6027)","6027","FERRE","BUENOS AIRES","METROPOLITANA","23","OMAR PRESAS"]
[null,"FLORIDA (CP: 1602)","1602","FLORIDA","BUENOS AIRES","METROPOLITANA","29","JOSE MESSALA"]
[null,"FONTEZUELA (CP: 2700)","2700","FONTEZUELA","BUENOS AIRES","METROPOLITANA","29","JOSE MESSALA"]
[null,"FORTIN OLAVARRIA (CP: 6403)","6403","FORTIN OLAVARRIA","BUENOS AIRES","METROPOLITANA","123","CESAR RONCARI"]
[null,"FORTIN REPUBLICA (PJE) (CP: 6105)","6105","FORTIN REPUBLICA (PJE)","BUENOS AIRES","METROPOLITANA","123","CESAR RONCARI"]
[null,"FORTIN TIBURCIO (CP: 6001)","6001","FORTIN TIBURCIO","BUENOS AIRES","METROPOLITANA","23","OMAR PRESAS"]
[null,"FRANCISCO MADERO (CP: 6472)","6472","FRANCISCO MADERO","BUENOS AIRES","METROPOLITANA","123","CESAR RONCARI"]
[null,"FRANCISCO MURATURE (CP: 6341)","6341","FRANCISCO MURATURE","BUENOS AIRES","METROPOLITANA","123","CESAR RONCARI"]
[null,"FRENCH (CP: 6516)","6516","FRENCH","BUENOS AIRES","METROPOLITANA",30,"PABLO CIMINARI"]
[null,"G.MANCILLA (CP: 1911)","1911","G.MANCILLA","BUENOS AIRES","METROPOLITANA","31","PABLO CIMINARI"]
[null,"GALO LLORENTE (CP: 6513)","6513","GALO LLORENTE","BUENOS AIRES","METROPOLITANA",30,"PABLO CIMINARI"]
[null,"GARDEY (CP: 7003)","7003","GARDEY","BUENOS AIRES","METROPOLITANA","123","CESAR RONCARI"]
[null,"GARIN (CP: 1619)","1619","GARIN","BUENOS AIRES","METROPOLITANA","29","JOSE MESSALA"]
[null,"GARRE (CP: 6411)","6411","GARRE","BUENOS AIRES","METROPOLITANA","123","CESAR RONCARI"]
[null,"GARRO (CP: 8103)","8103","GARRO","BUENOS AIRES","METROPOLITANA",130,"GONZALO ROZADO"]
[null,"GDOR.CASTRO (CP: 2946)","2946","GDOR.CASTRO","BUENOS AIRES","METROPOLITANA","29","JOSE MESSALA"]
[null,"GENERAL ROJO (CP: 2905)","2905","GENERAL ROJO","BUENOS AIRES","METROPOLITANA","29","JOSE MESSALA"]
[null,"GERENTE CILLEY (CP: 6507)","6507","GERENTE CILLEY","BUENOS AIRES","METROPOLITANA",30,"PABLO CIMINARI"]
[null,"GERLI (CP: 1870)","1870","GERLI","BUENOS AIRES","METROPOLITANA",31,"PABLO CIMINARI"]
[null,"GERMANIA (CP: 6053)","6053","GERMANIA","BUENOS AIRES","METROPOLITANA","23","OMAR PRESAS"]
[null,"GLEW (CP: 1856)","1856","GLEW","BUENOS AIRES","METROPOLITANA",31,"PABLO CIMINARI"]
[null,"GOB ARIAS (CP: 6531)","6531","GOB ARIAS","BUENOS AIRES","METROPOLITANA",30,"PABLO CIMINARI"]
[null,"GOB OBLIGADO (CP: 1981)","1981","GOB OBLIGADO","BUENOS AIRES","METROPOLITANA","31","PABLO CIMINARI"]
[null,"GOB UDAONDO (CP: 7221)","7221","GOB UDAONDO","BUENOS AIRES","METROPOLITANA",31,"PABLO CIMINARI"]
[null,"GOB UGARTE (CP: 6621)","6621","GOB UGARTE","BUENOS AIRES","METROPOLITANA",18,"OMAR PRESAS"]
[null,"GOMEZ (CP: 1983)","1983","GOMEZ","BUENOS AIRES","METROPOLITANA","31","PABLO CIMINARI"]
[null,"GOMEZ DE LA VEGA (CP: 1983)","1983","GOMEZ DE LA VEGA","BUENOS AIRES","METROPOLITANA","31","PABLO CIMINARI"]
[null,"GONNET, MANUEL B. (CP: 1897)","1897","GONNET, MANUEL B.","BUENOS AIRES","METROPOLITANA","31","PABLO CIMINARI"]
[null,"GONZALEZ CATAN (CP: 1759)","1759","GONZALEZ CATAN","BUENOS AIRES","METROPOLITANA",18,"OMAR PRESAS"]
[null,"GONZALEZ MORENO (CP: 6239)","6239","GONZALEZ MORENO","BUENOS AIRES","METROPOLITANA","123","CESAR RONCARI"]
[null,"GORCHS (CP: 7226)","7226","GORCHS","BUENOS AIRES","METROPOLITANA",31,"PABLO CIMINARI"]
[null,"GOYENA (CP: 8175)","8175","GOYENA","BUENOS AIRES","METROPOLITANA","123","CESAR RONCARI"]
[null,"GRAL DANIEL CERRI (CP: 8105)","8105","GRAL DANIEL CERRI","BUENOS AIRES","METROPOLITANA",130,"GONZALO ROZADO"]
[null,"GRAL HERAS (CP: 1737)","1737","GRAL HERAS","BUENOS AIRES","METROPOLITANA",18,"OMAR PRESAS"]
[null,"GRAL O'BRIEN (CP: 6646)","6646","GRAL O'BRIEN","BUENOS AIRES","METROPOLITANA",18,"OMAR PRESAS"]
[null,"GRAL. RODRIGUEZ (CP: 1748)","1748","GRAL. RODRIGUEZ","BUENOS AIRES","METROPOLITANA",29,"JOSE MESSALA"]
[null,"GRAL.ALVEAR (CP: 7263)","7263","GRAL.ALVEAR","BUENOS AIRES","METROPOLITANA","123","CESAR RONCARI"]
[null,"GRAL.ARENALES (CP: 6005)","6005","GRAL.ARENALES","BUENOS AIRES","METROPOLITANA","23","OMAR PRESAS"]
[null,"GRAL.BELGRANO (CP: 7223)","7223","GRAL.BELGRANO","BUENOS AIRES","METROPOLITANA",31,"PABLO CIMINARI"]
[null,"GRAL.GUIDO (CP: 7118)","7118","GRAL.GUIDO","BUENOS AIRES","METROPOLITANA","123","CESAR RONCARI"]
[null,"GRAL.LAMADRID (CP: 7406)","7406","GRAL.LAMADRID","BUENOS AIRES","METROPOLITANA","123","CESAR RONCARI"]
[null,"GRAL.LAS HERAS (CP: 1741)","1741","GRAL.LAS HERAS","BUENOS AIRES","METROPOLITANA",18,"OMAR PRESAS"]
[null,"GRAL.LAVALLE (CP: 7103)","7103","GRAL.LAVALLE","BUENOS AIRES","METROPOLITANA","123","CESAR RONCARI"]
[null,"GRAL.MADARIAGA (CP: 7163)","7163","GRAL.MADARIAGA","BUENOS AIRES","METROPOLITANA","123","CESAR RONCARI"]
[null,"GRAL.PACHECO (CP: 1617)","1617","GRAL.PACHECO","BUENOS AIRES","METROPOLITANA","29","JOSE MESSALA"]
[null,"GRAL.PINTO (CP: 6050)","6050","GRAL.PINTO","BUENOS AIRES","METROPOLITANA","23","OMAR PRESAS"]
[null,"GRAL.PIRAN (CP: 7172)","7172","GRAL.PIRAN","BUENOS AIRES","METROPOLITANA","123","CESAR RONCARI"]
[null,"GRAL.VIAMONTE (CP: 6015)","6015","GRAL.VIAMONTE","BUENOS AIRES","METROPOLITANA","29","JOSE MESSALA"]
[null,"GRAL.VILLEGA (CP: 6230)","6230","GRAL.VILLEGA","BUENOS AIRES","METROPOLITANA","123","CESAR RONCARI"]
[null,"GRAN BUENOS AIRES (CP: 99998)","99998","GRAN BUENOS AIRES","BUENOS AIRES","LOS VALLES","",""]
[null,"GRAND BOURG (CP: 1615)","1615","GRAND BOURG","BUENOS AIRES","METROPOLITANA","29","JOSE MESSALA"]
[null,"GRUNBEIN (CP: 8101)","8101","GRUNBEIN","BUENOS AIRES","METROPOLITANA",130,"GONZALO ROZADO"]
[null,"GUAMINI (CP: 6435)","6435","GUAMINI","BUENOS AIRES","METROPOLITANA","123","CESAR RONCARI"]
[null,"GUANACOS (CP: 6476)","6476","GUANACOS","BUENOS AIRES","METROPOLITANA","123","CESAR RONCARI"]
[null,"GUERNICA (CP: 1862)","1862","GUERNICA","BUENOS AIRES","METROPOLITANA",31,"PABLO CIMINARI"]
[null,"GUERRICO (CP: 2717)","2717","GUERRICO","BUENOS AIRES","METROPOLITANA","29","JOSE MESSALA"]
[null,"GUILLERMO E HUDSON (CP: 1885)","1885","GUILLERMO E HUDSON","BUENOS AIRES","METROPOLITANA","31","PABLO CIMINARI"]
[null,"HAEDO (CP: 1706)","1706","HAEDO","BUENOS AIRES","METROPOLITANA",18,"OMAR PRESAS"]
[null,"HALE (CP: 6511)","6511","HALE","BUENOS AIRES","METROPOLITANA",30,"PABLO CIMINARI"]
[null,"HAM (CP: 6005)","6005","HAM","BUENOS AIRES","METROPOLITANA","23","OMAR PRESAS"]
[null,"HEAVY (CP: 6723)","6723","HEAVY","BUENOS AIRES","METROPOLITANA","29","JOSE MESSALA"]
[null,"HENDERSON (CP: 6465)","6465","HENDERSON","BUENOS AIRES","METROPOLITANA","123","CESAR RONCARI"]
[null,"HILARIO ASCASUBI (CP: 8142)","8142","HILARIO ASCASUBI","BUENOS AIRES","METROPOLITANA",130,"GONZALO ROZADO"]
[null,"HINOJO (CP: 7318)","7318","HINOJO","BUENOS AIRES","METROPOLITANA","123","CESAR RONCARI"]
[null,"HORTENSIA (CP: 6537)","6537","HORTENSIA","BUENOS AIRES","METROPOLITANA",30,"PABLO CIMINARI"]
[null,"HUANGUELEN (CP: 7545)","7545","HUANGUELEN","BUENOS AIRES","METROPOLITANA","123","CESAR RONCARI"]
[null,"HUETEL (CP: 6511)","6511","HUETEL","BUENOS AIRES","METROPOLITANA",30,"PABLO CIMINARI"]
[null,"HURLINGHAM (CP: 1686)","1686","HURLINGHAM","BUENOS AIRES","METROPOLITANA",18,"OMAR PRESAS"]
[null,"INDIO RICO (CP: 7501)","7501","INDIO RICO","BUENOS AIRES","METROPOLITANA","123","CESAR RONCARI"]
[null,"INES INDART (CP: 2747)","2747","INES INDART","BUENOS AIRES","METROPOLITANA","29","JOSE MESSALA"]
[null,"ING JUAN ALLAN (CP: 1891)","1891","ING JUAN ALLAN","BUENOS AIRES","METROPOLITANA","31","PABLO CIMINARI"]
[null,"ING ROMULO OTAMENDI (CP: 2802)","2802","ING ROMULO OTAMENDI","BUENOS AIRES","METROPOLITANA","29","JOSE MESSALA"]
[null,"ING WHITE (CP: 8103)","8103","ING WHITE","BUENOS AIRES","METROPOLITANA",130,"GONZALO ROZADO"]
[null,"ING. ADOLFO SOURDEAUX (CP: 1612)","1612","ING. ADOLFO SOURDEAUX","BUENOS AIRES","METROPOLITANA","29","JOSE MESSALA"]
[null,"ING.TH0MPS0N (CP: 6337)","6337","ING.TH0MPS0N","BUENOS AIRES","METROPOLITANA","123","CESAR RONCARI"]
[null,"INGENIERO BUDGE (CP: 1773)","1773","INGENIERO BUDGE","BUENOS AIRES","METROPOLITANA",18,"OMAR PRESAS"]
[null,"INGENIERO MASCHWITZ (CP: 1623)","1623","INGENIERO MASCHWITZ","BUENOS AIRES","METROPOLITANA","29","JOSE MESSALA"]
[null,"IRALA (CP: 6013)","6013","IRALA","BUENOS AIRES","METROPOLITANA","29","JOSE MESSALA"]
[null,"IRAOLA (CP: 7009)","7009","IRAOLA","BUENOS AIRES","METROPOLITANA","123","CESAR RONCARI"]
[null,"IRENEO PORTELA (CP: 2943)","2943","IRENEO PORTELA","BUENOS AIRES","METROPOLITANA","29","JOSE MESSALA"]
[null,"IRIARTE (CP: 6042)","6042","IRIARTE","BUENOS AIRES","METROPOLITANA","23","OMAR PRESAS"]
[null,"ISIDRO CASANOVA (CP: 1765)","1765","ISIDRO CASANOVA","BUENOS AIRES","METROPOLITANA",18,"OMAR PRESAS"]
[null,"ISLA PAULINO (CP: 1923)","1923","ISLA PAULINO","BUENOS AIRES","METROPOLITANA","31","PABLO CIMINARI"]
[null,"ISLAS (CP: 6667)","6667","ISLAS","BUENOS AIRES","METROPOLITANA",18,"OMAR PRESAS"]
[null,"ITUZAINGO (CP: 1714)","1714","ITUZAINGO","BUENOS AIRES","METROPOLITANA",18,"OMAR PRESAS"]
[null,"JAUREGUI (CP: 6706)","6706","JAUREGUI","BUENOS AIRES","METROPOLITANA","29","JOSE MESSALA"]
[null,"JEPPENER (CP: 1986)","1986","JEPPENER","BUENOS AIRES","METROPOLITANA","31","PABLO CIMINARI"]
[null,"JOSE A.GUISASOLA (CP: 8156)","8156","JOSE A.GUISASOLA","BUENOS AIRES","METROPOLITANA","123","CESAR RONCARI"]
[null,"JOSE C.PAZ (CP: 1665)","1665","JOSE C.PAZ","BUENOS AIRES","METROPOLITANA","29","JOSE MESSALA"]
[null,"JOSE FERRARI (CP: 1905)","1905","JOSE FERRARI","BUENOS AIRES","METROPOLITANA","31","PABLO CIMINARI"]
[null,"JOSE INGENIEROS (CP: 1702)","1702","JOSE INGENIEROS","BUENOS AIRES","METROPOLITANA",18,"OMAR PRESAS"]
[null,"JOSE INGENIEROS (CP: 1778)","1778","JOSE INGENIEROS","BUENOS AIRES","METROPOLITANA",18,"OMAR PRESAS"]
[null,"JOSE LEON SUAREZ (CP: 1655)","1655","JOSE LEON SUAREZ","BUENOS AIRES","METROPOLITANA",18,"OMAR PRESAS"]
[null,"JOSE MARMOL (CP: 1846)","1846","JOSE MARMOL","BUENOS AIRES","METROPOLITANA",31,"PABLO CIMINARI"]
[null,"JUAN BAUT.ALBERDI (CP: 6034)","6034","JUAN BAUT.ALBERDI","BUENOS AIRES","METROPOLITANA","23","OMAR PRESAS"]
[null,"JUAN E BARRA (CP: 7517)","7517","JUAN E BARRA","BUENOS AIRES","METROPOLITANA","123","CESAR RONCARI"]
[null,"JUAN F IBARRA (CP: 6551)","6551","JUAN F IBARRA","BUENOS AIRES","METROPOLITANA","123","CESAR RONCARI"]
[null,"JUAN G. PUJOL (CP: 2909)","2909","JUAN G. PUJOL","BUENOS AIRES","METROPOLITANA","29","JOSE MESSALA"]
[null,"JUAN JOSE PASO (CP: 6474)","6474","JUAN JOSE PASO","BUENOS AIRES","METROPOLITANA","123","CESAR RONCARI"]
[null,"JUAN MARIA GUTIERREZ (CP: 1890)","1890","JUAN MARIA GUTIERREZ","BUENOS AIRES","METROPOLITANA","31","PABLO CIMINARI"]
[null,"JUAN N.FERNANDEZ (CP: 7011)","7011","JUAN N.FERNANDEZ","BUENOS AIRES","METROPOLITANA","123","CESAR RONCARI"]
[null,"JUNIN (CP: 6000)","6000","JUNIN","BUENOS AIRES","METROPOLITANA","29","JOSE MESSALA"]
[null,"KILOMETRO 404 (CP: 7005)","7005","KILOMETRO 404","BUENOS AIRES","METROPOLITANA","123","CESAR RONCARI"]
[null,"KILOMETRO 8 (CP: 8122)","8122","KILOMETRO 8","BUENOS AIRES","METROPOLITANA",130,"GONZALO ROZADO"]
[null,"L. DE MARILO (CP: 1744)","1744","L. DE MARILO","BUENOS AIRES","METROPOLITANA",18,"OMAR PRESAS"]
[null,"L.N.ALEM (CP: 6032)","6032","L.N.ALEM","BUENOS AIRES","METROPOLITANA","23","OMAR PRESAS"]
[null,"LA AGRARIA (CP: 6000)","6000","LA AGRARIA","BUENOS AIRES","METROPOLITANA","29","JOSE MESSALA"]
[null,"LA AURORA (CP: 6513)","6513","LA AURORA","BUENOS AIRES","METROPOLITANA",30,"PABLO CIMINARI"]
[null,"LA AZUCENA (CP: 7005)","7005","LA AZUCENA","BUENOS AIRES","METROPOLITANA","123","CESAR RONCARI"]
[null,"LA COLINA (CP: 7408)","7408","LA COLINA","BUENOS AIRES","METROPOLITANA","123","CESAR RONCARI"]
[null,"LA CONSTANCIA (CP: 7153)","7153","LA CONSTANCIA","BUENOS AIRES","METROPOLITANA","123","CESAR RONCARI"]
[null,"LA DORITA (CP: 6538)","6538","LA DORITA","BUENOS AIRES","METROPOLITANA",30,"PABLO CIMINARI"]
[null,"LA DULCE (CP: 7637)","7637","LA DULCE","BUENOS AIRES","METROPOLITANA","123","CESAR RONCARI"]
[null,"LA EMILIA (CP: 2901)","2901","LA EMILIA","BUENOS AIRES","METROPOLITANA","29","JOSE MESSALA"]
[null,"LA ESPERANZA ROSAS LAS F (CP: 7205)","7205","LA ESPERANZA ROSAS LAS F","BUENOS AIRES","METROPOLITANA","123","CESAR RONCARI"]
[null,"LA FERRERE (CP: 1757)","1757","LA FERRERE","BUENOS AIRES","METROPOLITANA",18,"OMAR PRESAS"]
[null,"LA LIMPIA (CP: 6645)","6645","LA LIMPIA","BUENOS AIRES","METROPOLITANA",18,"OMAR PRESAS"]
[null,"LA LUCILA (CP: 1636)","1636","LA LUCILA","BUENOS AIRES","METROPOLITANA","29","JOSE MESSALA"]
[null,"LA LUISA (CP: 2752)","2752","LA LUISA","BUENOS AIRES","METROPOLITANA","29","JOSE MESSALA"]
[null,"LA LUISA (CP: 2754)","2754","LA LUISA","BUENOS AIRES","METROPOLITANA","29","JOSE MESSALA"]
[null,"LA NIÑA (CP: 6513)","6513","LA NIÑA","BUENOS AIRES","METROPOLITANA",30,"PABLO CIMINARI"]
[null,"LA NORIA (CP: 1814)","1814","LA NORIA","BUENOS AIRES","METROPOLITANA",31,"PABLO CIMINARI"]
[null,"LA PALA (CP: 6341)","6341","LA PALA","BUENOS AIRES","METROPOLITANA","123","CESAR RONCARI"]
[null,"LA PASTORA (CP: 7001)","7001","LA PASTORA","BUENOS AIRES","METROPOLITANA","123","CESAR RONCARI"]
[null,"LA PAZ (CP: 7245)","7245","LA PAZ","BUENOS AIRES","METROPOLITANA",31,"PABLO CIMINARI"]
[null,"LA PLATA (CP: 1900)","1900","LA PLATA","BUENOS AIRES","METROPOLITANA","31","PABLO CIMINARI"]
[null,"LA REJA (CP: 1744)","1744","LA REJA","BUENOS AIRES","METROPOLITANA",18,"OMAR PRESAS"]
[null,"LA SOFIA (CP: 6535)","6535","LA SOFIA","BUENOS AIRES","METROPOLITANA",30,"PABLO CIMINARI"]
[null,"LA TABLADA (CP: 1776)","1776","LA TABLADA","BUENOS AIRES","METROPOLITANA",18,"OMAR PRESAS"]
[null,"LA VIOLETA (CP: 2751)","2751","LA VIOLETA","BUENOS AIRES","METROPOLITANA","29","JOSE MESSALA"]
[null,"LA VITICOLA (CP: 8122)","8122","LA VITICOLA","BUENOS AIRES","METROPOLITANA",130,"GONZALO ROZADO"]
[null,"LAGO EPECUEN (CP: 6431)","6431","LAGO EPECUEN","BUENOS AIRES","METROPOLITANA","123","CESAR RONCARI"]
[null,"LAGUNA ALSINA (CP: 6439)","6439","LAGUNA ALSINA","BUENOS AIRES","METROPOLITANA","123","CESAR RONCARI"]
[null,"LANGUEYU (CP: 7151)","7151","LANGUEYU","BUENOS AIRES","METROPOLITANA","123","CESAR RONCARI"]
[null,"LANUS (CP: 1824)","1824","LANUS","BUENOS AIRES","METROPOLITANA",31,"PABLO CIMINARI"]
[null,"LANUS OESTE (CP: 1624)","1624","LANUS OESTE","BUENOS AIRES","METROPOLITANA","31","PABLO CIMINARI"]
[null,"LANUS OESTE (CP: 1824)","1824","LANUS OESTE","BUENOS AIRES","METROPOLITANA",31,"PABLO CIMINARI"]
[null,"LAPLACETTE (CP: 6013)","6013","LAPLACETTE","BUENOS AIRES","METROPOLITANA","23","OMAR PRESAS"]
[null,"LAPRIDA (CP: 7414)","7414","LAPRIDA","BUENOS AIRES","METROPOLITANA","123","CESAR RONCARI"]
[null,"LARREA (CP: 6634)","6634","LARREA","BUENOS AIRES","METROPOLITANA",18,"OMAR PRESAS"]
[null,"LARTIGAU (CP: 7531)","7531","LARTIGAU","BUENOS AIRES","METROPOLITANA","123","CESAR RONCARI"]
[null,"LAS ARMAS (CP: 7172)","7172","LAS ARMAS","BUENOS AIRES","METROPOLITANA","123","CESAR RONCARI"]
[null,"LAS ARMAS (CP: 7172)","7172","LAS ARMAS","BUENOS AIRES","METROPOLITANA","123","CESAR RONCARI"]
[null,"LAS FLORES (CP: 7200)","7200","LAS FLORES","BUENOS AIRES","METROPOLITANA","123","CESAR RONCARI"]
[null,"LAS ROSAS (CP: 6533)","6533","LAS ROSAS","BUENOS AIRES","METROPOLITANA",30,"PABLO CIMINARI"]
[null,"LAS TONINAS (CP: 7106)","7106","LAS TONINAS","BUENOS AIRES","METROPOLITANA","123","CESAR RONCARI"]
[null,"LAS TOSCA (CP: 6453)","6453","LAS TOSCA","BUENOS AIRES","METROPOLITANA","123","CESAR RONCARI"]
[null,"LAZZARINO (CP: 7300)","7300","LAZZARINO","BUENOS AIRES","METROPOLITANA","123","CESAR RONCARI"]
[null,"LEON (CP: 4616)","4616","LEON","BUENOS AIRES","METROPOLITANA","31","PABLO CIMINARI"]
[null,"LEUBUCO (CP: 6338)","6338","LEUBUCO","BUENOS AIRES","METROPOLITANA","123","CESAR RONCARI"]
[null,"LEZAMA (CP: 7116)","7116","LEZAMA","BUENOS AIRES","METROPOLITANA","123","CESAR RONCARI"]
[null,"LIBANO (CP: 7407)","7407","LIBANO","BUENOS AIRES","METROPOLITANA","123","CESAR RONCARI"]
[null,"LIBERTAD (CP: 1716)","1716","LIBERTAD","BUENOS AIRES","METROPOLITANA",18,"OMAR PRESAS"]
[null,"LICENCIA.MATIENZO (CP: 7007)","7007","LICENCIA.MATIENZO","BUENOS AIRES","METROPOLITANA","123","CESAR RONCARI"]
[null,"LIMA (CP: 2806)","2806","LIMA","BUENOS AIRES","METROPOLITANA","29","JOSE MESSALA"]
[null,"LINCOLN (CP: 6070)","6070","LINCOLN","BUENOS AIRES","METROPOLITANA","29","JOSE MESSALA"]
[null,"LISANDRO OLMOS ECHEVERRY (CP: 1901)","1901","LISANDRO OLMOS ECHEVERRY","BUENOS AIRES","METROPOLITANA","31","PABLO CIMINARI"]
[null,"LLAVALLOL (CP: 1836)","1836","LLAVALLOL","BUENOS AIRES","METROPOLITANA",31,"PABLO CIMINARI"]
[null,"LOBERIA (CP: 7635)","7635","LOBERIA","BUENOS AIRES","METROPOLITANA","123","CESAR RONCARI"]
[null,"LOBOS (CP: 7240)","7240","LOBOS","BUENOS AIRES","METROPOLITANA",31,"PABLO CIMINARI"]
[null,"LOBOS (CP: 7241)","7241","LOBOS","BUENOS AIRES","METROPOLITANA",31,"PABLO CIMINARI"]
[null,"LOMA HERMOSA (CP: 1657)","1657","LOMA HERMOSA","BUENOS AIRES","METROPOLITANA",18,"OMAR PRESAS"]
[null,"LOMA NEGRA (CP: 7403)","7403","LOMA NEGRA","BUENOS AIRES","METROPOLITANA","123","CESAR RONCARI"]
[null,"LOMA PARAGUAYA (CP: 8122)","8122","LOMA PARAGUAYA","BUENOS AIRES","METROPOLITANA",130,"GONZALO ROZADO"]
[null,"LOMAS DE ZAMORA (CP: 1832)","1832","LOMAS DE ZAMORA","BUENOS AIRES","METROPOLITANA",31,"PABLO CIMINARI"]
[null,"LOMAS DEL MIRADOR (CP: 1752)","1752","LOMAS DEL MIRADOR","BUENOS AIRES","METROPOLITANA",18,"OMAR PRESAS"]
[null,"LONGCHAMPS (CP: 1854)","1854","LONGCHAMPS","BUENOS AIRES","METROPOLITANA",31,"PABLO CIMINARI"]
[null,"LOPEZ (CP: 7021)","7021","LOPEZ","BUENOS AIRES","METROPOLITANA","123","CESAR RONCARI"]
[null,"LOS CARDALES (CP: 2814)","2814","LOS CARDALES","BUENOS AIRES","METROPOLITANA","29","JOSE MESSALA"]
[null,"LOS GAUCHOS (CP: 6343)","6343","LOS GAUCHOS","BUENOS AIRES","METROPOLITANA","123","CESAR RONCARI"]
[null,"LOS PINOS (CP: 7412)","7412","LOS PINOS","BUENOS AIRES","METROPOLITANA","123","CESAR RONCARI"]
[null,"LOS POLVORINES (CP: 1613)","1613","LOS POLVORINES","BUENOS AIRES","METROPOLITANA","29","JOSE MESSALA"]
[null,"LOS TALAS (CP: 1923)","1923","LOS TALAS","BUENOS AIRES","METROPOLITANA","31","PABLO CIMINARI"]
[null,"LOS TOLDOS (CP: 6015)","6015","LOS TOLDOS","BUENOS AIRES","METROPOLITANA","29","JOSE MESSALA"]
[null,"LUCAS MONTEVERDE (CP: 6661)","6661","LUCAS MONTEVERDE","BUENOS AIRES","METROPOLITANA",18,"OMAR PRESAS"]
[null,"LUIS GUILLON (CP: 1838)","1838","LUIS GUILLON","BUENOS AIRES","METROPOLITANA",31,"PABLO CIMINARI"]
[null,"LUJAN (CP: 6700)","6700","LUJAN","BUENOS AIRES","METROPOLITANA",18,"OMAR PRESAS"]
[null,"LUJAN (CP: 6712)","6712","LUJAN","BUENOS AIRES","METROPOLITANA","29","JOSE MESSALA"]
[null,"MAGDALA (CP: 6451)","6451","MAGDALA","BUENOS AIRES","METROPOLITANA","123","CESAR RONCARI"]
[null,"MAGDALENA (CP: 1913)","1913","MAGDALENA","BUENOS AIRES","METROPOLITANA","31","PABLO CIMINARI"]
[null,"MAIPU (CP: 7160)","7160","MAIPU","BUENOS AIRES","METROPOLITANA","123","CESAR RONCARI"]
[null,"MALVINAS ARGENTINAS (CP: 1846)","1846","MALVINAS ARGENTINAS","BUENOS AIRES","METROPOLITANA",31,"PABLO CIMINARI"]
[null,"MAMAGUITA (CP: 6661)","6661","MAMAGUITA","BUENOS AIRES","METROPOLITANA",18,"OMAR PRESAS"]
[null,"MANUEL B GONNET (CP: 6513)","6513","MANUEL B GONNET","BUENOS AIRES","METROPOLITANA",30,"PABLO CIMINARI"]
[null,"MANUEL OCAMPO (CP: 2713)","2713","MANUEL OCAMPO","BUENOS AIRES","METROPOLITANA","29","JOSE MESSALA"]
[null,"MAQUINISTA SAVIO (CP: 1619)","1619","MAQUINISTA SAVIO","BUENOS AIRES","METROPOLITANA","29","JOSE MESSALA"]
[null,"MAR CHIQUITA (CP: 7174)","7174","MAR CHIQUITA","BUENOS AIRES","METROPOLITANA","123","CESAR RONCARI"]
[null,"MAR DE AJO (CP: 7109)","7109","MAR DE AJO","BUENOS AIRES","METROPOLITANA","123","CESAR RONCARI"]
[null,"MAR DEL PLATA (CP: 7600)","7600","MAR DEL PLATA","BUENOS AIRES","METROPOLITANA","123","CESAR RONCARI"]
[null,"MAR DEL PLATA (CP: 7604)","7604","MAR DEL PLATA","BUENOS AIRES","METROPOLITANA","123","CESAR RONCARI"]
[null,"MAR DEL SUD (CP: 7607)","7607","MAR DEL SUD","BUENOS AIRES","METROPOLITANA","123","CESAR RONCARI"]
[null,"MAR DEL TUYU (CP: 7107)","7107","MAR DEL TUYU","BUENOS AIRES","METROPOLITANA","123","CESAR RONCARI"]
[null,"MARCOS PAZ (CP: 1727)","1727","MARCOS PAZ","BUENOS AIRES","METROPOLITANA",18,"OMAR PRESAS"]
[null,"MARIANO ACOSTA (CP: 1723)","1723","MARIANO ACOSTA","BUENOS AIRES","METROPOLITANA",18,"OMAR PRESAS"]
[null,"MARIANO H ALFONZO (CP: 2718)","2718","MARIANO H ALFONZO","BUENOS AIRES","METROPOLITANA","29","JOSE MESSALA"]
[null,"MARIANO ROLDAN (CP: 7517)","7517","MARIANO ROLDAN","BUENOS AIRES","METROPOLITANA","123","CESAR RONCARI"]
[null,"MARIANO UNZUE (CP: 6551)","6551","MARIANO UNZUE","BUENOS AIRES","METROPOLITANA","123","CESAR RONCARI"]
[null,"MARTIN BERRAHONDO (CP: 6667)","6667","MARTIN BERRAHONDO","BUENOS AIRES","METROPOLITANA",18,"OMAR PRESAS"]
[null,"MARTIN CORONADO (CP: 1682)","1682","MARTIN CORONADO","BUENOS AIRES","METROPOLITANA",18,"OMAR PRESAS"]
[null,"MARTIN FIERRO (CP: 7311)","7311","MARTIN FIERRO","BUENOS AIRES","METROPOLITANA","123","CESAR RONCARI"]
[null,"MARTINEZ (CP: 1640)","1640","MARTINEZ","BUENOS AIRES","METROPOLITANA","29","JOSE MESSALA"]
[null,"MATHEU (CP: 1627)","1627","MATHEU","BUENOS AIRES","METROPOLITANA","29","JOSE MESSALA"]
[null,"MAURICIO HIRSCH (CP: 6531)","6531","MAURICIO HIRSCH","BUENOS AIRES","METROPOLITANA",30,"PABLO CIMINARI"]
[null,"MAXIMO FERNANDEZ (CP: 6645)","6645","MAXIMO FERNANDEZ","BUENOS AIRES","METROPOLITANA",18,"OMAR PRESAS"]
[null,"MAXIMO PAZ (CP: 1812)","1812","MAXIMO PAZ","BUENOS AIRES","METROPOLITANA",31,"PABLO CIMINARI"]
[null,"MAYOR BURATOVICH (CP: 8146)","8146","MAYOR BURATOVICH","BUENOS AIRES","METROPOLITANA",130,"GONZALO ROZADO"]
[null,"MAZA (CP: 6343)","6343","MAZA","BUENOS AIRES","METROPOLITANA","123","CESAR RONCARI"]
[null,"MECHITA (CP: 6648)","6648","MECHITA","BUENOS AIRES","METROPOLITANA",18,"OMAR PRESAS"]
[null,"MECHONGUE (CP: 7605)","7605","MECHONGUE","BUENOS AIRES","METROPOLITANA","123","CESAR RONCARI"]
[null,"MEDANOS (CP: 8132)","8132","MEDANOS","BUENOS AIRES","METROPOLITANA",130,"GONZALO ROZADO"]
[null,"MELCHOR ROMERO (CP: 1903)","1903","MELCHOR ROMERO","BUENOS AIRES","METROPOLITANA","31","PABLO CIMINARI"]
[null,"MERCADO CENTRAL (CP: 1771)","1771","MERCADO CENTRAL","BUENOS AIRES","METROPOLITANA",18,"OMAR PRESAS"]
[null,"MERCEDES (CP: 6600)","6600","MERCEDES","BUENOS AIRES","METROPOLITANA",18,"OMAR PRESAS"]
[null,"MERLO (CP: 1722)","1722","MERLO","BUENOS AIRES","METROPOLITANA",18,"OMAR PRESAS"]
[null,"MICA.CASCALLARES (CP: 7507)","7507","MICA.CASCALLARES","BUENOS AIRES","METROPOLITANA","123","CESAR RONCARI"]
[null,"MINISTRO RIVADAVIA (CP: 1852)","1852","MINISTRO RIVADAVIA","BUENOS AIRES","METROPOLITANA",31,"PABLO CIMINARI"]
[null,"MIRAMAR (CP: 7607)","7607","MIRAMAR","BUENOS AIRES","METROPOLITANA","123","CESAR RONCARI"]
[null,"MIRAMONTE (CP: 7214)","7214","MIRAMONTE","BUENOS AIRES","METROPOLITANA","123","CESAR RONCARI"]
[null,"MOCTEZUMA (CP: 6531)","6531","MOCTEZUMA","BUENOS AIRES","METROPOLITANA",30,"PABLO CIMINARI"]
[null,"MONES CAZON (CP: 6469)","6469","MONES CAZON","BUENOS AIRES","METROPOLITANA","123","CESAR RONCARI"]
[null,"MONTE CHINGOLO (CP: 1825)","1825","MONTE CHINGOLO","BUENOS AIRES","METROPOLITANA",31,"PABLO CIMINARI"]
[null,"MONTE GRANDE (CP: 1842)","1842","MONTE GRANDE","BUENOS AIRES","METROPOLITANA",31,"PABLO CIMINARI"]
[null,"MONTE HERMOSO (CP: 8153)","8153","MONTE HERMOSO","BUENOS AIRES","METROPOLITANA","123","CESAR RONCARI"]
[null,"MOQUEHUA (CP: 6625)","6625","MOQUEHUA","BUENOS AIRES","METROPOLITANA","123","CESAR RONCARI"]
[null,"MOREA (CP: 6507)","6507","MOREA","BUENOS AIRES","METROPOLITANA",30,"PABLO CIMINARI"]
[null,"MORENO (CP: 1744)","1744","MORENO","BUENOS AIRES","METROPOLITANA",18,"OMAR PRESAS"]
[null,"MORON (CP: 1708)","1708","MORON","BUENOS AIRES","METROPOLITANA",18,"OMAR PRESAS"]
[null,"MORSE (CP: 6013)","6013","MORSE","BUENOS AIRES","METROPOLITANA","29","JOSE MESSALA"]
[null,"MOSCONI (CP: 6667)","6667","MOSCONI","BUENOS AIRES","METROPOLITANA",18,"OMAR PRESAS"]
[null,"MULCAHY (CP: 6501)","6501","MULCAHY","BUENOS AIRES","METROPOLITANA",30,"PABLO CIMINARI"]
[null,"MUNRO (CP: 1605)","1605","MUNRO","BUENOS AIRES","METROPOLITANA",18,"OMAR PRESAS"]
[null,"MUÑIZ (CP: 1663)","1663","MUÑIZ","BUENOS AIRES","METROPOLITANA",18,"OMAR PRESAS"]
[null,"NAPALEOFU (CP: 7007)","7007","NAPALEOFU","BUENOS AIRES","METROPOLITANA","123","CESAR RONCARI"]
[null,"NAPOSTA (CP: 8122)","8122","NAPOSTA","BUENOS AIRES","METROPOLITANA",130,"GONZALO ROZADO"]
[null,"NAVARRO (CP: 6605)","6605","NAVARRO","BUENOS AIRES","METROPOLITANA",18,"OMAR PRESAS"]
[null,"NECOCHEA (CP: 7630)","7630","NECOCHEA","BUENOS AIRES","METROPOLITANA","123","CESAR RONCARI"]
[null,"NIEVES (CP: 7316)","7316","NIEVES","BUENOS AIRES","METROPOLITANA","123","CESAR RONCARI"]
[null,"NORBERTO DE LA RIESTRA (CP: 6663)","6663","NORBERTO DE LA RIESTRA","BUENOS AIRES","METROPOLITANA",18,"OMAR PRESAS"]
[null,"NORUMBEGA (CP: 6501)","6501","NORUMBEGA","BUENOS AIRES","METROPOLITANA",30,"PABLO CIMINARI"]
[null,"O HIGGINS (CP: 6748)","6748","O HIGGINS","BUENOS AIRES","METROPOLITANA","29","JOSE MESSALA"]
[null,"OLASCOAGA (CP: 6652)","6652","OLASCOAGA","BUENOS AIRES","METROPOLITANA",18,"OMAR PRESAS"]
[null,"OLAVARRIA (CP: 7400)","7400","OLAVARRIA","BUENOS AIRES","METROPOLITANA","123","CESAR RONCARI"]
[null,"OLIDEN (CP: 1981)","1981","OLIDEN","BUENOS AIRES","METROPOLITANA","31","PABLO CIMINARI"]
[null,"OLIVERA (CP: 6608)","6608","OLIVERA","BUENOS AIRES","METROPOLITANA",18,"OMAR PRESAS"]
[null,"OLIVOS (CP: 1636)","1636","OLIVOS","BUENOS AIRES","METROPOLITANA","29","JOSE MESSALA"]
[null,"OMBUCTA (CP: 8142)","8142","OMBUCTA","BUENOS AIRES","METROPOLITANA",130,"GONZALO ROZADO"]
[null,"OPEN DOOR (CP: 6708)","6708","OPEN DOOR","BUENOS AIRES","METROPOLITANA","29","JOSE MESSALA"]
[null,"ORDOQUI (CP: 6537)","6537","ORDOQUI","BUENOS AIRES","METROPOLITANA",30,"PABLO CIMINARI"]
[null,"ORENSE (CP: 7503)","7503","ORENSE","BUENOS AIRES","METROPOLITANA","123","CESAR RONCARI"]
[null,"ORIENTE (CP: 7509)","7509","ORIENTE","BUENOS AIRES","METROPOLITANA","123","CESAR RONCARI"]
[null,"ORTIZ DE ROZAS (CP: 6660)","6660","ORTIZ DE ROZAS","BUENOS AIRES","METROPOLITANA",18,"OMAR PRESAS"]
[null,"OTAMENDI-ING.ROMULO (CP: 2802)","2802","OTAMENDI-ING.ROMULO","BUENOS AIRES","METROPOLITANA","29","JOSE MESSALA"]
[null,"PABLO ACOSTA (CP: 7301)","7301","PABLO ACOSTA","BUENOS AIRES","METROPOLITANA","123","CESAR RONCARI"]
[null,"PABLO NOGUES (CP: 1613)","1613","PABLO NOGUES","BUENOS AIRES","METROPOLITANA","29","JOSE MESSALA"]
[null,"PABLO NOGUES (CP: 1749)","1749","PABLO NOGUES","BUENOS AIRES","METROPOLITANA",29,"JOSE MESSALA"]
[null,"PABLO PODESTA (CP: 1657)","1657","PABLO PODESTA","BUENOS AIRES","METROPOLITANA",18,"OMAR PRESAS"]
[null,"PALANTELEN (CP: 6640)","6640","PALANTELEN","BUENOS AIRES","METROPOLITANA",18,"OMAR PRESAS"]
[null,"PALO BLANCO (CP: 1923)","1923","PALO BLANCO","BUENOS AIRES","METROPOLITANA","31","PABLO CIMINARI"]
[null,"PARADA ROBLES (CP: 6703)","6703","PARADA ROBLES","BUENOS AIRES","METROPOLITANA","29","JOSE MESSALA"]
[null,"PARAJE EL CARRETERO (CP: 7641)","7641","PARAJE EL CARRETERO","BUENOS AIRES","METROPOLITANA",130,"GONZALO ROZADO"]
[null,"PARAJE LA BRAVA (CP: 7620)","7620","PARAJE LA BRAVA","BUENOS AIRES","METROPOLITANA","123","CESAR RONCARI"]
[null,"PARDO (CP: 7212)","7212","PARDO","BUENOS AIRES","METROPOLITANA","123","CESAR RONCARI"]
[null,"PARISH (CP: 7316)","7316","PARISH","BUENOS AIRES","METROPOLITANA","123","CESAR RONCARI"]
[null,"PARQUE GAONA (CP: 1744)","1744","PARQUE GAONA","BUENOS AIRES","METROPOLITANA",18,"OMAR PRESAS"]
[null,"PARQUE SAN MARTIN (CP: 1722)","1722","PARQUE SAN MARTIN","BUENOS AIRES","METROPOLITANA",18,"OMAR PRESAS"]
[null,"PASMAN (CP: 7547)","7547","PASMAN","BUENOS AIRES","METROPOLITANA","123","CESAR RONCARI"]
[null,"PASO DEL REY (CP: 1742)","1742","PASO DEL REY","BUENOS AIRES","METROPOLITANA",18,"OMAR PRESAS"]
[null,"PASTEUR (CP: 6077)","6077","PASTEUR","BUENOS AIRES","METROPOLITANA","23","OMAR PRESAS"]
[null,"PATRICIOS (CP: 6503)","6503","PATRICIOS","BUENOS AIRES","METROPOLITANA",30,"PABLO CIMINARI"]
[null,"PAULA (CP: 6557)","6557","PAULA","BUENOS AIRES","METROPOLITANA","123","CESAR RONCARI"]
[null,"PEDERNALES (CP: 6665)","6665","PEDERNALES","BUENOS AIRES","METROPOLITANA",18,"OMAR PRESAS"]
[null,"PEDR0 LUR0 (CP: 8148)","8148","PEDR0 LUR0","BUENOS AIRES","METROPOLITANA",130,"GONZALO ROZADO"]
[null,"PEDRO LURO (CP: 8145)","8145","PEDRO LURO","BUENOS AIRES","METROPOLITANA",130,"GONZALO ROZADO"]
[null,"PEDRO P LASALLE (CP: 7515)","7515","PEDRO P LASALLE","BUENOS AIRES","METROPOLITANA","123","CESAR RONCARI"]
[null,"PEHUAJO (CP: 6450)","6450","PEHUAJO","BUENOS AIRES","METROPOLITANA","123","CESAR RONCARI"]
[null,"PEHUENCO (CP: 8109)","8109","PEHUENCO","BUENOS AIRES","METROPOLITANA",130,"GONZALO ROZADO"]
[null,"PELICURA (CP: 8117)","8117","PELICURA","BUENOS AIRES","METROPOLITANA",130,"GONZALO ROZADO"]
[null,"PELLEGRINI (CP: 6346)","6346","PELLEGRINI","BUENOS AIRES","METROPOLITANA","123","CESAR RONCARI"]
[null,"PEREYRA (CP: 1894)","1894","PEREYRA","BUENOS AIRES","METROPOLITANA","31","PABLO CIMINARI"]
[null,"PEREZ MILLAN (CP: 2933)","2933","PEREZ MILLAN","BUENOS AIRES","METROPOLITANA","29","JOSE MESSALA"]
[null,"PERGAMINO (CP: 2700)","2700","PERGAMINO","BUENOS AIRES","METROPOLITANA","29","JOSE MESSALA"]
[null,"PICHINCHA (CP: 6051)","6051","PICHINCHA","BUENOS AIRES","METROPOLITANA","23","OMAR PRESAS"]
[null,"PIEDRITAS (CP: 6241)","6241","PIEDRITAS","BUENOS AIRES","METROPOLITANA","123","CESAR RONCARI"]
[null,"PIERES (CP: 7633)","7633","PIERES","BUENOS AIRES","METROPOLITANA","123","CESAR RONCARI"]
[null,"PIGUE (CP: 8170)","8170","PIGUE","BUENOS AIRES","METROPOLITANA","123","CESAR RONCARI"]
[null,"PILA (CP: 7116)","7116","PILA","BUENOS AIRES","METROPOLITANA","123","CESAR RONCARI"]
[null,"PILAR (CP: 1629)","1629","PILAR","BUENOS AIRES","METROPOLITANA","29","JOSE MESSALA"]
[null,"PINAMAR (CP: 7167)","7167","PINAMAR","BUENOS AIRES","METROPOLITANA","123","CESAR RONCARI"]
[null,"PINZON (CP: 2703)","2703","PINZON","BUENOS AIRES","METROPOLITANA","29","JOSE MESSALA"]
[null,"PIÑEYRO (CP: 1870)","1870","PIÑEYRO","BUENOS AIRES","METROPOLITANA",31,"PABLO CIMINARI"]
[null,"PIPINAS (CP: 1921)","1921","PIPINAS","BUENOS AIRES","METROPOLITANA","31","PABLO CIMINARI"]
[null,"PIROVANO (CP: 6551)","6551","PIROVANO","BUENOS AIRES","METROPOLITANA","123","CESAR RONCARI"]
[null,"PLA (CP: 6634)","6634","PLA","BUENOS AIRES","METROPOLITANA",18,"OMAR PRESAS"]
[null,"PLATANOS (CP: 1885)","1885","PLATANOS","BUENOS AIRES","METROPOLITANA","31","PABLO CIMINARI"]
[null,"PLAY.SAN BERNARDO (CP: 7111)","7111","PLAY.SAN BERNARDO","BUENOS AIRES","METROPOLITANA","123","CESAR RONCARI"]
[null,"PLAYA SERENA (CP: 7609)","7609","PLAYA SERENA","BUENOS AIRES","METROPOLITANA","123","CESAR RONCARI"]
[null,"POBLET (CP: 1905)","1905","POBLET","BUENOS AIRES","METROPOLITANA","31","PABLO CIMINARI"]
[null,"POLVAREDAS (CP: 7267)","7267","POLVAREDAS","BUENOS AIRES","METROPOLITANA","123","CESAR RONCARI"]
[null,"PONTEVEDRA (CP: 1761)","1761","PONTEVEDRA","BUENOS AIRES","METROPOLITANA",18,"OMAR PRESAS"]
[null,"PORVENIR (CP: 6063)","6063","PORVENIR","BUENOS AIRES","METROPOLITANA","23","OMAR PRESAS"]
[null,"PTE QUINTANA (CP: 6621)","6621","PTE QUINTANA","BUENOS AIRES","METROPOLITANA",18,"OMAR PRESAS"]
[null,"PTE.DERQUI (CP: 1635)","1635","PTE.DERQUI","BUENOS AIRES","METROPOLITANA","29","JOSE MESSALA"]
[null,"PUAN (CP: 8180)","8180","PUAN","BUENOS AIRES","METROPOLITANA","123","CESAR RONCARI"]
[null,"PUEBLITOS (CP: 6661)","6661","PUEBLITOS","BUENOS AIRES","METROPOLITANA",18,"OMAR PRESAS"]
[null,"PUERTO BELGRANO (CP: 8111)","8111","PUERTO BELGRANO","BUENOS AIRES","METROPOLITANA",130,"GONZALO ROZADO"]
[null,"PUERTO CUATREROS (CP: 8122)","8122","PUERTO CUATREROS","BUENOS AIRES","METROPOLITANA",130,"GONZALO ROZADO"]
[null,"PUERTO GALVAN (CP: 8000)","8000","PUERTO GALVAN","BUENOS AIRES","METROPOLITANA",130,"GONZALO ROZADO"]
[null,"PUERTO ROSALES (CP: 8111)","8111","PUERTO ROSALES","BUENOS AIRES","METROPOLITANA",130,"GONZALO ROZADO"]
[null,"PUNTA ALTA (CP: 8109)","8109","PUNTA ALTA","BUENOS AIRES","METROPOLITANA",130,"GONZALO ROZADO"]
[null,"PUNTA INDI0 (CP: 1917)","1917","PUNTA INDI0","BUENOS AIRES","METROPOLITANA","31","PABLO CIMINARI"]
[null,"PUNTA LARA (CP: 1931)","1931","PUNTA LARA","BUENOS AIRES","METROPOLITANA","31","PABLO CIMINARI"]
[null,"QUENUMA (CP: 6335)","6335","QUENUMA","BUENOS AIRES","METROPOLITANA","123","CESAR RONCARI"]
[null,"QUEQUEN (CP: 7631)","7631","QUEQUEN","BUENOS AIRES","METROPOLITANA","123","CESAR RONCARI"]
[null,"QUILMES (CP: 1878)","1878","QUILMES","BUENOS AIRES","METROPOLITANA","31","PABLO CIMINARI"]
[null,"QUILMES (CP: 1979)","1979","QUILMES","BUENOS AIRES","METROPOLITANA","31","PABLO CIMINARI"]
[null,"QUILMES OESTE (CP: 1879)","1879","QUILMES OESTE","BUENOS AIRES","METROPOLITANA","31","PABLO CIMINARI"]
[null,"QUIROGA (CP: 6533)","6533","QUIROGA","BUENOS AIRES","METROPOLITANA",30,"PABLO CIMINARI"]
[null,"RAFAEL CALZADA (CP: 1847)","1847","RAFAEL CALZADA","BUENOS AIRES","METROPOLITANA",31,"PABLO CIMINARI"]
[null,"RAFAEL CASTILLO (CP: 1755)","1755","RAFAEL CASTILLO","BUENOS AIRES","METROPOLITANA",18,"OMAR PRESAS"]
[null,"RAFAEL OBLIGADO (CP: 6001)","6001","RAFAEL OBLIGADO","BUENOS AIRES","METROPOLITANA","23","OMAR PRESAS"]
[null,"RAMALLO (CP: 2915)","2915","RAMALLO","BUENOS AIRES","METROPOLITANA","29","JOSE MESSALA"]
[null,"RAMON J NEILD (CP: 6533)","6533","RAMON J NEILD","BUENOS AIRES","METROPOLITANA",30,"PABLO CIMINARI"]
[null,"RAMON OTERO (CP: 7621)","7621","RAMON OTERO","BUENOS AIRES","METROPOLITANA","123","CESAR RONCARI"]
[null,"RAMOS MEJIA (CP: 1703)","1703","RAMOS MEJIA","BUENOS AIRES","METROPOLITANA",18,"OMAR PRESAS"]
[null,"RAMOS MEJIA (CP: 1704)","1704","RAMOS MEJIA","BUENOS AIRES","METROPOLITANA",18,"OMAR PRESAS"]
[null,"RANCHOS (CP: 1987)","1987","RANCHOS","BUENOS AIRES","METROPOLITANA","31","PABLO CIMINARI"]
[null,"RANELAGH (CP: 1886)","1886","RANELAGH","BUENOS AIRES","METROPOLITANA","31","PABLO CIMINARI"]
[null,"RAUCH (CP: 7203)","7203","RAUCH","BUENOS AIRES","METROPOLITANA","123","CESAR RONCARI"]
[null,"RAWSON (CP: 6734)","6734","RAWSON","BUENOS AIRES","METROPOLITANA","29","JOSE MESSALA"]
[null,"REMEDIOS DE ESCALADA (CP: 1826)","1826","REMEDIOS DE ESCALADA","BUENOS AIRES","METROPOLITANA",31,"PABLO CIMINARI"]
[null,"RESERVA CINTURON ECOLOGI (CP: 1870)","1870","RESERVA CINTURON ECOLOGI","BUENOS AIRES","METROPOLITANA",31,"PABLO CIMINARI"]
[null,"RICARDO GAVIÑA (CP: 7313)","7313","RICARDO GAVIÑA","BUENOS AIRES","METROPOLITANA","123","CESAR RONCARI"]
[null,"RINCON DE MILBERG (CP: 1648)","1648","RINCON DE MILBERG","BUENOS AIRES","METROPOLITANA","29","JOSE MESSALA"]
[null,"RINGUELET (CP: 1901)","1901","RINGUELET","BUENOS AIRES","METROPOLITANA","31","PABLO CIMINARI"]
[null,"RIO LUJAN (CP: 2802)","2802","RIO LUJAN","BUENOS AIRES","METROPOLITANA","29","JOSE MESSALA"]
[null,"RIO TALA (CP: 2944)","2944","RIO TALA","BUENOS AIRES","METROPOLITANA","29","JOSE MESSALA"]
[null,"RIVADAVIA (CP: 6237)","6237","RIVADAVIA","BUENOS AIRES","METROPOLITANA","123","CESAR RONCARI"]
[null,"RIVADEO (CP: 8127)","8127","RIVADEO","BUENOS AIRES","METROPOLITANA",130,"GONZALO ROZADO"]
[null,"RIVERA (CP: 6441)","6441","RIVERA","BUENOS AIRES","METROPOLITANA",130,"GONZALO ROZADO"]
[null,"ROBERTS (CP: 6075)","6075","ROBERTS","BUENOS AIRES","METROPOLITANA","23","OMAR PRESAS"]
[null,"ROJAS (CP: 2705)","2705","ROJAS","BUENOS AIRES","METROPOLITANA","29","JOSE MESSALA"]
[null,"ROOSEVELT (CP: 6403)","6403","ROOSEVELT","BUENOS AIRES","METROPOLITANA","123","CESAR RONCARI"]
[null,"ROQUE PEREZ (CP: 7245)","7245","ROQUE PEREZ","BUENOS AIRES","METROPOLITANA",31,"PABLO CIMINARI"]
[null,"S.ANDRES DE GILES (CP: 6720)","6720","S.ANDRES DE GILES","BUENOS AIRES","METROPOLITANA","29","JOSE MESSALA"]
[null,"S.F.SOLANO (CP: 1881)","1881","S.F.SOLANO","BUENOS AIRES","METROPOLITANA","31","PABLO CIMINARI"]
[null,"SAAVEDRA (CP: 8174)","8174","SAAVEDRA","BUENOS AIRES","METROPOLITANA","123","CESAR RONCARI"]
[null,"SAENZ PEÑA (CP: 1674)","1674","SAENZ PEÑA","BUENOS AIRES","METROPOLITANA",18,"OMAR PRESAS"]
[null,"SALADILLO (CP: 7260)","7260","SALADILLO","BUENOS AIRES","METROPOLITANA",31,"PABLO CIMINARI"]
[null,"SALAZAR (CP: 6471)","6471","SALAZAR","BUENOS AIRES","METROPOLITANA","123","CESAR RONCARI"]
[null,"SALDUNGARAY (CP: 8166)","8166","SALDUNGARAY","BUENOS AIRES","METROPOLITANA","123","CESAR RONCARI"]
[null,"SALLIQUELO (CP: 6339)","6339","SALLIQUELO","BUENOS AIRES","METROPOLITANA","123","CESAR RONCARI"]
[null,"SALTO (CP: 2741)","2741","SALTO","BUENOS AIRES","METROPOLITANA","29","JOSE MESSALA"]
[null,"SALVADOR MARIA (CP: 7241)","7241","SALVADOR MARIA","BUENOS AIRES","METROPOLITANA",31,"PABLO CIMINARI"]
[null,"SAMBOROMBON (CP: 1980)","1980","SAMBOROMBON","BUENOS AIRES","METROPOLITANA","31","PABLO CIMINARI"]
[null,"SAMBOROMBON (CP: 1981)","1981","SAMBOROMBON","BUENOS AIRES","METROPOLITANA","31","PABLO CIMINARI"]
[null,"SAN A.DE ARECO (CP: 2760)","2760","SAN A.DE ARECO","BUENOS AIRES","METROPOLITANA","29","JOSE MESSALA"]
[null,"SAN AGUSTIN (CP: 7623)","7623","SAN AGUSTIN","BUENOS AIRES","METROPOLITANA","123","CESAR RONCARI"]
[null,"SAN ANDRES (CP: 1651)","1651","SAN ANDRES","BUENOS AIRES","METROPOLITANA",18,"OMAR PRESAS"]
[null,"SAN ANT.DE PADUA (CP: 1718)","1718","SAN ANT.DE PADUA","BUENOS AIRES","METROPOLITANA",18,"OMAR PRESAS"]
[null,"SAN C.DEL TUYU (CP: 7105)","7105","SAN C.DEL TUYU","BUENOS AIRES","METROPOLITANA","123","CESAR RONCARI"]
[null,"SAN CAYETANO (CP: 7521)","7521","SAN CAYETANO","BUENOS AIRES","METROPOLITANA","123","CESAR RONCARI"]
[null,"SAN ENRIQUE (CP: 6661)","6661","SAN ENRIQUE","BUENOS AIRES","METROPOLITANA",18,"OMAR PRESAS"]
[null,"SAN FERNANDO (CP: 1646)","1646","SAN FERNANDO","BUENOS AIRES","METROPOLITANA","29","JOSE MESSALA"]
[null,"SAN FERNANDO (CP: 6461)","6461","SAN FERNANDO","BUENOS AIRES","METROPOLITANA","123","JOSE MESSALA"]
[null,"SAN FRANCISCO DE BELLOCQ (CP: 7505)","7505","SAN FRANCISCO DE BELLOCQ","BUENOS AIRES","METROPOLITANA","123","CESAR RONCARI"]
[null,"SAN FRANCISCO SOLANO (CP: 1881)","1881","SAN FRANCISCO SOLANO","BUENOS AIRES","METROPOLITANA","31","PABLO CIMINARI"]
[null,"SAN GERMAN (CP: 8124)","8124","SAN GERMAN","BUENOS AIRES","METROPOLITANA",130,"GONZALO ROZADO"]
[null,"SAN IGNACIO (CP: 7150)","7150","SAN IGNACIO","BUENOS AIRES","METROPOLITANA","123","CESAR RONCARI"]
[null,"SAN ISIDRO (CP: 1642)","1642","SAN ISIDRO","BUENOS AIRES","METROPOLITANA","29","JOSE MESSALA"]
[null,"SAN JUSTO (CP: 1754)","1754","SAN JUSTO","BUENOS AIRES","METROPOLITANA",18,"OMAR PRESAS"]
[null,"SAN MANUEL (CP: 7007)","7007","SAN MANUEL","BUENOS AIRES","METROPOLITANA","123","CESAR RONCARI"]
[null,"SAN MARTIN (CP: 1650)","1650","SAN MARTIN","BUENOS AIRES","METROPOLITANA",18,"OMAR PRESAS"]
[null,"SAN MIGUEL (CP: 1663)","1663","SAN MIGUEL","BUENOS AIRES","METROPOLITANA",18,"OMAR PRESAS"]
[null,"SAN MIGUEL ARCAN. (CP: 8185)","8185","SAN MIGUEL ARCAN.","BUENOS AIRES","METROPOLITANA","123","CESAR RONCARI"]
[null,"SAN MIGUEL DEL MONTE (CP: 7220)","7220","SAN MIGUEL DEL MONTE","BUENOS AIRES","METROPOLITANA",31,"PABLO CIMINARI"]
[null,"SAN NICOLAS (CP: 2150)","2150","SAN NICOLAS","BUENOS AIRES","METROPOLITANA","29","JOSE MESSALA"]
[null,"SAN NICOLAS (CP: 2900)","2900","SAN NICOLAS","BUENOS AIRES","METROPOLITANA","29","JOSE MESSALA"]
[null,"SAN PEDRO (CP: 2930)","2930","SAN PEDRO","BUENOS AIRES","METROPOLITANA","29","JOSE MESSALA"]
[null,"SAN ROMAN (CP: 8154)","8154","SAN ROMAN","BUENOS AIRES","METROPOLITANA","123","CESAR RONCARI"]
[null,"SAN SEBASTIAN (CP: 6623)","6623","SAN SEBASTIAN","BUENOS AIRES","METROPOLITANA",18,"OMAR PRESAS"]
[null,"SAN VICENTE (CP: 1865)","1865","SAN VICENTE","BUENOS AIRES","METROPOLITANA",31,"PABLO CIMINARI"]
[null,"SANSINENA (CP: 6233)","6233","SANSINENA","BUENOS AIRES","METROPOLITANA","123","CESAR RONCARI"]
[null,"SANTA COLOMA (CP: 2761)","2761","SANTA COLOMA","BUENOS AIRES","METROPOLITANA","29","JOSE MESSALA"]
[null,"SANTA ELEONORA (CP: 6241)","6241","SANTA ELEONORA","BUENOS AIRES","METROPOLITANA","123","CESAR RONCARI"]
[null,"SANTA LUCIA (CP: 2935)","2935","SANTA LUCIA","BUENOS AIRES","METROPOLITANA","29","JOSE MESSALA"]
[null,"SANTA TERESITA (CP: 7107)","7107","SANTA TERESITA","BUENOS AIRES","METROPOLITANA","123","CESAR RONCARI"]
[null,"SANTA TRINIDAD (CP: 7541)","7541","SANTA TRINIDAD","BUENOS AIRES","METROPOLITANA","123","CESAR RONCARI"]
[null,"SANTIAGO GARBARINI (CP: 6660)","6660","SANTIAGO GARBARINI","BUENOS AIRES","METROPOLITANA",18,"OMAR PRESAS"]
[null,"SANTO TOMAS (CP: 6530)","6530","SANTO TOMAS","BUENOS AIRES","METROPOLITANA",30,"PABLO CIMINARI"]
[null,"SANTOS LUGARES (CP: 1676)","1676","SANTOS LUGARES","BUENOS AIRES","METROPOLITANA",18,"OMAR PRESAS"]
[null,"SANTOS TESEI (CP: 1688)","1688","SANTOS TESEI","BUENOS AIRES","METROPOLITANA",18,"OMAR PRESAS"]
[null,"SANTOS UNZUE (CP: 6507)","6507","SANTOS UNZUE","BUENOS AIRES","METROPOLITANA",30,"PABLO CIMINARI"]
[null,"SARANDI (CP: 1872)","1872","SARANDI","BUENOS AIRES","METROPOLITANA",31,"PABLO CIMINARI"]
[null,"SEVIGNE (CP: 7112)","7112","SEVIGNE","BUENOS AIRES","METROPOLITANA","123","CESAR RONCARI"]
[null,"SHAW (CP: 7300)","7300","SHAW","BUENOS AIRES","METROPOLITANA","123","CESAR RONCARI"]
[null,"SIE.D.L.VENTANA (CP: 8168)","8168","SIE.D.L.VENTANA","BUENOS AIRES","METROPOLITANA","123","CESAR RONCARI"]
[null,"SIERRA CHICA (CP: 7401)","7401","SIERRA CHICA","BUENOS AIRES","METROPOLITANA","123","CESAR RONCARI"]
[null,"SIERRA DE LOS PADRES (CP: 7601)","7601","SIERRA DE LOS PADRES","BUENOS AIRES","METROPOLITANA","123","CESAR RONCARI"]
[null,"SIERRAS BAYAS (CP: 7403)","7403","SIERRAS BAYAS","BUENOS AIRES","METROPOLITANA","123","CESAR RONCARI"]
[null,"SOLANET (CP: 7151)","7151","SOLANET","BUENOS AIRES","METROPOLITANA","123","CESAR RONCARI"]
[null,"SOLIS (CP: 2764)","2764","SOLIS","BUENOS AIRES","METROPOLITANA","29","JOSE MESSALA"]
[null,"SPURR (CP: 8103)","8103","SPURR","BUENOS AIRES","METROPOLITANA",130,"GONZALO ROZADO"]
[null,"STA.CLARA DEL MAR (CP: 7609)","7609","STA.CLARA DEL MAR","BUENOS AIRES","METROPOLITANA","123","CESAR RONCARI"]
[null,"STA.REGINA (CP: 6105)","6105","STA.REGINA","BUENOS AIRES","METROPOLITANA","123","CESAR RONCARI"]
[null,"STROEDER (CP: 8508)","8508","STROEDER","BUENOS AIRES","METROPOLITANA",130,"GONZALO ROZADO"]
[null,"SUIPACHA (CP: 6612)","6612","SUIPACHA","BUENOS AIRES","METROPOLITANA",18,"OMAR PRESAS"]
[null,"T.DE PACHECO (CP: 1616)","1616","T.DE PACHECO","BUENOS AIRES","METROPOLITANA","29","JOSE MESSALA"]
[null,"TABLADA (CP: 1766)","1766","TABLADA","BUENOS AIRES","METROPOLITANA",18,"OMAR PRESAS"]
[null,"TANDIL (CP: 7000)","7000","TANDIL","BUENOS AIRES","METROPOLITANA","123","CESAR RONCARI"]
[null,"TAPALQUE (CP: 7303)","7303","TAPALQUE","BUENOS AIRES","METROPOLITANA","123","CESAR RONCARI"]
[null,"TAPALQUE (CP: 7307)","7307","TAPALQUE","BUENOS AIRES","METROPOLITANA","123","CESAR RONCARI"]
[null,"TAPIALES (CP: 1700)","1700","TAPIALES","BUENOS AIRES","METROPOLITANA",18,"OMAR PRESAS"]
[null,"TAPIALES (CP: 1770)","1770","TAPIALES","BUENOS AIRES","METROPOLITANA",18,"OMAR PRESAS"]
[null,"TEDIN URIBURU (CP: 7021)","7021","TEDIN URIBURU","BUENOS AIRES","METROPOLITANA","123","CESAR RONCARI"]
[null,"TEMPERLEY (CP: 1834)","1834","TEMPERLEY","BUENOS AIRES","METROPOLITANA",31,"PABLO CIMINARI"]
[null,"THAMES (CP: 6343)","6343","THAMES","BUENOS AIRES","METROPOLITANA","123","CESAR RONCARI"]
[null,"TIGRE (CP: 1648)","1648","TIGRE","BUENOS AIRES","METROPOLITANA","29","JOSE MESSALA"]
[null,"TODD (CP: 2754)","2754","TODD","BUENOS AIRES","METROPOLITANA","29","JOSE MESSALA"]
[null,"TOLOSA (CP: 1900)","1900","TOLOSA","BUENOS AIRES","METROPOLITANA","31","PABLO CIMINARI"]
[null,"TORDILLO (CP: 7101)","7101","TORDILLO","BUENOS AIRES","METROPOLITANA","123","CESAR RONCARI"]
[null,"TORNQUIST (CP: 8160)","8160","TORNQUIST","BUENOS AIRES","METROPOLITANA","123","CESAR RONCARI"]
[null,"TORRES (CP: 6703)","6703","TORRES","BUENOS AIRES","METROPOLITANA",18,"OMAR PRESAS"]
[null,"TORTUGUITAS (CP: 1667)","1667","TORTUGUITAS","BUENOS AIRES","METROPOLITANA","29","JOSE MESSALA"]
[null,"TRENQUE LAUQUEN (CP: 6400)","6400","TRENQUE LAUQUEN","BUENOS AIRES","METROPOLITANA","123","CESAR RONCARI"]
[null,"TRES ALGARROBOS (CP: 6231)","6231","TRES ALGARROBOS","BUENOS AIRES","METROPOLITANA","123","CESAR RONCARI"]
[null,"TRES ARROYOS (CP: 7500)","7500","TRES ARROYOS","BUENOS AIRES","METROPOLITANA","123","CESAR RONCARI"]
[null,"TRES LAGUNAS (CP: 6443)","6443","TRES LAGUNAS","BUENOS AIRES","METROPOLITANA","123","CESAR RONCARI"]
[null,"TRES LOMAS (CP: 6409)","6409","TRES LOMAS","BUENOS AIRES","METROPOLITANA","123","CESAR RONCARI"]
[null,"TRES PICOS (CP: 8162)","8162","TRES PICOS","BUENOS AIRES","METROPOLITANA","123","CESAR RONCARI"]
[null,"TRES SARGENTOS (CP: 6727)","6727","TRES SARGENTOS","BUENOS AIRES","METROPOLITANA","29","JOSE MESSALA"]
[null,"TRISTAN SUAREZ (CP: 1806)","1806","TRISTAN SUAREZ","BUENOS AIRES","METROPOLITANA",31,"PABLO CIMINARI"]
[null,"TRUJUI (CP: 1664)","1664","TRUJUI","BUENOS AIRES","METROPOLITANA",18,"OMAR PRESAS"]
[null,"TURDERA (CP: 1836)","1836","TURDERA","BUENOS AIRES","METROPOLITANA",31,"PABLO CIMINARI"]
[null,"UDAQUIOLA (CP: 7151)","7151","UDAQUIOLA","BUENOS AIRES","METROPOLITANA","123","CESAR RONCARI"]
[null,"URDAMPILLETA (CP: 6553)","6553","URDAMPILLETA","BUENOS AIRES","METROPOLITANA","123","CESAR RONCARI"]
[null,"URIBELARREA (CP: 1815)","1815","URIBELARREA","BUENOS AIRES","METROPOLITANA",31,"PABLO CIMINARI"]
[null,"URQUIZA (CP: 2718)","2718","URQUIZA","BUENOS AIRES","METROPOLITANA","29","JOSE MESSALA"]
[null,"VALDES (CP: 6667)","6667","VALDES","BUENOS AIRES","METROPOLITANA",18,"OMAR PRESAS"]
[null,"VALENTIN ALSINA (CP: 1822)","1822","VALENTIN ALSINA","BUENOS AIRES","METROPOLITANA",31,"PABLO CIMINARI"]
[null,"VALERIA DEL MAR (CP: 7167)","7167","VALERIA DEL MAR","BUENOS AIRES","METROPOLITANA","123","CESAR RONCARI"]
[null,"VALLIMANCA (CP: 6557)","6557","VALLIMANCA","BUENOS AIRES","METROPOLITANA","123","CESAR RONCARI"]
[null,"VASQUEZ (CP: 7519)","7519","VASQUEZ","BUENOS AIRES","METROPOLITANA","123","CESAR RONCARI"]
[null,"VEDIA (CP: 6030)","6030","VEDIA","BUENOS AIRES","METROPOLITANA","23","OMAR PRESAS"]
[null,"VELA (CP: 7003)","7003","VELA","BUENOS AIRES","METROPOLITANA","123","CESAR RONCARI"]
[null,"VERONICA (CP: 1917)","1917","VERONICA","BUENOS AIRES","METROPOLITANA","31","PABLO CIMINARI"]
[null,"VICENTE CASARES (CP: 1808)","1808","VICENTE CASARES","BUENOS AIRES","METROPOLITANA",31,"PABLO CIMINARI"]
[null,"VICENTE LOPEZ (CP: 1638)","1638","VICENTE LOPEZ","BUENOS AIRES","METROPOLITANA","29","JOSE MESSALA"]
[null,"VICENTE PEREDA (CP: 7300)","7300","VICENTE PEREDA","BUENOS AIRES","METROPOLITANA","123","CESAR RONCARI"]
[null,"VICTORIA (CP: 1644)","1644","VICTORIA","BUENOS AIRES","METROPOLITANA","29","JOSE MESSALA"]
[null,"VIEYTES (CP: 1915)","1915","VIEYTES","BUENOS AIRES","METROPOLITANA","31","PABLO CIMINARI"]
[null,"VILLA ADELINA (CP: 1607)","1607","VILLA ADELINA","BUENOS AIRES","METROPOLITANA",18,"OMAR PRESAS"]
[null,"VILLA ARGÜELLO (CP: 1923)","1923","VILLA ARGÜELLO","BUENOS AIRES","METROPOLITANA","31","PABLO CIMINARI"]
[null,"VILLA AZUL (CP: 1923)","1923","VILLA AZUL","BUENOS AIRES","METROPOLITANA","31","PABLO CIMINARI"]
[null,"VILLA BALLESTER (CP: 1653)","1653","VILLA BALLESTER","BUENOS AIRES","METROPOLITANA",18,"OMAR PRESAS"]
[null,"VILLA BOSCH (CP: 1682)","1682","VILLA BOSCH","BUENOS AIRES","METROPOLITANA",18,"OMAR PRESAS"]
[null,"VILLA CACIQUE (CP: 7005)","7005","VILLA CACIQUE","BUENOS AIRES","METROPOLITANA","123","CESAR RONCARI"]
[null,"VILLA CASTELAR (CP: 6443)","6443","VILLA CASTELAR","BUENOS AIRES","METROPOLITANA","123","CESAR RONCARI"]
[null,"VILLA CELINA (CP: 1772)","1772","VILLA CELINA","BUENOS AIRES","METROPOLITANA",18,"OMAR PRESAS"]
[null,"VILLA DOLORES (CP: 1923)","1923","VILLA DOLORES","BUENOS AIRES","METROPOLITANA","31","PABLO CIMINARI"]
[null,"VILLA DOMINICO (CP: 1874)","1874","VILLA DOMINICO","BUENOS AIRES","METROPOLITANA",31,"PABLO CIMINARI"]
[null,"VILLA EL CACIQUE (CP: 7005)","7005","VILLA EL CACIQUE","BUENOS AIRES","METROPOLITANA","123","CESAR RONCARI"]
[null,"VILLA ELISA (CP: 1894)","1894","VILLA ELISA","BUENOS AIRES","METROPOLITANA","31","PABLO CIMINARI"]
[null,"VILLA ELISA (CP: 5090)","5090","VILLA ELISA","BUENOS AIRES","METROPOLITANA","31","PABLO CIMINARI"]
[null,"VILLA ESPAÑA (CP: 1884)","1884","VILLA ESPAÑA","BUENOS AIRES","METROPOLITANA","31","PABLO CIMINARI"]
[null,"VILLA ESTACION RAMALLO (CP: 2914)","2914","VILLA ESTACION RAMALLO","BUENOS AIRES","METROPOLITANA","29","JOSE MESSALA"]
[null,"VILLA GESELL (CP: 7165)","7165","VILLA GESELL","BUENOS AIRES","METROPOLITANA","123","CESAR RONCARI"]
[null,"VILLA GRAL SAVIO (CP: 2912)","2912","VILLA GRAL SAVIO","BUENOS AIRES","METROPOLITANA","29","JOSE MESSALA"]
[null,"VILLA HARDING GREEN (CP: 8101)","8101","VILLA HARDING GREEN","BUENOS AIRES","METROPOLITANA",130,"GONZALO ROZADO"]
[null,"VILLA INDEPENDENCIA (CP: 1923)","1923","VILLA INDEPENDENCIA","BUENOS AIRES","METROPOLITANA","31","PABLO CIMINARI"]
[null,"VILLA IRIS (CP: 8126)","8126","VILLA IRIS","BUENOS AIRES","METROPOLITANA",130,"GONZALO ROZADO"]
[null,"VILLA LYNCH (CP: 1672)","1672","VILLA LYNCH","BUENOS AIRES","METROPOLITANA",18,"OMAR PRESAS"]
[null,"VILLA LYNCH (CP: 6553)","6553","VILLA LYNCH","BUENOS AIRES","METROPOLITANA","123","CESAR RONCARI"]
[null,"VILLA MADERO (CP: 1768)","1768","VILLA MADERO","BUENOS AIRES","METROPOLITANA",18,"OMAR PRESAS"]
[null,"VILLA MARIA (CP: 6628)","6628","VILLA MARIA","BUENOS AIRES","METROPOLITANA","123","CESAR RONCARI"]
[null,"VILLA MARTELLI (CP: 1603)","1603","VILLA MARTELLI","BUENOS AIRES","METROPOLITANA",18,"OMAR PRESAS"]
[null,"VILLA MAYO (CP: 1614)","1614","VILLA MAYO","BUENOS AIRES","METROPOLITANA","29","JOSE MESSALA"]
[null,"VILLA MAZA (CP: 6343)","6343","VILLA MAZA","BUENOS AIRES","METROPOLITANA","123","CESAR RONCARI"]
[null,"VILLA NUEVA (CP: 1923)","1923","VILLA NUEVA","BUENOS AIRES","METROPOLITANA","31","PABLO CIMINARI"]
[null,"VILLA OLGA (CP: 8000)","8000","VILLA OLGA","BUENOS AIRES","METROPOLITANA",130,"GONZALO ROZADO"]
[null,"VILLA PORTEÑA (CP: 1923)","1923","VILLA PORTEÑA","BUENOS AIRES","METROPOLITANA","31","PABLO CIMINARI"]
[null,"VILLA PROGRESO (CP: 1923)","1923","VILLA PROGRESO","BUENOS AIRES","METROPOLITANA","31","PABLO CIMINARI"]
[null,"VILLA PRONSATO (CP: 8000)","8000","VILLA PRONSATO","BUENOS AIRES","METROPOLITANA",130,"GONZALO ROZADO"]
[null,"VILLA ROSA - PILAR (CP: 1631)","1631","VILLA ROSA - PILAR","BUENOS AIRES","METROPOLITANA","29","JOSE MESSALA"]
[null,"VILLA RUIZ (CP: 6720)","6720","VILLA RUIZ","BUENOS AIRES","METROPOLITANA","29","JOSE MESSALA"]
[null,"VILLA SAN CARLOS (CP: 1923)","1923","VILLA SAN CARLOS","BUENOS AIRES","METROPOLITANA","31","PABLO CIMINARI"]
[null,"VILLA SAN PEDRO (CP: 7203)","7203","VILLA SAN PEDRO","BUENOS AIRES","METROPOLITANA","123","CESAR RONCARI"]
[null,"VILLA SANZ (CP: 6511)","6511","VILLA SANZ","BUENOS AIRES","METROPOLITANA",30,"PABLO CIMINARI"]
[null,"VILLA SAUZE (CP: 6235)","6235","VILLA SAUZE","BUENOS AIRES","METROPOLITANA","123","CESAR RONCARI"]
[null,"VILLA SERRA (CP: 8103)","8103","VILLA SERRA","BUENOS AIRES","METROPOLITANA",130,"GONZALO ROZADO"]
[null,"VILLALONGA (CP: 8512)","8512","VILLALONGA","BUENOS AIRES","METROPOLITANA",130,"GONZALO ROZADO"]
[null,"VIÑA (CP: 2754)","2754","VIÑA","BUENOS AIRES","METROPOLITANA","29","JOSE MESSALA"]
[null,"VIRREY DEL PINO (CP: 1763)","1763","VIRREY DEL PINO","BUENOS AIRES","METROPOLITANA",18,"OMAR PRESAS"]
[null,"VIVORATA (CP: 7612)","7612","VIVORATA","BUENOS AIRES","METROPOLITANA","123","CESAR RONCARI"]
[null,"WARNES (CP: 6646)","6646","WARNES","BUENOS AIRES","METROPOLITANA",18,"OMAR PRESAS"]
[null,"WILDE (CP: 1875)","1875","WILDE","BUENOS AIRES","METROPOLITANA",31,"PABLO CIMINARI"]
[null,"ZARATE (CP: 2800)","2800","ZARATE","BUENOS AIRES","METROPOLITANA","29","JOSE MESSALA"]
[null,"ZELAYA (CP: 1627)","1627","ZELAYA","BUENOS AIRES","METROPOLITANA","29","JOSE MESSALA"]
[null,"ZONA RURAL (CP: 1923)","1923","ZONA RURAL","BUENOS AIRES","METROPOLITANA","31","PABLO CIMINARI"]
[]
[]
[null,"CATAMARCA"]
[null,"CONCATENADO","CodigoPostal","Localidad","Provincia","Region","NRO AGENTE","NOMBRE"]
[null,"AMANAO (CP: 4741)","4741","AMANAO","CATAMARCA","LOS VALLES","24","DANIEL ECHEVERRIA"]
[null,"ANDALGALA (CP: 4740)","4740","ANDALGALA","CATAMARCA","LOS VALLES","24","DANIEL ECHEVERRIA"]
[null,"ANDALGALA (CP: 5740)","5740","ANDALGALA","CATAMARCA","LOS VALLES","24","DANIEL ECHEVERRIA"]
[null,"ANTOFAGASTA DE LA SIERRA (CP: 4705)","4705","ANTOFAGASTA DE LA SIERRA","CATAMARCA","LOS VALLES","24","DANIEL ECHEVERRIA"]
[null,"BELEN (CP: 4750)","4750","BELEN","CATAMARCA","LOS VALLES","24","DANIEL ECHEVERRIA"]
[null,"CAPAYAN (CP: 4726)","4726","CAPAYAN","CATAMARCA","LOS VALLES","24","DANIEL ECHEVERRIA"]
[null,"CATAMARCA (CP: 4700)","4700","CATAMARCA","CATAMARCA","LOS VALLES","24","DANIEL ECHEVERRIA"]
[null,"CHUMBICHA (CP: 4728)","4728","CHUMBICHA","CATAMARCA","LOS VALLES","24","DANIEL ECHEVERRIA"]
[null,"CORTADERAS (CP: 5261)","5261","CORTADERAS","CATAMARCA","LOS VALLES","24","DANIEL ECHEVERRIA"]
[null,"DPTO.AMBATO (CP: 4715)","4715","DPTO.AMBATO","CATAMARCA","LOS VALLES","24","DANIEL ECHEVERRIA"]
[null,"EL ALAMITO (CP: 4743)","4743","EL ALAMITO","CATAMARCA","LOS VALLES","24","DANIEL ECHEVERRIA"]
[null,"EL ALTO (CP: 4235)","4235","EL ALTO","CATAMARCA","LOS VALLES","24","DANIEL ECHEVERRIA"]
[null,"EL TRAPICHE (CP: 4139)","4139","EL TRAPICHE","CATAMARCA","LOS VALLES","24","DANIEL ECHEVERRIA"]
[null,"FARALLON NEGRO (CP: 4751)","4751","FARALLON NEGRO","CATAMARCA","LOS VALLES","24","DANIEL ECHEVERRIA"]
[null,"FIAMBALA (CP: 5345)","5345","FIAMBALA","CATAMARCA","LOS VALLES","24","DANIEL ECHEVERRIA"]
[null,"HUALFIN (CP: 4751)","4751","HUALFIN","CATAMARCA","LOS VALLES","24","DANIEL ECHEVERRIA"]
[null,"HUILLAPIMA (CP: 4726)","4726","HUILLAPIMA","CATAMARCA","LOS VALLES","24","DANIEL ECHEVERRIA"]
[null,"LA MERCED (CP: 4718)","4718","LA MERCED","CATAMARCA","LOS VALLES","24","DANIEL ECHEVERRIA"]
[null,"LOS ALTOS (CP: 4723)","4723","LOS ALTOS","CATAMARCA","LOS VALLES","24","DANIEL ECHEVERRIA"]
[null,"LOS VARELAS (CP: 4711)","4711","LOS VARELAS","CATAMARCA","LOS VALLES","24","DANIEL ECHEVERRIA"]
[null,"MIN.LA ALUMBRERA (CP: 4741)","4741","MIN.LA ALUMBRERA","CATAMARCA","LOS VALLES","24","DANIEL ECHEVERRIA"]
[null,"POMAN (CP: 5315)","5315","POMAN","CATAMARCA","LOS VALLES","24","DANIEL ECHEVERRIA"]
[null,"RECREO (CP: 5260)","5260","RECREO","CATAMARCA","LOS VALLES","24","DANIEL ECHEVERRIA"]
[null,"SAN ANT.DE LA PAZ (CP: 5264)","5264","SAN ANT.DE LA PAZ","CATAMARCA","LOS VALLES","24","DANIEL ECHEVERRIA"]
[null,"SAN MARTIN (CP: 5263)","5263","SAN MARTIN","CATAMARCA","LOS VALLES","24","DANIEL ECHEVERRIA"]
[null,"SAUJIL (CP: 5321)","5321","SAUJIL","CATAMARCA","LOS VALLES","24","DANIEL ECHEVERRIA"]
[null,"STA.MARIA (CP: 4139)","4139","STA.MARIA","CATAMARCA","LOS VALLES","24","DANIEL ECHEVERRIA"]
[null,"SUMALAO (CP: 4705)","4705","SUMALAO","CATAMARCA","LOS VALLES","24","DANIEL ECHEVERRIA"]
[null,"TINOGASTA (CP: 5340)","5340","TINOGASTA","CATAMARCA","LOS VALLES","24","DANIEL ECHEVERRIA"]
[null,"TRES PUENTES (CP: 4707)","4707","TRES PUENTES","CATAMARCA","LOS VALLES","24","DANIEL ECHEVERRIA"]
[null,"YAQUICHO (CP: 4729)","4729","YAQUICHO","CATAMARCA","LOS VALLES","24","DANIEL ECHEVERRIA"]
[]
[]
[null,"CHACO"]
[null,"CONCATENADO","CodigoPostal","Localidad","Provincia","Region","NRO AGENTE","NOMBRE"]
[null,"ANTEQUERAS (CP: 3505)","3505","ANTEQUERAS","CHACO","NOROESTE","48","MIGUEL BERNERI"]
[null,"AVIA TERAI (CP: 3706)","3706","AVIA TERAI","CHACO","NOROESTE","48","MIGUEL BERNERI"]
[null,"BARRANQUERAS (CP: 3503)","3503","BARRANQUERAS","CHACO","NOROESTE","48","MIGUEL BERNERI"]
[null,"BASAIL (CP: 3516)","3516","BASAIL","CHACO","NOROESTE","48","MIGUEL BERNERI"]
[null,"C0RZUELA (CP: 3718)","3718","C0RZUELA","CHACO","NOROESTE","48","MIGUEL BERNERI"]
[null,"CAMPO LARGO (CP: 3716)","3716","CAMPO LARGO","CHACO","NOROESTE","48","MIGUEL BERNERI"]
[null,"CHARATA (CP: 3730)","3730","CHARATA","CHACO","NOROESTE","48","MIGUEL BERNERI"]
[null,"COLONIA BAJI HONDO (CP: 3700)","3700","COLONIA BAJI HONDO","CHACO","NOROESTE","48","MIGUEL BERNERI"]
[null,"COLONIA BENITEZ (CP: 3505)","3505","COLONIA BENITEZ","CHACO","NOROESTE","48","MIGUEL BERNERI"]
[null,"COLONIA JUAN J. CASTELLI (CP: 3705)","3705","COLONIA JUAN J. CASTELLI","CHACO","NOROESTE","48","MIGUEL BERNERI"]
[null,"COLONIAS UNIDAS (CP: 3515)","3515","COLONIAS UNIDAS","CHACO","NOROESTE","48","MIGUEL BERNERI"]
[null,"COMANTE. FERNANDEZ-CHACO (CP: 3700)","3700","COMANTE. FERNANDEZ-CHACO","CHACO","NOROESTE","48","MIGUEL BERNERI"]
[null,"CORONEL DU GRATY (CP: 3541)","3541","CORONEL DU GRATY","CHACO","NOROESTE","48","MIGUEL BERNERI"]
[null,"EL RODEO (CP: 4715)","4715","EL RODEO","CHACO","NOROESTE","48","MIGUEL BERNERI"]
[null,"FONTANA (CP: 3514)","3514","FONTANA","CHACO","NOROESTE","48","MIGUEL BERNERI"]
[null,"FORTIN LAVALLE (CP: 3703)","3703","FORTIN LAVALLE","CHACO","NOROESTE","48","MIGUEL BERNERI"]
[null,"GANCEDO (CP: 3734)","3734","GANCEDO","CHACO","NOROESTE","48","MIGUEL BERNERI"]
[null,"GRAL.J.D.S.MARTIN (CP: 3509)","3509","GRAL.J.D.S.MARTIN","CHACO","NOROESTE","48","MIGUEL BERNERI"]
[null,"GRAL.PINEDO (CP: 3732)","3732","GRAL.PINEDO","CHACO","NOROESTE","48","MIGUEL BERNERI"]
[null,"HERMOSO CAMPO (CP: 3733)","3733","HERMOSO CAMPO","CHACO","NOROESTE","48","MIGUEL BERNERI"]
[null,"LA CLOTILDE (CP: 3701)","3701","LA CLOTILDE","CHACO","NOROESTE","48","MIGUEL BERNERI"]
[null,"LA ESCONDIDA (CP: 3514)","3514","LA ESCONDIDA","CHACO","NOROESTE","48","MIGUEL BERNERI"]
[null,"LA LIGURIA (CP: 3501)","3501","LA LIGURIA","CHACO","NOROESTE","48","MIGUEL BERNERI"]
[null,"LA TIGRA (CP: 3701)","3701","LA TIGRA","CHACO","NOROESTE","48","MIGUEL BERNERI"]
[null,"LA VERDE (CP: 3514)","3514","LA VERDE","CHACO","NOROESTE","48","MIGUEL BERNERI"]
[null,"LAS BREÑAS (CP: 3722)","3722","LAS BREÑAS","CHACO","NOROESTE","48","MIGUEL BERNERI"]
[null,"LAS PIEDRITAS (CP: 3722)","3722","LAS PIEDRITAS","CHACO","NOROESTE","48","MIGUEL BERNERI"]
[null,"LEONESA - CHACO (CP: 3518)","3518","LEONESA - CHACO","CHACO","NOROESTE","48","MIGUEL BERNERI"]
[null,"MACHAGAY (CP: 3534)","3534","MACHAGAY","CHACO","NOROESTE","48","MIGUEL BERNERI"]
[null,"MAKALLE (CP: 3514)","3514","MAKALLE","CHACO","NOROESTE","48","MIGUEL BERNERI"]
[null,"NUEVA POMPEYA (CP: 3705)","3705","NUEVA POMPEYA","CHACO","NOROESTE","48","MIGUEL BERNERI"]
[null,"P.D.LA PLAZA (CP: 3536)","3536","P.D.LA PLAZA","CHACO","NOROESTE","48","MIGUEL BERNERI"]
[null,"PAMPA DEL INDIO (CP: 3531)","3531","PAMPA DEL INDIO","CHACO","NOROESTE","48","MIGUEL BERNERI"]
[null,"PAMPA DEL INFIERNO (CH) (CP: 3708)","3708","PAMPA DEL INFIERNO (CH)","CHACO","NOROESTE","48","MIGUEL BERNERI"]
[null,"PAMPA LANDRIEL (CP: 3731)","3731","PAMPA LANDRIEL","CHACO","NOROESTE","48","MIGUEL BERNERI"]
[null,"PRESIDENCIA ROCA (CP: 3511)","3511","PRESIDENCIA ROCA","CHACO","NOROESTE","48","MIGUEL BERNERI"]
[null,"PTE.R.SAENZ PEÑA (CP: 3700)","3700","PTE.R.SAENZ PEÑA","CHACO","NOROESTE","48","MIGUEL BERNERI"]
[null,"PUERTO TIROL (CP: 3505)","3505","PUERTO TIROL","CHACO","NOROESTE","48","MIGUEL BERNERI"]
[null,"PUERTO VILELAS (CP: 3503)","3503","PUERTO VILELAS","CHACO","NOROESTE","48","MIGUEL BERNERI"]
[null,"QUITILIPI (CP: 3530)","3530","QUITILIPI","CHACO","NOROESTE","48","MIGUEL BERNERI"]
[null,"RESISTENCIA (CP: 3500)","3500","RESISTENCIA","CHACO","NOROESTE","48","MIGUEL BERNERI"]
[null,"RIO BERMEJO (CP: 3524)","3524","RIO BERMEJO","CHACO","NOROESTE","48","MIGUEL BERNERI"]
[null,"SAN BERNARDO (CP: 3701)","3701","SAN BERNARDO","CHACO","NOROESTE","48","MIGUEL BERNERI"]
[null,"SAN FERNANDO (CP: 3518)","3518","SAN FERNANDO","CHACO","NOROESTE","48","MIGUEL BERNERI"]
[null,"SANTA SYLVINA (CP: 3541)","3541","SANTA SYLVINA","CHACO","NOROESTE","48","MIGUEL BERNERI"]
[null,"TACO POZO (CP: 3714)","3714","TACO POZO","CHACO","NOROESTE","48","MIGUEL BERNERI"]
[null,"TRES ISLETAS (CP: 3703)","3703","TRES ISLETAS","CHACO","NOROESTE","48","MIGUEL BERNERI"]
[null,"VILLA ANGELA (CP: 3540)","3540","VILLA ANGELA","CHACO","NOROESTE","48","MIGUEL BERNERI"]
[null,"VILLA BERTHET (CP: 3545)","3545","VILLA BERTHET","CHACO","NOROESTE","48","MIGUEL BERNERI"]
[]
[]
[null,"CHUBUT"]
[null,"CONCATENADO","CodigoPostal","Localidad","Provincia","Region","NRO AGENTE","NOMBRE"]
[null,"ALDEA APELEG (CP: 9033)","9033","ALDEA APELEG","CHUBUT","PATAGONIA","26","SOLEDAD BARTOLOMEI"]
[null,"ALDEA BELEIRO (CP: 9037)","9037","ALDEA BELEIRO","CHUBUT","PATAGONIA","26","SOLEDAD BARTOLOMEI"]
[null,"ALTO RIO SENGUER (CP: 9033)","9033","ALTO RIO SENGUER","CHUBUT","PATAGONIA","26","SOLEDAD BARTOLOMEI"]
[null,"ARROYO VERDE (CP: 8532)","8532","ARROYO VERDE","CHUBUT","PATAGONIA","26","SOLEDAD BARTOLOMEI"]
[null,"ARROYO VERDE (CP: 9123)","9123","ARROYO VERDE","CHUBUT","PATAGONIA","26","SOLEDAD BARTOLOMEI"]
[null,"BAHIA SOLANO (CP: 9003)","9003","BAHIA SOLANO","CHUBUT","PATAGONIA","26","SOLEDAD BARTOLOMEI"]
[null,"BAJO DEL GUALICHO (CP: 9121)","9121","BAJO DEL GUALICHO","CHUBUT","PATAGONIA","26","SOLEDAD BARTOLOMEI"]
[null,"BLANCUNTRE (CP: 9201)","9201","BLANCUNTRE","CHUBUT","PATAGONIA","26","SOLEDAD BARTOLOMEI"]
[null,"BUEN PASTO (CP: 9023)","9023","BUEN PASTO","CHUBUT","PATAGONIA","26","SOLEDAD BARTOLOMEI"]
[null,"CAMARONES (CP: 9111)","9111","CAMARONES","CHUBUT","PATAGONIA","26","SOLEDAD BARTOLOMEI"]
[null,"CANQUEL (CP: 9207)","9207","CANQUEL","CHUBUT","PATAGONIA","26","SOLEDAD BARTOLOMEI"]
[null,"CAPSA (CP: 9000)","9000","CAPSA","CHUBUT","PATAGONIA","26","SOLEDAD BARTOLOMEI"]
[null,"CENTRO RIO MAYO (CP: 9035)","9035","CENTRO RIO MAYO","CHUBUT","PATAGONIA","26","SOLEDAD BARTOLOMEI"]
[null,"CERRO DRAGON (CP: 9020)","9020","CERRO DRAGON","CHUBUT","PATAGONIA","26","SOLEDAD BARTOLOMEI"]
[null,"CERRO NEGRO (CP: 9223)","9223","CERRO NEGRO","CHUBUT","PATAGONIA","26","SOLEDAD BARTOLOMEI"]
[null,"CHOLILA (CP: 9217)","9217","CHOLILA","CHUBUT","PATAGONIA","26","SOLEDAD BARTOLOMEI"]
[null,"COLANCONOHUE (CP: 9201)","9201","COLANCONOHUE","CHUBUT","PATAGONIA","26","SOLEDAD BARTOLOMEI"]
[null,"COLONIA EPULIEF (CP: 9201)","9201","COLONIA EPULIEF","CHUBUT","PATAGONIA","26","SOLEDAD BARTOLOMEI"]
[null,"COMOD.RIVADAVIA (CP: 9000)","9000","COMOD.RIVADAVIA","CHUBUT","PATAGONIA","26","SOLEDAD BARTOLOMEI"]
[null,"CORCOVADO (CP: 9201)","9201","CORCOVADO","CHUBUT","PATAGONIA","26","SOLEDAD BARTOLOMEI"]
[null,"CUSHAMEN (CP: 9211)","9211","CUSHAMEN","CHUBUT","PATAGONIA","26","SOLEDAD BARTOLOMEI"]
[null,"DOCTOR RICARDO ROJAS (CP: 9035)","9035","DOCTOR RICARDO ROJAS","CHUBUT","PATAGONIA","26","SOLEDAD BARTOLOMEI"]
[null,"DOLAVON (CP: 9107)","9107","DOLAVON","CHUBUT","PATAGONIA","26","SOLEDAD BARTOLOMEI"]
[null,"EL HOYO (CP: 9211)","9211","EL HOYO","CHUBUT","PATAGONIA","26","SOLEDAD BARTOLOMEI"]
[null,"EL MAITEN (CP: 8415)","8415","EL MAITEN","CHUBUT","PATAGONIA","26","SOLEDAD BARTOLOMEI"]
[null,"EL MAITEN (CP: 8431)","8431","EL MAITEN","CHUBUT","PATAGONIA","26","SOLEDAD BARTOLOMEI"]
[null,"EL MAITEN (CP: 9210)","9210","EL MAITEN","CHUBUT","PATAGONIA","26","SOLEDAD BARTOLOMEI"]
[null,"EL PAJARITO (CP: 9201)","9201","EL PAJARITO","CHUBUT","PATAGONIA","26","SOLEDAD BARTOLOMEI"]
[null,"EL SOMBRERO (CP: 9207)","9207","EL SOMBRERO","CHUBUT","PATAGONIA","26","SOLEDAD BARTOLOMEI"]
[null,"EL TORDILLO (CP: 9020)","9020","EL TORDILLO","CHUBUT","PATAGONIA","26","SOLEDAD BARTOLOMEI"]
[null,"ESQUEL (CP: 9200)","9200","ESQUEL","CHUBUT","PATAGONIA","26","SOLEDAD BARTOLOMEI"]
[null,"FACUNDO (CP: 9031)","9031","FACUNDO","CHUBUT","PATAGONIA","26","SOLEDAD BARTOLOMEI"]
[null,"GAIMAN (CP: 9105)","9105","GAIMAN","CHUBUT","PATAGONIA","26","SOLEDAD BARTOLOMEI"]
[null,"GAN GAN (CP: 9121)","9121","GAN GAN","CHUBUT","PATAGONIA","26","SOLEDAD BARTOLOMEI"]
[null,"GARAYALDE (CP: 9007)","9007","GARAYALDE","CHUBUT","PATAGONIA","26","SOLEDAD BARTOLOMEI"]
[null,"GASTRES (CP: 9121)","9121","GASTRES","CHUBUT","PATAGONIA","26","SOLEDAD BARTOLOMEI"]
[null,"GOB.COSTA (CP: 9223)","9223","GOB.COSTA","CHUBUT","PATAGONIA","26","SOLEDAD BARTOLOMEI"]
[null,"GUALJAINA (CP: 9201)","9201","GUALJAINA","CHUBUT","PATAGONIA","26","SOLEDAD BARTOLOMEI"]
[null,"JALA LAUBAT (CP: 9201)","9201","JALA LAUBAT","CHUBUT","PATAGONIA","26","SOLEDAD BARTOLOMEI"]
[null,"JOSE D.SAN MARTIN (CP: 9220)","9220","JOSE D.SAN MARTIN","CHUBUT","PATAGONIA","26","SOLEDAD BARTOLOMEI"]
[null,"LAGO BLANCO (CP: 9039)","9039","LAGO BLANCO","CHUBUT","PATAGONIA","26","SOLEDAD BARTOLOMEI"]
[null,"LAGO PUELO (CP: 9211)","9211","LAGO PUELO","CHUBUT","PATAGONIA","26","SOLEDAD BARTOLOMEI"]
[null,"LAGO ROSARIO (CP: 9203)","9203","LAGO ROSARIO","CHUBUT","PATAGONIA","26","SOLEDAD BARTOLOMEI"]
[null,"LAGUNITA SALADA (CP: 9121)","9121","LAGUNITA SALADA","CHUBUT","PATAGONIA","26","SOLEDAD BARTOLOMEI"]
[null,"LAS CHAPAS (CP: 9107)","9107","LAS CHAPAS","CHUBUT","PATAGONIA","26","SOLEDAD BARTOLOMEI"]
[null,"LAS PAMPAS (CP: 9225)","9225","LAS PAMPAS","CHUBUT","PATAGONIA","26","SOLEDAD BARTOLOMEI"]
[null,"LAS PLUMAS (CP: 9101)","9101","LAS PLUMAS","CHUBUT","PATAGONIA","26","SOLEDAD BARTOLOMEI"]
[null,"LAURITA (CP: 9227)","9227","LAURITA","CHUBUT","PATAGONIA","26","SOLEDAD BARTOLOMEI"]
[null,"LELEQUE (CP: 9213)","9213","LELEQUE","CHUBUT","PATAGONIA","26","SOLEDAD BARTOLOMEI"]
[null,"LOS ADOBES (CP: 9207)","9207","LOS ADOBES","CHUBUT","PATAGONIA","26","SOLEDAD BARTOLOMEI"]
[null,"LOS ALTARES (CP: 9207)","9207","LOS ALTARES","CHUBUT","PATAGONIA","26","SOLEDAD BARTOLOMEI"]
[null,"MANANTIALES BHER (CP: 9005)","9005","MANANTIALES BHER","CHUBUT","PATAGONIA","26","SOLEDAD BARTOLOMEI"]
[null,"PAMPA DEL CASTILLO (CP: 9000)","9000","PAMPA DEL CASTILLO","CHUBUT","PATAGONIA","26","SOLEDAD BARTOLOMEI"]
[null,"PASO DE INDIOS (CP: 9207)","9207","PASO DE INDIOS","CHUBUT","PATAGONIA","26","SOLEDAD BARTOLOMEI"]
[null,"PASO DEL SAPO (CP: 9201)","9201","PASO DEL SAPO","CHUBUT","PATAGONIA","26","SOLEDAD BARTOLOMEI"]
[null,"PRESA FUTALEUFU (CP: 9203)","9203","PRESA FUTALEUFU","CHUBUT","PATAGONIA","26","SOLEDAD BARTOLOMEI"]
[null,"PUERTO MADRYN (CP: 9120)","9120","PUERTO MADRYN","CHUBUT","PATAGONIA","26","SOLEDAD BARTOLOMEI"]
[null,"PUERTO PIRAMIDES (CP: 9121)","9121","PUERTO PIRAMIDES","CHUBUT","PATAGONIA","26","SOLEDAD BARTOLOMEI"]
[null,"RADA TILLY (CP: 9001)","9001","RADA TILLY","CHUBUT","PATAGONIA","26","SOLEDAD BARTOLOMEI"]
[null,"RAWSON (CP: 9103)","9103","RAWSON","CHUBUT","PATAGONIA","26","SOLEDAD BARTOLOMEI"]
[null,"RIO MAYO (CP: 9030)","9030","RIO MAYO","CHUBUT","PATAGONIA","26","SOLEDAD BARTOLOMEI"]
[null,"RIO PICO (CP: 9225)","9225","RIO PICO","CHUBUT","PATAGONIA","26","SOLEDAD BARTOLOMEI"]
[null,"SARMIENTO (CP: 9020)","9020","SARMIENTO","CHUBUT","PATAGONIA","26","SOLEDAD BARTOLOMEI"]
[null,"SIERRA NEVADA (CP: 9207)","9207","SIERRA NEVADA","CHUBUT","PATAGONIA","26","SOLEDAD BARTOLOMEI"]
[null,"TEKCA (CP: 9201)","9201","TEKCA","CHUBUT","PATAGONIA","26","SOLEDAD BARTOLOMEI"]
[null,"TELSEN (CP: 9121)","9121","TELSEN","CHUBUT","PATAGONIA","26","SOLEDAD BARTOLOMEI"]
[null,"TRELEW (CP: 9100)","9100","TRELEW","CHUBUT","PATAGONIA","26","SOLEDAD BARTOLOMEI"]
[null,"TREVELIN (CP: 9203)","9203","TREVELIN","CHUBUT","PATAGONIA","26","SOLEDAD BARTOLOMEI"]
[null,"UZCUDUN (CP: 9007)","9007","UZCUDUN","CHUBUT","PATAGONIA","26","SOLEDAD BARTOLOMEI"]
[null,"VILLA FUTALAUFQUEN (CP: 9200)","9200","VILLA FUTALAUFQUEN","CHUBUT","PATAGONIA","26","SOLEDAD BARTOLOMEI"]
[]
[]
[null,"CORDOBA"]
[null,"CONCATENADO","CodigoPostal","Localidad","Provincia","Region","NRO AGENTE","NOMBRE"]
[null,"ACHIRAS (CP: 5833)","5833","ACHIRAS","CORDOBA","MEDITERRANEA","24","DANIEL ECHEVERRIA"]
[null,"ADELIA MARIA (CP: 5843)","5843","ADELIA MARIA","CORDOBA","MEDITERRANEA","24","DANIEL ECHEVERRIA"]
[null,"ALCIRA (CP: 5813)","5813","ALCIRA","CORDOBA","MEDITERRANEA","24","DANIEL ECHEVERRIA"]
[null,"ALEJANDRO (CP: 2686)","2686","ALEJANDRO","CORDOBA","MEDITERRANEA","24","DANIEL ECHEVERRIA"]
[null,"ALEJO LEDESMA (CP: 2662)","2662","ALEJO LEDESMA","CORDOBA","MEDITERRANEA","24","DANIEL ECHEVERRIA"]
[null,"ALICIA (CP: 5949)","5949","ALICIA","CORDOBA","MEDITERRANEA","24","DANIEL ECHEVERRIA"]
[null,"ALMAFUERTE (CP: 5854)","5854","ALMAFUERTE","CORDOBA","MEDITERRANEA","24","DANIEL ECHEVERRIA"]
[null,"ALTA GRACIA (CP: 5186)","5186","ALTA GRACIA","CORDOBA","MEDITERRANEA",17,"SILVIA BARBIERIS"]
[null,"ALTO GRANDE (CP: 5893)","5893","ALTO GRANDE","CORDOBA","MEDITERRANEA","24","DANIEL ECHEVERRIA"]
[null,"ALTOS DE CHIPION (CP: 2417)","2417","ALTOS DE CHIPION","CORDOBA","MEDITERRANEA","24","DANIEL ECHEVERRIA"]
[null,"ARGUELLO (CP: 5147)","5147","ARGUELLO","CORDOBA","MEDITERRANEA",17,"SILVIA BARBIERIS"]
[null,"ARIAS (CP: 2624)","2624","ARIAS","CORDOBA","MEDITERRANEA","24","DANIEL ECHEVERRIA"]
[null,"ARROYITO (CP: 2434)","2434","ARROYITO","CORDOBA","MEDITERRANEA","24","DANIEL ECHEVERRIA"]
[null,"ARROYO ALGODON (CP: 5909)","5909","ARROYO ALGODON","CORDOBA","MEDITERRANEA","24","DANIEL ECHEVERRIA"]
[null,"ARROYO CABRAL (CP: 5917)","5917","ARROYO CABRAL","CORDOBA","MEDITERRANEA","24","DANIEL ECHEVERRIA"]
[null,"ASCOCHINGA (CP: 5117)","5117","ASCOCHINGA","CORDOBA","MEDITERRANEA",17,"SILVIA BARBIERIS"]
[null,"AUSONIA (CP: 5901)","5901","AUSONIA","CORDOBA","MEDITERRANEA","24","DANIEL ECHEVERRIA"]
[null,"AVELLANEDA (CP: 5212)","5212","AVELLANEDA","CORDOBA","MEDITERRANEA","24","DANIEL ECHEVERRIA"]
[null,"BALLESTEROS (CP: 2572)","2572","BALLESTEROS","CORDOBA","MEDITERRANEA","24","DANIEL ECHEVERRIA"]
[null,"BALNEARIA (CP: 5141)","5141","BALNEARIA","CORDOBA","MEDITERRANEA","24","DANIEL ECHEVERRIA"]
[null,"BARRIO DEAN FUNES (CP: 5123)","5123","BARRIO DEAN FUNES","CORDOBA","MEDITERRANEA",17,"SILVIA BARBIERIS"]
[null,"BELL VILLE (CP: 2550)","2550","BELL VILLE","CORDOBA","MEDITERRANEA","24","DANIEL ECHEVERRIA"]
[null,"BENGOLEA (CP: 5807)","5807","BENGOLEA","CORDOBA","MEDITERRANEA","24","DANIEL ECHEVERRIA"]
[null,"BERROTARAN (CP: 5817)","5817","BERROTARAN","CORDOBA","MEDITERRANEA","24","DANIEL ECHEVERRIA"]
[null,"BIALET MASSE (CP: 5158)","5158","BIALET MASSE","CORDOBA","MEDITERRANEA",17,"SILVIA BARBIERIS"]
[null,"BRINKMANN (CP: 2419)","2419","BRINKMANN","CORDOBA","MEDITERRANEA","24","DANIEL ECHEVERRIA"]
[null,"BUEN RETIRO (CP: 5155)","5155","BUEN RETIRO","CORDOBA","MEDITERRANEA","24","DANIEL ECHEVERRIA"]
[null,"BULNES (CP: 5845)","5845","BULNES","CORDOBA","MEDITERRANEA","24","DANIEL ECHEVERRIA"]
[null,"BURMEISTER (CP: 6225)","6225","BURMEISTER","CORDOBA","MEDITERRANEA","24","DANIEL ECHEVERRIA"]
[null,"CALCHIN (CP: 5201)","5201","CALCHIN","CORDOBA","MEDITERRANEA","24","DANIEL ECHEVERRIA"]
[null,"CALCHIN (CP: 5964)","5964","CALCHIN","CORDOBA","MEDITERRANEA","24","DANIEL ECHEVERRIA"]
[null,"CALCHIN OESTE (CP: 5981)","5981","CALCHIN OESTE","CORDOBA","MEDITERRANEA","24","DANIEL ECHEVERRIA"]
[null,"CAMILO ALDAO (CP: 2585)","2585","CAMILO ALDAO","CORDOBA","MEDITERRANEA","24","DANIEL ECHEVERRIA"]
[null,"CANALS (CP: 2650)","2650","CANALS","CORDOBA","MEDITERRANEA","24","DANIEL ECHEVERRIA"]
[null,"CANDELARIA SUD (CP: 5221)","5221","CANDELARIA SUD","CORDOBA","MEDITERRANEA","24","DANIEL ECHEVERRIA"]
[null,"CANTERAS EL MANZANO (CP: 5107)","5107","CANTERAS EL MANZANO","CORDOBA","MEDITERRANEA",17,"SILVIA BARBIERIS"]
[null,"CANTERAS QUILPO (CP: 5281)","5281","CANTERAS QUILPO","CORDOBA","MEDITERRANEA","24","DANIEL ECHEVERRIA"]
[null,"CAÑADA DE LUQUES (CP: 5229)","5229","CAÑADA DE LUQUES","CORDOBA","MEDITERRANEA","24","DANIEL ECHEVERRIA"]
[null,"CAPILLA DEL MONTE (CP: 5184)","5184","CAPILLA DEL MONTE","CORDOBA","MEDITERRANEA",17,"SILVIA BARBIERIS"]
[null,"CARNERILLO (CP: 5805)","5805","CARNERILLO","CORDOBA","MEDITERRANEA","24","DANIEL ECHEVERRIA"]
[null,"CARRILOBO (CP: 5915)","5915","CARRILOBO","CORDOBA","MEDITERRANEA","24","DANIEL ECHEVERRIA"]
[null,"CARRILOBO (CP: 5916)","5916","CARRILOBO","CORDOBA","MEDITERRANEA","24","DANIEL ECHEVERRIA"]
[null,"CASA DE PIEDRA (CP: 5891)","5891","CASA DE PIEDRA","CORDOBA","MEDITERRANEA","24","DANIEL ECHEVERRIA"]
[null,"CAVANAGH (CP: 2625)","2625","CAVANAGH","CORDOBA","MEDITERRANEA","24","DANIEL ECHEVERRIA"]
[null,"CHAJAN (CP: 5837)","5837","CHAJAN","CORDOBA","MEDITERRANEA","24","DANIEL ECHEVERRIA"]
[null,"CHALACEA (CP: 5229)","5229","CHALACEA","CORDOBA","MEDITERRANEA","24","DANIEL ECHEVERRIA"]
[null,"CHARRAS (CP: 5807)","5807","CHARRAS","CORDOBA","MEDITERRANEA","24","DANIEL ECHEVERRIA"]
[null,"CHAZON (CP: 2675)","2675","CHAZON","CORDOBA","MEDITERRANEA","24","DANIEL ECHEVERRIA"]
[null,"CHILIBROSTE (CP: 2561)","2561","CHILIBROSTE","CORDOBA","MEDITERRANEA","24","DANIEL ECHEVERRIA"]
[null,"CHUCUL (CP: 5805)","5805","CHUCUL","CORDOBA","MEDITERRANEA","24","DANIEL ECHEVERRIA"]
[null,"CINTRA (CP: 2559)","2559","CINTRA","CORDOBA","MEDITERRANEA","24","DANIEL ECHEVERRIA"]
[null,"CNEL.BAIGORRIA (CP: 5811)","5811","CNEL.BAIGORRIA","CORDOBA","MEDITERRANEA","24","DANIEL ECHEVERRIA"]
[null,"CNEL.MOLDES (CP: 5847)","5847","CNEL.MOLDES","CORDOBA","MEDITERRANEA","24","DANIEL ECHEVERRIA"]
[null,"CNIA SAN BARTOLOME (CP: 2426)","2426","CNIA SAN BARTOLOME","CORDOBA","MEDITERRANEA","24","DANIEL ECHEVERRIA"]
[null,"COL. BISMARK (CP: 2651)","2651","COL. BISMARK","CORDOBA","MEDITERRANEA","24","DANIEL ECHEVERRIA"]
[null,"COL. ITURRASPE (CP: 2413)","2413","COL. ITURRASPE","CORDOBA","MEDITERRANEA","24","DANIEL ECHEVERRIA"]
[null,"COL. MALBERTINA (CP: 2400)","2400","COL. MALBERTINA","CORDOBA","MEDITERRANEA","24","DANIEL ECHEVERRIA"]
[null,"COL.LA TORDILLA (CP: 2435)","2435","COL.LA TORDILLA","CORDOBA","MEDITERRANEA","24","DANIEL ECHEVERRIA"]
[null,"COL.MARINA (CP: 2424)","2424","COL.MARINA","CORDOBA","MEDITERRANEA","24","DANIEL ECHEVERRIA"]
[null,"COLAZO (CP: 5965)","5965","COLAZO","CORDOBA","MEDITERRANEA","24","DANIEL ECHEVERRIA"]
[null,"COLONIA ALMADA (CP: 5987)","5987","COLONIA ALMADA","CORDOBA","MEDITERRANEA","24","DANIEL ECHEVERRIA"]
[null,"COLONIA CAROYA (CP: 5223)","5223","COLONIA CAROYA","CORDOBA","MEDITERRANEA","24","DANIEL ECHEVERRIA"]
[null,"COLONIA TIROLESA (CP: 5101)","5101","COLONIA TIROLESA","CORDOBA","MEDITERRANEA",17,"SILVIA BARBIERIS"]
[null,"CORDOBA (CP: 5000)","5000","CORDOBA","CORDOBA","MEDITERRANEA",17,"SILVIA BARBIERIS"]
[null,"CORDOBA (CP: 5001)","5001","CORDOBA","CORDOBA","MEDITERRANEA",17,"SILVIA BARBIERIS"]
[null,"CORDOBA (CP: 5003)","5003","CORDOBA","CORDOBA","MEDITERRANEA",17,"SILVIA BARBIERIS"]
[null,"CORDOBA (CP: 5006)","5006","CORDOBA","CORDOBA","MEDITERRANEA",17,"SILVIA BARBIERIS"]
[null,"CORDOBA (CP: 5009)","5009","CORDOBA","CORDOBA","MEDITERRANEA",17,"SILVIA BARBIERIS"]
[null,"CORDOBA (CP: 5010)","5010","CORDOBA","CORDOBA","MEDITERRANEA",17,"SILVIA BARBIERIS"]
[null,"CORDOBA (CP: 5012)","5012","CORDOBA","CORDOBA","MEDITERRANEA",17,"SILVIA BARBIERIS"]
[null,"CORDOBA (CP: 5013)","5013","CORDOBA","CORDOBA","MEDITERRANEA",17,"SILVIA BARBIERIS"]
[null,"CORDOBA (CP: 5014)","5014","CORDOBA","CORDOBA","MEDITERRANEA",17,"SILVIA BARBIERIS"]
[null,"CORDOBA (CP: 5016)","5016","CORDOBA","CORDOBA","MEDITERRANEA",17,"SILVIA BARBIERIS"]
[null,"CORDOBA (CP: 5017)","5017","CORDOBA","CORDOBA","MEDITERRANEA",17,"SILVIA BARBIERIS"]
[null,"CORDOBA (CP: 5019)","5019","CORDOBA","CORDOBA","MEDITERRANEA",17,"SILVIA BARBIERIS"]
[null,"CORDOBA (CP: 5023)","5023","CORDOBA","CORDOBA","MEDITERRANEA",17,"SILVIA BARBIERIS"]
[null,"CORRAL DE BUSTOS (CP: 2645)","2645","CORRAL DE BUSTOS","CORDOBA","MEDITERRANEA","24","DANIEL ECHEVERRIA"]
[null,"CORRALITO (CP: 5853)","5853","CORRALITO","CORDOBA","MEDITERRANEA","24","DANIEL ECHEVERRIA"]
[null,"COSQUIN (CP: 5166)","5166","COSQUIN","CORDOBA","MEDITERRANEA",17,"SILVIA BARBIERIS"]
[null,"COSTA SACATE (CP: 5961)","5961","COSTA SACATE","CORDOBA","MEDITERRANEA",17,"SILVIA BARBIERIS"]
[null,"CRUZ ALTA (CP: 2189)","2189","CRUZ ALTA","CORDOBA","MEDITERRANEA","24","DANIEL ECHEVERRIA"]
[null,"CRUZ DEL EJE (CP: 5280)","5280","CRUZ DEL EJE","CORDOBA","MEDITERRANEA",17,"SILVIA BARBIERIS"]
[null,"CUATRO VIENTOS (CP: 5801)","5801","CUATRO VIENTOS","CORDOBA","MEDITERRANEA","24","DANIEL ECHEVERRIA"]
[null,"DALMACIO VELEZ (CP: 5919)","5919","DALMACIO VELEZ","CORDOBA","MEDITERRANEA","24","DANIEL ECHEVERRIA"]
[null,"DEAN FUNES (CP: 5200)","5200","DEAN FUNES","CORDOBA","MEDITERRANEA","24","DANIEL ECHEVERRIA"]
[null,"DEL CAMPILLO (CP: 6271)","6271","DEL CAMPILLO","CORDOBA","MEDITERRANEA","24","DANIEL ECHEVERRIA"]
[null,"DESPEÑADEROS (CP: 5121)","5121","DESPEÑADEROS","CORDOBA","MEDITERRANEA",17,"SILVIA BARBIERIS"]
[null,"DEVOTO (CP: 2424)","2424","DEVOTO","CORDOBA","MEDITERRANEA","24","DANIEL ECHEVERRIA"]
[null,"DIEGO DE ROJAS - CORDOBA (CP: 5131)","5131","DIEGO DE ROJAS - CORDOBA","CORDOBA","MEDITERRANEA","24","DANIEL ECHEVERRIA"]
[null,"EL ARAÑADO (CP: 5947)","5947","EL ARAÑADO","CORDOBA","MEDITERRANEA","24","DANIEL ECHEVERRIA"]
[null,"EL CARMEN GUIÑAZU (CP: 5145)","5145","EL CARMEN GUIÑAZU","CORDOBA","MEDITERRANEA","24","DANIEL ECHEVERRIA"]
[null,"EL FORTIN (CP: 5951)","5951","EL FORTIN","CORDOBA","MEDITERRANEA","24","DANIEL ECHEVERRIA"]
[null,"EL FUERTECITO (CP: 2428)","2428","EL FUERTECITO","CORDOBA","MEDITERRANEA","24","DANIEL ECHEVERRIA"]
[null,"EL PUEBLITO (CP: 5107)","5107","EL PUEBLITO","CORDOBA","MEDITERRANEA",17,"SILVIA BARBIERIS"]
[null,"EL TIO (CP: 2432)","2432","EL TIO","CORDOBA","MEDITERRANEA","24","DANIEL ECHEVERRIA"]
[null,"ELENA (CP: 5815)","5815","ELENA","CORDOBA","MEDITERRANEA","24","DANIEL ECHEVERRIA"]
[null,"ELENA (CP: 5818)","5818","ELENA","CORDOBA","MEDITERRANEA","24","DANIEL ECHEVERRIA"]
[null,"EMBALSE (CP: 5856)","5856","EMBALSE","CORDOBA","MEDITERRANEA","24","DANIEL ECHEVERRIA"]
[null,"ESTACION CALCHIN (CP: 5969)","5969","ESTACION CALCHIN","CORDOBA","MEDITERRANEA","24","DANIEL ECHEVERRIA"]
[null,"ESTACION GRAL. PAZ (CP: 5145)","5145","ESTACION GRAL. PAZ","CORDOBA","MEDITERRANEA",17,"SILVIA BARBIERIS"]
[null,"ETRURIA (CP: 2681)","2681","ETRURIA","CORDOBA","MEDITERRANEA","24","DANIEL ECHEVERRIA"]
[null,"FERREYRA (CP: 5123)","5123","FERREYRA","CORDOBA","MEDITERRANEA",17,"SILVIA BARBIERIS"]
[null,"FREYRE (CP: 2413)","2413","FREYRE","CORDOBA","MEDITERRANEA","24","DANIEL ECHEVERRIA"]
[null,"GRAL.BALDISSERA (CP: 2583)","2583","GRAL.BALDISSERA","CORDOBA","MEDITERRANEA","24","DANIEL ECHEVERRIA"]
[null,"GRAL.CABRERA (CP: 5809)","5809","GRAL.CABRERA","CORDOBA","MEDITERRANEA","24","DANIEL ECHEVERRIA"]
[null,"GRAL.DEHEZA (CP: 5923)","5923","GRAL.DEHEZA","CORDOBA","MEDITERRANEA","24","DANIEL ECHEVERRIA"]
[null,"GRAL.FOTHERIGHAM (CP: 5933)","5933","GRAL.FOTHERIGHAM","CORDOBA","MEDITERRANEA","24","DANIEL ECHEVERRIA"]
[null,"GRAL.LEVALLE (CP: 6132)","6132","GRAL.LEVALLE","CORDOBA","MEDITERRANEA","24","DANIEL ECHEVERRIA"]
[null,"GRAL.ROCA (CP: 2592)","2592","GRAL.ROCA","CORDOBA","MEDITERRANEA","24","DANIEL ECHEVERRIA"]
[null,"GUATIMOZIN (CP: 2627)","2627","GUATIMOZIN","CORDOBA","MEDITERRANEA","24","DANIEL ECHEVERRIA"]
[null,"HERNANDO (CP: 5928)","5928","HERNANDO","CORDOBA","MEDITERRANEA","24","DANIEL ECHEVERRIA"]
[null,"HERNANDO (CP: 5929)","5929","HERNANDO","CORDOBA","MEDITERRANEA","24","DANIEL ECHEVERRIA"]
[null,"HIPOLITO BOUCHARD (CP: 6225)","6225","HIPOLITO BOUCHARD","CORDOBA","MEDITERRANEA","24","DANIEL ECHEVERRIA"]
[null,"HOLMBERG (CP: 5825)","5825","HOLMBERG","CORDOBA","MEDITERRANEA","24","DANIEL ECHEVERRIA"]
[null,"HUANCHILLA (CP: 6121)","6121","HUANCHILLA","CORDOBA","MEDITERRANEA","24","DANIEL ECHEVERRIA"]
[null,"HUERTA GRANDE (CP: 5174)","5174","HUERTA GRANDE","CORDOBA","MEDITERRANEA",17,"SILVIA BARBIERIS"]
[null,"HUINCA RENANCO (CP: 6270)","6270","HUINCA RENANCO","CORDOBA","MEDITERRANEA","24","DANIEL ECHEVERRIA"]
[null,"IDIAZABAL (CP: 2557)","2557","IDIAZABAL","CORDOBA","MEDITERRANEA","24","DANIEL ECHEVERRIA"]
[null,"INRIVILLE (CP: 2587)","2587","INRIVILLE","CORDOBA","MEDITERRANEA","24","DANIEL ECHEVERRIA"]
[null,"ISLA VERDE (CP: 2661)","2661","ISLA VERDE","CORDOBA","MEDITERRANEA","24","DANIEL ECHEVERRIA"]
[null,"JAMES CRAIK (CP: 5984)","5984","JAMES CRAIK","CORDOBA","MEDITERRANEA","24","DANIEL ECHEVERRIA"]
[null,"JESUS MARIA (CP: 5220)","5220","JESUS MARIA","CORDOBA","MEDITERRANEA","24","DANIEL ECHEVERRIA"]
[null,"JOVITA (CP: 6127)","6127","JOVITA","CORDOBA","MEDITERRANEA","24","DANIEL ECHEVERRIA"]
[null,"JUAREZ CELMAN (CP: 5145)","5145","JUAREZ CELMAN","CORDOBA","MEDITERRANEA","24","DANIEL ECHEVERRIA"]
[null,"JUSTINIANO POSSE (CP: 2553)","2553","JUSTINIANO POSSE","CORDOBA","MEDITERRANEA","24","DANIEL ECHEVERRIA"]
[null,"L.VERTIENTE (CP: 5827)","5827","L.VERTIENTE","CORDOBA","MEDITERRANEA","24","DANIEL ECHEVERRIA"]
[null,"LA CALERA (CP: 5151)","5151","LA CALERA","CORDOBA","MEDITERRANEA",17,"SILVIA BARBIERIS"]
[null,"LA CARLOTA (CP: 2670)","2670","LA CARLOTA","CORDOBA","MEDITERRANEA","24","DANIEL ECHEVERRIA"]
[null,"LA CAUTIVA (CP: 6142)","6142","LA CAUTIVA","CORDOBA","MEDITERRANEA","24","DANIEL ECHEVERRIA"]
[null,"LA CESIRA (CP: 6101)","6101","LA CESIRA","CORDOBA","MEDITERRANEA","24","DANIEL ECHEVERRIA"]
[null,"LA CRUZ (CP: 5859)","5859","LA CRUZ","CORDOBA","MEDITERRANEA","24","DANIEL ECHEVERRIA"]
[null,"LA CUMBRE (CP: 5178)","5178","LA CUMBRE","CORDOBA","MEDITERRANEA",17,"SILVIA BARBIERIS"]
[null,"LA DORMIDA (CP: 5817)","5817","LA DORMIDA","CORDOBA","MEDITERRANEA","24","DANIEL ECHEVERRIA"]
[null,"LA FALDA (CP: 5172)","5172","LA FALDA","CORDOBA","MEDITERRANEA",17,"SILVIA BARBIERIS"]
[null,"LA FRANCIA (CP: 2426)","2426","LA FRANCIA","CORDOBA","MEDITERRANEA","24","DANIEL ECHEVERRIA"]
[null,"LA GRANJA (CP: 5115)","5115","LA GRANJA","CORDOBA","MEDITERRANEA",17,"SILVIA BARBIERIS"]
[null,"LA LAGUNA (CP: 5901)","5901","LA LAGUNA","CORDOBA","MEDITERRANEA","24","DANIEL ECHEVERRIA"]
[null,"LA PAQUITA (CP: 2417)","2417","LA PAQUITA","CORDOBA","MEDITERRANEA","24","DANIEL ECHEVERRIA"]
[null,"LA PARA (CP: 5137)","5137","LA PARA","CORDOBA","MEDITERRANEA","24","DANIEL ECHEVERRIA"]
[null,"LA PAZ (CP: 5879)","5879","LA PAZ","CORDOBA","MEDITERRANEA","24","DANIEL ECHEVERRIA"]
[null,"LA PLAYOSA (CP: 5911)","5911","LA PLAYOSA","CORDOBA","MEDITERRANEA","24","DANIEL ECHEVERRIA"]
[null,"LA PLAZA (CP: 5207)","5207","LA PLAZA","CORDOBA","MEDITERRANEA","24","DANIEL ECHEVERRIA"]
[null,"LA PUERTA (CP: 5137)","5137","LA PUERTA","CORDOBA","MEDITERRANEA","24","DANIEL ECHEVERRIA"]
[null,"LABORDE (CP: 2657)","2657","LABORDE","CORDOBA","MEDITERRANEA","24","DANIEL ECHEVERRIA"]
[null,"LABOULAYE (CP: 6120)","6120","LABOULAYE","CORDOBA","MEDITERRANEA","24","DANIEL ECHEVERRIA"]
[null,"LAGUNA LARGA (CP: 5974)","5974","LAGUNA LARGA","CORDOBA","MEDITERRANEA","24","DANIEL ECHEVERRIA"]
[null,"LAS ACEQUIAS (CP: 5848)","5848","LAS ACEQUIAS","CORDOBA","MEDITERRANEA","24","DANIEL ECHEVERRIA"]
[null,"LAS GRAMILLA (CP: 5135)","5135","LAS GRAMILLA","CORDOBA","MEDITERRANEA","24","DANIEL ECHEVERRIA"]
[null,"LAS HIGUERAS (CP: 5805)","5805","LAS HIGUERAS","CORDOBA","MEDITERRANEA","24","DANIEL ECHEVERRIA"]
[null,"LAS ISLETILLAS (CP: 5931)","5931","LAS ISLETILLAS","CORDOBA","MEDITERRANEA","24","DANIEL ECHEVERRIA"]
[null,"LAS JUNTURAS (CP: 5965)","5965","LAS JUNTURAS","CORDOBA","MEDITERRANEA","24","DANIEL ECHEVERRIA"]
[null,"LAS JUNTURAS (CP: 5983)","5983","LAS JUNTURAS","CORDOBA","MEDITERRANEA","24","DANIEL ECHEVERRIA"]
[null,"LAS MOJARRAS (CP: 5909)","5909","LAS MOJARRAS","CORDOBA","MEDITERRANEA","24","DANIEL ECHEVERRIA"]
[null,"LAS PEÑAS (CP: 5238)","5238","LAS PEÑAS","CORDOBA","MEDITERRANEA","24","DANIEL ECHEVERRIA"]
[null,"LAS PEÑAS SUD (CP: 5819)","5819","LAS PEÑAS SUD","CORDOBA","MEDITERRANEA","24","DANIEL ECHEVERRIA"]
[null,"LAS PERDICES (CP: 5921)","5921","LAS PERDICES","CORDOBA","MEDITERRANEA","24","DANIEL ECHEVERRIA"]
[null,"LAS TAPIAS (CP: 5281)","5281","LAS TAPIAS","CORDOBA","MEDITERRANEA","24","DANIEL ECHEVERRIA"]
[null,"LAS VARAS (CP: 5941)","5941","LAS VARAS","CORDOBA","MEDITERRANEA","24","DANIEL ECHEVERRIA"]
[null,"LAS VARILLAS (CP: 5940)","5940","LAS VARILLAS","CORDOBA","MEDITERRANEA","24","DANIEL ECHEVERRIA"]
[null,"LEONES (CP: 2594)","2594","LEONES","CORDOBA","MEDITERRANEA","24","DANIEL ECHEVERRIA"]
[null,"LOS CHAÑARITOS (CP: 5125)","5125","LOS CHAÑARITOS","CORDOBA","MEDITERRANEA","24","DANIEL ECHEVERRIA"]
[null,"LOS CHARCOS (CP: 5280)","5280","LOS CHARCOS","CORDOBA","MEDITERRANEA","24","DANIEL ECHEVERRIA"]
[null,"LOS CISNES (CP: 2684)","2684","LOS CISNES","CORDOBA","MEDITERRANEA","24","DANIEL ECHEVERRIA"]
[null,"LOS CONDORES (CP: 5823)","5823","LOS CONDORES","CORDOBA","MEDITERRANEA","24","DANIEL ECHEVERRIA"]
[null,"LOS HORNILLOS (CP: 5885)","5885","LOS HORNILLOS","CORDOBA","MEDITERRANEA","24","DANIEL ECHEVERRIA"]
[null,"LOS REARTES (CP: 5194)","5194","LOS REARTES","CORDOBA","MEDITERRANEA","24","DANIEL ECHEVERRIA"]
[null,"LOS SURGENTES (CP: 2581)","2581","LOS SURGENTES","CORDOBA","MEDITERRANEA","24","DANIEL ECHEVERRIA"]
[null,"LOZADA (CP: 5101)","5101","LOZADA","CORDOBA","MEDITERRANEA","24","DANIEL ECHEVERRIA"]
[null,"LUCA (CP: 5917)","5917","LUCA","CORDOBA","MEDITERRANEA","24","DANIEL ECHEVERRIA"]
[null,"LUQUE (CP: 5967)","5967","LUQUE","CORDOBA","MEDITERRANEA","24","DANIEL ECHEVERRIA"]
[null,"LUXARDO (CP: 2411)","2411","LUXARDO","CORDOBA","MEDITERRANEA","24","DANIEL ECHEVERRIA"]
[null,"MALAGUEÑO (CP: 5101)","5101","MALAGUEÑO","CORDOBA","MEDITERRANEA",17,"SILVIA BARBIERIS"]
[null,"MALAGUEÑO (CP: 5101)","5101","MALAGUEÑO","CORDOBA","MEDITERRANEA",17,"SILVIA BARBIERIS"]
[null,"MALENA (CP: 5839)","5839","MALENA","CORDOBA","MEDITERRANEA","24","DANIEL ECHEVERRIA"]
[null,"MALVINAS ARGENTINAS (CP: 5125)","5125","MALVINAS ARGENTINAS","CORDOBA","MEDITERRANEA",17,"SILVIA BARBIERIS"]
[null,"MANFREDI (CP: 5988)","5988","MANFREDI","CORDOBA","MEDITERRANEA","24","DANIEL ECHEVERRIA"]
[null,"MARCOS JUAREZ (CP: 2580)","2580","MARCOS JUAREZ","CORDOBA","MEDITERRANEA","24","DANIEL ECHEVERRIA"]
[null,"MARULL (CP: 5139)","5139","MARULL","CORDOBA","MEDITERRANEA","24","DANIEL ECHEVERRIA"]
[null,"MATALDI (CP: 6271)","6271","MATALDI","CORDOBA","MEDITERRANEA","24","DANIEL ECHEVERRIA"]
[null,"MATORRALES (CP: 5965)","5965","MATORRALES","CORDOBA","MEDITERRANEA","24","DANIEL ECHEVERRIA"]
[null,"MELO (CP: 6123)","6123","MELO","CORDOBA","MEDITERRANEA","24","DANIEL ECHEVERRIA"]
[null,"MENDIOLAZA (CP: 5107)","5107","MENDIOLAZA","CORDOBA","MEDITERRANEA",17,"SILVIA BARBIERIS"]
[null,"MI VALLE (CP: 5101)","5101","MI VALLE","CORDOBA","MEDITERRANEA","24","DANIEL ECHEVERRIA"]
[null,"MINA CLAVERO (CP: 5889)","5889","MINA CLAVERO","CORDOBA","MEDITERRANEA","24","DANIEL ECHEVERRIA"]
[null,"MIRAMAR (CP: 5143)","5143","MIRAMAR","CORDOBA","MEDITERRANEA","24","DANIEL ECHEVERRIA"]
[null,"MOLINARI (CP: 5162)","5162","MOLINARI","CORDOBA","MEDITERRANEA","24","DANIEL ECHEVERRIA"]
[null,"MONTE BUEY (CP: 2589)","2589","MONTE BUEY","CORDOBA","MEDITERRANEA","24","DANIEL ECHEVERRIA"]
[null,"MONTE CRISTO (CP: 5125)","5125","MONTE CRISTO","CORDOBA","MEDITERRANEA",17,"SILVIA BARBIERIS"]
[null,"MONTE DE LOS GAUCHOS (CP: 5831)","5831","MONTE DE LOS GAUCHOS","CORDOBA","MEDITERRANEA","24","DANIEL ECHEVERRIA"]
[null,"MONTE MAIZ (CP: 2659)","2659","MONTE MAIZ","CORDOBA","MEDITERRANEA","24","DANIEL ECHEVERRIA"]
[null,"MONTE RALO (CP: 5119)","5119","MONTE RALO","CORDOBA","MEDITERRANEA","24","DANIEL ECHEVERRIA"]
[null,"MORRISON (CP: 2568)","2568","MORRISON","CORDOBA","MEDITERRANEA","24","DANIEL ECHEVERRIA"]
[null,"MORTEROS (CP: 2421)","2421","MORTEROS","CORDOBA","MEDITERRANEA","24","DANIEL ECHEVERRIA"]
[null,"NICOLAS BRUZONE (CP: 6271)","6271","NICOLAS BRUZONE","CORDOBA","MEDITERRANEA","24","DANIEL ECHEVERRIA"]
[null,"NOETINGER (CP: 2563)","2563","NOETINGER","CORDOBA","MEDITERRANEA","24","DANIEL ECHEVERRIA"]
[null,"NONO (CP: 5887)","5887","NONO","CORDOBA","MEDITERRANEA","24","DANIEL ECHEVERRIA"]
[null,"O HIGGINS (CP: 2645)","2645","O HIGGINS","CORDOBA","MEDITERRANEA","24","DANIEL ECHEVERRIA"]
[null,"OBISPO TREJO (CP: 5225)","5225","OBISPO TREJO","CORDOBA","MEDITERRANEA","24","DANIEL ECHEVERRIA"]
[null,"OLAETA (CP: 5807)","5807","OLAETA","CORDOBA","MEDITERRANEA","24","DANIEL ECHEVERRIA"]
[null,"OLIVA (CP: 5980)","5980","OLIVA","CORDOBA","MEDITERRANEA","24","DANIEL ECHEVERRIA"]
[null,"ONCATIVO (CP: 5896)","5896","ONCATIVO","CORDOBA","MEDITERRANEA","24","DANIEL ECHEVERRIA"]
[null,"ONCATIVO (CP: 5986)","5986","ONCATIVO","CORDOBA","MEDITERRANEA","24","DANIEL ECHEVERRIA"]
[null,"ORDOÑEZ (CP: 2555)","2555","ORDOÑEZ","CORDOBA","MEDITERRANEA","24","DANIEL ECHEVERRIA"]
[null,"PAMPA DE ACHALA (CP: 5153)","5153","PAMPA DE ACHALA","CORDOBA","MEDITERRANEA","24","DANIEL ECHEVERRIA"]
[null,"PAMPAYASTA (CP: 5931)","5931","PAMPAYASTA","CORDOBA","MEDITERRANEA","24","DANIEL ECHEVERRIA"]
[null,"PARQUE SIQUIMAN (CP: 5158)","5158","PARQUE SIQUIMAN","CORDOBA","MEDITERRANEA",17,"SILVIA BARBIERIS"]
[null,"PASCANAS (CP: 2679)","2679","PASCANAS","CORDOBA","MEDITERRANEA","24","DANIEL ECHEVERRIA"]
[null,"PASCO (CP: 5925)","5925","PASCO","CORDOBA","MEDITERRANEA","24","DANIEL ECHEVERRIA"]
[null,"PASO DEL DURAZNO (CP: 5803)","5803","PASO DEL DURAZNO","CORDOBA","MEDITERRANEA","24","DANIEL ECHEVERRIA"]
[null,"PASO VIEJO (CP: 5284)","5284","PASO VIEJO","CORDOBA","MEDITERRANEA","24","DANIEL ECHEVERRIA"]
[null,"PILAR (CP: 5972)","5972","PILAR","CORDOBA","MEDITERRANEA",17,"SILVIA BARBIERIS"]
[null,"PIQUILLIN (CP: 5125)","5125","PIQUILLIN","CORDOBA","MEDITERRANEA",17,"SILVIA BARBIERIS"]
[null,"PORTEÑA (CP: 2415)","2415","PORTEÑA","CORDOBA","MEDITERRANEA","24","DANIEL ECHEVERRIA"]
[null,"POZO DEL MOLLE (CP: 5913)","5913","POZO DEL MOLLE","CORDOBA","MEDITERRANEA","24","DANIEL ECHEVERRIA"]
[null,"PUEBLO ITALIANO (CP: 2651)","2651","PUEBLO ITALIANO","CORDOBA","MEDITERRANEA","24","DANIEL ECHEVERRIA"]
[null,"PUESTO PEDERNERA (CP: 5153)","5153","PUESTO PEDERNERA","CORDOBA","MEDITERRANEA","24","DANIEL ECHEVERRIA"]
[null,"QUEBRACHO HERRADO (CP: 2423)","2423","QUEBRACHO HERRADO","CORDOBA","MEDITERRANEA","24","DANIEL ECHEVERRIA"]
[null,"QUILINO (CP: 5214)","5214","QUILINO","CORDOBA","MEDITERRANEA","24","DANIEL ECHEVERRIA"]
[null,"RAYO CORTADO (CP: 5246)","5246","RAYO CORTADO","CORDOBA","MEDITERRANEA","24","DANIEL ECHEVERRIA"]
[null,"REDUCCION (CP: 5803)","5803","REDUCCION","CORDOBA","MEDITERRANEA","24","DANIEL ECHEVERRIA"]
[null,"RIO CEBALLOS (CP: 5111)","5111","RIO CEBALLOS","CORDOBA","MEDITERRANEA",17,"SILVIA BARBIERIS"]
[null,"RIO CUARTO (CP: 5800)","5800","RIO CUARTO","CORDOBA","MEDITERRANEA","24","DANIEL ECHEVERRIA"]
[null,"RIO DE LOS SAUCES (CP: 5821)","5821","RIO DE LOS SAUCES","CORDOBA","MEDITERRANEA","24","DANIEL ECHEVERRIA"]
[null,"RIO PRIMERO (CP: 5127)","5127","RIO PRIMERO","CORDOBA","MEDITERRANEA",17,"SILVIA BARBIERIS"]
[null,"RIO PRIMERO (CP: 5132)","5132","RIO PRIMERO","CORDOBA","MEDITERRANEA",17,"SILVIA BARBIERIS"]
[null,"RIO SEGUNDO (CP: 5960)","5960","RIO SEGUNDO","CORDOBA","MEDITERRANEA","24","DANIEL ECHEVERRIA"]
[null,"RIO TERCERO (CP: 5850)","5850","RIO TERCERO","CORDOBA","MEDITERRANEA","24","DANIEL ECHEVERRIA"]
[null,"ROSALES (CP: 6128)","6128","ROSALES","CORDOBA","MEDITERRANEA","24","DANIEL ECHEVERRIA"]
[null,"S M LASPIUR (CP: 5943)","5943","S M LASPIUR","CORDOBA","MEDITERRANEA","24","DANIEL ECHEVERRIA"]
[null,"S.FRANCISCO (CP: 2400)","2400","S.FRANCISCO","CORDOBA","MEDITERRANEA","24","DANIEL ECHEVERRIA"]
[null,"S.PELLICO (CP: 5907)","5907","S.PELLICO","CORDOBA","MEDITERRANEA","24","DANIEL ECHEVERRIA"]
[null,"S.ROS.CALAMUCHITA (CP: 5196)","5196","S.ROS.CALAMUCHITA","CORDOBA","MEDITERRANEA","24","DANIEL ECHEVERRIA"]
[null,"S.ROSA DE RIO 1 (CP: 5133)","5133","S.ROSA DE RIO 1","CORDOBA","MEDITERRANEA","24","DANIEL ECHEVERRIA"]
[null,"SACANTA (CP: 5945)","5945","SACANTA","CORDOBA","MEDITERRANEA","24","DANIEL ECHEVERRIA"]
[null,"SAIRA (CP: 2525)","2525","SAIRA","CORDOBA","MEDITERRANEA","24","DANIEL ECHEVERRIA"]
[null,"SALADILLO (CP: 2587)","2587","SALADILLO","CORDOBA","MEDITERRANEA","24","DANIEL ECHEVERRIA"]
[null,"SALDAN (CP: 5149)","5149","SALDAN","CORDOBA","MEDITERRANEA",17,"SILVIA BARBIERIS"]
[null,"SALSIPUEDES (CP: 5113)","5113","SALSIPUEDES","CORDOBA","MEDITERRANEA",17,"SILVIA BARBIERIS"]
[null,"SAMPACHO (CP: 5829)","5829","SAMPACHO","CORDOBA","MEDITERRANEA","24","DANIEL ECHEVERRIA"]
[null,"SAN AGUSTIN (CP: 5191)","5191","SAN AGUSTIN","CORDOBA","MEDITERRANEA",17,"SILVIA BARBIERIS"]
[null,"SAN BASILIO (CP: 5841)","5841","SAN BASILIO","CORDOBA","MEDITERRANEA","24","DANIEL ECHEVERRIA"]
[null,"SAN CARLOS MINAS (CP: 5291)","5291","SAN CARLOS MINAS","CORDOBA","MEDITERRANEA","24","DANIEL ECHEVERRIA"]
[null,"SAN ESTEBAN (CP: 5182)","5182","SAN ESTEBAN","CORDOBA","MEDITERRANEA","24","DANIEL ECHEVERRIA"]
[null,"SAN JAVIER (CP: 5875)","5875","SAN JAVIER","CORDOBA","MEDITERRANEA","24","DANIEL ECHEVERRIA"]
[null,"SAN JOS.D.DORMIDA (CP: 5244)","5244","SAN JOS.D.DORMIDA","CORDOBA","MEDITERRANEA","24","DANIEL ECHEVERRIA"]
[null,"SAN JOSE-S.JAVIER (CP: 5871)","5871","SAN JOSE-S.JAVIER","CORDOBA","MEDITERRANEA","24","DANIEL ECHEVERRIA"]
[null,"SAN JUSTO (CP: 2421)","2421","SAN JUSTO","CORDOBA","MEDITERRANEA","24","DANIEL ECHEVERRIA"]
[null,"SAN MARCOS SIERRA (CP: 5282)","5282","SAN MARCOS SIERRA","CORDOBA","MEDITERRANEA","24","DANIEL ECHEVERRIA"]
[null,"SAN MARCOS SUD (CP: 2566)","2566","SAN MARCOS SUD","CORDOBA","MEDITERRANEA","24","DANIEL ECHEVERRIA"]
[null,"SAN ROQUE LAS ARRIAS (CP: 5231)","5231","SAN ROQUE LAS ARRIAS","CORDOBA","MEDITERRANEA","24","DANIEL ECHEVERRIA"]
[null,"SANTA ELENA (CP: 5246)","5246","SANTA ELENA","CORDOBA","MEDITERRANEA","24","DANIEL ECHEVERRIA"]
[null,"SANTA EUFEMIA (CP: 2671)","2671","SANTA EUFEMIA","CORDOBA","MEDITERRANEA","24","DANIEL ECHEVERRIA"]
[null,"SANTIAGO TEMPLE (CP: 5125)","5125","SANTIAGO TEMPLE","CORDOBA","MEDITERRANEA","24","DANIEL ECHEVERRIA"]
[null,"SARMIENTO (CP: 5212)","5212","SARMIENTO","CORDOBA","MEDITERRANEA","24","DANIEL ECHEVERRIA"]
[null,"SEBASTIAN ELCANO (CP: 5231)","5231","SEBASTIAN ELCANO","CORDOBA","MEDITERRANEA","24","DANIEL ECHEVERRIA"]
[null,"SERRANO (CP: 6125)","6125","SERRANO","CORDOBA","MEDITERRANEA","24","DANIEL ECHEVERRIA"]
[null,"SERREZUELA (CP: 5270)","5270","SERREZUELA","CORDOBA","MEDITERRANEA","24","DANIEL ECHEVERRIA"]
[null,"SINSACATE (CP: 5220)","5220","SINSACATE","CORDOBA","MEDITERRANEA","24","DANIEL ECHEVERRIA"]
[null,"STA. M. DE PUNILLA -CBA- (CP: 5164)","5164","STA. M. DE PUNILLA -CBA-","CORDOBA","MEDITERRANEA",17,"SILVIA BARBIERIS"]
[null,"SUCO (CP: 5837)","5837","SUCO","CORDOBA","MEDITERRANEA","24","DANIEL ECHEVERRIA"]
[null,"TANCACHA (CP: 5933)","5933","TANCACHA","CORDOBA","MEDITERRANEA","24","DANIEL ECHEVERRIA"]
[null,"TANINGA (CP: 5295)","5295","TANINGA","CORDOBA","MEDITERRANEA","24","DANIEL ECHEVERRIA"]
[null,"TANTI (CP: 5155)","5155","TANTI","CORDOBA","MEDITERRANEA",17,"SILVIA BARBIERIS"]
[null,"TICINO (CP: 5927)","5927","TICINO","CORDOBA","MEDITERRANEA","24","DANIEL ECHEVERRIA"]
[null,"TIO PUJIO (CP: 5936)","5936","TIO PUJIO","CORDOBA","MEDITERRANEA","24","DANIEL ECHEVERRIA"]
[null,"TOLEDO (CP: 5123)","5123","TOLEDO","CORDOBA","MEDITERRANEA",17,"SILVIA BARBIERIS"]
[null,"TORO PUJIO (CP: 5139)","5139","TORO PUJIO","CORDOBA","MEDITERRANEA","24","DANIEL ECHEVERRIA"]
[null,"TRANSITO (CP: 2436)","2436","TRANSITO","CORDOBA","MEDITERRANEA","24","DANIEL ECHEVERRIA"]
[null,"UCACHA (CP: 2677)","2677","UCACHA","CORDOBA","MEDITERRANEA","24","DANIEL ECHEVERRIA"]
[null,"UNQUILLO (CP: 5109)","5109","UNQUILLO","CORDOBA","MEDITERRANEA",17,"SILVIA BARBIERIS"]
[null,"V.C.DEL TIO (CP: 2433)","2433","V.C.DEL TIO","CORDOBA","MEDITERRANEA","24","DANIEL ECHEVERRIA"]
[null,"V.DEL DIQUE (CP: 5862)","5862","V.DEL DIQUE","CORDOBA","MEDITERRANEA","24","DANIEL ECHEVERRIA"]
[null,"VALLE DORADO (CP: 5864)","5864","VALLE DORADO","CORDOBA","MEDITERRANEA","24","DANIEL ECHEVERRIA"]
[null,"VALLE HERMOSO (CP: 5168)","5168","VALLE HERMOSO","CORDOBA","MEDITERRANEA",17,"SILVIA BARBIERIS"]
[null,"VIAMONTE (CP: 2651)","2651","VIAMONTE","CORDOBA","MEDITERRANEA","24","DANIEL ECHEVERRIA"]
[null,"VIAMONTE (CP: 2671)","2671","VIAMONTE","CORDOBA","MEDITERRANEA","24","DANIEL ECHEVERRIA"]
[null,"VICUÑA MACKENNA (CP: 6140)","6140","VICUÑA MACKENNA","CORDOBA","MEDITERRANEA","24","DANIEL ECHEVERRIA"]
[null,"VIL.CURA BROCHERO (CP: 5891)","5891","VIL.CURA BROCHERO","CORDOBA","MEDITERRANEA","24","DANIEL ECHEVERRIA"]
[null,"VILLA ALLENDE (CP: 5105)","5105","VILLA ALLENDE","CORDOBA","MEDITERRANEA",17,"SILVIA BARBIERIS"]
[null,"VILLA ANIZACATE (CP: 5189)","5189","VILLA ANIZACATE","CORDOBA","MEDITERRANEA",17,"SILVIA BARBIERIS"]
[null,"VILLA ASCASUBI (CP: 5935)","5935","VILLA ASCASUBI","CORDOBA","MEDITERRANEA","24","DANIEL ECHEVERRIA"]
[null,"VILLA BELGRANO (CP: 5147)","5147","VILLA BELGRANO","CORDOBA","MEDITERRANEA",17,"SILVIA BARBIERIS"]
[null,"VILLA BUSTOS (CP: 5164)","5164","VILLA BUSTOS","CORDOBA","MEDITERRANEA",17,"SILVIA BARBIERIS"]
[null,"VILLA CARLOS PAZ (CP: 5152)","5152","VILLA CARLOS PAZ","CORDOBA","MEDITERRANEA",17,"SILVIA BARBIERIS"]
[null,"VILLA CIUDAD DE AMERICA (CP: 5189)","5189","VILLA CIUDAD DE AMERICA","CORDOBA","MEDITERRANEA",17,"SILVIA BARBIERIS"]
[null,"VILLA DE MARIA (CP: 5248)","5248","VILLA DE MARIA","CORDOBA","MEDITERRANEA","24","DANIEL ECHEVERRIA"]
[null,"VILLA DE SOTO (CP: 5284)","5284","VILLA DE SOTO","CORDOBA","MEDITERRANEA","24","DANIEL ECHEVERRIA"]
[null,"VILLA DEL ROSARIO (CP: 5963)","5963","VILLA DEL ROSARIO","CORDOBA","MEDITERRANEA","24","DANIEL ECHEVERRIA"]
[null,"VILLA DEL TOTORAL (CP: 5236)","5236","VILLA DEL TOTORAL","CORDOBA","MEDITERRANEA","24","DANIEL ECHEVERRIA"]
[null,"VILLA DOLORES (CP: 5870)","5870","VILLA DOLORES","CORDOBA","MEDITERRANEA","24","DANIEL ECHEVERRIA"]
[null,"VILLA ESQUIU (CP: 5101)","5101","VILLA ESQUIU","CORDOBA","MEDITERRANEA","24","DANIEL ECHEVERRIA"]
[null,"VILLA FONTANA (CP: 5137)","5137","VILLA FONTANA","CORDOBA","MEDITERRANEA","24","DANIEL ECHEVERRIA"]
[null,"VILLA G.BELGRANO (CP: 5194)","5194","VILLA G.BELGRANO","CORDOBA","MEDITERRANEA","24","DANIEL ECHEVERRIA"]
[null,"VILLA GIARDINO (CP: 5176)","5176","VILLA GIARDINO","CORDOBA","MEDITERRANEA",17,"SILVIA BARBIERIS"]
[null,"VILLA HUIDOBRO (CP: 6275)","6275","VILLA HUIDOBRO","CORDOBA","MEDITERRANEA","24","DANIEL ECHEVERRIA"]
[null,"VILLA ICHO CRUZ (CP: 5152)","5152","VILLA ICHO CRUZ","CORDOBA","MEDITERRANEA","24","DANIEL ECHEVERRIA"]
[null,"VILLA LAS ROSAS (CP: 5295)","5295","VILLA LAS ROSAS","CORDOBA","MEDITERRANEA","24","DANIEL ECHEVERRIA"]
[null,"VILLA MARIA (CP: 5900)","5900","VILLA MARIA","CORDOBA","MEDITERRANEA","24","DANIEL ECHEVERRIA"]
[null,"VILLA NUEVA (CP: 5903)","5903","VILLA NUEVA","CORDOBA","MEDITERRANEA","24","DANIEL ECHEVERRIA"]
[null,"VILLA RETIRO (CP: 5101)","5101","VILLA RETIRO","CORDOBA","MEDITERRANEA",17,"SILVIA BARBIERIS"]
[null,"VILLA RIO YCHO CRUZ (CP: 5153)","5153","VILLA RIO YCHO CRUZ","CORDOBA","MEDITERRANEA",17,"SILVIA BARBIERIS"]
[null,"VILLA ROSSI (CP: 6128)","6128","VILLA ROSSI","CORDOBA","MEDITERRANEA","24","DANIEL ECHEVERRIA"]
[null,"VILLA RUMIPAL (CP: 5864)","5864","VILLA RUMIPAL","CORDOBA","MEDITERRANEA","24","DANIEL ECHEVERRIA"]
[null,"VILLA SABOYA (CP: 6101)","6101","VILLA SABOYA","CORDOBA","MEDITERRANEA","24","DANIEL ECHEVERRIA"]
[null,"VILLA SARMIENTO (CP: 6273)","6273","VILLA SARMIENTO","CORDOBA","MEDITERRANEA","24","DANIEL ECHEVERRIA"]
[null,"VILLA VALERIA (CP: 6273)","6273","VILLA VALERIA","CORDOBA","MEDITERRANEA","24","DANIEL ECHEVERRIA"]
[null,"WASHINGTON (CP: 6144)","6144","WASHINGTON","CORDOBA","MEDITERRANEA","24","DANIEL ECHEVERRIA"]
[null,"WENCES.ESCALANTE (CP: 2655)","2655","WENCES.ESCALANTE","CORDOBA","MEDITERRANEA","24","DANIEL ECHEVERRIA"]
[null,"YOCSIVA (CP: 5101)","5101","YOCSIVA","CORDOBA","MEDITERRANEA","24","DANIEL ECHEVERRIA"]
[]
[]
[null,"CORRIENTES"]
[null,"CONCATENADO","CodigoPostal","Localidad","Provincia","Region","NRO AGENTE","NOMBRE"]
[null,"ALVEAR (CP: 3344)","3344","ALVEAR","CORRIENTES","NOROESTE","48","MIGUEL BERNERI"]
[null,"BELLA VISTA (CP: 3432)","3432","BELLA VISTA","CORRIENTES","NOROESTE","48","MIGUEL BERNERI"]
[null,"BONPLAND (CTES) (CP: 3234)","3234","BONPLAND (CTES)","CORRIENTES","NOROESTE","48","MIGUEL BERNERI"]
[null,"CAA CATI (CP: 3407)","3407","CAA CATI","CORRIENTES","NOROESTE","48","MIGUEL BERNERI"]
[null,"CHAVARRIA (CP: 3474)","3474","CHAVARRIA","CORRIENTES","NOROESTE","48","MIGUEL BERNERI"]
[null,"COL.LIBERTAD (CP: 3224)","3224","COL.LIBERTAD","CORRIENTES","NOROESTE","48","MIGUEL BERNERI"]
[null,"COLONIA LIEBIG'S (CP: 3358)","3358","COLONIA LIEBIG'S","CORRIENTES","NOROESTE","48","MIGUEL BERNERI"]
[null,"CONCEPCION (CP: 3344)","3344","CONCEPCION","CORRIENTES","NOROESTE","48","MIGUEL BERNERI"]
[null,"CORRIENTES (CP: 3400)","3400","CORRIENTES","CORRIENTES","NOROESTE","48","MIGUEL BERNERI"]
[null,"CUATRO BOCAS (CP: 3220)","3220","CUATRO BOCAS","CORRIENTES","NOROESTE","48","MIGUEL BERNERI"]
[null,"CURUZU CUATIA (CP: 3460)","3460","CURUZU CUATIA","CORRIENTES","NOROESTE","48","MIGUEL BERNERI"]
[null,"DESMOCHADO (CP: 3441)","3441","DESMOCHADO","CORRIENTES","NOROESTE","48","MIGUEL BERNERI"]
[null,"EMPEDRADO (CP: 3418)","3418","EMPEDRADO","CORRIENTES","NOROESTE","48","MIGUEL BERNERI"]
[null,"ESQUINA (CP: 3196)","3196","ESQUINA","CORRIENTES","NOROESTE","48","MIGUEL BERNERI"]
[null,"FELIPE YOFRE (CP: 3472)","3472","FELIPE YOFRE","CORRIENTES","NOROESTE","48","MIGUEL BERNERI"]
[null,"GOB.VIRASORO (CP: 3342)","3342","GOB.VIRASORO","CORRIENTES","NOROESTE","48","MIGUEL BERNERI"]
[null,"GOYA (CP: 3450)","3450","GOYA","CORRIENTES","NOROESTE","48","MIGUEL BERNERI"]
[null,"GUAYQUIRARO (CP: 3194)","3194","GUAYQUIRARO","CORRIENTES","NOROESTE","48","MIGUEL BERNERI"]
[null,"ITA IBATE (CP: 3480)","3480","ITA IBATE","CORRIENTES","NOROESTE","48","MIGUEL BERNERI"]
[null,"ITATI (CP: 3414)","3414","ITATI","CORRIENTES","NOROESTE","48","MIGUEL BERNERI"]
[null,"ITUZAINGO (CP: 3202)","3202","ITUZAINGO","CORRIENTES","NOROESTE","48","MIGUEL BERNERI"]
[null,"ITUZAINGO (CP: 3302)","3302","ITUZAINGO","CORRIENTES","NOROESTE","48","MIGUEL BERNERI"]
[null,"LA CRUZ (CP: 3346)","3346","LA CRUZ","CORRIENTES","NOROESTE","48","MIGUEL BERNERI"]
[null,"LA CRUZ (CP: 3454)","3454","LA CRUZ","CORRIENTES","NOROESTE","48","MIGUEL BERNERI"]
[null,"LAVALLE (CP: 3343)","3343","LAVALLE","CORRIENTES","NOROESTE","48","MIGUEL BERNERI"]
[null,"LAVALLE (CP: 3443)","3443","LAVALLE","CORRIENTES","NOROESTE","48","MIGUEL BERNERI"]
[null,"LOMAS DE GONZALEZ (CP: 3403)","3403","LOMAS DE GONZALEZ","CORRIENTES","NOROESTE","48","MIGUEL BERNERI"]
[null,"MALVINAS (CP: 3199)","3199","MALVINAS","CORRIENTES","NOROESTE","48","MIGUEL BERNERI"]
[null,"MALVINAS SUD (CP: 3199)","3199","MALVINAS SUD","CORRIENTES","NOROESTE","48","MIGUEL BERNERI"]
[null,"MBURUCUYA (CP: 3427)","3427","MBURUCUYA","CORRIENTES","NOROESTE","48","MIGUEL BERNERI"]
[null,"MERCEDES (CP: 3470)","3470","MERCEDES","CORRIENTES","NOROESTE","48","MIGUEL BERNERI"]
[null,"MOCORETA (CP: 3226)","3226","MOCORETA","CORRIENTES","NOROESTE","48","MIGUEL BERNERI"]
[null,"MONTE CASEROS (CP: 3220)","3220","MONTE CASEROS","CORRIENTES","NOROESTE","48","MIGUEL BERNERI"]
[null,"P.D.L.LIBRES (CP: 3230)","3230","P.D.L.LIBRES","CORRIENTES","NOROESTE","48","MIGUEL BERNERI"]
[null,"PASO DE LA PATRIA (CP: 3409)","3409","PASO DE LA PATRIA","CORRIENTES","NOROESTE","48","MIGUEL BERNERI"]
[null,"PASO TALA (CP: 3461)","3461","PASO TALA","CORRIENTES","NOROESTE","48","MIGUEL BERNERI"]
[null,"PEDRO FERNANDEZ (CP: 3446)","3446","PEDRO FERNANDEZ","CORRIENTES","NOROESTE","48","MIGUEL BERNERI"]
[null,"PERUGORRIA (CP: 3461)","3461","PERUGORRIA","CORRIENTES","NOROESTE","48","MIGUEL BERNERI"]
[null,"PIEDRITAS (CP: 3226)","3226","PIEDRITAS","CORRIENTES","NOROESTE","48","MIGUEL BERNERI"]
[null,"SAENZ VALIENTE (CP: 3222)","3222","SAENZ VALIENTE","CORRIENTES","NOROESTE","48","MIGUEL BERNERI"]
[null,"SALADAS (CP: 3420)","3420","SALADAS","CORRIENTES","NOROESTE","48","MIGUEL BERNERI"]
[null,"SAN ANDRES (CP: 3226)","3226","SAN ANDRES","CORRIENTES","NOROESTE","48","MIGUEL BERNERI"]
[null,"SAN COSME (CP: 3412)","3412","SAN COSME","CORRIENTES","NOROESTE","48","MIGUEL BERNERI"]
[null,"SAN LUIS DEL PALMAR (CP: 3403)","3403","SAN LUIS DEL PALMAR","CORRIENTES","NOROESTE","48","MIGUEL BERNERI"]
[null,"SAN MIGUEL (CP: 3231)","3231","SAN MIGUEL","CORRIENTES","NOROESTE","48","MIGUEL BERNERI"]
[null,"SAN MIGUEL (CP: 3485)","3485","SAN MIGUEL","CORRIENTES","NOROESTE","48","MIGUEL BERNERI"]
[null,"SAN ROQUE (CP: 3448)","3448","SAN ROQUE","CORRIENTES","NOROESTE","48","MIGUEL BERNERI"]
[null,"SANTA LUCIA (CP: 3445)","3445","SANTA LUCIA","CORRIENTES","NOROESTE","48","MIGUEL BERNERI"]
[null,"SANTA ROSA (CP: 3421)","3421","SANTA ROSA","CORRIENTES","NOROESTE","48","MIGUEL BERNERI"]
[null,"SANTO TOME (CP: 3340)","3340","SANTO TOME","CORRIENTES","NOROESTE","48","MIGUEL BERNERI"]
[null,"SAUCE (CP: 3463)","3463","SAUCE","CORRIENTES","NOROESTE","48","MIGUEL BERNERI"]
[null,"SOMBRERITO (CP: 3416)","3416","SOMBRERITO","CORRIENTES","NOROESTE","48","MIGUEL BERNERI"]
[null,"TABAY (CP: 3421)","3421","TABAY","CORRIENTES","NOROESTE","48","MIGUEL BERNERI"]
[null,"TAPEBICUA -P.DE LOS LIB. (CP: 3232)","3232","TAPEBICUA -P.DE LOS LIB.","CORRIENTES","NOROESTE","48","MIGUEL BERNERI"]
[null,"YAHAPE (CP: 3412)","3412","YAHAPE","CORRIENTES","NOROESTE","48","MIGUEL BERNERI"]
[null,"YAPEYU (CP: 3231)","3231","YAPEYU","CORRIENTES","NOROESTE","48","MIGUEL BERNERI"]
[]
[]
[null,"ENTRE RIOS"]
[null,"CONCATENADO","CodigoPostal","Localidad","Provincia","Region","NRO AGENTE","NOMBRE"]
[null,"ALCARAZ (CP: 3138)","3138","ALCARAZ","ENTRE_RIOS","DE LOS RIOS","5","GABRIEL LO NOSTRO"]
[null,"ALDEA ASUNCION (CP: 2841)","2841","ALDEA ASUNCION","ENTRE_RIOS","DE LOS RIOS","5","GABRIEL LO NOSTRO"]
[null,"ALDEA BRASILERA (CP: 3101)","3101","ALDEA BRASILERA","ENTRE_RIOS","DE LOS RIOS","5","GABRIEL LO NOSTRO"]
[null,"ALDEA SAN ANTONIO (CP: 2826)","2826","ALDEA SAN ANTONIO","ENTRE_RIOS","DE LOS RIOS","5","GABRIEL LO NOSTRO"]
[null,"ARANGUREN (CP: 3162)","3162","ARANGUREN","ENTRE_RIOS","DE LOS RIOS","5","GABRIEL LO NOSTRO"]
[null,"ARROYO HONDO (CP: 3190)","3190","ARROYO HONDO","ENTRE_RIOS","DE LOS RIOS","5","GABRIEL LO NOSTRO"]
[null,"BASAVILBASO (CP: 3170)","3170","BASAVILBASO","ENTRE_RIOS","DE LOS RIOS","5","GABRIEL LO NOSTRO"]
[null,"BOVRIL (CP: 3142)","3142","BOVRIL","ENTRE_RIOS","DE LOS RIOS","5","GABRIEL LO NOSTRO"]
[null,"CALABACILLAS (CP: 3203)","3203","CALABACILLAS","ENTRE_RIOS","DE LOS RIOS","5","GABRIEL LO NOSTRO"]
[null,"CAMPS (CP: 3164)","3164","CAMPS","ENTRE_RIOS","DE LOS RIOS","5","GABRIEL LO NOSTRO"]
[null,"CARABALLO (CP: 3265)","3265","CARABALLO","ENTRE_RIOS","DE LOS RIOS","5","GABRIEL LO NOSTRO"]
[null,"CASEROS -ENTRE RIOS (CP: 3262)","3262","CASEROS -ENTRE RIOS","ENTRE_RIOS","DE LOS RIOS","5","GABRIEL LO NOSTRO"]
[null,"CEIBAS (CP: 2823)","2823","CEIBAS","ENTRE_RIOS","DE LOS RIOS","5","GABRIEL LO NOSTRO"]
[null,"CERRITO (CP: 3122)","3122","CERRITO","ENTRE_RIOS","DE LOS RIOS","5","GABRIEL LO NOSTRO"]
[null,"CHAJARI (CP: 3228)","3228","CHAJARI","ENTRE_RIOS","DE LOS RIOS","5","GABRIEL LO NOSTRO"]
[null,"COL. AYUI (CP: 3201)","3201","COL. AYUI","ENTRE_RIOS","DE LOS RIOS","5","GABRIEL LO NOSTRO"]
[null,"COLON (CP: 3280)","3280","COLON","ENTRE_RIOS","DE LOS RIOS","5","GABRIEL LO NOSTRO"]
[null,"COLONIA 3 DE FEBRERO (CP: 3265)","3265","COLONIA 3 DE FEBRERO","ENTRE_RIOS","DE LOS RIOS","5","GABRIEL LO NOSTRO"]
[null,"COLONIA ALEMANA (CP: 3228)","3228","COLONIA ALEMANA","ENTRE_RIOS","DE LOS RIOS","5","GABRIEL LO NOSTRO"]
[null,"COLONIA ARGENTINA (CP: 3206)","3206","COLONIA ARGENTINA","ENTRE_RIOS","DE LOS RIOS","5","GABRIEL LO NOSTRO"]
[null,"COLONIA ARROYO BARU (CP: 3269)","3269","COLONIA ARROYO BARU","ENTRE_RIOS","DE LOS RIOS","5","GABRIEL LO NOSTRO"]
[null,"COLONIA AVIGDOR (CP: 3142)","3142","COLONIA AVIGDOR","ENTRE_RIOS","DE LOS RIOS","5","GABRIEL LO NOSTRO"]
[null,"COLONIA BRUGO (CP: 3125)","3125","COLONIA BRUGO","ENTRE_RIOS","DE LOS RIOS","5","GABRIEL LO NOSTRO"]
[null,"COLONIA CHAÑAR (CP: 3200)","3200","COLONIA CHAÑAR","ENTRE_RIOS","DE LOS RIOS","5","GABRIEL LO NOSTRO"]
[null,"COLONIA EL CARMEN (CP: 3267)","3267","COLONIA EL CARMEN","ENTRE_RIOS","DE LOS RIOS","5","GABRIEL LO NOSTRO"]
[null,"COLONIA ELIAS (CP: 3261)","3261","COLONIA ELIAS","ENTRE_RIOS","DE LOS RIOS","5","GABRIEL LO NOSTRO"]
[null,"COLONIA ENSAYO (CP: 3101)","3101","COLONIA ENSAYO","ENTRE_RIOS","DE LOS RIOS","5","GABRIEL LO NOSTRO"]
[null,"COLONIA LA ARMONIA (CP: 3216)","3216","COLONIA LA ARMONIA","ENTRE_RIOS","DE LOS RIOS","5","GABRIEL LO NOSTRO"]
[null,"COLONIA LA MARTA (ER) (CP: 3185)","3185","COLONIA LA MARTA (ER)","ENTRE_RIOS","DE LOS RIOS","5","GABRIEL LO NOSTRO"]
[null,"COLONIA LA MORA (CP: 3216)","3216","COLONIA LA MORA","ENTRE_RIOS","DE LOS RIOS","5","GABRIEL LO NOSTRO"]
[null,"COLONIA LA PROVIDENCIA (CP: 3137)","3137","COLONIA LA PROVIDENCIA","ENTRE_RIOS","DE LOS RIOS","5","GABRIEL LO NOSTRO"]
[null,"COLONIA LA SUIZA (CP: 3265)","3265","COLONIA LA SUIZA","ENTRE_RIOS","DE LOS RIOS","5","GABRIEL LO NOSTRO"]
[null,"COLONIA LA SUIZA (CP: 3267)","3267","COLONIA LA SUIZA","ENTRE_RIOS","DE LOS RIOS","5","GABRIEL LO NOSTRO"]
[null,"COLONIA LAS PEPAS (CP: 3267)","3267","COLONIA LAS PEPAS","ENTRE_RIOS","DE LOS RIOS","5","GABRIEL LO NOSTRO"]
[null,"COLONIA MAGRABAÑAS (CP: 3283)","3283","COLONIA MAGRABAÑAS","ENTRE_RIOS","DE LOS RIOS","5","GABRIEL LO NOSTRO"]
[null,"COLONIA MARIA LUISA (CP: 3114)","3114","COLONIA MARIA LUISA","ENTRE_RIOS","DE LOS RIOS","5","GABRIEL LO NOSTRO"]
[null,"COLONIA NUEVA (CP: 3118)","3118","COLONIA NUEVA","ENTRE_RIOS","DE LOS RIOS","5","GABRIEL LO NOSTRO"]
[null,"COLONIA OUGRIE (CP: 3138)","3138","COLONIA OUGRIE","ENTRE_RIOS","DE LOS RIOS","5","GABRIEL LO NOSTRO"]
[null,"COLONIA SAN HUBERTO (CP: 3254)","3254","COLONIA SAN HUBERTO","ENTRE_RIOS","DE LOS RIOS","5","GABRIEL LO NOSTRO"]
[null,"COLONIA SAN IGNACIO (CP: 3267)","3267","COLONIA SAN IGNACIO","ENTRE_RIOS","DE LOS RIOS","5","GABRIEL LO NOSTRO"]
[null,"COLONIA SAN MIGUEL (CP: 3265)","3265","COLONIA SAN MIGUEL","ENTRE_RIOS","DE LOS RIOS","5","GABRIEL LO NOSTRO"]
[null,"COLONIA SANTA ROSA (CP: 3267)","3267","COLONIA SANTA ROSA","ENTRE_RIOS","DE LOS RIOS","5","GABRIEL LO NOSTRO"]
[null,"COLONIA VAZQUEZ (CP: 3267)","3267","COLONIA VAZQUEZ","ENTRE_RIOS","DE LOS RIOS","5","GABRIEL LO NOSTRO"]
[null,"COLONIA WALTER MOSS (CP: 3216)","3216","COLONIA WALTER MOSS","ENTRE_RIOS","DE LOS RIOS","5","GABRIEL LO NOSTRO"]
[null,"COLONIA YERUA (CP: 3201)","3201","COLONIA YERUA","ENTRE_RIOS","DE LOS RIOS","5","GABRIEL LO NOSTRO"]
[null,"CONC.DEL URUGUAY (CP: 3260)","3260","CONC.DEL URUGUAY","ENTRE_RIOS","DE LOS RIOS","5","GABRIEL LO NOSTRO"]
[null,"CONCORDIA (CP: 3200)","3200","CONCORDIA","ENTRE_RIOS","DE LOS RIOS","5","GABRIEL LO NOSTRO"]
[null,"COSTA GRANDE (CP: 3101)","3101","COSTA GRANDE","ENTRE_RIOS","DE LOS RIOS","5","GABRIEL LO NOSTRO"]
[null,"COSTA URUGUAY (CP: 2821)","2821","COSTA URUGUAY","ENTRE_RIOS","DE LOS RIOS","1","JOSE MESSALA"]
[null,"CRESPO (CP: 3116)","3116","CRESPO","ENTRE_RIOS","DE LOS RIOS","5","GABRIEL LO NOSTRO"]
[null,"CRUSECITAS 7MA SECCION (CP: 3109)","3109","CRUSECITAS 7MA SECCION","ENTRE_RIOS","DE LOS RIOS","5","GABRIEL LO NOSTRO"]
[null,"DIAMANTE (CP: 2251)","2251","DIAMANTE","ENTRE_RIOS","DE LOS RIOS","5","GABRIEL LO NOSTRO"]
[null,"DIAMANTE (CP: 3105)","3105","DIAMANTE","ENTRE_RIOS","DE LOS RIOS","5","GABRIEL LO NOSTRO"]
[null,"DOMINGUEZ (CP: 3246)","3246","DOMINGUEZ","ENTRE_RIOS","DE LOS RIOS","5","GABRIEL LO NOSTRO"]
[null,"DON CRISTOBAL (ER) (CP: 3164)","3164","DON CRISTOBAL (ER)","ENTRE_RIOS","DE LOS RIOS","5","GABRIEL LO NOSTRO"]
[null,"DON CRISTOBAL-1A.SEC.-ER (CP: 3150)","3150","DON CRISTOBAL-1A.SEC.-ER","ENTRE_RIOS","DE LOS RIOS","5","GABRIEL LO NOSTRO"]
[null,"DON CRISTOBAL-2A.SEC.-ER (CP: 3162)","3162","DON CRISTOBAL-2A.SEC.-ER","ENTRE_RIOS","DE LOS RIOS","5","GABRIEL LO NOSTRO"]
[null,"ECHAGÜE (CP: 2845)","2845","ECHAGÜE","ENTRE_RIOS","DE LOS RIOS","5","GABRIEL LO NOSTRO"]
[null,"EL PINGO (CP: 3132)","3132","EL PINGO","ENTRE_RIOS","DE LOS RIOS","5","GABRIEL LO NOSTRO"]
[null,"EL POTRERO (CP: 2821)","2821","EL POTRERO","ENTRE_RIOS","DE LOS RIOS","1","JOSE MESSALA"]
[null,"EL PUEBLITO (CP: 3151)","3151","EL PUEBLITO","ENTRE_RIOS","DE LOS RIOS","5","GABRIEL LO NOSTRO"]
[null,"EL REDOMON (CP: 3212)","3212","EL REDOMON","ENTRE_RIOS","DE LOS RIOS","5","GABRIEL LO NOSTRO"]
[null,"EL SOLAR (CP: 3137)","3137","EL SOLAR","ENTRE_RIOS","DE LOS RIOS","5","GABRIEL LO NOSTRO"]
[null,"ESCRIÑA (CP: 2828)","2828","ESCRIÑA","ENTRE_RIOS","DE LOS RIOS","5","GABRIEL LO NOSTRO"]
[null,"ESTACAS (CP: 3191)","3191","ESTACAS","ENTRE_RIOS","DE LOS RIOS","5","GABRIEL LO NOSTRO"]
[null,"ESTACION SOLA (CP: 3176)","3176","ESTACION SOLA","ENTRE_RIOS","DE LOS RIOS","5","GABRIEL LO NOSTRO"]
[null,"FAUSTINO PARERA (CP: 2824)","2824","FAUSTINO PARERA","ENTRE_RIOS","DE LOS RIOS","5","GABRIEL LO NOSTRO"]
[null,"FEDERACION (CP: 3206)","3206","FEDERACION","ENTRE_RIOS","DE LOS RIOS","5","GABRIEL LO NOSTRO"]
[null,"FEDERAL (CP: 3180)","3180","FEDERAL","ENTRE_RIOS","DE LOS RIOS","5","GABRIEL LO NOSTRO"]
[null,"GALARZA (CP: 2843)","2843","GALARZA","ENTRE_RIOS","DE LOS RIOS","5","GABRIEL LO NOSTRO"]
[null,"GILBERT (CP: 2828)","2828","GILBERT","ENTRE_RIOS","DE LOS RIOS","5","GABRIEL LO NOSTRO"]
[null,"GRAL.CAMPOS (CP: 3216)","3216","GRAL.CAMPOS","ENTRE_RIOS","DE LOS RIOS","5","GABRIEL LO NOSTRO"]
[null,"GRAL.GALARZA (CP: 2843)","2843","GRAL.GALARZA","ENTRE_RIOS","DE LOS RIOS","5","GABRIEL LO NOSTRO"]
[null,"GRAL.RAMIREZ (CP: 3164)","3164","GRAL.RAMIREZ","ENTRE_RIOS","DE LOS RIOS","5","GABRIEL LO NOSTRO"]
[null,"GUALEGUAY (CP: 2840)","2840","GUALEGUAY","ENTRE_RIOS","DE LOS RIOS","1","JOSE MESSALA"]
[null,"GUALEGUAYCHU (CP: 2820)","2820","GUALEGUAYCHU","ENTRE_RIOS","DE LOS RIOS","1","JOSE MESSALA"]
[null,"HASENKAMP (CP: 3134)","3134","HASENKAMP","ENTRE_RIOS","DE LOS RIOS","5","GABRIEL LO NOSTRO"]
[null,"HERNANDARIAS (CP: 3127)","3127","HERNANDARIAS","ENTRE_RIOS","DE LOS RIOS","5","GABRIEL LO NOSTRO"]
[null,"HERNANDEZ (CP: 3156)","3156","HERNANDEZ","ENTRE_RIOS","DE LOS RIOS","5","GABRIEL LO NOSTRO"]
[null,"HERRERA (CP: 3272)","3272","HERRERA","ENTRE_RIOS","DE LOS RIOS","5","GABRIEL LO NOSTRO"]
[null,"HUMAITA (CP: 3287)","3287","HUMAITA","ENTRE_RIOS","DE LOS RIOS","5","GABRIEL LO NOSTRO"]
[null,"IBICUY (CP: 2846)","2846","IBICUY","ENTRE_RIOS","DE LOS RIOS","5","GABRIEL LO NOSTRO"]
[null,"IRAZUSTA (CP: 2852)","2852","IRAZUSTA","ENTRE_RIOS","DE LOS RIOS","5","GABRIEL LO NOSTRO"]
[null,"ISLETAS (CP: 3164)","3164","ISLETAS","ENTRE_RIOS","DE LOS RIOS","5","GABRIEL LO NOSTRO"]
[null,"JUAN JORGE (CP: 3285)","3285","JUAN JORGE","ENTRE_RIOS","DE LOS RIOS","5","GABRIEL LO NOSTRO"]
[null,"JUBILEO (CP: 3254)","3254","JUBILEO","ENTRE_RIOS","DE LOS RIOS","5","GABRIEL LO NOSTRO"]
[null,"L.S.MARTIN (CP: 3103)","3103","L.S.MARTIN","ENTRE_RIOS","DE LOS RIOS","5","GABRIEL LO NOSTRO"]
[null,"LA CLARITA (CP: 3269)","3269","LA CLARITA","ENTRE_RIOS","DE LOS RIOS","5","GABRIEL LO NOSTRO"]
[null,"LA CRIOLLA (CP: 3212)","3212","LA CRIOLLA","ENTRE_RIOS","DE LOS RIOS","5","GABRIEL LO NOSTRO"]
[null,"LA MARIA LUISA (CP: 3261)","3261","LA MARIA LUISA","ENTRE_RIOS","DE LOS RIOS","5","GABRIEL LO NOSTRO"]
[null,"LA PAZ (CP: 3190)","3190","LA PAZ","ENTRE_RIOS","DE LOS RIOS","5","GABRIEL LO NOSTRO"]
[null,"LA PICADA (CP: 3118)","3118","LA PICADA","ENTRE_RIOS","DE LOS RIOS","5","GABRIEL LO NOSTRO"]
[null,"LARROQUE (CP: 2854)","2854","LARROQUE","ENTRE_RIOS","DE LOS RIOS","5","GABRIEL LO NOSTRO"]
[null,"LAS DELICIAS (CP: 3114)","3114","LAS DELICIAS","ENTRE_RIOS","DE LOS RIOS","5","GABRIEL LO NOSTRO"]
[null,"LAS TUNAS (CP: 3111)","3111","LAS TUNAS","ENTRE_RIOS","DE LOS RIOS","5","GABRIEL LO NOSTRO"]
[null,"LAZO (CP: 2841)","2841","LAZO","ENTRE_RIOS","DE LOS RIOS","5","GABRIEL LO NOSTRO"]
[null,"LLESO OESTE (CP: 3190)","3190","LLESO OESTE","ENTRE_RIOS","DE LOS RIOS","5","GABRIEL LO NOSTRO"]
[null,"LOS CHARRUAS (CP: 3212)","3212","LOS CHARRUAS","ENTRE_RIOS","DE LOS RIOS","5","GABRIEL LO NOSTRO"]
[null,"LOS CONQUISTADORES (CP: 3183)","3183","LOS CONQUISTADORES","ENTRE_RIOS","DE LOS RIOS","5","GABRIEL LO NOSTRO"]
[null,"LOS SAUCES (CP: 3216)","3216","LOS SAUCES","ENTRE_RIOS","DE LOS RIOS","5","GABRIEL LO NOSTRO"]
[null,"LUCAS GONZALEZ (CP: 3158)","3158","LUCAS GONZALEZ","ENTRE_RIOS","DE LOS RIOS","5","GABRIEL LO NOSTRO"]
[null,"LUCAS NORTE (CP: 3241)","3241","LUCAS NORTE","ENTRE_RIOS","DE LOS RIOS","5","GABRIEL LO NOSTRO"]
[null,"LUCAS SUR (CP: 3241)","3241","LUCAS SUR","ENTRE_RIOS","DE LOS RIOS","5","GABRIEL LO NOSTRO"]
[null,"MACIA (CP: 3177)","3177","MACIA","ENTRE_RIOS","DE LOS RIOS","5","GABRIEL LO NOSTRO"]
[null,"MANSILLA (CP: 2845)","2845","MANSILLA","ENTRE_RIOS","DE LOS RIOS","5","GABRIEL LO NOSTRO"]
[null,"MARIA GRANDE (CP: 3133)","3133","MARIA GRANDE","ENTRE_RIOS","DE LOS RIOS","5","GABRIEL LO NOSTRO"]
[null,"MEDANOS (CP: 2848)","2848","MEDANOS","ENTRE_RIOS","DE LOS RIOS","5","GABRIEL LO NOSTRO"]
[null,"MOJONES NORTE (CP: 3241)","3241","MOJONES NORTE","ENTRE_RIOS","DE LOS RIOS","5","GABRIEL LO NOSTRO"]
[null,"MOJONES SUD (CP: 3241)","3241","MOJONES SUD","ENTRE_RIOS","DE LOS RIOS","5","GABRIEL LO NOSTRO"]
[null,"MONTOYA-NOGOYA (CP: 3150)","3150","MONTOYA-NOGOYA","ENTRE_RIOS","DE LOS RIOS","5","GABRIEL LO NOSTRO"]
[null,"MONTOYA-VICTORIA (CP: 3151)","3151","MONTOYA-VICTORIA","ENTRE_RIOS","DE LOS RIOS","5","GABRIEL LO NOSTRO"]
[null,"NOGOYA (CP: 3150)","3150","NOGOYA","ENTRE_RIOS","DE LOS RIOS","5","GABRIEL LO NOSTRO"]
[null,"NUEVA VIZCAYA (CP: 3212)","3212","NUEVA VIZCAYA","ENTRE_RIOS","DE LOS RIOS","5","GABRIEL LO NOSTRO"]
[null,"ORO VERDE (CP: 3100)","3100","ORO VERDE","ENTRE_RIOS","DE LOS RIOS","5","GABRIEL LO NOSTRO"]
[null,"OSVALDO MAGNASCO (CP: 3212)","3212","OSVALDO MAGNASCO","ENTRE_RIOS","DE LOS RIOS","5","GABRIEL LO NOSTRO"]
[null,"PAJONAL (CP: 3101)","3101","PAJONAL","ENTRE_RIOS","DE LOS RIOS","5","GABRIEL LO NOSTRO"]
[null,"PARANA (CP: 3100)","3100","PARANA","ENTRE_RIOS","DE LOS RIOS","5","GABRIEL LO NOSTRO"]
[null,"PASO DE LA LAGUNA (CP: 3241)","3241","PASO DE LA LAGUNA","ENTRE_RIOS","DE LOS RIOS","5","GABRIEL LO NOSTRO"]
[null,"PASO DE LAS PIEDRAS (CP: 3118)","3118","PASO DE LAS PIEDRAS","ENTRE_RIOS","DE LOS RIOS","5","GABRIEL LO NOSTRO"]
[null,"PASTOR BRITOS (CP: 2824)","2824","PASTOR BRITOS","ENTRE_RIOS","DE LOS RIOS","5","GABRIEL LO NOSTRO"]
[null,"PEHUAJO NORTE (CP: 2821)","2821","PEHUAJO NORTE","ENTRE_RIOS","DE LOS RIOS","1","JOSE MESSALA"]
[null,"PERDICES (CP: 2823)","2823","PERDICES","ENTRE_RIOS","DE LOS RIOS","5","GABRIEL LO NOSTRO"]
[null,"PILOTO AVILA (CP: 3190)","3190","PILOTO AVILA","ENTRE_RIOS","DE LOS RIOS","5","GABRIEL LO NOSTRO"]
[null,"PRONUNCIAMIENTO (CP: 3263)","3263","PRONUNCIAMIENTO","ENTRE_RIOS","DE LOS RIOS","5","GABRIEL LO NOSTRO"]
[null,"PUEBLO CAZES (CP: 3269)","3269","PUEBLO CAZES","ENTRE_RIOS","DE LOS RIOS","5","GABRIEL LO NOSTRO"]
[null,"PUERTO CURTIEMBRE (CP: 3113)","3113","PUERTO CURTIEMBRE","ENTRE_RIOS","DE LOS RIOS","5","GABRIEL LO NOSTRO"]
[null,"PUERTO YERUA (CP: 3201)","3201","PUERTO YERUA","ENTRE_RIOS","DE LOS RIOS","5","GABRIEL LO NOSTRO"]
[null,"QUEBRACHO (CP: 3109)","3109","QUEBRACHO","ENTRE_RIOS","DE LOS RIOS","5","GABRIEL LO NOSTRO"]
[null,"RINCON DE NOGOYA (CP: 3155)","3155","RINCON DE NOGOYA","ENTRE_RIOS","DE LOS RIOS","5","GABRIEL LO NOSTRO"]
[null,"ROSARIO DEL TALA (CP: 3174)","3174","ROSARIO DEL TALA","ENTRE_RIOS","DE LOS RIOS","5","GABRIEL LO NOSTRO"]
[null,"S.JO.DE FELICIANO (CP: 3187)","3187","S.JO.DE FELICIANO","ENTRE_RIOS","DE LOS RIOS","5","GABRIEL LO NOSTRO"]
[null,"SAN BENITO (ER) (CP: 3107)","3107","SAN BENITO (ER)","ENTRE_RIOS","DE LOS RIOS","5","GABRIEL LO NOSTRO"]
[null,"SAN GREGORIO (CP: 3203)","3203","SAN GREGORIO","ENTRE_RIOS","DE LOS RIOS","5","GABRIEL LO NOSTRO"]
[null,"SAN GUSTAVO (CP: 3191)","3191","SAN GUSTAVO","ENTRE_RIOS","DE LOS RIOS","5","GABRIEL LO NOSTRO"]
[null,"SAN JAIME DE LA FRONTERA (CP: 3185)","3185","SAN JAIME DE LA FRONTERA","ENTRE_RIOS","DE LOS RIOS","5","GABRIEL LO NOSTRO"]
[null,"SAN JOSE (CP: 3283)","3283","SAN JOSE","ENTRE_RIOS","DE LOS RIOS","5","GABRIEL LO NOSTRO"]
[null,"SAN MARTIN (CP: 3113)","3113","SAN MARTIN","ENTRE_RIOS","DE LOS RIOS","5","GABRIEL LO NOSTRO"]
[null,"SAN SALVADOR (CP: 3218)","3218","SAN SALVADOR","ENTRE_RIOS","DE LOS RIOS","5","GABRIEL LO NOSTRO"]
[null,"SAN VICTOR (CP: 3191)","3191","SAN VICTOR","ENTRE_RIOS","DE LOS RIOS","5","GABRIEL LO NOSTRO"]
[null,"SANTA ANA (CP: 3208)","3208","SANTA ANA","ENTRE_RIOS","DE LOS RIOS","5","GABRIEL LO NOSTRO"]
[null,"SANTA ANITA (CP: 3248)","3248","SANTA ANITA","ENTRE_RIOS","DE LOS RIOS","5","GABRIEL LO NOSTRO"]
[null,"SANTA ELENA (CP: 3192)","3192","SANTA ELENA","ENTRE_RIOS","DE LOS RIOS","5","GABRIEL LO NOSTRO"]
[null,"SAUCE DE LUNA (CP: 3144)","3144","SAUCE DE LUNA","ENTRE_RIOS","DE LOS RIOS","5","GABRIEL LO NOSTRO"]
[null,"SAUCE PINTOS (CP: 3107)","3107","SAUCE PINTOS","ENTRE_RIOS","DE LOS RIOS","5","GABRIEL LO NOSTRO"]
[null,"SCHOROEDER (CP: 3265)","3265","SCHOROEDER","ENTRE_RIOS","DE LOS RIOS","5","GABRIEL LO NOSTRO"]
[null,"SEGUI (CP: 3117)","3117","SEGUI","ENTRE_RIOS","DE LOS RIOS","5","GABRIEL LO NOSTRO"]
[null,"TABOSSI (CP: 3111)","3111","TABOSSI","ENTRE_RIOS","DE LOS RIOS","5","GABRIEL LO NOSTRO"]
[null,"TACUARAS (CP: 3190)","3190","TACUARAS","ENTRE_RIOS","DE LOS RIOS","5","GABRIEL LO NOSTRO"]
[null,"UBAJAY (CP: 3287)","3287","UBAJAY","ENTRE_RIOS","DE LOS RIOS","5","GABRIEL LO NOSTRO"]
[null,"URDINARRAIN (CP: 2826)","2826","URDINARRAIN","ENTRE_RIOS","DE LOS RIOS","5","GABRIEL LO NOSTRO"]
[null,"URQUIZA (04) (CP: 3248)","3248","URQUIZA (04)","ENTRE_RIOS","DE LOS RIOS","5","GABRIEL LO NOSTRO"]
[null,"VALLE MARIA (CP: 3101)","3101","VALLE MARIA","ENTRE_RIOS","DE LOS RIOS","5","GABRIEL LO NOSTRO"]
[null,"VERGARA (CP: 3252)","3252","VERGARA","ENTRE_RIOS","DE LOS RIOS","5","GABRIEL LO NOSTRO"]
[null,"VIALE (CP: 3109)","3109","VIALE","ENTRE_RIOS","DE LOS RIOS","5","GABRIEL LO NOSTRO"]
[null,"VICTORIA (CP: 3153)","3153","VICTORIA","ENTRE_RIOS","DE LOS RIOS","5","GABRIEL LO NOSTRO"]
[null,"VILLA CLARA (CP: 3252)","3252","VILLA CLARA","ENTRE_RIOS","DE LOS RIOS","5","GABRIEL LO NOSTRO"]
[null,"VILLA DEL ROSARIO (CP: 3229)","3229","VILLA DEL ROSARIO","ENTRE_RIOS","DE LOS RIOS","5","GABRIEL LO NOSTRO"]
[null,"VILLA ELISA (CP: 3265)","3265","VILLA ELISA","ENTRE_RIOS","DE LOS RIOS","5","GABRIEL LO NOSTRO"]
[null,"VILLA FONTANA (CP: 3114)","3114","VILLA FONTANA","ENTRE_RIOS","DE LOS RIOS","5","GABRIEL LO NOSTRO"]
[null,"VILLA MANTERO (CP: 3272)","3272","VILLA MANTERO","ENTRE_RIOS","DE LOS RIOS","5","GABRIEL LO NOSTRO"]
[null,"VILLA PARANACITO (CP: 2823)","2823","VILLA PARANACITO","ENTRE_RIOS","DE LOS RIOS","5","GABRIEL LO NOSTRO"]
[null,"VILLA ZORRAQUIN (CP: 3201)","3201","VILLA ZORRAQUIN","ENTRE_RIOS","DE LOS RIOS","5","GABRIEL LO NOSTRO"]
[null,"VILLAGUAY (CP: 3240)","3240","VILLAGUAY","ENTRE_RIOS","DE LOS RIOS","5","GABRIEL LO NOSTRO"]
[null,"VILLAGUAY (CP: 3246)","3246","VILLAGUAY","ENTRE_RIOS","DE LOS RIOS","5","GABRIEL LO NOSTRO"]
[]
[]
[null,"FORMOSA"]
[null,"CONCATENADO","CodigoPostal","Localidad","Provincia","Region","NRO AGENTE","NOMBRE"]
[null,"CLORINDA (CP: 3610)","3610","CLORINDA","FORMOSA","NOROESTE","48","MIGUEL BERNERI"]
[null,"COLONIA PTE.IRIGOYEN (CP: 3600)","3600","COLONIA PTE.IRIGOYEN","FORMOSA","NOROESTE","48","MIGUEL BERNERI"]
[null,"COLONIA TATANE (CP: 3626)","3626","COLONIA TATANE","FORMOSA","NOROESTE","48","MIGUEL BERNERI"]
[null,"COMANDANT.FONTANA (CP: 3620)","3620","COMANDANT.FONTANA","FORMOSA","NOROESTE","48","MIGUEL BERNERI"]
[null,"EL CHORRO (CP: 3636)","3636","EL CHORRO","FORMOSA","NOROESTE","48","MIGUEL BERNERI"]
[null,"EL COLORADO (CP: 3603)","3603","EL COLORADO","FORMOSA","NOROESTE","48","MIGUEL BERNERI"]
[null,"EL ESPINILLO (CP: 3603)","3603","EL ESPINILLO","FORMOSA","NOROESTE","48","MIGUEL BERNERI"]
[null,"EL ESPINILLO (CP: 3615)","3615","EL ESPINILLO","FORMOSA","NOROESTE","48","MIGUEL BERNERI"]
[null,"ESPINILLO (CP: 3630)","3630","ESPINILLO","FORMOSA","NOROESTE","48","MIGUEL BERNERI"]
[null,"ESTANISLAO DEL CAMPO (CP: 3626)","3626","ESTANISLAO DEL CAMPO","FORMOSA","NOROESTE","48","MIGUEL BERNERI"]
[null,"FORMOSA (CP: 3600)","3600","FORMOSA","FORMOSA","NOROESTE","48","MIGUEL BERNERI"]
[null,"FORTIN MEDIA LUNA (CP: 3634)","3634","FORTIN MEDIA LUNA","FORMOSA","NOROESTE","48","MIGUEL BERNERI"]
[null,"GRAL LUCIO V MANSILLA (CP: 3526)","3526","GRAL LUCIO V MANSILLA","FORMOSA","NOROESTE","48","MIGUEL BERNERI"]
[null,"GRAL.M.BELGRANO (CP: 3615)","3615","GRAL.M.BELGRANO","FORMOSA","NOROESTE","48","MIGUEL BERNERI"]
[null,"GRAN GUARDIA (CP: 3604)","3604","GRAN GUARDIA","FORMOSA","NOROESTE","48","MIGUEL BERNERI"]
[null,"IBARRETA (CP: 3624)","3624","IBARRETA","FORMOSA","NOROESTE","48","MIGUEL BERNERI"]
[null,"ING.JUAREZ (CP: 3636)","3636","ING.JUAREZ","FORMOSA","NOROESTE","48","MIGUEL BERNERI"]
[null,"JUAN G BAZAN (CP: 3632)","3632","JUAN G BAZAN","FORMOSA","NOROESTE","48","MIGUEL BERNERI"]
[null,"LAGUNA BLANCA (CP: 3613)","3613","LAGUNA BLANCA","FORMOSA","NOROESTE","48","MIGUEL BERNERI"]
[null,"LAGUNA NAICK NECK (CP: 3611)","3611","LAGUNA NAICK NECK","FORMOSA","NOROESTE","48","MIGUEL BERNERI"]
[null,"LAGUNA YEMA (CP: 3634)","3634","LAGUNA YEMA","FORMOSA","NOROESTE","48","MIGUEL BERNERI"]
[null,"LAS LOMITAS (CP: 3630)","3630","LAS LOMITAS","FORMOSA","NOROESTE","48","MIGUEL BERNERI"]
[null,"MAY.VICENTE E.VILLAFAÑE (CP: 3601)","3601","MAY.VICENTE E.VILLAFAÑE","FORMOSA","NOROESTE","48","MIGUEL BERNERI"]
[null,"MISION TACAAGLE (CP: 3615)","3615","MISION TACAAGLE","FORMOSA","NOROESTE","48","MIGUEL BERNERI"]
[null,"PALMAR LARGO (CP: 3636)","3636","PALMAR LARGO","FORMOSA","NOROESTE","48","MIGUEL BERNERI"]
[null,"PALO SANTO (CP: 3608)","3608","PALO SANTO","FORMOSA","NOROESTE","48","MIGUEL BERNERI"]
[null,"PAVAO (CP: 3621)","3621","PAVAO","FORMOSA","NOROESTE","48","MIGUEL BERNERI"]
[null,"PIRANE (CP: 3606)","3606","PIRANE","FORMOSA","NOROESTE","48","MIGUEL BERNERI"]
[null,"POZO DEL TIGRE (CP: 3628)","3628","POZO DEL TIGRE","FORMOSA","NOROESTE","48","MIGUEL BERNERI"]
[null,"PUERTO PILCOMAYO (CP: 3611)","3611","PUERTO PILCOMAYO","FORMOSA","NOROESTE","48","MIGUEL BERNERI"]
[null,"RESERVA NATURAL FORMOSA (CP: 3634)","3634","RESERVA NATURAL FORMOSA","FORMOSA","NOROESTE","48","MIGUEL BERNERI"]
[null,"RIACHO HE HE (CP: 3611)","3611","RIACHO HE HE","FORMOSA","NOROESTE","48","MIGUEL BERNERI"]
[null,"SAN FRANCISCO DE LAISHI (CP: 3601)","3601","SAN FRANCISCO DE LAISHI","FORMOSA","NOROESTE","48","MIGUEL BERNERI"]
[null,"SAN MARTIN (CP: 3630)","3630","SAN MARTIN","FORMOSA","NOROESTE","48","MIGUEL BERNERI"]
[null,"VILLA DOS TRECE (CP: 3603)","3603","VILLA DOS TRECE","FORMOSA","NOROESTE","48","MIGUEL BERNERI"]
[null,"VILLA GENERAL GÜEMES (CP: 3621)","3621","VILLA GENERAL GÜEMES","FORMOSA","NOROESTE","48","MIGUEL BERNERI"]
[null,"VILLA LUCERO (CP: 3611)","3611","VILLA LUCERO","FORMOSA","NOROESTE","48","MIGUEL BERNERI"]
[]
[]
[null,"JUJUY"]
[null,"CONCATENADO","CodigoPostal","Localidad","Provincia","Region","NRO AGENTE","NOMBRE"]
[null,"ABRA PAMPA (CP: 4640)","4640","ABRA PAMPA","JUJUY","LOS VALLES","19","ALFREDO PLASTINE"]
[null,"ARCHIBARCA (CP: 4641)","4641","ARCHIBARCA","JUJUY","LOS VALLES","19","ALFREDO PLASTINE"]
[null,"CAIMANCITO (CP: 4516)","4516","CAIMANCITO","JUJUY","LOS VALLES","19","ALFREDO PLASTINE"]
[null,"CALILEGUA (CP: 4514)","4514","CALILEGUA","JUJUY","LOS VALLES","19","ALFREDO PLASTINE"]
[null,"CHALICAN (CP: 4504)","4504","CHALICAN","JUJUY","LOS VALLES","19","ALFREDO PLASTINE"]
[null,"CORANZULLI (CP: 4643)","4643","CORANZULLI","JUJUY","LOS VALLES","19","ALFREDO PLASTINE"]
[null,"EL AGUILAR (CP: 4634)","4634","EL AGUILAR","JUJUY","LOS VALLES","19","ALFREDO PLASTINE"]
[null,"EL BANANAL (CP: 4512)","4512","EL BANANAL","JUJUY","LOS VALLES","19","ALFREDO PLASTINE"]
[null,"EL CARMEN (CP: 4603)","4603","EL CARMEN","JUJUY","LOS VALLES","19","ALFREDO PLASTINE"]
[null,"EL PORVENIR (CP: 4405)","4405","EL PORVENIR","JUJUY","LOS VALLES","19","ALFREDO PLASTINE"]
[null,"EL TALAR (PCIA JUJUY) (CP: 4542)","4542","EL TALAR (PCIA JUJUY)","JUJUY","LOS VALLES","19","ALFREDO PLASTINE"]
[null,"FRAILE PINTADO (CP: 4506)","4506","FRAILE PINTADO","JUJUY","LOS VALLES","19","ALFREDO PLASTINE"]
[null,"HUMAHUACA (CP: 4630)","4630","HUMAHUACA","JUJUY","LOS VALLES","19","ALFREDO PLASTINE"]
[null,"ITURBE (CP: 4632)","4632","ITURBE","JUJUY","LOS VALLES","19","ALFREDO PLASTINE"]
[null,"LA ESPERANZA (CP: 4503)","4503","LA ESPERANZA","JUJUY","LOS VALLES","19","ALFREDO PLASTINE"]
[null,"LA QUIACA (CP: 4650)","4650","LA QUIACA","JUJUY","LOS VALLES","19","ALFREDO PLASTINE"]
[null,"LAS CAÑADAS (CP: 4606)","4606","LAS CAÑADAS","JUJUY","LOS VALLES","19","ALFREDO PLASTINE"]
[null,"LEDESMA (CP: 4508)","4508","LEDESMA","JUJUY","LOS VALLES","19","ALFREDO PLASTINE"]
[null,"LEDESMA (CP: 4512)","4512","LEDESMA","JUJUY","LOS VALLES","19","ALFREDO PLASTINE"]
[null,"LIB. GRAL. SAN MARTIN (CP: 4512)","4512","LIB. GRAL. SAN MARTIN","JUJUY","LOS VALLES","19","ALFREDO PLASTINE"]
[null,"LIPAN (CP: 4522)","4522","LIPAN","JUJUY","LOS VALLES","19","ALFREDO PLASTINE"]
[null,"MAIMARA (CP: 4622)","4622","MAIMARA","JUJUY","LOS VALLES","19","ALFREDO PLASTINE"]
[null,"MONTERRICO (CP: 4608)","4608","MONTERRICO","JUJUY","LOS VALLES","19","ALFREDO PLASTINE"]
[null,"OROS MAYO (CP: 4645)","4645","OROS MAYO","JUJUY","LOS VALLES","19","ALFREDO PLASTINE"]
[null,"OVARA (CP: 4630)","4630","OVARA","JUJUY","LOS VALLES","19","ALFREDO PLASTINE"]
[null,"PALCA DE ASPARZO (CP: 4631)","4631","PALCA DE ASPARZO","JUJUY","LOS VALLES","19","ALFREDO PLASTINE"]
[null,"PALMA SOLA (CP: 4501)","4501","PALMA SOLA","JUJUY","LOS VALLES","19","ALFREDO PLASTINE"]
[null,"PALPALA (CP: 4612)","4612","PALPALA","JUJUY","LOS VALLES","19","ALFREDO PLASTINE"]
[null,"PAMPA BLANCA (CP: 4606)","4606","PAMPA BLANCA","JUJUY","LOS VALLES","19","ALFREDO PLASTINE"]
[null,"PERICO (CP: 4608)","4608","PERICO","JUJUY","LOS VALLES","19","ALFREDO PLASTINE"]
[null,"PUESTO VIEJO (CP: 4606)","4606","PUESTO VIEJO","JUJUY","LOS VALLES","19","ALFREDO PLASTINE"]
[null,"PUMAHUASI (CP: 4644)","4644","PUMAHUASI","JUJUY","LOS VALLES","19","ALFREDO PLASTINE"]
[null,"REYES (CP: 4600)","4600","REYES","JUJUY","LOS VALLES","19","ALFREDO PLASTINE"]
[null,"RINCONADA (CP: 4643)","4643","RINCONADA","JUJUY","LOS VALLES","19","ALFREDO PLASTINE"]
[null,"S.S.DE JUJUY (CP: 4600)","4600","S.S.DE JUJUY","JUJUY","LOS VALLES","19","ALFREDO PLASTINE"]
[null,"SALADILLO (CP: 4522)","4522","SALADILLO","JUJUY","LOS VALLES","19","ALFREDO PLASTINE"]
[null,"SAN ANTONIO (CP: 4503)","4503","SAN ANTONIO","JUJUY","LOS VALLES","19","ALFREDO PLASTINE"]
[null,"SAN PEDRO (CP: 4500)","4500","SAN PEDRO","JUJUY","LOS VALLES","19","ALFREDO PLASTINE"]
[null,"SANTA CATALINA (CP: 4655)","4655","SANTA CATALINA","JUJUY","LOS VALLES","19","ALFREDO PLASTINE"]
[null,"SANTA CLARA (CP: 4501)","4501","SANTA CLARA","JUJUY","LOS VALLES","19","ALFREDO PLASTINE"]
[null,"SANTO DOMINGO (CP: 4608)","4608","SANTO DOMINGO","JUJUY","LOS VALLES","19","ALFREDO PLASTINE"]
[null,"SUNCHAL (CP: 4603)","4603","SUNCHAL","JUJUY","LOS VALLES","19","ALFREDO PLASTINE"]
[null,"SUSQUES (CP: 4641)","4641","SUSQUES","JUJUY","LOS VALLES","19","ALFREDO PLASTINE"]
[null,"TILCARA (CP: 4624)","4624","TILCARA","JUJUY","LOS VALLES","19","ALFREDO PLASTINE"]
[null,"TRES CRUCES (CP: 4634)","4634","TRES CRUCES","JUJUY","LOS VALLES","19","ALFREDO PLASTINE"]
[null,"TUMBAYA (CP: 4618)","4618","TUMBAYA","JUJUY","LOS VALLES","19","ALFREDO PLASTINE"]
[null,"VALLE GRANDE (CP: 4513)","4513","VALLE GRANDE","JUJUY","LOS VALLES","19","ALFREDO PLASTINE"]
[null,"VOLCAN -TUMBAYA (CP: 4616)","4616","VOLCAN -TUMBAYA","JUJUY","LOS VALLES","19","ALFREDO PLASTINE"]
[null,"YUTO (CP: 4518)","4518","YUTO","JUJUY","LOS VALLES","19","ALFREDO PLASTINE"]
[]
[]
[null,"LA PAMPA"]
[null,"CONCATENADO","CodigoPostal","Localidad","Provincia","Region","NRO AGENTE","NOMBRE"]
[null,"ABRAMO (CP: 8212)","8212","ABRAMO","LA_PAMPA","PAMPEANA",130,"GONZALO ROZADO"]
[null,"AGUSTONI (CP: 6361)","6361","AGUSTONI","LA_PAMPA","PAMPEANA",130,"GONZALO ROZADO"]
[null,"ALGAR.DEL AGUILA (CP: 6323)","6323","ALGAR.DEL AGUILA","LA_PAMPA","PAMPEANA",130,"GONZALO ROZADO"]
[null,"ALPACHIRI (CP: 6309)","6309","ALPACHIRI","LA_PAMPA","PAMPEANA",130,"GONZALO ROZADO"]
[null,"ALTA ITALIA (CP: 6207)","6207","ALTA ITALIA","LA_PAMPA","PAMPEANA",130,"GONZALO ROZADO"]
[null,"ANGUIL (CP: 6326)","6326","ANGUIL","LA_PAMPA","PAMPEANA",130,"GONZALO ROZADO"]
[null,"ATALIVA ROCA (CP: 6301)","6301","ATALIVA ROCA","LA_PAMPA","PAMPEANA",130,"GONZALO ROZADO"]
[null,"BERNARDO LARROUDE (CP: 6220)","6220","BERNARDO LARROUDE","LA_PAMPA","PAMPEANA",130,"GONZALO ROZADO"]
[null,"BERNASCONI (CP: 8204)","8204","BERNASCONI","LA_PAMPA","PAMPEANA",130,"GONZALO ROZADO"]
[null,"BERNASCONI (CP: 8212)","8212","BERNASCONI","LA_PAMPA","PAMPEANA",130,"GONZALO ROZADO"]
[null,"CALEU CALEU (CP: 8134)","8134","CALEU CALEU","LA_PAMPA","PAMPEANA",130,"GONZALO ROZADO"]
[null,"CALEUFU (CP: 6387)","6387","CALEUFU","LA_PAMPA","PAMPEANA",130,"GONZALO ROZADO"]
[null,"CATRILO (CP: 6330)","6330","CATRILO","LA_PAMPA","PAMPEANA",130,"GONZALO ROZADO"]
[null,"CHACHARRAMENDI (CP: 8201)","8201","CHACHARRAMENDI","LA_PAMPA","PAMPEANA",130,"GONZALO ROZADO"]
[null,"CNEL.HILA.LAG0S (CP: 6228)","6228","CNEL.HILA.LAG0S","LA_PAMPA","PAMPEANA",130,"GONZALO ROZADO"]
[null,"COLONIA 25 DE MAYO (CP: 8201)","8201","COLONIA 25 DE MAYO","LA_PAMPA","PAMPEANA",130,"GONZALO ROZADO"]
[null,"COLONIA BARON (CP: 6315)","6315","COLONIA BARON","LA_PAMPA","PAMPEANA",130,"GONZALO ROZADO"]
[null,"COLONIA SANTA TERESA (CP: 6311)","6311","COLONIA SANTA TERESA","LA_PAMPA","PAMPEANA",130,"GONZALO ROZADO"]
[null,"CONHELO (CP: 6381)","6381","CONHELO","LA_PAMPA","PAMPEANA",130,"GONZALO ROZADO"]
[null,"DOBLAS (CP: 6305)","6305","DOBLAS","LA_PAMPA","PAMPEANA",130,"GONZALO ROZADO"]
[null,"DORILA (CP: 6365)","6365","DORILA","LA_PAMPA","PAMPEANA",130,"GONZALO ROZADO"]
[null,"EDUARDO CASTEX (CP: 6380)","6380","EDUARDO CASTEX","LA_PAMPA","PAMPEANA",130,"GONZALO ROZADO"]
[null,"EMBAJADOR MARTINI (CP: 6203)","6203","EMBAJADOR MARTINI","LA_PAMPA","PAMPEANA",130,"GONZALO ROZADO"]
[null,"GOBERNADOR DUVAL (CP: 8336)","8336","GOBERNADOR DUVAL","LA_PAMPA","PAMPEANA",130,"GONZALO ROZADO"]
[null,"GRAL. M. CAMPOS (CP: 6309)","6309","GRAL. M. CAMPOS","LA_PAMPA","PAMPEANA",130,"GONZALO ROZADO"]
[null,"GRAL.ACHA (CP: 8200)","8200","GRAL.ACHA","LA_PAMPA","PAMPEANA",130,"GONZALO ROZADO"]
[null,"GRAL.PICO (CP: 6360)","6360","GRAL.PICO","LA_PAMPA","PAMPEANA",130,"GONZALO ROZADO"]
[null,"GRAL.SAN MARTIN (CP: 8206)","8206","GRAL.SAN MARTIN","LA_PAMPA","PAMPEANA",130,"GONZALO ROZADO"]
[null,"GUATRACHE (CP: 6311)","6311","GUATRACHE","LA_PAMPA","PAMPEANA",130,"GONZALO ROZADO"]
[null,"ING.LUIGGI (CP: 6205)","6205","ING.LUIGGI","LA_PAMPA","PAMPEANA",130,"GONZALO ROZADO"]
[null,"INT.ALVEAR (CP: 6221)","6221","INT.ALVEAR","LA_PAMPA","PAMPEANA",130,"GONZALO ROZADO"]
[null,"JACINTO ARAUZ (CP: 8208)","8208","JACINTO ARAUZ","LA_PAMPA","PAMPEANA",130,"GONZALO ROZADO"]
[null,"JULIAN A.MANSILLA (CP: 8201)","8201","JULIAN A.MANSILLA","LA_PAMPA","PAMPEANA",130,"GONZALO ROZADO"]
[null,"LA ADELA (CP: 8134)","8134","LA ADELA","LA_PAMPA","PAMPEANA",130,"GONZALO ROZADO"]
[null,"LA HUMADA (CP: 6323)","6323","LA HUMADA","LA_PAMPA","PAMPEANA",130,"GONZALO ROZADO"]
[null,"LA MARUJA (CP: 6385)","6385","LA MARUJA","LA_PAMPA","PAMPEANA",130,"GONZALO ROZADO"]
[null,"LA REFORMA (CP: 8201)","8201","LA REFORMA","LA_PAMPA","PAMPEANA",130,"GONZALO ROZADO"]
[null,"LIMAY MAHUIDA (CP: 8201)","8201","LIMAY MAHUIDA","LA_PAMPA","PAMPEANA",130,"GONZALO ROZADO"]
[null,"LONQUIMAY (CP: 6352)","6352","LONQUIMAY","LA_PAMPA","PAMPEANA",130,"GONZALO ROZADO"]
[null,"MACACHIN (CP: 6307)","6307","MACACHIN","LA_PAMPA","PAMPEANA",130,"GONZALO ROZADO"]
[null,"MARIANO MIRO - LA PAMPA (CP: 6228)","6228","MARIANO MIRO - LA PAMPA","LA_PAMPA","PAMPEANA",130,"GONZALO ROZADO"]
[null,"METILEO (CP: 6367)","6367","METILEO","LA_PAMPA","PAMPEANA",130,"GONZALO ROZADO"]
[null,"MIGUEL CANE -LA PAMPA (CP: 6331)","6331","MIGUEL CANE -LA PAMPA","LA_PAMPA","PAMPEANA",130,"GONZALO ROZADO"]
[null,"MIGUEL RIGLOS (CP: 6301)","6301","MIGUEL RIGLOS","LA_PAMPA","PAMPEANA",130,"GONZALO ROZADO"]
[null,"PARAJE PADRE BUODO (CP: 6300)","6300","PARAJE PADRE BUODO","LA_PAMPA","PAMPEANA",130,"GONZALO ROZADO"]
[null,"PARAJE PADRE BUODO (CP: 8200)","8200","PARAJE PADRE BUODO","LA_PAMPA","PAMPEANA",130,"GONZALO ROZADO"]
[null,"PARERA (CP: 6213)","6213","PARERA","LA_PAMPA","PAMPEANA",130,"GONZALO ROZADO"]
[null,"PICHIUINCA (CP: 6385)","6385","PICHIUINCA","LA_PAMPA","PAMPEANA",130,"GONZALO ROZADO"]
[null,"PUELCHES (CP: 8201)","8201","PUELCHES","LA_PAMPA","PAMPEANA",130,"GONZALO ROZADO"]
[null,"PUELEN (CP: 8201)","8201","PUELEN","LA_PAMPA","PAMPEANA",130,"GONZALO ROZADO"]
[null,"QUEMU QUEMU (CP: 6333)","6333","QUEMU QUEMU","LA_PAMPA","PAMPEANA",130,"GONZALO ROZADO"]
[null,"QUETREQUEN (CP: 6212)","6212","QUETREQUEN","LA_PAMPA","PAMPEANA",130,"GONZALO ROZADO"]
[null,"RANCUL (CP: 6214)","6214","RANCUL","LA_PAMPA","PAMPEANA",130,"GONZALO ROZADO"]
[null,"REALICO (CP: 6200)","6200","REALICO","LA_PAMPA","PAMPEANA",130,"GONZALO ROZADO"]
[null,"SANTA ISABEL (CP: 6323)","6323","SANTA ISABEL","LA_PAMPA","PAMPEANA",130,"GONZALO ROZADO"]
[null,"SANTA ROSA (CP: 6300)","6300","SANTA ROSA","LA_PAMPA","PAMPEANA",130,"GONZALO ROZADO"]
[null,"SANTA TERESA (CP: 6133)","6133","SANTA TERESA","LA_PAMPA","PAMPEANA",130,"GONZALO ROZADO"]
[null,"SIMS0N (CP: 6212)","6212","SIMS0N","LA_PAMPA","PAMPEANA",130,"GONZALO ROZADO"]
[null,"TELEN (CP: 6321)","6321","TELEN","LA_PAMPA","PAMPEANA",130,"GONZALO ROZADO"]
[null,"TOAY (CP: 6303)","6303","TOAY","LA_PAMPA","PAMPEANA",130,"GONZALO ROZADO"]
[null,"TRENEL (CP: 6369)","6369","TRENEL","LA_PAMPA","PAMPEANA",130,"GONZALO ROZADO"]
[null,"URIBURU (CP: 6354)","6354","URIBURU","LA_PAMPA","PAMPEANA",130,"GONZALO ROZADO"]
[null,"UTRACAN (CP: 8203)","8203","UTRACAN","LA_PAMPA","PAMPEANA",130,"GONZALO ROZADO"]
[null,"VERTIZ (CP: 6365)","6365","VERTIZ","LA_PAMPA","PAMPEANA",130,"GONZALO ROZADO"]
[null,"VICTORICA (CP: 6319)","6319","VICTORICA","LA_PAMPA","PAMPEANA",130,"GONZALO ROZADO"]
[null,"VILLA MIRASOL (CP: 6315)","6315","VILLA MIRASOL","LA_PAMPA","PAMPEANA",130,"GONZALO ROZADO"]
[null,"WINIFREDA (CP: 6313)","6313","WINIFREDA","LA_PAMPA","PAMPEANA",130,"GONZALO ROZADO"]
[null,"ZONA RURAL DORILA (CP: 6365)","6365","ZONA RURAL DORILA","LA_PAMPA","PAMPEANA",130,"GONZALO ROZADO"]
[]
[]
[null,"LA RIOJA"]
[null,"CONCATENADO","CodigoPostal","Localidad","Provincia","Region","NRO AGENTE","NOMBRE"]
[null,"AIMOGASTA (CP: 5310)","5310","AIMOGASTA","LA_RIOJA","LOS VALLES","24","DANIEL ECHEVERRIA"]
[null,"ALPASINCHE (CP: 5325)","5325","ALPASINCHE","LA_RIOJA","LOS VALLES","24","DANIEL ECHEVERRIA"]
[null,"ALTO JAGUE (CP: 5359)","5359","ALTO JAGUE","LA_RIOJA","LOS VALLES","24","DANIEL ECHEVERRIA"]
[null,"AMANA (CP: 5386)","5386","AMANA","LA_RIOJA","LOS VALLES","24","DANIEL ECHEVERRIA"]
[null,"ANILLACO (CP: 5301)","5301","ANILLACO","LA_RIOJA","LOS VALLES","24","DANIEL ECHEVERRIA"]
[null,"BARRANCAS BLANCAS (CP: 5359)","5359","BARRANCAS BLANCAS","LA_RIOJA","LOS VALLES","24","DANIEL ECHEVERRIA"]
[null,"CHAMICAL (CP: 5380)","5380","CHAMICAL","LA_RIOJA","LOS VALLES","24","DANIEL ECHEVERRIA"]
[null,"CHAÑAR (CP: 5276)","5276","CHAÑAR","LA_RIOJA","LOS VALLES","24","DANIEL ECHEVERRIA"]
[null,"CHEPES (CP: 5470)","5470","CHEPES","LA_RIOJA","LOS VALLES","24","DANIEL ECHEVERRIA"]
[null,"CHILECITO (CP: 5360)","5360","CHILECITO","LA_RIOJA","LOS VALLES","24","DANIEL ECHEVERRIA"]
[null,"EL PORTEZUELO (CP: 5385)","5385","EL PORTEZUELO","LA_RIOJA","LOS VALLES","24","DANIEL ECHEVERRIA"]
[null,"FAMATINA (CP: 5365)","5365","FAMATINA","LA_RIOJA","LOS VALLES","24","DANIEL ECHEVERRIA"]
[null,"GOBER.GORDILLO (CP: 5380)","5380","GOBER.GORDILLO","LA_RIOJA","LOS VALLES","24","DANIEL ECHEVERRIA"]
[null,"GUANDACOL (CP: 5353)","5353","GUANDACOL","LA_RIOJA","LOS VALLES","24","DANIEL ECHEVERRIA"]
[null,"LA RIOJA (CP: 5300)","5300","LA RIOJA","LA_RIOJA","LOS VALLES","24","DANIEL ECHEVERRIA"]
[null,"LAS CHACRITAS (CP: 5357)","5357","LAS CHACRITAS","LA_RIOJA","LOS VALLES","24","DANIEL ECHEVERRIA"]
[null,"LOS CERRILLOS (CP: 5301)","5301","LOS CERRILLOS","LA_RIOJA","LOS VALLES","24","DANIEL ECHEVERRIA"]
[null,"MAZAN (CP: 5313)","5313","MAZAN","LA_RIOJA","LOS VALLES","24","DANIEL ECHEVERRIA"]
[null,"MILAGRO (CP: 5274)","5274","MILAGRO","LA_RIOJA","LOS VALLES","24","DANIEL ECHEVERRIA"]
[null,"MULA MUERTA (CP: 5359)","5359","MULA MUERTA","LA_RIOJA","LOS VALLES","24","DANIEL ECHEVERRIA"]
[null,"NONOGASTA (CP: 5372)","5372","NONOGASTA","LA_RIOJA","LOS VALLES","24","DANIEL ECHEVERRIA"]
[null,"OLTA (CP: 5383)","5383","OLTA","LA_RIOJA","LOS VALLES","24","DANIEL ECHEVERRIA"]
[null,"PATQUIA (CP: 5386)","5386","PATQUIA","LA_RIOJA","LOS VALLES","24","DANIEL ECHEVERRIA"]
[null,"PINCHAS (CP: 5301)","5301","PINCHAS","LA_RIOJA","LOS VALLES","24","DANIEL ECHEVERRIA"]
[null,"PUERTO ALEGRE (CP: 5361)","5361","PUERTO ALEGRE","LA_RIOJA","LOS VALLES","24","DANIEL ECHEVERRIA"]
[null,"PUNTA DE LOS LLANOS (CP: 5384)","5384","PUNTA DE LOS LLANOS","LA_RIOJA","LOS VALLES","24","DANIEL ECHEVERRIA"]
[null,"SALICAS (CP: 5327)","5327","SALICAS","LA_RIOJA","LOS VALLES","24","DANIEL ECHEVERRIA"]
[null,"SANTA CRUZ (CP: 5361)","5361","SANTA CRUZ","LA_RIOJA","LOS VALLES","24","DANIEL ECHEVERRIA"]
[null,"SOÑOGASTA - SANAGASTA (CP: 5367)","5367","SOÑOGASTA - SANAGASTA","LA_RIOJA","LOS VALLES","24","DANIEL ECHEVERRIA"]
[null,"ULAPES (CP: 5473)","5473","ULAPES","LA_RIOJA","LOS VALLES","24","DANIEL ECHEVERRIA"]
[null,"VICHIGASTA (CP: 5374)","5374","VICHIGASTA","LA_RIOJA","LOS VALLES","24","DANIEL ECHEVERRIA"]
[null,"VILLA CASTELLI (CP: 5355)","5355","VILLA CASTELLI","LA_RIOJA","LOS VALLES","24","DANIEL ECHEVERRIA"]
[null,"VILLA SANAGASTA (CP: 5301)","5301","VILLA SANAGASTA","LA_RIOJA","LOS VALLES","24","DANIEL ECHEVERRIA"]
[null,"VILLA SANTA RITA (CP: 5275)","5275","VILLA SANTA RITA","LA_RIOJA","LOS VALLES","24","DANIEL ECHEVERRIA"]
[null,"VILLA UNION (CP: 5350)","5350","VILLA UNION","LA_RIOJA","LOS VALLES","24","DANIEL ECHEVERRIA"]
[null,"VINCHINA (CP: 5357)","5357","VINCHINA","LA_RIOJA","LOS VALLES","24","DANIEL ECHEVERRIA"]
[]
[]
[null,"MENDOZA"]
[null,"CONCATENADO","CodigoPostal","Localidad","Provincia","Region","NRO AGENTE","NOMBRE"]
[null,{"$f":"CONCATENATE(D2103,\" (CP: \",C2103,\")\")","v":"25 DE MAYO (CP: 5615)"},"5615","25 DE MAYO","MENDOZA","AREA DEL SOL","6","ALEJANDRO GOLDENTHAL"]
[null,"ALGARROBAL ABAJO (CP: 5541)","5541","ALGARROBAL ABAJO","MENDOZA","AREA DEL SOL","6","ALEJANDRO GOLDENTHAL"]
[null,"ALTO VERDE (CP: 5582)","5582","ALTO VERDE","MENDOZA","AREA DEL SOL","6","ALEJANDRO GOLDENTHAL"]
[null,"ATUEL SUD (CP: 5623)","5623","ATUEL SUD","MENDOZA","AREA DEL SOL","6","ALEJANDRO GOLDENTHAL"]
[null,"BARRANCAS (CP: 5517)","5517","BARRANCAS","MENDOZA","AREA DEL SOL","6","ALEJANDRO GOLDENTHAL"]
[null,"BERMEJO (CP: 5533)","5533","BERMEJO","MENDOZA","AREA DEL SOL","6","ALEJANDRO GOLDENTHAL"]
[null,"BOWEN (CP: 5634)","5634","BOWEN","MENDOZA","AREA DEL SOL","6","ALEJANDRO GOLDENTHAL"]
[null,"BUENA NUEVA (CP: 5523)","5523","BUENA NUEVA","MENDOZA","AREA DEL SOL","6","ALEJANDRO GOLDENTHAL"]
[null,"CANALEJAS (CP: 5636)","5636","CANALEJAS","MENDOZA","AREA DEL SOL","6","ALEJANDRO GOLDENTHAL"]
[null,"CAÑADA COLORADA (CP: 5613)","5613","CAÑADA COLORADA","MENDOZA","AREA DEL SOL","6","ALEJANDRO GOLDENTHAL"]
[null,"CAÑADA SECA (CP: 5603)","5603","CAÑADA SECA","MENDOZA","AREA DEL SOL","6","ALEJANDRO GOLDENTHAL"]
[null,"CAÑADON AMARILLO (CP: 5613)","5613","CAÑADON AMARILLO","MENDOZA","AREA DEL SOL","6","ALEJANDRO GOLDENTHAL"]
[null,"CAPDEVILLE (CP: 5543)","5543","CAPDEVILLE","MENDOZA","AREA DEL SOL","6","ALEJANDRO GOLDENTHAL"]
[null,"CARMENSA (CP: 5621)","5621","CARMENSA","MENDOZA","AREA DEL SOL","6","ALEJANDRO GOLDENTHAL"]
[null,"CARRODILLA (CP: 5503)","5503","CARRODILLA","MENDOZA","AREA DEL SOL","6","ALEJANDRO GOLDENTHAL"]
[null,"CHACRAS DE CORIA (CP: 5505)","5505","CHACRAS DE CORIA","MENDOZA","AREA DEL SOL","6","ALEJANDRO GOLDENTHAL"]
[null,"CHAPANAY (CP: 5589)","5589","CHAPANAY","MENDOZA","AREA DEL SOL","6","ALEJANDRO GOLDENTHAL"]
[null,"COCHICO (CP: 5621)","5621","COCHICO","MENDOZA","AREA DEL SOL","6","ALEJANDRO GOLDENTHAL"]
[null,"COL. ALVEAR O. (CP: 5632)","5632","COL. ALVEAR O.","MENDOZA","AREA DEL SOL","6","ALEJANDRO GOLDENTHAL"]
[null,"COLONIA 3 DE MAYO (CP: 5543)","5543","COLONIA 3 DE MAYO","MENDOZA","AREA DEL SOL","6","ALEJANDRO GOLDENTHAL"]
[null,"COLONIA ATUEL NORTE (CP: 5605)","5605","COLONIA ATUEL NORTE","MENDOZA","AREA DEL SOL","6","ALEJANDRO GOLDENTHAL"]
[null,"COLONIA ELENA (CP: 5603)","5603","COLONIA ELENA","MENDOZA","AREA DEL SOL","6","ALEJANDRO GOLDENTHAL"]
[null,"COLONIA LAS ROSAS (CP: 5565)","5565","COLONIA LAS ROSAS","MENDOZA","AREA DEL SOL","6","ALEJANDRO GOLDENTHAL"]
[null,"COLONIA SEGOVIA (CP: 5525)","5525","COLONIA SEGOVIA","MENDOZA","AREA DEL SOL","6","ALEJANDRO GOLDENTHAL"]
[null,"CONFLUENCIA - MZA (CP: 5613)","5613","CONFLUENCIA - MZA","MENDOZA","AREA DEL SOL","6","ALEJANDRO GOLDENTHAL"]
[null,"COQUIMBITO (CP: 5513)","5513","COQUIMBITO","MENDOZA","AREA DEL SOL","6","ALEJANDRO GOLDENTHAL"]
[null,"COQUIMBITO (CP: 5522)","5522","COQUIMBITO","MENDOZA","AREA DEL SOL","6","ALEJANDRO GOLDENTHAL"]
[null,"CORONEL DORREGO (CP: 5519)","5519","CORONEL DORREGO","MENDOZA","AREA DEL SOL","6","ALEJANDRO GOLDENTHAL"]
[null,"COSTA DE ARAUJO (CP: 5535)","5535","COSTA DE ARAUJO","MENDOZA","AREA DEL SOL","6","ALEJANDRO GOLDENTHAL"]
[null,"CUADRO BENEGAS (CP: 5603)","5603","CUADRO BENEGAS","MENDOZA","AREA DEL SOL","6","ALEJANDRO GOLDENTHAL"]
[null,"CUADRO NACIONAL (CP: 5607)","5607","CUADRO NACIONAL","MENDOZA","AREA DEL SOL","6","ALEJANDRO GOLDENTHAL"]
[null,"DESAGUADERO (CP: 5598)","5598","DESAGUADERO","MENDOZA","AREA DEL SOL","6","ALEJANDRO GOLDENTHAL"]
[null,{"$f":"CONCATENATE(D2135,\" (CP: \",C2135,\")\")","v":"EL CARRIZAL (CP: 5509)"},"5509","EL CARRIZAL","MENDOZA","AREA DEL SOL","6","ALEJANDRO GOLDENTHAL"]
[null,"EL CENTRAL (CP: 5589)","5589","EL CENTRAL","MENDOZA","AREA DEL SOL","6","ALEJANDRO GOLDENTHAL"]
[null,"EL MIRADOR (CP: 5579)","5579","EL MIRADOR","MENDOZA","AREA DEL SOL","6","ALEJANDRO GOLDENTHAL"]
[null,"EL PORTON - MZA (CP: 5613)","5613","EL PORTON - MZA","MENDOZA","AREA DEL SOL","6","ALEJANDRO GOLDENTHAL"]
[null,"EL SAUCE (CP: 5533)","5533","EL SAUCE","MENDOZA","AREA DEL SOL","6","ALEJANDRO GOLDENTHAL"]
[null,"EL SOSNEADO (CP: 5611)","5611","EL SOSNEADO","MENDOZA","AREA DEL SOL","6","ALEJANDRO GOLDENTHAL"]
[null,"EUGENIO BUSTOS (CP: 5569)","5569","EUGENIO BUSTOS","MENDOZA","AREA DEL SOL","6","ALEJANDRO GOLDENTHAL"]
[null,"FRAY LUIS BELTRAN (CP: 5531)","5531","FRAY LUIS BELTRAN","MENDOZA","AREA DEL SOL","6","ALEJANDRO GOLDENTHAL"]
[null,"GODOY CRUZ (CP: 5501)","5501","GODOY CRUZ","MENDOZA","AREA DEL SOL","6","ALEJANDRO GOLDENTHAL"]
[null,"GODOY CRUZ H (CP: 5547)","5547","GODOY CRUZ H","MENDOZA","AREA DEL SOL","6","ALEJANDRO GOLDENTHAL"]
[null,"GOUEDGE (CP: 5603)","5603","GOUEDGE","MENDOZA","AREA DEL SOL","6","ALEJANDRO GOLDENTHAL"]
[null,"GRAL.ALVEAR (CP: 5620)","5620","GRAL.ALVEAR","MENDOZA","AREA DEL SOL","6","ALEJANDRO GOLDENTHAL"]
[null,"GRAL.GUTIERREZ (CP: 5511)","5511","GRAL.GUTIERREZ","MENDOZA","AREA DEL SOL","6","ALEJANDRO GOLDENTHAL"]
[null,"GUAYMALLEN (CP: 5519)","5519","GUAYMALLEN","MENDOZA","AREA DEL SOL","6","ALEJANDRO GOLDENTHAL"]
[null,"ING. GIAGNONI (CP: 5582)","5582","ING. GIAGNONI","MENDOZA","AREA DEL SOL","6","ALEJANDRO GOLDENTHAL"]
[null,"ISLA GRANDE (CP: 5587)","5587","ISLA GRANDE","MENDOZA","AREA DEL SOL","6","ALEJANDRO GOLDENTHAL"]
[null,"JAIME PRATS (CP: 5623)","5623","JAIME PRATS","MENDOZA","AREA DEL SOL","6","ALEJANDRO GOLDENTHAL"]
[null,"JOCOLI (CP: 5543)","5543","JOCOLI","MENDOZA","AREA DEL SOL","6","ALEJANDRO GOLDENTHAL"]
[null,"JUNIN (CP: 5573)","5573","JUNIN","MENDOZA","AREA DEL SOL","6","ALEJANDRO GOLDENTHAL"]
[null,"LA CENTRAL RIVAD. (CP: 5579)","5579","LA CENTRAL RIVAD.","MENDOZA","AREA DEL SOL","6","ALEJANDRO GOLDENTHAL"]
[null,"LA COLONIA (CP: 5570)","5570","LA COLONIA","MENDOZA","AREA DEL SOL","6","ALEJANDRO GOLDENTHAL"]
[null,"LA CONSULTA (CP: 5567)","5567","LA CONSULTA","MENDOZA","AREA DEL SOL","6","ALEJANDRO GOLDENTHAL"]
[null,"LA DORMIDA (CP: 5592)","5592","LA DORMIDA","MENDOZA","AREA DEL SOL","6","ALEJANDRO GOLDENTHAL"]
[null,"LA LIBERTAD (CP: 5579)","5579","LA LIBERTAD","MENDOZA","AREA DEL SOL","6","ALEJANDRO GOLDENTHAL"]
[null,"LA PAZ (CP: 5590)","5590","LA PAZ","MENDOZA","AREA DEL SOL","6","ALEJANDRO GOLDENTHAL"]
[null,"LA PRIMAVERA (CP: 5527)","5527","LA PRIMAVERA","MENDOZA","AREA DEL SOL","6","ALEJANDRO GOLDENTHAL"]
[null,"LAS CATITAS (CP: 5594)","5594","LAS CATITAS","MENDOZA","AREA DEL SOL","6","ALEJANDRO GOLDENTHAL"]
[null,"LAS CUEVAS (CP: 5557)","5557","LAS CUEVAS","MENDOZA","AREA DEL SOL","6","ALEJANDRO GOLDENTHAL"]
[null,"LAS HERAS (CP: 5539)","5539","LAS HERAS","MENDOZA","AREA DEL SOL","6","ALEJANDRO GOLDENTHAL"]
[null,"LAS LEÑAS (CP: 5611)","5611","LAS LEÑAS","MENDOZA","AREA DEL SOL","6","ALEJANDRO GOLDENTHAL"]
[null,"LAS PAREDES (CP: 5601)","5601","LAS PAREDES","MENDOZA","AREA DEL SOL","6","ALEJANDRO GOLDENTHAL"]
[null,"LAVALLE (CP: 5533)","5533","LAVALLE","MENDOZA","AREA DEL SOL","6","ALEJANDRO GOLDENTHAL"]
[null,{"$f":"CONCATENATE(D2167,\" (CP: \",C2167,\")\")","v":"LOS ARBOLES (CP: 5563)"},"5563","LOS ARBOLES","MENDOZA","AREA DEL SOL","6","ALEJANDRO GOLDENTHAL"]
[null,"LOS BARRIALES (CP: 5585)","5585","LOS BARRIALES","MENDOZA","AREA DEL SOL","6","ALEJANDRO GOLDENTHAL"]
[null,"LOS CAMPAMENTOS (CP: 5577)","5577","LOS CAMPAMENTOS","MENDOZA","AREA DEL SOL","6","ALEJANDRO GOLDENTHAL"]
[null,"LOS CAVAOS (YAC.) (CP: 5611)","5611","LOS CAVAOS (YAC.)","MENDOZA","AREA DEL SOL","6","ALEJANDRO GOLDENTHAL"]
[null,"LOS CORRALITOS (CP: 5527)","5527","LOS CORRALITOS","MENDOZA","AREA DEL SOL","6","ALEJANDRO GOLDENTHAL"]
[null,"LUJAN DE CUYO (CP: 5507)","5507","LUJAN DE CUYO","MENDOZA","AREA DEL SOL","6","ALEJANDRO GOLDENTHAL"]
[null,"LUZURIAGA (CP: 5513)","5513","LUZURIAGA","MENDOZA","AREA DEL SOL","6","ALEJANDRO GOLDENTHAL"]
[null,"MAIPU (CP: 5515)","5515","MAIPU","MENDOZA","AREA DEL SOL","6","ALEJANDRO GOLDENTHAL"]
[null,"MALARGUE (CP: 5613)","5613","MALARGUE","MENDOZA","AREA DEL SOL","6","ALEJANDRO GOLDENTHAL"]
[null,"MALARGUE (YAC.) (CP: 5613)","5613","MALARGUE (YAC.)","MENDOZA","AREA DEL SOL","6","ALEJANDRO GOLDENTHAL"]
[null,"MEDRANO (CP: 5585)","5585","MEDRANO","MENDOZA","AREA DEL SOL","6","ALEJANDRO GOLDENTHAL"]
[null,"MENDOZA (CP: 5500)","5500","MENDOZA","MENDOZA","AREA DEL SOL","6","ALEJANDRO GOLDENTHAL"]
[null,"MONTE CASEROS (CP: 5571)","5571","MONTE CASEROS","MENDOZA","AREA DEL SOL","6","ALEJANDRO GOLDENTHAL"]
[null,"MONTE COMAN (CP: 5609)","5609","MONTE COMAN","MENDOZA","AREA DEL SOL","6","ALEJANDRO GOLDENTHAL"]
[null,"NUEVA CALIFORNIA (CP: 5535)","5535","NUEVA CALIFORNIA","MENDOZA","AREA DEL SOL","6","ALEJANDRO GOLDENTHAL"]
[null,"PALMIRA (CP: 5584)","5584","PALMIRA","MENDOZA","AREA DEL SOL","6","ALEJANDRO GOLDENTHAL"]
[null,"PANQUEUA (CP: 5539)","5539","PANQUEUA","MENDOZA","AREA DEL SOL","6","ALEJANDRO GOLDENTHAL"]
[null,"PARAJE EL MANZANO (CP: 5611)","5611","PARAJE EL MANZANO","MENDOZA","AREA DEL SOL","6","ALEJANDRO GOLDENTHAL"]
[null,"PAREDITAS (CP: 5569)","5569","PAREDITAS","MENDOZA","AREA DEL SOL","6","ALEJANDRO GOLDENTHAL"]
[null,"PERDRIEL (CP: 5509)","5509","PERDRIEL","MENDOZA","AREA DEL SOL","6","ALEJANDRO GOLDENTHAL"]
[null,"PHILLIPS (CP: 5579)","5579","PHILLIPS","MENDOZA","AREA DEL SOL","6","ALEJANDRO GOLDENTHAL"]
[null,"POLVAREDAS (CP: 5551)","5551","POLVAREDAS","MENDOZA","AREA DEL SOL","6","ALEJANDRO GOLDENTHAL"]
[null,"POTRERILLOS (CP: 5549)","5549","POTRERILLOS","MENDOZA","AREA DEL SOL","6","ALEJANDRO GOLDENTHAL"]
[null,"PUENTE DEL INCA (CP: 5555)","5555","PUENTE DEL INCA","MENDOZA","AREA DEL SOL","6","ALEJANDRO GOLDENTHAL"]
[null,"PUNTA DE VACA (CP: 5553)","5553","PUNTA DE VACA","MENDOZA","AREA DEL SOL","6","ALEJANDRO GOLDENTHAL"]
[null,"RAMA CAIDA (CP: 5603)","5603","RAMA CAIDA","MENDOZA","AREA DEL SOL","6","ALEJANDRO GOLDENTHAL"]
[null,"REAL DEL PADRE (CP: 5624)","5624","REAL DEL PADRE","MENDOZA","AREA DEL SOL","6","ALEJANDRO GOLDENTHAL"]
[null,"RIVADAVIA (CP: 5577)","5577","RIVADAVIA","MENDOZA","AREA DEL SOL","6","ALEJANDRO GOLDENTHAL"]
[null,"RODEO DE LA CRUZ (CP: 5525)","5525","RODEO DE LA CRUZ","MENDOZA","AREA DEL SOL","6","ALEJANDRO GOLDENTHAL"]
[null,"RODEO DEL MEDIO (CP: 5529)","5529","RODEO DEL MEDIO","MENDOZA","AREA DEL SOL","6","ALEJANDRO GOLDENTHAL"]
[null,"RUSSELL (CP: 5517)","5517","RUSSELL","MENDOZA","AREA DEL SOL","6","ALEJANDRO GOLDENTHAL"]
[null,"SALTO D.LAS ROSAS (CP: 5603)","5603","SALTO D.LAS ROSAS","MENDOZA","AREA DEL SOL","6","ALEJANDRO GOLDENTHAL"]
[null,{"$f":"CONCATENATE(D2199,\" (CP: \",C2199,\")\")","v":"SAN CARLOS (CP: 5569)"},"5569","SAN CARLOS","MENDOZA","AREA DEL SOL","6","ALEJANDRO GOLDENTHAL"]
[null,"SAN JOSE (CP: 5519)","5519","SAN JOSE","MENDOZA","AREA DEL SOL","6","ALEJANDRO GOLDENTHAL"]
[null,"SAN MARTIN (CP: 5570)","5570","SAN MARTIN","MENDOZA","AREA DEL SOL","6","ALEJANDRO GOLDENTHAL"]
[null,"SAN RAFAEL (CP: 5600)","5600","SAN RAFAEL","MENDOZA","AREA DEL SOL","6","ALEJANDRO GOLDENTHAL"]
[null,"SANTA ROSA (CP: 5596)","5596","SANTA ROSA","MENDOZA","AREA DEL SOL","6","ALEJANDRO GOLDENTHAL"]
[null,"TRES ACEQUIAS (CP: 5585)","5585","TRES ACEQUIAS","MENDOZA","AREA DEL SOL","6","ALEJANDRO GOLDENTHAL"]
[null,"TRES PORTEÑAS (CP: 5589)","5589","TRES PORTEÑAS","MENDOZA","AREA DEL SOL","6","ALEJANDRO GOLDENTHAL"]
[null,"TUNUYAN (CP: 5560)","5560","TUNUYAN","MENDOZA","AREA DEL SOL","6","ALEJANDRO GOLDENTHAL"]
[null,"TUPUNGATO (CP: 5561)","5561","TUPUNGATO","MENDOZA","AREA DEL SOL","6","ALEJANDRO GOLDENTHAL"]
[null,"TUPUNGATO (YAC.) (CP: 5561)","5561","TUPUNGATO (YAC.)","MENDOZA","AREA DEL SOL","6","ALEJANDRO GOLDENTHAL"]
[null,"UGARTECHE (CP: 5509)","5509","UGARTECHE","MENDOZA","AREA DEL SOL","6","ALEJANDRO GOLDENTHAL"]
[null,"USPALLATA (CP: 5545)","5545","USPALLATA","MENDOZA","AREA DEL SOL","6","ALEJANDRO GOLDENTHAL"]
[null,"VALLE LAS LEÑAS (CP: 5612)","5612","VALLE LAS LEÑAS","MENDOZA","AREA DEL SOL","6","ALEJANDRO GOLDENTHAL"]
[null,"VILLA ATUEL (CP: 5622)","5622","VILLA ATUEL","MENDOZA","AREA DEL SOL","6","ALEJANDRO GOLDENTHAL"]
[null,"VILLA NUEVA (CP: 5521)","5521","VILLA NUEVA","MENDOZA","AREA DEL SOL","6","ALEJANDRO GOLDENTHAL"]
[null,"VISTA FLORES (CP: 5565)","5565","VISTA FLORES","MENDOZA","AREA DEL SOL","6","ALEJANDRO GOLDENTHAL"]
[null,"ZAPATA (CP: 5560)","5560","ZAPATA","MENDOZA","AREA DEL SOL","6","ALEJANDRO GOLDENTHAL"]
[]
[]
[null,"MISIONES"]
[null,"CONCATENADO","CodigoPostal","Localidad","Provincia","Region","NRO AGENTE","NOMBRE"]
[null,"ALMIRANTE BROWN (CP: 3366)","3366","ALMIRANTE BROWN","MISIONES","NOROESTE","22","OMAR PRESAS"]
[null,"APOSTOLES (CP: 3350)","3350","APOSTOLES","MISIONES","NOROESTE","22","OMAR PRESAS"]
[null,"ARISTOBULO DEL VALLE (CP: 3364)","3364","ARISTOBULO DEL VALLE","MISIONES","NOROESTE","22","OMAR PRESAS"]
[null,"AZARA (CP: 3351)","3351","AZARA","MISIONES","NOROESTE","22","OMAR PRESAS"]
[null,"B.DE IRIGOYEN (CP: 3366)","3366","B.DE IRIGOYEN","MISIONES","NOROESTE","22","OMAR PRESAS"]
[null,"BONPLAND (MISIONES) (CP: 3317)","3317","BONPLAND (MISIONES)","MISIONES","NOROESTE","22","OMAR PRESAS"]
[null,"BONPLAND NORTE -MISIONES (CP: 3318)","3318","BONPLAND NORTE -MISIONES","MISIONES","NOROESTE","22","OMAR PRESAS"]
[null,"CAMPO GRANDE (CP: 3362)","3362","CAMPO GRANDE","MISIONES","NOROESTE","22","OMAR PRESAS"]
[null,"CAMPO VIERA (CP: 3362)","3362","CAMPO VIERA","MISIONES","NOROESTE","22","OMAR PRESAS"]
[null,"CANDELARIA (CP: 3308)","3308","CANDELARIA","MISIONES","NOROESTE","22","OMAR PRESAS"]
[null,"CAPIOVISIÑO (CP: 3334)","3334","CAPIOVISIÑO","MISIONES","NOROESTE","22","OMAR PRESAS"]
[null,"CERRO AZUL (CP: 3313)","3313","CERRO AZUL","MISIONES","NOROESTE","22","OMAR PRESAS"]
[null,"COL CAA GUAZU (CP: 3315)","3315","COL CAA GUAZU","MISIONES","NOROESTE","22","OMAR PRESAS"]
[null,"COLONIA 25 DE MAYO (CP: 3363)","3363","COLONIA 25 DE MAYO","MISIONES","NOROESTE","22","OMAR PRESAS"]
[null,"COLONIA WANDA (CP: 3376)","3376","COLONIA WANDA","MISIONES","NOROESTE","22","OMAR PRESAS"]
[null,"COMANDANTE ANDRESITO (CP: 3366)","3366","COMANDANTE ANDRESITO","MISIONES","NOROESTE","22","OMAR PRESAS"]
[null,"CONC.DE LA SIERRA (CP: 3355)","3355","CONC.DE LA SIERRA","MISIONES","NOROESTE","22","OMAR PRESAS"]
[null,"CORPUS (CP: 3327)","3327","CORPUS","MISIONES","NOROESTE","22","OMAR PRESAS"]
[null,"DOS DE MAYO (CP: 3364)","3364","DOS DE MAYO","MISIONES","NOROESTE","22","OMAR PRESAS"]
[null,"EL SOBERBIO (CP: 3364)","3364","EL SOBERBIO","MISIONES","NOROESTE","22","OMAR PRESAS"]
[null,"ELDORADO (CP: 3380)","3380","ELDORADO","MISIONES","NOROESTE","22","OMAR PRESAS"]
[null,"FRACRAN (CP: 3364)","3364","FRACRAN","MISIONES","NOROESTE","22","OMAR PRESAS"]
[null,"GARUHAPE (CP: 3334)","3334","GARUHAPE","MISIONES","NOROESTE","22","OMAR PRESAS"]
[null,"GARUPA (CP: 3304)","3304","GARUPA","MISIONES","NOROESTE","22","OMAR PRESAS"]
[null,"GOB.ROCA (CP: 3324)","3324","GOB.ROCA","MISIONES","NOROESTE","22","OMAR PRESAS"]
[null,"GUARANI (CP: 3361)","3361","GUARANI","MISIONES","NOROESTE","22","OMAR PRESAS"]
[null,"IGUAZU (CP: 3370)","3370","IGUAZU","MISIONES","NOROESTE","22","OMAR PRESAS"]
[null,"ITACARUARE (CP: 3353)","3353","ITACARUARE","MISIONES","NOROESTE","22","OMAR PRESAS"]
[null,"JARDIN AMERICA (CP: 3328)","3328","JARDIN AMERICA","MISIONES","NOROESTE","22","OMAR PRESAS"]
[null,"LEANDRO N. ALEM (CP: 3315)","3315","LEANDRO N. ALEM","MISIONES","NOROESTE","22","OMAR PRESAS"]
[null,"LIBERTAD (CP: 3374)","3374","LIBERTAD","MISIONES","NOROESTE","22","OMAR PRESAS"]
[null,"MONTE CARLO (CP: 3384)","3384","MONTE CARLO","MISIONES","NOROESTE","22","OMAR PRESAS"]
[null,"OBERA (CP: 3360)","3360","OBERA","MISIONES","NOROESTE","22","OMAR PRESAS"]
[null,"PANAMBI (CP: 3361)","3361","PANAMBI","MISIONES","NOROESTE","22","OMAR PRESAS"]
[null,"PIñALITO (CP: 3366)","3366","PIñALITO","MISIONES","NOROESTE","22","OMAR PRESAS"]
[null,"POSADAS (CP: 3300)","3300","POSADAS","MISIONES","NOROESTE","22","OMAR PRESAS"]
[null,"PUERTO ESPERANZA (CP: 3378)","3378","PUERTO ESPERANZA","MISIONES","NOROESTE","22","OMAR PRESAS"]
[null,"PUERTO LIBERTAD (CP: 3370)","3370","PUERTO LIBERTAD","MISIONES","NOROESTE","22","OMAR PRESAS"]
[null,"PUERTO MINERAL (CP: 3332)","3332","PUERTO MINERAL","MISIONES","NOROESTE","22","OMAR PRESAS"]
[null,"PUERTO PIRAY (CP: 3381)","3381","PUERTO PIRAY","MISIONES","NOROESTE","22","OMAR PRESAS"]
[null,"PUERTO RICO (CP: 3334)","3334","PUERTO RICO","MISIONES","NOROESTE","22","OMAR PRESAS"]
[null,"SALTO ENCANTADO (CP: 3364)","3364","SALTO ENCANTADO","MISIONES","NOROESTE","22","OMAR PRESAS"]
[null,"SAN IGNACIO (CP: 3322)","3322","SAN IGNACIO","MISIONES","NOROESTE","22","OMAR PRESAS"]
[null,"SAN JAVIER (CP: 3357)","3357","SAN JAVIER","MISIONES","NOROESTE","22","OMAR PRESAS"]
[null,"SAN JOSE (CP: 3306)","3306","SAN JOSE","MISIONES","NOROESTE","22","OMAR PRESAS"]
[null,"SAN PEDRO (CP: 3364)","3364","SAN PEDRO","MISIONES","NOROESTE","22","OMAR PRESAS"]
[null,"SAN VICENTE (CP: 3356)","3356","SAN VICENTE","MISIONES","NOROESTE","22","OMAR PRESAS"]
[null,"SAN VICENTE (CP: 3364)","3364","SAN VICENTE","MISIONES","NOROESTE","22","OMAR PRESAS"]
[null,"SANTA ANA (CP: 3316)","3316","SANTA ANA","MISIONES","NOROESTE","22","OMAR PRESAS"]
[null,"SANTA RITA (CP: 3363)","3363","SANTA RITA","MISIONES","NOROESTE","22","OMAR PRESAS"]
[null,"SANTO PIPO (CP: 3326)","3326","SANTO PIPO","MISIONES","NOROESTE","22","OMAR PRESAS"]
[null,"VILLA LANUS (CP: 3304)","3304","VILLA LANUS","MISIONES","NOROESTE","22","OMAR PRESAS"]
[]
[]
[null,"NEUQUEN"]
[null,"CONCATENADO","CodigoPostal","Localidad","Provincia","Region","NRO AGENTE","NOMBRE"]
[null,"AGUADA CHIVATO (CP: 8319)","8319","AGUADA CHIVATO","NEUQUEN","PATAGONIA","26","SOLEDAD BARTOLOMEI"]
[null,"AGUADA DEL CARRIZO (CP: 8313)","8313","AGUADA DEL CARRIZO","NEUQUEN","PATAGONIA","26","SOLEDAD BARTOLOMEI"]
[null,"AGUADA PICHANA (CP: 8305)","8305","AGUADA PICHANA","NEUQUEN","PATAGONIA","26","SOLEDAD BARTOLOMEI"]
[null,"ALUMINE (CP: 8345)","8345","ALUMINE","NEUQUEN","PATAGONIA","26","SOLEDAD BARTOLOMEI"]
[null,"ANDACOLLO (CP: 8353)","8353","ANDACOLLO","NEUQUEN","PATAGONIA","26","SOLEDAD BARTOLOMEI"]
[null,"AÑELO (CP: 8305)","8305","AÑELO","NEUQUEN","PATAGONIA","26","SOLEDAD BARTOLOMEI"]
[null,"AÑELO (CP: 8305)","8305","AÑELO","NEUQUEN","PATAGONIA","26","SOLEDAD BARTOLOMEI"]
[null,"ARROYITO (CP: 8313)","8313","ARROYITO","NEUQUEN","PATAGONIA","26","SOLEDAD BARTOLOMEI"]
[null,"ARROYITO CHALLACO (CP: 8313)","8313","ARROYITO CHALLACO","NEUQUEN","PATAGONIA","26","SOLEDAD BARTOLOMEI"]
[null,"BARDA NEGRA (CP: 8340)","8340","BARDA NEGRA","NEUQUEN","PATAGONIA","26","SOLEDAD BARTOLOMEI"]
[null,"BARRANCAS (CP: 8353)","8353","BARRANCAS","NEUQUEN","PATAGONIA","26","SOLEDAD BARTOLOMEI"]
[null,"BUTA CO (CP: 8353)","8353","BUTA CO","NEUQUEN","PATAGONIA","26","SOLEDAD BARTOLOMEI"]
[null,"BUTA RANQUIL - NEUQUEN (CP: 8358)","8358","BUTA RANQUIL - NEUQUEN","NEUQUEN","PATAGONIA","26","SOLEDAD BARTOLOMEI"]
[null,"CAVIAHUE (NQ) (CP: 8349)","8349","CAVIAHUE (NQ)","NEUQUEN","PATAGONIA","26","SOLEDAD BARTOLOMEI"]
[null,"CENTENARIO (CP: 8309)","8309","CENTENARIO","NEUQUEN","PATAGONIA","26","SOLEDAD BARTOLOMEI"]
[null,"CHALLACO (CP: 8318)","8318","CHALLACO","NEUQUEN","PATAGONIA","26","SOLEDAD BARTOLOMEI"]
[null,"CHIHUIDO DE LA SA. NEGRA (CP: 8319)","8319","CHIHUIDO DE LA SA. NEGRA","NEUQUEN","PATAGONIA","26","SOLEDAD BARTOLOMEI"]
[null,"CHIHUIDO DE LA SALINA (CP: 8358)","8358","CHIHUIDO DE LA SALINA","NEUQUEN","PATAGONIA","26","SOLEDAD BARTOLOMEI"]
[null,"CHOS MALAL (CP: 8353)","8353","CHOS MALAL","NEUQUEN","PATAGONIA","26","SOLEDAD BARTOLOMEI"]
[null,"CHURRIACA (CP: 8351)","8351","CHURRIACA","NEUQUEN","PATAGONIA","26","SOLEDAD BARTOLOMEI"]
[null,"COLONIA VALENTINA (CP: 8301)","8301","COLONIA VALENTINA","NEUQUEN","PATAGONIA","26","SOLEDAD BARTOLOMEI"]
[null,"COPAHUE (NQ) (CP: 8349)","8349","COPAHUE (NQ)","NEUQUEN","PATAGONIA","26","SOLEDAD BARTOLOMEI"]
[null,"CUTRAL-CO (CP: 8322)","8322","CUTRAL-CO","NEUQUEN","PATAGONIA","26","SOLEDAD BARTOLOMEI"]
[null,"EL CRUCE (CP: 8407)","8407","EL CRUCE","NEUQUEN","PATAGONIA","26","SOLEDAD BARTOLOMEI"]
[null,"EL HUECU (CP: 8349)","8349","EL HUECU","NEUQUEN","PATAGONIA","26","SOLEDAD BARTOLOMEI"]
[null,"EL PORTON - NQ (CP: 8358)","8358","EL PORTON - NQ","NEUQUEN","PATAGONIA","26","SOLEDAD BARTOLOMEI"]
[null,"EL SAUCE (CP: 8313)","8313","EL SAUCE","NEUQUEN","PATAGONIA","26","SOLEDAD BARTOLOMEI"]
[null,"EL TRAPIAL (CP: 8319)","8319","EL TRAPIAL","NEUQUEN","PATAGONIA","26","SOLEDAD BARTOLOMEI"]
[null,"FILO MORADO (CP: 8358)","8358","FILO MORADO","NEUQUEN","PATAGONIA","26","SOLEDAD BARTOLOMEI"]
[null,"HUALCUPEN (CP: 8349)","8349","HUALCUPEN","NEUQUEN","PATAGONIA","26","SOLEDAD BARTOLOMEI"]
[null,"HUANTRAICO (CP: 8358)","8358","HUANTRAICO","NEUQUEN","PATAGONIA","26","SOLEDAD BARTOLOMEI"]
[null,"HUINGANCO (CP: 8353)","8353","HUINGANCO","NEUQUEN","PATAGONIA","26","SOLEDAD BARTOLOMEI"]
[null,"JUNIN D.LOS ANDES (CP: 8371)","8371","JUNIN D.LOS ANDES","NEUQUEN","PATAGONIA","26","SOLEDAD BARTOLOMEI"]
[null,"LAS COLORADAS (CP: 8341)","8341","LAS COLORADAS","NEUQUEN","PATAGONIA","26","SOLEDAD BARTOLOMEI"]
[null,"LAS LAJAS (CP: 8347)","8347","LAS LAJAS","NEUQUEN","PATAGONIA","26","SOLEDAD BARTOLOMEI"]
[null,"LAS OVEJAS (CP: 8353)","8353","LAS OVEJAS","NEUQUEN","PATAGONIA","26","SOLEDAD BARTOLOMEI"]
[null,"LILEO (CP: 8353)","8353","LILEO","NEUQUEN","PATAGONIA","26","SOLEDAD BARTOLOMEI"]
[null,"LOMA DE LA YEGUA (CP: 8305)","8305","LOMA DE LA YEGUA","NEUQUEN","PATAGONIA","26","SOLEDAD BARTOLOMEI"]
[null,"LOMA LA LATA (CP: 8305)","8305","LOMA LA LATA","NEUQUEN","PATAGONIA","26","SOLEDAD BARTOLOMEI"]
[null,"LONCOPUE (NQ) (CP: 8349)","8349","LONCOPUE (NQ)","NEUQUEN","PATAGONIA","26","SOLEDAD BARTOLOMEI"]
[null,"NEUQUEN (CP: 8300)","8300","NEUQUEN","NEUQUEN","PATAGONIA","26","SOLEDAD BARTOLOMEI"]
[null,"NEUQUEN (CP: 8375)","8375","NEUQUEN","NEUQUEN","PATAGONIA","26","SOLEDAD BARTOLOMEI"]
[null,"PARAJE SANTA ISABEL (CP: 8375)","8375","PARAJE SANTA ISABEL","NEUQUEN","PATAGONIA","26","SOLEDAD BARTOLOMEI"]
[null,"PIEDRA DEL AGUILA (CP: 8315)","8315","PIEDRA DEL AGUILA","NEUQUEN","PATAGONIA","26","SOLEDAD BARTOLOMEI"]
[null,"PINCUN LEUFU (CP: 8313)","8313","PINCUN LEUFU","NEUQUEN","PATAGONIA","26","SOLEDAD BARTOLOMEI"]
[null,"PINO HACHADO (CP: 8347)","8347","PINO HACHADO","NEUQUEN","PATAGONIA","26","SOLEDAD BARTOLOMEI"]
[null,"PLAZA HUINCUL (CP: 8317)","8317","PLAZA HUINCUL","NEUQUEN","PATAGONIA","26","SOLEDAD BARTOLOMEI"]
[null,"PLAZA HUINCUL (CP: 8318)","8318","PLAZA HUINCUL","NEUQUEN","PATAGONIA","26","SOLEDAD BARTOLOMEI"]
[null,"PLOTTIER (CP: 8316)","8316","PLOTTIER","NEUQUEN","PATAGONIA","26","SOLEDAD BARTOLOMEI"]
[null,"PUENTE PICUN LEUFU (CP: 8341)","8341","PUENTE PICUN LEUFU","NEUQUEN","PATAGONIA","26","SOLEDAD BARTOLOMEI"]
[null,"RINCON D.L.SAUCES (CP: 8319)","8319","RINCON D.L.SAUCES","NEUQUEN","PATAGONIA","26","SOLEDAD BARTOLOMEI"]
[null,"SAN MARTIN DE LOS ANDES (CP: 8370)","8370","SAN MARTIN DE LOS ANDES","NEUQUEN","PATAGONIA","26","SOLEDAD BARTOLOMEI"]
[null,"SAN PATRICIO DEL CHAÑAR (CP: 8305)","8305","SAN PATRICIO DEL CHAÑAR","NEUQUEN","PATAGONIA","26","SOLEDAD BARTOLOMEI"]
[null,"SENILLOSA (CP: 8316)","8316","SENILLOSA","NEUQUEN","PATAGONIA","26","SOLEDAD BARTOLOMEI"]
[null,"SIERRA BARROSA (CP: 8305)","8305","SIERRA BARROSA","NEUQUEN","PATAGONIA","26","SOLEDAD BARTOLOMEI"]
[null,"SIERRA CHATA (CP: 8305)","8305","SIERRA CHATA","NEUQUEN","PATAGONIA","26","SOLEDAD BARTOLOMEI"]
[null,"SIERRA CHATA (CP: 8407)","8407","SIERRA CHATA","NEUQUEN","PATAGONIA","26","SOLEDAD BARTOLOMEI"]
[null,"TRAFUL (CP: 8403)","8403","TRAFUL","NEUQUEN","PATAGONIA","26","SOLEDAD BARTOLOMEI"]
[null,"TRES CHORROS (CP: 8354)","8354","TRES CHORROS","NEUQUEN","PATAGONIA","26","SOLEDAD BARTOLOMEI"]
[null,"VARVARCO (CP: 8353)","8353","VARVARCO","NEUQUEN","PATAGONIA","26","SOLEDAD BARTOLOMEI"]
[null,"VILLA EL CHOCON (CP: 8311)","8311","VILLA EL CHOCON","NEUQUEN","PATAGONIA","26","SOLEDAD BARTOLOMEI"]
[null,"VILLA L.ANGOSTURA (CP: 8407)","8407","VILLA L.ANGOSTURA","NEUQUEN","PATAGONIA","26","SOLEDAD BARTOLOMEI"]
[null,"VILLA PEHUENIA (CP: 8345)","8345","VILLA PEHUENIA","NEUQUEN","PATAGONIA","26","SOLEDAD BARTOLOMEI"]
[null,"VILLA TRAFUL (CP: 8403)","8403","VILLA TRAFUL","NEUQUEN","PATAGONIA","26","SOLEDAD BARTOLOMEI"]
[null,"ZAPALA (CP: 8340)","8340","ZAPALA","NEUQUEN","PATAGONIA","26","SOLEDAD BARTOLOMEI"]
[]
[]
[null,"RIO NEGRO"]
[null,"CONCATENADO","CodigoPostal","Localidad","Provincia","Region","NRO AGENTE","NOMBRE"]
[null,"9 DE JULIO (CP: 8534)","8534","9 DE JULIO","RIO_NEGRO","PATAGONIA","26","SOLEDAD BARTOLOMEI"]
[null,"AGUADA DE GUERRA (CP: 8424)","8424","AGUADA DE GUERRA","RIO_NEGRO","PATAGONIA","26","SOLEDAD BARTOLOMEI"]
[null,"ALLEN (CP: 8328)","8328","ALLEN","RIO_NEGRO","PATAGONIA","26","SOLEDAD BARTOLOMEI"]
[null,"ARROYO DE LA VENTANA (CP: 8521)","8521","ARROYO DE LA VENTANA","RIO_NEGRO","PATAGONIA","26","SOLEDAD BARTOLOMEI"]
[null,"ARROYO LOS BERROS (CP: 8521)","8521","ARROYO LOS BERROS","RIO_NEGRO","PATAGONIA","26","SOLEDAD BARTOLOMEI"]
[null,"BARDA DEL MEDIO (CP: 8305)","8305","BARDA DEL MEDIO","RIO_NEGRO","PATAGONIA","26","SOLEDAD BARTOLOMEI"]
[null,"BARILOCHE (CP: 8400)","8400","BARILOCHE","RIO_NEGRO","PATAGONIA","26","SOLEDAD BARTOLOMEI"]
[null,"CAMPO GRANDE (CP: 8305)","8305","CAMPO GRANDE","RIO_NEGRO","PATAGONIA","26","SOLEDAD BARTOLOMEI"]
[null,"CATRIEL (CP: 8307)","8307","CATRIEL","RIO_NEGRO","PATAGONIA","26","SOLEDAD BARTOLOMEI"]
[null,"CATRIEL OESTE (CP: 8307)","8307","CATRIEL OESTE","RIO_NEGRO","PATAGONIA","26","SOLEDAD BARTOLOMEI"]
[null,"CERRO DE LA POLICIA (CP: 8333)","8333","CERRO DE LA POLICIA","RIO_NEGRO","PATAGONIA","26","SOLEDAD BARTOLOMEI"]
[null,"CERVANTES (CP: 8326)","8326","CERVANTES","RIO_NEGRO","PATAGONIA","26","SOLEDAD BARTOLOMEI"]
[null,"CHELFORO (CP: 8366)","8366","CHELFORO","RIO_NEGRO","PATAGONIA","26","SOLEDAD BARTOLOMEI"]
[null,"CHICHINALES (CP: 8326)","8326","CHICHINALES","RIO_NEGRO","PATAGONIA","26","SOLEDAD BARTOLOMEI"]
[null,"CHIMPAY (CP: 8364)","8364","CHIMPAY","RIO_NEGRO","PATAGONIA","26","SOLEDAD BARTOLOMEI"]
[null,"CHOELE CHOEL (CP: 8360)","8360","CHOELE CHOEL","RIO_NEGRO","PATAGONIA","26","SOLEDAD BARTOLOMEI"]
[null,"CINCO SALTOS (CP: 8303)","8303","CINCO SALTOS","RIO_NEGRO","PATAGONIA","26","SOLEDAD BARTOLOMEI"]
[null,"CIPOLLETTI (CP: 8324)","8324","CIPOLLETTI","RIO_NEGRO","PATAGONIA","26","SOLEDAD BARTOLOMEI"]
[null,"CLEMENTE ONELLI (CP: 8416)","8416","CLEMENTE ONELLI","RIO_NEGRO","PATAGONIA","26","SOLEDAD BARTOLOMEI"]
[null,"COMALLO (CP: 8416)","8416","COMALLO","RIO_NEGRO","PATAGONIA","26","SOLEDAD BARTOLOMEI"]
[null,"CONA NIYEU (CP: 8521)","8521","CONA NIYEU","RIO_NEGRO","PATAGONIA","26","SOLEDAD BARTOLOMEI"]
[null,"CORONEL BELISLE (CP: 8364)","8364","CORONEL BELISLE","RIO_NEGRO","PATAGONIA","26","SOLEDAD BARTOLOMEI"]
[null,"DINA HUAPI (CP: 8402)","8402","DINA HUAPI","RIO_NEGRO","PATAGONIA","26","SOLEDAD BARTOLOMEI"]
[null,"EL BOLSON (CP: 8430)","8430","EL BOLSON","RIO_NEGRO","PATAGONIA","26","SOLEDAD BARTOLOMEI"]
[null,"EL CAIN (CP: 8422)","8422","EL CAIN","RIO_NEGRO","PATAGONIA","26","SOLEDAD BARTOLOMEI"]
[null,"EL CUY (CP: 8333)","8333","EL CUY","RIO_NEGRO","PATAGONIA","26","SOLEDAD BARTOLOMEI"]
[null,"EL MEDANITO (CP: 8307)","8307","EL MEDANITO","RIO_NEGRO","PATAGONIA","26","SOLEDAD BARTOLOMEI"]
[null,"FALKNER (CP: 8534)","8534","FALKNER","RIO_NEGRO","PATAGONIA","26","SOLEDAD BARTOLOMEI"]
[null,"GRAL.CONESA (CP: 8503)","8503","GRAL.CONESA","RIO_NEGRO","PATAGONIA","26","SOLEDAD BARTOLOMEI"]
[null,"GRAL.FERNANDEZ ORO (CP: 8324)","8324","GRAL.FERNANDEZ ORO","RIO_NEGRO","PATAGONIA","26","SOLEDAD BARTOLOMEI"]
[null,"GRAL.ROCA (CP: 8332)","8332","GRAL.ROCA","RIO_NEGRO","PATAGONIA","26","SOLEDAD BARTOLOMEI"]
[null,"GRL. GODOY (CP: 8336)","8336","GRL. GODOY","RIO_NEGRO","PATAGONIA","26","SOLEDAD BARTOLOMEI"]
[null,"GUARDIA MITRE (CP: 8505)","8505","GUARDIA MITRE","RIO_NEGRO","PATAGONIA","26","SOLEDAD BARTOLOMEI"]
[null,"ING.HUERGO (CP: 8334)","8334","ING.HUERGO","RIO_NEGRO","PATAGONIA","26","SOLEDAD BARTOLOMEI"]
[null,"ING.JACOBACCI (CP: 8418)","8418","ING.JACOBACCI","RIO_NEGRO","PATAGONIA","26","SOLEDAD BARTOLOMEI"]
[null,"KILOMETRO 54 (CP: 8305)","8305","KILOMETRO 54","RIO_NEGRO","PATAGONIA","26","SOLEDAD BARTOLOMEI"]
[null,"LA ESCONDIDA (CP: 8307)","8307","LA ESCONDIDA","RIO_NEGRO","PATAGONIA","26","SOLEDAD BARTOLOMEI"]
[null,"LA RINCONADA (CP: 8424)","8424","LA RINCONADA","RIO_NEGRO","PATAGONIA","26","SOLEDAD BARTOLOMEI"]
[null,"LAGO MASCARDI (CP: 8401)","8401","LAGO MASCARDI","RIO_NEGRO","PATAGONIA","26","SOLEDAD BARTOLOMEI"]
[null,"LAGUNA BLANCA (CP: 8417)","8417","LAGUNA BLANCA","RIO_NEGRO","PATAGONIA","26","SOLEDAD BARTOLOMEI"]
[null,"LAMARQUE (CP: 8363)","8363","LAMARQUE","RIO_NEGRO","PATAGONIA","26","SOLEDAD BARTOLOMEI"]
[null,"LLAO LLAO (CP: 8409)","8409","LLAO LLAO","RIO_NEGRO","PATAGONIA","26","SOLEDAD BARTOLOMEI"]
[null,"LOS MENUCOS (RIO NEGRO) (CP: 8424)","8424","LOS MENUCOS (RIO NEGRO)","RIO_NEGRO","PATAGONIA","26","SOLEDAD BARTOLOMEI"]
[null,"LUIS BELTRAN (CP: 8361)","8361","LUIS BELTRAN","RIO_NEGRO","PATAGONIA","26","SOLEDAD BARTOLOMEI"]
[null,"MAINQUE (CP: 8326)","8326","MAINQUE","RIO_NEGRO","PATAGONIA","26","SOLEDAD BARTOLOMEI"]
[null,"MAQUINCHAO (CP: 8422)","8422","MAQUINCHAO","RIO_NEGRO","PATAGONIA","26","SOLEDAD BARTOLOMEI"]
[null,"MENCUE (CP: 8417)","8417","MENCUE","RIO_NEGRO","PATAGONIA","26","SOLEDAD BARTOLOMEI"]
[null,"MINISTRO RAMOS MEXIA (CP: 8534)","8534","MINISTRO RAMOS MEXIA","RIO_NEGRO","PATAGONIA","26","SOLEDAD BARTOLOMEI"]
[null,"NENEO RUCA (CP: 8416)","8416","NENEO RUCA","RIO_NEGRO","PATAGONIA","26","SOLEDAD BARTOLOMEI"]
[null,"ÑIRIHUAU (CP: 8400)","8400","ÑIRIHUAU","RIO_NEGRO","PATAGONIA","26","SOLEDAD BARTOLOMEI"]
[null,"ÑORQUINCO (CP: 8415)","8415","ÑORQUINCO","RIO_NEGRO","PATAGONIA","26","SOLEDAD BARTOLOMEI"]
[null,"PADRE A. STEFENELLI (CP: 8332)","8332","PADRE A. STEFENELLI","RIO_NEGRO","PATAGONIA","26","SOLEDAD BARTOLOMEI"]
[null,"PASO CHACABUCO (CP: 8401)","8401","PASO CHACABUCO","RIO_NEGRO","PATAGONIA","26","SOLEDAD BARTOLOMEI"]
[null,"PASO FLORES (CP: 8403)","8403","PASO FLORES","RIO_NEGRO","PATAGONIA","26","SOLEDAD BARTOLOMEI"]
[null,"PASO LIMAY (CP: 8403)","8403","PASO LIMAY","RIO_NEGRO","PATAGONIA","26","SOLEDAD BARTOLOMEI"]
[null,"PERITO MORENO (CP: 8416)","8416","PERITO MORENO","RIO_NEGRO","PATAGONIA","26","SOLEDAD BARTOLOMEI"]
[null,"PICHI LEUFU (CP: 8412)","8412","PICHI LEUFU","RIO_NEGRO","PATAGONIA","26","SOLEDAD BARTOLOMEI"]
[null,"PICHIMAHUIDA (CP: 8138)","8138","PICHIMAHUIDA","RIO_NEGRO","PATAGONIA","26","SOLEDAD BARTOLOMEI"]
[null,"PIEDRA CLAVADA (CP: 8536)","8536","PIEDRA CLAVADA","RIO_NEGRO","PATAGONIA","26","SOLEDAD BARTOLOMEI"]
[null,"PILCANIYEU (CP: 8412)","8412","PILCANIYEU","RIO_NEGRO","PATAGONIA","26","SOLEDAD BARTOLOMEI"]
[null,"POMONA (CP: 8363)","8363","POMONA","RIO_NEGRO","PATAGONIA","26","SOLEDAD BARTOLOMEI"]
[null,"PTO SAN ANTONIO ESTE (CP: 8521)","8521","PTO SAN ANTONIO ESTE","RIO_NEGRO","PATAGONIA","26","SOLEDAD BARTOLOMEI"]
[null,"RIO CHICO (CP: 8415)","8415","RIO CHICO","RIO_NEGRO","PATAGONIA","26","SOLEDAD BARTOLOMEI"]
[null,"RIO COLORADO (CP: 8138)","8138","RIO COLORADO","RIO_NEGRO","PATAGONIA","26","SOLEDAD BARTOLOMEI"]
[null,"SALINA BAJO DEL GUALICHO (CP: 8520)","8520","SALINA BAJO DEL GUALICHO","RIO_NEGRO","PATAGONIA","26","SOLEDAD BARTOLOMEI"]
[null,"SAN ANTONIO OESTE (CP: 8520)","8520","SAN ANTONIO OESTE","RIO_NEGRO","PATAGONIA","26","SOLEDAD BARTOLOMEI"]
[null,"SIERRA COLORADA (CP: 8534)","8534","SIERRA COLORADA","RIO_NEGRO","PATAGONIA","26","SOLEDAD BARTOLOMEI"]
[null,"SIERRA GRANDE (CP: 8532)","8532","SIERRA GRANDE","RIO_NEGRO","PATAGONIA","26","SOLEDAD BARTOLOMEI"]
[null,"SIERRA PAILEMAN (CP: 8521)","8521","SIERRA PAILEMAN","RIO_NEGRO","PATAGONIA","26","SOLEDAD BARTOLOMEI"]
[null,"VALCHETA (CP: 8536)","8536","VALCHETA","RIO_NEGRO","PATAGONIA","26","SOLEDAD BARTOLOMEI"]
[null,"VIEDMA (CP: 8500)","8500","VIEDMA","RIO_NEGRO","PATAGONIA","26","SOLEDAD BARTOLOMEI"]
[null,"VILLA REGINA (CP: 8336)","8336","VILLA REGINA","RIO_NEGRO","PATAGONIA","26","SOLEDAD BARTOLOMEI"]
[null,"ZORRILLA,BENJAMIN (CP: 8360)","8360","ZORRILLA,BENJAMIN","RIO_NEGRO","PATAGONIA","26","SOLEDAD BARTOLOMEI"]
[]
[]
[null,"SALTA"]
[null,"CONCATENADO","CodigoPostal","Localidad","Provincia","Region","NRO AGENTE","NOMBRE"]
[null,"AGUARAY (CP: 4566)","4566","AGUARAY","SALTA","LOS VALLES","19","ALFREDO PLASTINE"]
[null,"AGUAS BLANCAS (CP: 4531)","4531","AGUAS BLANCAS","SALTA","LOS VALLES","19","ALFREDO PLASTINE"]
[null,"ALTO DE LA SIERRA (CP: 4561)","4561","ALTO DE LA SIERRA","SALTA","LOS VALLES","19","ALFREDO PLASTINE"]
[null,"ANGASTACO (CP: 4427)","4427","ANGASTACO","SALTA","LOS VALLES","19","ALFREDO PLASTINE"]
[null,"APOLINARIO SARAVIA (CP: 4449)","4449","APOLINARIO SARAVIA","SALTA","LOS VALLES","19","ALFREDO PLASTINE"]
[null,"CACHI (CP: 4417)","4417","CACHI","SALTA","LOS VALLES","19","ALFREDO PLASTINE"]
[null,"CAFAYATE (CP: 4427)","4427","CAFAYATE","SALTA","LOS VALLES","19","ALFREDO PLASTINE"]
[null,"CAMPAMEN.VESPUCIO (CP: 4563)","4563","CAMPAMEN.VESPUCIO","SALTA","LOS VALLES","19","ALFREDO PLASTINE"]
[null,"CAMPICHUELO (CP: 4552)","4552","CAMPICHUELO","SALTA","LOS VALLES","19","ALFREDO PLASTINE"]
[null,"CAMPO DURAN (CP: 4566)","4566","CAMPO DURAN","SALTA","LOS VALLES","19","ALFREDO PLASTINE"]
[null,"CAMPO QUIJANO (CP: 4407)","4407","CAMPO QUIJANO","SALTA","LOS VALLES","19","ALFREDO PLASTINE"]
[null,"CAMPO SANTO (CP: 4432)","4432","CAMPO SANTO","SALTA","LOS VALLES","19","ALFREDO PLASTINE"]
[null,"CAPITAN JUAN PAGE (CP: 4554)","4554","CAPITAN JUAN PAGE","SALTA","LOS VALLES","19","ALFREDO PLASTINE"]
[null,"CERRILL0S (CP: 4403)","4403","CERRILL0S","SALTA","LOS VALLES","19","ALFREDO PLASTINE"]
[null,"CERRILOS (CP: 4421)","4421","CERRILOS","SALTA","LOS VALLES","19","ALFREDO PLASTINE"]
[null,"CHICOANA (CP: 4423)","4423","CHICOANA","SALTA","LOS VALLES","19","ALFREDO PLASTINE"]
[null,"CHORROARIN (CP: 4446)","4446","CHORROARIN","SALTA","LOS VALLES","19","ALFREDO PLASTINE"]
[null,"CNEL.CORNEJO (CP: 4552)","4552","CNEL.CORNEJO","SALTA","LOS VALLES","19","ALFREDO PLASTINE"]
[null,"COLONIA SANTA ROSA (CP: 4531)","4531","COLONIA SANTA ROSA","SALTA","LOS VALLES","19","ALFREDO PLASTINE"]
[null,"COPO QUILE (CP: 4193)","4193","COPO QUILE","SALTA","LOS VALLES","19","ALFREDO PLASTINE"]
[null,"CORONEL MOLDES (CP: 4421)","4421","CORONEL MOLDES","SALTA","LOS VALLES","19","ALFREDO PLASTINE"]
[null,"DEL CARRIL (CP: 4421)","4421","DEL CARRIL","SALTA","LOS VALLES","19","ALFREDO PLASTINE"]
[null,"EL ENCON (CP: 4407)","4407","EL ENCON","SALTA","LOS VALLES","19","ALFREDO PLASTINE"]
[null,"EL GALPON (CP: 4444)","4444","EL GALPON","SALTA","LOS VALLES","19","ALFREDO PLASTINE"]
[null,"EL QUEBRACHAL (CP: 4452)","4452","EL QUEBRACHAL","SALTA","LOS VALLES","19","ALFREDO PLASTINE"]
[null,"EL SIMBOLAR (CP: 4421)","4421","EL SIMBOLAR","SALTA","LOS VALLES","19","ALFREDO PLASTINE"]
[null,"EL TABACAL (CP: 4533)","4533","EL TABACAL","SALTA","LOS VALLES","19","ALFREDO PLASTINE"]
[null,"EMBARCACION (CP: 4550)","4550","EMBARCACION","SALTA","LOS VALLES","19","ALFREDO PLASTINE"]
[null,"GRAL GUEMES (CP: 4430)","4430","GRAL GUEMES","SALTA","LOS VALLES","19","ALFREDO PLASTINE"]
[null,"GRAL. BALLIVIAN (CP: 4552)","4552","GRAL. BALLIVIAN","SALTA","LOS VALLES","19","ALFREDO PLASTINE"]
[null,"GRAL.ENR.MOSCONI (CP: 4562)","4562","GRAL.ENR.MOSCONI","SALTA","LOS VALLES","19","ALFREDO PLASTINE"]
[null,"HIPOLITO YRIGOYEN (CP: 4533)","4533","HIPOLITO YRIGOYEN","SALTA","LOS VALLES","19","ALFREDO PLASTINE"]
[null,"IRUYA (CP: 4633)","4633","IRUYA","SALTA","LOS VALLES","19","ALFREDO PLASTINE"]
[null,"ISLA DE CAñAS (CP: 4531)","4531","ISLA DE CAñAS","SALTA","LOS VALLES","19","ALFREDO PLASTINE"]
[null,"JOA.V.GONZALEZ (CP: 4448)","4448","JOA.V.GONZALEZ","SALTA","LOS VALLES","19","ALFREDO PLASTINE"]
[null,"LA CUESTITA METAN (CP: 4434)","4434","LA CUESTITA METAN","SALTA","LOS VALLES","19","ALFREDO PLASTINE"]
[null,"LA ESTRELLA (CP: 4537)","4537","LA ESTRELLA","SALTA","LOS VALLES","19","ALFREDO PLASTINE"]
[null,"LA FLORIDA (CP: 4425)","4425","LA FLORIDA","SALTA","LOS VALLES","19","ALFREDO PLASTINE"]
[null,"LA MERCED (CP: 4421)","4421","LA MERCED","SALTA","LOS VALLES","19","ALFREDO PLASTINE"]
[null,"LA POMA (CP: 4415)","4415","LA POMA","SALTA","LOS VALLES","19","ALFREDO PLASTINE"]
[null,"LA TRAMPA (CP: 4434)","4434","LA TRAMPA","SALTA","LOS VALLES","19","ALFREDO PLASTINE"]
[null,"LA UNION (CP: 4535)","4535","LA UNION","SALTA","LOS VALLES","19","ALFREDO PLASTINE"]
[null,"LA VIÑA (CP: 4425)","4425","LA VIÑA","SALTA","LOS VALLES","19","ALFREDO PLASTINE"]
[null,"LAS LAJITAS (CP: 4449)","4449","LAS LAJITAS","SALTA","LOS VALLES","19","ALFREDO PLASTINE"]
[null,"LAS LAJITAS (CP: 4449)","4449","LAS LAJITAS","SALTA","LOS VALLES","19","ALFREDO PLASTINE"]
[null,"LAS LAJITAS (CP: 4449)","4449","LAS LAJITAS","SALTA","LOS VALLES","19","ALFREDO PLASTINE"]
[null,"LAS MARAVILLAS (CP: 4538)","4538","LAS MARAVILLAS","SALTA","LOS VALLES","19","ALFREDO PLASTINE"]
[null,"LOS TOLDOS (CP: 4531)","4531","LOS TOLDOS","SALTA","LOS VALLES","19","ALFREDO PLASTINE"]
[null,"LUMBRERAS (CP: 4434)","4434","LUMBRERAS","SALTA","LOS VALLES","19","ALFREDO PLASTINE"]
[null,"MACAPILLO (CP: 4452)","4452","MACAPILLO","SALTA","LOS VALLES","19","ALFREDO PLASTINE"]
[null,"METAN (CP: 4440)","4440","METAN","SALTA","LOS VALLES","19","ALFREDO PLASTINE"]
[null,"METAN VIEJO (CP: 4441)","4441","METAN VIEJO","SALTA","LOS VALLES","19","ALFREDO PLASTINE"]
[null,"MINA PINCALAYO (CP: 4411)","4411","MINA PINCALAYO","SALTA","LOS VALLES","19","ALFREDO PLASTINE"]
[null,"MISIóN LA PAZ (CP: 4554)","4554","MISIóN LA PAZ","SALTA","LOS VALLES","19","ALFREDO PLASTINE"]
[null,"MOLINOS (CP: 4419)","4419","MOLINOS","SALTA","LOS VALLES","19","ALFREDO PLASTINE"]
[null,"MORILLO (CP: 4554)","4554","MORILLO","SALTA","LOS VALLES","19","ALFREDO PLASTINE"]
[null,"NAZARENO (CP: 4651)","4651","NAZARENO","SALTA","LOS VALLES","19","ALFREDO PLASTINE"]
[null,"NUESTRA SRA DE TALAVERA (CP: 4452)","4452","NUESTRA SRA DE TALAVERA","SALTA","LOS VALLES","19","ALFREDO PLASTINE"]
[null,"OLACAPATO (CP: 4413)","4413","OLACAPATO","SALTA","LOS VALLES","19","ALFREDO PLASTINE"]
[null,"PASCALLA (CP: 4651)","4651","PASCALLA","SALTA","LOS VALLES","19","ALFREDO PLASTINE"]
[null,"PAYOGASTA (CP: 4415)","4415","PAYOGASTA","SALTA","LOS VALLES","19","ALFREDO PLASTINE"]
[null,"PICHANAL (CP: 4534)","4534","PICHANAL","SALTA","LOS VALLES","19","ALFREDO PLASTINE"]
[null,"PIQUETE CABADO (CP: 4449)","4449","PIQUETE CABADO","SALTA","LOS VALLES","19","ALFREDO PLASTINE"]
[null,"PUENTE DE PLATA (CP: 4193)","4193","PUENTE DE PLATA","SALTA","LOS VALLES","19","ALFREDO PLASTINE"]
[null,"RIO CHUSCA (CP: 4427)","4427","RIO CHUSCA","SALTA","LOS VALLES","19","ALFREDO PLASTINE"]
[null,"RIVADAVIA (CP: 4535)","4535","RIVADAVIA","SALTA","LOS VALLES","19","ALFREDO PLASTINE"]
[null,"ROSARIO DE LA FRONTERA (CP: 4190)","4190","ROSARIO DE LA FRONTERA","SALTA","LOS VALLES","19","ALFREDO PLASTINE"]
[null,"ROSARIO DE LERMA (CP: 4405)","4405","ROSARIO DE LERMA","SALTA","LOS VALLES","19","ALFREDO PLASTINE"]
[null,"S.RAMON D.N.ORAN (CP: 4530)","4530","S.RAMON D.N.ORAN","SALTA","LOS VALLES","19","ALFREDO PLASTINE"]
[null,"S.ROSA D LOS PASTOS GDES (CP: 4411)","4411","S.ROSA D LOS PASTOS GDES","SALTA","LOS VALLES","19","ALFREDO PLASTINE"]
[null,"SALAR DE POCITOS (CP: 4413)","4413","SALAR DE POCITOS","SALTA","LOS VALLES","19","ALFREDO PLASTINE"]
[null,"SALTA (CP: 4400)","4400","SALTA","SALTA","LOS VALLES","19","ALFREDO PLASTINE"]
[null,"SALVADOR MAZZA (CP: 4568)","4568","SALVADOR MAZZA","SALTA","LOS VALLES","19","ALFREDO PLASTINE"]
[null,"SAN AGUSTIN (CP: 4421)","4421","SAN AGUSTIN","SALTA","LOS VALLES","19","ALFREDO PLASTINE"]
[null,"SAN ANT.D.COBRES (CP: 4411)","4411","SAN ANT.D.COBRES","SALTA","LOS VALLES","19","ALFREDO PLASTINE"]
[null,"SAN CARLOS (CP: 4427)","4427","SAN CARLOS","SALTA","LOS VALLES","19","ALFREDO PLASTINE"]
[null,"SAN LORENZO - SALTA - (CP: 4198)","4198","SAN LORENZO - SALTA -","SALTA","LOS VALLES","19","ALFREDO PLASTINE"]
[null,"SAN LORENZO (CP: 4193)","4193","SAN LORENZO","SALTA","LOS VALLES","19","ALFREDO PLASTINE"]
[null,"SECLANTAS (CP: 4419)","4419","SECLANTAS","SALTA","LOS VALLES","19","ALFREDO PLASTINE"]
[null,"SIJES (CP: 4411)","4411","SIJES","SALTA","LOS VALLES","19","ALFREDO PLASTINE"]
[null,"STA VICTORIA - S.MARTIN (CP: 4550)","4550","STA VICTORIA - S.MARTIN","SALTA","LOS VALLES","19","ALFREDO PLASTINE"]
[null,"STA VICTORIA-E-RIVADAVIA (CP: 4561)","4561","STA VICTORIA-E-RIVADAVIA","SALTA","LOS VALLES","19","ALFREDO PLASTINE"]
[null,"STA VICTORIA-O-S.VICT. (CP: 4651)","4651","STA VICTORIA-O-S.VICT.","SALTA","LOS VALLES","19","ALFREDO PLASTINE"]
[null,"TARTAGAL (CP: 4560)","4560","TARTAGAL","SALTA","LOS VALLES","19","ALFREDO PLASTINE"]
[null,"TOLAR GRANDE (CP: 4413)","4413","TOLAR GRANDE","SALTA","LOS VALLES","19","ALFREDO PLASTINE"]
[null,"TORZALITO (CP: 4430)","4430","TORZALITO","SALTA","LOS VALLES","19","ALFREDO PLASTINE"]
[]
[]
[null,"SAN JUAN"]
[null,"CONCATENADO","CodigoPostal","Localidad","Provincia","Region","NRO AGENTE","NOMBRE"]
[null,{"$f":"CONCATENATE(D2512,\" (CP: \",C2512,\")\")","v":"25 DE MAYO (CP: 5443)"},"5443","25 DE MAYO","SAN_JUAN","AREA DEL SOL","6","ALEJANDRO GOLDENTHAL"]
[null,"ALBARDON (CP: 5419)","5419","ALBARDON","SAN_JUAN","AREA DEL SOL","6","ALEJANDRO GOLDENTHAL"]
[null,"ALGARROBO VERDE (CP: 5443)","5443","ALGARROBO VERDE","SAN_JUAN","AREA DEL SOL","6","ALEJANDRO GOLDENTHAL"]
[null,"ANGACO (CP: 5415)","5415","ANGACO","SAN_JUAN","AREA DEL SOL","6","ALEJANDRO GOLDENTHAL"]
[null,"BARREAL (CP: 5405)","5405","BARREAL","SAN_JUAN","AREA DEL SOL","6","ALEJANDRO GOLDENTHAL"]
[null,"BARRIO RAWSON (CP: 5425)","5425","BARRIO RAWSON","SAN_JUAN","AREA DEL SOL","6","ALEJANDRO GOLDENTHAL"]
[null,"BEBIDA (CP: 5407)","5407","BEBIDA","SAN_JUAN","AREA DEL SOL","6","ALEJANDRO GOLDENTHAL"]
[null,"CALINGASTA (CP: 5403)","5403","CALINGASTA","SAN_JUAN","AREA DEL SOL","6","ALEJANDRO GOLDENTHAL"]
[null,"CAUCETE (CP: 5442)","5442","CAUCETE","SAN_JUAN","AREA DEL SOL","6","ALEJANDRO GOLDENTHAL"]
[null,"CHIMBAS (CP: 5413)","5413","CHIMBAS","SAN_JUAN","AREA DEL SOL","6","ALEJANDRO GOLDENTHAL"]
[null,"DESAMPARADOS (CP: 5400)","5400","DESAMPARADOS","SAN_JUAN","AREA DEL SOL","6","ALEJANDRO GOLDENTHAL"]
[null,"ENCON (CP: 5421)","5421","ENCON","SAN_JUAN","AREA DEL SOL","6","ALEJANDRO GOLDENTHAL"]
[null,"HUACO (CP: 5463)","5463","HUACO","SAN_JUAN","AREA DEL SOL","6","ALEJANDRO GOLDENTHAL"]
[null,"IGLESIA (CP: 5467)","5467","IGLESIA","SAN_JUAN","AREA DEL SOL","6","ALEJANDRO GOLDENTHAL"]
[null,"JACHAL (CP: 5460)","5460","JACHAL","SAN_JUAN","AREA DEL SOL","6","ALEJANDRO GOLDENTHAL"]
[null,"LAS CASUARINAS (CP: 5443)","5443","LAS CASUARINAS","SAN_JUAN","AREA DEL SOL","6","ALEJANDRO GOLDENTHAL"]
[null,"LAS FLORES (CP: 5467)","5467","LAS FLORES","SAN_JUAN","AREA DEL SOL","6","ALEJANDRO GOLDENTHAL"]
[null,"LOS BERROS (CP: 5431)","5431","LOS BERROS","SAN_JUAN","AREA DEL SOL","6","ALEJANDRO GOLDENTHAL"]
[null,"MARAYES (CP: 5446)","5446","MARAYES","SAN_JUAN","AREA DEL SOL","6","ALEJANDRO GOLDENTHAL"]
[null,"MARQUESADO (CP: 5407)","5407","MARQUESADO","SAN_JUAN","AREA DEL SOL","6","ALEJANDRO GOLDENTHAL"]
[null,"MEDANO DE ORO (CP: 5421)","5421","MEDANO DE ORO","SAN_JUAN","AREA DEL SOL","6","ALEJANDRO GOLDENTHAL"]
[null,"MEDIA AGUA (CP: 5435)","5435","MEDIA AGUA","SAN_JUAN","AREA DEL SOL","6","ALEJANDRO GOLDENTHAL"]
[null,"NUEVE DE JULIO (CP: 5417)","5417","NUEVE DE JULIO","SAN_JUAN","AREA DEL SOL","6","ALEJANDRO GOLDENTHAL"]
[null,"POCITO (CP: 5429)","5429","POCITO","SAN_JUAN","AREA DEL SOL","6","ALEJANDRO GOLDENTHAL"]
[null,"POCITO ABERASTAIN (CP: 5427)","5427","POCITO ABERASTAIN","SAN_JUAN","AREA DEL SOL","6","ALEJANDRO GOLDENTHAL"]
[null,"RAWSON (CP: 5423)","5423","RAWSON","SAN_JUAN","AREA DEL SOL","6","ALEJANDRO GOLDENTHAL"]
[null,"RIVADAVIA (CP: 5400)","5400","RIVADAVIA","SAN_JUAN","AREA DEL SOL","6","ALEJANDRO GOLDENTHAL"]
[null,"RODEO (CP: 5465)","5465","RODEO","SAN_JUAN","AREA DEL SOL","6","ALEJANDRO GOLDENTHAL"]
[null,"SAN JUAN (CP: 5400)","5400","SAN JUAN","SAN_JUAN","AREA DEL SOL","6","ALEJANDRO GOLDENTHAL"]
[null,"SAN JUAN (CP: 5402)","5402","SAN JUAN","SAN_JUAN","AREA DEL SOL","6","ALEJANDRO GOLDENTHAL"]
[null,"SAN MARTIN (CP: 5439)","5439","SAN MARTIN","SAN_JUAN","AREA DEL SOL","6","ALEJANDRO GOLDENTHAL"]
[null,"SANTA LUCIA (CP: 5411)","5411","SANTA LUCIA","SAN_JUAN","AREA DEL SOL","6","ALEJANDRO GOLDENTHAL"]
[null,"TAMBERIAS (CP: 5401)","5401","TAMBERIAS","SAN_JUAN","AREA DEL SOL","6","ALEJANDRO GOLDENTHAL"]
[null,"TRINIDAD (CP: 5400)","5400","TRINIDAD","SAN_JUAN","AREA DEL SOL","6","ALEJANDRO GOLDENTHAL"]
[null,"TUDCUM (CP: 5467)","5467","TUDCUM","SAN_JUAN","AREA DEL SOL","6","ALEJANDRO GOLDENTHAL"]
[null,"ULLUM (CP: 5409)","5409","ULLUM","SAN_JUAN","AREA DEL SOL","6","ALEJANDRO GOLDENTHAL"]
[null,"VALLE FERTIL (CP: 5449)","5449","VALLE FERTIL","SAN_JUAN","AREA DEL SOL","6","ALEJANDRO GOLDENTHAL"]
[null,"VALLECITO (CP: 5443)","5443","VALLECITO","SAN_JUAN","AREA DEL SOL","6","ALEJANDRO GOLDENTHAL"]
[null,"VILLA ABERASTAIN (CP: 5427)","5427","VILLA ABERASTAIN","SAN_JUAN","AREA DEL SOL","6","ALEJANDRO GOLDENTHAL"]
[null,"VILLA KRAUSE (CP: 5425)","5425","VILLA KRAUSE","SAN_JUAN","AREA DEL SOL","6","ALEJANDRO GOLDENTHAL"]
[null,"VILLA MEDIA AGUA (CP: 5401)","5401","VILLA MEDIA AGUA","SAN_JUAN","AREA DEL SOL","6","ALEJANDRO GOLDENTHAL"]
[]
[]
[null,"SAN LUIS"]
[null,"CONCATENADO","CodigoPostal","Localidad","Provincia","Region","NRO AGENTE","NOMBRE"]
[null,"ARIZONA (CP: 6389)","6389","ARIZONA","SAN_LUIS","AREA DEL SOL","6","ALEJANDRO GOLDENTHAL"]
[null,"BALDE (CP: 5724)","5724","BALDE","SAN_LUIS","AREA DEL SOL","6","ALEJANDRO GOLDENTHAL"]
[null,"BATAVIA (CP: 6279)","6279","BATAVIA","SAN_LUIS","AREA DEL SOL","6","ALEJANDRO GOLDENTHAL"]
[null,"BEAZLEY (CP: 5720)","5720","BEAZLEY","SAN_LUIS","AREA DEL SOL","6","ALEJANDRO GOLDENTHAL"]
[null,"BEAZLEY (CP: 5721)","5721","BEAZLEY","SAN_LUIS","AREA DEL SOL","6","ALEJANDRO GOLDENTHAL"]
[null,"BELLA VISTA (CP: 5724)","5724","BELLA VISTA","SAN_LUIS","AREA DEL SOL","6","ALEJANDRO GOLDENTHAL"]
[null,"BUENA ESPERANZA (CP: 6277)","6277","BUENA ESPERANZA","SAN_LUIS","AREA DEL SOL","6","ALEJANDRO GOLDENTHAL"]
[null,"CANDELARIA (CP: 5713)","5713","CANDELARIA","SAN_LUIS","AREA DEL SOL","6","ALEJANDRO GOLDENTHAL"]
[null,"COLONIA CALZADA (CP: 5637)","5637","COLONIA CALZADA","SAN_LUIS","AREA DEL SOL","6","ALEJANDRO GOLDENTHAL"]
[null,"CONCARAN (CP: 5770)","5770","CONCARAN","SAN_LUIS","AREA DEL SOL","6","ALEJANDRO GOLDENTHAL"]
[null,"FRAGA (CP: 5736)","5736","FRAGA","SAN_LUIS","AREA DEL SOL","6","ALEJANDRO GOLDENTHAL"]
[null,"H.YRIGOYEN (NOGOLI) (CP: 5703)","5703","H.YRIGOYEN (NOGOLI)","SAN_LUIS","AREA DEL SOL","6","ALEJANDRO GOLDENTHAL"]
[null,"JARILLA (CP: 5724)","5724","JARILLA","SAN_LUIS","AREA DEL SOL","6","ALEJANDRO GOLDENTHAL"]
[null,"JUAN JORBA (CP: 5731)","5731","JUAN JORBA","SAN_LUIS","AREA DEL SOL","6","ALEJANDRO GOLDENTHAL"]
[null,"JUAN LLERENA (CP: 5735)","5735","JUAN LLERENA","SAN_LUIS","AREA DEL SOL","6","ALEJANDRO GOLDENTHAL"]
[null,"JUAN W. GEZ (CP: 5700)","5700","JUAN W. GEZ","SAN_LUIS","AREA DEL SOL","6","ALEJANDRO GOLDENTHAL"]
[null,"JUANTE (CP: 5731)","5731","JUANTE","SAN_LUIS","AREA DEL SOL","6","ALEJANDRO GOLDENTHAL"]
[null,"JUSTO DARACT (CP: 5738)","5738","JUSTO DARACT","SAN_LUIS","AREA DEL SOL","6","ALEJANDRO GOLDENTHAL"]
[null,"LA CUMBRE (CP: 5700)","5700","LA CUMBRE","SAN_LUIS","AREA DEL SOL","6","ALEJANDRO GOLDENTHAL"]
[null,"LA CUMBRE (CP: 5722)","5722","LA CUMBRE","SAN_LUIS","AREA DEL SOL","6","ALEJANDRO GOLDENTHAL"]
[null,"LA IRENE (CP: 5721)","5721","LA IRENE","SAN_LUIS","AREA DEL SOL","6","ALEJANDRO GOLDENTHAL"]
[null,"LA PUNILLA -GRAL.PEDERN. (CP: 5831)","5831","LA PUNILLA -GRAL.PEDERN.","SAN_LUIS","AREA DEL SOL","6","ALEJANDRO GOLDENTHAL"]
[null,"LA TOMA (CP: 5750)","5750","LA TOMA","SAN_LUIS","AREA DEL SOL","6","ALEJANDRO GOLDENTHAL"]
[null,"LAVAISSE (CP: 5730)","5730","LAVAISSE","SAN_LUIS","AREA DEL SOL","6","ALEJANDRO GOLDENTHAL"]
[null,"LIBERT.GRAL.SAN MARTIN (CP: 5755)","5755","LIBERT.GRAL.SAN MARTIN","SAN_LUIS","AREA DEL SOL","6","ALEJANDRO GOLDENTHAL"]
[null,"LOS PUQUIOS (CP: 5701)","5701","LOS PUQUIOS","SAN_LUIS","AREA DEL SOL","6","ALEJANDRO GOLDENTHAL"]
[null,"MERLO (CP: 5707)","5707","MERLO","SAN_LUIS","AREA DEL SOL","6","ALEJANDRO GOLDENTHAL"]
[null,"MERLO (CP: 5881)","5881","MERLO","SAN_LUIS","AREA DEL SOL","6","ALEJANDRO GOLDENTHAL"]
[null,"NAHUEL MAPA (CP: 6279)","6279","NAHUEL MAPA","SAN_LUIS","AREA DEL SOL","6","ALEJANDRO GOLDENTHAL"]
[null,"NASCHEL (CP: 5759)","5759","NASCHEL","SAN_LUIS","AREA DEL SOL","6","ALEJANDRO GOLDENTHAL"]
[null,"NOGOLI (CP: 5703)","5703","NOGOLI","SAN_LUIS","AREA DEL SOL","6","ALEJANDRO GOLDENTHAL"]
[null,"NUEVA GALIA (CP: 6216)","6216","NUEVA GALIA","SAN_LUIS","AREA DEL SOL","6","ALEJANDRO GOLDENTHAL"]
[null,"PARAJE LA CALERA -S.LUIS (CP: 5719)","5719","PARAJE LA CALERA -S.LUIS","SAN_LUIS","AREA DEL SOL","6","ALEJANDRO GOLDENTHAL"]
[null,"PEDERNERA (CP: 5730)","5730","PEDERNERA","SAN_LUIS","AREA DEL SOL","6","ALEJANDRO GOLDENTHAL"]
[null,"PRINGLES (CP: 5701)","5701","PRINGLES","SAN_LUIS","AREA DEL SOL","6","ALEJANDRO GOLDENTHAL"]
[null,"QUINES (CP: 5711)","5711","QUINES","SAN_LUIS","AREA DEL SOL","6","ALEJANDRO GOLDENTHAL"]
[null,"SALADILLO (CP: 5751)","5751","SALADILLO","SAN_LUIS","AREA DEL SOL","6","ALEJANDRO GOLDENTHAL"]
[null,"SALINAS DEL BEBEDERO (CP: 5724)","5724","SALINAS DEL BEBEDERO","SAN_LUIS","AREA DEL SOL","6","ALEJANDRO GOLDENTHAL"]
[null,"SAN ANTONIO (D.BELGRANO) (CP: 5719)","5719","SAN ANTONIO (D.BELGRANO)","SAN_LUIS","AREA DEL SOL","6","ALEJANDRO GOLDENTHAL"]
[null,"SAN FRANCISCO (CP: 5705)","5705","SAN FRANCISCO","SAN_LUIS","AREA DEL SOL","6","ALEJANDRO GOLDENTHAL"]
[null,"SAN LUIS (CP: 5700)","5700","SAN LUIS","SAN_LUIS","AREA DEL SOL","6","ALEJANDRO GOLDENTHAL"]
[null,"SANTA ROSA DEL CONLARA (CP: 5777)","5777","SANTA ROSA DEL CONLARA","SAN_LUIS","AREA DEL SOL","6","ALEJANDRO GOLDENTHAL"]
[null,"TILISARAO (CP: 5773)","5773","TILISARAO","SAN_LUIS","AREA DEL SOL","6","ALEJANDRO GOLDENTHAL"]
[null,"TILISARAO (CP: 5775)","5775","TILISARAO","SAN_LUIS","AREA DEL SOL","6","ALEJANDRO GOLDENTHAL"]
[null,"TORO NEGRO (CP: 5703)","5703","TORO NEGRO","SAN_LUIS","AREA DEL SOL","6","ALEJANDRO GOLDENTHAL"]
[null,"TRAPICHE (CP: 5701)","5701","TRAPICHE","SAN_LUIS","AREA DEL SOL","6","ALEJANDRO GOLDENTHAL"]
[null,"UNION (CP: 6216)","6216","UNION","SAN_LUIS","AREA DEL SOL","6","ALEJANDRO GOLDENTHAL"]
[null,"VILLA DEL CARMEN (CP: 5835)","5835","VILLA DEL CARMEN","SAN_LUIS","AREA DEL SOL","6","ALEJANDRO GOLDENTHAL"]
[null,"VILLA LARCA (CP: 5883)","5883","VILLA LARCA","SAN_LUIS","AREA DEL SOL","6","ALEJANDRO GOLDENTHAL"]
[null,"VILLA MERCEDES (CP: 5730)","5730","VILLA MERCEDES","SAN_LUIS","AREA DEL SOL","6","ALEJANDRO GOLDENTHAL"]
[null,"VILLA REYNOLDS (CP: 5733)","5733","VILLA REYNOLDS","SAN_LUIS","AREA DEL SOL","6","ALEJANDRO GOLDENTHAL"]
[null,"ZANJITAS (CP: 5721)","5721","ZANJITAS","SAN_LUIS","AREA DEL SOL","6","ALEJANDRO GOLDENTHAL"]
[]
[]
[null,"SANTA CRUZ"]
[null,"CONCATENADO","CodigoPostal","Localidad","Provincia","Region","NRO AGENTE","NOMBRE"]
[null,"28 DE NOVIEM (CP: 9407)","9407","28 DE NOVIEMBRE","SANTA_CRUZ","PATAGONIA","26","SOLEDAD BARTOLOMEI"]
[null,"BAJO CARACOLES (CP: 9315)","9315","BAJO CARACOLES","SANTA_CRUZ","PATAGONIA","26","SOLEDAD BARTOLOMEI"]
[null,"CALAFATE (CP: 9405)","9405","CALAFATE","SANTA_CRUZ","PATAGONIA","26","SOLEDAD BARTOLOMEI"]
[null,"CALETA OLIVIA (CP: 9011)","9011","CALETA OLIVIA","SANTA_CRUZ","PATAGONIA","26","SOLEDAD BARTOLOMEI"]
[null,"CAÑADON SECO (CP: 9013)","9013","CAÑADON SECO","SANTA_CRUZ","PATAGONIA","26","SOLEDAD BARTOLOMEI"]
[null,"CORPEN AIKEN (CP: 9303)","9303","CORPEN AIKEN","SANTA_CRUZ","PATAGONIA","26","SOLEDAD BARTOLOMEI"]
[null,"CTE LUIS PIEDRA BUENA (CP: 9303)","9303","COMANDANTE LUIS PIEDRA BUENA","SANTA_CRUZ","PATAGONIA","26","SOLEDAD BARTOLOMEI"]
[null,"EL CHALTEN (CP: 9301)","9301","EL CHALTEN","SANTA_CRUZ","PATAGONIA","26","SOLEDAD BARTOLOMEI"]
[null,"EL HUEMUL (CP: 9013)","9013","EL HUEMUL","SANTA_CRUZ","PATAGONIA","26","SOLEDAD BARTOLOMEI"]
[null,"FITZ ROY (CP: 9019)","9019","FITZ ROY","SANTA_CRUZ","PATAGONIA","26","SOLEDAD BARTOLOMEI"]
[null,"FUENTES DEL COYRE (CP: 9401)","9401","FUENTES DEL COYRE","SANTA_CRUZ","PATAGONIA","26","SOLEDAD BARTOLOMEI"]
[null,"GOB. GREGORES (CP: 9311)","9311","GOB. GREGORES","SANTA_CRUZ","PATAGONIA","26","SOLEDAD BARTOLOMEI"]
[null,"JARAMILLO (CP: 9053)","9053","JARAMILLO","SANTA_CRUZ","PATAGONIA","26","SOLEDAD BARTOLOMEI"]
[null,"KOLUEL KAYKE (CP: 9019)","9019","KOLUEL KAYKE","SANTA_CRUZ","PATAGONIA","26","SOLEDAD BARTOLOMEI"]
[null,"LA ESPERANZA (CP: 9401)","9401","LA ESPERANZA","SANTA_CRUZ","PATAGONIA","26","SOLEDAD BARTOLOMEI"]
[null,"LAGO POSADAS (CP: 9315)","9315","LAGO POSADAS","SANTA_CRUZ","PATAGONIA","26","SOLEDAD BARTOLOMEI"]
[null,"LAS HERAS (CP: 9017)","9017","LAS HERAS","SANTA_CRUZ","PATAGONIA","26","SOLEDAD BARTOLOMEI"]
[null,"LOS ANTIGUOS (CP: 9041)","9041","LOS ANTIGUOS","SANTA_CRUZ","PATAGONIA","26","SOLEDAD BARTOLOMEI"]
[null,"LOS PERALES (CP: 9017)","9017","LOS PERALES","SANTA_CRUZ","PATAGONIA","26","SOLEDAD BARTOLOMEI"]
[null,"PERITO MORENO (CP: 9040)","9040","PERITO MORENO","SANTA_CRUZ","PATAGONIA","26","SOLEDAD BARTOLOMEI"]
[null,"PICO TRUNCADO (CP: 9015)","9015","PICO TRUNCADO","SANTA_CRUZ","PATAGONIA","26","SOLEDAD BARTOLOMEI"]
[null,"PIEDRA CLAVADA T. LAGOS (CP: 9301)","9301","PIEDRA CLAVADA T. LAGOS","SANTA_CRUZ","PATAGONIA","26","SOLEDAD BARTOLOMEI"]
[null,"PIEDRA CLAVADA-L.HERAS (CP: 9017)","9017","PIEDRA CLAVADA-L.HERAS","SANTA_CRUZ","PATAGONIA","26","SOLEDAD BARTOLOMEI"]
[null,"PUERTO DESEADO (CP: 9050)","9050","PUERTO DESEADO","SANTA_CRUZ","PATAGONIA","26","SOLEDAD BARTOLOMEI"]
[null,"PUERTO SANTA CRUZ (CP: 9300)","9300","PUERTO SANTA CRUZ","SANTA_CRUZ","PATAGONIA","26","SOLEDAD BARTOLOMEI"]
[null,"PUNTA BANDERAS (CP: 9405)","9405","PUNTA BANDERAS","SANTA_CRUZ","PATAGONIA","26","SOLEDAD BARTOLOMEI"]
[null,"PUNTA LOYOLA (CP: 9400)","9400","PUNTA LOYOLA","SANTA_CRUZ","PATAGONIA","26","SOLEDAD BARTOLOMEI"]
[null,"PUNTA QUILLA (PTO.DE) (CP: 9300)","9300","PUNTA QUILLA (PTO.DE)","SANTA_CRUZ","PATAGONIA","26","SOLEDAD BARTOLOMEI"]
[null,"RIO GALLEGOS (CP: 9400)","9400","RIO GALLEGOS","SANTA_CRUZ","PATAGONIA","26","SOLEDAD BARTOLOMEI"]
[null,"RIO TURBIO (CP: 9407)","9407","RIO TURBIO","SANTA_CRUZ","PATAGONIA","26","SOLEDAD BARTOLOMEI"]
[null,"RIO TURBIO (CP: 9409)","9409","RIO TURBIO","SANTA_CRUZ","PATAGONIA","26","SOLEDAD BARTOLOMEI"]
[null,"SAN JULIAN (CP: 9310)","9310","SAN JULIAN","SANTA_CRUZ","PATAGONIA","26","SOLEDAD BARTOLOMEI"]
[null,"TAMEL AIKE (CP: 9315)","9315","TAMEL AIKE","SANTA_CRUZ","PATAGONIA","26","SOLEDAD BARTOLOMEI"]
[null,"TAPI AIKE (CP: 9420)","9420","TAPI AIKE","SANTA_CRUZ","PATAGONIA","26","SOLEDAD BARTOLOMEI"]
[null,"TELLIER (CP: 9050)","9050","TELLIER","SANTA_CRUZ","PATAGONIA","26","SOLEDAD BARTOLOMEI"]
[null,"TRES CERROS (CP: 9050)","9050","TRES CERROS","SANTA_CRUZ","PATAGONIA","26","SOLEDAD BARTOLOMEI"]
[null,"TRES LAGOS (CP: 9301)","9301","TRES LAGOS","SANTA_CRUZ","PATAGONIA","26","SOLEDAD BARTOLOMEI"]
[]
[]
[null,"SANTA FE"]
[null,"CONCATENADO","CodigoPostal","Localidad","Provincia","Region","NRO AGENTE","NOMBRE"]
[null,"AARON CASTELLANOS (CP: 6106)","6106","AARON CASTELLANOS","SANTA_FE","DE LOS RIOS","5","GABRIEL LO NOSTRO"]
[null,"ABIPONES (CP: 3042)","3042","ABIPONES","SANTA_FE","DE LOS RIOS","48","MIGUEL BERNERI"]
[null,"ACEBAL (CP: 2109)","2109","ACEBAL","SANTA_FE","DE LOS RIOS","5","GABRIEL LO NOSTRO"]
[null,"ALBARELLOS (CP: 2101)","2101","ALBARELLOS","SANTA_FE","DE LOS RIOS","5","GABRIEL LO NOSTRO"]
[null,"ALCORTA (CP: 2117)","2117","ALCORTA","SANTA_FE","DE LOS RIOS","5","GABRIEL LO NOSTRO"]
[null,"ALDAO (CP: 2214)","2214","ALDAO","SANTA_FE","DE LOS RIOS","5","GABRIEL LO NOSTRO"]
[null,"ALEJANDRA (CP: 3051)","3051","ALEJANDRA","SANTA_FE","DE LOS RIOS","48","MIGUEL BERNERI"]
[null,"ALVAREZ (CP: 2107)","2107","ALVAREZ","SANTA_FE","DE LOS RIOS","5","GABRIEL LO NOSTRO"]
[null,"ALVEAR (CP: 2126)","2126","ALVEAR","SANTA_FE","DE LOS RIOS","5","GABRIEL LO NOSTRO"]
[null,"AMBROSETTI (CP: 2352)","2352","AMBROSETTI","SANTA_FE","DE LOS RIOS","48","MIGUEL BERNERI"]
[null,"AMENABAR (CP: 6103)","6103","AMENABAR","SANTA_FE","DE LOS RIOS","5","GABRIEL LO NOSTRO"]
[null,"ANDINO - SAN LORENZO- (CP: 2214)","2214","ANDINO - SAN LORENZO-","SANTA_FE","DE LOS RIOS","5","GABRIEL LO NOSTRO"]
[null,"ANGELICA (CP: 2303)","2303","ANGELICA","SANTA_FE","DE LOS RIOS","48","MIGUEL BERNERI"]
[null,"AREQUITO (CP: 2183)","2183","AREQUITO","SANTA_FE","DE LOS RIOS","5","GABRIEL LO NOSTRO"]
[null,"ARIJON (CP: 2242)","2242","ARIJON","SANTA_FE","DE LOS RIOS","48","MIGUEL BERNERI"]
[null,"ARMINDA (CP: 2119)","2119","ARMINDA","SANTA_FE","DE LOS RIOS","5","GABRIEL LO NOSTRO"]
[null,"ARMSTRONG (CP: 2508)","2508","ARMSTRONG","SANTA_FE","DE LOS RIOS","5","GABRIEL LO NOSTRO"]
[null,"AROCENA (CP: 2242)","2242","AROCENA","SANTA_FE","DE LOS RIOS","48","MIGUEL BERNERI"]
[null,"ARROYO CEIVAL (CP: 3575)","3575","ARROYO CEIVAL","SANTA_FE","DE LOS RIOS","48","MIGUEL BERNERI"]
[null,"ARROYO SECO (CP: 2128)","2128","ARROYO SECO","SANTA_FE","DE LOS RIOS","5","GABRIEL LO NOSTRO"]
[null,"ARRUFO (CP: 2344)","2344","ARRUFO","SANTA_FE","DE LOS RIOS","48","MIGUEL BERNERI"]
[null,"ARTEAGA (CP: 2187)","2187","ARTEAGA","SANTA_FE","DE LOS RIOS","5","GABRIEL LO NOSTRO"]
[null,"ATALIVA (CP: 2307)","2307","ATALIVA","SANTA_FE","DE LOS RIOS","48","MIGUEL BERNERI"]
[null,"AVELLANEDA (CP: 3561)","3561","AVELLANEDA","SANTA_FE","DE LOS RIOS","48","MIGUEL BERNERI"]
[null,"BARRANCAS (CP: 2246)","2246","BARRANCAS","SANTA_FE","DE LOS RIOS","48","MIGUEL BERNERI"]
[null,"BDO.IRIGOYEN (CP: 2248)","2248","BDO.IRIGOYEN","SANTA_FE","DE LOS RIOS","48","MIGUEL BERNERI"]
[null,"BELLA ITALIA (2301) (CP: 2301)","2301","BELLA ITALIA (2301)","SANTA_FE","DE LOS RIOS","48","MIGUEL BERNERI"]
[null,"BERABEVU 1 (CP: 2639)","2639","BERABEVU 1","SANTA_FE","DE LOS RIOS","5","GABRIEL LO NOSTRO"]
[null,"BIGAND (CP: 2177)","2177","BIGAND","SANTA_FE","DE LOS RIOS","5","GABRIEL LO NOSTRO"]
[null,"BOMBAL (CP: 2179)","2179","BOMBAL","SANTA_FE","DE LOS RIOS","5","GABRIEL LO NOSTRO"]
[null,"BOUQUET (CP: 2523)","2523","BOUQUET","SANTA_FE","DE LOS RIOS","5","GABRIEL LO NOSTRO"]
[null,"BUSTIZA - SANTA FE - (CP: 2501)","2501","BUSTIZA - SANTA FE -","SANTA_FE","DE LOS RIOS","48","MIGUEL BERNERI"]
[null,"CACIQUE AREAKAIKIN (CP: 3041)","3041","CACIQUE AREAKAIKIN","SANTA_FE","DE LOS RIOS","48","MIGUEL BERNERI"]
[null,"CAFFERATA (CP: 2643)","2643","CAFFERATA","SANTA_FE","DE LOS RIOS","5","GABRIEL LO NOSTRO"]
[null,"CALCHAQUI (CP: 3050)","3050","CALCHAQUI","SANTA_FE","DE LOS RIOS","48","MIGUEL BERNERI"]
[null,"CAMPO ANDINO (CP: 3021)","3021","CAMPO ANDINO","SANTA_FE","DE LOS RIOS","48","MIGUEL BERNERI"]
[null,"CAMPO CRESPO (CP: 3001)","3001","CAMPO CRESPO","SANTA_FE","DE LOS RIOS","48","MIGUEL BERNERI"]
[null,"CAMPO HARDY (CP: 3592)","3592","CAMPO HARDY","SANTA_FE","DE LOS RIOS","48","MIGUEL BERNERI"]
[null,"CANDIOTI (CP: 3018)","3018","CANDIOTI","SANTA_FE","DE LOS RIOS","48","MIGUEL BERNERI"]
[null,"CAÑADA DE GOMEZ (CP: 2500)","2500","CAÑADA DE GOMEZ","SANTA_FE","DE LOS RIOS","48","MIGUEL BERNERI"]
[null,"CAÑADA RICA (CP: 2105)","2105","CAÑADA RICA","SANTA_FE","DE LOS RIOS","5","GABRIEL LO NOSTRO"]
[null,"CAÑADA ROSQUIN (CP: 2454)","2454","CAÑADA ROSQUIN","SANTA_FE","DE LOS RIOS","48","MIGUEL BERNERI"]
[null,"CAP.BERMUDEZ (CP: 2154)","2154","CAP.BERMUDEZ","SANTA_FE","DE LOS RIOS","5","GABRIEL LO NOSTRO"]
[null,"CARCARAÑA (CP: 2138)","2138","CARCARAÑA","SANTA_FE","DE LOS RIOS","5","GABRIEL LO NOSTRO"]
[null,"CARLOS PELLEGRINI (CP: 2453)","2453","CARLOS PELLEGRINI","SANTA_FE","DE LOS RIOS","48","MIGUEL BERNERI"]
[null,"CARMEN (CP: 2618)","2618","CARMEN","SANTA_FE","DE LOS RIOS","5","GABRIEL LO NOSTRO"]
[null,"CARMEN DEL SAUCE (CP: 2109)","2109","CARMEN DEL SAUCE","SANTA_FE","DE LOS RIOS","5","GABRIEL LO NOSTRO"]
[null,"CARRERAS (CP: 2729)","2729","CARRERAS","SANTA_FE","DE LOS RIOS","5","GABRIEL LO NOSTRO"]
[null,"CARRIZALES (CP: 2218)","2218","CARRIZALES","SANTA_FE","DE LOS RIOS","5","GABRIEL LO NOSTRO"]
[null,"CASALEGNO (CP: 2248)","2248","CASALEGNO","SANTA_FE","DE LOS RIOS","48","MIGUEL BERNERI"]
[null,"CASAS (CP: 2148)","2148","CASAS","SANTA_FE","DE LOS RIOS","48","MIGUEL BERNERI"]
[null,"CASERATA (CP: 2640)","2640","CASERATA","SANTA_FE","DE LOS RIOS","5","GABRIEL LO NOSTRO"]
[null,"CASILDA (CP: 2170)","2170","CASILDA","SANTA_FE","DE LOS RIOS","5","GABRIEL LO NOSTRO"]
[null,"CAVOUR (CP: 3081)","3081","CAVOUR","SANTA_FE","DE LOS RIOS","48","MIGUEL BERNERI"]
[null,"CAYASTA (CP: 3001)","3001","CAYASTA","SANTA_FE","DE LOS RIOS","48","MIGUEL BERNERI"]
[null,"CAYASTACITO (CP: 3058)","3058","CAYASTACITO","SANTA_FE","DE LOS RIOS","48","MIGUEL BERNERI"]
[null,"CDA.DEL UCLE (CP: 2635)","2635","CDA.DEL UCLE","SANTA_FE","DE LOS RIOS","5","GABRIEL LO NOSTRO"]
[null,"CENTENO (CP: 2148)","2148","CENTENO","SANTA_FE","DE LOS RIOS","48","MIGUEL BERNERI"]
[null,"CERES (CP: 2340)","2340","CERES","SANTA_FE","DE LOS RIOS","48","MIGUEL BERNERI"]
[null,"CHABAS (CP: 2173)","2173","CHABAS","SANTA_FE","DE LOS RIOS","5","GABRIEL LO NOSTRO"]
[null,"CHAÑAR LADEADO (CP: 2643)","2643","CHAÑAR LADEADO","SANTA_FE","DE LOS RIOS","5","GABRIEL LO NOSTRO"]
[null,"CHAPUY-STA.FE (CP: 2603)","2603","CHAPUY-STA.FE","SANTA_FE","DE LOS RIOS","5","GABRIEL LO NOSTRO"]
[null,"CHOVET (CP: 2633)","2633","CHOVET","SANTA_FE","DE LOS RIOS","5","GABRIEL LO NOSTRO"]
[null,"CHRISTOPHERSEN (CP: 6039)","6039","CHRISTOPHERSEN","SANTA_FE","DE LOS RIOS","5","GABRIEL LO NOSTRO"]
[null,"CLASON (CP: 2146)","2146","CLASON","SANTA_FE","DE LOS RIOS","48","MIGUEL BERNERI"]
[null,"CLUCELLAS (CP: 2407)","2407","CLUCELLAS","SANTA_FE","DE LOS RIOS","48","MIGUEL BERNERI"]
[null,"CNEL.ARNOLD (CP: 2123)","2123","CNEL.ARNOLD","SANTA_FE","DE LOS RIOS","48","MIGUEL BERNERI"]
[null,"CNEL.BOGADO (CP: 2103)","2103","CNEL.BOGADO","SANTA_FE","DE LOS RIOS","5","GABRIEL LO NOSTRO"]
[null,"COL.BELGRANO (CP: 2257)","2257","COL.BELGRANO","SANTA_FE","DE LOS RIOS","48","MIGUEL BERNERI"]
[null,"COL.CASTELAR (CP: 2401)","2401","COL.CASTELAR","SANTA_FE","DE LOS RIOS","48","MIGUEL BERNERI"]
[null,"COLASTINE (CP: 3001)","3001","COLASTINE","SANTA_FE","DE LOS RIOS","48","MIGUEL BERNERI"]
[null,"COLON.ALDAO (CP: 2317)","2317","COLON.ALDAO","SANTA_FE","DE LOS RIOS","48","MIGUEL BERNERI"]
[null,"COLONIA BELLA ITALIA (CP: 2300)","2300","COLONIA BELLA ITALIA","SANTA_FE","DE LOS RIOS","48","MIGUEL BERNERI"]
[null,"COLONIA DURAN (CP: 3553)","3553","COLONIA DURAN","SANTA_FE","DE LOS RIOS","48","MIGUEL BERNERI"]
[null,"COLONIA LA PENCA (CP: 3045)","3045","COLONIA LA PENCA","SANTA_FE","DE LOS RIOS","48","MIGUEL BERNERI"]
[null,"COLONIA MARGARITA (CP: 2443)","2443","COLONIA MARGARITA","SANTA_FE","DE LOS RIOS","48","MIGUEL BERNERI"]
[null,"COLONIA MASCIAS (CP: 3001)","3001","COLONIA MASCIAS","SANTA_FE","DE LOS RIOS","48","MIGUEL BERNERI"]
[null,"COLONIA MASCIAS (CP: 3048)","3048","COLONIA MASCIAS","SANTA_FE","DE LOS RIOS","48","MIGUEL BERNERI"]
[null,"COLONIA MASCIAS-STA.FE- (CP: 3101)","3101","COLONIA MASCIAS-STA.FE-","SANTA_FE","DE LOS RIOS","5","GABRIEL LO NOSTRO"]
[null,"COLONIA MATILDE (CP: 3013)","3013","COLONIA MATILDE","SANTA_FE","DE LOS RIOS","48","MIGUEL BERNERI"]
[null,"COLONIA MEDICI (CP: 2144)","2144","COLONIA MEDICI","SANTA_FE","DE LOS RIOS","48","MIGUEL BERNERI"]
[null,"COLONIA ROSA (CP: 2347)","2347","COLONIA ROSA","SANTA_FE","DE LOS RIOS","48","MIGUEL BERNERI"]
[null,"COLONIA SILVA (CP: 3043)","3043","COLONIA SILVA","SANTA_FE","DE LOS RIOS","48","MIGUEL BERNERI"]
[null,"COLONIA TERESA -SANTA FE (CP: 3005)","3005","COLONIA TERESA -SANTA FE","SANTA_FE","DE LOS RIOS","48","MIGUEL BERNERI"]
[null,"CORONDA (CP: 2240)","2240","CORONDA","SANTA_FE","DE LOS RIOS","48","MIGUEL BERNERI"]
[null,"CORONEL DOMINGUEZ (CP: 2105)","2105","CORONEL DOMINGUEZ","SANTA_FE","DE LOS RIOS","5","GABRIEL LO NOSTRO"]
[null,"CORONEL DOMINGUEZ (CP: 2115)","2115","CORONEL DOMINGUEZ","SANTA_FE","DE LOS RIOS","5","GABRIEL LO NOSTRO"]
[null,"CORREA (CP: 2506)","2506","CORREA","SANTA_FE","DE LOS RIOS","5","GABRIEL LO NOSTRO"]
[null,"CUATRO ESQUINAS (CP: 2639)","2639","CUATRO ESQUINAS","SANTA_FE","DE LOS RIOS","5","GABRIEL LO NOSTRO"]
[null,"CURUPAITY (CP: 2342)","2342","CURUPAITY","SANTA_FE","DE LOS RIOS","48","MIGUEL BERNERI"]
[null,"DESVIO ARIJON (CP: 2242)","2242","DESVIO ARIJON","SANTA_FE","DE LOS RIOS","48","MIGUEL BERNERI"]
[null,"DIAZ (CP: 2222)","2222","DIAZ","SANTA_FE","DE LOS RIOS","5","GABRIEL LO NOSTRO"]
[null,"DIEGO DE ALVEAR (CP: 6036)","6036","DIEGO DE ALVEAR","SANTA_FE","DE LOS RIOS","5","GABRIEL LO NOSTRO"]
[null,"EL ARAZA (CP: 3563)","3563","EL ARAZA","SANTA_FE","DE LOS RIOS","48","MIGUEL BERNERI"]
[null,"EL CARMEN DE AVELLANEDA (CP: 3561)","3561","EL CARMEN DE AVELLANEDA","SANTA_FE","DE LOS RIOS","48","MIGUEL BERNERI"]
[null,"EL NOCHERO (CP: 3061)","3061","EL NOCHERO","SANTA_FE","DE LOS RIOS","48","MIGUEL BERNERI"]
[null,"EL RABON -SANTA FE- (CP: 3592)","3592","EL RABON -SANTA FE-","SANTA_FE","DE LOS RIOS","48","MIGUEL BERNERI"]
[null,"EL SOMBRERITO-STA.FE- (CP: 3585)","3585","EL SOMBRERITO-STA.FE-","SANTA_FE","DE LOS RIOS","48","MIGUEL BERNERI"]
[null,"EL TREBOL (CP: 2535)","2535","EL TREBOL","SANTA_FE","DE LOS RIOS","5","GABRIEL LO NOSTRO"]
[null,"ELISA (CP: 3029)","3029","ELISA","SANTA_FE","DE LOS RIOS","48","MIGUEL BERNERI"]
[null,"ELORTONDO (CP: 2732)","2732","ELORTONDO","SANTA_FE","DE LOS RIOS","5","GABRIEL LO NOSTRO"]
[null,"EMILIA (CP: 3036)","3036","EMILIA","SANTA_FE","DE LOS RIOS","48","MIGUEL BERNERI"]
[null,"EMILIA (CP: 3036)","3036","EMILIA","SANTA_FE","DE LOS RIOS","48","MIGUEL BERNERI"]
[null,"EMPAL.V.CONSTIT. (CP: 2918)","2918","EMPAL.V.CONSTIT.","SANTA_FE","DE LOS RIOS","5","GABRIEL LO NOSTRO"]
[null,"EMPALME SAN CARLOS (CP: 3007)","3007","EMPALME SAN CARLOS","SANTA_FE","DE LOS RIOS","48","MIGUEL BERNERI"]
[null,"ESMERALDA (CP: 2456)","2456","ESMERALDA","SANTA_FE","DE LOS RIOS","48","MIGUEL BERNERI"]
[null,"ESPERANZA (CP: 3080)","3080","ESPERANZA","SANTA_FE","DE LOS RIOS","48","MIGUEL BERNERI"]
[null,"ESTRADA (CP: 2403)","2403","ESTRADA","SANTA_FE","DE LOS RIOS","48","MIGUEL BERNERI"]
[null,"EUSEBIA (CP: 2317)","2317","EUSEBIA","SANTA_FE","DE LOS RIOS","48","MIGUEL BERNERI"]
[null,"F.L.BELTRAN (CP: 2156)","2156","F.L.BELTRAN","SANTA_FE","DE LOS RIOS","5","GABRIEL LO NOSTRO"]
[null,"FELICIA (CP: 3087)","3087","FELICIA","SANTA_FE","DE LOS RIOS","48","MIGUEL BERNERI"]
[null,"FIGHIERA (CP: 2126)","2126","FIGHIERA","SANTA_FE","DE LOS RIOS","5","GABRIEL LO NOSTRO"]
[null,"FIRMAT (CP: 2630)","2630","FIRMAT","SANTA_FE","DE LOS RIOS","5","GABRIEL LO NOSTRO"]
[null,"FLOR DE ORO (CP: 3575)","3575","FLOR DE ORO","SANTA_FE","DE LOS RIOS","48","MIGUEL BERNERI"]
[null,"FLORENCIA (CP: 3516)","3516","FLORENCIA","SANTA_FE","DE LOS RIOS","48","MIGUEL BERNERI"]
[null,"FORTIN CHARRUA (CP: 3060)","3060","FORTIN CHARRUA","SANTA_FE","DE LOS RIOS","48","MIGUEL BERNERI"]
[null,"FRANCK (CP: 3009)","3009","FRANCK","SANTA_FE","DE LOS RIOS","48","MIGUEL BERNERI"]
[null,"FRONTERA (CP: 2438)","2438","FRONTERA","SANTA_FE","DE LOS RIOS","48","MIGUEL BERNERI"]
[null,"FUENTES (CP: 2123)","2123","FUENTES","SANTA_FE","DE LOS RIOS","48","MIGUEL BERNERI"]
[null,"FUNES (CP: 2132)","2132","FUNES","SANTA_FE","DE LOS RIOS","5","GABRIEL LO NOSTRO"]
[null,"GALVEZ (CP: 2252)","2252","GALVEZ","SANTA_FE","DE LOS RIOS","48","MIGUEL BERNERI"]
[null,"GATO COLORADO (CP: 3541)","3541","GATO COLORADO","SANTA_FE","DE LOS RIOS","48","MIGUEL BERNERI"]
[null,"GDOR.CRESPO (CP: 3044)","3044","GDOR.CRESPO","SANTA_FE","DE LOS RIOS","48","MIGUEL BERNERI"]
[null,"GESSLER (CP: 2253)","2253","GESSLER","SANTA_FE","DE LOS RIOS","48","MIGUEL BERNERI"]
[null,"GODEKEN (CP: 2639)","2639","GODEKEN","SANTA_FE","DE LOS RIOS","5","GABRIEL LO NOSTRO"]
[null,"GODEKEN (CP: 2640)","2640","GODEKEN","SANTA_FE","DE LOS RIOS","5","GABRIEL LO NOSTRO"]
[null,"GODOY (CP: 2921)","2921","GODOY","SANTA_FE","DE LOS RIOS","5","GABRIEL LO NOSTRO"]
[null,"GRAL. LAGOS (CP: 2126)","2126","GRAL. LAGOS","SANTA_FE","DE LOS RIOS","5","GABRIEL LO NOSTRO"]
[null,"GRAL.GELLY (CP: 2701)","2701","GRAL.GELLY","SANTA_FE","DE LOS RIOS","5","GABRIEL LO NOSTRO"]
[null,"GRAL.LOPEZ (CP: 2255)","2255","GRAL.LOPEZ","SANTA_FE","DE LOS RIOS","48","MIGUEL BERNERI"]
[null,"GRANAD.BAIGORRIA (CP: 2152)","2152","GRANAD.BAIGORRIA","SANTA_FE","DE LOS RIOS","5","GABRIEL LO NOSTRO"]
[null,"GRUTLY (CP: 3083)","3083","GRUTLY","SANTA_FE","DE LOS RIOS","48","MIGUEL BERNERI"]
[null,"GUADALUPE NORTE (CP: 3574)","3574","GUADALUPE NORTE","SANTA_FE","DE LOS RIOS","48","MIGUEL BERNERI"]
[null,"HELVECIA - STA. FE (CP: 3003)","3003","HELVECIA - STA. FE","SANTA_FE","DE LOS RIOS","48","MIGUEL BERNERI"]
[null,"HERSILIA (CP: 2352)","2352","HERSILIA","SANTA_FE","DE LOS RIOS","48","MIGUEL BERNERI"]
[null,"HUANQUEROS - STA. FE (CP: 3076)","3076","HUANQUEROS - STA. FE","SANTA_FE","DE LOS RIOS","48","MIGUEL BERNERI"]
[null,"HUGHES (CP: 2725)","2725","HUGHES","SANTA_FE","DE LOS RIOS","5","GABRIEL LO NOSTRO"]
[null,"HUMBERTO 1° (CP: 2309)","2309","HUMBERTO 1°","SANTA_FE","DE LOS RIOS","48","MIGUEL BERNERI"]
[null,"HUMBOLDT (CP: 3081)","3081","HUMBOLDT","SANTA_FE","DE LOS RIOS","48","MIGUEL BERNERI"]
[null,"IBERLUCEA (CP: 2142)","2142","IBERLUCEA","SANTA_FE","DE LOS RIOS","5","GABRIEL LO NOSTRO"]
[null,"INTILLACO - STA. FE (CP: 3551)","3551","INTILLACO - STA. FE","SANTA_FE","DE LOS RIOS","48","MIGUEL BERNERI"]
[null,"J.B. MOLINA (CP: 2104)","2104","J.B. MOLINA","SANTA_FE","DE LOS RIOS","5","GABRIEL LO NOSTRO"]
[null,"JOSEFINA (CP: 2403)","2403","JOSEFINA","SANTA_FE","DE LOS RIOS","48","MIGUEL BERNERI"]
[null,"JUAN B. MOLINA (CP: 2103)","2103","JUAN B. MOLINA","SANTA_FE","DE LOS RIOS","5","GABRIEL LO NOSTRO"]
[null,"JUNCAL (CP: 2723)","2723","JUNCAL","SANTA_FE","DE LOS RIOS","5","GABRIEL LO NOSTRO"]
[null,"LA CAROLINA (CP: 2105)","2105","LA CAROLINA","SANTA_FE","DE LOS RIOS","5","GABRIEL LO NOSTRO"]
[null,"LA CRIOLLA (CP: 3052)","3052","LA CRIOLLA","SANTA_FE","DE LOS RIOS","48","MIGUEL BERNERI"]
[null,"LA GALLARETA (CP: 3057)","3057","LA GALLARETA","SANTA_FE","DE LOS RIOS","48","MIGUEL BERNERI"]
[null,"LA GALLARETA (CP: 3067)","3067","LA GALLARETA","SANTA_FE","DE LOS RIOS","48","MIGUEL BERNERI"]
[null,"LA LOLA (CP: 3567)","3567","LA LOLA","SANTA_FE","DE LOS RIOS","48","MIGUEL BERNERI"]
[null,"LA PELADA (CP: 3027)","3027","LA PELADA","SANTA_FE","DE LOS RIOS","48","MIGUEL BERNERI"]
[null,"LA RIBERA (CP: 2204)","2204","LA RIBERA","SANTA_FE","DE LOS RIOS","5","GABRIEL LO NOSTRO"]
[null,"LA SARITA (CP: 3563)","3563","LA SARITA","SANTA_FE","DE LOS RIOS","48","MIGUEL BERNERI"]
[null,"LABORDEBOIS (CP: 2726)","2726","LABORDEBOIS","SANTA_FE","DE LOS RIOS","5","GABRIEL LO NOSTRO"]
[null,"LAGUNA PAIVA (CP: 3020)","3020","LAGUNA PAIVA","SANTA_FE","DE LOS RIOS","48","MIGUEL BERNERI"]
[null,"LANDETA (CP: 2531)","2531","LANDETA","SANTA_FE","DE LOS RIOS","5","GABRIEL LO NOSTRO"]
[null,"LANTERI (CP: 3575)","3575","LANTERI","SANTA_FE","DE LOS RIOS","48","MIGUEL BERNERI"]
[null,"LARRECHEA (CP: 2241)","2241","LARRECHEA","SANTA_FE","DE LOS RIOS","48","MIGUEL BERNERI"]
[null,"LAS GARZAS (CP: 3574)","3574","LAS GARZAS","SANTA_FE","DE LOS RIOS","48","MIGUEL BERNERI"]
[null,"LAS PAREJAS (CP: 2505)","2505","LAS PAREJAS","SANTA_FE","DE LOS RIOS","5","GABRIEL LO NOSTRO"]
[null,"LAS PETACAS (CP: 2441)","2441","LAS PETACAS","SANTA_FE","DE LOS RIOS","48","MIGUEL BERNERI"]
[null,"LAS PETACAS (CP: 2451)","2451","LAS PETACAS","SANTA_FE","DE LOS RIOS","48","MIGUEL BERNERI"]
[null,"LAS ROSAS (CP: 2520)","2520","LAS ROSAS","SANTA_FE","DE LOS RIOS","5","GABRIEL LO NOSTRO"]
[null,"LAS ROSAS (CP: 2530)","2530","LAS ROSAS","SANTA_FE","DE LOS RIOS","5","GABRIEL LO NOSTRO"]
[null,"LAS TOSCAS (CP: 3586)","3586","LAS TOSCAS","SANTA_FE","DE LOS RIOS","48","MIGUEL BERNERI"]
[null,"LEHMANN (CP: 2305)","2305","LEHMANN","SANTA_FE","DE LOS RIOS","48","MIGUEL BERNERI"]
[null,"LLAMBI CAMPBELL (CP: 3036)","3036","LLAMBI CAMPBELL","SANTA_FE","DE LOS RIOS","48","MIGUEL BERNERI"]
[null,"LOGROÑO - STA. FE (CP: 3066)","3066","LOGROÑO - STA. FE","SANTA_FE","DE LOS RIOS","48","MIGUEL BERNERI"]
[null,"LOMA ALTA (CP: 2253)","2253","LOMA ALTA","SANTA_FE","DE LOS RIOS","48","MIGUEL BERNERI"]
[null,"LOMA VERDE (CP: 2117)","2117","LOMA VERDE","SANTA_FE","DE LOS RIOS","5","GABRIEL LO NOSTRO"]
[null,"LOS AMORES (CP: 3551)","3551","LOS AMORES","SANTA_FE","DE LOS RIOS","48","MIGUEL BERNERI"]
[null,"LOS CARDOS (CP: 2533)","2533","LOS CARDOS","SANTA_FE","DE LOS RIOS","5","GABRIEL LO NOSTRO"]
[null,"LOS LAPACHOS (CP: 3575)","3575","LOS LAPACHOS","SANTA_FE","DE LOS RIOS","48","MIGUEL BERNERI"]
[null,"LOS LAURESLES (CP: 3567)","3567","LOS LAURESLES","SANTA_FE","DE LOS RIOS","48","MIGUEL BERNERI"]
[null,"LOS MOLINOS (CP: 2181)","2181","LOS MOLINOS","SANTA_FE","DE LOS RIOS","5","GABRIEL LO NOSTRO"]
[null,"LOS NOGALES (CP: 2183)","2183","LOS NOGALES","SANTA_FE","DE LOS RIOS","5","GABRIEL LO NOSTRO"]
[null,"LOS QUIRQUINCHOS (CP: 2637)","2637","LOS QUIRQUINCHOS","SANTA_FE","DE LOS RIOS","5","GABRIEL LO NOSTRO"]
[null,"LUCIO V. LOPEZ (CP: 2142)","2142","LUCIO V. LOPEZ","SANTA_FE","DE LOS RIOS","5","GABRIEL LO NOSTRO"]
[null,"LUIS PALACIOS (CP: 2142)","2142","LUIS PALACIOS","SANTA_FE","DE LOS RIOS","5","GABRIEL LO NOSTRO"]
[null,"MACIEL (CP: 2208)","2208","MACIEL","SANTA_FE","DE LOS RIOS","5","GABRIEL LO NOSTRO"]
[null,"MAGGIOLO (CP: 2622)","2622","MAGGIOLO","SANTA_FE","DE LOS RIOS","5","GABRIEL LO NOSTRO"]
[null,"MALABRIGO (CP: 3572)","3572","MALABRIGO","SANTA_FE","DE LOS RIOS","48","MIGUEL BERNERI"]
[null,"MANUCHO (CP: 3026)","3026","MANUCHO","SANTA_FE","DE LOS RIOS","48","MIGUEL BERNERI"]
[null,"MARGARITA (CP: 3056)","3056","MARGARITA","SANTA_FE","DE LOS RIOS","48","MIGUEL BERNERI"]
[null,"MARIA EUGENIA (CP: 3072)","3072","MARIA EUGENIA","SANTA_FE","DE LOS RIOS","48","MIGUEL BERNERI"]
[null,"MARIA JUANA (CP: 2445)","2445","MARIA JUANA","SANTA_FE","DE LOS RIOS","48","MIGUEL BERNERI"]
[null,"MARIA LUISA (CP: 3025)","3025","MARIA LUISA","SANTA_FE","DE LOS RIOS","48","MIGUEL BERNERI"]
[null,"MARIA SUSANA (CP: 2527)","2527","MARIA SUSANA","SANTA_FE","DE LOS RIOS","5","GABRIEL LO NOSTRO"]
[null,"MARIA TERESA (CP: 2609)","2609","MARIA TERESA","SANTA_FE","DE LOS RIOS","5","GABRIEL LO NOSTRO"]
[null,"MATILDE (CP: 3013)","3013","MATILDE","SANTA_FE","DE LOS RIOS","48","MIGUEL BERNERI"]
[null,"MATILDE (CP: 3103)","3103","MATILDE","SANTA_FE","DE LOS RIOS","5","GABRIEL LO NOSTRO"]
[null,"MAXIMO PAZ (CP: 2115)","2115","MAXIMO PAZ","SANTA_FE","DE LOS RIOS","5","GABRIEL LO NOSTRO"]
[null,"MELINCUE (CP: 2728)","2728","MELINCUE","SANTA_FE","DE LOS RIOS","5","GABRIEL LO NOSTRO"]
[null,"MOISES VILLE (CP: 2313)","2313","MOISES VILLE","SANTA_FE","DE LOS RIOS","48","MIGUEL BERNERI"]
[null,"MONJE (CP: 2212)","2212","MONJE","SANTA_FE","DE LOS RIOS","5","GABRIEL LO NOSTRO"]
[null,"MONTE FLORES (CP: 2101)","2101","MONTE FLORES","SANTA_FE","DE LOS RIOS","5","GABRIEL LO NOSTRO"]
[null,"MONTE VERA (CP: 3014)","3014","MONTE VERA","SANTA_FE","DE LOS RIOS","48","MIGUEL BERNERI"]
[null,"MONTES DE OCA (CP: 2521)","2521","MONTES DE OCA","SANTA_FE","DE LOS RIOS","5","GABRIEL LO NOSTRO"]
[null,"MURPHY (CP: 2601)","2601","MURPHY","SANTA_FE","DE LOS RIOS","5","GABRIEL LO NOSTRO"]
[null,"N.BRUZONE (CP: 2085)","2085","N.BRUZONE","SANTA_FE","DE LOS RIOS","5","GABRIEL LO NOSTRO"]
[null,"NELSON (CP: 3032)","3032","NELSON","SANTA_FE","DE LOS RIOS","48","MIGUEL BERNERI"]
[null,"NICANOR E.MOLINAS (CP: 3563)","3563","NICANOR E.MOLINAS","SANTA_FE","DE LOS RIOS","48","MIGUEL BERNERI"]
[null,"NUEVA ITALIA-SANTA FE (CP: 3074)","3074","NUEVA ITALIA-SANTA FE","SANTA_FE","DE LOS RIOS","48","MIGUEL BERNERI"]
[null,"NUEVO TORINO (CP: 3087)","3087","NUEVO TORINO","SANTA_FE","DE LOS RIOS","48","MIGUEL BERNERI"]
[null,"NVA.LEHMANN (CP: 2326)","2326","NVA.LEHMANN","SANTA_FE","DE LOS RIOS","48","MIGUEL BERNERI"]
[null,"OLIVEROS (CP: 2206)","2206","OLIVEROS","SANTA_FE","DE LOS RIOS","5","GABRIEL LO NOSTRO"]
[null,"PALACIOS (CP: 2326)","2326","PALACIOS","SANTA_FE","DE LOS RIOS","48","MIGUEL BERNERI"]
[null,"PARAJE LOS JACINTOS (CP: 3051)","3051","PARAJE LOS JACINTOS","SANTA_FE","DE LOS RIOS","48","MIGUEL BERNERI"]
[null,"PAVON ARRIBA (CP: 2109)","2109","PAVON ARRIBA","SANTA_FE","DE LOS RIOS","5","GABRIEL LO NOSTRO"]
[null,"PEDRO GOMEZ CELLO (CP: 3054)","3054","PEDRO GOMEZ CELLO","SANTA_FE","DE LOS RIOS","48","MIGUEL BERNERI"]
[null,"PEREZ (CP: 2121)","2121","PEREZ","SANTA_FE","DE LOS RIOS","5","GABRIEL LO NOSTRO"]
[null,"PEYRANO (CP: 2113)","2113","PEYRANO","SANTA_FE","DE LOS RIOS","5","GABRIEL LO NOSTRO"]
[null,"PIAMONTE (CP: 2529)","2529","PIAMONTE","SANTA_FE","DE LOS RIOS","5","GABRIEL LO NOSTRO"]
[null,"PILAR (CP: 3085)","3085","PILAR","SANTA_FE","DE LOS RIOS","48","MIGUEL BERNERI"]
[null,"PIÑERO (CP: 2119)","2119","PIÑERO","SANTA_FE","DE LOS RIOS","5","GABRIEL LO NOSTRO"]
[null,"POZO BORRADO (CP: 3061)","3061","POZO BORRADO","SANTA_FE","DE LOS RIOS","48","MIGUEL BERNERI"]
[null,"PRESIDENTE ROCA (CP: 2301)","2301","PRESIDENTE ROCA","SANTA_FE","DE LOS RIOS","48","MIGUEL BERNERI"]
[null,"PROGRESO (CP: 3023)","3023","PROGRESO","SANTA_FE","DE LOS RIOS","48","MIGUEL BERNERI"]
[null,"PTO GENERAL SAN MARTIN (CP: 2202)","2202","PTO GENERAL SAN MARTIN","SANTA_FE","DE LOS RIOS","5","GABRIEL LO NOSTRO"]
[null,"PTO.GRAL.S.MARTIN (CP: 2202)","2202","PTO.GRAL.S.MARTIN","SANTA_FE","DE LOS RIOS","5","GABRIEL LO NOSTRO"]
[null,"PUEBLO ESHER (CP: 2216)","2216","PUEBLO ESHER","SANTA_FE","DE LOS RIOS","5","GABRIEL LO NOSTRO"]
[null,"PUEBLO ESTHER (CP: 2126)","2126","PUEBLO ESTHER","SANTA_FE","DE LOS RIOS","48","MIGUEL BERNERI"]
[null,"PUEBLO MUÑOZ (CP: 2119)","2119","PUEBLO MUÑOZ","SANTA_FE","DE LOS RIOS","5","GABRIEL LO NOSTRO"]
[null,"PUEBLO RAMONA (CP: 2301)","2301","PUEBLO RAMONA","SANTA_FE","DE LOS RIOS","48","MIGUEL BERNERI"]
[null,"PUERTO GABOTO (CP: 2208)","2208","PUERTO GABOTO","SANTA_FE","DE LOS RIOS","5","GABRIEL LO NOSTRO"]
[null,"PUJATO (CP: 2123)","2123","PUJATO","SANTA_FE","DE LOS RIOS","48","MIGUEL BERNERI"]
[null,"RAFAELA (CP: 2300)","2300","RAFAELA","SANTA_FE","DE LOS RIOS","48","MIGUEL BERNERI"]
[null,"RAMAYON (CP: 3042)","3042","RAMAYON","SANTA_FE","DE LOS RIOS","48","MIGUEL BERNERI"]
[null,"RECONQUISTA (CP: 3560)","3560","RECONQUISTA","SANTA_FE","DE LOS RIOS","48","MIGUEL BERNERI"]
[null,"RECREO (CP: 3018)","3018","RECREO","SANTA_FE","DE LOS RIOS","48","MIGUEL BERNERI"]
[null,"RICARDONE (CP: 2201)","2201","RICARDONE","SANTA_FE","DE LOS RIOS","5","GABRIEL LO NOSTRO"]
[null,"ROLDAN (CP: 2134)","2134","ROLDAN","SANTA_FE","DE LOS RIOS","5","GABRIEL LO NOSTRO"]
[null,"ROMANG (CP: 3555)","3555","ROMANG","SANTA_FE","DE LOS RIOS","48","MIGUEL BERNERI"]
[null,"ROSARIO (CP: 2000)","2000","ROSARIO","SANTA_FE","DE LOS RIOS","5","GABRIEL LO NOSTRO"]
[null,"RUEDA (CP: 2921)","2921","RUEDA","SANTA_FE","DE LOS RIOS","5","GABRIEL LO NOSTRO"]
[null,"RUFINO (CP: 6100)","6100","RUFINO","SANTA_FE","DE LOS RIOS","5","GABRIEL LO NOSTRO"]
[null,"RUNCIMAN (CP: 2611)","2611","RUNCIMAN","SANTA_FE","DE LOS RIOS","5","GABRIEL LO NOSTRO"]
[null,"S.C.B.VISTA (CP: 2258)","2258","S.C.B.VISTA","SANTA_FE","DE LOS RIOS","48","MIGUEL BERNERI"]
[null,"S.GUILLERMO (CP: 2347)","2347","S.GUILLERMO","SANTA_FE","DE LOS RIOS","48","MIGUEL BERNERI"]
[null,"S.J.ESQUINA (CP: 2185)","2185","S.J.ESQUINA","SANTA_FE","DE LOS RIOS","5","GABRIEL LO NOSTRO"]
[null,"S.JERONIMO NORTE (CP: 3011)","3011","S.JERONIMO NORTE","SANTA_FE","DE LOS RIOS","48","MIGUEL BERNERI"]
[null,"S.JERONIMO SUD (CP: 2136)","2136","S.JERONIMO SUD","SANTA_FE","DE LOS RIOS","5","GABRIEL LO NOSTRO"]
[null,"SA PEREYRA (CP: 2318)","2318","SA PEREYRA","SANTA_FE","DE LOS RIOS","48","MIGUEL BERNERI"]
[null,"SA PEREYRA (CP: 3011)","3011","SA PEREYRA","SANTA_FE","DE LOS RIOS","48","MIGUEL BERNERI"]
[null,"SALADERO CABRAL (CP: 3001)","3001","SALADERO CABRAL","SANTA_FE","DE LOS RIOS","48","MIGUEL BERNERI"]
[null,"SALTO GRANDE (CP: 2142)","2142","SALTO GRANDE","SANTA_FE","DE LOS RIOS","5","GABRIEL LO NOSTRO"]
[null,"SAN AGUSTIN (CP: 3017)","3017","SAN AGUSTIN","SANTA_FE","DE LOS RIOS","48","MIGUEL BERNERI"]
[null,"SAN ANTONIO (CP: 2301)","2301","SAN ANTONIO","SANTA_FE","DE LOS RIOS","48","MIGUEL BERNERI"]
[null,"SAN CARLOS CENTRO (CP: 3013)","3013","SAN CARLOS CENTRO","SANTA_FE","DE LOS RIOS","48","MIGUEL BERNERI"]
[null,"SAN CARLOS NORTE (CP: 3009)","3009","SAN CARLOS NORTE","SANTA_FE","DE LOS RIOS","48","MIGUEL BERNERI"]
[null,"SAN CARLOS NORTE (CP: 3009)","3009","SAN CARLOS NORTE","SANTA_FE","DE LOS RIOS","48","MIGUEL BERNERI"]
[null,"SAN CARLOS SUD (CP: 3013)","3013","SAN CARLOS SUD","SANTA_FE","DE LOS RIOS","48","MIGUEL BERNERI"]
[null,"SAN CRISTOBAL (CP: 3070)","3070","SAN CRISTOBAL","SANTA_FE","DE LOS RIOS","48","MIGUEL BERNERI"]
[null,"SAN EDUARDO (CP: 2615)","2615","SAN EDUARDO","SANTA_FE","DE LOS RIOS","5","GABRIEL LO NOSTRO"]
[null,"SAN FABIAN (CP: 2242)","2242","SAN FABIAN","SANTA_FE","DE LOS RIOS","48","MIGUEL BERNERI"]
[null,"SAN GENARO (CP: 2146)","2146","SAN GENARO","SANTA_FE","DE LOS RIOS","48","MIGUEL BERNERI"]
[null,"SAN GENARO NORTE (CP: 2147)","2147","SAN GENARO NORTE","SANTA_FE","DE LOS RIOS","48","MIGUEL BERNERI"]
[null,"SAN GERONIMO DEL SAUCE (CP: 3009)","3009","SAN GERONIMO DEL SAUCE","SANTA_FE","DE LOS RIOS","48","MIGUEL BERNERI"]
[null,"SAN GREGORIO (CP: 2613)","2613","SAN GREGORIO","SANTA_FE","DE LOS RIOS","5","GABRIEL LO NOSTRO"]
[null,"SAN JAVIER (CP: 3005)","3005","SAN JAVIER","SANTA_FE","DE LOS RIOS","48","MIGUEL BERNERI"]
[null,"SAN JOAQUIN (CP: 3001)","3001","SAN JOAQUIN","SANTA_FE","DE LOS RIOS","48","MIGUEL BERNERI"]
[null,"SAN JOAQUIN (CP: 3005)","3005","SAN JOAQUIN","SANTA_FE","DE LOS RIOS","48","MIGUEL BERNERI"]
[null,"SAN JORGE (CP: 2451)","2451","SAN JORGE","SANTA_FE","DE LOS RIOS","48","MIGUEL BERNERI"]
[null,"SAN JOSE DEL RINCON (CP: 3001)","3001","SAN JOSE DEL RINCON","SANTA_FE","DE LOS RIOS","48","MIGUEL BERNERI"]
[null,"SAN JUSTO (CP: 3040)","3040","SAN JUSTO","SANTA_FE","DE LOS RIOS","48","MIGUEL BERNERI"]
[null,"SAN LORENZO (CP: 2200)","2200","SAN LORENZO","SANTA_FE","DE LOS RIOS","5","GABRIEL LO NOSTRO"]
[null,"SAN M.D.L.ESCOBAS (CP: 2449)","2449","SAN M.D.L.ESCOBAS","SANTA_FE","DE LOS RIOS","48","MIGUEL BERNERI"]
[null,"SAN MARIANO (CP: 3011)","3011","SAN MARIANO","SANTA_FE","DE LOS RIOS","48","MIGUEL BERNERI"]
[null,"SAN VICENTE (CP: 2447)","2447","SAN VICENTE","SANTA_FE","DE LOS RIOS","48","MIGUEL BERNERI"]
[null,"SANCTI SPIRITU (CP: 2617)","2617","SANCTI SPIRITU","SANTA_FE","DE LOS RIOS","5","GABRIEL LO NOSTRO"]
[null,"SANFORD (CP: 2161)","2161","SANFORD","SANTA_FE","DE LOS RIOS","5","GABRIEL LO NOSTRO"]
[null,"SANFORD (CP: 2173)","2173","SANFORD","SANTA_FE","DE LOS RIOS","5","GABRIEL LO NOSTRO"]
[null,"SANTA EMILIA (CP: 2725)","2725","SANTA EMILIA","SANTA_FE","DE LOS RIOS","5","GABRIEL LO NOSTRO"]
[null,"SANTA FE (CP: 3000)","3000","SANTA FE","SANTA_FE","DE LOS RIOS","48","MIGUEL BERNERI"]
[null,"SANTA ISABEL (CP: 2605)","2605","SANTA ISABEL","SANTA_FE","DE LOS RIOS","5","GABRIEL LO NOSTRO"]
[null,"SANTA MARGARITA (CP: 3061)","3061","SANTA MARGARITA","SANTA_FE","DE LOS RIOS","48","MIGUEL BERNERI"]
[null,"SANTA ROSA (CP: 3001)","3001","SANTA ROSA","SANTA_FE","DE LOS RIOS","48","MIGUEL BERNERI"]
[null,"SANTA ROSA DE CALCHINES (CP: 3001)","3001","SANTA ROSA DE CALCHINES","SANTA_FE","DE LOS RIOS","48","MIGUEL BERNERI"]
[null,"SANTA TERESA (CP: 2111)","2111","SANTA TERESA","SANTA_FE","DE LOS RIOS","5","GABRIEL LO NOSTRO"]
[null,"SANTO DOMINGO (CP: 3025)","3025","SANTO DOMINGO","SANTA_FE","DE LOS RIOS","48","MIGUEL BERNERI"]
[null,"SANTO TOME (CP: 3016)","3016","SANTO TOME","SANTA_FE","DE LOS RIOS","48","MIGUEL BERNERI"]
[null,"SANTURCE (CP: 3074)","3074","SANTURCE","SANTA_FE","DE LOS RIOS","48","MIGUEL BERNERI"]
[null,"SARGENTO CABRAL (CP: 2105)","2105","SARGENTO CABRAL","SANTA_FE","DE LOS RIOS","5","GABRIEL LO NOSTRO"]
[null,"SARMIENTO (CP: 3023)","3023","SARMIENTO","SANTA_FE","DE LOS RIOS","48","MIGUEL BERNERI"]
[null,"SARMIENTO (CP: 3024)","3024","SARMIENTO","SANTA_FE","DE LOS RIOS","48","MIGUEL BERNERI"]
[null,"SASTRE (CP: 2440)","2440","SASTRE","SANTA_FE","DE LOS RIOS","48","MIGUEL BERNERI"]
[null,"SAUCE VIEJO (CP: 3017)","3017","SAUCE VIEJO","SANTA_FE","DE LOS RIOS","48","MIGUEL BERNERI"]
[null,"SERODINO (CP: 2216)","2216","SERODINO","SANTA_FE","DE LOS RIOS","5","GABRIEL LO NOSTRO"]
[null,"SOLDINI (CP: 2107)","2107","SOLDINI","SANTA_FE","DE LOS RIOS","5","GABRIEL LO NOSTRO"]
[null,"SOLEDAD (CP: 3025)","3025","SOLEDAD","SANTA_FE","DE LOS RIOS","48","MIGUEL BERNERI"]
[null,"STA.CLARA DE SAGUIER (CP: 2405)","2405","STA.CLARA DE SAGUIER","SANTA_FE","DE LOS RIOS","48","MIGUEL BERNERI"]
[null,"SUARDI (CP: 2349)","2349","SUARDI","SANTA_FE","DE LOS RIOS","48","MIGUEL BERNERI"]
[null,"SUNCHALES (CP: 2322)","2322","SUNCHALES","SANTA_FE","DE LOS RIOS","48","MIGUEL BERNERI"]
[null,"SUSANA (CP: 2301)","2301","SUSANA","SANTA_FE","DE LOS RIOS","48","MIGUEL BERNERI"]
[null,"TACUARENDI (CP: 3587)","3587","TACUARENDI","SANTA_FE","DE LOS RIOS","48","MIGUEL BERNERI"]
[null,"TACURAL (CP: 2324)","2324","TACURAL","SANTA_FE","DE LOS RIOS","48","MIGUEL BERNERI"]
[null,"TEODELINA (CP: 6009)","6009","TEODELINA","SANTA_FE","DE LOS RIOS","5","GABRIEL LO NOSTRO"]
[null,"THEOBALD (CP: 2922)","2922","THEOBALD","SANTA_FE","DE LOS RIOS","5","GABRIEL LO NOSTRO"]
[null,"TIMBUES (CP: 2204)","2204","TIMBUES","SANTA_FE","DE LOS RIOS","5","GABRIEL LO NOSTRO"]
[null,"TOBA (CP: 3551)","3551","TOBA","SANTA_FE","DE LOS RIOS","48","MIGUEL BERNERI"]
[null,"TORTUGAS (CP: 2512)","2512","TORTUGAS","SANTA_FE","DE LOS RIOS","5","GABRIEL LO NOSTRO"]
[null,"TOSTADO (CP: 3060)","3060","TOSTADO","SANTA_FE","DE LOS RIOS","48","MIGUEL BERNERI"]
[null,"TOTORAS (CP: 2144)","2144","TOTORAS","SANTA_FE","DE LOS RIOS","48","MIGUEL BERNERI"]
[null,"TRAIL (CP: 2456)","2456","TRAIL","SANTA_FE","DE LOS RIOS","48","MIGUEL BERNERI"]
[null,"URANGA (CP: 2105)","2105","URANGA","SANTA_FE","DE LOS RIOS","5","GABRIEL LO NOSTRO"]
[null,"V.MUGUETA (CP: 2175)","2175","V.MUGUETA","SANTA_FE","DE LOS RIOS","5","GABRIEL LO NOSTRO"]
[null,"V.TRINIDAD (CP: 2345)","2345","V.TRINIDAD","SANTA_FE","DE LOS RIOS","48","MIGUEL BERNERI"]
[null,"VENADO TUERTO (CP: 2600)","2600","VENADO TUERTO","SANTA_FE","DE LOS RIOS","5","GABRIEL LO NOSTRO"]
[null,"VENADO TUERTO (CP: 2601)","2601","VENADO TUERTO","SANTA_FE","DE LOS RIOS","5","GABRIEL LO NOSTRO"]
[null,"VERA (CP: 3550)","3550","VERA","SANTA_FE","DE LOS RIOS","48","MIGUEL BERNERI"]
[null,"VERA MUJICA (CP: 3040)","3040","VERA MUJICA","SANTA_FE","DE LOS RIOS","48","MIGUEL BERNERI"]
[null,"VERA Y PINTADO (CP: 3054)","3054","VERA Y PINTADO","SANTA_FE","DE LOS RIOS","48","MIGUEL BERNERI"]
[null,"VIDELA (CP: 3048)","3048","VIDELA","SANTA_FE","DE LOS RIOS","48","MIGUEL BERNERI"]
[null,"VILLA CAÑAS (CP: 2607)","2607","VILLA CAÑAS","SANTA_FE","DE LOS RIOS","5","GABRIEL LO NOSTRO"]
[null,"VILLA CONSTITUCION (CP: 2919)","2919","VILLA CONSTITUCION","SANTA_FE","DE LOS RIOS","5","GABRIEL LO NOSTRO"]
[null,"VILLA ELOISA (CP: 2503)","2503","VILLA ELOISA","SANTA_FE","DE LOS RIOS","5","GABRIEL LO NOSTRO"]
[null,"VILLA GOB.GALVEZ (CP: 2124)","2124","VILLA GOB.GALVEZ","SANTA_FE","DE LOS RIOS","5","GABRIEL LO NOSTRO"]
[null,"VILLA LA RIBERA (CP: 2204)","2204","VILLA LA RIBERA","SANTA_FE","DE LOS RIOS","5","GABRIEL LO NOSTRO"]
[null,"VILLA MINETTI (CP: 3061)","3061","VILLA MINETTI","SANTA_FE","DE LOS RIOS","48","MIGUEL BERNERI"]
[null,"VILLA OCAMPO (CP: 3580)","3580","VILLA OCAMPO","SANTA_FE","DE LOS RIOS","48","MIGUEL BERNERI"]
[null,"VILLA SARALEGUI (CP: 3046)","3046","VILLA SARALEGUI","SANTA_FE","DE LOS RIOS","48","MIGUEL BERNERI"]
[null,"VILLADA (CP: 2173)","2173","VILLADA","SANTA_FE","DE LOS RIOS","5","GABRIEL LO NOSTRO"]
[null,"WHEELWRIGHT (CP: 2722)","2722","WHEELWRIGHT","SANTA_FE","DE LOS RIOS","5","GABRIEL LO NOSTRO"]
[null,"ZAVALLA (CP: 2123)","2123","ZAVALLA","SANTA_FE","DE LOS RIOS","48","MIGUEL BERNERI"]
[null,"ZAVALLA (CP: 2125)","2125","ZAVALLA","SANTA_FE","DE LOS RIOS","48","MIGUEL BERNERI"]
[null,"ZENON PEREYRA (CP: 2409)","2409","ZENON PEREYRA","SANTA_FE","DE LOS RIOS","48","MIGUEL BERNERI"]
[]
[]
[null,"SANTIAGO DEL ESTERO"]
[null,"CONCATENADO","CodigoPostal","Localidad","Provincia","Region","NRO AGENTE","NOMBRE"]
[null,"AÑATUYA (CP: 3760)","3760","AÑATUYA","SANTIAGO_DEL_ESTERO","LOS VALLES","19","ALFREDO PLASTINE"]
[null,"BANDERA (CP: 3064)","3064","BANDERA","SANTIAGO_DEL_ESTERO","LOS VALLES","19","ALFREDO PLASTINE"]
[null,"BELTRAN DEPTO ROBLES (CP: 4308)","4308","BELTRAN DEPTO ROBLES","SANTIAGO_DEL_ESTERO","LOS VALLES","19","ALFREDO PLASTINE"]
[null,"BELTRAN LORETO (CP: 4205)","4205","BELTRAN LORETO","SANTIAGO_DEL_ESTERO","LOS VALLES","19","ALFREDO PLASTINE"]
[null,"CAMPO GALLO (CP: 3747)","3747","CAMPO GALLO","SANTIAGO_DEL_ESTERO","LOS VALLES","19","ALFREDO PLASTINE"]
[null,"CLODOMIRA (CP: 4338)","4338","CLODOMIRA","SANTIAGO_DEL_ESTERO","LOS VALLES","19","ALFREDO PLASTINE"]
[null,"COLONIA ALPINA (CP: 2341)","2341","COLONIA ALPINA","SANTIAGO_DEL_ESTERO","LOS VALLES","19","ALFREDO PLASTINE"]
[null,"COLONIA DORA (CP: 4332)","4332","COLONIA DORA","SANTIAGO_DEL_ESTERO","LOS VALLES","19","ALFREDO PLASTINE"]
[null,"COLONIA EL SIMBOLAR (CP: 4354)","4354","COLONIA EL SIMBOLAR","SANTIAGO_DEL_ESTERO","LOS VALLES","19","ALFREDO PLASTINE"]
[null,"CORONEL RICO (CP: 3712)","3712","CORONEL RICO","SANTIAGO_DEL_ESTERO","LOS VALLES","19","ALFREDO PLASTINE"]
[null,"CUATRO BOCAS (CP: 3061)","3061","CUATRO BOCAS","SANTIAGO_DEL_ESTERO","LOS VALLES","19","ALFREDO PLASTINE"]
[null,"EL BOBADAL- SGO.DEL EST. (CP: 4187)","4187","EL BOBADAL- SGO.DEL EST.","SANTIAGO_DEL_ESTERO","LOS VALLES","19","ALFREDO PLASTINE"]
[null,"EL COLORADO (CP: 3741)","3741","EL COLORADO","SANTIAGO_DEL_ESTERO","LOS VALLES","19","ALFREDO PLASTINE"]
[null,"EL CUADRADO (CP: 3765)","3765","EL CUADRADO","SANTIAGO_DEL_ESTERO","LOS VALLES","19","ALFREDO PLASTINE"]
[null,"EL PALOMAR -DPTO.GIMEN. (CP: 4186)","4186","EL PALOMAR -DPTO.GIMEN.","SANTIAGO_DEL_ESTERO","LOS VALLES","19","ALFREDO PLASTINE"]
[null,"EL PUESTITO (CP: 4238)","4238","EL PUESTITO","SANTIAGO_DEL_ESTERO","LOS VALLES","19","ALFREDO PLASTINE"]
[null,"EL SIMBOLAR (CP: 4238)","4238","EL SIMBOLAR","SANTIAGO_DEL_ESTERO","LOS VALLES","19","ALFREDO PLASTINE"]
[null,"FERNANDEZ (CP: 4322)","4322","FERNANDEZ","SANTIAGO_DEL_ESTERO","LOS VALLES","19","ALFREDO PLASTINE"]
[null,"FORRES (CP: 4312)","4312","FORRES","SANTIAGO_DEL_ESTERO","LOS VALLES","19","ALFREDO PLASTINE"]
[null,"FRIAS (CP: 4230)","4230","FRIAS","SANTIAGO_DEL_ESTERO","LOS VALLES","19","ALFREDO PLASTINE"]
[null,"GARZA (CP: 4324)","4324","GARZA","SANTIAGO_DEL_ESTERO","LOS VALLES","19","ALFREDO PLASTINE"]
[null,"GUARDIA ESCOLTA (CP: 3062)","3062","GUARDIA ESCOLTA","SANTIAGO_DEL_ESTERO","LOS VALLES","19","ALFREDO PLASTINE"]
[null,"HERRRERA (CP: 4328)","4328","HERRRERA","SANTIAGO_DEL_ESTERO","LOS VALLES","19","ALFREDO PLASTINE"]
[null,"LA BANDA (CP: 4300)","4300","LA BANDA","SANTIAGO_DEL_ESTERO","LOS VALLES","19","ALFREDO PLASTINE"]
[null,"LA CAÑADA (CP: 4354)","4354","LA CAÑADA","SANTIAGO_DEL_ESTERO","LOS VALLES","19","ALFREDO PLASTINE"]
[null,"LA INVERNADA (CP: 4353)","4353","LA INVERNADA","SANTIAGO_DEL_ESTERO","LOS VALLES","19","ALFREDO PLASTINE"]
[null,"LA PALOMA (CP: 3736)","3736","LA PALOMA","SANTIAGO_DEL_ESTERO","LOS VALLES","19","ALFREDO PLASTINE"]
[null,"LAVALLE (CP: 4234)","4234","LAVALLE","SANTIAGO_DEL_ESTERO","LOS VALLES","19","ALFREDO PLASTINE"]
[null,"LORETO (CP: 4208)","4208","LORETO","SANTIAGO_DEL_ESTERO","LOS VALLES","19","ALFREDO PLASTINE"]
[null,"LOS CERRILLOS -CHOYA (CP: 4233)","4233","LOS CERRILLOS -CHOYA","SANTIAGO_DEL_ESTERO","LOS VALLES","19","ALFREDO PLASTINE"]
[null,"LOS JURIES (CP: 3763)","3763","LOS JURIES","SANTIAGO_DEL_ESTERO","LOS VALLES","19","ALFREDO PLASTINE"]
[null,"LOS JURIES (CP: 3773)","3773","LOS JURIES","SANTIAGO_DEL_ESTERO","LOS VALLES","19","ALFREDO PLASTINE"]
[null,"LOS TELARES (CP: 4321)","4321","LOS TELARES","SANTIAGO_DEL_ESTERO","LOS VALLES","19","ALFREDO PLASTINE"]
[null,"MAL PASO ICAÑO (CP: 4334)","4334","MAL PASO ICAÑO","SANTIAGO_DEL_ESTERO","LOS VALLES","19","ALFREDO PLASTINE"]
[null,"MAL PASO SALAVINA (CP: 4319)","4319","MAL PASO SALAVINA","SANTIAGO_DEL_ESTERO","LOS VALLES","19","ALFREDO PLASTINE"]
[null,"MALBRAN (CP: 2354)","2354","MALBRAN","SANTIAGO_DEL_ESTERO","LOS VALLES","19","ALFREDO PLASTINE"]
[null,"MONTE QUEMADO (CP: 3714)","3714","MONTE QUEMADO","SANTIAGO_DEL_ESTERO","LOS VALLES","19","ALFREDO PLASTINE"]
[null,"NUEVA ESPERANZA COPO (CP: 3714)","3714","NUEVA ESPERANZA COPO","SANTIAGO_DEL_ESTERO","LOS VALLES","19","ALFREDO PLASTINE"]
[null,"NUEVA ESPERANZA PELLEGRI (CP: 4197)","4197","NUEVA ESPERANZA PELLEGRI","SANTIAGO_DEL_ESTERO","LOS VALLES","19","ALFREDO PLASTINE"]
[null,"NUEVA FRANCIA -SILIPICA (CP: 4206)","4206","NUEVA FRANCIA -SILIPICA","SANTIAGO_DEL_ESTERO","LOS VALLES","19","ALFREDO PLASTINE"]
[null,"OJO DE AGUA (CP: 5250)","5250","OJO DE AGUA","SANTIAGO_DEL_ESTERO","LOS VALLES","19","ALFREDO PLASTINE"]
[null,"OTUMPA (CP: 3741)","3741","OTUMPA","SANTIAGO_DEL_ESTERO","LOS VALLES","19","ALFREDO PLASTINE"]
[null,"PAMPA DE LOS GUANACOS (CP: 3712)","3712","PAMPA DE LOS GUANACOS","SANTIAGO_DEL_ESTERO","LOS VALLES","19","ALFREDO PLASTINE"]
[null,"PASO DE OSCARES (CP: 5257)","5257","PASO DE OSCARES","SANTIAGO_DEL_ESTERO","LOS VALLES","19","ALFREDO PLASTINE"]
[null,"PINTO (CP: 2356)","2356","PINTO","SANTIAGO_DEL_ESTERO","LOS VALLES","19","ALFREDO PLASTINE"]
[null,"POZO DEL TOBA (CP: 3741)","3741","POZO DEL TOBA","SANTIAGO_DEL_ESTERO","LOS VALLES","19","ALFREDO PLASTINE"]
[null,"POZO DULCE (CP: 3062)","3062","POZO DULCE","SANTIAGO_DEL_ESTERO","LOS VALLES","19","ALFREDO PLASTINE"]
[null,"POZO HONDO (CP: 4184)","4184","POZO HONDO","SANTIAGO_DEL_ESTERO","LOS VALLES","19","ALFREDO PLASTINE"]
[null,"QUIMILI (CP: 3740)","3740","QUIMILI","SANTIAGO_DEL_ESTERO","LOS VALLES","19","ALFREDO PLASTINE"]
[null,"REAL SAYANA (CP: 4334)","4334","REAL SAYANA","SANTIAGO_DEL_ESTERO","LOS VALLES","19","ALFREDO PLASTINE"]
[null,"RIO SALADILLO (CP: 5250)","5250","RIO SALADILLO","SANTIAGO_DEL_ESTERO","LOS VALLES","19","ALFREDO PLASTINE"]
[null,"ROVERSI (CP: 3736)","3736","ROVERSI","SANTIAGO_DEL_ESTERO","LOS VALLES","19","ALFREDO PLASTINE"]
[null,"S.DEL ESTERO (CP: 4200)","4200","S.DEL ESTERO","SANTIAGO_DEL_ESTERO","LOS VALLES","19","ALFREDO PLASTINE"]
[null,"SACHAYOJ-SGO.DEL ESTERO (CP: 3712)","3712","SACHAYOJ-SGO.DEL ESTERO","SANTIAGO_DEL_ESTERO","LOS VALLES","19","ALFREDO PLASTINE"]
[null,"SAN MARCOS (CP: 4324)","4324","SAN MARCOS","SANTIAGO_DEL_ESTERO","LOS VALLES","19","ALFREDO PLASTINE"]
[null,"SAN MARCOS-MAL PASO (CP: 4200)","4200","SAN MARCOS-MAL PASO","SANTIAGO_DEL_ESTERO","LOS VALLES","19","ALFREDO PLASTINE"]
[null,"SANTA CATALINA (CP: 4203)","4203","SANTA CATALINA","SANTIAGO_DEL_ESTERO","LOS VALLES","19","ALFREDO PLASTINE"]
[null,"SELVA (CP: 2354)","2354","SELVA","SANTIAGO_DEL_ESTERO","LOS VALLES","19","ALFREDO PLASTINE"]
[null,"SUMAMPA (CP: 5253)","5253","SUMAMPA","SANTIAGO_DEL_ESTERO","LOS VALLES","19","ALFREDO PLASTINE"]
[null,"SUNCHO CORRAL (CP: 4350)","4350","SUNCHO CORRAL","SANTIAGO_DEL_ESTERO","LOS VALLES","19","ALFREDO PLASTINE"]
[null,"TABOADA (CP: 4324)","4324","TABOADA","SANTIAGO_DEL_ESTERO","LOS VALLES","19","ALFREDO PLASTINE"]
[null,"TERMAS DE RIO HONDO (CP: 4220)","4220","TERMAS DE RIO HONDO","SANTIAGO_DEL_ESTERO","LOS VALLES","19","ALFREDO PLASTINE"]
[null,"TINTINA (CP: 3743)","3743","TINTINA","SANTIAGO_DEL_ESTERO","LOS VALLES","19","ALFREDO PLASTINE"]
[null,"TUSCA POZO (CP: 4322)","4322","TUSCA POZO","SANTIAGO_DEL_ESTERO","LOS VALLES","19","ALFREDO PLASTINE"]
[null,"YUCHAN (CP: 4351)","4351","YUCHAN","SANTIAGO_DEL_ESTERO","LOS VALLES","19","ALFREDO PLASTINE"]
[]
[]
[null,"TIERRA DEL FUEGO"]
[null,"CONCATENADO","CodigoPostal","Localidad","Provincia","Region","NRO AGENTE","NOMBRE"]
[null,"ASERRADEROS -USHUAIA- (CP: 9410)","9410","ASERRADEROS -USHUAIA-","TIERRA_DEL_FUEGO","PATAGONIA","26","SOLEDAD BARTOLOMEI"]
[null,"HOSTERIA KAIKEN (CP: 9420)","9420","HOSTERIA KAIKEN","TIERRA_DEL_FUEGO","PATAGONIA","26","SOLEDAD BARTOLOMEI"]
[null,"RANCHO HAMBRE (CP: 9410)","9410","RANCHO HAMBRE","TIERRA_DEL_FUEGO","PATAGONIA","26","SOLEDAD BARTOLOMEI"]
[null,"RIO GRANDE (CP: 9420)","9420","RIO GRANDE","TIERRA_DEL_FUEGO","PATAGONIA","26","SOLEDAD BARTOLOMEI"]
[null,"SAN SEBASTIAN (CP: 9420)","9420","SAN SEBASTIAN","TIERRA_DEL_FUEGO","PATAGONIA","26","SOLEDAD BARTOLOMEI"]
[null,"TOLHUIN-TIERRA DEL FUEGO (CP: 9420)","9420","TOLHUIN-TIERRA DEL FUEGO","TIERRA_DEL_FUEGO","PATAGONIA","26","SOLEDAD BARTOLOMEI"]
[null,"USHUAIA (CP: 9410)","9410","USHUAIA","TIERRA_DEL_FUEGO","PATAGONIA","26","SOLEDAD BARTOLOMEI"]
[null,"USHUAIA PARQUE (CP: 9410)","9410","USHUAIA PARQUE","TIERRA_DEL_FUEGO","PATAGONIA","26","SOLEDAD BARTOLOMEI"]
[null,"YAC.ZONA BRONZOVICH (CP: 9410)","9410","YAC.ZONA BRONZOVICH","TIERRA_DEL_FUEGO","PATAGONIA","26","SOLEDAD BARTOLOMEI"]
[]
[]
[null,"TUCUMAN"]
[null,"CONCATENADO","CodigoPostal","Localidad","Provincia","Region","NRO AGENTE","NOMBRE"]
[null,"ACHERAL (CP: 4134)","4134","ACHERAL","TUCUMAN","LOS VALLES","19","ALFREDO PLASTINE"]
[null,"AGUA DULCE (CP: 4115)","4115","AGUA DULCE","TUCUMAN","LOS VALLES","19","ALFREDO PLASTINE"]
[null,"AGUILARES (CP: 4152)","4152","AGUILARES","TUCUMAN","LOS VALLES","19","ALFREDO PLASTINE"]
[null,"ALDERETES (CP: 4178)","4178","ALDERETES","TUCUMAN","LOS VALLES","19","ALFREDO PLASTINE"]
[null,"ALPACHIRI (CP: 4149)","4149","ALPACHIRI","TUCUMAN","LOS VALLES","19","ALFREDO PLASTINE"]
[null,"AMAICHE DEL VALLE (CP: 4137)","4137","AMAICHE DEL VALLE","TUCUMAN","LOS VALLES","19","ALFREDO PLASTINE"]
[null,"ARAOZ (CP: 4178)","4178","ARAOZ","TUCUMAN","LOS VALLES","19","ALFREDO PLASTINE"]
[null,"BANDA D.RIO SALI (CP: 4109)","4109","BANDA D.RIO SALI","TUCUMAN","LOS VALLES","19","ALFREDO PLASTINE"]
[null,"BELLA VISTA (CP: 4168)","4168","BELLA VISTA","TUCUMAN","LOS VALLES","19","ALFREDO PLASTINE"]
[null,"BENJAMIN ARAOZ (CP: 4119)","4119","BENJAMIN ARAOZ","TUCUMAN","LOS VALLES","19","ALFREDO PLASTINE"]
[null,"BENJAMIN PAZ (CP: 4122)","4122","BENJAMIN PAZ","TUCUMAN","LOS VALLES","19","ALFREDO PLASTINE"]
[null,"BURRUYACU (CP: 4119)","4119","BURRUYACU","TUCUMAN","LOS VALLES","19","ALFREDO PLASTINE"]
[null,"CEVIL POZO (CP: 4178)","4178","CEVIL POZO","TUCUMAN","LOS VALLES","19","ALFREDO PLASTINE"]
[null,"CEVIL REDONDO (CP: 4105)","4105","CEVIL REDONDO","TUCUMAN","LOS VALLES","19","ALFREDO PLASTINE"]
[null,"COLOMBRES (CP: 4189)","4189","COLOMBRES","TUCUMAN","LOS VALLES","19","ALFREDO PLASTINE"]
[null,"CONCEPCION (CP: 4146)","4146","CONCEPCION","TUCUMAN","LOS VALLES","19","ALFREDO PLASTINE"]
[null,"EL COLMENAL (CP: 4101)","4101","EL COLMENAL","TUCUMAN","LOS VALLES","19","ALFREDO PLASTINE"]
[null,"FAMAILLA (CP: 4132)","4132","FAMAILLA","TUCUMAN","LOS VALLES","19","ALFREDO PLASTINE"]
[null,"GOB.GARMENDIA (CP: 4187)","4187","GOB.GARMENDIA","TUCUMAN","LOS VALLES","19","ALFREDO PLASTINE"]
[null,"INGENIO SANTA LUCIA (CP: 4135)","4135","INGENIO SANTA LUCIA","TUCUMAN","LOS VALLES","19","ALFREDO PLASTINE"]
[null,"JUAN BAUTISTA ALBERDI (CP: 4158)","4158","JUAN BAUTISTA ALBERDI","TUCUMAN","LOS VALLES","19","ALFREDO PLASTINE"]
[null,"LA COCHA (CP: 4162)","4162","LA COCHA","TUCUMAN","LOS VALLES","19","ALFREDO PLASTINE"]
[null,"LA RAMADA DE ABAJO (CP: 4119)","4119","LA RAMADA DE ABAJO","TUCUMAN","LOS VALLES","19","ALFREDO PLASTINE"]
[null,"LAMADRID (CP: 4176)","4176","LAMADRID","TUCUMAN","LOS VALLES","19","ALFREDO PLASTINE"]
[null,"LAS CEJAS (CP: 4186)","4186","LAS CEJAS","TUCUMAN","LOS VALLES","19","ALFREDO PLASTINE"]
[null,"LAS TALITAS (CP: 4101)","4101","LAS TALITAS","TUCUMAN","LOS VALLES","19","ALFREDO PLASTINE"]
[null,"LEALES (CP: 4113)","4113","LEALES","TUCUMAN","LOS VALLES","19","ALFREDO PLASTINE"]
[null,"LEON ROUGES (CP: 4143)","4143","LEON ROUGES","TUCUMAN","LOS VALLES","19","ALFREDO PLASTINE"]
[null,"LOS GUTIERREZ (CP: 4178)","4178","LOS GUTIERREZ","TUCUMAN","LOS VALLES","19","ALFREDO PLASTINE"]
[null,"LOS NOGALES (CP: 4001)","4001","LOS NOGALES","TUCUMAN","LOS VALLES","19","ALFREDO PLASTINE"]
[null,"LOS NOGALES (CP: 4101)","4101","LOS NOGALES","TUCUMAN","LOS VALLES","19","ALFREDO PLASTINE"]
[null,"LOS RALOS (CP: 4182)","4182","LOS RALOS","TUCUMAN","LOS VALLES","19","ALFREDO PLASTINE"]
[null,"LOS TIMBOS (CP: 4147)","4147","LOS TIMBOS","TUCUMAN","LOS VALLES","19","ALFREDO PLASTINE"]
[null,"LULES (CP: 4128)","4128","LULES","TUCUMAN","LOS VALLES","19","ALFREDO PLASTINE"]
[null,"MACOMITA (CP: 4117)","4117","MACOMITA","TUCUMAN","LOS VALLES","19","ALFREDO PLASTINE"]
[null,"MANANTIAL (CP: 4105)","4105","MANANTIAL","TUCUMAN","LOS VALLES","19","ALFREDO PLASTINE"]
[null,"MIXTA (CP: 4115)","4115","MIXTA","TUCUMAN","LOS VALLES","19","ALFREDO PLASTINE"]
[null,"MONTE AGUDO (CP: 4174)","4174","MONTE AGUDO","TUCUMAN","LOS VALLES","19","ALFREDO PLASTINE"]
[null,"MONTEROS (CP: 4142)","4142","MONTEROS","TUCUMAN","LOS VALLES","19","ALFREDO PLASTINE"]
[null,"OHUANTA (CP: 4105)","4105","OHUANTA","TUCUMAN","LOS VALLES","19","ALFREDO PLASTINE"]
[null,"PACARA PINTADO (CP: 4111)","4111","PACARA PINTADO","TUCUMAN","LOS VALLES","19","ALFREDO PLASTINE"]
[null,"QUILMES (CP: 4111)","4111","QUILMES","TUCUMAN","LOS VALLES","19","ALFREDO PLASTINE"]
[null,"RANCHILLOS (CP: 4178)","4178","RANCHILLOS","TUCUMAN","LOS VALLES","19","ALFREDO PLASTINE"]
[null,"RIO CHICO (CP: 4153)","4153","RIO CHICO","TUCUMAN","LOS VALLES","19","ALFREDO PLASTINE"]
[null,"RIO SECO (CP: 4145)","4145","RIO SECO","TUCUMAN","LOS VALLES","19","ALFREDO PLASTINE"]
[null,"S.M.TUCUMAN (CP: 4000)","4000","S.M.TUCUMAN","TUCUMAN","LOS VALLES","19","ALFREDO PLASTINE"]
[null,"SAN ANDRES (CP: 4111)","4111","SAN ANDRES","TUCUMAN","LOS VALLES","19","ALFREDO PLASTINE"]
[null,"SAN FELIPE (CP: 4105)","4105","SAN FELIPE","TUCUMAN","LOS VALLES","19","ALFREDO PLASTINE"]
[null,"SAN PABLO (CP: 4129)","4129","SAN PABLO","TUCUMAN","LOS VALLES","19","ALFREDO PLASTINE"]
[null,"SIMOCA (CP: 4172)","4172","SIMOCA","TUCUMAN","LOS VALLES","19","ALFREDO PLASTINE"]
[null,"TACO RALO (CP: 4240)","4240","TACO RALO","TUCUMAN","LOS VALLES","19","ALFREDO PLASTINE"]
[null,"TAFI DEL VALLE (CP: 4137)","4137","TAFI DEL VALLE","TUCUMAN","LOS VALLES","19","ALFREDO PLASTINE"]
[null,"TAFI VIEJO (CP: 4103)","4103","TAFI VIEJO","TUCUMAN","LOS VALLES","19","ALFREDO PLASTINE"]
[null,"TICUCHO (CP: 4122)","4122","TICUCHO","TUCUMAN","LOS VALLES","19","ALFREDO PLASTINE"]
[null,"TRANCAS (CP: 4124)","4124","TRANCAS","TUCUMAN","LOS VALLES","19","ALFREDO PLASTINE"]
[null,"V. MADERO (CP: 4002)","4002","V. MADERO","TUCUMAN","LOS VALLES","19","ALFREDO PLASTINE"]
[null,"VILLA LA TRINIDA (CP: 4151)","4151","VILLA LA TRINIDA","TUCUMAN","LOS VALLES","19","ALFREDO PLASTINE"]
[null,"VILLA MARIANO MORENO (CP: 4101)","4101","VILLA MARIANO MORENO","TUCUMAN","LOS VALLES","19","ALFREDO PLASTINE"]
[null,"YERBA BUENA (CP: 4107)","4107","YERBA BUENA","TUCUMAN","LOS VALLES","19","ALFREDO PLASTINE"]